{"text_format":"1","workbook":"xlsx","n_sheets":3,"sheets":["今月バイオリズム","3ヶ月バイオリズム","バイオリズム計算表"],"not_rendered":{"charts":2,"images":1,"macros":1,"external_links":0,"defined_names":0,"comments":0,"pivot_tables":0},"unopened":[],"bounds":{"document_bytes":16777216,"sheet_cells":100000,"rows_first":2000,"rows_last":500,"rows_between":2000,"halvings":0,"cell_chars":16384,"cell_head_chars":4096},"cells_cut":0,"cells_raw":0,"read":"whole","date_system":"1900"}

{"sheet":"今月バイオリズム","index":0,"n_rows":19,"n_cols":13,"rows_kept":19,"cut":false,"hidden":false,"merged":[[3,3,3,5],[2,3,2,5],[0,6,0,8],[14,10,14,12],[14,9,15,9],[6,9,6,13],[9,9,9,13],[12,9,12,13],[5,10,5,13],[8,10,8,13],[11,10,11,13],[0,11,0,13]]}
[null,null,null,null,null,null,"【TIT_バイオリズム】",null,null,null,null,{"$f":"TODAY()","v":"2021-02-18"}]
[]
[null,"あなたの生年月日",null,"開始日"]
[]
[null,null,null,null,null,null,null,null,null,"《開始日の状況》"]
[null,null,null,null,null,null,null,null,null,"身体(P)リズム",{"$f":"IFERROR(バイオリズム計算表!Y4&バイオリズム計算表!Z4,\"\")","v":""}]
[null,null,null,null,null,null,null,null,null,{"$f":"IFERROR(VLOOKUP(MID(K6,1,3),バイオリズム計算表!AJ2:AL4,2,FALSE)&\"　\"&VLOOKUP(MID(K6,1,3),バイオリズム計算表!AJ2:AL4,3,FALSE),\"\")","v":""}]
[]
[null,null,null,null,null,2021,2,18,null,"感情(S)リズム",{"$f":"IFERROR(バイオリズム計算表!AB4&バイオリズム計算表!AC4,\"\")","v":""}]
[null,null,null,null,null,null,null,null,null,{"$f":"IFERROR(VLOOKUP(MID(K9,1,3),バイオリズム計算表!AJ5:AL7,2,FALSE)&\"　\"&VLOOKUP(MID(K9,1,3),バイオリズム計算表!AJ5:AL7,3,FALSE),\"\")","v":""}]
[]
[null,null,null,null,null,null,null,null,null,"知性(I)リズム",{"$f":"IFERROR(バイオリズム計算表!AE4&バイオリズム計算表!AF4,\"\")","v":""}]
[null,null,null,null,null,null,null,null,null,{"$f":"IFERROR(VLOOKUP(MID(K12,1,3),バイオリズム計算表!AJ8:AL10,2,FALSE)&\"　\"&VLOOKUP(MID(K12,1,3),バイオリズム計算表!AJ8:AL10,3,FALSE),\"\")","v":""}]
[]
[null,null,null,null,null,null,null,null,null,null,"次回到来時期"]
[null,null,null,null,null,null,null,null,null,null,"要注意","高調期ピーク","低調期ピーク"]
[null,null,null,null,null,null,null,null,null,"身体(P)リズム",{"$f":"IF(ISERROR(VLOOKUP(K$16,バイオリズム計算表!$Y$4:$AG$34,9,FALSE))=TRUE,\"\",VLOOKUP(K$16,バイオリズム計算表!$Y$4:$AG$34,9,FALSE))","v":""},{"$f":"IF(ISERROR(VLOOKUP(L$16,バイオリズム計算表!$Y$4:$AG$34,9,FALSE))=TRUE,\"\",VLOOKUP(L$16,バイオリズム計算表!$Y$4:$AG$34,9,FALSE))","v":""},{"$f":"IF(ISERROR(VLOOKUP(M$16,バイオリズム計算表!$Y$4:$AG$34,9,FALSE))=TRUE,\"\",VLOOKUP(M$16,バイオリズム計算表!$Y$4:$AG$34,9,FALSE))","v":""}]
[null,null,null,null,null,null,null,null,null,"感情(S)リズム",{"$f":"IF(ISERROR(VLOOKUP(K$16,バイオリズム計算表!$AB$4:$AG$34,6,FALSE))=TRUE,\"\",VLOOKUP(K$16,バイオリズム計算表!$AB$4:$AG$34,6,FALSE))","v":""},{"$f":"IF(ISERROR(VLOOKUP(L$16,バイオリズム計算表!$AB$4:$AG$34,6,FALSE))=TRUE,\"\",VLOOKUP(L$16,バイオリズム計算表!$AB$4:$AG$34,6,FALSE))","v":""},{"$f":"IF(ISERROR(VLOOKUP(M$16,バイオリズム計算表!$AB$4:$AG$34,6,FALSE))=TRUE,\"\",VLOOKUP(M$16,バイオリズム計算表!$AB$4:$AG$34,6,FALSE))","v":""}]
[null,null,null,null,null,null,null,null,null,"知性(I)リズム",{"$f":"IF(ISERROR(VLOOKUP(K$16,バイオリズム計算表!$AE$4:$AG$34,3,FALSE))=TRUE,\"\",VLOOKUP(K$16,バイオリズム計算表!$AE$4:$AG$34,3,FALSE))","v":""},{"$f":"IF(ISERROR(VLOOKUP(L$16,バイオリズム計算表!$AE$4:$AG$34,3,FALSE))=TRUE,\"\",VLOOKUP(L$16,バイオリズム計算表!$AE$4:$AG$34,3,FALSE))","v":""},{"$f":"IF(ISERROR(VLOOKUP(M$16,バイオリズム計算表!$AE$4:$AG$34,3,FALSE))=TRUE,\"\",VLOOKUP(M$16,バイオリズム計算表!$AE$4:$AG$34,3,FALSE))","v":""}]

{"sheet":"3ヶ月バイオリズム","index":1,"n_rows":0,"n_cols":0,"rows_kept":0,"cut":false,"hidden":false,"merged":[]}

{"sheet":"バイオリズム計算表","index":2,"n_rows":368,"n_cols":38,"rows_kept":368,"cut":false,"hidden":true,"merged":[[7,34,9,34],[1,5,2,7],[1,8,2,10],[1,11,2,13],[1,14,2,17],[1,23,2,25],[1,26,2,28],[1,29,2,31],[1,34,3,34],[4,34,6,34]]}
[null,"１年間バイオリズム",null,null,null,null,null,null,null,null,null,null,null,null,null,null,null,null,null,"１ヶ月バイオリズム"]
[null,"サイクル日数",23,28,33,"身体リズム状況",null,null,"感情リズム状況",null,null,"知性リズム状況",null,null,"総合評価状況",null,null,null,null,"サイクル日数",23,28,33,"身体リズム状況",null,null,"感情リズム状況",null,null,"知性リズム状況",null,null,null,null,"身体","高調期","体力好調","仕事、旅行、スポーツ、強化訓練に適する。但し体力を過信した暴走に注意。回復力がある為、外科手術等に適す。"]
[null,"日付","身体(P)","感情(S)","知性(I)",null,null,null,null,null,null,null,null,null,null,null,null,null,null,"日付","身体(P)","感情(S)","知性(I)",null,null,null,null,null,null,null,null,null,null,null,null,"要注意","体調不安定 ","発熱 ・発作・カゼ・頭痛・病状の悪化・悪酔い・能力の低下が起きやすい。運転には要注意。"]
[{"$f":"B4","v":"1900-01-01"},{"$f":"DATE(YEAR(今月バイオリズム!D4),1,1)","v":"1900-01-01"},{"$f":"SIN(2*PI()*(MOD(($B4-今月バイオリズム!$B$4),C$2))/C$2)","v":0.26979677115702427},{"$f":"SIN(2*PI()*(MOD(($B4-今月バイオリズム!$B$4),D$2))/D$2)","v":0.22252093395631439},{"$f":"SIN(2*PI()*(MOD(($B4-今月バイオリズム!$B$4),E$2))/E$2)","v":0.18925124436041019},null,{"$f":"IF(C4>0,\"高調期（活動期）\",\"低調期（充電期）\")","v":"高調期（活動期）"},null,null,{"$f":"IF(D4>0,\"高調期（活動期）\",\"低調期（充電期）\")","v":"高調期（活動期）"},null,null,{"$f":"IF(E4>0,\"高調期（活動期）\",\"低調期（充電期）\")","v":"高調期（活動期）"},null,{"$f":"SUM(C4:E4)","v":0.68156894947374891},null,{"$f":"IF(O4>0,\"高調期（活動期）\",\"低調期（充電期）\")","v":"高調期（活動期）"},null,{"$f":"T4","v":{"$error":"#REF!"}},{"$f":"IF(今月バイオリズム!D4<>\"\",今月バイオリズム!D4,今月バイオリズム!#REF!)","v":{"$error":"#REF!"}},{"$f":"SIN(2*PI()*(MOD(($T4-今月バイオリズム!$B$4),U$2))/U$2)","v":{"$error":"#REF!"}},{"$f":"SIN(2*PI()*(MOD(($T4-今月バイオリズム!$B$4),V$2))/V$2)","v":{"$error":"#REF!"}},{"$f":"SIN(2*PI()*(MOD(($T4-今月バイオリズム!$B$4),W$2))/W$2)","v":{"$error":"#REF!"}},{"$f":"VLOOKUP($T4,$B$4:$O$368,5,FALSE)","v":{"$error":"#REF!"}},{"$f":"VLOOKUP($T4,$B$4:$O$368,6,FALSE)","v":{"$error":"#REF!"}},{"$f":"VLOOKUP($T4,$B$4:$O$368,7,FALSE)","v":{"$error":"#REF!"}},{"$f":"VLOOKUP($T4,$B$4:$O$368,8,FALSE)","v":{"$error":"#REF!"}},{"$f":"VLOOKUP($T4,$B$4:$O$368,9,FALSE)","v":{"$error":"#REF!"}},{"$f":"VLOOKUP($T4,$B$4:$O$368,10,FALSE)","v":{"$error":"#REF!"}},{"$f":"VLOOKUP($T4,$B$4:$O$368,11,FALSE)","v":{"$error":"#REF!"}},{"$f":"VLOOKUP($T4,$B$4:$O$368,12,FALSE)","v":{"$error":"#REF!"}},{"$f":"VLOOKUP($T4,$B$4:$O$368,13,FALSE)","v":{"$error":"#REF!"}},{"$f":"T4","v":{"$error":"#REF!"}},null,null,"低調期","体力低調","疲れやすく、過労の症状が出やすい時期。暴飲、暴食は慎み、体力の蓄積に努めること。"]
[{"$f":"B5","v":"1900-01-02"},{"$f":"B4+1","v":"1900-01-02"},{"$f":"SIN(2*PI()*(MOD(($B5-今月バイオリズム!$B$4),C$2))/C$2)","v":0.51958395003543356},{"$f":"SIN(2*PI()*(MOD(($B5-今月バイオリズム!$B$4),D$2))/D$2)","v":0.43388373911755812},{"$f":"SIN(2*PI()*(MOD(($B5-今月バイオリズム!$B$4),E$2))/E$2)","v":0.37166245566032752},{"$f":"IF(C5>0,IF(C4<C5,IF(C6<C5,\"▽\",\"↑\"),\"↓\"),IF(C4>C5,IF(C6>C5,\"▲\",\"↓\"),\"↑\"))","v":"↑"},{"$f":"IF(OR(AND(C4<=0,C5>=0),AND(C4>=0,C5<=0)),\"要注意\",IF(C5>0,IF(F5=\"▽\",\"高調期ピーク\",\"高調期（活動期）\"),IF(F5=\"▲\",\"低調期ピーク\",\"低調期（充電期）\")))","v":"高調期（活動期）"},{"$f":"IF(G5=\"要注意\",\"\",IF(F5=\"↑\",\"上昇中\",\"下降中\"))","v":"上昇中"},{"$f":"IF(D5>0,IF(D4<D5,IF(D6<D5,\"▽\",\"↑\"),\"↓\"),IF(D4>D5,IF(D6>D5,\"▲\",\"↓\"),\"↑\"))","v":"↑"},{"$f":"IF(OR(AND(D4<=0,D5>=0),AND(D4>=0,D5<=0)),\"要注意\",IF(D5>0,IF(I5=\"▽\",\"高調期ピーク\",\"高調期（活動期）\"),IF(I5=\"▲\",\"低調期ピーク\",\"低調期（充電期）\")))","v":"高調期（活動期）"},{"$f":"IF(J5=\"要注意\",\"\",IF(I5=\"↑\",\"上昇中\",\"下降中\"))","v":"上昇中"},{"$f":"IF(E5>0,IF(E4<E5,IF(E6<E5,\"▽\",\"↑\"),\"↓\"),IF(E4>E5,IF(E6>E5,\"▲\",\"↓\"),\"↑\"))","v":"↑"},{"$f":"IF(OR(AND(E4<=0,E5>=0),AND(E4>=0,E5<=0)),\"要注意\",IF(E5>0,IF(L5=\"▽\",\"高調期ピーク\",\"高調期（活動期）\"),IF(L5=\"▲\",\"低調期ピーク\",\"低調期（充電期）\")))","v":"高調期（活動期）"},{"$f":"IF(M5=\"要注意\",\"\",IF(L5=\"↑\",\"上昇中\",\"下降中\"))","v":"上昇中"},{"$f":"SUM(C5:E5)","v":1.3251301448133193},{"$f":"IF(O5>0,IF(O4<O5,IF(O6<O5,\"▽\",\"↑\"),\"↓\"),IF(O4>O5,IF(O6>O5,\"▲\",\"↓\"),\"↑\"))","v":"↑"},{"$f":"IF(OR(AND(O4<=0,O5>=0),AND(O4>=0,O5<=0)),\"要注意\",IF(O5>0,IF(P5=\"▽\",\"高調期ピーク\",\"高調期（活動期）\"),IF(P5=\"▲\",\"低調期ピーク\",\"低調期（充電期）\")))","v":"高調期（活動期）"},{"$f":"IF(Q5=\"要注意\",\"\",IF(P5=\"↑\",\"上昇中\",\"下降中\"))","v":"上昇中"},{"$f":"T5","v":{"$error":"#REF!"}},{"$f":"T4+1","v":{"$error":"#REF!"}},{"$f":"SIN(2*PI()*(MOD(($T5-今月バイオリズム!$B$4),U$2))/U$2)","v":{"$error":"#REF!"}},{"$f":"SIN(2*PI()*(MOD(($T5-今月バイオリズム!$B$4),V$2))/V$2)","v":{"$error":"#REF!"}},{"$f":"SIN(2*PI()*(MOD(($T5-今月バイオリズム!$B$4),W$2))/W$2)","v":{"$error":"#REF!"}},{"$f":"IF(U5>0,IF(U4<U5,IF(U6<U5,\"▽\",\"↑\"),\"↓\"),IF(U4>U5,IF(U6>U5,\"▲\",\"↓\"),\"↑\"))","v":{"$error":"#REF!"}},{"$f":"IF(OR(AND(U4<=0,U5>=0),AND(U4>=0,U5<=0)),\"要注意\",IF(U5>0,IF(X5=\"▽\",\"高調期ピーク\",\"高調期（活動期）\"),IF(X5=\"▲\",\"低調期ピーク\",\"低調期（充電期）\")))","v":{"$error":"#REF!"}},{"$f":"IF(Y5=\"要注意\",\"\",IF(X5=\"↑\",\"上昇中\",\"下降中\"))","v":{"$error":"#REF!"}},{"$f":"IF(V5>0,IF(V4<V5,IF(V6<V5,\"▽\",\"↑\"),\"↓\"),IF(V4>V5,IF(V6>V5,\"▲\",\"↓\"),\"↑\"))","v":{"$error":"#REF!"}},{"$f":"IF(OR(AND(V4<=0,V5>=0),AND(V4>=0,V5<=0)),\"要注意\",IF(V5>0,IF(AA5=\"▽\",\"高調期ピーク\",\"高調期（活動期）\"),IF(AA5=\"▲\",\"低調期ピーク\",\"低調期（充電期）\")))","v":{"$error":"#REF!"}},{"$f":"IF(AB5=\"要注意\",\"\",IF(AA5=\"↑\",\"上昇中\",\"下降中\"))","v":{"$error":"#REF!"}},{"$f":"IF(W5>0,IF(W4<W5,IF(W6<W5,\"▽\",\"↑\"),\"↓\"),IF(W4>W5,IF(W6>W5,\"▲\",\"↓\"),\"↑\"))","v":{"$error":"#REF!"}},{"$f":"IF(OR(AND(W4<=0,W5>=0),AND(W4>=0,W5<=0)),\"要注意\",IF(W5>0,IF(AD5=\"▽\",\"高調期ピーク\",\"高調期（活動期）\"),IF(AD5=\"▲\",\"低調期ピーク\",\"低調期（充電期）\")))","v":{"$error":"#REF!"}},{"$f":"IF(AE5=\"要注意\",\"\",IF(AD5=\"↑\",\"上昇中\",\"下降中\"))","v":{"$error":"#REF!"}},{"$f":"T5","v":{"$error":"#REF!"}},null,"感情","高調期","気力充実 ","気力に溢れ、積極的に仕事を片付けることが可能。共同作業、求愛、デートまた、麻雀やパチンコなどのギャンブルにも好調。"]
["1900-01-03",{"$f":"B5+1","v":"1900-01-03"},{"$f":"SIN(2*PI()*(MOD(($B6-今月バイオリズム!$B$4),C$2))/C$2)","v":0.73083596427812403},{"$f":"SIN(2*PI()*(MOD(($B6-今月バイオリズム!$B$4),D$2))/D$2)","v":0.62348980185873348},{"$f":"SIN(2*PI()*(MOD(($B6-今月バイオリズム!$B$4),E$2))/E$2)","v":0.54064081745559756},{"$f":"IF(C6>0,IF(C5<C6,IF(C7<C6,\"▽\",\"↑\"),\"↓\"),IF(C5>C6,IF(C7>C6,\"▲\",\"↓\"),\"↑\"))","v":"↑"},{"$f":"IF(OR(AND(C5<=0,C6>=0),AND(C5>=0,C6<=0)),\"要注意\",IF(C6>0,IF(F6=\"▽\",\"高調期ピーク\",\"高調期（活動期）\"),IF(F6=\"▲\",\"低調期ピーク\",\"低調期（充電期）\")))","v":"高調期（活動期）"},{"$f":"IF(G6=\"要注意\",\"\",IF(F6=\"↑\",\"上昇中\",\"下降中\"))","v":"上昇中"},"↑","高調期（活動期）",{"$f":"IF(J6=\"要注意\",\"\",IF(I6=\"↑\",\"上昇中\",\"下降中\"))","v":"上昇中"},"↑","高調期（活動期）",{"$f":"IF(M6=\"要注意\",\"\",IF(L6=\"↑\",\"上昇中\",\"下降中\"))","v":"上昇中"},1.894966583592455,"↑",{"$f":"IF(OR(AND(O5<=0,O6>=0),AND(O5>=0,O6<=0)),\"要注意\",IF(O6>0,IF(P6=\"▽\",\"高調期ピーク\",\"高調期（活動期）\"),IF(P6=\"▲\",\"低調期ピーク\",\"低調期（充電期）\")))","v":"高調期（活動期）"},{"$f":"IF(Q6=\"要注意\",\"\",IF(P6=\"↑\",\"上昇中\",\"下降中\"))","v":"上昇中"},{"$error":"#REF!"},{"$f":"T5+1","v":{"$error":"#REF!"}},{"$f":"SIN(2*PI()*(MOD(($T6-今月バイオリズム!$B$4),U$2))/U$2)","v":{"$error":"#REF!"}},{"$f":"SIN(2*PI()*(MOD(($T6-今月バイオリズム!$B$4),V$2))/V$2)","v":{"$error":"#REF!"}},{"$f":"SIN(2*PI()*(MOD(($T6-今月バイオリズム!$B$4),W$2))/W$2)","v":{"$error":"#REF!"}},{"$f":"IF(U6>0,IF(U5<U6,IF(U7<U6,\"▽\",\"↑\"),\"↓\"),IF(U5>U6,IF(U7>U6,\"▲\",\"↓\"),\"↑\"))","v":{"$error":"#REF!"}},{"$error":"#REF!"},{"$f":"IF(Y6=\"要注意\",\"\",IF(X6=\"↑\",\"上昇中\",\"下降中\"))","v":{"$error":"#REF!"}},{"$error":"#REF!"},{"$error":"#REF!"},{"$f":"IF(AB6=\"要注意\",\"\",IF(AA6=\"↑\",\"上昇中\",\"下降中\"))","v":{"$error":"#REF!"}},{"$error":"#REF!"},{"$error":"#REF!"},{"$f":"IF(AE6=\"要注意\",\"\",IF(AD6=\"↑\",\"上昇中\",\"下降中\"))","v":{"$error":"#REF!"}},{"$error":"#REF!"},null,null,"要注意","情緒不安定 ","感情や神経が動揺しやすい。立腹・失言・口論、病状悪化、反応低下あり。勝負事には向かない。運転にも注意。"]
["1900-01-04","1900-01-04",{"$f":"SIN(2*PI()*(MOD(($B7-今月バイオリズム!$B$4),C$2))/C$2)","v":0.88788521840237522},{"$f":"SIN(2*PI()*(MOD(($B7-今月バイオリズム!$B$4),D$2))/D$2)","v":0.7818314824680298},{"$f":"SIN(2*PI()*(MOD(($B7-今月バイオリズム!$B$4),E$2))/E$2)","v":0.69007901148211193},"↑","高調期（活動期）","上昇中","↑","高調期（活動期）","上昇中","↑","高調期（活動期）","上昇中",2.3597957123525171,"↑",{"$f":"IF(OR(AND(O6<=0,O7>=0),AND(O6>=0,O7<=0)),\"要注意\",IF(O7>0,IF(P7=\"▽\",\"高調期ピーク\",\"高調期（活動期）\"),IF(P7=\"▲\",\"低調期ピーク\",\"低調期（充電期）\")))","v":"高調期（活動期）"},"上昇中",{"$error":"#REF!"},{"$error":"#REF!"},{"$f":"SIN(2*PI()*(MOD(($T7-今月バイオリズム!$B$4),U$2))/U$2)","v":{"$error":"#REF!"}},{"$f":"SIN(2*PI()*(MOD(($T7-今月バイオリズム!$B$4),V$2))/V$2)","v":{"$error":"#REF!"}},{"$f":"SIN(2*PI()*(MOD(($T7-今月バイオリズム!$B$4),W$2))/W$2)","v":{"$error":"#REF!"}},{"$error":"#REF!"},{"$error":"#REF!"},{"$error":"#REF!"},{"$error":"#REF!"},{"$error":"#REF!"},{"$error":"#REF!"},{"$error":"#REF!"},{"$error":"#REF!"},{"$error":"#REF!"},{"$error":"#REF!"},null,null,"低調期","気力沈滞 ","すべての事柄に対して、消極的な気持になりがち。忍耐や神経を要する仕事は避けること。対人関係や勝負事も向かない。"]
["1900-01-05","1900-01-05",{"$f":"SIN(2*PI()*(MOD(($B8-今月バイオリズム!$B$4),C$2))/C$2)","v":0.97908408768232291},{"$f":"SIN(2*PI()*(MOD(($B8-今月バイオリズム!$B$4),D$2))/D$2)","v":0.90096886790241915},{"$f":"SIN(2*PI()*(MOD(($B8-今月バイオリズム!$B$4),E$2))/E$2)","v":0.81457595205033573},"↑","高調期（活動期）","上昇中","↑","高調期（活動期）","上昇中","↑","高調期（活動期）","上昇中",2.694628907635078,"↑","高調期（活動期）","上昇中",{"$error":"#REF!"},{"$error":"#REF!"},{"$f":"SIN(2*PI()*(MOD(($T8-今月バイオリズム!$B$4),U$2))/U$2)","v":{"$error":"#REF!"}},{"$f":"SIN(2*PI()*(MOD(($T8-今月バイオリズム!$B$4),V$2))/V$2)","v":{"$error":"#REF!"}},{"$f":"SIN(2*PI()*(MOD(($T8-今月バイオリズム!$B$4),W$2))/W$2)","v":{"$error":"#REF!"}},{"$error":"#REF!"},{"$error":"#REF!"},{"$error":"#REF!"},{"$error":"#REF!"},{"$error":"#REF!"},{"$error":"#REF!"},{"$error":"#REF!"},{"$error":"#REF!"},{"$error":"#REF!"},{"$error":"#REF!"},null,"知性","高調期","知力活動 ","頭の回転がよく、知的作業には最適。計画の立案や、検討・決定をしたり、不得意・難解な科目の勉強や暗記をするのに最適。"]
["1900-01-06","1900-01-06",{"$f":"SIN(2*PI()*(MOD(($B9-今月バイオリズム!$B$4),C$2))/C$2)","v":0.99766876919053915},{"$f":"SIN(2*PI()*(MOD(($B9-今月バイオリズム!$B$4),D$2))/D$2)","v":0.97492791218182362},{"$f":"SIN(2*PI()*(MOD(($B9-今月バイオリズム!$B$4),E$2))/E$2)","v":0.90963199535451833},"▽","高調期ピーク","下降中","↑","高調期（活動期）","上昇中","↑","高調期（活動期）","上昇中",2.8822286767268812,"↑","高調期（活動期）","上昇中",{"$error":"#REF!"},{"$error":"#REF!"},{"$f":"SIN(2*PI()*(MOD(($T9-今月バイオリズム!$B$4),U$2))/U$2)","v":{"$error":"#REF!"}},{"$f":"SIN(2*PI()*(MOD(($T9-今月バイオリズム!$B$4),V$2))/V$2)","v":{"$error":"#REF!"}},{"$f":"SIN(2*PI()*(MOD(($T9-今月バイオリズム!$B$4),W$2))/W$2)","v":{"$error":"#REF!"}},{"$error":"#REF!"},{"$error":"#REF!"},{"$error":"#REF!"},{"$error":"#REF!"},{"$error":"#REF!"},{"$error":"#REF!"},{"$error":"#REF!"},{"$error":"#REF!"},{"$error":"#REF!"},{"$error":"#REF!"},null,null,"要注意","知力不安定 ","注意力、集中力の欠如により、大小問わずにミスやポカを頻発しそう。重要な決定事項や契約のサインは避けること。運転注意。"]
["1900-01-07","1900-01-07",{"$f":"SIN(2*PI()*(MOD(($B10-今月バイオリズム!$B$4),C$2))/C$2)","v":0.94226092211882051},{"$f":"SIN(2*PI()*(MOD(($B10-今月バイオリズム!$B$4),D$2))/D$2)","v":1},{"$f":"SIN(2*PI()*(MOD(($B10-今月バイオリズム!$B$4),E$2))/E$2)","v":0.97181156832354165},"↓","高調期（活動期）","下降中","▽","高調期ピーク","下降中","↑","高調期（活動期）","上昇中",2.9140724904423623,"▽","高調期ピーク","下降中",{"$error":"#REF!"},{"$error":"#REF!"},{"$f":"SIN(2*PI()*(MOD(($T10-今月バイオリズム!$B$4),U$2))/U$2)","v":{"$error":"#REF!"}},{"$f":"SIN(2*PI()*(MOD(($T10-今月バイオリズム!$B$4),V$2))/V$2)","v":{"$error":"#REF!"}},{"$f":"SIN(2*PI()*(MOD(($T10-今月バイオリズム!$B$4),W$2))/W$2)","v":{"$error":"#REF!"}},{"$error":"#REF!"},{"$error":"#REF!"},{"$error":"#REF!"},{"$error":"#REF!"},{"$error":"#REF!"},{"$error":"#REF!"},{"$error":"#REF!"},{"$error":"#REF!"},{"$error":"#REF!"},{"$error":"#REF!"},null,null,"低調期","知的減衰 ","知的活動には不向き。頭を酷使せず、データ整理などの単純作業が良。"]
["1900-01-08","1900-01-08",{"$f":"SIN(2*PI()*(MOD(($B11-今月バイオリズム!$B$4),C$2))/C$2)","v":0.81696989301044209},{"$f":"SIN(2*PI()*(MOD(($B11-今月バイオリズム!$B$4),D$2))/D$2)","v":0.97492791218182362},{"$f":"SIN(2*PI()*(MOD(($B11-今月バイオリズム!$B$4),E$2))/E$2)","v":0.99886733918300796},{"$f":"IF(C11>0,IF(C10<C11,IF(C12<C11,\"▽\",\"↑\"),\"↓\"),IF(C10>C11,IF(C12>C11,\"▲\",\"↓\"),\"↑\"))","v":"↓"},"高調期（活動期）",{"$f":"IF(G11=\"要注意\",\"\",IF(F11=\"↑\",\"上昇中\",\"下降中\"))","v":"下降中"},"↓","高調期（活動期）","下降中","▽","高調期ピーク","下降中",2.7907651443752739,"↓","高調期（活動期）","下降中",{"$error":"#REF!"},{"$error":"#REF!"},{"$f":"SIN(2*PI()*(MOD(($T11-今月バイオリズム!$B$4),U$2))/U$2)","v":{"$error":"#REF!"}},{"$f":"SIN(2*PI()*(MOD(($T11-今月バイオリズム!$B$4),V$2))/V$2)","v":{"$error":"#REF!"}},{"$f":"SIN(2*PI()*(MOD(($T11-今月バイオリズム!$B$4),W$2))/W$2)","v":{"$error":"#REF!"}},{"$error":"#REF!"},{"$error":"#REF!"},{"$error":"#REF!"},{"$error":"#REF!"},{"$f":"IF(OR(AND(V10<=0,V11>=0),AND(V10>=0,V11<=0)),\"要注意\",IF(V11>0,IF(AA11=\"▽\",\"高調期ピーク\",\"高調期（活動期）\"),IF(AA11=\"▲\",\"低調期ピーク\",\"低調期（充電期）\")))","v":{"$error":"#REF!"}},{"$error":"#REF!"},{"$error":"#REF!"},{"$error":"#REF!"},{"$error":"#REF!"},{"$error":"#REF!"}]
["1900-01-09","1900-01-09",{"$f":"SIN(2*PI()*(MOD(($B12-今月バイオリズム!$B$4),C$2))/C$2)","v":0.63108794432605297},{"$f":"SIN(2*PI()*(MOD(($B12-今月バイオリズム!$B$4),D$2))/D$2)","v":0.90096886790241915},{"$f":"SIN(2*PI()*(MOD(($B12-今月バイオリズム!$B$4),E$2))/E$2)","v":0.9898214418809328},"↓","高調期（活動期）","下降中","↓","高調期（活動期）","下降中","↓","高調期（活動期）","下降中",2.5218782541094047,"↓","高調期（活動期）","下降中",{"$error":"#REF!"},{"$error":"#REF!"},{"$f":"SIN(2*PI()*(MOD(($T12-今月バイオリズム!$B$4),U$2))/U$2)","v":{"$error":"#REF!"}},{"$f":"SIN(2*PI()*(MOD(($T12-今月バイオリズム!$B$4),V$2))/V$2)","v":{"$error":"#REF!"}},{"$f":"SIN(2*PI()*(MOD(($T12-今月バイオリズム!$B$4),W$2))/W$2)","v":{"$error":"#REF!"}},{"$error":"#REF!"},{"$error":"#REF!"},{"$error":"#REF!"},{"$error":"#REF!"},{"$f":"IF(OR(AND(V11<=0,V12>=0),AND(V11>=0,V12<=0)),\"要注意\",IF(V12>0,IF(AA12=\"▽\",\"高調期ピーク\",\"高調期（活動期）\"),IF(AA12=\"▲\",\"低調期ピーク\",\"低調期（充電期）\")))","v":{"$error":"#REF!"}},{"$error":"#REF!"},{"$error":"#REF!"},{"$error":"#REF!"},{"$error":"#REF!"},{"$error":"#REF!"}]
["1900-01-10","1900-01-10",{"$f":"SIN(2*PI()*(MOD(($B13-今月バイオリズム!$B$4),C$2))/C$2)","v":0.3984010898462414},{"$f":"SIN(2*PI()*(MOD(($B13-今月バイオリズム!$B$4),D$2))/D$2)","v":0.78183148246802991},{"$f":"SIN(2*PI()*(MOD(($B13-今月バイオリズム!$B$4),E$2))/E$2)","v":0.94500081871466846},"↓","高調期（活動期）","下降中","↓","高調期（活動期）","下降中","↓","高調期（活動期）","下降中",2.1252333910289396,"↓","高調期（活動期）","下降中",{"$error":"#REF!"},{"$error":"#REF!"},{"$f":"SIN(2*PI()*(MOD(($T13-今月バイオリズム!$B$4),U$2))/U$2)","v":{"$error":"#REF!"}},{"$f":"SIN(2*PI()*(MOD(($T13-今月バイオリズム!$B$4),V$2))/V$2)","v":{"$error":"#REF!"}},{"$f":"SIN(2*PI()*(MOD(($T13-今月バイオリズム!$B$4),W$2))/W$2)","v":{"$error":"#REF!"}},{"$error":"#REF!"},{"$error":"#REF!"},{"$error":"#REF!"},{"$error":"#REF!"},{"$error":"#REF!"},{"$error":"#REF!"},{"$error":"#REF!"},{"$error":"#REF!"},{"$error":"#REF!"},{"$error":"#REF!"}]
["1900-01-11","1900-01-11",{"$f":"SIN(2*PI()*(MOD(($B14-今月バイオリズム!$B$4),C$2))/C$2)","v":0.13616664909624709},{"$f":"SIN(2*PI()*(MOD(($B14-今月バイオリズム!$B$4),D$2))/D$2)","v":0.62348980185873393},{"$f":"SIN(2*PI()*(MOD(($B14-今月バイオリズム!$B$4),E$2))/E$2)","v":0.86602540378443871},"↓","高調期（活動期）","下降中","↓","高調期（活動期）","下降中","↓","高調期（活動期）","下降中",1.6256818547394198,"↓","高調期（活動期）","下降中",{"$error":"#REF!"},{"$error":"#REF!"},{"$f":"SIN(2*PI()*(MOD(($T14-今月バイオリズム!$B$4),U$2))/U$2)","v":{"$error":"#REF!"}},{"$f":"SIN(2*PI()*(MOD(($T14-今月バイオリズム!$B$4),V$2))/V$2)","v":{"$error":"#REF!"}},{"$f":"SIN(2*PI()*(MOD(($T14-今月バイオリズム!$B$4),W$2))/W$2)","v":{"$error":"#REF!"}},{"$error":"#REF!"},{"$error":"#REF!"},{"$error":"#REF!"},{"$error":"#REF!"},{"$error":"#REF!"},{"$error":"#REF!"},{"$error":"#REF!"},{"$error":"#REF!"},{"$error":"#REF!"},{"$error":"#REF!"}]
["1900-01-12","1900-01-12",{"$f":"SIN(2*PI()*(MOD(($B15-今月バイオリズム!$B$4),C$2))/C$2)","v":-0.1361666490962464},{"$f":"SIN(2*PI()*(MOD(($B15-今月バイオリズム!$B$4),D$2))/D$2)","v":0.43388373911755823},{"$f":"SIN(2*PI()*(MOD(($B15-今月バイオリズム!$B$4),E$2))/E$2)","v":0.75574957435425827},"↓","要注意","","↓","高調期（活動期）","下降中","↓","高調期（活動期）","下降中",1.0534666643755701,"↓","高調期（活動期）","下降中",{"$error":"#REF!"},{"$error":"#REF!"},{"$f":"SIN(2*PI()*(MOD(($T15-今月バイオリズム!$B$4),U$2))/U$2)","v":{"$error":"#REF!"}},{"$f":"SIN(2*PI()*(MOD(($T15-今月バイオリズム!$B$4),V$2))/V$2)","v":{"$error":"#REF!"}},{"$f":"SIN(2*PI()*(MOD(($T15-今月バイオリズム!$B$4),W$2))/W$2)","v":{"$error":"#REF!"}},{"$error":"#REF!"},{"$error":"#REF!"},{"$error":"#REF!"},{"$error":"#REF!"},{"$error":"#REF!"},{"$error":"#REF!"},{"$error":"#REF!"},{"$error":"#REF!"},{"$error":"#REF!"},{"$error":"#REF!"}]
["1900-01-13","1900-01-13",{"$f":"SIN(2*PI()*(MOD(($B16-今月バイオリズム!$B$4),C$2))/C$2)","v":-0.39840108984624156},{"$f":"SIN(2*PI()*(MOD(($B16-今月バイオリズム!$B$4),D$2))/D$2)","v":0.22252093395631409},{"$f":"SIN(2*PI()*(MOD(($B16-今月バイオリズム!$B$4),E$2))/E$2)","v":0.61815898622060506},"↓","低調期（充電期）","下降中","↓","高調期（活動期）","下降中","↓","高調期（活動期）","下降中",0.44227883033067761,"↓","高調期（活動期）","下降中",{"$error":"#REF!"},{"$error":"#REF!"},{"$f":"SIN(2*PI()*(MOD(($T16-今月バイオリズム!$B$4),U$2))/U$2)","v":{"$error":"#REF!"}},{"$f":"SIN(2*PI()*(MOD(($T16-今月バイオリズム!$B$4),V$2))/V$2)","v":{"$error":"#REF!"}},{"$f":"SIN(2*PI()*(MOD(($T16-今月バイオリズム!$B$4),W$2))/W$2)","v":{"$error":"#REF!"}},{"$error":"#REF!"},{"$error":"#REF!"},{"$error":"#REF!"},{"$error":"#REF!"},{"$error":"#REF!"},{"$error":"#REF!"},{"$error":"#REF!"},{"$error":"#REF!"},{"$error":"#REF!"},{"$error":"#REF!"}]
["1900-01-14","1900-01-14",{"$f":"SIN(2*PI()*(MOD(($B17-今月バイオリズム!$B$4),C$2))/C$2)","v":-0.63108794432605275},{"$f":"SIN(2*PI()*(MOD(($B17-今月バイオリズム!$B$4),D$2))/D$2)","v":1.22514845490862E-16},{"$f":"SIN(2*PI()*(MOD(($B17-今月バイオリズム!$B$4),E$2))/E$2)","v":0.45822652172741052},"↓","低調期（充電期）","下降中","↓","高調期（活動期）","下降中","↓","高調期（活動期）","下降中",-0.17286142259864212,"↓","要注意","",{"$error":"#REF!"},{"$error":"#REF!"},{"$f":"SIN(2*PI()*(MOD(($T17-今月バイオリズム!$B$4),U$2))/U$2)","v":{"$error":"#REF!"}},{"$f":"SIN(2*PI()*(MOD(($T17-今月バイオリズム!$B$4),V$2))/V$2)","v":{"$error":"#REF!"}},{"$f":"SIN(2*PI()*(MOD(($T17-今月バイオリズム!$B$4),W$2))/W$2)","v":{"$error":"#REF!"}},{"$error":"#REF!"},{"$error":"#REF!"},{"$error":"#REF!"},{"$error":"#REF!"},{"$error":"#REF!"},{"$error":"#REF!"},{"$error":"#REF!"},{"$error":"#REF!"},{"$error":"#REF!"},{"$error":"#REF!"}]
["1900-01-15","1900-01-15",{"$f":"SIN(2*PI()*(MOD(($B18-今月バイオリズム!$B$4),C$2))/C$2)","v":-0.81696989301044198},{"$f":"SIN(2*PI()*(MOD(($B18-今月バイオリズム!$B$4),D$2))/D$2)","v":-0.22252093395631384},{"$f":"SIN(2*PI()*(MOD(($B18-今月バイオリズム!$B$4),E$2))/E$2)","v":0.28173255684143006},"↓","低調期（充電期）","下降中","↓","要注意","","↓","高調期（活動期）","下降中",-0.75775827012532571,"↓","低調期（充電期）","下降中",{"$error":"#REF!"},{"$error":"#REF!"},{"$f":"SIN(2*PI()*(MOD(($T18-今月バイオリズム!$B$4),U$2))/U$2)","v":{"$error":"#REF!"}},{"$f":"SIN(2*PI()*(MOD(($T18-今月バイオリズム!$B$4),V$2))/V$2)","v":{"$error":"#REF!"}},{"$f":"SIN(2*PI()*(MOD(($T18-今月バイオリズム!$B$4),W$2))/W$2)","v":{"$error":"#REF!"}},{"$error":"#REF!"},{"$error":"#REF!"},{"$error":"#REF!"},{"$error":"#REF!"},{"$error":"#REF!"},{"$error":"#REF!"},{"$error":"#REF!"},{"$error":"#REF!"},{"$error":"#REF!"},{"$error":"#REF!"}]
["1900-01-16","1900-01-16",{"$f":"SIN(2*PI()*(MOD(($B19-今月バイオリズム!$B$4),C$2))/C$2)","v":-0.9422609221188204},{"$f":"SIN(2*PI()*(MOD(($B19-今月バイオリズム!$B$4),D$2))/D$2)","v":-0.43388373911755801},{"$f":"SIN(2*PI()*(MOD(($B19-今月バイオリズム!$B$4),E$2))/E$2)","v":9.505604330418288E-2},"↓","低調期（充電期）","下降中","↓","低調期（充電期）","下降中","↓","高調期（活動期）","下降中",-1.2810886179321954,"↓","低調期（充電期）","下降中",{"$error":"#REF!"},{"$error":"#REF!"},{"$f":"SIN(2*PI()*(MOD(($T19-今月バイオリズム!$B$4),U$2))/U$2)","v":{"$error":"#REF!"}},{"$f":"SIN(2*PI()*(MOD(($T19-今月バイオリズム!$B$4),V$2))/V$2)","v":{"$error":"#REF!"}},{"$f":"SIN(2*PI()*(MOD(($T19-今月バイオリズム!$B$4),W$2))/W$2)","v":{"$error":"#REF!"}},{"$error":"#REF!"},{"$error":"#REF!"},{"$error":"#REF!"},{"$error":"#REF!"},{"$error":"#REF!"},{"$error":"#REF!"},{"$error":"#REF!"},{"$error":"#REF!"},{"$error":"#REF!"},{"$error":"#REF!"}]
["1900-01-17","1900-01-17",{"$f":"SIN(2*PI()*(MOD(($B20-今月バイオリズム!$B$4),C$2))/C$2)","v":-0.99766876919053926},{"$f":"SIN(2*PI()*(MOD(($B20-今月バイオリズム!$B$4),D$2))/D$2)","v":-0.62348980185873382},{"$f":"SIN(2*PI()*(MOD(($B20-今月バイオリズム!$B$4),E$2))/E$2)","v":-9.505604330418263E-2},"▲","低調期ピーク","下降中","↓","低調期（充電期）","下降中","↓","要注意","",-1.7162146143534558,"↓","低調期（充電期）","下降中",{"$error":"#REF!"},{"$error":"#REF!"},{"$f":"SIN(2*PI()*(MOD(($T20-今月バイオリズム!$B$4),U$2))/U$2)","v":{"$error":"#REF!"}},{"$f":"SIN(2*PI()*(MOD(($T20-今月バイオリズム!$B$4),V$2))/V$2)","v":{"$error":"#REF!"}},{"$f":"SIN(2*PI()*(MOD(($T20-今月バイオリズム!$B$4),W$2))/W$2)","v":{"$error":"#REF!"}},{"$error":"#REF!"},{"$error":"#REF!"},{"$error":"#REF!"},{"$error":"#REF!"},{"$error":"#REF!"},{"$error":"#REF!"},{"$error":"#REF!"},{"$error":"#REF!"},{"$error":"#REF!"},{"$error":"#REF!"}]
["1900-01-18","1900-01-18",{"$f":"SIN(2*PI()*(MOD(($B21-今月バイオリズム!$B$4),C$2))/C$2)","v":-0.97908408768232302},{"$f":"SIN(2*PI()*(MOD(($B21-今月バイオリズム!$B$4),D$2))/D$2)","v":-0.78183148246802969},{"$f":"SIN(2*PI()*(MOD(($B21-今月バイオリズム!$B$4),E$2))/E$2)","v":-0.28173255684142939},"↑","低調期（充電期）","上昇中","↓","低調期（充電期）","下降中","↓","低調期（充電期）","下降中",-2.0426481269917822,"↓","低調期（充電期）","下降中",{"$error":"#REF!"},{"$error":"#REF!"},{"$f":"SIN(2*PI()*(MOD(($T21-今月バイオリズム!$B$4),U$2))/U$2)","v":{"$error":"#REF!"}},{"$f":"SIN(2*PI()*(MOD(($T21-今月バイオリズム!$B$4),V$2))/V$2)","v":{"$error":"#REF!"}},{"$f":"SIN(2*PI()*(MOD(($T21-今月バイオリズム!$B$4),W$2))/W$2)","v":{"$error":"#REF!"}},{"$error":"#REF!"},{"$error":"#REF!"},{"$error":"#REF!"},{"$error":"#REF!"},{"$error":"#REF!"},{"$error":"#REF!"},{"$error":"#REF!"},{"$error":"#REF!"},{"$error":"#REF!"},{"$error":"#REF!"}]
["1900-01-19","1900-01-19",{"$f":"SIN(2*PI()*(MOD(($B22-今月バイオリズム!$B$4),C$2))/C$2)","v":-0.88788521840237555},{"$f":"SIN(2*PI()*(MOD(($B22-今月バイオリズム!$B$4),D$2))/D$2)","v":-0.90096886790241903},{"$f":"SIN(2*PI()*(MOD(($B22-今月バイオリズム!$B$4),E$2))/E$2)","v":-0.45822652172740991},"↑","低調期（充電期）","上昇中","↓","低調期（充電期）","下降中","↓","低調期（充電期）","下降中",-2.2470806080322046,"↓","低調期（充電期）","下降中",{"$error":"#REF!"},{"$error":"#REF!"},{"$f":"SIN(2*PI()*(MOD(($T22-今月バイオリズム!$B$4),U$2))/U$2)","v":{"$error":"#REF!"}},{"$f":"SIN(2*PI()*(MOD(($T22-今月バイオリズム!$B$4),V$2))/V$2)","v":{"$error":"#REF!"}},{"$f":"SIN(2*PI()*(MOD(($T22-今月バイオリズム!$B$4),W$2))/W$2)","v":{"$error":"#REF!"}},{"$error":"#REF!"},{"$error":"#REF!"},{"$error":"#REF!"},{"$error":"#REF!"},{"$error":"#REF!"},{"$error":"#REF!"},{"$error":"#REF!"},{"$error":"#REF!"},{"$error":"#REF!"},{"$error":"#REF!"}]
["1900-01-20","1900-01-20",{"$f":"SIN(2*PI()*(MOD(($B23-今月バイオリズム!$B$4),C$2))/C$2)","v":-0.73083596427812403},{"$f":"SIN(2*PI()*(MOD(($B23-今月バイオリズム!$B$4),D$2))/D$2)","v":-0.97492791218182362},{"$f":"SIN(2*PI()*(MOD(($B23-今月バイオリズム!$B$4),E$2))/E$2)","v":-0.61815898622060528},"↑","低調期（充電期）","上昇中","↓","低調期（充電期）","下降中","↓","低調期（充電期）","下降中",-2.3239228626805528,"▲","低調期ピーク","下降中",{"$error":"#REF!"},{"$error":"#REF!"},{"$f":"SIN(2*PI()*(MOD(($T23-今月バイオリズム!$B$4),U$2))/U$2)","v":{"$error":"#REF!"}},{"$f":"SIN(2*PI()*(MOD(($T23-今月バイオリズム!$B$4),V$2))/V$2)","v":{"$error":"#REF!"}},{"$f":"SIN(2*PI()*(MOD(($T23-今月バイオリズム!$B$4),W$2))/W$2)","v":{"$error":"#REF!"}},{"$error":"#REF!"},{"$error":"#REF!"},{"$error":"#REF!"},{"$error":"#REF!"},{"$error":"#REF!"},{"$error":"#REF!"},{"$error":"#REF!"},{"$error":"#REF!"},{"$error":"#REF!"},{"$error":"#REF!"}]
["1900-01-21","1900-01-21",{"$f":"SIN(2*PI()*(MOD(($B24-今月バイオリズム!$B$4),C$2))/C$2)","v":-0.51958395003543356},{"$f":"SIN(2*PI()*(MOD(($B24-今月バイオリズム!$B$4),D$2))/D$2)","v":-1},{"$f":"SIN(2*PI()*(MOD(($B24-今月バイオリズム!$B$4),E$2))/E$2)","v":-0.75574957435425849},"↑","低調期（充電期）","上昇中","▲","低調期ピーク","下降中","↓","低調期（充電期）","下降中",-2.2753335243896919,"↑","低調期（充電期）","上昇中",{"$error":"#REF!"},{"$error":"#REF!"},{"$f":"SIN(2*PI()*(MOD(($T24-今月バイオリズム!$B$4),U$2))/U$2)","v":{"$error":"#REF!"}},{"$f":"SIN(2*PI()*(MOD(($T24-今月バイオリズム!$B$4),V$2))/V$2)","v":{"$error":"#REF!"}},{"$f":"SIN(2*PI()*(MOD(($T24-今月バイオリズム!$B$4),W$2))/W$2)","v":{"$error":"#REF!"}},{"$error":"#REF!"},{"$error":"#REF!"},{"$error":"#REF!"},{"$error":"#REF!"},{"$error":"#REF!"},{"$error":"#REF!"},{"$error":"#REF!"},{"$error":"#REF!"},{"$error":"#REF!"},{"$error":"#REF!"}]
["1900-01-22","1900-01-22",{"$f":"SIN(2*PI()*(MOD(($B25-今月バイオリズム!$B$4),C$2))/C$2)","v":-0.26979677115702522},{"$f":"SIN(2*PI()*(MOD(($B25-今月バイオリズム!$B$4),D$2))/D$2)","v":-0.97492791218182384},{"$f":"SIN(2*PI()*(MOD(($B25-今月バイオリズム!$B$4),E$2))/E$2)","v":-0.86602540378443837},"↑","低調期（充電期）","上昇中","↑","低調期（充電期）","上昇中","↓","低調期（充電期）","下降中",-2.1107500871232876,"↑","低調期（充電期）","上昇中",{"$error":"#REF!"},{"$error":"#REF!"},{"$f":"SIN(2*PI()*(MOD(($T25-今月バイオリズム!$B$4),U$2))/U$2)","v":{"$error":"#REF!"}},{"$f":"SIN(2*PI()*(MOD(($T25-今月バイオリズム!$B$4),V$2))/V$2)","v":{"$error":"#REF!"}},{"$f":"SIN(2*PI()*(MOD(($T25-今月バイオリズム!$B$4),W$2))/W$2)","v":{"$error":"#REF!"}},{"$error":"#REF!"},{"$error":"#REF!"},{"$error":"#REF!"},{"$error":"#REF!"},{"$error":"#REF!"},{"$error":"#REF!"},{"$error":"#REF!"},{"$error":"#REF!"},{"$error":"#REF!"},{"$error":"#REF!"}]
["1900-01-23","1900-01-23",{"$f":"SIN(2*PI()*(MOD(($B26-今月バイオリズム!$B$4),C$2))/C$2)","v":0},{"$f":"SIN(2*PI()*(MOD(($B26-今月バイオリズム!$B$4),D$2))/D$2)","v":-0.90096886790241926},{"$f":"SIN(2*PI()*(MOD(($B26-今月バイオリズム!$B$4),E$2))/E$2)","v":-0.94500081871466834},"↑","要注意","","↑","低調期（充電期）","上昇中","↓","低調期（充電期）","下降中",-1.8459696866170876,"↑","低調期（充電期）","上昇中",{"$error":"#REF!"},{"$error":"#REF!"},{"$f":"SIN(2*PI()*(MOD(($T26-今月バイオリズム!$B$4),U$2))/U$2)","v":{"$error":"#REF!"}},{"$f":"SIN(2*PI()*(MOD(($T26-今月バイオリズム!$B$4),V$2))/V$2)","v":{"$error":"#REF!"}},{"$f":"SIN(2*PI()*(MOD(($T26-今月バイオリズム!$B$4),W$2))/W$2)","v":{"$error":"#REF!"}},{"$error":"#REF!"},{"$error":"#REF!"},{"$error":"#REF!"},{"$error":"#REF!"},{"$error":"#REF!"},{"$error":"#REF!"},{"$error":"#REF!"},{"$error":"#REF!"},{"$error":"#REF!"},{"$error":"#REF!"}]
["1900-01-24","1900-01-24",{"$f":"SIN(2*PI()*(MOD(($B27-今月バイオリズム!$B$4),C$2))/C$2)","v":0.26979677115702427},{"$f":"SIN(2*PI()*(MOD(($B27-今月バイオリズム!$B$4),D$2))/D$2)","v":-0.78183148246802991},{"$f":"SIN(2*PI()*(MOD(($B27-今月バイオリズム!$B$4),E$2))/E$2)","v":-0.98982144188093268},"↑","要注意","","↑","低調期（充電期）","上昇中","↓","低調期（充電期）","下降中",-1.5018561531919383,"↑","低調期（充電期）","上昇中",{"$error":"#REF!"},{"$error":"#REF!"},{"$f":"SIN(2*PI()*(MOD(($T27-今月バイオリズム!$B$4),U$2))/U$2)","v":{"$error":"#REF!"}},{"$f":"SIN(2*PI()*(MOD(($T27-今月バイオリズム!$B$4),V$2))/V$2)","v":{"$error":"#REF!"}},{"$f":"SIN(2*PI()*(MOD(($T27-今月バイオリズム!$B$4),W$2))/W$2)","v":{"$error":"#REF!"}},{"$error":"#REF!"},{"$error":"#REF!"},{"$error":"#REF!"},{"$error":"#REF!"},{"$error":"#REF!"},{"$error":"#REF!"},{"$error":"#REF!"},{"$error":"#REF!"},{"$error":"#REF!"},{"$error":"#REF!"}]
["1900-01-25","1900-01-25",{"$f":"SIN(2*PI()*(MOD(($B28-今月バイオリズム!$B$4),C$2))/C$2)","v":0.51958395003543356},{"$f":"SIN(2*PI()*(MOD(($B28-今月バイオリズム!$B$4),D$2))/D$2)","v":-0.62348980185873371},{"$f":"SIN(2*PI()*(MOD(($B28-今月バイオリズム!$B$4),E$2))/E$2)","v":-0.99886733918300796},"↑","高調期（活動期）","上昇中","↑","低調期（充電期）","上昇中","▲","低調期ピーク","下降中",-1.1027731910063081,"↑","低調期（充電期）","上昇中",{"$error":"#REF!"},{"$error":"#REF!"},{"$f":"SIN(2*PI()*(MOD(($T28-今月バイオリズム!$B$4),U$2))/U$2)","v":{"$error":"#REF!"}},{"$f":"SIN(2*PI()*(MOD(($T28-今月バイオリズム!$B$4),V$2))/V$2)","v":{"$error":"#REF!"}},{"$f":"SIN(2*PI()*(MOD(($T28-今月バイオリズム!$B$4),W$2))/W$2)","v":{"$error":"#REF!"}},{"$error":"#REF!"},{"$error":"#REF!"},{"$error":"#REF!"},{"$error":"#REF!"},{"$error":"#REF!"},{"$error":"#REF!"},{"$error":"#REF!"},{"$error":"#REF!"},{"$error":"#REF!"},{"$error":"#REF!"}]
["1900-01-26","1900-01-26",{"$f":"SIN(2*PI()*(MOD(($B29-今月バイオリズム!$B$4),C$2))/C$2)","v":0.73083596427812403},{"$f":"SIN(2*PI()*(MOD(($B29-今月バイオリズム!$B$4),D$2))/D$2)","v":-0.43388373911755751},{"$f":"SIN(2*PI()*(MOD(($B29-今月バイオリズム!$B$4),E$2))/E$2)","v":-0.97181156832354165},"↑","高調期（活動期）","上昇中","↑","低調期（充電期）","上昇中","↑","低調期（充電期）","上昇中",-0.67485934316297513,"↑","低調期（充電期）","上昇中",{"$error":"#REF!"},{"$error":"#REF!"},{"$f":"SIN(2*PI()*(MOD(($T29-今月バイオリズム!$B$4),U$2))/U$2)","v":{"$error":"#REF!"}},{"$f":"SIN(2*PI()*(MOD(($T29-今月バイオリズム!$B$4),V$2))/V$2)","v":{"$error":"#REF!"}},{"$f":"SIN(2*PI()*(MOD(($T29-今月バイオリズム!$B$4),W$2))/W$2)","v":{"$error":"#REF!"}},{"$error":"#REF!"},{"$error":"#REF!"},{"$error":"#REF!"},{"$error":"#REF!"},{"$error":"#REF!"},{"$error":"#REF!"},{"$error":"#REF!"},{"$error":"#REF!"},{"$error":"#REF!"},{"$error":"#REF!"}]
["1900-01-27","1900-01-27",{"$f":"SIN(2*PI()*(MOD(($B30-今月バイオリズム!$B$4),C$2))/C$2)","v":0.88788521840237522},{"$f":"SIN(2*PI()*(MOD(($B30-今月バイオリズム!$B$4),D$2))/D$2)","v":-0.22252093395631464},{"$f":"SIN(2*PI()*(MOD(($B30-今月バイオリズム!$B$4),E$2))/E$2)","v":-0.90963199535451855},"↑","高調期（活動期）","上昇中","↑","低調期（充電期）","上昇中","↑","低調期（充電期）","上昇中",-0.244267710908458,"↑","低調期（充電期）","上昇中",{"$error":"#REF!"},{"$error":"#REF!"},{"$f":"SIN(2*PI()*(MOD(($T30-今月バイオリズム!$B$4),U$2))/U$2)","v":{"$error":"#REF!"}},{"$f":"SIN(2*PI()*(MOD(($T30-今月バイオリズム!$B$4),V$2))/V$2)","v":{"$error":"#REF!"}},{"$f":"SIN(2*PI()*(MOD(($T30-今月バイオリズム!$B$4),W$2))/W$2)","v":{"$error":"#REF!"}},{"$error":"#REF!"},{"$error":"#REF!"},{"$error":"#REF!"},{"$error":"#REF!"},{"$error":"#REF!"},{"$error":"#REF!"},{"$error":"#REF!"},{"$error":"#REF!"},{"$error":"#REF!"},{"$error":"#REF!"}]
["1900-01-28","1900-01-28",{"$f":"SIN(2*PI()*(MOD(($B31-今月バイオリズム!$B$4),C$2))/C$2)","v":0.97908408768232291},{"$f":"SIN(2*PI()*(MOD(($B31-今月バイオリズム!$B$4),D$2))/D$2)","v":0},{"$f":"SIN(2*PI()*(MOD(($B31-今月バイオリズム!$B$4),E$2))/E$2)","v":-0.81457595205033584},"↑","高調期（活動期）","上昇中","↑","要注意","","↑","低調期（充電期）","上昇中",0.16450813563198707,"↑","要注意","",{"$error":"#REF!"},{"$error":"#REF!"},{"$f":"SIN(2*PI()*(MOD(($T31-今月バイオリズム!$B$4),U$2))/U$2)","v":{"$error":"#REF!"}},{"$f":"SIN(2*PI()*(MOD(($T31-今月バイオリズム!$B$4),V$2))/V$2)","v":{"$error":"#REF!"}},{"$f":"SIN(2*PI()*(MOD(($T31-今月バイオリズム!$B$4),W$2))/W$2)","v":{"$error":"#REF!"}},{"$error":"#REF!"},{"$error":"#REF!"},{"$error":"#REF!"},{"$error":"#REF!"},{"$error":"#REF!"},{"$error":"#REF!"},{"$error":"#REF!"},{"$error":"#REF!"},{"$error":"#REF!"},{"$error":"#REF!"}]
["1900-01-29","1900-01-29",{"$f":"SIN(2*PI()*(MOD(($B32-今月バイオリズム!$B$4),C$2))/C$2)","v":0.99766876919053915},{"$f":"SIN(2*PI()*(MOD(($B32-今月バイオリズム!$B$4),D$2))/D$2)","v":0.22252093395631439},{"$f":"SIN(2*PI()*(MOD(($B32-今月バイオリズム!$B$4),E$2))/E$2)","v":-0.69007901148211204},"▽","高調期ピーク","下降中","↑","要注意","","↑","低調期（充電期）","上昇中",0.53011069166474156,"↑","高調期（活動期）","上昇中",{"$error":"#REF!"},{"$error":"#REF!"},{"$f":"SIN(2*PI()*(MOD(($T32-今月バイオリズム!$B$4),U$2))/U$2)","v":{"$error":"#REF!"}},{"$f":"SIN(2*PI()*(MOD(($T32-今月バイオリズム!$B$4),V$2))/V$2)","v":{"$error":"#REF!"}},{"$f":"SIN(2*PI()*(MOD(($T32-今月バイオリズム!$B$4),W$2))/W$2)","v":{"$error":"#REF!"}},{"$error":"#REF!"},{"$error":"#REF!"},{"$error":"#REF!"},{"$error":"#REF!"},{"$error":"#REF!"},{"$error":"#REF!"},{"$error":"#REF!"},{"$error":"#REF!"},{"$error":"#REF!"},{"$error":"#REF!"}]
["1900-01-30","1900-01-30",{"$f":"SIN(2*PI()*(MOD(($B33-今月バイオリズム!$B$4),C$2))/C$2)","v":0.94226092211882051},{"$f":"SIN(2*PI()*(MOD(($B33-今月バイオリズム!$B$4),D$2))/D$2)","v":0.43388373911755812},{"$f":"SIN(2*PI()*(MOD(($B33-今月バイオリズム!$B$4),E$2))/E$2)","v":-0.54064081745559822},"↓","高調期（活動期）","下降中","↑","高調期（活動期）","上昇中","↑","低調期（充電期）","上昇中",0.83550384378078035,"↑","高調期（活動期）","上昇中",{"$error":"#REF!"},{"$error":"#REF!"},{"$f":"SIN(2*PI()*(MOD(($T33-今月バイオリズム!$B$4),U$2))/U$2)","v":{"$error":"#REF!"}},{"$f":"SIN(2*PI()*(MOD(($T33-今月バイオリズム!$B$4),V$2))/V$2)","v":{"$error":"#REF!"}},{"$f":"SIN(2*PI()*(MOD(($T33-今月バイオリズム!$B$4),W$2))/W$2)","v":{"$error":"#REF!"}},{"$error":"#REF!"},{"$error":"#REF!"},{"$error":"#REF!"},{"$error":"#REF!"},{"$error":"#REF!"},{"$error":"#REF!"},{"$error":"#REF!"},{"$error":"#REF!"},{"$error":"#REF!"},{"$error":"#REF!"}]
["1900-01-31","1900-01-31",{"$f":"SIN(2*PI()*(MOD(($B34-今月バイオリズム!$B$4),C$2))/C$2)","v":0.81696989301044209},{"$f":"SIN(2*PI()*(MOD(($B34-今月バイオリズム!$B$4),D$2))/D$2)","v":0.62348980185873348},{"$f":"SIN(2*PI()*(MOD(($B34-今月バイオリズム!$B$4),E$2))/E$2)","v":-0.37166245566032807},"↓","高調期（活動期）","下降中","↑","高調期（活動期）","上昇中","↑","低調期（充電期）","上昇中",1.0687972392088476,"↑","高調期（活動期）","上昇中",{"$error":"#REF!"},{"$error":"#REF!"},{"$f":"SIN(2*PI()*(MOD(($T34-今月バイオリズム!$B$4),U$2))/U$2)","v":{"$error":"#REF!"}},{"$f":"SIN(2*PI()*(MOD(($T34-今月バイオリズム!$B$4),V$2))/V$2)","v":{"$error":"#REF!"}},{"$f":"SIN(2*PI()*(MOD(($T34-今月バイオリズム!$B$4),W$2))/W$2)","v":{"$error":"#REF!"}},null,{"$error":"#REF!"},null,null,{"$error":"#REF!"},null,null,{"$error":"#REF!"},null,{"$error":"#REF!"}]
["1900-02-01","1900-02-01",{"$f":"SIN(2*PI()*(MOD(($B35-今月バイオリズム!$B$4),C$2))/C$2)","v":0.63108794432605297},{"$f":"SIN(2*PI()*(MOD(($B35-今月バイオリズム!$B$4),D$2))/D$2)","v":0.7818314824680298},{"$f":"SIN(2*PI()*(MOD(($B35-今月バイオリズム!$B$4),E$2))/E$2)","v":-0.18925124436041063},"↓","高調期（活動期）","下降中","↑","高調期（活動期）","上昇中","↑","低調期（充電期）","上昇中",1.2236681824336721,"↑","高調期（活動期）","上昇中",{"$f":"T35","v":{"$error":"#REF!"}},{"$error":"#REF!"},{"$f":"SIN(2*PI()*(MOD(($T35-今月バイオリズム!$B$4),U$2))/U$2)","v":{"$error":"#REF!"}},{"$f":"SIN(2*PI()*(MOD(($T35-今月バイオリズム!$B$4),V$2))/V$2)","v":{"$error":"#REF!"}},{"$f":"SIN(2*PI()*(MOD(($T35-今月バイオリズム!$B$4),W$2))/W$2)","v":{"$error":"#REF!"}},null,{"$f":"IF(OR(AND(U34<=0,U35>=0),AND(U34>=0,U35<=0)),\"要注意\",IF(U35>0,IF(X35=\"▽\",\"高調期ピーク\",\"高調期（活動期）\"),IF(X35=\"▲\",\"低調期ピーク\",\"低調期（充電期）\")))","v":{"$error":"#REF!"}},null,null,{"$f":"IF(OR(AND(V34<=0,V35>=0),AND(V34>=0,V35<=0)),\"要注意\",IF(V35>0,IF(AA35=\"▽\",\"高調期ピーク\",\"高調期（活動期）\"),IF(AA35=\"▲\",\"低調期ピーク\",\"低調期（充電期）\")))","v":{"$error":"#REF!"}},null,null,{"$f":"IF(OR(AND(W34<=0,W35>=0),AND(W34>=0,W35<=0)),\"要注意\",IF(W35>0,IF(AD35=\"▽\",\"高調期ピーク\",\"高調期（活動期）\"),IF(AD35=\"▲\",\"低調期ピーク\",\"低調期（充電期）\")))","v":{"$error":"#REF!"}},null,{"$f":"T35","v":{"$error":"#REF!"}}]
["1900-02-02","1900-02-02",{"$f":"SIN(2*PI()*(MOD(($B36-今月バイオリズム!$B$4),C$2))/C$2)","v":0.3984010898462414},{"$f":"SIN(2*PI()*(MOD(($B36-今月バイオリズム!$B$4),D$2))/D$2)","v":0.90096886790241915},{"$f":"SIN(2*PI()*(MOD(($B36-今月バイオリズム!$B$4),E$2))/E$2)","v":0},"↓","高調期（活動期）","下降中","↑","高調期（活動期）","上昇中","↑","要注意","",1.2993699577486606,"↑","高調期（活動期）","上昇中",{"$error":"#REF!"},{"$error":"#REF!"},{"$f":"SIN(2*PI()*(MOD(($T36-今月バイオリズム!$B$4),U$2))/U$2)","v":{"$error":"#REF!"}},{"$f":"SIN(2*PI()*(MOD(($T36-今月バイオリズム!$B$4),V$2))/V$2)","v":{"$error":"#REF!"}},{"$f":"SIN(2*PI()*(MOD(($T36-今月バイオリズム!$B$4),W$2))/W$2)","v":{"$error":"#REF!"}},null,{"$error":"#REF!"},null,null,{"$error":"#REF!"},null,null,{"$error":"#REF!"},null,{"$error":"#REF!"}]
["1900-02-03","1900-02-03",{"$f":"SIN(2*PI()*(MOD(($B37-今月バイオリズム!$B$4),C$2))/C$2)","v":0.13616664909624709},{"$f":"SIN(2*PI()*(MOD(($B37-今月バイオリズム!$B$4),D$2))/D$2)","v":0.97492791218182362},{"$f":"SIN(2*PI()*(MOD(($B37-今月バイオリズム!$B$4),E$2))/E$2)","v":0.18925124436041019},"↓","高調期（活動期）","下降中","↑","高調期（活動期）","上昇中","↑","要注意","",1.3003458056384809,"▽","高調期ピーク","下降中",{"$error":"#REF!"},{"$error":"#REF!"},{"$f":"SIN(2*PI()*(MOD(($T37-今月バイオリズム!$B$4),U$2))/U$2)","v":{"$error":"#REF!"}},{"$f":"SIN(2*PI()*(MOD(($T37-今月バイオリズム!$B$4),V$2))/V$2)","v":{"$error":"#REF!"}},{"$f":"SIN(2*PI()*(MOD(($T37-今月バイオリズム!$B$4),W$2))/W$2)","v":{"$error":"#REF!"}},null,{"$error":"#REF!"},null,null,{"$error":"#REF!"},null,null,{"$error":"#REF!"},null,{"$error":"#REF!"}]
["1900-02-04","1900-02-04",{"$f":"SIN(2*PI()*(MOD(($B38-今月バイオリズム!$B$4),C$2))/C$2)","v":-0.1361666490962464},{"$f":"SIN(2*PI()*(MOD(($B38-今月バイオリズム!$B$4),D$2))/D$2)","v":1},{"$f":"SIN(2*PI()*(MOD(($B38-今月バイオリズム!$B$4),E$2))/E$2)","v":0.37166245566032752},"↓","要注意","","▽","高調期ピーク","下降中","↑","高調期（活動期）","上昇中",1.2354958065640811,"↓","高調期（活動期）","下降中",{"$error":"#REF!"},{"$error":"#REF!"},{"$f":"SIN(2*PI()*(MOD(($T38-今月バイオリズム!$B$4),U$2))/U$2)","v":{"$error":"#REF!"}},{"$f":"SIN(2*PI()*(MOD(($T38-今月バイオリズム!$B$4),V$2))/V$2)","v":{"$error":"#REF!"}},{"$f":"SIN(2*PI()*(MOD(($T38-今月バイオリズム!$B$4),W$2))/W$2)","v":{"$error":"#REF!"}},null,{"$error":"#REF!"},null,null,{"$error":"#REF!"},null,null,{"$error":"#REF!"},null,{"$error":"#REF!"}]
["1900-02-05","1900-02-05",{"$f":"SIN(2*PI()*(MOD(($B39-今月バイオリズム!$B$4),C$2))/C$2)","v":-0.39840108984624156},{"$f":"SIN(2*PI()*(MOD(($B39-今月バイオリズム!$B$4),D$2))/D$2)","v":0.97492791218182362},{"$f":"SIN(2*PI()*(MOD(($B39-今月バイオリズム!$B$4),E$2))/E$2)","v":0.54064081745559756},"↓","低調期（充電期）","下降中","↓","高調期（活動期）","下降中","↑","高調期（活動期）","上昇中",1.1171676397911796,"↓","高調期（活動期）","下降中",{"$error":"#REF!"},{"$error":"#REF!"},{"$f":"SIN(2*PI()*(MOD(($T39-今月バイオリズム!$B$4),U$2))/U$2)","v":{"$error":"#REF!"}},{"$f":"SIN(2*PI()*(MOD(($T39-今月バイオリズム!$B$4),V$2))/V$2)","v":{"$error":"#REF!"}},{"$f":"SIN(2*PI()*(MOD(($T39-今月バイオリズム!$B$4),W$2))/W$2)","v":{"$error":"#REF!"}},null,{"$error":"#REF!"},null,null,{"$error":"#REF!"},null,null,{"$error":"#REF!"},null,{"$error":"#REF!"}]
["1900-02-06","1900-02-06",{"$f":"SIN(2*PI()*(MOD(($B40-今月バイオリズム!$B$4),C$2))/C$2)","v":-0.63108794432605275},{"$f":"SIN(2*PI()*(MOD(($B40-今月バイオリズム!$B$4),D$2))/D$2)","v":0.90096886790241915},{"$f":"SIN(2*PI()*(MOD(($B40-今月バイオリズム!$B$4),E$2))/E$2)","v":0.69007901148211193},"↓","低調期（充電期）","下降中","↓","高調期（活動期）","下降中","↑","高調期（活動期）","上昇中",0.95995993505847832,"↓","高調期（活動期）","下降中",{"$error":"#REF!"},{"$error":"#REF!"},{"$f":"SIN(2*PI()*(MOD(($T40-今月バイオリズム!$B$4),U$2))/U$2)","v":{"$error":"#REF!"}},{"$f":"SIN(2*PI()*(MOD(($T40-今月バイオリズム!$B$4),V$2))/V$2)","v":{"$error":"#REF!"}},{"$f":"SIN(2*PI()*(MOD(($T40-今月バイオリズム!$B$4),W$2))/W$2)","v":{"$error":"#REF!"}},null,{"$error":"#REF!"},null,null,{"$error":"#REF!"},null,null,{"$error":"#REF!"},null,{"$error":"#REF!"}]
["1900-02-07","1900-02-07",{"$f":"SIN(2*PI()*(MOD(($B41-今月バイオリズム!$B$4),C$2))/C$2)","v":-0.81696989301044198},{"$f":"SIN(2*PI()*(MOD(($B41-今月バイオリズム!$B$4),D$2))/D$2)","v":0.78183148246802991},{"$f":"SIN(2*PI()*(MOD(($B41-今月バイオリズム!$B$4),E$2))/E$2)","v":0.81457595205033573},"↓","低調期（充電期）","下降中","↓","高調期（活動期）","下降中","↑","高調期（活動期）","上昇中",0.77943754150792366,"↓","高調期（活動期）","下降中",{"$error":"#REF!"},{"$error":"#REF!"},{"$f":"SIN(2*PI()*(MOD(($T41-今月バイオリズム!$B$4),U$2))/U$2)","v":{"$error":"#REF!"}},{"$f":"SIN(2*PI()*(MOD(($T41-今月バイオリズム!$B$4),V$2))/V$2)","v":{"$error":"#REF!"}},{"$f":"SIN(2*PI()*(MOD(($T41-今月バイオリズム!$B$4),W$2))/W$2)","v":{"$error":"#REF!"}},null,{"$error":"#REF!"},null,null,{"$error":"#REF!"},null,null,{"$error":"#REF!"},null,{"$error":"#REF!"}]
["1900-02-08","1900-02-08",{"$f":"SIN(2*PI()*(MOD(($B42-今月バイオリズム!$B$4),C$2))/C$2)","v":-0.9422609221188204},{"$f":"SIN(2*PI()*(MOD(($B42-今月バイオリズム!$B$4),D$2))/D$2)","v":0.62348980185873393},{"$f":"SIN(2*PI()*(MOD(($B42-今月バイオリズム!$B$4),E$2))/E$2)","v":0.90963199535451833},"↓","低調期（充電期）","下降中","↓","高調期（活動期）","下降中","↑","高調期（活動期）","上昇中",0.59086087509443186,"↓","高調期（活動期）","下降中",{"$error":"#REF!"},{"$error":"#REF!"},{"$f":"SIN(2*PI()*(MOD(($T42-今月バイオリズム!$B$4),U$2))/U$2)","v":{"$error":"#REF!"}},{"$f":"SIN(2*PI()*(MOD(($T42-今月バイオリズム!$B$4),V$2))/V$2)","v":{"$error":"#REF!"}},{"$f":"SIN(2*PI()*(MOD(($T42-今月バイオリズム!$B$4),W$2))/W$2)","v":{"$error":"#REF!"}},null,{"$error":"#REF!"},null,null,{"$error":"#REF!"},null,null,{"$error":"#REF!"},null,{"$error":"#REF!"}]
["1900-02-09","1900-02-09",{"$f":"SIN(2*PI()*(MOD(($B43-今月バイオリズム!$B$4),C$2))/C$2)","v":-0.99766876919053926},{"$f":"SIN(2*PI()*(MOD(($B43-今月バイオリズム!$B$4),D$2))/D$2)","v":0.43388373911755823},{"$f":"SIN(2*PI()*(MOD(($B43-今月バイオリズム!$B$4),E$2))/E$2)","v":0.97181156832354165},"▲","低調期ピーク","下降中","↓","高調期（活動期）","下降中","↑","高調期（活動期）","上昇中",0.40802653825056068,"↓","高調期（活動期）","下降中",{"$error":"#REF!"},{"$error":"#REF!"},{"$f":"SIN(2*PI()*(MOD(($T43-今月バイオリズム!$B$4),U$2))/U$2)","v":{"$error":"#REF!"}},{"$f":"SIN(2*PI()*(MOD(($T43-今月バイオリズム!$B$4),V$2))/V$2)","v":{"$error":"#REF!"}},{"$f":"SIN(2*PI()*(MOD(($T43-今月バイオリズム!$B$4),W$2))/W$2)","v":{"$error":"#REF!"}},null,{"$error":"#REF!"},null,null,{"$error":"#REF!"},null,null,{"$error":"#REF!"},null,{"$error":"#REF!"}]
["1900-02-10","1900-02-10",{"$f":"SIN(2*PI()*(MOD(($B44-今月バイオリズム!$B$4),C$2))/C$2)","v":-0.97908408768232302},{"$f":"SIN(2*PI()*(MOD(($B44-今月バイオリズム!$B$4),D$2))/D$2)","v":0.22252093395631409},{"$f":"SIN(2*PI()*(MOD(($B44-今月バイオリズム!$B$4),E$2))/E$2)","v":0.99886733918300796},"↑","低調期（充電期）","上昇中","↓","高調期（活動期）","下降中","▽","高調期ピーク","下降中",0.24230418545699905,"↓","高調期（活動期）","下降中",{"$error":"#REF!"},{"$error":"#REF!"},{"$f":"SIN(2*PI()*(MOD(($T44-今月バイオリズム!$B$4),U$2))/U$2)","v":{"$error":"#REF!"}},{"$f":"SIN(2*PI()*(MOD(($T44-今月バイオリズム!$B$4),V$2))/V$2)","v":{"$error":"#REF!"}},{"$f":"SIN(2*PI()*(MOD(($T44-今月バイオリズム!$B$4),W$2))/W$2)","v":{"$error":"#REF!"}},null,{"$error":"#REF!"},null,null,{"$error":"#REF!"},null,null,{"$error":"#REF!"},null,{"$error":"#REF!"}]
["1900-02-11","1900-02-11",{"$f":"SIN(2*PI()*(MOD(($B45-今月バイオリズム!$B$4),C$2))/C$2)","v":-0.88788521840237555},{"$f":"SIN(2*PI()*(MOD(($B45-今月バイオリズム!$B$4),D$2))/D$2)","v":1.22514845490862E-16},{"$f":"SIN(2*PI()*(MOD(($B45-今月バイオリズム!$B$4),E$2))/E$2)","v":0.9898214418809328},"↑","低調期（充電期）","上昇中","↓","高調期（活動期）","下降中","↓","高調期（活動期）","下降中",0.10193622347855735,"↓","高調期（活動期）","下降中",{"$error":"#REF!"},{"$error":"#REF!"},{"$f":"SIN(2*PI()*(MOD(($T45-今月バイオリズム!$B$4),U$2))/U$2)","v":{"$error":"#REF!"}},{"$f":"SIN(2*PI()*(MOD(($T45-今月バイオリズム!$B$4),V$2))/V$2)","v":{"$error":"#REF!"}},{"$f":"SIN(2*PI()*(MOD(($T45-今月バイオリズム!$B$4),W$2))/W$2)","v":{"$error":"#REF!"}},null,{"$error":"#REF!"},null,null,{"$error":"#REF!"},null,null,{"$error":"#REF!"},null,{"$error":"#REF!"}]
["1900-02-12","1900-02-12",{"$f":"SIN(2*PI()*(MOD(($B46-今月バイオリズム!$B$4),C$2))/C$2)","v":-0.73083596427812403},{"$f":"SIN(2*PI()*(MOD(($B46-今月バイオリズム!$B$4),D$2))/D$2)","v":-0.22252093395631384},{"$f":"SIN(2*PI()*(MOD(($B46-今月バイオリズム!$B$4),E$2))/E$2)","v":0.94500081871466846},"↑","低調期（充電期）","上昇中","↓","要注意","","↓","高調期（活動期）","下降中",-8.3560795197693549E-3,"↓","要注意","",{"$error":"#REF!"},{"$error":"#REF!"},{"$f":"SIN(2*PI()*(MOD(($T46-今月バイオリズム!$B$4),U$2))/U$2)","v":{"$error":"#REF!"}},{"$f":"SIN(2*PI()*(MOD(($T46-今月バイオリズム!$B$4),V$2))/V$2)","v":{"$error":"#REF!"}},{"$f":"SIN(2*PI()*(MOD(($T46-今月バイオリズム!$B$4),W$2))/W$2)","v":{"$error":"#REF!"}},null,{"$error":"#REF!"},null,null,{"$error":"#REF!"},null,null,{"$error":"#REF!"},null,{"$error":"#REF!"}]
["1900-02-13","1900-02-13",{"$f":"SIN(2*PI()*(MOD(($B47-今月バイオリズム!$B$4),C$2))/C$2)","v":-0.51958395003543356},{"$f":"SIN(2*PI()*(MOD(($B47-今月バイオリズム!$B$4),D$2))/D$2)","v":-0.43388373911755801},{"$f":"SIN(2*PI()*(MOD(($B47-今月バイオリズム!$B$4),E$2))/E$2)","v":0.86602540378443871},"↑","低調期（充電期）","上昇中","↓","低調期（充電期）","下降中","↓","高調期（活動期）","下降中",-8.7442285368552919E-2,"↓","低調期（充電期）","下降中",{"$error":"#REF!"},{"$error":"#REF!"},{"$f":"SIN(2*PI()*(MOD(($T47-今月バイオリズム!$B$4),U$2))/U$2)","v":{"$error":"#REF!"}},{"$f":"SIN(2*PI()*(MOD(($T47-今月バイオリズム!$B$4),V$2))/V$2)","v":{"$error":"#REF!"}},{"$f":"SIN(2*PI()*(MOD(($T47-今月バイオリズム!$B$4),W$2))/W$2)","v":{"$error":"#REF!"}},null,{"$error":"#REF!"},null,null,{"$error":"#REF!"},null,null,{"$error":"#REF!"},null,{"$error":"#REF!"}]
["1900-02-14","1900-02-14",{"$f":"SIN(2*PI()*(MOD(($B48-今月バイオリズム!$B$4),C$2))/C$2)","v":-0.26979677115702522},{"$f":"SIN(2*PI()*(MOD(($B48-今月バイオリズム!$B$4),D$2))/D$2)","v":-0.62348980185873382},{"$f":"SIN(2*PI()*(MOD(($B48-今月バイオリズム!$B$4),E$2))/E$2)","v":0.75574957435425827},"↑","低調期（充電期）","上昇中","↓","低調期（充電期）","下降中","↓","高調期（活動期）","下降中",-0.13753699866150082,"↓","低調期（充電期）","下降中",{"$error":"#REF!"},{"$error":"#REF!"},{"$f":"SIN(2*PI()*(MOD(($T48-今月バイオリズム!$B$4),U$2))/U$2)","v":{"$error":"#REF!"}},{"$f":"SIN(2*PI()*(MOD(($T48-今月バイオリズム!$B$4),V$2))/V$2)","v":{"$error":"#REF!"}},{"$f":"SIN(2*PI()*(MOD(($T48-今月バイオリズム!$B$4),W$2))/W$2)","v":{"$error":"#REF!"}},null,{"$error":"#REF!"},null,null,{"$error":"#REF!"},null,null,{"$error":"#REF!"},null,{"$error":"#REF!"}]
["1900-02-15","1900-02-15",{"$f":"SIN(2*PI()*(MOD(($B49-今月バイオリズム!$B$4),C$2))/C$2)","v":0},{"$f":"SIN(2*PI()*(MOD(($B49-今月バイオリズム!$B$4),D$2))/D$2)","v":-0.78183148246802969},{"$f":"SIN(2*PI()*(MOD(($B49-今月バイオリズム!$B$4),E$2))/E$2)","v":0.61815898622060506},"↑","要注意","","↓","低調期（充電期）","下降中","↓","高調期（活動期）","下降中",-0.16367249624742464,"↓","低調期（充電期）","下降中",{"$error":"#REF!"},{"$error":"#REF!"},{"$f":"SIN(2*PI()*(MOD(($T49-今月バイオリズム!$B$4),U$2))/U$2)","v":{"$error":"#REF!"}},{"$f":"SIN(2*PI()*(MOD(($T49-今月バイオリズム!$B$4),V$2))/V$2)","v":{"$error":"#REF!"}},{"$f":"SIN(2*PI()*(MOD(($T49-今月バイオリズム!$B$4),W$2))/W$2)","v":{"$error":"#REF!"}},null,{"$error":"#REF!"},null,null,{"$error":"#REF!"},null,null,{"$error":"#REF!"},null,{"$error":"#REF!"}]
["1900-02-16","1900-02-16",{"$f":"SIN(2*PI()*(MOD(($B50-今月バイオリズム!$B$4),C$2))/C$2)","v":0.26979677115702427},{"$f":"SIN(2*PI()*(MOD(($B50-今月バイオリズム!$B$4),D$2))/D$2)","v":-0.90096886790241903},{"$f":"SIN(2*PI()*(MOD(($B50-今月バイオリズム!$B$4),E$2))/E$2)","v":0.45822652172741052},"↑","要注意","","↓","低調期（充電期）","下降中","↓","高調期（活動期）","下降中",-0.17294557501798424,"↓","低調期（充電期）","下降中",{"$error":"#REF!"},{"$error":"#REF!"},{"$f":"SIN(2*PI()*(MOD(($T50-今月バイオリズム!$B$4),U$2))/U$2)","v":{"$error":"#REF!"}},{"$f":"SIN(2*PI()*(MOD(($T50-今月バイオリズム!$B$4),V$2))/V$2)","v":{"$error":"#REF!"}},{"$f":"SIN(2*PI()*(MOD(($T50-今月バイオリズム!$B$4),W$2))/W$2)","v":{"$error":"#REF!"}},null,{"$error":"#REF!"},null,null,{"$error":"#REF!"},null,null,{"$error":"#REF!"},null,{"$error":"#REF!"}]
["1900-02-17","1900-02-17",{"$f":"SIN(2*PI()*(MOD(($B51-今月バイオリズム!$B$4),C$2))/C$2)","v":0.51958395003543356},{"$f":"SIN(2*PI()*(MOD(($B51-今月バイオリズム!$B$4),D$2))/D$2)","v":-0.97492791218182362},{"$f":"SIN(2*PI()*(MOD(($B51-今月バイオリズム!$B$4),E$2))/E$2)","v":0.28173255684143006},"↑","高調期（活動期）","上昇中","↓","低調期（充電期）","下降中","↓","高調期（活動期）","下降中",-0.17361140530496,"↓","低調期（充電期）","下降中",{"$error":"#REF!"},{"$error":"#REF!"},{"$f":"SIN(2*PI()*(MOD(($T51-今月バイオリズム!$B$4),U$2))/U$2)","v":{"$error":"#REF!"}},{"$f":"SIN(2*PI()*(MOD(($T51-今月バイオリズム!$B$4),V$2))/V$2)","v":{"$error":"#REF!"}},{"$f":"SIN(2*PI()*(MOD(($T51-今月バイオリズム!$B$4),W$2))/W$2)","v":{"$error":"#REF!"}},null,{"$error":"#REF!"},null,null,{"$error":"#REF!"},null,null,{"$error":"#REF!"},null,{"$error":"#REF!"}]
["1900-02-18","1900-02-18",{"$f":"SIN(2*PI()*(MOD(($B52-今月バイオリズム!$B$4),C$2))/C$2)","v":0.73083596427812403},{"$f":"SIN(2*PI()*(MOD(($B52-今月バイオリズム!$B$4),D$2))/D$2)","v":-1},{"$f":"SIN(2*PI()*(MOD(($B52-今月バイオリズム!$B$4),E$2))/E$2)","v":9.505604330418288E-2},"↑","高調期（活動期）","上昇中","▲","低調期ピーク","下降中","↓","高調期（活動期）","下降中",-0.17410799241769309,"↓","低調期（充電期）","下降中",{"$error":"#REF!"},{"$error":"#REF!"},{"$f":"SIN(2*PI()*(MOD(($T52-今月バイオリズム!$B$4),U$2))/U$2)","v":{"$error":"#REF!"}},{"$f":"SIN(2*PI()*(MOD(($T52-今月バイオリズム!$B$4),V$2))/V$2)","v":{"$error":"#REF!"}},{"$f":"SIN(2*PI()*(MOD(($T52-今月バイオリズム!$B$4),W$2))/W$2)","v":{"$error":"#REF!"}},null,{"$error":"#REF!"},null,null,{"$error":"#REF!"},null,null,{"$error":"#REF!"},null,{"$error":"#REF!"}]
["1900-02-19","1900-02-19",{"$f":"SIN(2*PI()*(MOD(($B53-今月バイオリズム!$B$4),C$2))/C$2)","v":0.88788521840237522},{"$f":"SIN(2*PI()*(MOD(($B53-今月バイオリズム!$B$4),D$2))/D$2)","v":-0.97492791218182384},{"$f":"SIN(2*PI()*(MOD(($B53-今月バイオリズム!$B$4),E$2))/E$2)","v":-9.505604330418263E-2},"↑","高調期（活動期）","上昇中","↑","低調期（充電期）","上昇中","↓","要注意","",-0.18209873708363125,"↓","低調期（充電期）","下降中",{"$error":"#REF!"},{"$error":"#REF!"},{"$f":"SIN(2*PI()*(MOD(($T53-今月バイオリズム!$B$4),U$2))/U$2)","v":{"$error":"#REF!"}},{"$f":"SIN(2*PI()*(MOD(($T53-今月バイオリズム!$B$4),V$2))/V$2)","v":{"$error":"#REF!"}},{"$f":"SIN(2*PI()*(MOD(($T53-今月バイオリズム!$B$4),W$2))/W$2)","v":{"$error":"#REF!"}},null,{"$error":"#REF!"},null,null,{"$error":"#REF!"},null,null,{"$error":"#REF!"},null,{"$error":"#REF!"}]
["1900-02-20","1900-02-20",{"$f":"SIN(2*PI()*(MOD(($B54-今月バイオリズム!$B$4),C$2))/C$2)","v":0.97908408768232291},{"$f":"SIN(2*PI()*(MOD(($B54-今月バイオリズム!$B$4),D$2))/D$2)","v":-0.90096886790241926},{"$f":"SIN(2*PI()*(MOD(($B54-今月バイオリズム!$B$4),E$2))/E$2)","v":-0.28173255684142939},"↑","高調期（活動期）","上昇中","↑","低調期（充電期）","上昇中","↓","低調期（充電期）","下降中",-0.20361733706152574,"↓","低調期（充電期）","下降中",{"$error":"#REF!"},{"$error":"#REF!"},{"$f":"SIN(2*PI()*(MOD(($T54-今月バイオリズム!$B$4),U$2))/U$2)","v":{"$error":"#REF!"}},{"$f":"SIN(2*PI()*(MOD(($T54-今月バイオリズム!$B$4),V$2))/V$2)","v":{"$error":"#REF!"}},{"$f":"SIN(2*PI()*(MOD(($T54-今月バイオリズム!$B$4),W$2))/W$2)","v":{"$error":"#REF!"}},null,{"$error":"#REF!"},null,null,{"$error":"#REF!"},null,null,{"$error":"#REF!"},null,{"$error":"#REF!"}]
["1900-02-21","1900-02-21",{"$f":"SIN(2*PI()*(MOD(($B55-今月バイオリズム!$B$4),C$2))/C$2)","v":0.99766876919053915},{"$f":"SIN(2*PI()*(MOD(($B55-今月バイオリズム!$B$4),D$2))/D$2)","v":-0.78183148246802991},{"$f":"SIN(2*PI()*(MOD(($B55-今月バイオリズム!$B$4),E$2))/E$2)","v":-0.45822652172740991},"▽","高調期ピーク","下降中","↑","低調期（充電期）","上昇中","↓","低調期（充電期）","下降中",-0.24238923500490067,"↓","低調期（充電期）","下降中",{"$error":"#REF!"},{"$error":"#REF!"},{"$f":"SIN(2*PI()*(MOD(($T55-今月バイオリズム!$B$4),U$2))/U$2)","v":{"$error":"#REF!"}},{"$f":"SIN(2*PI()*(MOD(($T55-今月バイオリズム!$B$4),V$2))/V$2)","v":{"$error":"#REF!"}},{"$f":"SIN(2*PI()*(MOD(($T55-今月バイオリズム!$B$4),W$2))/W$2)","v":{"$error":"#REF!"}},null,{"$error":"#REF!"},null,null,{"$error":"#REF!"},null,null,{"$error":"#REF!"},null,{"$error":"#REF!"}]
["1900-02-22","1900-02-22",{"$f":"SIN(2*PI()*(MOD(($B56-今月バイオリズム!$B$4),C$2))/C$2)","v":0.94226092211882051},{"$f":"SIN(2*PI()*(MOD(($B56-今月バイオリズム!$B$4),D$2))/D$2)","v":-0.62348980185873371},{"$f":"SIN(2*PI()*(MOD(($B56-今月バイオリズム!$B$4),E$2))/E$2)","v":-0.61815898622060528},"↓","高調期（活動期）","下降中","↑","低調期（充電期）","上昇中","↓","低調期（充電期）","下降中",-0.29938786596051847,"↓","低調期（充電期）","下降中",{"$error":"#REF!"},{"$error":"#REF!"},{"$f":"SIN(2*PI()*(MOD(($T56-今月バイオリズム!$B$4),U$2))/U$2)","v":{"$error":"#REF!"}},{"$f":"SIN(2*PI()*(MOD(($T56-今月バイオリズム!$B$4),V$2))/V$2)","v":{"$error":"#REF!"}},{"$f":"SIN(2*PI()*(MOD(($T56-今月バイオリズム!$B$4),W$2))/W$2)","v":{"$error":"#REF!"}},null,{"$error":"#REF!"},null,null,{"$error":"#REF!"},null,null,{"$error":"#REF!"},null,{"$error":"#REF!"}]
["1900-02-23","1900-02-23",{"$f":"SIN(2*PI()*(MOD(($B57-今月バイオリズム!$B$4),C$2))/C$2)","v":0.81696989301044209},{"$f":"SIN(2*PI()*(MOD(($B57-今月バイオリズム!$B$4),D$2))/D$2)","v":-0.43388373911755751},{"$f":"SIN(2*PI()*(MOD(($B57-今月バイオリズム!$B$4),E$2))/E$2)","v":-0.75574957435425849},"↓","高調期（活動期）","下降中","↑","低調期（充電期）","上昇中","↓","低調期（充電期）","下降中",-0.37266342046137391,"↓","低調期（充電期）","下降中",{"$error":"#REF!"},{"$error":"#REF!"},{"$f":"SIN(2*PI()*(MOD(($T57-今月バイオリズム!$B$4),U$2))/U$2)","v":{"$error":"#REF!"}},{"$f":"SIN(2*PI()*(MOD(($T57-今月バイオリズム!$B$4),V$2))/V$2)","v":{"$error":"#REF!"}},{"$f":"SIN(2*PI()*(MOD(($T57-今月バイオリズム!$B$4),W$2))/W$2)","v":{"$error":"#REF!"}},null,{"$error":"#REF!"},null,null,{"$error":"#REF!"},null,null,{"$error":"#REF!"},null,{"$error":"#REF!"}]
["1900-02-24","1900-02-24",{"$f":"SIN(2*PI()*(MOD(($B58-今月バイオリズム!$B$4),C$2))/C$2)","v":0.63108794432605297},{"$f":"SIN(2*PI()*(MOD(($B58-今月バイオリズム!$B$4),D$2))/D$2)","v":-0.22252093395631464},{"$f":"SIN(2*PI()*(MOD(($B58-今月バイオリズム!$B$4),E$2))/E$2)","v":-0.86602540378443837},"↓","高調期（活動期）","下降中","↑","低調期（充電期）","上昇中","↓","低調期（充電期）","下降中",-0.45745839341470007,"↓","低調期（充電期）","下降中",{"$error":"#REF!"},{"$error":"#REF!"},{"$f":"SIN(2*PI()*(MOD(($T58-今月バイオリズム!$B$4),U$2))/U$2)","v":{"$error":"#REF!"}},{"$f":"SIN(2*PI()*(MOD(($T58-今月バイオリズム!$B$4),V$2))/V$2)","v":{"$error":"#REF!"}},{"$f":"SIN(2*PI()*(MOD(($T58-今月バイオリズム!$B$4),W$2))/W$2)","v":{"$error":"#REF!"}},null,{"$error":"#REF!"},null,null,{"$error":"#REF!"},null,null,{"$error":"#REF!"},null,{"$error":"#REF!"}]
["1900-02-25","1900-02-25",{"$f":"SIN(2*PI()*(MOD(($B59-今月バイオリズム!$B$4),C$2))/C$2)","v":0.3984010898462414},{"$f":"SIN(2*PI()*(MOD(($B59-今月バイオリズム!$B$4),D$2))/D$2)","v":0},{"$f":"SIN(2*PI()*(MOD(($B59-今月バイオリズム!$B$4),E$2))/E$2)","v":-0.94500081871466834},"↓","高調期（活動期）","下降中","↑","要注意","","↓","低調期（充電期）","下降中",-0.546599728868427,"↓","低調期（充電期）","下降中",{"$error":"#REF!"},{"$error":"#REF!"},{"$f":"SIN(2*PI()*(MOD(($T59-今月バイオリズム!$B$4),U$2))/U$2)","v":{"$error":"#REF!"}},{"$f":"SIN(2*PI()*(MOD(($T59-今月バイオリズム!$B$4),V$2))/V$2)","v":{"$error":"#REF!"}},{"$f":"SIN(2*PI()*(MOD(($T59-今月バイオリズム!$B$4),W$2))/W$2)","v":{"$error":"#REF!"}},null,{"$error":"#REF!"},null,null,{"$error":"#REF!"},null,null,{"$error":"#REF!"},null,{"$error":"#REF!"}]
["1900-02-26","1900-02-26",{"$f":"SIN(2*PI()*(MOD(($B60-今月バイオリズム!$B$4),C$2))/C$2)","v":0.13616664909624709},{"$f":"SIN(2*PI()*(MOD(($B60-今月バイオリズム!$B$4),D$2))/D$2)","v":0.22252093395631439},{"$f":"SIN(2*PI()*(MOD(($B60-今月バイオリズム!$B$4),E$2))/E$2)","v":-0.98982144188093268},"↓","高調期（活動期）","下降中","↑","要注意","","↓","低調期（充電期）","下降中",-0.63113385882837125,"↓","低調期（充電期）","下降中",{"$error":"#REF!"},{"$error":"#REF!"},{"$f":"SIN(2*PI()*(MOD(($T60-今月バイオリズム!$B$4),U$2))/U$2)","v":{"$error":"#REF!"}},{"$f":"SIN(2*PI()*(MOD(($T60-今月バイオリズム!$B$4),V$2))/V$2)","v":{"$error":"#REF!"}},{"$f":"SIN(2*PI()*(MOD(($T60-今月バイオリズム!$B$4),W$2))/W$2)","v":{"$error":"#REF!"}},null,{"$error":"#REF!"},null,null,{"$error":"#REF!"},null,null,{"$error":"#REF!"},null,{"$error":"#REF!"}]
["1900-02-27","1900-02-27",{"$f":"SIN(2*PI()*(MOD(($B61-今月バイオリズム!$B$4),C$2))/C$2)","v":-0.1361666490962464},{"$f":"SIN(2*PI()*(MOD(($B61-今月バイオリズム!$B$4),D$2))/D$2)","v":0.43388373911755812},{"$f":"SIN(2*PI()*(MOD(($B61-今月バイオリズム!$B$4),E$2))/E$2)","v":-0.99886733918300796},"↓","要注意","","↑","高調期（活動期）","上昇中","▲","低調期ピーク","下降中",-0.70115024916169622,"↓","低調期（充電期）","下降中",{"$error":"#REF!"},{"$error":"#REF!"},{"$f":"SIN(2*PI()*(MOD(($T61-今月バイオリズム!$B$4),U$2))/U$2)","v":{"$error":"#REF!"}},{"$f":"SIN(2*PI()*(MOD(($T61-今月バイオリズム!$B$4),V$2))/V$2)","v":{"$error":"#REF!"}},{"$f":"SIN(2*PI()*(MOD(($T61-今月バイオリズム!$B$4),W$2))/W$2)","v":{"$error":"#REF!"}},null,{"$error":"#REF!"},null,null,{"$error":"#REF!"},null,null,{"$error":"#REF!"},null,{"$error":"#REF!"}]
["1900-02-28","1900-02-28",{"$f":"SIN(2*PI()*(MOD(($B62-今月バイオリズム!$B$4),C$2))/C$2)","v":-0.39840108984624156},{"$f":"SIN(2*PI()*(MOD(($B62-今月バイオリズム!$B$4),D$2))/D$2)","v":0.62348980185873348},{"$f":"SIN(2*PI()*(MOD(($B62-今月バイオリズム!$B$4),E$2))/E$2)","v":-0.97181156832354165},"↓","低調期（充電期）","下降中","↑","高調期（活動期）","上昇中","↑","低調期（充電期）","上昇中",-0.74672285631104973,"↓","低調期（充電期）","下降中",{"$error":"#REF!"},{"$error":"#REF!"},{"$f":"SIN(2*PI()*(MOD(($T62-今月バイオリズム!$B$4),U$2))/U$2)","v":{"$error":"#REF!"}},{"$f":"SIN(2*PI()*(MOD(($T62-今月バイオリズム!$B$4),V$2))/V$2)","v":{"$error":"#REF!"}},{"$f":"SIN(2*PI()*(MOD(($T62-今月バイオリズム!$B$4),W$2))/W$2)","v":{"$error":"#REF!"}},null,{"$error":"#REF!"},null,null,{"$error":"#REF!"},null,null,{"$error":"#REF!"},null,{"$error":"#REF!"}]
[60,60,{"$f":"SIN(2*PI()*(MOD(($B63-今月バイオリズム!$B$4),C$2))/C$2)","v":-0.63108794432605275},{"$f":"SIN(2*PI()*(MOD(($B63-今月バイオリズム!$B$4),D$2))/D$2)","v":0.7818314824680298},{"$f":"SIN(2*PI()*(MOD(($B63-今月バイオリズム!$B$4),E$2))/E$2)","v":-0.90963199535451855},"↓","低調期（充電期）","下降中","↑","高調期（活動期）","上昇中","↑","低調期（充電期）","上昇中",-0.7588884572125415,"▲","低調期ピーク","下降中",{"$error":"#REF!"},{"$error":"#REF!"},{"$f":"SIN(2*PI()*(MOD(($T63-今月バイオリズム!$B$4),U$2))/U$2)","v":{"$error":"#REF!"}},{"$f":"SIN(2*PI()*(MOD(($T63-今月バイオリズム!$B$4),V$2))/V$2)","v":{"$error":"#REF!"}},{"$f":"SIN(2*PI()*(MOD(($T63-今月バイオリズム!$B$4),W$2))/W$2)","v":{"$error":"#REF!"}},null,{"$error":"#REF!"},null,null,{"$error":"#REF!"},null,null,{"$error":"#REF!"},null,{"$error":"#REF!"}]
["1900-03-01","1900-03-01",{"$f":"SIN(2*PI()*(MOD(($B64-今月バイオリズム!$B$4),C$2))/C$2)","v":-0.81696989301044198},{"$f":"SIN(2*PI()*(MOD(($B64-今月バイオリズム!$B$4),D$2))/D$2)","v":0.90096886790241915},{"$f":"SIN(2*PI()*(MOD(($B64-今月バイオリズム!$B$4),E$2))/E$2)","v":-0.81457595205033584},"↓","低調期（充電期）","下降中","↑","高調期（活動期）","上昇中","↑","低調期（充電期）","上昇中",-0.73057697715835868,"↑","低調期（充電期）","上昇中",{"$error":"#REF!"},{"$error":"#REF!"},{"$f":"SIN(2*PI()*(MOD(($T64-今月バイオリズム!$B$4),U$2))/U$2)","v":{"$error":"#REF!"}},{"$f":"SIN(2*PI()*(MOD(($T64-今月バイオリズム!$B$4),V$2))/V$2)","v":{"$error":"#REF!"}},{"$f":"SIN(2*PI()*(MOD(($T64-今月バイオリズム!$B$4),W$2))/W$2)","v":{"$error":"#REF!"}},null,{"$error":"#REF!"},null,null,{"$error":"#REF!"},null,null,{"$error":"#REF!"},null,{"$error":"#REF!"}]
["1900-03-02","1900-03-02",{"$f":"SIN(2*PI()*(MOD(($B65-今月バイオリズム!$B$4),C$2))/C$2)","v":-0.9422609221188204},{"$f":"SIN(2*PI()*(MOD(($B65-今月バイオリズム!$B$4),D$2))/D$2)","v":0.97492791218182362},{"$f":"SIN(2*PI()*(MOD(($B65-今月バイオリズム!$B$4),E$2))/E$2)","v":-0.69007901148211204},"↓","低調期（充電期）","下降中","↑","高調期（活動期）","上昇中","↑","低調期（充電期）","上昇中",-0.65741202141910882,"↑","低調期（充電期）","上昇中",{"$error":"#REF!"},{"$error":"#REF!"},{"$f":"SIN(2*PI()*(MOD(($T65-今月バイオリズム!$B$4),U$2))/U$2)","v":{"$error":"#REF!"}},{"$f":"SIN(2*PI()*(MOD(($T65-今月バイオリズム!$B$4),V$2))/V$2)","v":{"$error":"#REF!"}},{"$f":"SIN(2*PI()*(MOD(($T65-今月バイオリズム!$B$4),W$2))/W$2)","v":{"$error":"#REF!"}},null,{"$error":"#REF!"},null,null,{"$error":"#REF!"},null,null,{"$error":"#REF!"},null,{"$error":"#REF!"}]
["1900-03-03","1900-03-03",{"$f":"SIN(2*PI()*(MOD(($B66-今月バイオリズム!$B$4),C$2))/C$2)","v":-0.99766876919053926},{"$f":"SIN(2*PI()*(MOD(($B66-今月バイオリズム!$B$4),D$2))/D$2)","v":1},{"$f":"SIN(2*PI()*(MOD(($B66-今月バイオリズム!$B$4),E$2))/E$2)","v":-0.54064081745559822},"▲","低調期ピーク","下降中","▽","高調期ピーク","下降中","↑","低調期（充電期）","上昇中",-0.53830958664613748,"↑","低調期（充電期）","上昇中",{"$error":"#REF!"},{"$error":"#REF!"},{"$f":"SIN(2*PI()*(MOD(($T66-今月バイオリズム!$B$4),U$2))/U$2)","v":{"$error":"#REF!"}},{"$f":"SIN(2*PI()*(MOD(($T66-今月バイオリズム!$B$4),V$2))/V$2)","v":{"$error":"#REF!"}},{"$f":"SIN(2*PI()*(MOD(($T66-今月バイオリズム!$B$4),W$2))/W$2)","v":{"$error":"#REF!"}},null,{"$error":"#REF!"},null,null,{"$error":"#REF!"},null,null,{"$error":"#REF!"},null,{"$error":"#REF!"}]
["1900-03-04","1900-03-04",{"$f":"SIN(2*PI()*(MOD(($B67-今月バイオリズム!$B$4),C$2))/C$2)","v":-0.97908408768232302},{"$f":"SIN(2*PI()*(MOD(($B67-今月バイオリズム!$B$4),D$2))/D$2)","v":0.97492791218182362},{"$f":"SIN(2*PI()*(MOD(($B67-今月バイオリズム!$B$4),E$2))/E$2)","v":-0.37166245566032807},"↑","低調期（充電期）","上昇中","↓","高調期（活動期）","下降中","↑","低調期（充電期）","上昇中",-0.37581863116082748,"↑","低調期（充電期）","上昇中",{"$error":"#REF!"},{"$error":"#REF!"},{"$f":"SIN(2*PI()*(MOD(($T67-今月バイオリズム!$B$4),U$2))/U$2)","v":{"$error":"#REF!"}},{"$f":"SIN(2*PI()*(MOD(($T67-今月バイオリズム!$B$4),V$2))/V$2)","v":{"$error":"#REF!"}},{"$f":"SIN(2*PI()*(MOD(($T67-今月バイオリズム!$B$4),W$2))/W$2)","v":{"$error":"#REF!"}},null,{"$error":"#REF!"},null,null,{"$error":"#REF!"},null,null,{"$error":"#REF!"},null,{"$error":"#REF!"}]
["1900-03-05","1900-03-05",{"$f":"SIN(2*PI()*(MOD(($B68-今月バイオリズム!$B$4),C$2))/C$2)","v":-0.88788521840237555},{"$f":"SIN(2*PI()*(MOD(($B68-今月バイオリズム!$B$4),D$2))/D$2)","v":0.90096886790241915},{"$f":"SIN(2*PI()*(MOD(($B68-今月バイオリズム!$B$4),E$2))/E$2)","v":-0.18925124436041063},"↑","低調期（充電期）","上昇中","↓","高調期（活動期）","下降中","↑","低調期（充電期）","上昇中",-0.17616759486036704,"↑","低調期（充電期）","上昇中",{"$error":"#REF!"},{"$error":"#REF!"},{"$f":"SIN(2*PI()*(MOD(($T68-今月バイオリズム!$B$4),U$2))/U$2)","v":{"$error":"#REF!"}},{"$f":"SIN(2*PI()*(MOD(($T68-今月バイオリズム!$B$4),V$2))/V$2)","v":{"$error":"#REF!"}},{"$f":"SIN(2*PI()*(MOD(($T68-今月バイオリズム!$B$4),W$2))/W$2)","v":{"$error":"#REF!"}},null,{"$error":"#REF!"},null,null,{"$error":"#REF!"},null,null,{"$error":"#REF!"},null,{"$error":"#REF!"}]
[{"$f":"B69","v":"1900-03-06"},"1900-03-06",{"$f":"SIN(2*PI()*(MOD(($B69-今月バイオリズム!$B$4),C$2))/C$2)","v":-0.73083596427812403},{"$f":"SIN(2*PI()*(MOD(($B69-今月バイオリズム!$B$4),D$2))/D$2)","v":0.78183148246802991},{"$f":"SIN(2*PI()*(MOD(($B69-今月バイオリズム!$B$4),E$2))/E$2)","v":0},"↑","低調期（充電期）","上昇中",{"$f":"IF(D69>0,IF(D68<D69,IF(D70<D69,\"▽\",\"↑\"),\"↓\"),IF(D68>D69,IF(D70>D69,\"▲\",\"↓\"),\"↑\"))","v":"↓"},{"$f":"IF(OR(AND(D68<=0,D69>=0),AND(D68>=0,D69<=0)),\"要注意\",IF(D69>0,IF(I69=\"▽\",\"高調期ピーク\",\"高調期（活動期）\"),IF(I69=\"▲\",\"低調期ピーク\",\"低調期（充電期）\")))","v":"高調期（活動期）"},"下降中",{"$f":"IF(E69>0,IF(E68<E69,IF(E70<E69,\"▽\",\"↑\"),\"↓\"),IF(E68>E69,IF(E70>E69,\"▲\",\"↓\"),\"↑\"))","v":"↑"},{"$f":"IF(OR(AND(E68<=0,E69>=0),AND(E68>=0,E69<=0)),\"要注意\",IF(E69>0,IF(L69=\"▽\",\"高調期ピーク\",\"高調期（活動期）\"),IF(L69=\"▲\",\"低調期ピーク\",\"低調期（充電期）\")))","v":"要注意"},"",{"$f":"SUM(C69:E69)","v":5.0995518189905886E-2},{"$f":"IF(O69>0,IF(O68<O69,IF(O70<O69,\"▽\",\"↑\"),\"↓\"),IF(O68>O69,IF(O70>O69,\"▲\",\"↓\"),\"↑\"))","v":"↑"},"要注意","",{"$error":"#REF!"},{"$error":"#REF!"},{"$f":"SIN(2*PI()*(MOD(($T69-今月バイオリズム!$B$4),U$2))/U$2)","v":{"$error":"#REF!"}},{"$f":"SIN(2*PI()*(MOD(($T69-今月バイオリズム!$B$4),V$2))/V$2)","v":{"$error":"#REF!"}},{"$f":"SIN(2*PI()*(MOD(($T69-今月バイオリズム!$B$4),W$2))/W$2)","v":{"$error":"#REF!"}},null,{"$error":"#REF!"},null,null,{"$error":"#REF!"},null,null,{"$error":"#REF!"},null,{"$error":"#REF!"}]
["1900-03-07",{"$f":"B69+1","v":"1900-03-07"},{"$f":"SIN(2*PI()*(MOD(($B70-今月バイオリズム!$B$4),C$2))/C$2)","v":-0.51958395003543356},{"$f":"SIN(2*PI()*(MOD(($B70-今月バイオリズム!$B$4),D$2))/D$2)","v":0.62348980185873393},{"$f":"SIN(2*PI()*(MOD(($B70-今月バイオリズム!$B$4),E$2))/E$2)","v":0.18925124436041019},"↑",{"$f":"IF(OR(AND(C69<=0,C70>=0),AND(C69>=0,C70<=0)),\"要注意\",IF(C70>0,IF(F70=\"▽\",\"高調期ピーク\",\"高調期（活動期）\"),IF(F70=\"▲\",\"低調期ピーク\",\"低調期（充電期）\")))","v":"低調期（充電期）"},"上昇中","↓","高調期（活動期）",{"$f":"IF(J70=\"要注意\",\"\",IF(I70=\"↑\",\"上昇中\",\"下降中\"))","v":"下降中"},"↑","要注意",{"$f":"IF(M70=\"要注意\",\"\",IF(L70=\"↑\",\"上昇中\",\"下降中\"))","v":""},0.29315709618371055,"↑","高調期（活動期）",{"$f":"IF(Q70=\"要注意\",\"\",IF(P70=\"↑\",\"上昇中\",\"下降中\"))","v":"上昇中"},{"$error":"#REF!"},{"$f":"T69+1","v":{"$error":"#REF!"}},{"$f":"SIN(2*PI()*(MOD(($T70-今月バイオリズム!$B$4),U$2))/U$2)","v":{"$error":"#REF!"}},{"$f":"SIN(2*PI()*(MOD(($T70-今月バイオリズム!$B$4),V$2))/V$2)","v":{"$error":"#REF!"}},{"$f":"SIN(2*PI()*(MOD(($T70-今月バイオリズム!$B$4),W$2))/W$2)","v":{"$error":"#REF!"}},null,{"$error":"#REF!"},null,null,{"$error":"#REF!"},null,null,{"$error":"#REF!"},null,{"$error":"#REF!"}]
["1900-03-08","1900-03-08",{"$f":"SIN(2*PI()*(MOD(($B71-今月バイオリズム!$B$4),C$2))/C$2)","v":-0.26979677115702522},{"$f":"SIN(2*PI()*(MOD(($B71-今月バイオリズム!$B$4),D$2))/D$2)","v":0.43388373911755823},{"$f":"SIN(2*PI()*(MOD(($B71-今月バイオリズム!$B$4),E$2))/E$2)","v":0.37166245566032752},"↑","低調期（充電期）","上昇中","↓","高調期（活動期）","下降中","↑","高調期（活動期）","上昇中",0.53574942362086053,"↑",{"$f":"IF(OR(AND(O70<=0,O71>=0),AND(O70>=0,O71<=0)),\"要注意\",IF(O71>0,IF(P71=\"▽\",\"高調期ピーク\",\"高調期（活動期）\"),IF(P71=\"▲\",\"低調期ピーク\",\"低調期（充電期）\")))","v":"高調期（活動期）"},"上昇中",{"$error":"#REF!"},{"$error":"#REF!"},{"$f":"SIN(2*PI()*(MOD(($T71-今月バイオリズム!$B$4),U$2))/U$2)","v":{"$error":"#REF!"}},{"$f":"SIN(2*PI()*(MOD(($T71-今月バイオリズム!$B$4),V$2))/V$2)","v":{"$error":"#REF!"}},{"$f":"SIN(2*PI()*(MOD(($T71-今月バイオリズム!$B$4),W$2))/W$2)","v":{"$error":"#REF!"}},null,{"$error":"#REF!"},null,null,{"$error":"#REF!"},null,null,{"$error":"#REF!"},null,{"$error":"#REF!"}]
["1900-03-09","1900-03-09",{"$f":"SIN(2*PI()*(MOD(($B72-今月バイオリズム!$B$4),C$2))/C$2)","v":0},{"$f":"SIN(2*PI()*(MOD(($B72-今月バイオリズム!$B$4),D$2))/D$2)","v":0.22252093395631409},{"$f":"SIN(2*PI()*(MOD(($B72-今月バイオリズム!$B$4),E$2))/E$2)","v":0.54064081745559756},"↑","要注意","","↓","高調期（活動期）","下降中","↑","高調期（活動期）","上昇中",0.76316175141191167,"↑","高調期（活動期）","上昇中",{"$error":"#REF!"},{"$error":"#REF!"},{"$f":"SIN(2*PI()*(MOD(($T72-今月バイオリズム!$B$4),U$2))/U$2)","v":{"$error":"#REF!"}},{"$f":"SIN(2*PI()*(MOD(($T72-今月バイオリズム!$B$4),V$2))/V$2)","v":{"$error":"#REF!"}},{"$f":"SIN(2*PI()*(MOD(($T72-今月バイオリズム!$B$4),W$2))/W$2)","v":{"$error":"#REF!"}},null,{"$error":"#REF!"},null,null,{"$error":"#REF!"},null,null,{"$error":"#REF!"},null,{"$error":"#REF!"}]
["1900-03-10","1900-03-10",{"$f":"SIN(2*PI()*(MOD(($B73-今月バイオリズム!$B$4),C$2))/C$2)","v":0.26979677115702427},{"$f":"SIN(2*PI()*(MOD(($B73-今月バイオリズム!$B$4),D$2))/D$2)","v":1.22514845490862E-16},{"$f":"SIN(2*PI()*(MOD(($B73-今月バイオリズム!$B$4),E$2))/E$2)","v":0.69007901148211193},"↑","要注意","","↓","高調期（活動期）","下降中","↑","高調期（活動期）","上昇中",0.95987578263913631,"↑","高調期（活動期）","上昇中",{"$error":"#REF!"},{"$error":"#REF!"},{"$f":"SIN(2*PI()*(MOD(($T73-今月バイオリズム!$B$4),U$2))/U$2)","v":{"$error":"#REF!"}},{"$f":"SIN(2*PI()*(MOD(($T73-今月バイオリズム!$B$4),V$2))/V$2)","v":{"$error":"#REF!"}},{"$f":"SIN(2*PI()*(MOD(($T73-今月バイオリズム!$B$4),W$2))/W$2)","v":{"$error":"#REF!"}},null,{"$error":"#REF!"},null,null,{"$error":"#REF!"},null,null,{"$error":"#REF!"},null,{"$error":"#REF!"}]
["1900-03-11","1900-03-11",{"$f":"SIN(2*PI()*(MOD(($B74-今月バイオリズム!$B$4),C$2))/C$2)","v":0.51958395003543356},{"$f":"SIN(2*PI()*(MOD(($B74-今月バイオリズム!$B$4),D$2))/D$2)","v":-0.22252093395631384},{"$f":"SIN(2*PI()*(MOD(($B74-今月バイオリズム!$B$4),E$2))/E$2)","v":0.81457595205033573},"↑","高調期（活動期）","上昇中","↓","要注意","","↑","高調期（活動期）","上昇中",1.1116389681294554,"↑","高調期（活動期）","上昇中",{"$error":"#REF!"},{"$error":"#REF!"},{"$f":"SIN(2*PI()*(MOD(($T74-今月バイオリズム!$B$4),U$2))/U$2)","v":{"$error":"#REF!"}},{"$f":"SIN(2*PI()*(MOD(($T74-今月バイオリズム!$B$4),V$2))/V$2)","v":{"$error":"#REF!"}},{"$f":"SIN(2*PI()*(MOD(($T74-今月バイオリズム!$B$4),W$2))/W$2)","v":{"$error":"#REF!"}},null,{"$error":"#REF!"},null,null,{"$error":"#REF!"},null,null,{"$error":"#REF!"},null,{"$error":"#REF!"}]
["1900-03-12","1900-03-12",{"$f":"SIN(2*PI()*(MOD(($B75-今月バイオリズム!$B$4),C$2))/C$2)","v":0.73083596427812403},{"$f":"SIN(2*PI()*(MOD(($B75-今月バイオリズム!$B$4),D$2))/D$2)","v":-0.43388373911755801},{"$f":"SIN(2*PI()*(MOD(($B75-今月バイオリズム!$B$4),E$2))/E$2)","v":0.90963199535451833},{"$f":"IF(C75>0,IF(C74<C75,IF(C76<C75,\"▽\",\"↑\"),\"↓\"),IF(C74>C75,IF(C76>C75,\"▲\",\"↓\"),\"↑\"))","v":"↑"},"高調期（活動期）",{"$f":"IF(G75=\"要注意\",\"\",IF(F75=\"↑\",\"上昇中\",\"下降中\"))","v":"上昇中"},"↓","低調期（充電期）","下降中","↑","高調期（活動期）","上昇中",1.2065842205150843,"↑","高調期（活動期）","上昇中",{"$error":"#REF!"},{"$error":"#REF!"},{"$f":"SIN(2*PI()*(MOD(($T75-今月バイオリズム!$B$4),U$2))/U$2)","v":{"$error":"#REF!"}},{"$f":"SIN(2*PI()*(MOD(($T75-今月バイオリズム!$B$4),V$2))/V$2)","v":{"$error":"#REF!"}},{"$f":"SIN(2*PI()*(MOD(($T75-今月バイオリズム!$B$4),W$2))/W$2)","v":{"$error":"#REF!"}},null,{"$error":"#REF!"},null,null,{"$error":"#REF!"},null,null,{"$error":"#REF!"},null,{"$error":"#REF!"}]
["1900-03-13","1900-03-13",{"$f":"SIN(2*PI()*(MOD(($B76-今月バイオリズム!$B$4),C$2))/C$2)","v":0.88788521840237522},{"$f":"SIN(2*PI()*(MOD(($B76-今月バイオリズム!$B$4),D$2))/D$2)","v":-0.62348980185873382},{"$f":"SIN(2*PI()*(MOD(($B76-今月バイオリズム!$B$4),E$2))/E$2)","v":0.97181156832354165},"↑","高調期（活動期）","上昇中","↓","低調期（充電期）","下降中","↑","高調期（活動期）","上昇中",1.2362069848671831,"▽","高調期ピーク","下降中",{"$error":"#REF!"},{"$error":"#REF!"},{"$f":"SIN(2*PI()*(MOD(($T76-今月バイオリズム!$B$4),U$2))/U$2)","v":{"$error":"#REF!"}},{"$f":"SIN(2*PI()*(MOD(($T76-今月バイオリズム!$B$4),V$2))/V$2)","v":{"$error":"#REF!"}},{"$f":"SIN(2*PI()*(MOD(($T76-今月バイオリズム!$B$4),W$2))/W$2)","v":{"$error":"#REF!"}},null,{"$error":"#REF!"},null,null,{"$error":"#REF!"},null,null,{"$error":"#REF!"},null,{"$error":"#REF!"}]
["1900-03-14","1900-03-14",{"$f":"SIN(2*PI()*(MOD(($B77-今月バイオリズム!$B$4),C$2))/C$2)","v":0.97908408768232291},{"$f":"SIN(2*PI()*(MOD(($B77-今月バイオリズム!$B$4),D$2))/D$2)","v":-0.78183148246802969},{"$f":"SIN(2*PI()*(MOD(($B77-今月バイオリズム!$B$4),E$2))/E$2)","v":0.99886733918300796},"↑","高調期（活動期）","上昇中","↓","低調期（充電期）","下降中","▽","高調期ピーク","下降中",1.1961199443973012,"↓","高調期（活動期）","下降中",{"$error":"#REF!"},{"$error":"#REF!"},{"$f":"SIN(2*PI()*(MOD(($T77-今月バイオリズム!$B$4),U$2))/U$2)","v":{"$error":"#REF!"}},{"$f":"SIN(2*PI()*(MOD(($T77-今月バイオリズム!$B$4),V$2))/V$2)","v":{"$error":"#REF!"}},{"$f":"SIN(2*PI()*(MOD(($T77-今月バイオリズム!$B$4),W$2))/W$2)","v":{"$error":"#REF!"}},null,{"$error":"#REF!"},null,null,{"$error":"#REF!"},null,null,{"$error":"#REF!"},null,{"$error":"#REF!"}]
["1900-03-15","1900-03-15",{"$f":"SIN(2*PI()*(MOD(($B78-今月バイオリズム!$B$4),C$2))/C$2)","v":0.99766876919053915},{"$f":"SIN(2*PI()*(MOD(($B78-今月バイオリズム!$B$4),D$2))/D$2)","v":-0.90096886790241903},{"$f":"SIN(2*PI()*(MOD(($B78-今月バイオリズム!$B$4),E$2))/E$2)","v":0.9898214418809328},"▽","高調期ピーク","下降中","↓","低調期（充電期）","下降中","↓","高調期（活動期）","下降中",1.086521343169053,"↓","高調期（活動期）","下降中",{"$error":"#REF!"},{"$error":"#REF!"},{"$f":"SIN(2*PI()*(MOD(($T78-今月バイオリズム!$B$4),U$2))/U$2)","v":{"$error":"#REF!"}},{"$f":"SIN(2*PI()*(MOD(($T78-今月バイオリズム!$B$4),V$2))/V$2)","v":{"$error":"#REF!"}},{"$f":"SIN(2*PI()*(MOD(($T78-今月バイオリズム!$B$4),W$2))/W$2)","v":{"$error":"#REF!"}},null,{"$error":"#REF!"},null,null,{"$error":"#REF!"},null,null,{"$error":"#REF!"},null,{"$error":"#REF!"}]
["1900-03-16","1900-03-16",{"$f":"SIN(2*PI()*(MOD(($B79-今月バイオリズム!$B$4),C$2))/C$2)","v":0.94226092211882051},{"$f":"SIN(2*PI()*(MOD(($B79-今月バイオリズム!$B$4),D$2))/D$2)","v":-0.97492791218182362},{"$f":"SIN(2*PI()*(MOD(($B79-今月バイオリズム!$B$4),E$2))/E$2)","v":0.94500081871466846},"↓","高調期（活動期）","下降中","↓","低調期（充電期）","下降中","↓","高調期（活動期）","下降中",0.91233382865166535,"↓","高調期（活動期）","下降中",{"$error":"#REF!"},{"$error":"#REF!"},{"$f":"SIN(2*PI()*(MOD(($T79-今月バイオリズム!$B$4),U$2))/U$2)","v":{"$error":"#REF!"}},{"$f":"SIN(2*PI()*(MOD(($T79-今月バイオリズム!$B$4),V$2))/V$2)","v":{"$error":"#REF!"}},{"$f":"SIN(2*PI()*(MOD(($T79-今月バイオリズム!$B$4),W$2))/W$2)","v":{"$error":"#REF!"}},null,{"$error":"#REF!"},null,null,{"$error":"#REF!"},null,null,{"$error":"#REF!"},null,{"$error":"#REF!"}]
["1900-03-17","1900-03-17",{"$f":"SIN(2*PI()*(MOD(($B80-今月バイオリズム!$B$4),C$2))/C$2)","v":0.81696989301044209},{"$f":"SIN(2*PI()*(MOD(($B80-今月バイオリズム!$B$4),D$2))/D$2)","v":-1},{"$f":"SIN(2*PI()*(MOD(($B80-今月バイオリズム!$B$4),E$2))/E$2)","v":0.86602540378443871},"↓","高調期（活動期）","下降中","▲","低調期ピーク","下降中","↓","高調期（活動期）","下降中",0.6829952967948808,"↓","高調期（活動期）","下降中",{"$error":"#REF!"},{"$error":"#REF!"},{"$f":"SIN(2*PI()*(MOD(($T80-今月バイオリズム!$B$4),U$2))/U$2)","v":{"$error":"#REF!"}},{"$f":"SIN(2*PI()*(MOD(($T80-今月バイオリズム!$B$4),V$2))/V$2)","v":{"$error":"#REF!"}},{"$f":"SIN(2*PI()*(MOD(($T80-今月バイオリズム!$B$4),W$2))/W$2)","v":{"$error":"#REF!"}},null,{"$error":"#REF!"},null,null,{"$error":"#REF!"},null,null,{"$error":"#REF!"},null,{"$error":"#REF!"}]
["1900-03-18","1900-03-18",{"$f":"SIN(2*PI()*(MOD(($B81-今月バイオリズム!$B$4),C$2))/C$2)","v":0.63108794432605297},{"$f":"SIN(2*PI()*(MOD(($B81-今月バイオリズム!$B$4),D$2))/D$2)","v":-0.97492791218182384},{"$f":"SIN(2*PI()*(MOD(($B81-今月バイオリズム!$B$4),E$2))/E$2)","v":0.75574957435425827},"↓","高調期（活動期）","下降中","↑","低調期（充電期）","上昇中","↓","高調期（活動期）","下降中",0.4119096064984874,"↓","高調期（活動期）","下降中",{"$error":"#REF!"},{"$error":"#REF!"},{"$f":"SIN(2*PI()*(MOD(($T81-今月バイオリズム!$B$4),U$2))/U$2)","v":{"$error":"#REF!"}},{"$f":"SIN(2*PI()*(MOD(($T81-今月バイオリズム!$B$4),V$2))/V$2)","v":{"$error":"#REF!"}},{"$f":"SIN(2*PI()*(MOD(($T81-今月バイオリズム!$B$4),W$2))/W$2)","v":{"$error":"#REF!"}},null,{"$error":"#REF!"},null,null,{"$error":"#REF!"},null,null,{"$error":"#REF!"},null,{"$error":"#REF!"}]
["1900-03-19","1900-03-19",{"$f":"SIN(2*PI()*(MOD(($B82-今月バイオリズム!$B$4),C$2))/C$2)","v":0.3984010898462414},{"$f":"SIN(2*PI()*(MOD(($B82-今月バイオリズム!$B$4),D$2))/D$2)","v":-0.90096886790241926},{"$f":"SIN(2*PI()*(MOD(($B82-今月バイオリズム!$B$4),E$2))/E$2)","v":0.61815898622060506},"↓","高調期（活動期）","下降中","↑","低調期（充電期）","上昇中","↓","高調期（活動期）","下降中",0.11559120816442714,"↓","高調期（活動期）","下降中",{"$error":"#REF!"},{"$error":"#REF!"},{"$f":"SIN(2*PI()*(MOD(($T82-今月バイオリズム!$B$4),U$2))/U$2)","v":{"$error":"#REF!"}},{"$f":"SIN(2*PI()*(MOD(($T82-今月バイオリズム!$B$4),V$2))/V$2)","v":{"$error":"#REF!"}},{"$f":"SIN(2*PI()*(MOD(($T82-今月バイオリズム!$B$4),W$2))/W$2)","v":{"$error":"#REF!"}},null,{"$error":"#REF!"},null,null,{"$error":"#REF!"},null,null,{"$error":"#REF!"},null,{"$error":"#REF!"}]
["1900-03-20","1900-03-20",{"$f":"SIN(2*PI()*(MOD(($B83-今月バイオリズム!$B$4),C$2))/C$2)","v":0.13616664909624709},{"$f":"SIN(2*PI()*(MOD(($B83-今月バイオリズム!$B$4),D$2))/D$2)","v":-0.78183148246802991},{"$f":"SIN(2*PI()*(MOD(($B83-今月バイオリズム!$B$4),E$2))/E$2)","v":0.45822652172741052},"↓","高調期（活動期）","下降中","↑","低調期（充電期）","上昇中","↓","高調期（活動期）","下降中",-0.1874383116443723,"↓","要注意","",{"$error":"#REF!"},{"$error":"#REF!"},{"$f":"SIN(2*PI()*(MOD(($T83-今月バイオリズム!$B$4),U$2))/U$2)","v":{"$error":"#REF!"}},{"$f":"SIN(2*PI()*(MOD(($T83-今月バイオリズム!$B$4),V$2))/V$2)","v":{"$error":"#REF!"}},{"$f":"SIN(2*PI()*(MOD(($T83-今月バイオリズム!$B$4),W$2))/W$2)","v":{"$error":"#REF!"}},null,{"$error":"#REF!"},null,null,{"$error":"#REF!"},null,null,{"$error":"#REF!"},null,{"$error":"#REF!"}]
["1900-03-21","1900-03-21",{"$f":"SIN(2*PI()*(MOD(($B84-今月バイオリズム!$B$4),C$2))/C$2)","v":-0.1361666490962464},{"$f":"SIN(2*PI()*(MOD(($B84-今月バイオリズム!$B$4),D$2))/D$2)","v":-0.62348980185873371},{"$f":"SIN(2*PI()*(MOD(($B84-今月バイオリズム!$B$4),E$2))/E$2)","v":0.28173255684143006},"↓","要注意","","↑","低調期（充電期）","上昇中","↓","高調期（活動期）","下降中",-0.47792389411355007,"↓","低調期（充電期）","下降中",{"$error":"#REF!"},{"$error":"#REF!"},{"$f":"SIN(2*PI()*(MOD(($T84-今月バイオリズム!$B$4),U$2))/U$2)","v":{"$error":"#REF!"}},{"$f":"SIN(2*PI()*(MOD(($T84-今月バイオリズム!$B$4),V$2))/V$2)","v":{"$error":"#REF!"}},{"$f":"SIN(2*PI()*(MOD(($T84-今月バイオリズム!$B$4),W$2))/W$2)","v":{"$error":"#REF!"}},null,{"$error":"#REF!"},null,null,{"$error":"#REF!"},null,null,{"$error":"#REF!"},null,{"$error":"#REF!"}]
["1900-03-22","1900-03-22",{"$f":"SIN(2*PI()*(MOD(($B85-今月バイオリズム!$B$4),C$2))/C$2)","v":-0.39840108984624156},{"$f":"SIN(2*PI()*(MOD(($B85-今月バイオリズム!$B$4),D$2))/D$2)","v":-0.43388373911755751},{"$f":"SIN(2*PI()*(MOD(($B85-今月バイオリズム!$B$4),E$2))/E$2)","v":9.505604330418288E-2},"↓","低調期（充電期）","下降中","↑","低調期（充電期）","上昇中","↓","高調期（活動期）","下降中",-0.73722878565961625,"↓","低調期（充電期）","下降中",{"$error":"#REF!"},{"$error":"#REF!"},{"$f":"SIN(2*PI()*(MOD(($T85-今月バイオリズム!$B$4),U$2))/U$2)","v":{"$error":"#REF!"}},{"$f":"SIN(2*PI()*(MOD(($T85-今月バイオリズム!$B$4),V$2))/V$2)","v":{"$error":"#REF!"}},{"$f":"SIN(2*PI()*(MOD(($T85-今月バイオリズム!$B$4),W$2))/W$2)","v":{"$error":"#REF!"}},null,{"$error":"#REF!"},null,null,{"$error":"#REF!"},null,null,{"$error":"#REF!"},null,{"$error":"#REF!"}]
["1900-03-23","1900-03-23",{"$f":"SIN(2*PI()*(MOD(($B86-今月バイオリズム!$B$4),C$2))/C$2)","v":-0.63108794432605275},{"$f":"SIN(2*PI()*(MOD(($B86-今月バイオリズム!$B$4),D$2))/D$2)","v":-0.22252093395631464},{"$f":"SIN(2*PI()*(MOD(($B86-今月バイオリズム!$B$4),E$2))/E$2)","v":-9.505604330418263E-2},"↓","低調期（充電期）","下降中","↑","低調期（充電期）","上昇中","↓","要注意","",-0.94866492158655003,"↓","低調期（充電期）","下降中",{"$error":"#REF!"},{"$error":"#REF!"},{"$f":"SIN(2*PI()*(MOD(($T86-今月バイオリズム!$B$4),U$2))/U$2)","v":{"$error":"#REF!"}},{"$f":"SIN(2*PI()*(MOD(($T86-今月バイオリズム!$B$4),V$2))/V$2)","v":{"$error":"#REF!"}},{"$f":"SIN(2*PI()*(MOD(($T86-今月バイオリズム!$B$4),W$2))/W$2)","v":{"$error":"#REF!"}},null,{"$error":"#REF!"},null,null,{"$error":"#REF!"},null,null,{"$error":"#REF!"},null,{"$error":"#REF!"}]
["1900-03-24","1900-03-24",{"$f":"SIN(2*PI()*(MOD(($B87-今月バイオリズム!$B$4),C$2))/C$2)","v":-0.81696989301044198},{"$f":"SIN(2*PI()*(MOD(($B87-今月バイオリズム!$B$4),D$2))/D$2)","v":0},{"$f":"SIN(2*PI()*(MOD(($B87-今月バイオリズム!$B$4),E$2))/E$2)","v":-0.28173255684142939},"↓","低調期（充電期）","下降中","↑","要注意","","↓","低調期（充電期）","下降中",-1.0987024498518714,"↓","低調期（充電期）","下降中",{"$error":"#REF!"},{"$error":"#REF!"},{"$f":"SIN(2*PI()*(MOD(($T87-今月バイオリズム!$B$4),U$2))/U$2)","v":{"$error":"#REF!"}},{"$f":"SIN(2*PI()*(MOD(($T87-今月バイオリズム!$B$4),V$2))/V$2)","v":{"$error":"#REF!"}},{"$f":"SIN(2*PI()*(MOD(($T87-今月バイオリズム!$B$4),W$2))/W$2)","v":{"$error":"#REF!"}},null,{"$error":"#REF!"},null,null,{"$error":"#REF!"},null,null,{"$error":"#REF!"},null,{"$error":"#REF!"}]
["1900-03-25","1900-03-25",{"$f":"SIN(2*PI()*(MOD(($B88-今月バイオリズム!$B$4),C$2))/C$2)","v":-0.9422609221188204},{"$f":"SIN(2*PI()*(MOD(($B88-今月バイオリズム!$B$4),D$2))/D$2)","v":0.22252093395631439},{"$f":"SIN(2*PI()*(MOD(($B88-今月バイオリズム!$B$4),E$2))/E$2)","v":-0.45822652172740991},"↓","低調期（充電期）","下降中","↑","要注意","","↓","低調期（充電期）","下降中",-1.1779665098899159,"↓","低調期（充電期）","下降中",{"$error":"#REF!"},{"$error":"#REF!"},{"$f":"SIN(2*PI()*(MOD(($T88-今月バイオリズム!$B$4),U$2))/U$2)","v":{"$error":"#REF!"}},{"$f":"SIN(2*PI()*(MOD(($T88-今月バイオリズム!$B$4),V$2))/V$2)","v":{"$error":"#REF!"}},{"$f":"SIN(2*PI()*(MOD(($T88-今月バイオリズム!$B$4),W$2))/W$2)","v":{"$error":"#REF!"}},null,{"$error":"#REF!"},null,null,{"$error":"#REF!"},null,null,{"$error":"#REF!"},null,{"$error":"#REF!"}]
["1900-03-26","1900-03-26",{"$f":"SIN(2*PI()*(MOD(($B89-今月バイオリズム!$B$4),C$2))/C$2)","v":-0.99766876919053926},{"$f":"SIN(2*PI()*(MOD(($B89-今月バイオリズム!$B$4),D$2))/D$2)","v":0.43388373911755812},{"$f":"SIN(2*PI()*(MOD(($B89-今月バイオリズム!$B$4),E$2))/E$2)","v":-0.61815898622060528},"▲","低調期ピーク","下降中","↑","高調期（活動期）","上昇中","↓","低調期（充電期）","下降中",-1.1819440162935866,"▲","低調期ピーク","下降中",{"$error":"#REF!"},{"$error":"#REF!"},{"$f":"SIN(2*PI()*(MOD(($T89-今月バイオリズム!$B$4),U$2))/U$2)","v":{"$error":"#REF!"}},{"$f":"SIN(2*PI()*(MOD(($T89-今月バイオリズム!$B$4),V$2))/V$2)","v":{"$error":"#REF!"}},{"$f":"SIN(2*PI()*(MOD(($T89-今月バイオリズム!$B$4),W$2))/W$2)","v":{"$error":"#REF!"}},null,{"$error":"#REF!"},null,null,{"$error":"#REF!"},null,null,{"$error":"#REF!"},null,{"$error":"#REF!"}]
["1900-03-27","1900-03-27",{"$f":"SIN(2*PI()*(MOD(($B90-今月バイオリズム!$B$4),C$2))/C$2)","v":-0.97908408768232302},{"$f":"SIN(2*PI()*(MOD(($B90-今月バイオリズム!$B$4),D$2))/D$2)","v":0.62348980185873348},{"$f":"SIN(2*PI()*(MOD(($B90-今月バイオリズム!$B$4),E$2))/E$2)","v":-0.75574957435425849},"↑","低調期（充電期）","上昇中","↑","高調期（活動期）","上昇中","↓","低調期（充電期）","下降中",-1.111343860177848,"↑","低調期（充電期）","上昇中",{"$error":"#REF!"},{"$error":"#REF!"},{"$f":"SIN(2*PI()*(MOD(($T90-今月バイオリズム!$B$4),U$2))/U$2)","v":{"$error":"#REF!"}},{"$f":"SIN(2*PI()*(MOD(($T90-今月バイオリズム!$B$4),V$2))/V$2)","v":{"$error":"#REF!"}},{"$f":"SIN(2*PI()*(MOD(($T90-今月バイオリズム!$B$4),W$2))/W$2)","v":{"$error":"#REF!"}},null,{"$error":"#REF!"},null,null,{"$error":"#REF!"},null,null,{"$error":"#REF!"},null,{"$error":"#REF!"}]
["1900-03-28","1900-03-28",{"$f":"SIN(2*PI()*(MOD(($B91-今月バイオリズム!$B$4),C$2))/C$2)","v":-0.88788521840237555},{"$f":"SIN(2*PI()*(MOD(($B91-今月バイオリズム!$B$4),D$2))/D$2)","v":0.7818314824680298},{"$f":"SIN(2*PI()*(MOD(($B91-今月バイオリズム!$B$4),E$2))/E$2)","v":-0.86602540378443837},"↑","低調期（充電期）","上昇中","↑","高調期（活動期）","上昇中","↓","低調期（充電期）","下降中",-0.97207913971878412,"↑","低調期（充電期）","上昇中",{"$error":"#REF!"},{"$error":"#REF!"},{"$f":"SIN(2*PI()*(MOD(($T91-今月バイオリズム!$B$4),U$2))/U$2)","v":{"$error":"#REF!"}},{"$f":"SIN(2*PI()*(MOD(($T91-今月バイオリズム!$B$4),V$2))/V$2)","v":{"$error":"#REF!"}},{"$f":"SIN(2*PI()*(MOD(($T91-今月バイオリズム!$B$4),W$2))/W$2)","v":{"$error":"#REF!"}},null,{"$error":"#REF!"},null,null,{"$error":"#REF!"},null,null,{"$error":"#REF!"},null,{"$error":"#REF!"}]
["1900-03-29","1900-03-29",{"$f":"SIN(2*PI()*(MOD(($B92-今月バイオリズム!$B$4),C$2))/C$2)","v":-0.73083596427812403},{"$f":"SIN(2*PI()*(MOD(($B92-今月バイオリズム!$B$4),D$2))/D$2)","v":0.90096886790241915},{"$f":"SIN(2*PI()*(MOD(($B92-今月バイオリズム!$B$4),E$2))/E$2)","v":-0.94500081871466834},"↑","低調期（充電期）","上昇中","↑","高調期（活動期）","上昇中","↓","低調期（充電期）","下降中",-0.77486791509037323,"↑","低調期（充電期）","上昇中",{"$error":"#REF!"},{"$error":"#REF!"},{"$f":"SIN(2*PI()*(MOD(($T92-今月バイオリズム!$B$4),U$2))/U$2)","v":{"$error":"#REF!"}},{"$f":"SIN(2*PI()*(MOD(($T92-今月バイオリズム!$B$4),V$2))/V$2)","v":{"$error":"#REF!"}},{"$f":"SIN(2*PI()*(MOD(($T92-今月バイオリズム!$B$4),W$2))/W$2)","v":{"$error":"#REF!"}},null,{"$error":"#REF!"},null,null,{"$error":"#REF!"},null,null,{"$error":"#REF!"},null,{"$error":"#REF!"}]
["1900-03-30","1900-03-30",{"$f":"SIN(2*PI()*(MOD(($B93-今月バイオリズム!$B$4),C$2))/C$2)","v":-0.51958395003543356},{"$f":"SIN(2*PI()*(MOD(($B93-今月バイオリズム!$B$4),D$2))/D$2)","v":0.97492791218182362},{"$f":"SIN(2*PI()*(MOD(($B93-今月バイオリズム!$B$4),E$2))/E$2)","v":-0.98982144188093268},"↑","低調期（充電期）","上昇中","↑","高調期（活動期）","上昇中","↓","低調期（充電期）","下降中",-0.53447747973454263,"↑","低調期（充電期）","上昇中",{"$error":"#REF!"},{"$error":"#REF!"},{"$f":"SIN(2*PI()*(MOD(($T93-今月バイオリズム!$B$4),U$2))/U$2)","v":{"$error":"#REF!"}},{"$f":"SIN(2*PI()*(MOD(($T93-今月バイオリズム!$B$4),V$2))/V$2)","v":{"$error":"#REF!"}},{"$f":"SIN(2*PI()*(MOD(($T93-今月バイオリズム!$B$4),W$2))/W$2)","v":{"$error":"#REF!"}},null,{"$error":"#REF!"},null,null,{"$error":"#REF!"},null,null,{"$error":"#REF!"},null,{"$error":"#REF!"}]
["1900-03-31","1900-03-31",{"$f":"SIN(2*PI()*(MOD(($B94-今月バイオリズム!$B$4),C$2))/C$2)","v":-0.26979677115702522},{"$f":"SIN(2*PI()*(MOD(($B94-今月バイオリズム!$B$4),D$2))/D$2)","v":1},{"$f":"SIN(2*PI()*(MOD(($B94-今月バイオリズム!$B$4),E$2))/E$2)","v":-0.99886733918300796},"↑","低調期（充電期）","上昇中","▽","高調期ピーク","下降中","▲","低調期ピーク","下降中",-0.26866411034003324,"↑","低調期（充電期）","上昇中",{"$error":"#REF!"},{"$error":"#REF!"},{"$f":"SIN(2*PI()*(MOD(($T94-今月バイオリズム!$B$4),U$2))/U$2)","v":{"$error":"#REF!"}},{"$f":"SIN(2*PI()*(MOD(($T94-今月バイオリズム!$B$4),V$2))/V$2)","v":{"$error":"#REF!"}},{"$f":"SIN(2*PI()*(MOD(($T94-今月バイオリズム!$B$4),W$2))/W$2)","v":{"$error":"#REF!"}},null,{"$error":"#REF!"},null,null,{"$error":"#REF!"},null,null,{"$error":"#REF!"},null,{"$error":"#REF!"}]
["1900-04-01","1900-04-01",{"$f":"SIN(2*PI()*(MOD(($B95-今月バイオリズム!$B$4),C$2))/C$2)","v":0},{"$f":"SIN(2*PI()*(MOD(($B95-今月バイオリズム!$B$4),D$2))/D$2)","v":0.97492791218182362},{"$f":"SIN(2*PI()*(MOD(($B95-今月バイオリズム!$B$4),E$2))/E$2)","v":-0.97181156832354165},"↑","要注意","","↓","高調期（活動期）","下降中","↑","低調期（充電期）","上昇中",3.1163438582819669E-3,"↑","要注意","",{"$error":"#REF!"},{"$error":"#REF!"},{"$f":"SIN(2*PI()*(MOD(($T95-今月バイオリズム!$B$4),U$2))/U$2)","v":{"$error":"#REF!"}},{"$f":"SIN(2*PI()*(MOD(($T95-今月バイオリズム!$B$4),V$2))/V$2)","v":{"$error":"#REF!"}},{"$f":"SIN(2*PI()*(MOD(($T95-今月バイオリズム!$B$4),W$2))/W$2)","v":{"$error":"#REF!"}},null,{"$error":"#REF!"},null,null,{"$error":"#REF!"},null,null,{"$error":"#REF!"},null,{"$error":"#REF!"}]
["1900-04-02","1900-04-02",{"$f":"SIN(2*PI()*(MOD(($B96-今月バイオリズム!$B$4),C$2))/C$2)","v":0.26979677115702427},{"$f":"SIN(2*PI()*(MOD(($B96-今月バイオリズム!$B$4),D$2))/D$2)","v":0.90096886790241915},{"$f":"SIN(2*PI()*(MOD(($B96-今月バイオリズム!$B$4),E$2))/E$2)","v":-0.90963199535451855},"↑","要注意","","↓","高調期（活動期）","下降中","↑","低調期（充電期）","上昇中",0.26113364370492487,"↑","高調期（活動期）","上昇中",{"$error":"#REF!"},{"$error":"#REF!"},{"$f":"SIN(2*PI()*(MOD(($T96-今月バイオリズム!$B$4),U$2))/U$2)","v":{"$error":"#REF!"}},{"$f":"SIN(2*PI()*(MOD(($T96-今月バイオリズム!$B$4),V$2))/V$2)","v":{"$error":"#REF!"}},{"$f":"SIN(2*PI()*(MOD(($T96-今月バイオリズム!$B$4),W$2))/W$2)","v":{"$error":"#REF!"}},null,{"$error":"#REF!"},null,null,{"$error":"#REF!"},null,null,{"$error":"#REF!"},null,{"$error":"#REF!"}]
["1900-04-03","1900-04-03",{"$f":"SIN(2*PI()*(MOD(($B97-今月バイオリズム!$B$4),C$2))/C$2)","v":0.51958395003543356},{"$f":"SIN(2*PI()*(MOD(($B97-今月バイオリズム!$B$4),D$2))/D$2)","v":0.78183148246802991},{"$f":"SIN(2*PI()*(MOD(($B97-今月バイオリズム!$B$4),E$2))/E$2)","v":-0.81457595205033584},"↑","高調期（活動期）","上昇中","↓","高調期（活動期）","下降中","↑","低調期（充電期）","上昇中",0.48683948045312764,"↑","高調期（活動期）","上昇中",{"$error":"#REF!"},{"$error":"#REF!"},{"$f":"SIN(2*PI()*(MOD(($T97-今月バイオリズム!$B$4),U$2))/U$2)","v":{"$error":"#REF!"}},{"$f":"SIN(2*PI()*(MOD(($T97-今月バイオリズム!$B$4),V$2))/V$2)","v":{"$error":"#REF!"}},{"$f":"SIN(2*PI()*(MOD(($T97-今月バイオリズム!$B$4),W$2))/W$2)","v":{"$error":"#REF!"}},null,{"$error":"#REF!"},null,null,{"$error":"#REF!"},null,null,{"$error":"#REF!"},null,{"$error":"#REF!"}]
["1900-04-04","1900-04-04",{"$f":"SIN(2*PI()*(MOD(($B98-今月バイオリズム!$B$4),C$2))/C$2)","v":0.73083596427812403},{"$f":"SIN(2*PI()*(MOD(($B98-今月バイオリズム!$B$4),D$2))/D$2)","v":0.62348980185873393},{"$f":"SIN(2*PI()*(MOD(($B98-今月バイオリズム!$B$4),E$2))/E$2)","v":-0.69007901148211204},"↑","高調期（活動期）","上昇中","↓","高調期（活動期）","下降中","↑","低調期（充電期）","上昇中",0.66424675465474592,"↑","高調期（活動期）","上昇中",{"$error":"#REF!"},{"$error":"#REF!"},{"$f":"SIN(2*PI()*(MOD(($T98-今月バイオリズム!$B$4),U$2))/U$2)","v":{"$error":"#REF!"}},{"$f":"SIN(2*PI()*(MOD(($T98-今月バイオリズム!$B$4),V$2))/V$2)","v":{"$error":"#REF!"}},{"$f":"SIN(2*PI()*(MOD(($T98-今月バイオリズム!$B$4),W$2))/W$2)","v":{"$error":"#REF!"}},null,{"$error":"#REF!"},null,null,{"$error":"#REF!"},null,null,{"$error":"#REF!"},null,{"$error":"#REF!"}]
["1900-04-05","1900-04-05",{"$f":"SIN(2*PI()*(MOD(($B99-今月バイオリズム!$B$4),C$2))/C$2)","v":0.88788521840237522},{"$f":"SIN(2*PI()*(MOD(($B99-今月バイオリズム!$B$4),D$2))/D$2)","v":0.43388373911755823},{"$f":"SIN(2*PI()*(MOD(($B99-今月バイオリズム!$B$4),E$2))/E$2)","v":-0.54064081745559822},"↑","高調期（活動期）","上昇中","↓","高調期（活動期）","下降中","↑","低調期（充電期）","上昇中",0.78112814006433517,"↑","高調期（活動期）","上昇中",{"$f":"T99","v":{"$error":"#REF!"}},{"$error":"#REF!"},{"$f":"SIN(2*PI()*(MOD(($T99-今月バイオリズム!$B$4),U$2))/U$2)","v":{"$error":"#REF!"}},{"$f":"SIN(2*PI()*(MOD(($T99-今月バイオリズム!$B$4),V$2))/V$2)","v":{"$error":"#REF!"}},{"$f":"SIN(2*PI()*(MOD(($T99-今月バイオリズム!$B$4),W$2))/W$2)","v":{"$error":"#REF!"}},null,{"$f":"IF(OR(AND(U98<=0,U99>=0),AND(U98>=0,U99<=0)),\"要注意\",IF(U99>0,IF(X99=\"▽\",\"高調期ピーク\",\"高調期（活動期）\"),IF(X99=\"▲\",\"低調期ピーク\",\"低調期（充電期）\")))","v":{"$error":"#REF!"}},null,null,{"$f":"IF(OR(AND(V98<=0,V99>=0),AND(V98>=0,V99<=0)),\"要注意\",IF(V99>0,IF(AA99=\"▽\",\"高調期ピーク\",\"高調期（活動期）\"),IF(AA99=\"▲\",\"低調期ピーク\",\"低調期（充電期）\")))","v":{"$error":"#REF!"}},null,null,{"$f":"IF(OR(AND(W98<=0,W99>=0),AND(W98>=0,W99<=0)),\"要注意\",IF(W99>0,IF(AD99=\"▽\",\"高調期ピーク\",\"高調期（活動期）\"),IF(AD99=\"▲\",\"低調期ピーク\",\"低調期（充電期）\")))","v":{"$error":"#REF!"}},null,{"$f":"T99","v":{"$error":"#REF!"}}]
["1900-04-06","1900-04-06",{"$f":"SIN(2*PI()*(MOD(($B100-今月バイオリズム!$B$4),C$2))/C$2)","v":0.97908408768232291},{"$f":"SIN(2*PI()*(MOD(($B100-今月バイオリズム!$B$4),D$2))/D$2)","v":0.22252093395631409},{"$f":"SIN(2*PI()*(MOD(($B100-今月バイオリズム!$B$4),E$2))/E$2)","v":-0.37166245566032807},"↑","高調期（活動期）","上昇中","↓","高調期（活動期）","下降中","↑","低調期（充電期）","上昇中",0.82994256597830884,"▽","高調期ピーク","下降中",{"$error":"#REF!"},{"$error":"#REF!"},{"$f":"SIN(2*PI()*(MOD(($T100-今月バイオリズム!$B$4),U$2))/U$2)","v":{"$error":"#REF!"}},{"$f":"SIN(2*PI()*(MOD(($T100-今月バイオリズム!$B$4),V$2))/V$2)","v":{"$error":"#REF!"}},{"$f":"SIN(2*PI()*(MOD(($T100-今月バイオリズム!$B$4),W$2))/W$2)","v":{"$error":"#REF!"}},null,{"$error":"#REF!"},null,null,{"$error":"#REF!"},null,null,{"$error":"#REF!"},null,{"$error":"#REF!"}]
["1900-04-07","1900-04-07",{"$f":"SIN(2*PI()*(MOD(($B101-今月バイオリズム!$B$4),C$2))/C$2)","v":0.99766876919053915},{"$f":"SIN(2*PI()*(MOD(($B101-今月バイオリズム!$B$4),D$2))/D$2)","v":1.22514845490862E-16},{"$f":"SIN(2*PI()*(MOD(($B101-今月バイオリズム!$B$4),E$2))/E$2)","v":-0.18925124436041063},"▽","高調期ピーク","下降中","↓","高調期（活動期）","下降中","↑","低調期（充電期）","上昇中",0.80841752483012863,"↓","高調期（活動期）","下降中",{"$error":"#REF!"},{"$error":"#REF!"},{"$f":"SIN(2*PI()*(MOD(($T101-今月バイオリズム!$B$4),U$2))/U$2)","v":{"$error":"#REF!"}},{"$f":"SIN(2*PI()*(MOD(($T101-今月バイオリズム!$B$4),V$2))/V$2)","v":{"$error":"#REF!"}},{"$f":"SIN(2*PI()*(MOD(($T101-今月バイオリズム!$B$4),W$2))/W$2)","v":{"$error":"#REF!"}},null,{"$error":"#REF!"},null,null,{"$error":"#REF!"},null,null,{"$error":"#REF!"},null,{"$error":"#REF!"}]
["1900-04-08","1900-04-08",{"$f":"SIN(2*PI()*(MOD(($B102-今月バイオリズム!$B$4),C$2))/C$2)","v":0.94226092211882051},{"$f":"SIN(2*PI()*(MOD(($B102-今月バイオリズム!$B$4),D$2))/D$2)","v":-0.22252093395631384},{"$f":"SIN(2*PI()*(MOD(($B102-今月バイオリズム!$B$4),E$2))/E$2)","v":0},"↓","高調期（活動期）","下降中","↓","要注意","","↑","要注意","",0.71973998816250662,"↓","高調期（活動期）","下降中",{"$error":"#REF!"},{"$error":"#REF!"},{"$f":"SIN(2*PI()*(MOD(($T102-今月バイオリズム!$B$4),U$2))/U$2)","v":{"$error":"#REF!"}},{"$f":"SIN(2*PI()*(MOD(($T102-今月バイオリズム!$B$4),V$2))/V$2)","v":{"$error":"#REF!"}},{"$f":"SIN(2*PI()*(MOD(($T102-今月バイオリズム!$B$4),W$2))/W$2)","v":{"$error":"#REF!"}},null,{"$error":"#REF!"},null,null,{"$error":"#REF!"},null,null,{"$error":"#REF!"},null,{"$error":"#REF!"}]
["1900-04-09","1900-04-09",{"$f":"SIN(2*PI()*(MOD(($B103-今月バイオリズム!$B$4),C$2))/C$2)","v":0.81696989301044209},{"$f":"SIN(2*PI()*(MOD(($B103-今月バイオリズム!$B$4),D$2))/D$2)","v":-0.43388373911755801},{"$f":"SIN(2*PI()*(MOD(($B103-今月バイオリズム!$B$4),E$2))/E$2)","v":0.18925124436041019},"↓","高調期（活動期）","下降中","↓","低調期（充電期）","下降中","↑","要注意","",0.57233739825329422,"↓","高調期（活動期）","下降中",{"$error":"#REF!"},{"$error":"#REF!"},{"$f":"SIN(2*PI()*(MOD(($T103-今月バイオリズム!$B$4),U$2))/U$2)","v":{"$error":"#REF!"}},{"$f":"SIN(2*PI()*(MOD(($T103-今月バイオリズム!$B$4),V$2))/V$2)","v":{"$error":"#REF!"}},{"$f":"SIN(2*PI()*(MOD(($T103-今月バイオリズム!$B$4),W$2))/W$2)","v":{"$error":"#REF!"}},null,{"$error":"#REF!"},null,null,{"$error":"#REF!"},null,null,{"$error":"#REF!"},null,{"$error":"#REF!"}]
["1900-04-10","1900-04-10",{"$f":"SIN(2*PI()*(MOD(($B104-今月バイオリズム!$B$4),C$2))/C$2)","v":0.63108794432605297},{"$f":"SIN(2*PI()*(MOD(($B104-今月バイオリズム!$B$4),D$2))/D$2)","v":-0.62348980185873382},{"$f":"SIN(2*PI()*(MOD(($B104-今月バイオリズム!$B$4),E$2))/E$2)","v":0.37166245566032752},"↓","高調期（活動期）","下降中","↓","低調期（充電期）","下降中","↑","高調期（活動期）","上昇中",0.37926059812764668,"↓","高調期（活動期）","下降中",{"$error":"#REF!"},{"$error":"#REF!"},{"$f":"SIN(2*PI()*(MOD(($T104-今月バイオリズム!$B$4),U$2))/U$2)","v":{"$error":"#REF!"}},{"$f":"SIN(2*PI()*(MOD(($T104-今月バイオリズム!$B$4),V$2))/V$2)","v":{"$error":"#REF!"}},{"$f":"SIN(2*PI()*(MOD(($T104-今月バイオリズム!$B$4),W$2))/W$2)","v":{"$error":"#REF!"}},null,{"$error":"#REF!"},null,null,{"$error":"#REF!"},null,null,{"$error":"#REF!"},null,{"$error":"#REF!"}]
["1900-04-11","1900-04-11",{"$f":"SIN(2*PI()*(MOD(($B105-今月バイオリズム!$B$4),C$2))/C$2)","v":0.3984010898462414},{"$f":"SIN(2*PI()*(MOD(($B105-今月バイオリズム!$B$4),D$2))/D$2)","v":-0.78183148246802969},{"$f":"SIN(2*PI()*(MOD(($B105-今月バイオリズム!$B$4),E$2))/E$2)","v":0.54064081745559756},"↓","高調期（活動期）","下降中","↓","低調期（充電期）","下降中","↑","高調期（活動期）","上昇中",0.15721042483380926,"↓","高調期（活動期）","下降中",{"$error":"#REF!"},{"$error":"#REF!"},{"$f":"SIN(2*PI()*(MOD(($T105-今月バイオリズム!$B$4),U$2))/U$2)","v":{"$error":"#REF!"}},{"$f":"SIN(2*PI()*(MOD(($T105-今月バイオリズム!$B$4),V$2))/V$2)","v":{"$error":"#REF!"}},{"$f":"SIN(2*PI()*(MOD(($T105-今月バイオリズム!$B$4),W$2))/W$2)","v":{"$error":"#REF!"}},null,{"$error":"#REF!"},null,null,{"$error":"#REF!"},null,null,{"$error":"#REF!"},null,{"$error":"#REF!"}]
["1900-04-12","1900-04-12",{"$f":"SIN(2*PI()*(MOD(($B106-今月バイオリズム!$B$4),C$2))/C$2)","v":0.13616664909624709},{"$f":"SIN(2*PI()*(MOD(($B106-今月バイオリズム!$B$4),D$2))/D$2)","v":-0.90096886790241903},{"$f":"SIN(2*PI()*(MOD(($B106-今月バイオリズム!$B$4),E$2))/E$2)","v":0.69007901148211193},"↓","高調期（活動期）","下降中","↓","低調期（充電期）","下降中","↑","高調期（活動期）","上昇中",-7.4723207324060015E-2,"↓","要注意","",{"$error":"#REF!"},{"$error":"#REF!"},{"$f":"SIN(2*PI()*(MOD(($T106-今月バイオリズム!$B$4),U$2))/U$2)","v":{"$error":"#REF!"}},{"$f":"SIN(2*PI()*(MOD(($T106-今月バイオリズム!$B$4),V$2))/V$2)","v":{"$error":"#REF!"}},{"$f":"SIN(2*PI()*(MOD(($T106-今月バイオリズム!$B$4),W$2))/W$2)","v":{"$error":"#REF!"}},null,{"$error":"#REF!"},null,null,{"$error":"#REF!"},null,null,{"$error":"#REF!"},null,{"$error":"#REF!"}]
["1900-04-13","1900-04-13",{"$f":"SIN(2*PI()*(MOD(($B107-今月バイオリズム!$B$4),C$2))/C$2)","v":-0.1361666490962464},{"$f":"SIN(2*PI()*(MOD(($B107-今月バイオリズム!$B$4),D$2))/D$2)","v":-0.97492791218182362},{"$f":"SIN(2*PI()*(MOD(($B107-今月バイオリズム!$B$4),E$2))/E$2)","v":0.81457595205033573},"↓","要注意","","↓","低調期（充電期）","下降中","↑","高調期（活動期）","上昇中",-0.29651860922773432,"↓","低調期（充電期）","下降中",{"$error":"#REF!"},{"$error":"#REF!"},{"$f":"SIN(2*PI()*(MOD(($T107-今月バイオリズム!$B$4),U$2))/U$2)","v":{"$error":"#REF!"}},{"$f":"SIN(2*PI()*(MOD(($T107-今月バイオリズム!$B$4),V$2))/V$2)","v":{"$error":"#REF!"}},{"$f":"SIN(2*PI()*(MOD(($T107-今月バイオリズム!$B$4),W$2))/W$2)","v":{"$error":"#REF!"}},null,{"$error":"#REF!"},null,null,{"$error":"#REF!"},null,null,{"$error":"#REF!"},null,{"$error":"#REF!"}]
["1900-04-14","1900-04-14",{"$f":"SIN(2*PI()*(MOD(($B108-今月バイオリズム!$B$4),C$2))/C$2)","v":-0.39840108984624156},{"$f":"SIN(2*PI()*(MOD(($B108-今月バイオリズム!$B$4),D$2))/D$2)","v":-1},{"$f":"SIN(2*PI()*(MOD(($B108-今月バイオリズム!$B$4),E$2))/E$2)","v":0.90963199535451833},"↓","低調期（充電期）","下降中","▲","低調期ピーク","下降中","↑","高調期（活動期）","上昇中",-0.48876909449172323,"↓","低調期（充電期）","下降中",{"$error":"#REF!"},{"$error":"#REF!"},{"$f":"SIN(2*PI()*(MOD(($T108-今月バイオリズム!$B$4),U$2))/U$2)","v":{"$error":"#REF!"}},{"$f":"SIN(2*PI()*(MOD(($T108-今月バイオリズム!$B$4),V$2))/V$2)","v":{"$error":"#REF!"}},{"$f":"SIN(2*PI()*(MOD(($T108-今月バイオリズム!$B$4),W$2))/W$2)","v":{"$error":"#REF!"}},null,{"$error":"#REF!"},null,null,{"$error":"#REF!"},null,null,{"$error":"#REF!"},null,{"$error":"#REF!"}]
["1900-04-15","1900-04-15",{"$f":"SIN(2*PI()*(MOD(($B109-今月バイオリズム!$B$4),C$2))/C$2)","v":-0.63108794432605275},{"$f":"SIN(2*PI()*(MOD(($B109-今月バイオリズム!$B$4),D$2))/D$2)","v":-0.97492791218182384},{"$f":"SIN(2*PI()*(MOD(($B109-今月バイオリズム!$B$4),E$2))/E$2)","v":0.97181156832354165},"↓","低調期（充電期）","下降中","↑","低調期（充電期）","上昇中","↑","高調期（活動期）","上昇中",-0.63420428818433494,"↓","低調期（充電期）","下降中",{"$error":"#REF!"},{"$error":"#REF!"},{"$f":"SIN(2*PI()*(MOD(($T109-今月バイオリズム!$B$4),U$2))/U$2)","v":{"$error":"#REF!"}},{"$f":"SIN(2*PI()*(MOD(($T109-今月バイオリズム!$B$4),V$2))/V$2)","v":{"$error":"#REF!"}},{"$f":"SIN(2*PI()*(MOD(($T109-今月バイオリズム!$B$4),W$2))/W$2)","v":{"$error":"#REF!"}},null,{"$error":"#REF!"},null,null,{"$error":"#REF!"},null,null,{"$error":"#REF!"},null,{"$error":"#REF!"}]
["1900-04-16","1900-04-16",{"$f":"SIN(2*PI()*(MOD(($B110-今月バイオリズム!$B$4),C$2))/C$2)","v":-0.81696989301044198},{"$f":"SIN(2*PI()*(MOD(($B110-今月バイオリズム!$B$4),D$2))/D$2)","v":-0.90096886790241926},{"$f":"SIN(2*PI()*(MOD(($B110-今月バイオリズム!$B$4),E$2))/E$2)","v":0.99886733918300796},"↓","低調期（充電期）","下降中","↑","低調期（充電期）","上昇中","▽","高調期ピーク","下降中",-0.71907142172985339,"↓","低調期（充電期）","下降中",{"$error":"#REF!"},{"$error":"#REF!"},{"$f":"SIN(2*PI()*(MOD(($T110-今月バイオリズム!$B$4),U$2))/U$2)","v":{"$error":"#REF!"}},{"$f":"SIN(2*PI()*(MOD(($T110-今月バイオリズム!$B$4),V$2))/V$2)","v":{"$error":"#REF!"}},{"$f":"SIN(2*PI()*(MOD(($T110-今月バイオリズム!$B$4),W$2))/W$2)","v":{"$error":"#REF!"}},null,{"$error":"#REF!"},null,null,{"$error":"#REF!"},null,null,{"$error":"#REF!"},null,{"$error":"#REF!"}]
["1900-04-17","1900-04-17",{"$f":"SIN(2*PI()*(MOD(($B111-今月バイオリズム!$B$4),C$2))/C$2)","v":-0.9422609221188204},{"$f":"SIN(2*PI()*(MOD(($B111-今月バイオリズム!$B$4),D$2))/D$2)","v":-0.78183148246802991},{"$f":"SIN(2*PI()*(MOD(($B111-今月バイオリズム!$B$4),E$2))/E$2)","v":0.9898214418809328},"↓","低調期（充電期）","下降中","↑","低調期（充電期）","上昇中","↓","高調期（活動期）","下降中",-0.73427096270591763,"▲","低調期ピーク","下降中",{"$error":"#REF!"},{"$error":"#REF!"},{"$f":"SIN(2*PI()*(MOD(($T111-今月バイオリズム!$B$4),U$2))/U$2)","v":{"$error":"#REF!"}},{"$f":"SIN(2*PI()*(MOD(($T111-今月バイオリズム!$B$4),V$2))/V$2)","v":{"$error":"#REF!"}},{"$f":"SIN(2*PI()*(MOD(($T111-今月バイオリズム!$B$4),W$2))/W$2)","v":{"$error":"#REF!"}},null,{"$error":"#REF!"},null,null,{"$error":"#REF!"},null,null,{"$error":"#REF!"},null,{"$error":"#REF!"}]
["1900-04-18","1900-04-18",{"$f":"SIN(2*PI()*(MOD(($B112-今月バイオリズム!$B$4),C$2))/C$2)","v":-0.99766876919053926},{"$f":"SIN(2*PI()*(MOD(($B112-今月バイオリズム!$B$4),D$2))/D$2)","v":-0.62348980185873371},{"$f":"SIN(2*PI()*(MOD(($B112-今月バイオリズム!$B$4),E$2))/E$2)","v":0.94500081871466846},"▲","低調期ピーク","下降中","↑","低調期（充電期）","上昇中","↓","高調期（活動期）","下降中",-0.67615775233460462,"↑","低調期（充電期）","上昇中",{"$error":"#REF!"},{"$error":"#REF!"},{"$f":"SIN(2*PI()*(MOD(($T112-今月バイオリズム!$B$4),U$2))/U$2)","v":{"$error":"#REF!"}},{"$f":"SIN(2*PI()*(MOD(($T112-今月バイオリズム!$B$4),V$2))/V$2)","v":{"$error":"#REF!"}},{"$f":"SIN(2*PI()*(MOD(($T112-今月バイオリズム!$B$4),W$2))/W$2)","v":{"$error":"#REF!"}},null,{"$error":"#REF!"},null,null,{"$error":"#REF!"},null,null,{"$error":"#REF!"},null,{"$error":"#REF!"}]
["1900-04-19","1900-04-19",{"$f":"SIN(2*PI()*(MOD(($B113-今月バイオリズム!$B$4),C$2))/C$2)","v":-0.97908408768232302},{"$f":"SIN(2*PI()*(MOD(($B113-今月バイオリズム!$B$4),D$2))/D$2)","v":-0.43388373911755751},{"$f":"SIN(2*PI()*(MOD(($B113-今月バイオリズム!$B$4),E$2))/E$2)","v":0.86602540378443871},"↑","低調期（充電期）","上昇中","↑","低調期（充電期）","上昇中","↓","高調期（活動期）","下降中",-0.54694242301544194,"↑","低調期（充電期）","上昇中",{"$error":"#REF!"},{"$error":"#REF!"},{"$f":"SIN(2*PI()*(MOD(($T113-今月バイオリズム!$B$4),U$2))/U$2)","v":{"$error":"#REF!"}},{"$f":"SIN(2*PI()*(MOD(($T113-今月バイオリズム!$B$4),V$2))/V$2)","v":{"$error":"#REF!"}},{"$f":"SIN(2*PI()*(MOD(($T113-今月バイオリズム!$B$4),W$2))/W$2)","v":{"$error":"#REF!"}},null,{"$error":"#REF!"},null,null,{"$error":"#REF!"},null,null,{"$error":"#REF!"},null,{"$error":"#REF!"}]
["1900-04-20","1900-04-20",{"$f":"SIN(2*PI()*(MOD(($B114-今月バイオリズム!$B$4),C$2))/C$2)","v":-0.88788521840237555},{"$f":"SIN(2*PI()*(MOD(($B114-今月バイオリズム!$B$4),D$2))/D$2)","v":-0.22252093395631464},{"$f":"SIN(2*PI()*(MOD(($B114-今月バイオリズム!$B$4),E$2))/E$2)","v":0.75574957435425827},"↑","低調期（充電期）","上昇中","↑","低調期（充電期）","上昇中","↓","高調期（活動期）","下降中",-0.35465657800443184,"↑","低調期（充電期）","上昇中",{"$error":"#REF!"},{"$error":"#REF!"},{"$f":"SIN(2*PI()*(MOD(($T114-今月バイオリズム!$B$4),U$2))/U$2)","v":{"$error":"#REF!"}},{"$f":"SIN(2*PI()*(MOD(($T114-今月バイオリズム!$B$4),V$2))/V$2)","v":{"$error":"#REF!"}},{"$f":"SIN(2*PI()*(MOD(($T114-今月バイオリズム!$B$4),W$2))/W$2)","v":{"$error":"#REF!"}},null,{"$error":"#REF!"},null,null,{"$error":"#REF!"},null,null,{"$error":"#REF!"},null,{"$error":"#REF!"}]
["1900-04-21","1900-04-21",{"$f":"SIN(2*PI()*(MOD(($B115-今月バイオリズム!$B$4),C$2))/C$2)","v":-0.73083596427812403},{"$f":"SIN(2*PI()*(MOD(($B115-今月バイオリズム!$B$4),D$2))/D$2)","v":0},{"$f":"SIN(2*PI()*(MOD(($B115-今月バイオリズム!$B$4),E$2))/E$2)","v":0.61815898622060506},"↑","低調期（充電期）","上昇中","↑","要注意","","↓","高調期（活動期）","下降中",-0.11267697805751897,"↑","低調期（充電期）","上昇中",{"$error":"#REF!"},{"$error":"#REF!"},{"$f":"SIN(2*PI()*(MOD(($T115-今月バイオリズム!$B$4),U$2))/U$2)","v":{"$error":"#REF!"}},{"$f":"SIN(2*PI()*(MOD(($T115-今月バイオリズム!$B$4),V$2))/V$2)","v":{"$error":"#REF!"}},{"$f":"SIN(2*PI()*(MOD(($T115-今月バイオリズム!$B$4),W$2))/W$2)","v":{"$error":"#REF!"}},null,{"$error":"#REF!"},null,null,{"$error":"#REF!"},null,null,{"$error":"#REF!"},null,{"$error":"#REF!"}]
["1900-04-22","1900-04-22",{"$f":"SIN(2*PI()*(MOD(($B116-今月バイオリズム!$B$4),C$2))/C$2)","v":-0.51958395003543356},{"$f":"SIN(2*PI()*(MOD(($B116-今月バイオリズム!$B$4),D$2))/D$2)","v":0.22252093395631439},{"$f":"SIN(2*PI()*(MOD(($B116-今月バイオリズム!$B$4),E$2))/E$2)","v":0.45822652172741052},"↑","低調期（充電期）","上昇中","↑","要注意","","↓","高調期（活動期）","下降中",0.16116350564829135,"↑","要注意","",{"$error":"#REF!"},{"$error":"#REF!"},{"$f":"SIN(2*PI()*(MOD(($T116-今月バイオリズム!$B$4),U$2))/U$2)","v":{"$error":"#REF!"}},{"$f":"SIN(2*PI()*(MOD(($T116-今月バイオリズム!$B$4),V$2))/V$2)","v":{"$error":"#REF!"}},{"$f":"SIN(2*PI()*(MOD(($T116-今月バイオリズム!$B$4),W$2))/W$2)","v":{"$error":"#REF!"}},null,{"$error":"#REF!"},null,null,{"$error":"#REF!"},null,null,{"$error":"#REF!"},null,{"$error":"#REF!"}]
["1900-04-23","1900-04-23",{"$f":"SIN(2*PI()*(MOD(($B117-今月バイオリズム!$B$4),C$2))/C$2)","v":-0.26979677115702522},{"$f":"SIN(2*PI()*(MOD(($B117-今月バイオリズム!$B$4),D$2))/D$2)","v":0.43388373911755812},{"$f":"SIN(2*PI()*(MOD(($B117-今月バイオリズム!$B$4),E$2))/E$2)","v":0.28173255684143006},"↑","低調期（充電期）","上昇中","↑","高調期（活動期）","上昇中","↓","高調期（活動期）","下降中",0.44581952480196296,"↑","高調期（活動期）","上昇中",{"$error":"#REF!"},{"$error":"#REF!"},{"$f":"SIN(2*PI()*(MOD(($T117-今月バイオリズム!$B$4),U$2))/U$2)","v":{"$error":"#REF!"}},{"$f":"SIN(2*PI()*(MOD(($T117-今月バイオリズム!$B$4),V$2))/V$2)","v":{"$error":"#REF!"}},{"$f":"SIN(2*PI()*(MOD(($T117-今月バイオリズム!$B$4),W$2))/W$2)","v":{"$error":"#REF!"}},null,{"$error":"#REF!"},null,null,{"$error":"#REF!"},null,null,{"$error":"#REF!"},null,{"$error":"#REF!"}]
["1900-04-24","1900-04-24",{"$f":"SIN(2*PI()*(MOD(($B118-今月バイオリズム!$B$4),C$2))/C$2)","v":0},{"$f":"SIN(2*PI()*(MOD(($B118-今月バイオリズム!$B$4),D$2))/D$2)","v":0.62348980185873348},{"$f":"SIN(2*PI()*(MOD(($B118-今月バイオリズム!$B$4),E$2))/E$2)","v":9.505604330418288E-2},"↑","要注意","","↑","高調期（活動期）","上昇中","↓","高調期（活動期）","下降中",0.71854584516291631,"↑","高調期（活動期）","上昇中",{"$error":"#REF!"},{"$error":"#REF!"},{"$f":"SIN(2*PI()*(MOD(($T118-今月バイオリズム!$B$4),U$2))/U$2)","v":{"$error":"#REF!"}},{"$f":"SIN(2*PI()*(MOD(($T118-今月バイオリズム!$B$4),V$2))/V$2)","v":{"$error":"#REF!"}},{"$f":"SIN(2*PI()*(MOD(($T118-今月バイオリズム!$B$4),W$2))/W$2)","v":{"$error":"#REF!"}},null,{"$error":"#REF!"},null,null,{"$error":"#REF!"},null,null,{"$error":"#REF!"},null,{"$error":"#REF!"}]
["1900-04-25","1900-04-25",{"$f":"SIN(2*PI()*(MOD(($B119-今月バイオリズム!$B$4),C$2))/C$2)","v":0.26979677115702427},{"$f":"SIN(2*PI()*(MOD(($B119-今月バイオリズム!$B$4),D$2))/D$2)","v":0.7818314824680298},{"$f":"SIN(2*PI()*(MOD(($B119-今月バイオリズム!$B$4),E$2))/E$2)","v":-9.505604330418263E-2},"↑","要注意","","↑","高調期（活動期）","上昇中","↓","要注意","",0.95657221032087147,"↑","高調期（活動期）","上昇中",{"$error":"#REF!"},{"$error":"#REF!"},{"$f":"SIN(2*PI()*(MOD(($T119-今月バイオリズム!$B$4),U$2))/U$2)","v":{"$error":"#REF!"}},{"$f":"SIN(2*PI()*(MOD(($T119-今月バイオリズム!$B$4),V$2))/V$2)","v":{"$error":"#REF!"}},{"$f":"SIN(2*PI()*(MOD(($T119-今月バイオリズム!$B$4),W$2))/W$2)","v":{"$error":"#REF!"}},null,{"$error":"#REF!"},null,null,{"$error":"#REF!"},null,null,{"$error":"#REF!"},null,{"$error":"#REF!"}]
["1900-04-26","1900-04-26",{"$f":"SIN(2*PI()*(MOD(($B120-今月バイオリズム!$B$4),C$2))/C$2)","v":0.51958395003543356},{"$f":"SIN(2*PI()*(MOD(($B120-今月バイオリズム!$B$4),D$2))/D$2)","v":0.90096886790241915},{"$f":"SIN(2*PI()*(MOD(($B120-今月バイオリズム!$B$4),E$2))/E$2)","v":-0.28173255684142939},"↑","高調期（活動期）","上昇中","↑","高調期（活動期）","上昇中","↓","低調期（充電期）","下降中",1.1388202610964235,"↑","高調期（活動期）","上昇中",{"$error":"#REF!"},{"$error":"#REF!"},{"$f":"SIN(2*PI()*(MOD(($T120-今月バイオリズム!$B$4),U$2))/U$2)","v":{"$error":"#REF!"}},{"$f":"SIN(2*PI()*(MOD(($T120-今月バイオリズム!$B$4),V$2))/V$2)","v":{"$error":"#REF!"}},{"$f":"SIN(2*PI()*(MOD(($T120-今月バイオリズム!$B$4),W$2))/W$2)","v":{"$error":"#REF!"}},null,{"$error":"#REF!"},null,null,{"$error":"#REF!"},null,null,{"$error":"#REF!"},null,{"$error":"#REF!"}]
["1900-04-27","1900-04-27",{"$f":"SIN(2*PI()*(MOD(($B121-今月バイオリズム!$B$4),C$2))/C$2)","v":0.73083596427812403},{"$f":"SIN(2*PI()*(MOD(($B121-今月バイオリズム!$B$4),D$2))/D$2)","v":0.97492791218182362},{"$f":"SIN(2*PI()*(MOD(($B121-今月バイオリズム!$B$4),E$2))/E$2)","v":-0.45822652172740991},"↑","高調期（活動期）","上昇中","↑","高調期（活動期）","上昇中","↓","低調期（充電期）","下降中",1.2475373547325377,"↑","高調期（活動期）","上昇中",{"$error":"#REF!"},{"$error":"#REF!"},{"$f":"SIN(2*PI()*(MOD(($T121-今月バイオリズム!$B$4),U$2))/U$2)","v":{"$error":"#REF!"}},{"$f":"SIN(2*PI()*(MOD(($T121-今月バイオリズム!$B$4),V$2))/V$2)","v":{"$error":"#REF!"}},{"$f":"SIN(2*PI()*(MOD(($T121-今月バイオリズム!$B$4),W$2))/W$2)","v":{"$error":"#REF!"}},null,{"$error":"#REF!"},null,null,{"$error":"#REF!"},null,null,{"$error":"#REF!"},null,{"$error":"#REF!"}]
["1900-04-28","1900-04-28",{"$f":"SIN(2*PI()*(MOD(($B122-今月バイオリズム!$B$4),C$2))/C$2)","v":0.88788521840237522},{"$f":"SIN(2*PI()*(MOD(($B122-今月バイオリズム!$B$4),D$2))/D$2)","v":1},{"$f":"SIN(2*PI()*(MOD(($B122-今月バイオリズム!$B$4),E$2))/E$2)","v":-0.61815898622060528},"↑","高調期（活動期）","上昇中","▽","高調期ピーク","下降中","↓","低調期（充電期）","下降中",1.2697262321817697,"▽","高調期ピーク","下降中",{"$error":"#REF!"},{"$error":"#REF!"},{"$f":"SIN(2*PI()*(MOD(($T122-今月バイオリズム!$B$4),U$2))/U$2)","v":{"$error":"#REF!"}},{"$f":"SIN(2*PI()*(MOD(($T122-今月バイオリズム!$B$4),V$2))/V$2)","v":{"$error":"#REF!"}},{"$f":"SIN(2*PI()*(MOD(($T122-今月バイオリズム!$B$4),W$2))/W$2)","v":{"$error":"#REF!"}},null,{"$error":"#REF!"},null,null,{"$error":"#REF!"},null,null,{"$error":"#REF!"},null,{"$error":"#REF!"}]
["1900-04-29","1900-04-29",{"$f":"SIN(2*PI()*(MOD(($B123-今月バイオリズム!$B$4),C$2))/C$2)","v":0.97908408768232291},{"$f":"SIN(2*PI()*(MOD(($B123-今月バイオリズム!$B$4),D$2))/D$2)","v":0.97492791218182362},{"$f":"SIN(2*PI()*(MOD(($B123-今月バイオリズム!$B$4),E$2))/E$2)","v":-0.75574957435425849},"↑","高調期（活動期）","上昇中","↓","高調期（活動期）","下降中","↓","低調期（充電期）","下降中",1.1982624255098879,"↓","高調期（活動期）","下降中",{"$error":"#REF!"},{"$error":"#REF!"},{"$f":"SIN(2*PI()*(MOD(($T123-今月バイオリズム!$B$4),U$2))/U$2)","v":{"$error":"#REF!"}},{"$f":"SIN(2*PI()*(MOD(($T123-今月バイオリズム!$B$4),V$2))/V$2)","v":{"$error":"#REF!"}},{"$f":"SIN(2*PI()*(MOD(($T123-今月バイオリズム!$B$4),W$2))/W$2)","v":{"$error":"#REF!"}},null,{"$error":"#REF!"},null,null,{"$error":"#REF!"},null,null,{"$error":"#REF!"},null,{"$error":"#REF!"}]
["1900-04-30","1900-04-30",{"$f":"SIN(2*PI()*(MOD(($B124-今月バイオリズム!$B$4),C$2))/C$2)","v":0.99766876919053915},{"$f":"SIN(2*PI()*(MOD(($B124-今月バイオリズム!$B$4),D$2))/D$2)","v":0.90096886790241915},{"$f":"SIN(2*PI()*(MOD(($B124-今月バイオリズム!$B$4),E$2))/E$2)","v":-0.86602540378443837},"▽","高調期ピーク","下降中","↓","高調期（活動期）","下降中","↓","低調期（充電期）","下降中",1.0326122333085199,"↓","高調期（活動期）","下降中",{"$error":"#REF!"},{"$error":"#REF!"},{"$f":"SIN(2*PI()*(MOD(($T124-今月バイオリズム!$B$4),U$2))/U$2)","v":{"$error":"#REF!"}},{"$f":"SIN(2*PI()*(MOD(($T124-今月バイオリズム!$B$4),V$2))/V$2)","v":{"$error":"#REF!"}},{"$f":"SIN(2*PI()*(MOD(($T124-今月バイオリズム!$B$4),W$2))/W$2)","v":{"$error":"#REF!"}},null,{"$error":"#REF!"},null,null,{"$error":"#REF!"},null,null,{"$error":"#REF!"},null,{"$error":"#REF!"}]
["1900-05-01","1900-05-01",{"$f":"SIN(2*PI()*(MOD(($B125-今月バイオリズム!$B$4),C$2))/C$2)","v":0.94226092211882051},{"$f":"SIN(2*PI()*(MOD(($B125-今月バイオリズム!$B$4),D$2))/D$2)","v":0.78183148246802991},{"$f":"SIN(2*PI()*(MOD(($B125-今月バイオリズム!$B$4),E$2))/E$2)","v":-0.94500081871466834},"↓","高調期（活動期）","下降中","↓","高調期（活動期）","下降中","↓","低調期（充電期）","下降中",0.77909158587218208,"↓","高調期（活動期）","下降中",{"$error":"#REF!"},{"$error":"#REF!"},{"$f":"SIN(2*PI()*(MOD(($T125-今月バイオリズム!$B$4),U$2))/U$2)","v":{"$error":"#REF!"}},{"$f":"SIN(2*PI()*(MOD(($T125-今月バイオリズム!$B$4),V$2))/V$2)","v":{"$error":"#REF!"}},{"$f":"SIN(2*PI()*(MOD(($T125-今月バイオリズム!$B$4),W$2))/W$2)","v":{"$error":"#REF!"}},null,{"$error":"#REF!"},null,null,{"$error":"#REF!"},null,null,{"$error":"#REF!"},null,{"$error":"#REF!"}]
["1900-05-02","1900-05-02",{"$f":"SIN(2*PI()*(MOD(($B126-今月バイオリズム!$B$4),C$2))/C$2)","v":0.81696989301044209},{"$f":"SIN(2*PI()*(MOD(($B126-今月バイオリズム!$B$4),D$2))/D$2)","v":0.62348980185873393},{"$f":"SIN(2*PI()*(MOD(($B126-今月バイオリズム!$B$4),E$2))/E$2)","v":-0.98982144188093268},"↓","高調期（活動期）","下降中","↓","高調期（活動期）","下降中","↓","低調期（充電期）","下降中",0.45063825298824345,"↓","高調期（活動期）","下降中",{"$error":"#REF!"},{"$error":"#REF!"},{"$f":"SIN(2*PI()*(MOD(($T126-今月バイオリズム!$B$4),U$2))/U$2)","v":{"$error":"#REF!"}},{"$f":"SIN(2*PI()*(MOD(($T126-今月バイオリズム!$B$4),V$2))/V$2)","v":{"$error":"#REF!"}},{"$f":"SIN(2*PI()*(MOD(($T126-今月バイオリズム!$B$4),W$2))/W$2)","v":{"$error":"#REF!"}},null,{"$error":"#REF!"},null,null,{"$error":"#REF!"},null,null,{"$error":"#REF!"},null,{"$error":"#REF!"}]
["1900-05-03","1900-05-03",{"$f":"SIN(2*PI()*(MOD(($B127-今月バイオリズム!$B$4),C$2))/C$2)","v":0.63108794432605297},{"$f":"SIN(2*PI()*(MOD(($B127-今月バイオリズム!$B$4),D$2))/D$2)","v":0.43388373911755823},{"$f":"SIN(2*PI()*(MOD(($B127-今月バイオリズム!$B$4),E$2))/E$2)","v":-0.99886733918300796},"↓","高調期（活動期）","下降中","↓","高調期（活動期）","下降中","▲","低調期ピーク","下降中",6.6104344260603187E-2,"↓","高調期（活動期）","下降中"]
["1900-05-04","1900-05-04",{"$f":"SIN(2*PI()*(MOD(($B128-今月バイオリズム!$B$4),C$2))/C$2)","v":0.3984010898462414},{"$f":"SIN(2*PI()*(MOD(($B128-今月バイオリズム!$B$4),D$2))/D$2)","v":0.22252093395631409},{"$f":"SIN(2*PI()*(MOD(($B128-今月バイオリズム!$B$4),E$2))/E$2)","v":-0.97181156832354165},"↓","高調期（活動期）","下降中","↓","高調期（活動期）","下降中","↑","低調期（充電期）","上昇中",-0.3508895445209862,"↓","要注意",""]
["1900-05-05","1900-05-05",{"$f":"SIN(2*PI()*(MOD(($B129-今月バイオリズム!$B$4),C$2))/C$2)","v":0.13616664909624709},{"$f":"SIN(2*PI()*(MOD(($B129-今月バイオリズム!$B$4),D$2))/D$2)","v":1.22514845490862E-16},{"$f":"SIN(2*PI()*(MOD(($B129-今月バイオリズム!$B$4),E$2))/E$2)","v":-0.90963199535451855},"↓","高調期（活動期）","下降中","↓","高調期（活動期）","下降中","↑","低調期（充電期）","上昇中",-0.77346534625827135,"↓","低調期（充電期）","下降中"]
["1900-05-06","1900-05-06",{"$f":"SIN(2*PI()*(MOD(($B130-今月バイオリズム!$B$4),C$2))/C$2)","v":-0.1361666490962464},{"$f":"SIN(2*PI()*(MOD(($B130-今月バイオリズム!$B$4),D$2))/D$2)","v":-0.22252093395631384},{"$f":"SIN(2*PI()*(MOD(($B130-今月バイオリズム!$B$4),E$2))/E$2)","v":-0.81457595205033584},"↓","要注意","","↓","要注意","","↑","低調期（充電期）","上昇中",-1.1732635351028962,"↓","低調期（充電期）","下降中"]
["1900-05-07","1900-05-07",{"$f":"SIN(2*PI()*(MOD(($B131-今月バイオリズム!$B$4),C$2))/C$2)","v":-0.39840108984624156},{"$f":"SIN(2*PI()*(MOD(($B131-今月バイオリズム!$B$4),D$2))/D$2)","v":-0.43388373911755801},{"$f":"SIN(2*PI()*(MOD(($B131-今月バイオリズム!$B$4),E$2))/E$2)","v":-0.69007901148211204},"↓","低調期（充電期）","下降中","↓","低調期（充電期）","下降中","↑","低調期（充電期）","上昇中",-1.5223638404459117,"↓","低調期（充電期）","下降中"]
["1900-05-08","1900-05-08",{"$f":"SIN(2*PI()*(MOD(($B132-今月バイオリズム!$B$4),C$2))/C$2)","v":-0.63108794432605275},{"$f":"SIN(2*PI()*(MOD(($B132-今月バイオリズム!$B$4),D$2))/D$2)","v":-0.62348980185873382},{"$f":"SIN(2*PI()*(MOD(($B132-今月バイオリズム!$B$4),E$2))/E$2)","v":-0.54064081745559822},"↓","低調期（充電期）","下降中","↓","低調期（充電期）","下降中","↑","低調期（充電期）","上昇中",-1.7952185636403848,"↓","低調期（充電期）","下降中"]
[{"$f":"B133","v":"1900-05-09"},"1900-05-09",{"$f":"SIN(2*PI()*(MOD(($B133-今月バイオリズム!$B$4),C$2))/C$2)","v":-0.81696989301044198},{"$f":"SIN(2*PI()*(MOD(($B133-今月バイオリズム!$B$4),D$2))/D$2)","v":-0.78183148246802969},{"$f":"SIN(2*PI()*(MOD(($B133-今月バイオリズム!$B$4),E$2))/E$2)","v":-0.37166245566032807},"↓","低調期（充電期）","下降中",{"$f":"IF(D133>0,IF(D132<D133,IF(D134<D133,\"▽\",\"↑\"),\"↓\"),IF(D132>D133,IF(D134>D133,\"▲\",\"↓\"),\"↑\"))","v":"↓"},{"$f":"IF(OR(AND(D132<=0,D133>=0),AND(D132>=0,D133<=0)),\"要注意\",IF(D133>0,IF(I133=\"▽\",\"高調期ピーク\",\"高調期（活動期）\"),IF(I133=\"▲\",\"低調期ピーク\",\"低調期（充電期）\")))","v":"低調期（充電期）"},"下降中",{"$f":"IF(E133>0,IF(E132<E133,IF(E134<E133,\"▽\",\"↑\"),\"↓\"),IF(E132>E133,IF(E134>E133,\"▲\",\"↓\"),\"↑\"))","v":"↑"},{"$f":"IF(OR(AND(E132<=0,E133>=0),AND(E132>=0,E133<=0)),\"要注意\",IF(E133>0,IF(L133=\"▽\",\"高調期ピーク\",\"高調期（活動期）\"),IF(L133=\"▲\",\"低調期ピーク\",\"低調期（充電期）\")))","v":"低調期（充電期）"},"上昇中",{"$f":"SUM(C133:E133)","v":-1.9704638311387999},{"$f":"IF(O133>0,IF(O132<O133,IF(O134<O133,\"▽\",\"↑\"),\"↓\"),IF(O132>O133,IF(O134>O133,\"▲\",\"↓\"),\"↑\"))","v":"↓"},"低調期（充電期）","下降中"]
["1900-05-10",{"$f":"B133+1","v":"1900-05-10"},{"$f":"SIN(2*PI()*(MOD(($B134-今月バイオリズム!$B$4),C$2))/C$2)","v":-0.9422609221188204},{"$f":"SIN(2*PI()*(MOD(($B134-今月バイオリズム!$B$4),D$2))/D$2)","v":-0.90096886790241903},{"$f":"SIN(2*PI()*(MOD(($B134-今月バイオリズム!$B$4),E$2))/E$2)","v":-0.18925124436041063},"↓",{"$f":"IF(OR(AND(C133<=0,C134>=0),AND(C133>=0,C134<=0)),\"要注意\",IF(C134>0,IF(F134=\"▽\",\"高調期ピーク\",\"高調期（活動期）\"),IF(F134=\"▲\",\"低調期ピーク\",\"低調期（充電期）\")))","v":"低調期（充電期）"},"下降中","↓","低調期（充電期）",{"$f":"IF(J134=\"要注意\",\"\",IF(I134=\"↑\",\"上昇中\",\"下降中\"))","v":"下降中"},"↑","低調期（充電期）",{"$f":"IF(M134=\"要注意\",\"\",IF(L134=\"↑\",\"上昇中\",\"下降中\"))","v":"上昇中"},-2.0324810343816502,"▲","低調期ピーク",{"$f":"IF(Q134=\"要注意\",\"\",IF(P134=\"↑\",\"上昇中\",\"下降中\"))","v":"下降中"}]
["1900-05-11","1900-05-11",{"$f":"SIN(2*PI()*(MOD(($B135-今月バイオリズム!$B$4),C$2))/C$2)","v":-0.99766876919053926},{"$f":"SIN(2*PI()*(MOD(($B135-今月バイオリズム!$B$4),D$2))/D$2)","v":-0.97492791218182362},{"$f":"SIN(2*PI()*(MOD(($B135-今月バイオリズム!$B$4),E$2))/E$2)","v":0},"▲","低調期ピーク","下降中","↓","低調期（充電期）","下降中","↑","要注意","",-1.9725966813723628,"↑",{"$f":"IF(OR(AND(O134<=0,O135>=0),AND(O134>=0,O135<=0)),\"要注意\",IF(O135>0,IF(P135=\"▽\",\"高調期ピーク\",\"高調期（活動期）\"),IF(P135=\"▲\",\"低調期ピーク\",\"低調期（充電期）\")))","v":"低調期（充電期）"},"上昇中"]
["1900-05-12","1900-05-12",{"$f":"SIN(2*PI()*(MOD(($B136-今月バイオリズム!$B$4),C$2))/C$2)","v":-0.97908408768232302},{"$f":"SIN(2*PI()*(MOD(($B136-今月バイオリズム!$B$4),D$2))/D$2)","v":-1},{"$f":"SIN(2*PI()*(MOD(($B136-今月バイオリズム!$B$4),E$2))/E$2)","v":0.18925124436041019},"↑","低調期（充電期）","上昇中","▲","低調期ピーク","下降中","↑","要注意","",-1.7898328433219128,"↑","低調期（充電期）","上昇中"]
["1900-05-13","1900-05-13",{"$f":"SIN(2*PI()*(MOD(($B137-今月バイオリズム!$B$4),C$2))/C$2)","v":-0.88788521840237555},{"$f":"SIN(2*PI()*(MOD(($B137-今月バイオリズム!$B$4),D$2))/D$2)","v":-0.97492791218182384},{"$f":"SIN(2*PI()*(MOD(($B137-今月バイオリズム!$B$4),E$2))/E$2)","v":0.37166245566032752},"↑","低調期（充電期）","上昇中","↑","低調期（充電期）","上昇中","↑","高調期（活動期）","上昇中",-1.4911506749238721,"↑","低調期（充電期）","上昇中"]
["1900-05-14","1900-05-14",{"$f":"SIN(2*PI()*(MOD(($B138-今月バイオリズム!$B$4),C$2))/C$2)","v":-0.73083596427812403},{"$f":"SIN(2*PI()*(MOD(($B138-今月バイオリズム!$B$4),D$2))/D$2)","v":-0.90096886790241926},{"$f":"SIN(2*PI()*(MOD(($B138-今月バイオリズム!$B$4),E$2))/E$2)","v":0.54064081745559756},"↑","低調期（充電期）","上昇中","↑","低調期（充電期）","上昇中","↑","高調期（活動期）","上昇中",-1.0911640147249457,"↑","低調期（充電期）","上昇中"]
["1900-05-15","1900-05-15",{"$f":"SIN(2*PI()*(MOD(($B139-今月バイオリズム!$B$4),C$2))/C$2)","v":-0.51958395003543356},{"$f":"SIN(2*PI()*(MOD(($B139-今月バイオリズム!$B$4),D$2))/D$2)","v":-0.78183148246802991},{"$f":"SIN(2*PI()*(MOD(($B139-今月バイオリズム!$B$4),E$2))/E$2)","v":0.69007901148211193},{"$f":"IF(C139>0,IF(C138<C139,IF(C140<C139,\"▽\",\"↑\"),\"↓\"),IF(C138>C139,IF(C140>C139,\"▲\",\"↓\"),\"↑\"))","v":"↑"},"低調期（充電期）",{"$f":"IF(G139=\"要注意\",\"\",IF(F139=\"↑\",\"上昇中\",\"下降中\"))","v":"上昇中"},"↑","低調期（充電期）","上昇中","↑","高調期（活動期）","上昇中",-0.61133642102135155,"↑","低調期（充電期）","上昇中"]
["1900-05-16","1900-05-16",{"$f":"SIN(2*PI()*(MOD(($B140-今月バイオリズム!$B$4),C$2))/C$2)","v":-0.26979677115702522},{"$f":"SIN(2*PI()*(MOD(($B140-今月バイオリズム!$B$4),D$2))/D$2)","v":-0.62348980185873371},{"$f":"SIN(2*PI()*(MOD(($B140-今月バイオリズム!$B$4),E$2))/E$2)","v":0.81457595205033573},"↑","低調期（充電期）","上昇中","↑","低調期（充電期）","上昇中","↑","高調期（活動期）","上昇中",-7.8710620965423139E-2,"↑","低調期（充電期）","上昇中"]
["1900-05-17","1900-05-17",{"$f":"SIN(2*PI()*(MOD(($B141-今月バイオリズム!$B$4),C$2))/C$2)","v":0},{"$f":"SIN(2*PI()*(MOD(($B141-今月バイオリズム!$B$4),D$2))/D$2)","v":-0.43388373911755751},{"$f":"SIN(2*PI()*(MOD(($B141-今月バイオリズム!$B$4),E$2))/E$2)","v":0.90963199535451833},"↑","要注意","","↑","低調期（充電期）","上昇中","↑","高調期（活動期）","上昇中",0.47574825623696082,"↑","要注意",""]
["1900-05-18","1900-05-18",{"$f":"SIN(2*PI()*(MOD(($B142-今月バイオリズム!$B$4),C$2))/C$2)","v":0.26979677115702427},{"$f":"SIN(2*PI()*(MOD(($B142-今月バイオリズム!$B$4),D$2))/D$2)","v":-0.22252093395631464},{"$f":"SIN(2*PI()*(MOD(($B142-今月バイオリズム!$B$4),E$2))/E$2)","v":0.97181156832354165},"↑","要注意","","↑","低調期（充電期）","上昇中","↑","高調期（活動期）","上昇中",1.0190874055242514,"↑","高調期（活動期）","上昇中"]
["1900-05-19","1900-05-19",{"$f":"SIN(2*PI()*(MOD(($B143-今月バイオリズム!$B$4),C$2))/C$2)","v":0.51958395003543356},{"$f":"SIN(2*PI()*(MOD(($B143-今月バイオリズム!$B$4),D$2))/D$2)","v":0},{"$f":"SIN(2*PI()*(MOD(($B143-今月バイオリズム!$B$4),E$2))/E$2)","v":0.99886733918300796},"↑","高調期（活動期）","上昇中","↑","要注意","","▽","高調期ピーク","下降中",1.5184512892184414,"↑","高調期（活動期）","上昇中"]
["1900-05-20","1900-05-20",{"$f":"SIN(2*PI()*(MOD(($B144-今月バイオリズム!$B$4),C$2))/C$2)","v":0.73083596427812403},{"$f":"SIN(2*PI()*(MOD(($B144-今月バイオリズム!$B$4),D$2))/D$2)","v":0.22252093395631439},{"$f":"SIN(2*PI()*(MOD(($B144-今月バイオリズム!$B$4),E$2))/E$2)","v":0.9898214418809328},"↑","高調期（活動期）","上昇中","↑","要注意","","↓","高調期（活動期）","下降中",1.9431783401153713,"↑","高調期（活動期）","上昇中"]
["1900-05-21","1900-05-21",{"$f":"SIN(2*PI()*(MOD(($B145-今月バイオリズム!$B$4),C$2))/C$2)","v":0.88788521840237522},{"$f":"SIN(2*PI()*(MOD(($B145-今月バイオリズム!$B$4),D$2))/D$2)","v":0.43388373911755812},{"$f":"SIN(2*PI()*(MOD(($B145-今月バイオリズム!$B$4),E$2))/E$2)","v":0.94500081871466846},"↑","高調期（活動期）","上昇中","↑","高調期（活動期）","上昇中","↓","高調期（活動期）","下降中",2.266769776234602,"↑","高調期（活動期）","上昇中"]
["1900-05-22","1900-05-22",{"$f":"SIN(2*PI()*(MOD(($B146-今月バイオリズム!$B$4),C$2))/C$2)","v":0.97908408768232291},{"$f":"SIN(2*PI()*(MOD(($B146-今月バイオリズム!$B$4),D$2))/D$2)","v":0.62348980185873348},{"$f":"SIN(2*PI()*(MOD(($B146-今月バイオリズム!$B$4),E$2))/E$2)","v":0.86602540378443871},"↑","高調期（活動期）","上昇中","↑","高調期（活動期）","上昇中","↓","高調期（活動期）","下降中",2.4685992933254952,"↑","高調期（活動期）","上昇中"]
["1900-05-23","1900-05-23",{"$f":"SIN(2*PI()*(MOD(($B147-今月バイオリズム!$B$4),C$2))/C$2)","v":0.99766876919053915},{"$f":"SIN(2*PI()*(MOD(($B147-今月バイオリズム!$B$4),D$2))/D$2)","v":0.7818314824680298},{"$f":"SIN(2*PI()*(MOD(($B147-今月バイオリズム!$B$4),E$2))/E$2)","v":0.75574957435425827},"▽","高調期ピーク","下降中","↑","高調期（活動期）","上昇中","↓","高調期（活動期）","下降中",2.5352498260128273,"▽","高調期ピーク","下降中"]
["1900-05-24","1900-05-24",{"$f":"SIN(2*PI()*(MOD(($B148-今月バイオリズム!$B$4),C$2))/C$2)","v":0.94226092211882051},{"$f":"SIN(2*PI()*(MOD(($B148-今月バイオリズム!$B$4),D$2))/D$2)","v":0.90096886790241915},{"$f":"SIN(2*PI()*(MOD(($B148-今月バイオリズム!$B$4),E$2))/E$2)","v":0.61815898622060506},"↓","高調期（活動期）","下降中","↑","高調期（活動期）","上昇中","↓","高調期（活動期）","下降中",2.4613887762418445,"↓","高調期（活動期）","下降中"]
["1900-05-25","1900-05-25",{"$f":"SIN(2*PI()*(MOD(($B149-今月バイオリズム!$B$4),C$2))/C$2)","v":0.81696989301044209},{"$f":"SIN(2*PI()*(MOD(($B149-今月バイオリズム!$B$4),D$2))/D$2)","v":0.97492791218182362},{"$f":"SIN(2*PI()*(MOD(($B149-今月バイオリズム!$B$4),E$2))/E$2)","v":0.45822652172741052},"↓","高調期（活動期）","下降中","↑","高調期（活動期）","上昇中","↓","高調期（活動期）","下降中",2.2501243269196762,"↓","高調期（活動期）","下降中"]
["1900-05-26","1900-05-26",{"$f":"SIN(2*PI()*(MOD(($B150-今月バイオリズム!$B$4),C$2))/C$2)","v":0.63108794432605297},{"$f":"SIN(2*PI()*(MOD(($B150-今月バイオリズム!$B$4),D$2))/D$2)","v":1},{"$f":"SIN(2*PI()*(MOD(($B150-今月バイオリズム!$B$4),E$2))/E$2)","v":0.28173255684143006},"↓","高調期（活動期）","下降中","▽","高調期ピーク","下降中","↓","高調期（活動期）","下降中",1.912820501167483,"↓","高調期（活動期）","下降中"]
["1900-05-27","1900-05-27",{"$f":"SIN(2*PI()*(MOD(($B151-今月バイオリズム!$B$4),C$2))/C$2)","v":0.3984010898462414},{"$f":"SIN(2*PI()*(MOD(($B151-今月バイオリズム!$B$4),D$2))/D$2)","v":0.97492791218182362},{"$f":"SIN(2*PI()*(MOD(($B151-今月バイオリズム!$B$4),E$2))/E$2)","v":9.505604330418288E-2},"↓","高調期（活動期）","下降中","↓","高調期（活動期）","下降中","↓","高調期（活動期）","下降中",1.468385045332248,"↓","高調期（活動期）","下降中"]
["1900-05-28","1900-05-28",{"$f":"SIN(2*PI()*(MOD(($B152-今月バイオリズム!$B$4),C$2))/C$2)","v":0.13616664909624709},{"$f":"SIN(2*PI()*(MOD(($B152-今月バイオリズム!$B$4),D$2))/D$2)","v":0.90096886790241915},{"$f":"SIN(2*PI()*(MOD(($B152-今月バイオリズム!$B$4),E$2))/E$2)","v":-9.505604330418263E-2},"↓","高調期（活動期）","下降中","↓","高調期（活動期）","下降中","↓","要注意","",0.94207947369448364,"↓","高調期（活動期）","下降中"]
["1900-05-29","1900-05-29",{"$f":"SIN(2*PI()*(MOD(($B153-今月バイオリズム!$B$4),C$2))/C$2)","v":-0.1361666490962464},{"$f":"SIN(2*PI()*(MOD(($B153-今月バイオリズム!$B$4),D$2))/D$2)","v":0.78183148246802991},{"$f":"SIN(2*PI()*(MOD(($B153-今月バイオリズム!$B$4),E$2))/E$2)","v":-0.28173255684142939},"↓","要注意","","↓","高調期（活動期）","下降中","↓","低調期（充電期）","下降中",0.36393227653035409,"↓","高調期（活動期）","下降中"]
["1900-05-30","1900-05-30",{"$f":"SIN(2*PI()*(MOD(($B154-今月バイオリズム!$B$4),C$2))/C$2)","v":-0.39840108984624156},{"$f":"SIN(2*PI()*(MOD(($B154-今月バイオリズム!$B$4),D$2))/D$2)","v":0.62348980185873393},{"$f":"SIN(2*PI()*(MOD(($B154-今月バイオリズム!$B$4),E$2))/E$2)","v":-0.45822652172740991},"↓","低調期（充電期）","下降中","↓","高調期（活動期）","下降中","↓","低調期（充電期）","下降中",-0.23313780971491754,"↓","要注意",""]
["1900-05-31","1900-05-31",{"$f":"SIN(2*PI()*(MOD(($B155-今月バイオリズム!$B$4),C$2))/C$2)","v":-0.63108794432605275},{"$f":"SIN(2*PI()*(MOD(($B155-今月バイオリズム!$B$4),D$2))/D$2)","v":0.43388373911755823},{"$f":"SIN(2*PI()*(MOD(($B155-今月バイオリズム!$B$4),E$2))/E$2)","v":-0.61815898622060528},"↓","低調期（充電期）","下降中","↓","高調期（活動期）","下降中","↓","低調期（充電期）","下降中",-0.81536319142909974,"↓","低調期（充電期）","下降中"]
["1900-06-01","1900-06-01",{"$f":"SIN(2*PI()*(MOD(($B156-今月バイオリズム!$B$4),C$2))/C$2)","v":-0.81696989301044198},{"$f":"SIN(2*PI()*(MOD(($B156-今月バイオリズム!$B$4),D$2))/D$2)","v":0.22252093395631409},{"$f":"SIN(2*PI()*(MOD(($B156-今月バイオリズム!$B$4),E$2))/E$2)","v":-0.75574957435425849},"↓","低調期（充電期）","下降中","↓","高調期（活動期）","下降中","↓","低調期（充電期）","下降中",-1.3501985334083864,"↓","低調期（充電期）","下降中"]
["1900-06-02","1900-06-02",{"$f":"SIN(2*PI()*(MOD(($B157-今月バイオリズム!$B$4),C$2))/C$2)","v":-0.9422609221188204},{"$f":"SIN(2*PI()*(MOD(($B157-今月バイオリズム!$B$4),D$2))/D$2)","v":1.22514845490862E-16},{"$f":"SIN(2*PI()*(MOD(($B157-今月バイオリズム!$B$4),E$2))/E$2)","v":-0.86602540378443837},"↓","低調期（充電期）","下降中","↓","高調期（活動期）","下降中","↓","低調期（充電期）","下降中",-1.8082863259032587,"↓","低調期（充電期）","下降中"]
["1900-06-03","1900-06-03",{"$f":"SIN(2*PI()*(MOD(($B158-今月バイオリズム!$B$4),C$2))/C$2)","v":-0.99766876919053926},{"$f":"SIN(2*PI()*(MOD(($B158-今月バイオリズム!$B$4),D$2))/D$2)","v":-0.22252093395631384},{"$f":"SIN(2*PI()*(MOD(($B158-今月バイオリズム!$B$4),E$2))/E$2)","v":-0.94500081871466834},"▲","低調期ピーク","下降中","↓","要注意","","↓","低調期（充電期）","下降中",-2.1651905218615215,"↓","低調期（充電期）","下降中"]
["1900-06-04","1900-06-04",{"$f":"SIN(2*PI()*(MOD(($B159-今月バイオリズム!$B$4),C$2))/C$2)","v":-0.97908408768232302},{"$f":"SIN(2*PI()*(MOD(($B159-今月バイオリズム!$B$4),D$2))/D$2)","v":-0.43388373911755801},{"$f":"SIN(2*PI()*(MOD(($B159-今月バイオリズム!$B$4),E$2))/E$2)","v":-0.98982144188093268},"↑","低調期（充電期）","上昇中","↓","低調期（充電期）","下降中","↓","低調期（充電期）","下降中",-2.4027892686808139,"↓","低調期（充電期）","下降中"]
["1900-06-05","1900-06-05",{"$f":"SIN(2*PI()*(MOD(($B160-今月バイオリズム!$B$4),C$2))/C$2)","v":-0.88788521840237555},{"$f":"SIN(2*PI()*(MOD(($B160-今月バイオリズム!$B$4),D$2))/D$2)","v":-0.62348980185873382},{"$f":"SIN(2*PI()*(MOD(($B160-今月バイオリズム!$B$4),E$2))/E$2)","v":-0.99886733918300796},"↑","低調期（充電期）","上昇中","↓","低調期（充電期）","下降中","▲","低調期ピーク","下降中",-2.5102423594441174,"▲","低調期ピーク","下降中"]
["1900-06-06","1900-06-06",{"$f":"SIN(2*PI()*(MOD(($B161-今月バイオリズム!$B$4),C$2))/C$2)","v":-0.73083596427812403},{"$f":"SIN(2*PI()*(MOD(($B161-今月バイオリズム!$B$4),D$2))/D$2)","v":-0.78183148246802969},{"$f":"SIN(2*PI()*(MOD(($B161-今月バイオリズム!$B$4),E$2))/E$2)","v":-0.97181156832354165},"↑","低調期（充電期）","上昇中","↓","低調期（充電期）","下降中","↑","低調期（充電期）","上昇中",-2.4844790150696956,"↑","低調期（充電期）","上昇中"]
["1900-06-07","1900-06-07",{"$f":"SIN(2*PI()*(MOD(($B162-今月バイオリズム!$B$4),C$2))/C$2)","v":-0.51958395003543356},{"$f":"SIN(2*PI()*(MOD(($B162-今月バイオリズム!$B$4),D$2))/D$2)","v":-0.90096886790241903},{"$f":"SIN(2*PI()*(MOD(($B162-今月バイオリズム!$B$4),E$2))/E$2)","v":-0.90963199535451855},"↑","低調期（充電期）","上昇中","↓","低調期（充電期）","下降中","↑","低調期（充電期）","上昇中",-2.3301848132923713,"↑","低調期（充電期）","上昇中"]
["1900-06-08","1900-06-08",{"$f":"SIN(2*PI()*(MOD(($B163-今月バイオリズム!$B$4),C$2))/C$2)","v":-0.26979677115702522},{"$f":"SIN(2*PI()*(MOD(($B163-今月バイオリズム!$B$4),D$2))/D$2)","v":-0.97492791218182362},{"$f":"SIN(2*PI()*(MOD(($B163-今月バイオリズム!$B$4),E$2))/E$2)","v":-0.81457595205033584},"↑","低調期（充電期）","上昇中","↓","低調期（充電期）","下降中","↑","低調期（充電期）","上昇中",-2.0593006353891847,"↑","低調期（充電期）","上昇中"]
["1900-06-09","1900-06-09",{"$f":"SIN(2*PI()*(MOD(($B164-今月バイオリズム!$B$4),C$2))/C$2)","v":0},{"$f":"SIN(2*PI()*(MOD(($B164-今月バイオリズム!$B$4),D$2))/D$2)","v":-1},{"$f":"SIN(2*PI()*(MOD(($B164-今月バイオリズム!$B$4),E$2))/E$2)","v":-0.69007901148211204},"↑","要注意","","▲","低調期ピーク","下降中","↑","低調期（充電期）","上昇中",-1.690079011482112,"↑","低調期（充電期）","上昇中"]
["1900-06-10","1900-06-10",{"$f":"SIN(2*PI()*(MOD(($B165-今月バイオリズム!$B$4),C$2))/C$2)","v":0.26979677115702427},{"$f":"SIN(2*PI()*(MOD(($B165-今月バイオリズム!$B$4),D$2))/D$2)","v":-0.97492791218182384},{"$f":"SIN(2*PI()*(MOD(($B165-今月バイオリズム!$B$4),E$2))/E$2)","v":-0.54064081745559822},"↑","要注意","","↑","低調期（充電期）","上昇中","↑","低調期（充電期）","上昇中",-1.2457719584803977,"↑","低調期（充電期）","上昇中"]
["1900-06-11","1900-06-11",{"$f":"SIN(2*PI()*(MOD(($B166-今月バイオリズム!$B$4),C$2))/C$2)","v":0.51958395003543356},{"$f":"SIN(2*PI()*(MOD(($B166-今月バイオリズム!$B$4),D$2))/D$2)","v":-0.90096886790241926},{"$f":"SIN(2*PI()*(MOD(($B166-今月バイオリズム!$B$4),E$2))/E$2)","v":-0.37166245566032807},"↑","高調期（活動期）","上昇中","↑","低調期（充電期）","上昇中","↑","低調期（充電期）","上昇中",-0.75304737352731377,"↑","低調期（充電期）","上昇中"]
["1900-06-12","1900-06-12",{"$f":"SIN(2*PI()*(MOD(($B167-今月バイオリズム!$B$4),C$2))/C$2)","v":0.73083596427812403},{"$f":"SIN(2*PI()*(MOD(($B167-今月バイオリズム!$B$4),D$2))/D$2)","v":-0.78183148246802991},{"$f":"SIN(2*PI()*(MOD(($B167-今月バイオリズム!$B$4),E$2))/E$2)","v":-0.18925124436041063},"↑","高調期（活動期）","上昇中","↑","低調期（充電期）","上昇中","↑","低調期（充電期）","上昇中",-0.24024676255031652,"↑","低調期（充電期）","上昇中"]
["1900-06-13","1900-06-13",{"$f":"SIN(2*PI()*(MOD(($B168-今月バイオリズム!$B$4),C$2))/C$2)","v":0.88788521840237522},{"$f":"SIN(2*PI()*(MOD(($B168-今月バイオリズム!$B$4),D$2))/D$2)","v":-0.62348980185873371},{"$f":"SIN(2*PI()*(MOD(($B168-今月バイオリズム!$B$4),E$2))/E$2)","v":0},"↑","高調期（活動期）","上昇中","↑","低調期（充電期）","上昇中","↑","要注意","",0.26439541654364151,"↑","要注意",""]
["1900-06-14","1900-06-14",{"$f":"SIN(2*PI()*(MOD(($B169-今月バイオリズム!$B$4),C$2))/C$2)","v":0.97908408768232291},{"$f":"SIN(2*PI()*(MOD(($B169-今月バイオリズム!$B$4),D$2))/D$2)","v":-0.43388373911755751},{"$f":"SIN(2*PI()*(MOD(($B169-今月バイオリズム!$B$4),E$2))/E$2)","v":0.18925124436041019},"↑","高調期（活動期）","上昇中","↑","低調期（充電期）","上昇中","↑","要注意","",0.73445159292517559,"↑","高調期（活動期）","上昇中"]
["1900-06-15","1900-06-15",{"$f":"SIN(2*PI()*(MOD(($B170-今月バイオリズム!$B$4),C$2))/C$2)","v":0.99766876919053915},{"$f":"SIN(2*PI()*(MOD(($B170-今月バイオリズム!$B$4),D$2))/D$2)","v":-0.22252093395631464},{"$f":"SIN(2*PI()*(MOD(($B170-今月バイオリズム!$B$4),E$2))/E$2)","v":0.37166245566032752},"▽","高調期ピーク","下降中","↑","低調期（充電期）","上昇中","↑","高調期（活動期）","上昇中",1.1468102908945519,"↑","高調期（活動期）","上昇中"]
["1900-06-16","1900-06-16",{"$f":"SIN(2*PI()*(MOD(($B171-今月バイオリズム!$B$4),C$2))/C$2)","v":0.94226092211882051},{"$f":"SIN(2*PI()*(MOD(($B171-今月バイオリズム!$B$4),D$2))/D$2)","v":0},{"$f":"SIN(2*PI()*(MOD(($B171-今月バイオリズム!$B$4),E$2))/E$2)","v":0.54064081745559756},"↓","高調期（活動期）","下降中","↑","要注意","","↑","高調期（活動期）","上昇中",1.4829017395744182,"↑","高調期（活動期）","上昇中"]
["1900-06-17","1900-06-17",{"$f":"SIN(2*PI()*(MOD(($B172-今月バイオリズム!$B$4),C$2))/C$2)","v":0.81696989301044209},{"$f":"SIN(2*PI()*(MOD(($B172-今月バイオリズム!$B$4),D$2))/D$2)","v":0.22252093395631439},{"$f":"SIN(2*PI()*(MOD(($B172-今月バイオリズム!$B$4),E$2))/E$2)","v":0.69007901148211193},"↓","高調期（活動期）","下降中","↑","要注意","","↑","高調期（活動期）","上昇中",1.7295698384488682,"↑","高調期（活動期）","上昇中"]
["1900-06-18","1900-06-18",{"$f":"SIN(2*PI()*(MOD(($B173-今月バイオリズム!$B$4),C$2))/C$2)","v":0.63108794432605297},{"$f":"SIN(2*PI()*(MOD(($B173-今月バイオリズム!$B$4),D$2))/D$2)","v":0.43388373911755812},{"$f":"SIN(2*PI()*(MOD(($B173-今月バイオリズム!$B$4),E$2))/E$2)","v":0.81457595205033573},"↓","高調期（活動期）","下降中","↑","高調期（活動期）","上昇中","↑","高調期（活動期）","上昇中",1.8795476354939469,"↑","高調期（活動期）","上昇中"]
["1900-06-19","1900-06-19",{"$f":"SIN(2*PI()*(MOD(($B174-今月バイオリズム!$B$4),C$2))/C$2)","v":0.3984010898462414},{"$f":"SIN(2*PI()*(MOD(($B174-今月バイオリズム!$B$4),D$2))/D$2)","v":0.62348980185873348},{"$f":"SIN(2*PI()*(MOD(($B174-今月バイオリズム!$B$4),E$2))/E$2)","v":0.90963199535451833},"↓","高調期（活動期）","下降中","↑","高調期（活動期）","上昇中","↑","高調期（活動期）","上昇中",1.9315228870594932,"▽","高調期ピーク","下降中"]
["1900-06-20","1900-06-20",{"$f":"SIN(2*PI()*(MOD(($B175-今月バイオリズム!$B$4),C$2))/C$2)","v":0.13616664909624709},{"$f":"SIN(2*PI()*(MOD(($B175-今月バイオリズム!$B$4),D$2))/D$2)","v":0.7818314824680298},{"$f":"SIN(2*PI()*(MOD(($B175-今月バイオリズム!$B$4),E$2))/E$2)","v":0.97181156832354165},"↓","高調期（活動期）","下降中","↑","高調期（活動期）","上昇中","↑","高調期（活動期）","上昇中",1.8898096998878184,"↓","高調期（活動期）","下降中"]
["1900-06-21","1900-06-21",{"$f":"SIN(2*PI()*(MOD(($B176-今月バイオリズム!$B$4),C$2))/C$2)","v":-0.1361666490962464},{"$f":"SIN(2*PI()*(MOD(($B176-今月バイオリズム!$B$4),D$2))/D$2)","v":0.90096886790241915},{"$f":"SIN(2*PI()*(MOD(($B176-今月バイオリズム!$B$4),E$2))/E$2)","v":0.99886733918300796},"↓","要注意","","↑","高調期（活動期）","上昇中","▽","高調期ピーク","下降中",1.7636695579891808,"↓","高調期（活動期）","下降中"]
["1900-06-22","1900-06-22",{"$f":"SIN(2*PI()*(MOD(($B177-今月バイオリズム!$B$4),C$2))/C$2)","v":-0.39840108984624156},{"$f":"SIN(2*PI()*(MOD(($B177-今月バイオリズム!$B$4),D$2))/D$2)","v":0.97492791218182362},{"$f":"SIN(2*PI()*(MOD(($B177-今月バイオリズム!$B$4),E$2))/E$2)","v":0.9898214418809328},"↓","低調期（充電期）","下降中","↑","高調期（活動期）","上昇中","↓","高調期（活動期）","下降中",1.566348264216515,"↓","高調期（活動期）","下降中"]
["1900-06-23","1900-06-23",{"$f":"SIN(2*PI()*(MOD(($B178-今月バイオリズム!$B$4),C$2))/C$2)","v":-0.63108794432605275},{"$f":"SIN(2*PI()*(MOD(($B178-今月バイオリズム!$B$4),D$2))/D$2)","v":1},{"$f":"SIN(2*PI()*(MOD(($B178-今月バイオリズム!$B$4),E$2))/E$2)","v":0.94500081871466846},"↓","低調期（充電期）","下降中","▽","高調期ピーク","下降中","↓","高調期（活動期）","下降中",1.3139128743886157,"↓","高調期（活動期）","下降中"]
["1900-06-24","1900-06-24",{"$f":"SIN(2*PI()*(MOD(($B179-今月バイオリズム!$B$4),C$2))/C$2)","v":-0.81696989301044198},{"$f":"SIN(2*PI()*(MOD(($B179-今月バイオリズム!$B$4),D$2))/D$2)","v":0.97492791218182362},{"$f":"SIN(2*PI()*(MOD(($B179-今月バイオリズム!$B$4),E$2))/E$2)","v":0.86602540378443871},"↓","低調期（充電期）","下降中","↓","高調期（活動期）","下降中","↓","高調期（活動期）","下降中",1.0239834229558205,"↓","高調期（活動期）","下降中"]
["1900-06-25","1900-06-25",{"$f":"SIN(2*PI()*(MOD(($B180-今月バイオリズム!$B$4),C$2))/C$2)","v":-0.9422609221188204},{"$f":"SIN(2*PI()*(MOD(($B180-今月バイオリズム!$B$4),D$2))/D$2)","v":0.90096886790241915},{"$f":"SIN(2*PI()*(MOD(($B180-今月バイオリズム!$B$4),E$2))/E$2)","v":0.75574957435425827},"↓","低調期（充電期）","下降中","↓","高調期（活動期）","下降中","↓","高調期（活動期）","下降中",0.71445752013785702,"↓","高調期（活動期）","下降中"]
["1900-06-26","1900-06-26",{"$f":"SIN(2*PI()*(MOD(($B181-今月バイオリズム!$B$4),C$2))/C$2)","v":-0.99766876919053926},{"$f":"SIN(2*PI()*(MOD(($B181-今月バイオリズム!$B$4),D$2))/D$2)","v":0.78183148246802991},{"$f":"SIN(2*PI()*(MOD(($B181-今月バイオリズム!$B$4),E$2))/E$2)","v":0.61815898622060506},"▲","低調期ピーク","下降中","↓","高調期（活動期）","下降中","↓","高調期（活動期）","下降中",0.40232169949809571,"↓","高調期（活動期）","下降中"]
["1900-06-27","1900-06-27",{"$f":"SIN(2*PI()*(MOD(($B182-今月バイオリズム!$B$4),C$2))/C$2)","v":-0.97908408768232302},{"$f":"SIN(2*PI()*(MOD(($B182-今月バイオリズム!$B$4),D$2))/D$2)","v":0.62348980185873393},{"$f":"SIN(2*PI()*(MOD(($B182-今月バイオリズム!$B$4),E$2))/E$2)","v":0.45822652172741052},"↑","低調期（充電期）","上昇中","↓","高調期（活動期）","下降中","↓","高調期（活動期）","下降中",0.10263223590382142,"↓","高調期（活動期）","下降中"]
["1900-06-28","1900-06-28",{"$f":"SIN(2*PI()*(MOD(($B183-今月バイオリズム!$B$4),C$2))/C$2)","v":-0.88788521840237555},{"$f":"SIN(2*PI()*(MOD(($B183-今月バイオリズム!$B$4),D$2))/D$2)","v":0.43388373911755823},{"$f":"SIN(2*PI()*(MOD(($B183-今月バイオリズム!$B$4),E$2))/E$2)","v":0.28173255684143006},"↑","低調期（充電期）","上昇中","↓","高調期（活動期）","下降中","↓","高調期（活動期）","下降中",-0.17226892244338726,"↓","要注意",""]
["1900-06-29","1900-06-29",{"$f":"SIN(2*PI()*(MOD(($B184-今月バイオリズム!$B$4),C$2))/C$2)","v":-0.73083596427812403},{"$f":"SIN(2*PI()*(MOD(($B184-今月バイオリズム!$B$4),D$2))/D$2)","v":0.22252093395631409},{"$f":"SIN(2*PI()*(MOD(($B184-今月バイオリズム!$B$4),E$2))/E$2)","v":9.505604330418288E-2},"↑","低調期（充電期）","上昇中","↓","高調期（活動期）","下降中","↓","高調期（活動期）","下降中",-0.41325898701762703,null,"低調期（充電期）","下降中"]
["1900-06-30","1900-06-30",{"$f":"SIN(2*PI()*(MOD(($B185-今月バイオリズム!$B$4),C$2))/C$2)","v":-0.51958395003543356},{"$f":"SIN(2*PI()*(MOD(($B185-今月バイオリズム!$B$4),D$2))/D$2)","v":1.22514845490862E-16},{"$f":"SIN(2*PI()*(MOD(($B185-今月バイオリズム!$B$4),E$2))/E$2)","v":-9.505604330418263E-2},"↑","低調期（充電期）","上昇中","↓","高調期（活動期）","下降中","↓","要注意","",-0.61463999333961605,null,"低調期（充電期）","下降中"]
["1900-07-01","1900-07-01",{"$f":"SIN(2*PI()*(MOD(($B186-今月バイオリズム!$B$4),C$2))/C$2)","v":-0.26979677115702522},{"$f":"SIN(2*PI()*(MOD(($B186-今月バイオリズム!$B$4),D$2))/D$2)","v":-0.22252093395631384},{"$f":"SIN(2*PI()*(MOD(($B186-今月バイオリズム!$B$4),E$2))/E$2)","v":-0.28173255684142939},"↑","低調期（充電期）","上昇中","↓","要注意","","↓","低調期（充電期）","下降中",-0.77405026195476845,null,"低調期（充電期）","下降中"]
["1900-07-02","1900-07-02",{"$f":"SIN(2*PI()*(MOD(($B187-今月バイオリズム!$B$4),C$2))/C$2)","v":0},{"$f":"SIN(2*PI()*(MOD(($B187-今月バイオリズム!$B$4),D$2))/D$2)","v":-0.43388373911755801},{"$f":"SIN(2*PI()*(MOD(($B187-今月バイオリズム!$B$4),E$2))/E$2)","v":-0.45822652172740991},"↑","要注意","","↓","低調期（充電期）","下降中","↓","低調期（充電期）","下降中",-0.89211026084496792,null,"低調期（充電期）","下降中"]
["1900-07-03","1900-07-03",{"$f":"SIN(2*PI()*(MOD(($B188-今月バイオリズム!$B$4),C$2))/C$2)","v":0.26979677115702427},{"$f":"SIN(2*PI()*(MOD(($B188-今月バイオリズム!$B$4),D$2))/D$2)","v":-0.62348980185873382},{"$f":"SIN(2*PI()*(MOD(($B188-今月バイオリズム!$B$4),E$2))/E$2)","v":-0.61815898622060528},"↑","要注意","","↓","低調期（充電期）","下降中","↓","低調期（充電期）","下降中",-0.97185201692231482,null,"低調期（充電期）","下降中"]
["1900-07-04","1900-07-04",{"$f":"SIN(2*PI()*(MOD(($B189-今月バイオリズム!$B$4),C$2))/C$2)","v":0.51958395003543356},{"$f":"SIN(2*PI()*(MOD(($B189-今月バイオリズム!$B$4),D$2))/D$2)","v":-0.78183148246802969},{"$f":"SIN(2*PI()*(MOD(($B189-今月バイオリズム!$B$4),E$2))/E$2)","v":-0.75574957435425849},"↑","高調期（活動期）","上昇中","↓","低調期（充電期）","下降中","↓","低調期（充電期）","下降中",-1.0179971067868547,null,"低調期（充電期）","下降中"]
["1900-07-05","1900-07-05",{"$f":"SIN(2*PI()*(MOD(($B190-今月バイオリズム!$B$4),C$2))/C$2)","v":0.73083596427812403},{"$f":"SIN(2*PI()*(MOD(($B190-今月バイオリズム!$B$4),D$2))/D$2)","v":-0.90096886790241903},{"$f":"SIN(2*PI()*(MOD(($B190-今月バイオリズム!$B$4),E$2))/E$2)","v":-0.86602540378443837},"↑","高調期（活動期）","上昇中","↓","低調期（充電期）","下降中","↓","低調期（充電期）","下降中",-1.0361583074087335,null,"低調期（充電期）","下降中"]
["1900-07-06","1900-07-06",{"$f":"SIN(2*PI()*(MOD(($B191-今月バイオリズム!$B$4),C$2))/C$2)","v":0.88788521840237522},{"$f":"SIN(2*PI()*(MOD(($B191-今月バイオリズム!$B$4),D$2))/D$2)","v":-0.97492791218182362},{"$f":"SIN(2*PI()*(MOD(($B191-今月バイオリズム!$B$4),E$2))/E$2)","v":-0.94500081871466834},"↑","高調期（活動期）","上昇中","↓","低調期（充電期）","下降中","↓","低調期（充電期）","下降中",-1.0320435124941167,null,"低調期（充電期）","下降中"]
["1900-07-07","1900-07-07",{"$f":"SIN(2*PI()*(MOD(($B192-今月バイオリズム!$B$4),C$2))/C$2)","v":0.97908408768232291},{"$f":"SIN(2*PI()*(MOD(($B192-今月バイオリズム!$B$4),D$2))/D$2)","v":-1},{"$f":"SIN(2*PI()*(MOD(($B192-今月バイオリズム!$B$4),E$2))/E$2)","v":-0.98982144188093268},"↑","高調期（活動期）","上昇中","▲","低調期ピーク","下降中","↓","低調期（充電期）","下降中",-1.0107373541986098,null,"低調期（充電期）","下降中"]
["1900-07-08","1900-07-08",{"$f":"SIN(2*PI()*(MOD(($B193-今月バイオリズム!$B$4),C$2))/C$2)","v":0.99766876919053915},{"$f":"SIN(2*PI()*(MOD(($B193-今月バイオリズム!$B$4),D$2))/D$2)","v":-0.97492791218182384},{"$f":"SIN(2*PI()*(MOD(($B193-今月バイオリズム!$B$4),E$2))/E$2)","v":-0.99886733918300796},"▽","高調期ピーク","下降中","↑","低調期（充電期）","上昇中","▲","低調期ピーク","下降中",-0.97612648217429265,null,"低調期（充電期）","下降中"]
["1900-07-09","1900-07-09",{"$f":"SIN(2*PI()*(MOD(($B194-今月バイオリズム!$B$4),C$2))/C$2)","v":0.94226092211882051},{"$f":"SIN(2*PI()*(MOD(($B194-今月バイオリズム!$B$4),D$2))/D$2)","v":-0.90096886790241926},{"$f":"SIN(2*PI()*(MOD(($B194-今月バイオリズム!$B$4),E$2))/E$2)","v":-0.97181156832354165},"↓","高調期（活動期）","下降中","↑","低調期（充電期）","上昇中","↑","低調期（充電期）","上昇中",-0.9305195141071404,null,"低調期（充電期）","下降中"]
["1900-07-10","1900-07-10",{"$f":"SIN(2*PI()*(MOD(($B195-今月バイオリズム!$B$4),C$2))/C$2)","v":0.81696989301044209},{"$f":"SIN(2*PI()*(MOD(($B195-今月バイオリズム!$B$4),D$2))/D$2)","v":-0.78183148246802991},{"$f":"SIN(2*PI()*(MOD(($B195-今月バイオリズム!$B$4),E$2))/E$2)","v":-0.90963199535451855},"↓","高調期（活動期）","下降中","↑","低調期（充電期）","上昇中","↑","低調期（充電期）","上昇中",-0.87449358481210637,null,"低調期（充電期）","下降中"]
["1900-07-11","1900-07-11",{"$f":"SIN(2*PI()*(MOD(($B196-今月バイオリズム!$B$4),C$2))/C$2)","v":0.63108794432605297},{"$f":"SIN(2*PI()*(MOD(($B196-今月バイオリズム!$B$4),D$2))/D$2)","v":-0.62348980185873371},{"$f":"SIN(2*PI()*(MOD(($B196-今月バイオリズム!$B$4),E$2))/E$2)","v":-0.81457595205033584},"↓","高調期（活動期）","下降中","↑","低調期（充電期）","上昇中","↑","低調期（充電期）","上昇中",-0.80697780958301657,null,"低調期（充電期）","下降中"]
[{"$f":"B197","v":"1900-07-12"},"1900-07-12",{"$f":"SIN(2*PI()*(MOD(($B197-今月バイオリズム!$B$4),C$2))/C$2)","v":0.3984010898462414},{"$f":"SIN(2*PI()*(MOD(($B197-今月バイオリズム!$B$4),D$2))/D$2)","v":-0.43388373911755751},{"$f":"SIN(2*PI()*(MOD(($B197-今月バイオリズム!$B$4),E$2))/E$2)","v":-0.69007901148211204},"↓","高調期（活動期）","下降中",{"$f":"IF(D197>0,IF(D196<D197,IF(D198<D197,\"▽\",\"↑\"),\"↓\"),IF(D196>D197,IF(D198>D197,\"▲\",\"↓\"),\"↑\"))","v":"↑"},{"$f":"IF(OR(AND(D196<=0,D197>=0),AND(D196>=0,D197<=0)),\"要注意\",IF(D197>0,IF(I197=\"▽\",\"高調期ピーク\",\"高調期（活動期）\"),IF(I197=\"▲\",\"低調期ピーク\",\"低調期（充電期）\")))","v":"低調期（充電期）"},"上昇中",{"$f":"IF(E197>0,IF(E196<E197,IF(E198<E197,\"▽\",\"↑\"),\"↓\"),IF(E196>E197,IF(E198>E197,\"▲\",\"↓\"),\"↑\"))","v":"↑"},{"$f":"IF(OR(AND(E196<=0,E197>=0),AND(E196>=0,E197<=0)),\"要注意\",IF(E197>0,IF(L197=\"▽\",\"高調期ピーク\",\"高調期（活動期）\"),IF(L197=\"▲\",\"低調期ピーク\",\"低調期（充電期）\")))","v":"低調期（充電期）"},"上昇中",{"$f":"SUM(C197:E197)","v":-0.72556166075342809},null,"低調期（充電期）","下降中"]
["1900-07-13",{"$f":"B197+1","v":"1900-07-13"},{"$f":"SIN(2*PI()*(MOD(($B198-今月バイオリズム!$B$4),C$2))/C$2)","v":0.13616664909624709},{"$f":"SIN(2*PI()*(MOD(($B198-今月バイオリズム!$B$4),D$2))/D$2)","v":-0.22252093395631464},{"$f":"SIN(2*PI()*(MOD(($B198-今月バイオリズム!$B$4),E$2))/E$2)","v":-0.54064081745559822},"↓",{"$f":"IF(OR(AND(C197<=0,C198>=0),AND(C197>=0,C198<=0)),\"要注意\",IF(C198>0,IF(F198=\"▽\",\"高調期ピーク\",\"高調期（活動期）\"),IF(F198=\"▲\",\"低調期ピーク\",\"低調期（充電期）\")))","v":"高調期（活動期）"},"下降中","↑","低調期（充電期）",{"$f":"IF(J198=\"要注意\",\"\",IF(I198=\"↑\",\"上昇中\",\"下降中\"))","v":"上昇中"},"↑","低調期（充電期）",{"$f":"IF(M198=\"要注意\",\"\",IF(L198=\"↑\",\"上昇中\",\"下降中\"))","v":"上昇中"},-0.6269951023156658,null,"低調期（充電期）",{"$f":"IF(Q198=\"要注意\",\"\",IF(P198=\"↑\",\"上昇中\",\"下降中\"))","v":"下降中"}]
["1900-07-14","1900-07-14",{"$f":"SIN(2*PI()*(MOD(($B199-今月バイオリズム!$B$4),C$2))/C$2)","v":-0.1361666490962464},{"$f":"SIN(2*PI()*(MOD(($B199-今月バイオリズム!$B$4),D$2))/D$2)","v":0},{"$f":"SIN(2*PI()*(MOD(($B199-今月バイオリズム!$B$4),E$2))/E$2)","v":-0.37166245566032807},"↓","要注意","","↑","要注意","","↑","低調期（充電期）","上昇中",-0.5078291047565745,null,{"$f":"IF(OR(AND(O198<=0,O199>=0),AND(O198>=0,O199<=0)),\"要注意\",IF(O199>0,IF(P199=\"▽\",\"高調期ピーク\",\"高調期（活動期）\"),IF(P199=\"▲\",\"低調期ピーク\",\"低調期（充電期）\")))","v":"低調期（充電期）"},"下降中"]
["1900-07-15","1900-07-15",{"$f":"SIN(2*PI()*(MOD(($B200-今月バイオリズム!$B$4),C$2))/C$2)","v":-0.39840108984624156},{"$f":"SIN(2*PI()*(MOD(($B200-今月バイオリズム!$B$4),D$2))/D$2)","v":0.22252093395631439},{"$f":"SIN(2*PI()*(MOD(($B200-今月バイオリズム!$B$4),E$2))/E$2)","v":-0.18925124436041063},"↓","低調期（充電期）","下降中","↑","要注意","","↑","低調期（充電期）","上昇中",-0.3651314002503378,null,"低調期（充電期）","下降中"]
["1900-07-16","1900-07-16",{"$f":"SIN(2*PI()*(MOD(($B201-今月バイオリズム!$B$4),C$2))/C$2)","v":-0.63108794432605275},{"$f":"SIN(2*PI()*(MOD(($B201-今月バイオリズム!$B$4),D$2))/D$2)","v":0.43388373911755812},{"$f":"SIN(2*PI()*(MOD(($B201-今月バイオリズム!$B$4),E$2))/E$2)","v":0},"↓","低調期（充電期）","下降中","↑","高調期（活動期）","上昇中","↑","要注意","",-0.19720420520849463,null,"低調期（充電期）","下降中"]
["1900-07-17","1900-07-17",{"$f":"SIN(2*PI()*(MOD(($B202-今月バイオリズム!$B$4),C$2))/C$2)","v":-0.81696989301044198},{"$f":"SIN(2*PI()*(MOD(($B202-今月バイオリズム!$B$4),D$2))/D$2)","v":0.62348980185873348},{"$f":"SIN(2*PI()*(MOD(($B202-今月バイオリズム!$B$4),E$2))/E$2)","v":0.18925124436041019},"↓","低調期（充電期）","下降中","↑","高調期（活動期）","上昇中","↑","要注意","",-4.228846791298313E-3,null,"低調期（充電期）","下降中"]
["1900-07-18","1900-07-18",{"$f":"SIN(2*PI()*(MOD(($B203-今月バイオリズム!$B$4),C$2))/C$2)","v":-0.9422609221188204},{"$f":"SIN(2*PI()*(MOD(($B203-今月バイオリズム!$B$4),D$2))/D$2)","v":0.7818314824680298},{"$f":"SIN(2*PI()*(MOD(($B203-今月バイオリズム!$B$4),E$2))/E$2)","v":0.37166245566032752},{"$f":"IF(C203>0,IF(C202<C203,IF(C204<C203,\"▽\",\"↑\"),\"↓\"),IF(C202>C203,IF(C204>C203,\"▲\",\"↓\"),\"↑\"))","v":"↓"},"低調期（充電期）",{"$f":"IF(G203=\"要注意\",\"\",IF(F203=\"↑\",\"上昇中\",\"下降中\"))","v":"下降中"},"↑","高調期（活動期）","上昇中","↑","高調期（活動期）","上昇中",0.21123301600953692,null,"要注意",""]
["1900-07-19","1900-07-19",{"$f":"SIN(2*PI()*(MOD(($B204-今月バイオリズム!$B$4),C$2))/C$2)","v":-0.99766876919053926},{"$f":"SIN(2*PI()*(MOD(($B204-今月バイオリズム!$B$4),D$2))/D$2)","v":0.90096886790241915},{"$f":"SIN(2*PI()*(MOD(($B204-今月バイオリズム!$B$4),E$2))/E$2)","v":0.54064081745559756},"▲","低調期ピーク","下降中","↑","高調期（活動期）","上昇中","↑","高調期（活動期）","上昇中",0.44394091616747744,null,"高調期（活動期）","下降中"]
["1900-07-20","1900-07-20",{"$f":"SIN(2*PI()*(MOD(($B205-今月バイオリズム!$B$4),C$2))/C$2)","v":-0.97908408768232302},{"$f":"SIN(2*PI()*(MOD(($B205-今月バイオリズム!$B$4),D$2))/D$2)","v":0.97492791218182362},{"$f":"SIN(2*PI()*(MOD(($B205-今月バイオリズム!$B$4),E$2))/E$2)","v":0.69007901148211193},"↑","低調期（充電期）","上昇中","↑","高調期（活動期）","上昇中","↑","高調期（活動期）","上昇中",0.68592283598161252,null,"高調期（活動期）","下降中"]
["1900-07-21","1900-07-21",{"$f":"SIN(2*PI()*(MOD(($B206-今月バイオリズム!$B$4),C$2))/C$2)","v":-0.88788521840237555},{"$f":"SIN(2*PI()*(MOD(($B206-今月バイオリズム!$B$4),D$2))/D$2)","v":1},{"$f":"SIN(2*PI()*(MOD(($B206-今月バイオリズム!$B$4),E$2))/E$2)","v":0.81457595205033573},"↑","低調期（充電期）","上昇中","▽","高調期ピーク","下降中","↑","高調期（活動期）","上昇中",0.92669073364796017,null,"高調期（活動期）","下降中"]
["1900-07-22","1900-07-22",{"$f":"SIN(2*PI()*(MOD(($B207-今月バイオリズム!$B$4),C$2))/C$2)","v":-0.73083596427812403},{"$f":"SIN(2*PI()*(MOD(($B207-今月バイオリズム!$B$4),D$2))/D$2)","v":0.97492791218182362},{"$f":"SIN(2*PI()*(MOD(($B207-今月バイオリズム!$B$4),E$2))/E$2)","v":0.90963199535451833},"↑","低調期（充電期）","上昇中","↓","高調期（活動期）","下降中","↑","高調期（活動期）","上昇中",1.153723943258218,null,"高調期（活動期）","下降中"]
["1900-07-23","1900-07-23",{"$f":"SIN(2*PI()*(MOD(($B208-今月バイオリズム!$B$4),C$2))/C$2)","v":-0.51958395003543356},{"$f":"SIN(2*PI()*(MOD(($B208-今月バイオリズム!$B$4),D$2))/D$2)","v":0.90096886790241915},{"$f":"SIN(2*PI()*(MOD(($B208-今月バイオリズム!$B$4),E$2))/E$2)","v":0.97181156832354165},"↑","低調期（充電期）","上昇中","↓","高調期（活動期）","下降中","↑","高調期（活動期）","上昇中",1.3531964861905272,null,"高調期（活動期）","下降中"]
["1900-07-24","1900-07-24",{"$f":"SIN(2*PI()*(MOD(($B209-今月バイオリズム!$B$4),C$2))/C$2)","v":-0.26979677115702522},{"$f":"SIN(2*PI()*(MOD(($B209-今月バイオリズム!$B$4),D$2))/D$2)","v":0.78183148246802991},{"$f":"SIN(2*PI()*(MOD(($B209-今月バイオリズム!$B$4),E$2))/E$2)","v":0.99886733918300796},"↑","低調期（充電期）","上昇中","↓","高調期（活動期）","下降中","▽","高調期ピーク","下降中",1.5109020504940127,null,"高調期（活動期）","下降中"]
["1900-07-25","1900-07-25",{"$f":"SIN(2*PI()*(MOD(($B210-今月バイオリズム!$B$4),C$2))/C$2)","v":0},{"$f":"SIN(2*PI()*(MOD(($B210-今月バイオリズム!$B$4),D$2))/D$2)","v":0.62348980185873393},{"$f":"SIN(2*PI()*(MOD(($B210-今月バイオリズム!$B$4),E$2))/E$2)","v":0.9898214418809328},"↑","要注意","","↓","高調期（活動期）","下降中","↓","高調期（活動期）","下降中",1.6133112437396666,null,"高調期（活動期）","下降中"]
["1900-07-26","1900-07-26",{"$f":"SIN(2*PI()*(MOD(($B211-今月バイオリズム!$B$4),C$2))/C$2)","v":0.26979677115702427},{"$f":"SIN(2*PI()*(MOD(($B211-今月バイオリズム!$B$4),D$2))/D$2)","v":0.43388373911755823},{"$f":"SIN(2*PI()*(MOD(($B211-今月バイオリズム!$B$4),E$2))/E$2)","v":0.94500081871466846},"↑","要注意","","↓","高調期（活動期）","下降中","↓","高調期（活動期）","下降中",1.6486813289892508,null,"高調期（活動期）","下降中"]
["1900-07-27","1900-07-27",{"$f":"SIN(2*PI()*(MOD(($B212-今月バイオリズム!$B$4),C$2))/C$2)","v":0.51958395003543356},{"$f":"SIN(2*PI()*(MOD(($B212-今月バイオリズム!$B$4),D$2))/D$2)","v":0.22252093395631409},{"$f":"SIN(2*PI()*(MOD(($B212-今月バイオリズム!$B$4),E$2))/E$2)","v":0.86602540378443871},"↑","高調期（活動期）","上昇中","↓","高調期（活動期）","下降中","↓","高調期（活動期）","下降中",1.6081302877761865,null,"高調期（活動期）","下降中"]
["1900-07-28","1900-07-28",{"$f":"SIN(2*PI()*(MOD(($B213-今月バイオリズム!$B$4),C$2))/C$2)","v":0.73083596427812403},{"$f":"SIN(2*PI()*(MOD(($B213-今月バイオリズム!$B$4),D$2))/D$2)","v":1.22514845490862E-16},{"$f":"SIN(2*PI()*(MOD(($B213-今月バイオリズム!$B$4),E$2))/E$2)","v":0.75574957435425827},"↑","高調期（活動期）","上昇中","↓","高調期（活動期）","下降中","↓","高調期（活動期）","下降中",1.4865855386323825,null,"高調期（活動期）","下降中"]
["1900-07-29","1900-07-29",{"$f":"SIN(2*PI()*(MOD(($B214-今月バイオリズム!$B$4),C$2))/C$2)","v":0.88788521840237522},{"$f":"SIN(2*PI()*(MOD(($B214-今月バイオリズム!$B$4),D$2))/D$2)","v":-0.22252093395631384},{"$f":"SIN(2*PI()*(MOD(($B214-今月バイオリズム!$B$4),E$2))/E$2)","v":0.61815898622060506},"↑","高調期（活動期）","上昇中","↓","要注意","","↓","高調期（活動期）","下降中",1.2835232706666666,null,"高調期（活動期）","下降中"]
["1900-07-30","1900-07-30",{"$f":"SIN(2*PI()*(MOD(($B215-今月バイオリズム!$B$4),C$2))/C$2)","v":0.97908408768232291},{"$f":"SIN(2*PI()*(MOD(($B215-今月バイオリズム!$B$4),D$2))/D$2)","v":-0.43388373911755801},{"$f":"SIN(2*PI()*(MOD(($B215-今月バイオリズム!$B$4),E$2))/E$2)","v":0.45822652172741052},"↑","高調期（活動期）","上昇中","↓","低調期（充電期）","下降中","↓","高調期（活動期）","下降中",1.0034268702921754,null,"高調期（活動期）","下降中"]
["1900-07-31","1900-07-31",{"$f":"SIN(2*PI()*(MOD(($B216-今月バイオリズム!$B$4),C$2))/C$2)","v":0.99766876919053915},{"$f":"SIN(2*PI()*(MOD(($B216-今月バイオリズム!$B$4),D$2))/D$2)","v":-0.62348980185873382},{"$f":"SIN(2*PI()*(MOD(($B216-今月バイオリズム!$B$4),E$2))/E$2)","v":0.28173255684143006},"▽","高調期ピーク","下降中","↓","低調期（充電期）","下降中","↓","高調期（活動期）","下降中",0.65591152417323539,null,"高調期（活動期）","下降中"]
["1900-08-01","1900-08-01",{"$f":"SIN(2*PI()*(MOD(($B217-今月バイオリズム!$B$4),C$2))/C$2)","v":0.94226092211882051},{"$f":"SIN(2*PI()*(MOD(($B217-今月バイオリズム!$B$4),D$2))/D$2)","v":-0.78183148246802969},{"$f":"SIN(2*PI()*(MOD(($B217-今月バイオリズム!$B$4),E$2))/E$2)","v":9.505604330418288E-2},"↓","高調期（活動期）","下降中","↓","低調期（充電期）","下降中","↓","高調期（活動期）","下降中",0.2554854829549737,null,"高調期（活動期）","下降中"]
["1900-08-02","1900-08-02",{"$f":"SIN(2*PI()*(MOD(($B218-今月バイオリズム!$B$4),C$2))/C$2)","v":0.81696989301044209},{"$f":"SIN(2*PI()*(MOD(($B218-今月バイオリズム!$B$4),D$2))/D$2)","v":-0.90096886790241903},{"$f":"SIN(2*PI()*(MOD(($B218-今月バイオリズム!$B$4),E$2))/E$2)","v":-9.505604330418263E-2},"↓","高調期（活動期）","下降中","↓","低調期（充電期）","下降中","↓","要注意","",-0.17905501819615957,null,"要注意",""]
["1900-08-03","1900-08-03",{"$f":"SIN(2*PI()*(MOD(($B219-今月バイオリズム!$B$4),C$2))/C$2)","v":0.63108794432605297},{"$f":"SIN(2*PI()*(MOD(($B219-今月バイオリズム!$B$4),D$2))/D$2)","v":-0.97492791218182362},{"$f":"SIN(2*PI()*(MOD(($B219-今月バイオリズム!$B$4),E$2))/E$2)","v":-0.28173255684142939},"↓","高調期（活動期）","下降中","↓","低調期（充電期）","下降中","↓","低調期（充電期）","下降中",-0.62557252469720004,null,"低調期（充電期）","下降中"]
["1900-08-04","1900-08-04",{"$f":"SIN(2*PI()*(MOD(($B220-今月バイオリズム!$B$4),C$2))/C$2)","v":0.3984010898462414},{"$f":"SIN(2*PI()*(MOD(($B220-今月バイオリズム!$B$4),D$2))/D$2)","v":-1},{"$f":"SIN(2*PI()*(MOD(($B220-今月バイオリズム!$B$4),E$2))/E$2)","v":-0.45822652172740991},"↓","高調期（活動期）","下降中","▲","低調期ピーク","下降中","↓","低調期（充電期）","下降中",-1.0598254318811686,null,"低調期（充電期）","下降中"]
["1900-08-05","1900-08-05",{"$f":"SIN(2*PI()*(MOD(($B221-今月バイオリズム!$B$4),C$2))/C$2)","v":0.13616664909624709},{"$f":"SIN(2*PI()*(MOD(($B221-今月バイオリズム!$B$4),D$2))/D$2)","v":-0.97492791218182384},{"$f":"SIN(2*PI()*(MOD(($B221-今月バイオリズム!$B$4),E$2))/E$2)","v":-0.61815898622060528},"↓","高調期（活動期）","下降中","↑","低調期（充電期）","上昇中","↓","低調期（充電期）","下降中",-1.4569202493061821,null,"低調期（充電期）","下降中"]
["1900-08-06","1900-08-06",{"$f":"SIN(2*PI()*(MOD(($B222-今月バイオリズム!$B$4),C$2))/C$2)","v":-0.1361666490962464},{"$f":"SIN(2*PI()*(MOD(($B222-今月バイオリズム!$B$4),D$2))/D$2)","v":-0.90096886790241926},{"$f":"SIN(2*PI()*(MOD(($B222-今月バイオリズム!$B$4),E$2))/E$2)","v":-0.75574957435425849},"↓","要注意","","↑","低調期（充電期）","上昇中","↓","低調期（充電期）","下降中",-1.792885091352924,null,"低調期（充電期）","下降中"]
["1900-08-07","1900-08-07",{"$f":"SIN(2*PI()*(MOD(($B223-今月バイオリズム!$B$4),C$2))/C$2)","v":-0.39840108984624156},{"$f":"SIN(2*PI()*(MOD(($B223-今月バイオリズム!$B$4),D$2))/D$2)","v":-0.78183148246802991},{"$f":"SIN(2*PI()*(MOD(($B223-今月バイオリズム!$B$4),E$2))/E$2)","v":-0.86602540378443837},"↓","低調期（充電期）","下降中","↑","低調期（充電期）","上昇中","↓","低調期（充電期）","下降中",-2.0462579760987101,null,"低調期（充電期）","下降中"]
["1900-08-08","1900-08-08",{"$f":"SIN(2*PI()*(MOD(($B224-今月バイオリズム!$B$4),C$2))/C$2)","v":-0.63108794432605275},{"$f":"SIN(2*PI()*(MOD(($B224-今月バイオリズム!$B$4),D$2))/D$2)","v":-0.62348980185873371},{"$f":"SIN(2*PI()*(MOD(($B224-今月バイオリズム!$B$4),E$2))/E$2)","v":-0.94500081871466834},"↓","低調期（充電期）","下降中","↑","低調期（充電期）","上昇中","↓","低調期（充電期）","下降中",-2.199578564899455,null,"低調期（充電期）","下降中"]
["1900-08-09","1900-08-09",{"$f":"SIN(2*PI()*(MOD(($B225-今月バイオリズム!$B$4),C$2))/C$2)","v":-0.81696989301044198},{"$f":"SIN(2*PI()*(MOD(($B225-今月バイオリズム!$B$4),D$2))/D$2)","v":-0.43388373911755751},{"$f":"SIN(2*PI()*(MOD(($B225-今月バイオリズム!$B$4),E$2))/E$2)","v":-0.98982144188093268},"↓","低調期（充電期）","下降中","↑","低調期（充電期）","上昇中","↓","低調期（充電期）","下降中",-2.2406750740089323,null,"低調期（充電期）","下降中"]
["1900-08-10","1900-08-10",{"$f":"SIN(2*PI()*(MOD(($B226-今月バイオリズム!$B$4),C$2))/C$2)","v":-0.9422609221188204},{"$f":"SIN(2*PI()*(MOD(($B226-今月バイオリズム!$B$4),D$2))/D$2)","v":-0.22252093395631464},{"$f":"SIN(2*PI()*(MOD(($B226-今月バイオリズム!$B$4),E$2))/E$2)","v":-0.99886733918300796},"↓","低調期（充電期）","下降中","↑","低調期（充電期）","上昇中","▲","低調期ピーク","下降中",-2.1636491952581429,null,"低調期（充電期）","下降中"]
["1900-08-11","1900-08-11",{"$f":"SIN(2*PI()*(MOD(($B227-今月バイオリズム!$B$4),C$2))/C$2)","v":-0.99766876919053926},{"$f":"SIN(2*PI()*(MOD(($B227-今月バイオリズム!$B$4),D$2))/D$2)","v":0},{"$f":"SIN(2*PI()*(MOD(($B227-今月バイオリズム!$B$4),E$2))/E$2)","v":-0.97181156832354165},"▲","低調期ピーク","下降中","↑","要注意","","↑","低調期（充電期）","上昇中",-1.969480337514081,null,"低調期（充電期）","下降中"]
["1900-08-12","1900-08-12",{"$f":"SIN(2*PI()*(MOD(($B228-今月バイオリズム!$B$4),C$2))/C$2)","v":-0.97908408768232302},{"$f":"SIN(2*PI()*(MOD(($B228-今月バイオリズム!$B$4),D$2))/D$2)","v":0.22252093395631439},{"$f":"SIN(2*PI()*(MOD(($B228-今月バイオリズム!$B$4),E$2))/E$2)","v":-0.90963199535451855},"↑","低調期（充電期）","上昇中","↑","要注意","","↑","低調期（充電期）","上昇中",-1.6661951490805271,null,"低調期（充電期）","下降中"]
["1900-08-13","1900-08-13",{"$f":"SIN(2*PI()*(MOD(($B229-今月バイオリズム!$B$4),C$2))/C$2)","v":-0.88788521840237555},{"$f":"SIN(2*PI()*(MOD(($B229-今月バイオリズム!$B$4),D$2))/D$2)","v":0.43388373911755812},{"$f":"SIN(2*PI()*(MOD(($B229-今月バイオリズム!$B$4),E$2))/E$2)","v":-0.81457595205033584},"↑","低調期（充電期）","上昇中","↑","高調期（活動期）","上昇中","↑","低調期（充電期）","上昇中",-1.2685774313351532,null,"低調期（充電期）","下降中"]
["1900-08-14","1900-08-14",{"$f":"SIN(2*PI()*(MOD(($B230-今月バイオリズム!$B$4),C$2))/C$2)","v":-0.73083596427812403},{"$f":"SIN(2*PI()*(MOD(($B230-今月バイオリズム!$B$4),D$2))/D$2)","v":0.62348980185873348},{"$f":"SIN(2*PI()*(MOD(($B230-今月バイオリズム!$B$4),E$2))/E$2)","v":-0.69007901148211204},"↑","低調期（充電期）","上昇中","↑","高調期（活動期）","上昇中","↑","低調期（充電期）","上昇中",-0.79742517390150258,null,"低調期（充電期）","下降中"]
["1900-08-15","1900-08-15",{"$f":"SIN(2*PI()*(MOD(($B231-今月バイオリズム!$B$4),C$2))/C$2)","v":-0.51958395003543356},{"$f":"SIN(2*PI()*(MOD(($B231-今月バイオリズム!$B$4),D$2))/D$2)","v":0.7818314824680298},{"$f":"SIN(2*PI()*(MOD(($B231-今月バイオリズム!$B$4),E$2))/E$2)","v":-0.54064081745559822},"↑","低調期（充電期）","上昇中","↑","高調期（活動期）","上昇中","↑","低調期（充電期）","上昇中",-0.27839328502300198,null,"低調期（充電期）","下降中"]
["1900-08-16","1900-08-16",{"$f":"SIN(2*PI()*(MOD(($B232-今月バイオリズム!$B$4),C$2))/C$2)","v":-0.26979677115702522},{"$f":"SIN(2*PI()*(MOD(($B232-今月バイオリズム!$B$4),D$2))/D$2)","v":0.90096886790241915},{"$f":"SIN(2*PI()*(MOD(($B232-今月バイオリズム!$B$4),E$2))/E$2)","v":-0.37166245566032807},"↑","低調期（充電期）","上昇中","↑","高調期（活動期）","上昇中","↑","低調期（充電期）","上昇中",0.25950964108506591,null,"要注意",""]
["1900-08-17","1900-08-17",{"$f":"SIN(2*PI()*(MOD(($B233-今月バイオリズム!$B$4),C$2))/C$2)","v":0},{"$f":"SIN(2*PI()*(MOD(($B233-今月バイオリズム!$B$4),D$2))/D$2)","v":0.97492791218182362},{"$f":"SIN(2*PI()*(MOD(($B233-今月バイオリズム!$B$4),E$2))/E$2)","v":-0.18925124436041063},"↑","要注意","","↑","高調期（活動期）","上昇中","↑","低調期（充電期）","上昇中",0.78567666782141299,null,"高調期（活動期）","下降中"]
["1900-08-18","1900-08-18",{"$f":"SIN(2*PI()*(MOD(($B234-今月バイオリズム!$B$4),C$2))/C$2)","v":0.26979677115702427},{"$f":"SIN(2*PI()*(MOD(($B234-今月バイオリズム!$B$4),D$2))/D$2)","v":1},{"$f":"SIN(2*PI()*(MOD(($B234-今月バイオリズム!$B$4),E$2))/E$2)","v":0},"↑","要注意","","▽","高調期ピーク","下降中","↑","要注意","",1.2697967711570244,null,"高調期（活動期）","下降中"]
["1900-08-19","1900-08-19",{"$f":"SIN(2*PI()*(MOD(($B235-今月バイオリズム!$B$4),C$2))/C$2)","v":0.51958395003543356},{"$f":"SIN(2*PI()*(MOD(($B235-今月バイオリズム!$B$4),D$2))/D$2)","v":0.97492791218182362},{"$f":"SIN(2*PI()*(MOD(($B235-今月バイオリズム!$B$4),E$2))/E$2)","v":0.18925124436041019},"↑","高調期（活動期）","上昇中","↓","高調期（活動期）","下降中","↑","要注意","",1.6837631065776675,null,"高調期（活動期）","下降中"]
["1900-08-20","1900-08-20",{"$f":"SIN(2*PI()*(MOD(($B236-今月バイオリズム!$B$4),C$2))/C$2)","v":0.73083596427812403},{"$f":"SIN(2*PI()*(MOD(($B236-今月バイオリズム!$B$4),D$2))/D$2)","v":0.90096886790241915},{"$f":"SIN(2*PI()*(MOD(($B236-今月バイオリズム!$B$4),E$2))/E$2)","v":0.37166245566032752},"↑","高調期（活動期）","上昇中","↓","高調期（活動期）","下降中","↑","高調期（活動期）","上昇中",2.0034672878408708,null,"高調期（活動期）","下降中"]
["1900-08-21","1900-08-21",{"$f":"SIN(2*PI()*(MOD(($B237-今月バイオリズム!$B$4),C$2))/C$2)","v":0.88788521840237522},{"$f":"SIN(2*PI()*(MOD(($B237-今月バイオリズム!$B$4),D$2))/D$2)","v":0.78183148246802991},{"$f":"SIN(2*PI()*(MOD(($B237-今月バイオリズム!$B$4),E$2))/E$2)","v":0.54064081745559756},"↑","高調期（活動期）","上昇中","↓","高調期（活動期）","下降中","↑","高調期（活動期）","上昇中",2.2103575183260027,null,"高調期（活動期）","下降中"]
["1900-08-22","1900-08-22",{"$f":"SIN(2*PI()*(MOD(($B238-今月バイオリズム!$B$4),C$2))/C$2)","v":0.97908408768232291},{"$f":"SIN(2*PI()*(MOD(($B238-今月バイオリズム!$B$4),D$2))/D$2)","v":0.62348980185873393},{"$f":"SIN(2*PI()*(MOD(($B238-今月バイオリズム!$B$4),E$2))/E$2)","v":0.69007901148211193},"↑","高調期（活動期）","上昇中","↓","高調期（活動期）","下降中","↑","高調期（活動期）","上昇中",2.2926529010231689,null,"高調期（活動期）","下降中"]
["1900-08-23","1900-08-23",{"$f":"SIN(2*PI()*(MOD(($B239-今月バイオリズム!$B$4),C$2))/C$2)","v":0.99766876919053915},{"$f":"SIN(2*PI()*(MOD(($B239-今月バイオリズム!$B$4),D$2))/D$2)","v":0.43388373911755823},{"$f":"SIN(2*PI()*(MOD(($B239-今月バイオリズム!$B$4),E$2))/E$2)","v":0.81457595205033573},"▽","高調期ピーク","下降中","↓","高調期（活動期）","下降中","↑","高調期（活動期）","上昇中",2.2461284603584328,null,"高調期（活動期）","下降中"]
["1900-08-24","1900-08-24",{"$f":"SIN(2*PI()*(MOD(($B240-今月バイオリズム!$B$4),C$2))/C$2)","v":0.94226092211882051},{"$f":"SIN(2*PI()*(MOD(($B240-今月バイオリズム!$B$4),D$2))/D$2)","v":0.22252093395631409},{"$f":"SIN(2*PI()*(MOD(($B240-今月バイオリズム!$B$4),E$2))/E$2)","v":0.90963199535451833},"↓","高調期（活動期）","下降中","↓","高調期（活動期）","下降中","↑","高調期（活動期）","上昇中",2.0744138514296528,null,"高調期（活動期）","下降中"]
["1900-08-25","1900-08-25",{"$f":"SIN(2*PI()*(MOD(($B241-今月バイオリズム!$B$4),C$2))/C$2)","v":0.81696989301044209},{"$f":"SIN(2*PI()*(MOD(($B241-今月バイオリズム!$B$4),D$2))/D$2)","v":1.22514845490862E-16},{"$f":"SIN(2*PI()*(MOD(($B241-今月バイオリズム!$B$4),E$2))/E$2)","v":0.97181156832354165},"↓","高調期（活動期）","下降中","↓","高調期（活動期）","下降中","↑","高調期（活動期）","上昇中",1.7887814613339839,null,"高調期（活動期）","下降中"]
["1900-08-26","1900-08-26",{"$f":"SIN(2*PI()*(MOD(($B242-今月バイオリズム!$B$4),C$2))/C$2)","v":0.63108794432605297},{"$f":"SIN(2*PI()*(MOD(($B242-今月バイオリズム!$B$4),D$2))/D$2)","v":-0.22252093395631384},{"$f":"SIN(2*PI()*(MOD(($B242-今月バイオリズム!$B$4),E$2))/E$2)","v":0.99886733918300796},"↓","高調期（活動期）","下降中","↓","要注意","","▽","高調期ピーク","下降中",1.407434349552747,null,"高調期（活動期）","下降中"]
["1900-08-27","1900-08-27",{"$f":"SIN(2*PI()*(MOD(($B243-今月バイオリズム!$B$4),C$2))/C$2)","v":0.3984010898462414},{"$f":"SIN(2*PI()*(MOD(($B243-今月バイオリズム!$B$4),D$2))/D$2)","v":-0.43388373911755801},{"$f":"SIN(2*PI()*(MOD(($B243-今月バイオリズム!$B$4),E$2))/E$2)","v":0.9898214418809328},"↓","高調期（活動期）","下降中","↓","低調期（充電期）","下降中","↓","高調期（活動期）","下降中",0.95433879260961618,null,"高調期（活動期）","下降中"]
["1900-08-28","1900-08-28",{"$f":"SIN(2*PI()*(MOD(($B244-今月バイオリズム!$B$4),C$2))/C$2)","v":0.13616664909624709},{"$f":"SIN(2*PI()*(MOD(($B244-今月バイオリズム!$B$4),D$2))/D$2)","v":-0.62348980185873382},{"$f":"SIN(2*PI()*(MOD(($B244-今月バイオリズム!$B$4),E$2))/E$2)","v":0.94500081871466846},"↓","高調期（活動期）","下降中","↓","低調期（充電期）","下降中","↓","高調期（活動期）","下降中",0.45767766595218173,null,"高調期（活動期）","下降中"]
["1900-08-29","1900-08-29",{"$f":"SIN(2*PI()*(MOD(($B245-今月バイオリズム!$B$4),C$2))/C$2)","v":-0.1361666490962464},{"$f":"SIN(2*PI()*(MOD(($B245-今月バイオリズム!$B$4),D$2))/D$2)","v":-0.78183148246802969},{"$f":"SIN(2*PI()*(MOD(($B245-今月バイオリズム!$B$4),E$2))/E$2)","v":0.86602540378443871},"↓","要注意","","↓","低調期（充電期）","下降中","↓","高調期（活動期）","下降中",-5.1972727779837413E-2,null,"要注意",""]
["1900-08-30","1900-08-30",{"$f":"SIN(2*PI()*(MOD(($B246-今月バイオリズム!$B$4),C$2))/C$2)","v":-0.39840108984624156},{"$f":"SIN(2*PI()*(MOD(($B246-今月バイオリズム!$B$4),D$2))/D$2)","v":-0.90096886790241903},{"$f":"SIN(2*PI()*(MOD(($B246-今月バイオリズム!$B$4),E$2))/E$2)","v":0.75574957435425827},"↓","低調期（充電期）","下降中","↓","低調期（充電期）","下降中","↓","高調期（活動期）","下降中",-0.54362038339440233,null,"低調期（充電期）","下降中"]
["1900-08-31","1900-08-31",{"$f":"SIN(2*PI()*(MOD(($B247-今月バイオリズム!$B$4),C$2))/C$2)","v":-0.63108794432605275},{"$f":"SIN(2*PI()*(MOD(($B247-今月バイオリズム!$B$4),D$2))/D$2)","v":-0.97492791218182362},{"$f":"SIN(2*PI()*(MOD(($B247-今月バイオリズム!$B$4),E$2))/E$2)","v":0.61815898622060506},"↓","低調期（充電期）","下降中","↓","低調期（充電期）","下降中","↓","高調期（活動期）","下降中",-0.98785687028727132,null,"低調期（充電期）","下降中"]
["1900-09-01","1900-09-01",{"$f":"SIN(2*PI()*(MOD(($B248-今月バイオリズム!$B$4),C$2))/C$2)","v":-0.81696989301044198},{"$f":"SIN(2*PI()*(MOD(($B248-今月バイオリズム!$B$4),D$2))/D$2)","v":-1},{"$f":"SIN(2*PI()*(MOD(($B248-今月バイオリズム!$B$4),E$2))/E$2)","v":0.45822652172741052},"↓","低調期（充電期）","下降中","▲","低調期ピーク","下降中","↓","高調期（活動期）","下降中",-1.3587433712830315,null,"低調期（充電期）","下降中"]
["1900-09-02","1900-09-02",{"$f":"SIN(2*PI()*(MOD(($B249-今月バイオリズム!$B$4),C$2))/C$2)","v":-0.9422609221188204},{"$f":"SIN(2*PI()*(MOD(($B249-今月バイオリズム!$B$4),D$2))/D$2)","v":-0.97492791218182384},{"$f":"SIN(2*PI()*(MOD(($B249-今月バイオリズム!$B$4),E$2))/E$2)","v":0.28173255684143006},"↓","低調期（充電期）","下降中","↑","低調期（充電期）","上昇中","↓","高調期（活動期）","下降中",-1.6354562774592143,null,"低調期（充電期）","下降中"]
["1900-09-03","1900-09-03",{"$f":"SIN(2*PI()*(MOD(($B250-今月バイオリズム!$B$4),C$2))/C$2)","v":-0.99766876919053926},{"$f":"SIN(2*PI()*(MOD(($B250-今月バイオリズム!$B$4),D$2))/D$2)","v":-0.90096886790241926},{"$f":"SIN(2*PI()*(MOD(($B250-今月バイオリズム!$B$4),E$2))/E$2)","v":9.505604330418288E-2},"▲","低調期ピーク","下降中","↑","低調期（充電期）","上昇中","↓","高調期（活動期）","下降中",-1.8035815937887756,null,"低調期（充電期）","下降中"]
["1900-09-04","1900-09-04",{"$f":"SIN(2*PI()*(MOD(($B251-今月バイオリズム!$B$4),C$2))/C$2)","v":-0.97908408768232302},{"$f":"SIN(2*PI()*(MOD(($B251-今月バイオリズム!$B$4),D$2))/D$2)","v":-0.78183148246802991},{"$f":"SIN(2*PI()*(MOD(($B251-今月バイオリズム!$B$4),E$2))/E$2)","v":-9.505604330418263E-2},"↑","低調期（充電期）","上昇中","↑","低調期（充電期）","上昇中","↓","要注意","",-1.8559716134545357,null,"低調期（充電期）","下降中"]
["1900-09-05","1900-09-05",{"$f":"SIN(2*PI()*(MOD(($B252-今月バイオリズム!$B$4),C$2))/C$2)","v":-0.88788521840237555},{"$f":"SIN(2*PI()*(MOD(($B252-今月バイオリズム!$B$4),D$2))/D$2)","v":-0.62348980185873371},{"$f":"SIN(2*PI()*(MOD(($B252-今月バイオリズム!$B$4),E$2))/E$2)","v":-0.28173255684142939},"↑","低調期（充電期）","上昇中","↑","低調期（充電期）","上昇中","↓","低調期（充電期）","下降中",-1.7931075771025387,null,"低調期（充電期）","下降中"]
["1900-09-06","1900-09-06",{"$f":"SIN(2*PI()*(MOD(($B253-今月バイオリズム!$B$4),C$2))/C$2)","v":-0.73083596427812403},{"$f":"SIN(2*PI()*(MOD(($B253-今月バイオリズム!$B$4),D$2))/D$2)","v":-0.43388373911755751},{"$f":"SIN(2*PI()*(MOD(($B253-今月バイオリズム!$B$4),E$2))/E$2)","v":-0.45822652172740991},"↑","低調期（充電期）","上昇中","↑","低調期（充電期）","上昇中","↓","低調期（充電期）","下降中",-1.6229462251230915,null,"低調期（充電期）","下降中"]
["1900-09-07","1900-09-07",{"$f":"SIN(2*PI()*(MOD(($B254-今月バイオリズム!$B$4),C$2))/C$2)","v":-0.51958395003543356},{"$f":"SIN(2*PI()*(MOD(($B254-今月バイオリズム!$B$4),D$2))/D$2)","v":-0.22252093395631464},{"$f":"SIN(2*PI()*(MOD(($B254-今月バイオリズム!$B$4),E$2))/E$2)","v":-0.61815898622060528},"↑","低調期（充電期）","上昇中","↑","低調期（充電期）","上昇中","↓","低調期（充電期）","下降中",-1.3602638702123535,null,"低調期（充電期）","下降中"]
["1900-09-08","1900-09-08",{"$f":"SIN(2*PI()*(MOD(($B255-今月バイオリズム!$B$4),C$2))/C$2)","v":-0.26979677115702522},{"$f":"SIN(2*PI()*(MOD(($B255-今月バイオリズム!$B$4),D$2))/D$2)","v":0},{"$f":"SIN(2*PI()*(MOD(($B255-今月バイオリズム!$B$4),E$2))/E$2)","v":-0.75574957435425849},"↑","低調期（充電期）","上昇中","↑","要注意","","↓","低調期（充電期）","下降中",-1.0255463455112837,null,"低調期（充電期）","下降中"]
["1900-09-09","1900-09-09",{"$f":"SIN(2*PI()*(MOD(($B256-今月バイオリズム!$B$4),C$2))/C$2)","v":0},{"$f":"SIN(2*PI()*(MOD(($B256-今月バイオリズム!$B$4),D$2))/D$2)","v":0.22252093395631439},{"$f":"SIN(2*PI()*(MOD(($B256-今月バイオリズム!$B$4),E$2))/E$2)","v":-0.86602540378443837},"↑","要注意","","↑","要注意","","↓","低調期（充電期）","下降中",-0.64350446982812404,null,"低調期（充電期）","下降中"]
["1900-09-10","1900-09-10",{"$f":"SIN(2*PI()*(MOD(($B257-今月バイオリズム!$B$4),C$2))/C$2)","v":0.26979677115702427},{"$f":"SIN(2*PI()*(MOD(($B257-今月バイオリズム!$B$4),D$2))/D$2)","v":0.43388373911755812},{"$f":"SIN(2*PI()*(MOD(($B257-今月バイオリズム!$B$4),E$2))/E$2)","v":-0.94500081871466834},"↑","要注意","","↑","高調期（活動期）","上昇中","↓","低調期（充電期）","下降中",-0.2413203084400859,null,"低調期（充電期）","下降中"]
["1900-09-11","1900-09-11",{"$f":"SIN(2*PI()*(MOD(($B258-今月バイオリズム!$B$4),C$2))/C$2)","v":0.51958395003543356},{"$f":"SIN(2*PI()*(MOD(($B258-今月バイオリズム!$B$4),D$2))/D$2)","v":0.62348980185873348},{"$f":"SIN(2*PI()*(MOD(($B258-今月バイオリズム!$B$4),E$2))/E$2)","v":-0.98982144188093268},"↑","高調期（活動期）","上昇中","↑","高調期（活動期）","上昇中","↓","低調期（充電期）","下降中",0.15325231001323447,null,"要注意",""]
["1900-09-12","1900-09-12",{"$f":"SIN(2*PI()*(MOD(($B259-今月バイオリズム!$B$4),C$2))/C$2)","v":0.73083596427812403},{"$f":"SIN(2*PI()*(MOD(($B259-今月バイオリズム!$B$4),D$2))/D$2)","v":0.7818314824680298},{"$f":"SIN(2*PI()*(MOD(($B259-今月バイオリズム!$B$4),E$2))/E$2)","v":-0.99886733918300796},"↑","高調期（活動期）","上昇中","↑","高調期（活動期）","上昇中","▲","低調期ピーク","下降中",0.51380010756314587,null,"高調期（活動期）","下降中"]
["1900-09-13","1900-09-13",{"$f":"SIN(2*PI()*(MOD(($B260-今月バイオリズム!$B$4),C$2))/C$2)","v":0.88788521840237522},{"$f":"SIN(2*PI()*(MOD(($B260-今月バイオリズム!$B$4),D$2))/D$2)","v":0.90096886790241915},{"$f":"SIN(2*PI()*(MOD(($B260-今月バイオリズム!$B$4),E$2))/E$2)","v":-0.97181156832354165},"↑","高調期（活動期）","上昇中","↑","高調期（活動期）","上昇中","↑","低調期（充電期）","上昇中",0.81704251798125271,null,"高調期（活動期）","下降中"]
[{"$f":"B261","v":"1900-09-14"},"1900-09-14",{"$f":"SIN(2*PI()*(MOD(($B261-今月バイオリズム!$B$4),C$2))/C$2)","v":0.97908408768232291},{"$f":"SIN(2*PI()*(MOD(($B261-今月バイオリズム!$B$4),D$2))/D$2)","v":0.97492791218182362},{"$f":"SIN(2*PI()*(MOD(($B261-今月バイオリズム!$B$4),E$2))/E$2)","v":-0.90963199535451855},"↑","高調期（活動期）","上昇中",{"$f":"IF(D261>0,IF(D260<D261,IF(D262<D261,\"▽\",\"↑\"),\"↓\"),IF(D260>D261,IF(D262>D261,\"▲\",\"↓\"),\"↑\"))","v":"↑"},{"$f":"IF(OR(AND(D260<=0,D261>=0),AND(D260>=0,D261<=0)),\"要注意\",IF(D261>0,IF(I261=\"▽\",\"高調期ピーク\",\"高調期（活動期）\"),IF(I261=\"▲\",\"低調期ピーク\",\"低調期（充電期）\")))","v":"高調期（活動期）"},"上昇中",{"$f":"IF(E261>0,IF(E260<E261,IF(E262<E261,\"▽\",\"↑\"),\"↓\"),IF(E260>E261,IF(E262>E261,\"▲\",\"↓\"),\"↑\"))","v":"↑"},{"$f":"IF(OR(AND(E260<=0,E261>=0),AND(E260>=0,E261<=0)),\"要注意\",IF(E261>0,IF(L261=\"▽\",\"高調期ピーク\",\"高調期（活動期）\"),IF(L261=\"▲\",\"低調期ピーク\",\"低調期（充電期）\")))","v":"低調期（充電期）"},"上昇中",{"$f":"SUM(C261:E261)","v":1.0443800045096281},null,"高調期（活動期）","下降中"]
["1900-09-15",{"$f":"B261+1","v":"1900-09-15"},{"$f":"SIN(2*PI()*(MOD(($B262-今月バイオリズム!$B$4),C$2))/C$2)","v":0.99766876919053915},{"$f":"SIN(2*PI()*(MOD(($B262-今月バイオリズム!$B$4),D$2))/D$2)","v":1},{"$f":"SIN(2*PI()*(MOD(($B262-今月バイオリズム!$B$4),E$2))/E$2)","v":-0.81457595205033584},"▽",{"$f":"IF(OR(AND(C261<=0,C262>=0),AND(C261>=0,C262<=0)),\"要注意\",IF(C262>0,IF(F262=\"▽\",\"高調期ピーク\",\"高調期（活動期）\"),IF(F262=\"▲\",\"低調期ピーク\",\"低調期（充電期）\")))","v":"高調期ピーク"},"下降中","▽","高調期ピーク",{"$f":"IF(J262=\"要注意\",\"\",IF(I262=\"↑\",\"上昇中\",\"下降中\"))","v":"下降中"},"↑","低調期（充電期）",{"$f":"IF(M262=\"要注意\",\"\",IF(L262=\"↑\",\"上昇中\",\"下降中\"))","v":"上昇中"},1.1830928171402033,null,"高調期（活動期）",{"$f":"IF(Q262=\"要注意\",\"\",IF(P262=\"↑\",\"上昇中\",\"下降中\"))","v":"下降中"}]
["1900-09-16","1900-09-16",{"$f":"SIN(2*PI()*(MOD(($B263-今月バイオリズム!$B$4),C$2))/C$2)","v":0.94226092211882051},{"$f":"SIN(2*PI()*(MOD(($B263-今月バイオリズム!$B$4),D$2))/D$2)","v":0.97492791218182362},{"$f":"SIN(2*PI()*(MOD(($B263-今月バイオリズム!$B$4),E$2))/E$2)","v":-0.69007901148211204},"↓","高調期（活動期）","下降中","↓","高調期（活動期）","下降中","↑","低調期（充電期）","上昇中",1.227109822818532,null,{"$f":"IF(OR(AND(O262<=0,O263>=0),AND(O262>=0,O263<=0)),\"要注意\",IF(O263>0,IF(P263=\"▽\",\"高調期ピーク\",\"高調期（活動期）\"),IF(P263=\"▲\",\"低調期ピーク\",\"低調期（充電期）\")))","v":"高調期（活動期）"},"下降中"]
["1900-09-17","1900-09-17",{"$f":"SIN(2*PI()*(MOD(($B264-今月バイオリズム!$B$4),C$2))/C$2)","v":0.81696989301044209},{"$f":"SIN(2*PI()*(MOD(($B264-今月バイオリズム!$B$4),D$2))/D$2)","v":0.90096886790241915},{"$f":"SIN(2*PI()*(MOD(($B264-今月バイオリズム!$B$4),E$2))/E$2)","v":-0.54064081745559822},"↓","高調期（活動期）","下降中","↓","高調期（活動期）","下降中","↑","低調期（充電期）","上昇中",1.1772979434572632,null,"高調期（活動期）","下降中"]
["1900-09-18","1900-09-18",{"$f":"SIN(2*PI()*(MOD(($B265-今月バイオリズム!$B$4),C$2))/C$2)","v":0.63108794432605297},{"$f":"SIN(2*PI()*(MOD(($B265-今月バイオリズム!$B$4),D$2))/D$2)","v":0.78183148246802991},{"$f":"SIN(2*PI()*(MOD(($B265-今月バイオリズム!$B$4),E$2))/E$2)","v":-0.37166245566032807},"↓","高調期（活動期）","下降中","↓","高調期（活動期）","下降中","↑","低調期（充電期）","上昇中",1.0412569711337547,null,"高調期（活動期）","下降中"]
["1900-09-19","1900-09-19",{"$f":"SIN(2*PI()*(MOD(($B266-今月バイオリズム!$B$4),C$2))/C$2)","v":0.3984010898462414},{"$f":"SIN(2*PI()*(MOD(($B266-今月バイオリズム!$B$4),D$2))/D$2)","v":0.62348980185873393},{"$f":"SIN(2*PI()*(MOD(($B266-今月バイオリズム!$B$4),E$2))/E$2)","v":-0.18925124436041063},"↓","高調期（活動期）","下降中","↓","高調期（活動期）","下降中","↑","低調期（充電期）","上昇中",0.83263964734456475,null,"高調期（活動期）","下降中"]
["1900-09-20","1900-09-20",{"$f":"SIN(2*PI()*(MOD(($B267-今月バイオリズム!$B$4),C$2))/C$2)","v":0.13616664909624709},{"$f":"SIN(2*PI()*(MOD(($B267-今月バイオリズム!$B$4),D$2))/D$2)","v":0.43388373911755823},{"$f":"SIN(2*PI()*(MOD(($B267-今月バイオリズム!$B$4),E$2))/E$2)","v":0},{"$f":"IF(C267>0,IF(C266<C267,IF(C268<C267,\"▽\",\"↑\"),\"↓\"),IF(C266>C267,IF(C268>C267,\"▲\",\"↓\"),\"↑\"))","v":"↓"},"高調期（活動期）",{"$f":"IF(G267=\"要注意\",\"\",IF(F267=\"↑\",\"上昇中\",\"下降中\"))","v":"下降中"},"↓","高調期（活動期）","下降中","↑","要注意","",0.57005038821380527,null,"高調期（活動期）","下降中"]
["1900-09-21","1900-09-21",{"$f":"SIN(2*PI()*(MOD(($B268-今月バイオリズム!$B$4),C$2))/C$2)","v":-0.1361666490962464},{"$f":"SIN(2*PI()*(MOD(($B268-今月バイオリズム!$B$4),D$2))/D$2)","v":0.22252093395631409},{"$f":"SIN(2*PI()*(MOD(($B268-今月バイオリズム!$B$4),E$2))/E$2)","v":0.18925124436041019},"↓","要注意","","↓","高調期（活動期）","下降中","↑","要注意","",0.27560552922047787,null,"高調期（活動期）","下降中"]
["1900-09-22","1900-09-22",{"$f":"SIN(2*PI()*(MOD(($B269-今月バイオリズム!$B$4),C$2))/C$2)","v":-0.39840108984624156},{"$f":"SIN(2*PI()*(MOD(($B269-今月バイオリズム!$B$4),D$2))/D$2)","v":1.22514845490862E-16},{"$f":"SIN(2*PI()*(MOD(($B269-今月バイオリズム!$B$4),E$2))/E$2)","v":0.37166245566032752},"↓","低調期（充電期）","下降中","↓","高調期（活動期）","下降中","↑","高調期（活動期）","上昇中",-2.6738634185913934E-2,null,"要注意",""]
["1900-09-23","1900-09-23",{"$f":"SIN(2*PI()*(MOD(($B270-今月バイオリズム!$B$4),C$2))/C$2)","v":-0.63108794432605275},{"$f":"SIN(2*PI()*(MOD(($B270-今月バイオリズム!$B$4),D$2))/D$2)","v":-0.22252093395631384},{"$f":"SIN(2*PI()*(MOD(($B270-今月バイオリズム!$B$4),E$2))/E$2)","v":0.54064081745559756},"↓","低調期（充電期）","下降中","↓","要注意","","↑","高調期（活動期）","上昇中",-0.31296806082676898,null,"低調期（充電期）","下降中"]
["1900-09-24","1900-09-24",{"$f":"SIN(2*PI()*(MOD(($B271-今月バイオリズム!$B$4),C$2))/C$2)","v":-0.81696989301044198},{"$f":"SIN(2*PI()*(MOD(($B271-今月バイオリズム!$B$4),D$2))/D$2)","v":-0.43388373911755801},{"$f":"SIN(2*PI()*(MOD(($B271-今月バイオリズム!$B$4),E$2))/E$2)","v":0.69007901148211193},"↓","低調期（充電期）","下降中","↓","低調期（充電期）","下降中","↑","高調期（活動期）","上昇中",-0.56077462064588801,null,"低調期（充電期）","下降中"]
["1900-09-25","1900-09-25",{"$f":"SIN(2*PI()*(MOD(($B272-今月バイオリズム!$B$4),C$2))/C$2)","v":-0.9422609221188204},{"$f":"SIN(2*PI()*(MOD(($B272-今月バイオリズム!$B$4),D$2))/D$2)","v":-0.62348980185873382},{"$f":"SIN(2*PI()*(MOD(($B272-今月バイオリズム!$B$4),E$2))/E$2)","v":0.81457595205033573},"↓","低調期（充電期）","下降中","↓","低調期（充電期）","下降中","↑","高調期（活動期）","上昇中",-0.7511747719272186,null,"低調期（充電期）","下降中"]
["1900-09-26","1900-09-26",{"$f":"SIN(2*PI()*(MOD(($B273-今月バイオリズム!$B$4),C$2))/C$2)","v":-0.99766876919053926},{"$f":"SIN(2*PI()*(MOD(($B273-今月バイオリズム!$B$4),D$2))/D$2)","v":-0.78183148246802969},{"$f":"SIN(2*PI()*(MOD(($B273-今月バイオリズム!$B$4),E$2))/E$2)","v":0.90963199535451833},"▲","低調期ピーク","下降中","↓","低調期（充電期）","下降中","↑","高調期（活動期）","上昇中",-0.86986825630405062,null,"低調期（充電期）","下降中"]
["1900-09-27","1900-09-27",{"$f":"SIN(2*PI()*(MOD(($B274-今月バイオリズム!$B$4),C$2))/C$2)","v":-0.97908408768232302},{"$f":"SIN(2*PI()*(MOD(($B274-今月バイオリズム!$B$4),D$2))/D$2)","v":-0.90096886790241903},{"$f":"SIN(2*PI()*(MOD(($B274-今月バイオリズム!$B$4),E$2))/E$2)","v":0.97181156832354165},"↑","低調期（充電期）","上昇中","↓","低調期（充電期）","下降中","↑","高調期（活動期）","上昇中",-0.90824138726120041,null,"低調期（充電期）","下降中"]
["1900-09-28","1900-09-28",{"$f":"SIN(2*PI()*(MOD(($B275-今月バイオリズム!$B$4),C$2))/C$2)","v":-0.88788521840237555},{"$f":"SIN(2*PI()*(MOD(($B275-今月バイオリズム!$B$4),D$2))/D$2)","v":-0.97492791218182362},{"$f":"SIN(2*PI()*(MOD(($B275-今月バイオリズム!$B$4),E$2))/E$2)","v":0.99886733918300796},"↑","低調期（充電期）","上昇中","↓","低調期（充電期）","下降中","▽","高調期ピーク","下降中",-0.8639457914011911,null,"低調期（充電期）","下降中"]
["1900-09-29","1900-09-29",{"$f":"SIN(2*PI()*(MOD(($B276-今月バイオリズム!$B$4),C$2))/C$2)","v":-0.73083596427812403},{"$f":"SIN(2*PI()*(MOD(($B276-今月バイオリズム!$B$4),D$2))/D$2)","v":-1},{"$f":"SIN(2*PI()*(MOD(($B276-今月バイオリズム!$B$4),E$2))/E$2)","v":0.9898214418809328},"↑","低調期（充電期）","上昇中","▲","低調期ピーク","下降中","↓","高調期（活動期）","下降中",-0.74101452239719112,null,"低調期（充電期）","下降中"]
["1900-09-30","1900-09-30",{"$f":"SIN(2*PI()*(MOD(($B277-今月バイオリズム!$B$4),C$2))/C$2)","v":-0.51958395003543356},{"$f":"SIN(2*PI()*(MOD(($B277-今月バイオリズム!$B$4),D$2))/D$2)","v":-0.97492791218182384},{"$f":"SIN(2*PI()*(MOD(($B277-今月バイオリズム!$B$4),E$2))/E$2)","v":0.94500081871466846},"↑","低調期（充電期）","上昇中","↑","低調期（充電期）","上昇中","↓","高調期（活動期）","下降中",-0.54951104350258884,null,"低調期（充電期）","下降中"]
["1900-10-01","1900-10-01",{"$f":"SIN(2*PI()*(MOD(($B278-今月バイオリズム!$B$4),C$2))/C$2)","v":-0.26979677115702522},{"$f":"SIN(2*PI()*(MOD(($B278-今月バイオリズム!$B$4),D$2))/D$2)","v":-0.90096886790241926},{"$f":"SIN(2*PI()*(MOD(($B278-今月バイオリズム!$B$4),E$2))/E$2)","v":0.86602540378443871},"↑","低調期（充電期）","上昇中","↑","低調期（充電期）","上昇中","↓","高調期（活動期）","下降中",-0.30474023527500582,null,"低調期（充電期）","下降中"]
["1900-10-02","1900-10-02",{"$f":"SIN(2*PI()*(MOD(($B279-今月バイオリズム!$B$4),C$2))/C$2)","v":0},{"$f":"SIN(2*PI()*(MOD(($B279-今月バイオリズム!$B$4),D$2))/D$2)","v":-0.78183148246802991},{"$f":"SIN(2*PI()*(MOD(($B279-今月バイオリズム!$B$4),E$2))/E$2)","v":0.75574957435425827},"↑","要注意","","↑","低調期（充電期）","上昇中","↓","高調期（活動期）","下降中",-2.6081908113771646E-2,null,"低調期（充電期）","下降中"]
["1900-10-03","1900-10-03",{"$f":"SIN(2*PI()*(MOD(($B280-今月バイオリズム!$B$4),C$2))/C$2)","v":0.26979677115702427},{"$f":"SIN(2*PI()*(MOD(($B280-今月バイオリズム!$B$4),D$2))/D$2)","v":-0.62348980185873371},{"$f":"SIN(2*PI()*(MOD(($B280-今月バイオリズム!$B$4),E$2))/E$2)","v":0.61815898622060506},"↑","要注意","","↑","低調期（充電期）","上昇中","↓","高調期（活動期）","下降中",0.26446595551889562,null,"要注意",""]
["1900-10-04","1900-10-04",{"$f":"SIN(2*PI()*(MOD(($B281-今月バイオリズム!$B$4),C$2))/C$2)","v":0.51958395003543356},{"$f":"SIN(2*PI()*(MOD(($B281-今月バイオリズム!$B$4),D$2))/D$2)","v":-0.43388373911755751},{"$f":"SIN(2*PI()*(MOD(($B281-今月バイオリズム!$B$4),E$2))/E$2)","v":0.45822652172741052},"↑","高調期（活動期）","上昇中","↑","低調期（充電期）","上昇中","↓","高調期（活動期）","下降中",0.54392673264528657,null,"高調期（活動期）","下降中"]
["1900-10-05","1900-10-05",{"$f":"SIN(2*PI()*(MOD(($B282-今月バイオリズム!$B$4),C$2))/C$2)","v":0.73083596427812403},{"$f":"SIN(2*PI()*(MOD(($B282-今月バイオリズム!$B$4),D$2))/D$2)","v":-0.22252093395631464},{"$f":"SIN(2*PI()*(MOD(($B282-今月バイオリズム!$B$4),E$2))/E$2)","v":0.28173255684143006},"↑","高調期（活動期）","上昇中","↑","低調期（充電期）","上昇中","↓","高調期（活動期）","下降中",0.79004758716323942,null,"高調期（活動期）","下降中"]
["1900-10-06","1900-10-06",{"$f":"SIN(2*PI()*(MOD(($B283-今月バイオリズム!$B$4),C$2))/C$2)","v":0.88788521840237522},{"$f":"SIN(2*PI()*(MOD(($B283-今月バイオリズム!$B$4),D$2))/D$2)","v":0},{"$f":"SIN(2*PI()*(MOD(($B283-今月バイオリズム!$B$4),E$2))/E$2)","v":9.505604330418288E-2},"↑","高調期（活動期）","上昇中","↑","要注意","","↓","高調期（活動期）","下降中",0.98294126170655804,null,"高調期（活動期）","下降中"]
["1900-10-07","1900-10-07",{"$f":"SIN(2*PI()*(MOD(($B284-今月バイオリズム!$B$4),C$2))/C$2)","v":0.97908408768232291},{"$f":"SIN(2*PI()*(MOD(($B284-今月バイオリズム!$B$4),D$2))/D$2)","v":0.22252093395631439},{"$f":"SIN(2*PI()*(MOD(($B284-今月バイオリズム!$B$4),E$2))/E$2)","v":-9.505604330418263E-2},"↑","高調期（活動期）","上昇中","↑","要注意","","↓","要注意","",1.1065489783344546,null,"高調期（活動期）","下降中"]
["1900-10-08","1900-10-08",{"$f":"SIN(2*PI()*(MOD(($B285-今月バイオリズム!$B$4),C$2))/C$2)","v":0.99766876919053915},{"$f":"SIN(2*PI()*(MOD(($B285-今月バイオリズム!$B$4),D$2))/D$2)","v":0.43388373911755812},{"$f":"SIN(2*PI()*(MOD(($B285-今月バイオリズム!$B$4),E$2))/E$2)","v":-0.28173255684142939},"▽","高調期ピーク","下降中","↑","高調期（活動期）","上昇中","↓","低調期（充電期）","下降中",1.149819951466668,null,"高調期（活動期）","下降中"]
["1900-10-09","1900-10-09",{"$f":"SIN(2*PI()*(MOD(($B286-今月バイオリズム!$B$4),C$2))/C$2)","v":0.94226092211882051},{"$f":"SIN(2*PI()*(MOD(($B286-今月バイオリズム!$B$4),D$2))/D$2)","v":0.62348980185873348},{"$f":"SIN(2*PI()*(MOD(($B286-今月バイオリズム!$B$4),E$2))/E$2)","v":-0.45822652172740991},"↓","高調期（活動期）","下降中","↑","高調期（活動期）","上昇中","↓","低調期（充電期）","下降中",1.1075242022501439,null,"高調期（活動期）","下降中"]
["1900-10-10","1900-10-10",{"$f":"SIN(2*PI()*(MOD(($B287-今月バイオリズム!$B$4),C$2))/C$2)","v":0.81696989301044209},{"$f":"SIN(2*PI()*(MOD(($B287-今月バイオリズム!$B$4),D$2))/D$2)","v":0.7818314824680298},{"$f":"SIN(2*PI()*(MOD(($B287-今月バイオリズム!$B$4),E$2))/E$2)","v":-0.61815898622060528},"↓","高調期（活動期）","下降中","↑","高調期（活動期）","上昇中","↓","低調期（充電期）","下降中",0.98064238925786651,null,"高調期（活動期）","下降中"]
["1900-10-11","1900-10-11",{"$f":"SIN(2*PI()*(MOD(($B288-今月バイオリズム!$B$4),C$2))/C$2)","v":0.63108794432605297},{"$f":"SIN(2*PI()*(MOD(($B288-今月バイオリズム!$B$4),D$2))/D$2)","v":0.90096886790241915},{"$f":"SIN(2*PI()*(MOD(($B288-今月バイオリズム!$B$4),E$2))/E$2)","v":-0.75574957435425849},"↓","高調期（活動期）","下降中","↑","高調期（活動期）","上昇中","↓","低調期（充電期）","下降中",0.77630723787421363,null,"高調期（活動期）","下降中"]
["1900-10-12","1900-10-12",{"$f":"SIN(2*PI()*(MOD(($B289-今月バイオリズム!$B$4),C$2))/C$2)","v":0.3984010898462414},{"$f":"SIN(2*PI()*(MOD(($B289-今月バイオリズム!$B$4),D$2))/D$2)","v":0.97492791218182362},{"$f":"SIN(2*PI()*(MOD(($B289-今月バイオリズム!$B$4),E$2))/E$2)","v":-0.86602540378443837},"↓","高調期（活動期）","下降中","↑","高調期（活動期）","上昇中","↓","低調期（充電期）","下降中",0.5073035982436267,null,"高調期（活動期）","下降中"]
["1900-10-13","1900-10-13",{"$f":"SIN(2*PI()*(MOD(($B290-今月バイオリズム!$B$4),C$2))/C$2)","v":0.13616664909624709},{"$f":"SIN(2*PI()*(MOD(($B290-今月バイオリズム!$B$4),D$2))/D$2)","v":1},{"$f":"SIN(2*PI()*(MOD(($B290-今月バイオリズム!$B$4),E$2))/E$2)","v":-0.94500081871466834},"↓","高調期（活動期）","下降中","▽","高調期ピーク","下降中","↓","低調期（充電期）","下降中",0.19116583038157886,null,"高調期（活動期）","下降中"]
["1900-10-14","1900-10-14",{"$f":"SIN(2*PI()*(MOD(($B291-今月バイオリズム!$B$4),C$2))/C$2)","v":-0.1361666490962464},{"$f":"SIN(2*PI()*(MOD(($B291-今月バイオリズム!$B$4),D$2))/D$2)","v":0.97492791218182362},{"$f":"SIN(2*PI()*(MOD(($B291-今月バイオリズム!$B$4),E$2))/E$2)","v":-0.98982144188093268},"↓","要注意","","↓","高調期（活動期）","下降中","↓","低調期（充電期）","下降中",-0.15106017879535549,null,"要注意",""]
["1900-10-15","1900-10-15",{"$f":"SIN(2*PI()*(MOD(($B292-今月バイオリズム!$B$4),C$2))/C$2)","v":-0.39840108984624156},{"$f":"SIN(2*PI()*(MOD(($B292-今月バイオリズム!$B$4),D$2))/D$2)","v":0.90096886790241915},{"$f":"SIN(2*PI()*(MOD(($B292-今月バイオリズム!$B$4),E$2))/E$2)","v":-0.99886733918300796},"↓","低調期（充電期）","下降中","↓","高調期（活動期）","下降中","▲","低調期ピーク","下降中",-0.49629956112683038,null,"低調期（充電期）","下降中"]
["1900-10-16","1900-10-16",{"$f":"SIN(2*PI()*(MOD(($B293-今月バイオリズム!$B$4),C$2))/C$2)","v":-0.63108794432605275},{"$f":"SIN(2*PI()*(MOD(($B293-今月バイオリズム!$B$4),D$2))/D$2)","v":0.78183148246802991},{"$f":"SIN(2*PI()*(MOD(($B293-今月バイオリズム!$B$4),E$2))/E$2)","v":-0.97181156832354165},"↓","低調期（充電期）","下降中","↓","高調期（活動期）","下降中","↑","低調期（充電期）","上昇中",-0.82106803018156449,null,"低調期（充電期）","下降中"]
["1900-10-17","1900-10-17",{"$f":"SIN(2*PI()*(MOD(($B294-今月バイオリズム!$B$4),C$2))/C$2)","v":-0.81696989301044198},{"$f":"SIN(2*PI()*(MOD(($B294-今月バイオリズム!$B$4),D$2))/D$2)","v":0.62348980185873393},{"$f":"SIN(2*PI()*(MOD(($B294-今月バイオリズム!$B$4),E$2))/E$2)","v":-0.90963199535451855},"↓","低調期（充電期）","下降中","↓","高調期（活動期）","下降中","↑","低調期（充電期）","上昇中",-1.1031120865062265,null,"低調期（充電期）","下降中"]
["1900-10-18","1900-10-18",{"$f":"SIN(2*PI()*(MOD(($B295-今月バイオリズム!$B$4),C$2))/C$2)","v":-0.9422609221188204},{"$f":"SIN(2*PI()*(MOD(($B295-今月バイオリズム!$B$4),D$2))/D$2)","v":0.43388373911755823},{"$f":"SIN(2*PI()*(MOD(($B295-今月バイオリズム!$B$4),E$2))/E$2)","v":-0.81457595205033584},"↓","低調期（充電期）","下降中","↓","高調期（活動期）","下降中","↑","低調期（充電期）","上昇中",-1.322953135051598,null,"低調期（充電期）","下降中"]
["1900-10-19","1900-10-19",{"$f":"SIN(2*PI()*(MOD(($B296-今月バイオリズム!$B$4),C$2))/C$2)","v":-0.99766876919053926},{"$f":"SIN(2*PI()*(MOD(($B296-今月バイオリズム!$B$4),D$2))/D$2)","v":0.22252093395631409},{"$f":"SIN(2*PI()*(MOD(($B296-今月バイオリズム!$B$4),E$2))/E$2)","v":-0.69007901148211204},"▲","低調期ピーク","下降中","↓","高調期（活動期）","下降中","↑","低調期（充電期）","上昇中",-1.4652268467163372,null,"低調期（充電期）","下降中"]
["1900-10-20","1900-10-20",{"$f":"SIN(2*PI()*(MOD(($B297-今月バイオリズム!$B$4),C$2))/C$2)","v":-0.97908408768232302},{"$f":"SIN(2*PI()*(MOD(($B297-今月バイオリズム!$B$4),D$2))/D$2)","v":1.22514845490862E-16},{"$f":"SIN(2*PI()*(MOD(($B297-今月バイオリズム!$B$4),E$2))/E$2)","v":-0.54064081745559822},"↑","低調期（充電期）","上昇中","↓","高調期（活動期）","下降中","↑","低調期（充電期）","上昇中",-1.5197249051379211,null,"低調期（充電期）","下降中"]
["1900-10-21","1900-10-21",{"$f":"SIN(2*PI()*(MOD(($B298-今月バイオリズム!$B$4),C$2))/C$2)","v":-0.88788521840237555},{"$f":"SIN(2*PI()*(MOD(($B298-今月バイオリズム!$B$4),D$2))/D$2)","v":-0.22252093395631384},{"$f":"SIN(2*PI()*(MOD(($B298-今月バイオリズム!$B$4),E$2))/E$2)","v":-0.37166245566032807},"↑","低調期（充電期）","上昇中","↓","要注意","","↑","低調期（充電期）","上昇中",-1.4820686080190175,null,"低調期（充電期）","下降中"]
["1900-10-22","1900-10-22",{"$f":"SIN(2*PI()*(MOD(($B299-今月バイオリズム!$B$4),C$2))/C$2)","v":-0.73083596427812403},{"$f":"SIN(2*PI()*(MOD(($B299-今月バイオリズム!$B$4),D$2))/D$2)","v":-0.43388373911755801},{"$f":"SIN(2*PI()*(MOD(($B299-今月バイオリズム!$B$4),E$2))/E$2)","v":-0.18925124436041063},"↑","低調期（充電期）","上昇中","↓","低調期（充電期）","下降中","↑","低調期（充電期）","上昇中",-1.3539709477560926,null,"低調期（充電期）","下降中"]
["1900-10-23","1900-10-23",{"$f":"SIN(2*PI()*(MOD(($B300-今月バイオリズム!$B$4),C$2))/C$2)","v":-0.51958395003543356},{"$f":"SIN(2*PI()*(MOD(($B300-今月バイオリズム!$B$4),D$2))/D$2)","v":-0.62348980185873382},{"$f":"SIN(2*PI()*(MOD(($B300-今月バイオリズム!$B$4),E$2))/E$2)","v":0},"↑","低調期（充電期）","上昇中","↓","低調期（充電期）","下降中","↑","要注意","",-1.1430737518941674,null,"低調期（充電期）","下降中"]
["1900-10-24","1900-10-24",{"$f":"SIN(2*PI()*(MOD(($B301-今月バイオリズム!$B$4),C$2))/C$2)","v":-0.26979677115702522},{"$f":"SIN(2*PI()*(MOD(($B301-今月バイオリズム!$B$4),D$2))/D$2)","v":-0.78183148246802969},{"$f":"SIN(2*PI()*(MOD(($B301-今月バイオリズム!$B$4),E$2))/E$2)","v":0.18925124436041019},"↑","低調期（充電期）","上昇中","↓","低調期（充電期）","下降中","↑","要注意","",-0.86237700926464478,null,"低調期（充電期）","下降中"]
["1900-10-25","1900-10-25",{"$f":"SIN(2*PI()*(MOD(($B302-今月バイオリズム!$B$4),C$2))/C$2)","v":0},{"$f":"SIN(2*PI()*(MOD(($B302-今月バイオリズム!$B$4),D$2))/D$2)","v":-0.90096886790241903},{"$f":"SIN(2*PI()*(MOD(($B302-今月バイオリズム!$B$4),E$2))/E$2)","v":0.37166245566032752},"↑","要注意","","↓","低調期（充電期）","下降中","↑","高調期（活動期）","上昇中",-0.52930641224209152,null,"低調期（充電期）","下降中"]
["1900-10-26","1900-10-26",{"$f":"SIN(2*PI()*(MOD(($B303-今月バイオリズム!$B$4),C$2))/C$2)","v":0.26979677115702427},{"$f":"SIN(2*PI()*(MOD(($B303-今月バイオリズム!$B$4),D$2))/D$2)","v":-0.97492791218182362},{"$f":"SIN(2*PI()*(MOD(($B303-今月バイオリズム!$B$4),E$2))/E$2)","v":0.54064081745559756},"↑","要注意","","↓","低調期（充電期）","下降中","↑","高調期（活動期）","上昇中",-0.16449032356920179,null,"低調期（充電期）","下降中"]
["1900-10-27","1900-10-27",{"$f":"SIN(2*PI()*(MOD(($B304-今月バイオリズム!$B$4),C$2))/C$2)","v":0.51958395003543356},{"$f":"SIN(2*PI()*(MOD(($B304-今月バイオリズム!$B$4),D$2))/D$2)","v":-1},{"$f":"SIN(2*PI()*(MOD(($B304-今月バイオリズム!$B$4),E$2))/E$2)","v":0.69007901148211193},"↑","高調期（活動期）","上昇中","▲","低調期ピーク","下降中","↑","高調期（活動期）","上昇中",0.20966296151754549,null,"要注意",""]
["1900-10-28","1900-10-28",{"$f":"SIN(2*PI()*(MOD(($B305-今月バイオリズム!$B$4),C$2))/C$2)","v":0.73083596427812403},{"$f":"SIN(2*PI()*(MOD(($B305-今月バイオリズム!$B$4),D$2))/D$2)","v":-0.97492791218182384},{"$f":"SIN(2*PI()*(MOD(($B305-今月バイオリズム!$B$4),E$2))/E$2)","v":0.81457595205033573},"↑","高調期（活動期）","上昇中","↑","低調期（充電期）","上昇中","↑","高調期（活動期）","上昇中",0.57048400414663591,null,"高調期（活動期）","下降中"]
["1900-10-29","1900-10-29",{"$f":"SIN(2*PI()*(MOD(($B306-今月バイオリズム!$B$4),C$2))/C$2)","v":0.88788521840237522},{"$f":"SIN(2*PI()*(MOD(($B306-今月バイオリズム!$B$4),D$2))/D$2)","v":-0.90096886790241926},{"$f":"SIN(2*PI()*(MOD(($B306-今月バイオリズム!$B$4),E$2))/E$2)","v":0.90963199535451833},"↑","高調期（活動期）","上昇中","↑","低調期（充電期）","上昇中","↑","高調期（活動期）","上昇中",0.89654834585447429,null,"高調期（活動期）","下降中"]
["1900-10-30","1900-10-30",{"$f":"SIN(2*PI()*(MOD(($B307-今月バイオリズム!$B$4),C$2))/C$2)","v":0.97908408768232291},{"$f":"SIN(2*PI()*(MOD(($B307-今月バイオリズム!$B$4),D$2))/D$2)","v":-0.78183148246802991},{"$f":"SIN(2*PI()*(MOD(($B307-今月バイオリズム!$B$4),E$2))/E$2)","v":0.97181156832354165},"↑","高調期（活動期）","上昇中","↑","低調期（充電期）","上昇中","↑","高調期（活動期）","上昇中",1.1690641735378346,null,"高調期（活動期）","下降中"]
["1900-10-31","1900-10-31",{"$f":"SIN(2*PI()*(MOD(($B308-今月バイオリズム!$B$4),C$2))/C$2)","v":0.99766876919053915},{"$f":"SIN(2*PI()*(MOD(($B308-今月バイオリズム!$B$4),D$2))/D$2)","v":-0.62348980185873371},{"$f":"SIN(2*PI()*(MOD(($B308-今月バイオリズム!$B$4),E$2))/E$2)","v":0.99886733918300796},"▽","高調期ピーク","下降中","↑","低調期（充電期）","上昇中","▽","高調期ピーク","下降中",1.3730463065148135,null,"高調期（活動期）","下降中"]
["1900-11-01","1900-11-01",{"$f":"SIN(2*PI()*(MOD(($B309-今月バイオリズム!$B$4),C$2))/C$2)","v":0.94226092211882051},{"$f":"SIN(2*PI()*(MOD(($B309-今月バイオリズム!$B$4),D$2))/D$2)","v":-0.43388373911755751},{"$f":"SIN(2*PI()*(MOD(($B309-今月バイオリズム!$B$4),E$2))/E$2)","v":0.9898214418809328},"↓","高調期（活動期）","下降中","↑","低調期（充電期）","上昇中","↓","高調期（活動期）","下降中",1.4981986248821957,null,"高調期（活動期）","下降中"]
["1900-11-02","1900-11-02",{"$f":"SIN(2*PI()*(MOD(($B310-今月バイオリズム!$B$4),C$2))/C$2)","v":0.81696989301044209},{"$f":"SIN(2*PI()*(MOD(($B310-今月バイオリズム!$B$4),D$2))/D$2)","v":-0.22252093395631464},{"$f":"SIN(2*PI()*(MOD(($B310-今月バイオリズム!$B$4),E$2))/E$2)","v":0.94500081871466846},"↓","高調期（活動期）","下降中","↑","低調期（充電期）","上昇中","↓","高調期（活動期）","下降中",1.5394497777687959,null,"高調期（活動期）","下降中"]
["1900-11-03","1900-11-03",{"$f":"SIN(2*PI()*(MOD(($B311-今月バイオリズム!$B$4),C$2))/C$2)","v":0.63108794432605297},{"$f":"SIN(2*PI()*(MOD(($B311-今月バイオリズム!$B$4),D$2))/D$2)","v":0},{"$f":"SIN(2*PI()*(MOD(($B311-今月バイオリズム!$B$4),E$2))/E$2)","v":0.86602540378443871},"↓","高調期（活動期）","下降中","↑","要注意","","↓","高調期（活動期）","下降中",1.4971133481104917,null,"高調期（活動期）","下降中"]
["1900-11-04","1900-11-04",{"$f":"SIN(2*PI()*(MOD(($B312-今月バイオリズム!$B$4),C$2))/C$2)","v":0.3984010898462414},{"$f":"SIN(2*PI()*(MOD(($B312-今月バイオリズム!$B$4),D$2))/D$2)","v":0.22252093395631439},{"$f":"SIN(2*PI()*(MOD(($B312-今月バイオリズム!$B$4),E$2))/E$2)","v":0.75574957435425827},"↓","高調期（活動期）","下降中","↑","要注意","","↓","高調期（活動期）","下降中",1.3766715981568141,null,"高調期（活動期）","下降中"]
["1900-11-05","1900-11-05",{"$f":"SIN(2*PI()*(MOD(($B313-今月バイオリズム!$B$4),C$2))/C$2)","v":0.13616664909624709},{"$f":"SIN(2*PI()*(MOD(($B313-今月バイオリズム!$B$4),D$2))/D$2)","v":0.43388373911755812},{"$f":"SIN(2*PI()*(MOD(($B313-今月バイオリズム!$B$4),E$2))/E$2)","v":0.61815898622060506},"↓","高調期（活動期）","下降中","↑","高調期（活動期）","上昇中","↓","高調期（活動期）","下降中",1.1882093744344102,null,"高調期（活動期）","下降中"]
["1900-11-06","1900-11-06",{"$f":"SIN(2*PI()*(MOD(($B314-今月バイオリズム!$B$4),C$2))/C$2)","v":-0.1361666490962464},{"$f":"SIN(2*PI()*(MOD(($B314-今月バイオリズム!$B$4),D$2))/D$2)","v":0.62348980185873348},{"$f":"SIN(2*PI()*(MOD(($B314-今月バイオリズム!$B$4),E$2))/E$2)","v":0.45822652172741052},"↓","要注意","","↑","高調期（活動期）","上昇中","↓","高調期（活動期）","下降中",0.94554967448989757,null,"高調期（活動期）","下降中"]
["1900-11-07","1900-11-07",{"$f":"SIN(2*PI()*(MOD(($B315-今月バイオリズム!$B$4),C$2))/C$2)","v":-0.39840108984624156},{"$f":"SIN(2*PI()*(MOD(($B315-今月バイオリズム!$B$4),D$2))/D$2)","v":0.7818314824680298},{"$f":"SIN(2*PI()*(MOD(($B315-今月バイオリズム!$B$4),E$2))/E$2)","v":0.28173255684143006},"↓","低調期（充電期）","下降中","↑","高調期（活動期）","上昇中","↓","高調期（活動期）","下降中",0.6651629494632183,null,"高調期（活動期）","下降中"]
["1900-11-08","1900-11-08",{"$f":"SIN(2*PI()*(MOD(($B316-今月バイオリズム!$B$4),C$2))/C$2)","v":-0.63108794432605275},{"$f":"SIN(2*PI()*(MOD(($B316-今月バイオリズム!$B$4),D$2))/D$2)","v":0.90096886790241915},{"$f":"SIN(2*PI()*(MOD(($B316-今月バイオリズム!$B$4),E$2))/E$2)","v":9.505604330418288E-2},"↓","低調期（充電期）","下降中","↑","高調期（活動期）","上昇中","↓","高調期（活動期）","下降中",0.36493696688054927,null,"高調期（活動期）","下降中"]
["1900-11-09","1900-11-09",{"$f":"SIN(2*PI()*(MOD(($B317-今月バイオリズム!$B$4),C$2))/C$2)","v":-0.81696989301044198},{"$f":"SIN(2*PI()*(MOD(($B317-今月バイオリズム!$B$4),D$2))/D$2)","v":0.97492791218182362},{"$f":"SIN(2*PI()*(MOD(($B317-今月バイオリズム!$B$4),E$2))/E$2)","v":-9.505604330418263E-2},"↓","低調期（充電期）","下降中","↑","高調期（活動期）","上昇中","↓","要注意","",6.2901975867199006E-2,null,"高調期（活動期）","下降中"]
["1900-11-10","1900-11-10",{"$f":"SIN(2*PI()*(MOD(($B318-今月バイオリズム!$B$4),C$2))/C$2)","v":-0.9422609221188204},{"$f":"SIN(2*PI()*(MOD(($B318-今月バイオリズム!$B$4),D$2))/D$2)","v":1},{"$f":"SIN(2*PI()*(MOD(($B318-今月バイオリズム!$B$4),E$2))/E$2)","v":-0.28173255684142939},"↓","低調期（充電期）","下降中","▽","高調期ピーク","下降中","↓","低調期（充電期）","下降中",-0.22399347896024979,null,"要注意",""]
["1900-11-11","1900-11-11",{"$f":"SIN(2*PI()*(MOD(($B319-今月バイオリズム!$B$4),C$2))/C$2)","v":-0.99766876919053926},{"$f":"SIN(2*PI()*(MOD(($B319-今月バイオリズム!$B$4),D$2))/D$2)","v":0.97492791218182362},{"$f":"SIN(2*PI()*(MOD(($B319-今月バイオリズム!$B$4),E$2))/E$2)","v":-0.45822652172740991},"▲","低調期ピーク","下降中","↓","高調期（活動期）","下降中","↓","低調期（充電期）","下降中",-0.48096737873612555,null,"低調期（充電期）","下降中"]
["1900-11-12","1900-11-12",{"$f":"SIN(2*PI()*(MOD(($B320-今月バイオリズム!$B$4),C$2))/C$2)","v":-0.97908408768232302},{"$f":"SIN(2*PI()*(MOD(($B320-今月バイオリズム!$B$4),D$2))/D$2)","v":0.90096886790241915},{"$f":"SIN(2*PI()*(MOD(($B320-今月バイオリズム!$B$4),E$2))/E$2)","v":-0.61815898622060528},"↑","低調期（充電期）","上昇中","↓","高調期（活動期）","下降中","↓","低調期（充電期）","下降中",-0.69627420600050915,null,"低調期（充電期）","下降中"]
["1900-11-13","1900-11-13",{"$f":"SIN(2*PI()*(MOD(($B321-今月バイオリズム!$B$4),C$2))/C$2)","v":-0.88788521840237555},{"$f":"SIN(2*PI()*(MOD(($B321-今月バイオリズム!$B$4),D$2))/D$2)","v":0.78183148246802991},{"$f":"SIN(2*PI()*(MOD(($B321-今月バイオリズム!$B$4),E$2))/E$2)","v":-0.75574957435425849},"↑","低調期（充電期）","上昇中","↓","高調期（活動期）","下降中","↓","低調期（充電期）","下降中",-0.86180331028860413,null,"低調期（充電期）","下降中"]
["1900-11-14","1900-11-14",{"$f":"SIN(2*PI()*(MOD(($B322-今月バイオリズム!$B$4),C$2))/C$2)","v":-0.73083596427812403},{"$f":"SIN(2*PI()*(MOD(($B322-今月バイオリズム!$B$4),D$2))/D$2)","v":0.62348980185873393},{"$f":"SIN(2*PI()*(MOD(($B322-今月バイオリズム!$B$4),E$2))/E$2)","v":-0.86602540378443837},"↑","低調期（充電期）","上昇中","↓","高調期（活動期）","下降中","↓","低調期（充電期）","下降中",-0.97337156620382848,null,"低調期（充電期）","下降中"]
["1900-11-15","1900-11-15",{"$f":"SIN(2*PI()*(MOD(($B323-今月バイオリズム!$B$4),C$2))/C$2)","v":-0.51958395003543356},{"$f":"SIN(2*PI()*(MOD(($B323-今月バイオリズム!$B$4),D$2))/D$2)","v":0.43388373911755823},{"$f":"SIN(2*PI()*(MOD(($B323-今月バイオリズム!$B$4),E$2))/E$2)","v":-0.94500081871466834},"↑","低調期（充電期）","上昇中","↓","高調期（活動期）","下降中","↓","低調期（充電期）","下降中",-1.0307010296325436,null,"低調期（充電期）","下降中"]
["1900-11-16","1900-11-16",{"$f":"SIN(2*PI()*(MOD(($B324-今月バイオリズム!$B$4),C$2))/C$2)","v":-0.26979677115702522},{"$f":"SIN(2*PI()*(MOD(($B324-今月バイオリズム!$B$4),D$2))/D$2)","v":0.22252093395631409},{"$f":"SIN(2*PI()*(MOD(($B324-今月バイオリズム!$B$4),E$2))/E$2)","v":-0.98982144188093268},"↑","低調期（充電期）","上昇中","↓","高調期（活動期）","下降中","↓","低調期（充電期）","下降中",-1.0370972790816437,null,"低調期（充電期）","下降中"]
[{"$f":"B325","v":"1900-11-17"},{"$f":"B324+1","v":"1900-11-17"},{"$f":"SIN(2*PI()*(MOD(($B325-今月バイオリズム!$B$4),C$2))/C$2)","v":0},{"$f":"SIN(2*PI()*(MOD(($B325-今月バイオリズム!$B$4),D$2))/D$2)","v":1.22514845490862E-16},{"$f":"SIN(2*PI()*(MOD(($B325-今月バイオリズム!$B$4),E$2))/E$2)","v":-0.99886733918300796},"↑","要注意","",{"$f":"IF(D325>0,IF(D324<D325,IF(D326<D325,\"▽\",\"↑\"),\"↓\"),IF(D324>D325,IF(D326>D325,\"▲\",\"↓\"),\"↑\"))","v":"↓"},{"$f":"IF(OR(AND(D324<=0,D325>=0),AND(D324>=0,D325<=0)),\"要注意\",IF(D325>0,IF(I325=\"▽\",\"高調期ピーク\",\"高調期（活動期）\"),IF(I325=\"▲\",\"低調期ピーク\",\"低調期（充電期）\")))","v":"高調期（活動期）"},"下降中",{"$f":"IF(E325>0,IF(E324<E325,IF(E326<E325,\"▽\",\"↑\"),\"↓\"),IF(E324>E325,IF(E326>E325,\"▲\",\"↓\"),\"↑\"))","v":"▲"},{"$f":"IF(OR(AND(E324<=0,E325>=0),AND(E324>=0,E325<=0)),\"要注意\",IF(E325>0,IF(L325=\"▽\",\"高調期ピーク\",\"高調期（活動期）\"),IF(L325=\"▲\",\"低調期ピーク\",\"低調期（充電期）\")))","v":"低調期ピーク"},"下降中",{"$f":"SUM(C325:E325)","v":-0.99886733918300785},null,"低調期（充電期）","下降中"]
["1900-11-18","1900-11-18",{"$f":"SIN(2*PI()*(MOD(($B326-今月バイオリズム!$B$4),C$2))/C$2)","v":0.26979677115702427},{"$f":"SIN(2*PI()*(MOD(($B326-今月バイオリズム!$B$4),D$2))/D$2)","v":-0.22252093395631384},{"$f":"SIN(2*PI()*(MOD(($B326-今月バイオリズム!$B$4),E$2))/E$2)","v":-0.97181156832354165},"↑",{"$f":"IF(OR(AND(C325<=0,C326>=0),AND(C325>=0,C326<=0)),\"要注意\",IF(C326>0,IF(F326=\"▽\",\"高調期ピーク\",\"高調期（活動期）\"),IF(F326=\"▲\",\"低調期ピーク\",\"低調期（充電期）\")))","v":"要注意"},"","↓","要注意",{"$f":"IF(J326=\"要注意\",\"\",IF(I326=\"↑\",\"上昇中\",\"下降中\"))","v":""},"↑","低調期（充電期）",{"$f":"IF(M326=\"要注意\",\"\",IF(L326=\"↑\",\"上昇中\",\"下降中\"))","v":"上昇中"},-0.92453573112283127,null,"低調期（充電期）",{"$f":"IF(Q326=\"要注意\",\"\",IF(P326=\"↑\",\"上昇中\",\"下降中\"))","v":"下降中"}]
["1900-11-19","1900-11-19",{"$f":"SIN(2*PI()*(MOD(($B327-今月バイオリズム!$B$4),C$2))/C$2)","v":0.51958395003543356},{"$f":"SIN(2*PI()*(MOD(($B327-今月バイオリズム!$B$4),D$2))/D$2)","v":-0.43388373911755801},{"$f":"SIN(2*PI()*(MOD(($B327-今月バイオリズム!$B$4),E$2))/E$2)","v":-0.90963199535451855},"↑","高調期（活動期）","上昇中","↓","低調期（充電期）","下降中","↑","低調期（充電期）","上昇中",-0.82393178443664294,null,{"$f":"IF(OR(AND(O326<=0,O327>=0),AND(O326>=0,O327<=0)),\"要注意\",IF(O327>0,IF(P327=\"▽\",\"高調期ピーク\",\"高調期（活動期）\"),IF(P327=\"▲\",\"低調期ピーク\",\"低調期（充電期）\")))","v":"低調期（充電期）"},"下降中"]
["1900-11-20","1900-11-20",{"$f":"SIN(2*PI()*(MOD(($B328-今月バイオリズム!$B$4),C$2))/C$2)","v":0.73083596427812403},{"$f":"SIN(2*PI()*(MOD(($B328-今月バイオリズム!$B$4),D$2))/D$2)","v":-0.62348980185873382},{"$f":"SIN(2*PI()*(MOD(($B328-今月バイオリズム!$B$4),E$2))/E$2)","v":-0.81457595205033584},"↑","高調期（活動期）","上昇中","↓","低調期（充電期）","下降中","↑","低調期（充電期）","上昇中",-0.70722978963094563,null,"低調期（充電期）","下降中"]
["1900-11-21","1900-11-21",{"$f":"SIN(2*PI()*(MOD(($B329-今月バイオリズム!$B$4),C$2))/C$2)","v":0.88788521840237522},{"$f":"SIN(2*PI()*(MOD(($B329-今月バイオリズム!$B$4),D$2))/D$2)","v":-0.78183148246802969},{"$f":"SIN(2*PI()*(MOD(($B329-今月バイオリズム!$B$4),E$2))/E$2)","v":-0.69007901148211204},"↑","高調期（活動期）","上昇中","↓","低調期（充電期）","下降中","↑","低調期（充電期）","上昇中",-0.58402527554776651,null,"低調期（充電期）","下降中"]
["1900-11-22","1900-11-22",{"$f":"SIN(2*PI()*(MOD(($B330-今月バイオリズム!$B$4),C$2))/C$2)","v":0.97908408768232291},{"$f":"SIN(2*PI()*(MOD(($B330-今月バイオリズム!$B$4),D$2))/D$2)","v":-0.90096886790241903},{"$f":"SIN(2*PI()*(MOD(($B330-今月バイオリズム!$B$4),E$2))/E$2)","v":-0.54064081745559822},"↑","高調期（活動期）","上昇中","↓","低調期（充電期）","下降中","↑","低調期（充電期）","上昇中",-0.46252559767569434,null,"低調期（充電期）","下降中"]
["1900-11-23","1900-11-23",{"$f":"SIN(2*PI()*(MOD(($B331-今月バイオリズム!$B$4),C$2))/C$2)","v":0.99766876919053915},{"$f":"SIN(2*PI()*(MOD(($B331-今月バイオリズム!$B$4),D$2))/D$2)","v":-0.97492791218182362},{"$f":"SIN(2*PI()*(MOD(($B331-今月バイオリズム!$B$4),E$2))/E$2)","v":-0.37166245566032807},{"$f":"IF(C331>0,IF(C330<C331,IF(C332<C331,\"▽\",\"↑\"),\"↓\"),IF(C330>C331,IF(C332>C331,\"▲\",\"↓\"),\"↑\"))","v":"▽"},"高調期ピーク",{"$f":"IF(G331=\"要注意\",\"\",IF(F331=\"↑\",\"上昇中\",\"下降中\"))","v":"下降中"},"↓","低調期（充電期）","下降中","↑","低調期（充電期）","上昇中",-0.34892159865161254,null,"低調期（充電期）","下降中"]
["1900-11-24","1900-11-24",{"$f":"SIN(2*PI()*(MOD(($B332-今月バイオリズム!$B$4),C$2))/C$2)","v":0.94226092211882051},{"$f":"SIN(2*PI()*(MOD(($B332-今月バイオリズム!$B$4),D$2))/D$2)","v":-1},{"$f":"SIN(2*PI()*(MOD(($B332-今月バイオリズム!$B$4),E$2))/E$2)","v":-0.18925124436041063},"↓","高調期（活動期）","下降中","▲","低調期ピーク","下降中","↑","低調期（充電期）","上昇中",-0.24699032224159012,null,"低調期（充電期）","下降中"]
["1900-11-25","1900-11-25",{"$f":"SIN(2*PI()*(MOD(($B333-今月バイオリズム!$B$4),C$2))/C$2)","v":0.81696989301044209},{"$f":"SIN(2*PI()*(MOD(($B333-今月バイオリズム!$B$4),D$2))/D$2)","v":-0.97492791218182384},{"$f":"SIN(2*PI()*(MOD(($B333-今月バイオリズム!$B$4),E$2))/E$2)","v":0},"↓","高調期（活動期）","下降中","↑","低調期（充電期）","上昇中","↑","要注意","",-0.15795801917138175,null,"低調期（充電期）","下降中"]
["1900-11-26","1900-11-26",{"$f":"SIN(2*PI()*(MOD(($B334-今月バイオリズム!$B$4),C$2))/C$2)","v":0.63108794432605297},{"$f":"SIN(2*PI()*(MOD(($B334-今月バイオリズム!$B$4),D$2))/D$2)","v":-0.90096886790241926},{"$f":"SIN(2*PI()*(MOD(($B334-今月バイオリズム!$B$4),E$2))/E$2)","v":0.18925124436041019},"↓","高調期（活動期）","下降中","↑","低調期（充電期）","上昇中","↑","要注意","",-8.0629679215956096E-2,null,"低調期（充電期）","下降中"]
["1900-11-27","1900-11-27",{"$f":"SIN(2*PI()*(MOD(($B335-今月バイオリズム!$B$4),C$2))/C$2)","v":0.3984010898462414},{"$f":"SIN(2*PI()*(MOD(($B335-今月バイオリズム!$B$4),D$2))/D$2)","v":-0.78183148246802991},{"$f":"SIN(2*PI()*(MOD(($B335-今月バイオリズム!$B$4),E$2))/E$2)","v":0.37166245566032752},"↓","高調期（活動期）","下降中","↑","低調期（充電期）","上昇中","↑","高調期（活動期）","上昇中",-1.1767936961461001E-2,null,"低調期（充電期）","下降中"]
["1900-11-28","1900-11-28",{"$f":"SIN(2*PI()*(MOD(($B336-今月バイオリズム!$B$4),C$2))/C$2)","v":0.13616664909624709},{"$f":"SIN(2*PI()*(MOD(($B336-今月バイオリズム!$B$4),D$2))/D$2)","v":-0.62348980185873371},{"$f":"SIN(2*PI()*(MOD(($B336-今月バイオリズム!$B$4),E$2))/E$2)","v":0.54064081745559756},"↓","高調期（活動期）","下降中","↑","低調期（充電期）","上昇中","↑","高調期（活動期）","上昇中",5.3317664693110944E-2,null,"要注意",""]
["1900-11-29","1900-11-29",{"$f":"SIN(2*PI()*(MOD(($B337-今月バイオリズム!$B$4),C$2))/C$2)","v":-0.1361666490962464},{"$f":"SIN(2*PI()*(MOD(($B337-今月バイオリズム!$B$4),D$2))/D$2)","v":-0.43388373911755751},{"$f":"SIN(2*PI()*(MOD(($B337-今月バイオリズム!$B$4),E$2))/E$2)","v":0.69007901148211193},"↓","要注意","","↑","低調期（充電期）","上昇中","↑","高調期（活動期）","上昇中",0.12002862326830799,null,"高調期（活動期）","下降中"]
["1900-11-30","1900-11-30",{"$f":"SIN(2*PI()*(MOD(($B338-今月バイオリズム!$B$4),C$2))/C$2)","v":-0.39840108984624156},{"$f":"SIN(2*PI()*(MOD(($B338-今月バイオリズム!$B$4),D$2))/D$2)","v":-0.22252093395631464},{"$f":"SIN(2*PI()*(MOD(($B338-今月バイオリズム!$B$4),E$2))/E$2)","v":0.81457595205033573},"↓","低調期（充電期）","下降中","↑","低調期（充電期）","上昇中","↑","高調期（活動期）","上昇中",0.19365392824777949,null,"高調期（活動期）","下降中"]
["1900-12-01","1900-12-01",{"$f":"SIN(2*PI()*(MOD(($B339-今月バイオリズム!$B$4),C$2))/C$2)","v":-0.63108794432605275},{"$f":"SIN(2*PI()*(MOD(($B339-今月バイオリズム!$B$4),D$2))/D$2)","v":0},{"$f":"SIN(2*PI()*(MOD(($B339-今月バイオリズム!$B$4),E$2))/E$2)","v":0.90963199535451833},"↓","低調期（充電期）","下降中","↑","要注意","","↑","高調期（活動期）","上昇中",0.27854405102846558,null,"高調期（活動期）","下降中"]
["1900-12-02","1900-12-02",{"$f":"SIN(2*PI()*(MOD(($B340-今月バイオリズム!$B$4),C$2))/C$2)","v":-0.81696989301044198},{"$f":"SIN(2*PI()*(MOD(($B340-今月バイオリズム!$B$4),D$2))/D$2)","v":0.22252093395631439},{"$f":"SIN(2*PI()*(MOD(($B340-今月バイオリズム!$B$4),E$2))/E$2)","v":0.97181156832354165},"↓","低調期（充電期）","下降中","↑","要注意","","↑","高調期（活動期）","上昇中",0.37736260926941412,null,"高調期（活動期）","下降中"]
["1900-12-03","1900-12-03",{"$f":"SIN(2*PI()*(MOD(($B341-今月バイオリズム!$B$4),C$2))/C$2)","v":-0.9422609221188204},{"$f":"SIN(2*PI()*(MOD(($B341-今月バイオリズム!$B$4),D$2))/D$2)","v":0.43388373911755812},{"$f":"SIN(2*PI()*(MOD(($B341-今月バイオリズム!$B$4),E$2))/E$2)","v":0.99886733918300796},"↓","低調期（充電期）","下降中","↑","高調期（活動期）","上昇中","▽","高調期ピーク","下降中",0.49049015618174574,null,"高調期（活動期）","下降中"]
["1900-12-04","1900-12-04",{"$f":"SIN(2*PI()*(MOD(($B342-今月バイオリズム!$B$4),C$2))/C$2)","v":-0.99766876919053926},{"$f":"SIN(2*PI()*(MOD(($B342-今月バイオリズム!$B$4),D$2))/D$2)","v":0.62348980185873348},{"$f":"SIN(2*PI()*(MOD(($B342-今月バイオリズム!$B$4),E$2))/E$2)","v":0.9898214418809328},"▲","低調期ピーク","下降中","↑","高調期（活動期）","上昇中","↓","高調期（活動期）","下降中",0.61564247454912702,null,"高調期（活動期）","下降中"]
["1900-12-05","1900-12-05",{"$f":"SIN(2*PI()*(MOD(($B343-今月バイオリズム!$B$4),C$2))/C$2)","v":-0.97908408768232302},{"$f":"SIN(2*PI()*(MOD(($B343-今月バイオリズム!$B$4),D$2))/D$2)","v":0.7818314824680298},{"$f":"SIN(2*PI()*(MOD(($B343-今月バイオリズム!$B$4),E$2))/E$2)","v":0.94500081871466846},"↑","低調期（充電期）","上昇中","↑","高調期（活動期）","上昇中","↓","高調期（活動期）","下降中",0.74774821350037524,null,"高調期（活動期）","下降中"]
["1900-12-06","1900-12-06",{"$f":"SIN(2*PI()*(MOD(($B344-今月バイオリズム!$B$4),C$2))/C$2)","v":-0.88788521840237555},{"$f":"SIN(2*PI()*(MOD(($B344-今月バイオリズム!$B$4),D$2))/D$2)","v":0.90096886790241915},{"$f":"SIN(2*PI()*(MOD(($B344-今月バイオリズム!$B$4),E$2))/E$2)","v":0.86602540378443871},"↑","低調期（充電期）","上昇中","↑","高調期（活動期）","上昇中","↓","高調期（活動期）","下降中",0.8791090532844823,null,"高調期（活動期）","下降中"]
["1900-12-07","1900-12-07",{"$f":"SIN(2*PI()*(MOD(($B345-今月バイオリズム!$B$4),C$2))/C$2)","v":-0.73083596427812403},{"$f":"SIN(2*PI()*(MOD(($B345-今月バイオリズム!$B$4),D$2))/D$2)","v":0.97492791218182362},{"$f":"SIN(2*PI()*(MOD(($B345-今月バイオリズム!$B$4),E$2))/E$2)","v":0.75574957435425827},"↑","低調期（充電期）","上昇中","↑","高調期（活動期）","上昇中","↓","高調期（活動期）","下降中",0.99984152225795786,null,"高調期（活動期）","下降中"]
["1900-12-08","1900-12-08",{"$f":"SIN(2*PI()*(MOD(($B346-今月バイオリズム!$B$4),C$2))/C$2)","v":-0.51958395003543356},{"$f":"SIN(2*PI()*(MOD(($B346-今月バイオリズム!$B$4),D$2))/D$2)","v":1},{"$f":"SIN(2*PI()*(MOD(($B346-今月バイオリズム!$B$4),E$2))/E$2)","v":0.61815898622060506},"↑","低調期（充電期）","上昇中","▽","高調期ピーク","下降中","↓","高調期（活動期）","下降中",1.0985750361851716,null,"高調期（活動期）","下降中"]
["1900-12-09","1900-12-09",{"$f":"SIN(2*PI()*(MOD(($B347-今月バイオリズム!$B$4),C$2))/C$2)","v":-0.26979677115702522},{"$f":"SIN(2*PI()*(MOD(($B347-今月バイオリズム!$B$4),D$2))/D$2)","v":0.97492791218182362},{"$f":"SIN(2*PI()*(MOD(($B347-今月バイオリズム!$B$4),E$2))/E$2)","v":0.45822652172741052},"↑","低調期（充電期）","上昇中","↓","高調期（活動期）","下降中","↓","高調期（活動期）","下降中",1.1633576627522091,null,"高調期（活動期）","下降中"]
["1900-12-10","1900-12-10",{"$f":"SIN(2*PI()*(MOD(($B348-今月バイオリズム!$B$4),C$2))/C$2)","v":0},{"$f":"SIN(2*PI()*(MOD(($B348-今月バイオリズム!$B$4),D$2))/D$2)","v":0.90096886790241915},{"$f":"SIN(2*PI()*(MOD(($B348-今月バイオリズム!$B$4),E$2))/E$2)","v":0.28173255684143006},"↑","要注意","","↓","高調期（活動期）","下降中","↓","高調期（活動期）","下降中",1.1827014247438492,null,"高調期（活動期）","下降中"]
["1900-12-11","1900-12-11",{"$f":"SIN(2*PI()*(MOD(($B349-今月バイオリズム!$B$4),C$2))/C$2)","v":0.26979677115702427},{"$f":"SIN(2*PI()*(MOD(($B349-今月バイオリズム!$B$4),D$2))/D$2)","v":0.78183148246802991},{"$f":"SIN(2*PI()*(MOD(($B349-今月バイオリズム!$B$4),E$2))/E$2)","v":9.505604330418288E-2},"↑","要注意","","↓","高調期（活動期）","下降中","↓","高調期（活動期）","下降中",1.1466842969292372,null,"高調期（活動期）","下降中"]
["1900-12-12","1900-12-12",{"$f":"SIN(2*PI()*(MOD(($B350-今月バイオリズム!$B$4),C$2))/C$2)","v":0.51958395003543356},{"$f":"SIN(2*PI()*(MOD(($B350-今月バイオリズム!$B$4),D$2))/D$2)","v":0.62348980185873393},{"$f":"SIN(2*PI()*(MOD(($B350-今月バイオリズム!$B$4),E$2))/E$2)","v":-9.505604330418263E-2},"↑","高調期（活動期）","上昇中","↓","高調期（活動期）","下降中","↓","要注意","",1.0480177085899849,null,"高調期（活動期）","下降中"]
["1900-12-13","1900-12-13",{"$f":"SIN(2*PI()*(MOD(($B351-今月バイオリズム!$B$4),C$2))/C$2)","v":0.73083596427812403},{"$f":"SIN(2*PI()*(MOD(($B351-今月バイオリズム!$B$4),D$2))/D$2)","v":0.43388373911755823},{"$f":"SIN(2*PI()*(MOD(($B351-今月バイオリズム!$B$4),E$2))/E$2)","v":-0.28173255684142939},"↑","高調期（活動期）","上昇中","↓","高調期（活動期）","下降中","↓","低調期（充電期）","下降中",0.88298714655425281,null,"高調期（活動期）","下降中"]
["1900-12-14","1900-12-14",{"$f":"SIN(2*PI()*(MOD(($B352-今月バイオリズム!$B$4),C$2))/C$2)","v":0.88788521840237522},{"$f":"SIN(2*PI()*(MOD(($B352-今月バイオリズム!$B$4),D$2))/D$2)","v":0.22252093395631409},{"$f":"SIN(2*PI()*(MOD(($B352-今月バイオリズム!$B$4),E$2))/E$2)","v":-0.45822652172740991},"↑","高調期（活動期）","上昇中","↓","高調期（活動期）","下降中","↓","低調期（充電期）","下降中",0.65217963063127926,null,"高調期（活動期）","下降中"]
["1900-12-15","1900-12-15",{"$f":"SIN(2*PI()*(MOD(($B353-今月バイオリズム!$B$4),C$2))/C$2)","v":0.97908408768232291},{"$f":"SIN(2*PI()*(MOD(($B353-今月バイオリズム!$B$4),D$2))/D$2)","v":1.22514845490862E-16},{"$f":"SIN(2*PI()*(MOD(($B353-今月バイオリズム!$B$4),E$2))/E$2)","v":-0.61815898622060528},"↑","高調期（活動期）","上昇中","↓","高調期（活動期）","下降中","↓","低調期（充電期）","下降中",0.36092510146171775,null,"高調期（活動期）","下降中"]
["1900-12-16","1900-12-16",{"$f":"SIN(2*PI()*(MOD(($B354-今月バイオリズム!$B$4),C$2))/C$2)","v":0.99766876919053915},{"$f":"SIN(2*PI()*(MOD(($B354-今月バイオリズム!$B$4),D$2))/D$2)","v":-0.22252093395631384},{"$f":"SIN(2*PI()*(MOD(($B354-今月バイオリズム!$B$4),E$2))/E$2)","v":-0.75574957435425849},"▽","高調期ピーク","下降中","↓","要注意","","↓","低調期（充電期）","下降中",1.9398260879966878E-2,null,"高調期（活動期）","下降中"]
["1900-12-17","1900-12-17",{"$f":"SIN(2*PI()*(MOD(($B355-今月バイオリズム!$B$4),C$2))/C$2)","v":0.94226092211882051},{"$f":"SIN(2*PI()*(MOD(($B355-今月バイオリズム!$B$4),D$2))/D$2)","v":-0.43388373911755801},{"$f":"SIN(2*PI()*(MOD(($B355-今月バイオリズム!$B$4),E$2))/E$2)","v":-0.86602540378443837},"↓","高調期（活動期）","下降中","↓","低調期（充電期）","下降中","↓","低調期（充電期）","下降中",-0.35764822078317593,null,"要注意",""]
["1900-12-18","1900-12-18",{"$f":"SIN(2*PI()*(MOD(($B356-今月バイオリズム!$B$4),C$2))/C$2)","v":0.81696989301044209},{"$f":"SIN(2*PI()*(MOD(($B356-今月バイオリズム!$B$4),D$2))/D$2)","v":-0.62348980185873382},{"$f":"SIN(2*PI()*(MOD(($B356-今月バイオリズム!$B$4),E$2))/E$2)","v":-0.94500081871466834},"↓","高調期（活動期）","下降中","↓","低調期（充電期）","下降中","↓","低調期（充電期）","下降中",-0.75152072756296007,null,"低調期（充電期）","下降中"]
["1900-12-19","1900-12-19",{"$f":"SIN(2*PI()*(MOD(($B357-今月バイオリズム!$B$4),C$2))/C$2)","v":0.63108794432605297},{"$f":"SIN(2*PI()*(MOD(($B357-今月バイオリズム!$B$4),D$2))/D$2)","v":-0.78183148246802969},{"$f":"SIN(2*PI()*(MOD(($B357-今月バイオリズム!$B$4),E$2))/E$2)","v":-0.98982144188093268},"↓","高調期（活動期）","下降中","↓","低調期（充電期）","下降中","↓","低調期（充電期）","下降中",-1.1405649800229094,null,"低調期（充電期）","下降中"]
["1900-12-20","1900-12-20",{"$f":"SIN(2*PI()*(MOD(($B358-今月バイオリズム!$B$4),C$2))/C$2)","v":0.3984010898462414},{"$f":"SIN(2*PI()*(MOD(($B358-今月バイオリズム!$B$4),D$2))/D$2)","v":-0.90096886790241903},{"$f":"SIN(2*PI()*(MOD(($B358-今月バイオリズム!$B$4),E$2))/E$2)","v":-0.99886733918300796},"↓","高調期（活動期）","下降中","↓","低調期（充電期）","下降中","▲","低調期ピーク","下降中",-1.5014351172391858,null,"低調期（充電期）","下降中"]
["1900-12-21","1900-12-21",{"$f":"SIN(2*PI()*(MOD(($B359-今月バイオリズム!$B$4),C$2))/C$2)","v":0.13616664909624709},{"$f":"SIN(2*PI()*(MOD(($B359-今月バイオリズム!$B$4),D$2))/D$2)","v":-0.97492791218182362},{"$f":"SIN(2*PI()*(MOD(($B359-今月バイオリズム!$B$4),E$2))/E$2)","v":-0.97181156832354165},"↓","高調期（活動期）","下降中","↓","低調期（充電期）","下降中","↑","低調期（充電期）","上昇中",-1.8105728314091181,null,"低調期（充電期）","下降中"]
["1900-12-22","1900-12-22",{"$f":"SIN(2*PI()*(MOD(($B360-今月バイオリズム!$B$4),C$2))/C$2)","v":-0.1361666490962464},{"$f":"SIN(2*PI()*(MOD(($B360-今月バイオリズム!$B$4),D$2))/D$2)","v":-1},{"$f":"SIN(2*PI()*(MOD(($B360-今月バイオリズム!$B$4),E$2))/E$2)","v":-0.90963199535451855},"↓","要注意","","▲","低調期ピーク","下降中","↑","低調期（充電期）","上昇中",-2.0457986444507648,null,"低調期（充電期）","下降中"]
["1900-12-23","1900-12-23",{"$f":"SIN(2*PI()*(MOD(($B361-今月バイオリズム!$B$4),C$2))/C$2)","v":-0.39840108984624156},{"$f":"SIN(2*PI()*(MOD(($B361-今月バイオリズム!$B$4),D$2))/D$2)","v":-0.97492791218182384},{"$f":"SIN(2*PI()*(MOD(($B361-今月バイオリズム!$B$4),E$2))/E$2)","v":-0.81457595205033584},"↓","低調期（充電期）","下降中","↑","低調期（充電期）","上昇中","↑","低調期（充電期）","上昇中",-2.1879049540784012,null,"低調期（充電期）","下降中"]
["1900-12-24","1900-12-24",{"$f":"SIN(2*PI()*(MOD(($B362-今月バイオリズム!$B$4),C$2))/C$2)","v":-0.63108794432605275},{"$f":"SIN(2*PI()*(MOD(($B362-今月バイオリズム!$B$4),D$2))/D$2)","v":-0.90096886790241926},{"$f":"SIN(2*PI()*(MOD(($B362-今月バイオリズム!$B$4),E$2))/E$2)","v":-0.69007901148211204},"↓","低調期（充電期）","下降中","↑","低調期（充電期）","上昇中","↑","低調期（充電期）","上昇中",-2.2221358237105839,null,"低調期（充電期）","下降中"]
["1900-12-25","1900-12-25",{"$f":"SIN(2*PI()*(MOD(($B363-今月バイオリズム!$B$4),C$2))/C$2)","v":-0.81696989301044198},{"$f":"SIN(2*PI()*(MOD(($B363-今月バイオリズム!$B$4),D$2))/D$2)","v":-0.78183148246802991},{"$f":"SIN(2*PI()*(MOD(($B363-今月バイオリズム!$B$4),E$2))/E$2)","v":-0.54064081745559822},"↓","低調期（充電期）","下降中","↑","低調期（充電期）","上昇中","↑","低調期（充電期）","上昇中",-2.1394421929340699,null,"低調期（充電期）","下降中"]
["1900-12-26","1900-12-26",{"$f":"SIN(2*PI()*(MOD(($B364-今月バイオリズム!$B$4),C$2))/C$2)","v":-0.9422609221188204},{"$f":"SIN(2*PI()*(MOD(($B364-今月バイオリズム!$B$4),D$2))/D$2)","v":-0.62348980185873371},{"$f":"SIN(2*PI()*(MOD(($B364-今月バイオリズム!$B$4),E$2))/E$2)","v":-0.37166245566032807},"↓","低調期（充電期）","下降中","↑","低調期（充電期）","上昇中","↑","低調期（充電期）","上昇中",-1.9374131796378822,null,"低調期（充電期）","下降中"]
["1900-12-27","1900-12-27",{"$f":"SIN(2*PI()*(MOD(($B365-今月バイオリズム!$B$4),C$2))/C$2)","v":-0.99766876919053926},{"$f":"SIN(2*PI()*(MOD(($B365-今月バイオリズム!$B$4),D$2))/D$2)","v":-0.43388373911755751},{"$f":"SIN(2*PI()*(MOD(($B365-今月バイオリズム!$B$4),E$2))/E$2)","v":-0.18925124436041063},"▲","低調期ピーク","下降中","↑","低調期（充電期）","上昇中","↑","低調期（充電期）","上昇中",-1.6208037526685075,null,"低調期（充電期）","下降中"]
["1900-12-28","1900-12-28",{"$f":"SIN(2*PI()*(MOD(($B366-今月バイオリズム!$B$4),C$2))/C$2)","v":-0.97908408768232302},{"$f":"SIN(2*PI()*(MOD(($B366-今月バイオリズム!$B$4),D$2))/D$2)","v":-0.22252093395631464},{"$f":"SIN(2*PI()*(MOD(($B366-今月バイオリズム!$B$4),E$2))/E$2)","v":0},"↑","低調期（充電期）","上昇中","↑","低調期（充電期）","上昇中","↑","要注意","",-1.2016050216386376,null,"低調期（充電期）","下降中"]
["1900-12-29","1900-12-29",{"$f":"SIN(2*PI()*(MOD(($B367-今月バイオリズム!$B$4),C$2))/C$2)","v":-0.88788521840237555},{"$f":"SIN(2*PI()*(MOD(($B367-今月バイオリズム!$B$4),D$2))/D$2)","v":0},{"$f":"SIN(2*PI()*(MOD(($B367-今月バイオリズム!$B$4),E$2))/E$2)","v":0.18925124436041019},"↑","低調期（充電期）","上昇中","↑","要注意","","↑","要注意","",-0.69863397404196537,null,"低調期（充電期）","下降中"]
[{"$f":"B368","v":"1900-12-30"},"1900-12-30",{"$f":"SIN(2*PI()*(MOD(($B368-今月バイオリズム!$B$4),C$2))/C$2)","v":-0.73083596427812403},{"$f":"SIN(2*PI()*(MOD(($B368-今月バイオリズム!$B$4),D$2))/D$2)","v":0.22252093395631439},{"$f":"SIN(2*PI()*(MOD(($B368-今月バイオリズム!$B$4),E$2))/E$2)","v":0.37166245566032752},null,"低調期（充電期）",null,null,"要注意",null,null,"高調期（活動期）",null,-0.13665257466148206,null,"低調期（充電期）"]