{"text_format":"1","workbook":"xlsx","n_sheets":2,"sheets":["時計","作業"],"not_rendered":{"charts":0,"images":2,"macros":1,"external_links":0,"defined_names":0,"comments":0,"pivot_tables":0},"unopened":[],"bounds":{"document_bytes":16777216,"sheet_cells":100000,"rows_first":2000,"rows_last":500,"rows_between":2000,"halvings":0,"cell_chars":16384,"cell_head_chars":4096},"cells_cut":0,"cells_raw":0,"read":"whole","date_system":"1900"}

{"sheet":"時計","index":0,"n_rows":11,"n_cols":22,"rows_kept":11,"cut":false,"hidden":false,"merged":[[9,21,9,24],[10,20,10,25],[8,1,8,4],[2,3,2,8],[3,1,7,12],[3,14,7,25],[3,13,7,13],[2,21,2,22],[2,11,2,20]]}
[]
[]
[null,null,null,"《TIT_デジタル時計》",null,null,null,null,null,null,null,{"$f":"作業!C18","v":"2022-05-20T15:12:52"},null,null,null,null,null,null,null,null,null,{"$f":"作業!C18","v":44701.633935185186}]
[null,{"$f":"HOUR(作業!C18)","v":15},null,null,null,null,null,null,null,null,null,null,null,{"$f":"作業!AD18","v":":"},{"$f":"MINUTE(作業!C18)","v":12}]
[]
[]
[]
[]
[null,"（Enterで中止）"]
[null,null,null,null,null,null,null,null,null,null,null,null,null,null,null,null,null,null,null,null,null,"株式会社つくばＩＴパートナー"]
[null,null,null,null,null,null,null,null,null,null,null,null,null,null,null,null,null,null,null,null,"Copyright © 2018 Tsukuba IT Partner Co., Ltd. All Rights Reserved."]

{"sheet":"作業","index":1,"n_rows":34,"n_cols":89,"rows_kept":34,"cut":false,"hidden":true,"merged":[[19,2,19,8],[19,10,19,16],[19,21,19,27],[19,29,19,35],[17,2,17,8]]}
[]
[]
[null,null,0,0,0,0,0,0,0,null,null,null,null,null,null,1,1,null,2,2,2,2,2,2,2,null,3,3,3,3,3,3,3,null,4,4,null,null,null,4,4,null,5,5,5,5,5,5,5,null,6,6,6,6,6,6,6,null,7,7,7,7,7,7,7,null,8,8,8,8,8,8,8,null,9,9,9,9,9,9,9,null,{"$f":"C3&K3&S3&AA3&AI3&AQ3&AY3&BG3&BO3&BW3","v":"023456789"},{"$f":"D3&L3&T3&AB3&AJ3&AR3&AZ3&BH3&BP3&BX3","v":"023456789"},{"$f":"E3&M3&U3&AC3&AK3&AS3&BA3&BI3&BQ3&BY3","v":"02356789"},{"$f":"F3&N3&V3&AD3&AL3&AT3&BB3&BJ3&BR3&BZ3","v":"02356789"},{"$f":"G3&O3&W3&AE3&AM3&AU3&BC3&BK3&BS3&CA3","v":"02356789"},{"$f":"H3&P3&X3&AF3&AN3&AV3&BD3&BL3&BT3&CB3","v":"0123456789"},{"$f":"I3&Q3&Y3&AG3&AO3&AW3&BE3&BM3&BU3&CC3","v":"0123456789"}]
[null,null,0,0,0,0,0,0,0,null,null,null,null,null,null,1,1,null,2,2,2,2,2,2,2,null,3,3,3,3,3,3,3,null,4,4,null,null,null,4,4,null,5,5,5,5,5,5,5,null,6,6,6,6,6,6,6,null,7,7,7,7,7,7,7,null,8,8,8,8,8,8,8,null,9,9,9,9,9,9,9,null,"023456789","023456789","02356789","02356789","02356789","0123456789","0123456789"]
[null,null,0,0,null,null,null,0,0,null,null,null,null,null,null,1,1,null,null,null,null,null,null,2,2,null,null,null,null,null,null,3,3,null,4,4,null,null,null,4,4,null,5,5,null,null,null,null,null,null,6,6,null,null,null,null,null,null,null,null,null,null,null,7,7,null,8,8,null,null,null,8,8,null,9,9,null,null,null,9,9,null,"045689","045689","","","","01234789","01234789"]
[null,null,0,0,null,null,null,0,0,null,null,null,null,null,null,1,1,null,null,null,null,null,null,2,2,null,null,null,null,null,null,3,3,null,4,4,null,null,null,4,4,null,5,5,null,null,null,null,null,null,6,6,null,null,null,null,null,null,null,null,null,null,null,7,7,null,8,8,null,null,null,8,8,null,9,9,null,null,null,9,9,null,"045689","045689","","","","01234789","01234789"]
[null,null,0,0,null,null,null,0,0,null,null,null,null,null,null,1,1,null,null,null,null,null,null,2,2,null,null,null,null,null,null,3,3,null,4,4,null,null,null,4,4,null,5,5,null,null,null,null,null,null,6,6,null,null,null,null,null,null,null,null,null,null,null,7,7,null,8,8,null,null,null,8,8,null,9,9,null,null,null,9,9,null,"045689","045689","","","","01234789","01234789"]
[null,null,0,0,null,null,null,0,0,null,null,null,null,null,null,1,1,null,null,null,null,null,null,2,2,null,null,null,null,null,null,3,3,null,4,4,null,null,null,4,4,null,5,5,null,null,null,null,null,null,6,6,null,null,null,null,null,null,null,null,null,null,null,7,7,null,8,8,null,null,null,8,8,null,9,9,null,null,null,9,9,null,"045689","045689","","","","01234789","01234789"]
[null,null,0,0,null,null,null,0,0,null,null,null,null,null,null,1,1,null,2,2,2,2,2,2,2,null,3,3,3,3,3,3,3,null,4,4,4,4,4,4,4,null,5,5,5,5,5,5,5,null,6,6,6,6,6,6,6,null,null,null,null,null,null,7,7,null,8,8,8,8,8,8,8,null,9,9,9,9,9,9,9,null,"02345689","02345689","2345689","2345689","2345689","0123456789","0123456789"]
[null,null,0,0,null,null,null,0,0,null,null,null,null,null,null,1,1,null,2,2,2,2,2,2,2,null,3,3,3,3,3,3,3,null,4,4,4,4,4,4,4,null,5,5,5,5,5,5,5,null,6,6,6,6,6,6,6,null,null,null,null,null,null,7,7,null,8,8,8,8,8,8,8,null,9,9,9,9,9,9,9,null,"02345689","02345689","2345689","2345689","2345689","0123456789","0123456789"]
[null,null,0,0,null,null,null,0,0,null,null,null,null,null,null,1,1,null,2,2,null,null,null,null,null,null,null,null,null,null,null,3,3,null,null,null,null,null,null,4,4,null,null,null,null,null,null,5,5,null,6,6,null,null,null,6,6,null,null,null,null,null,null,7,7,null,8,8,null,null,null,8,8,null,null,null,null,null,null,9,9,null,"0268","0268","","","","013456789","013456789"]
[null,null,0,0,null,null,null,0,0,null,null,null,null,null,null,1,1,null,2,2,null,null,null,null,null,null,null,null,null,null,null,3,3,null,null,null,null,null,null,4,4,null,null,null,null,null,null,5,5,null,6,6,null,null,null,6,6,null,null,null,null,null,null,7,7,null,8,8,null,null,null,8,8,null,null,null,null,null,null,9,9,null,"0268","0268","","","","013456789","013456789"]
[null,null,0,0,null,null,null,0,0,null,null,null,null,null,null,1,1,null,2,2,null,null,null,null,null,null,null,null,null,null,null,3,3,null,null,null,null,null,null,4,4,null,null,null,null,null,null,5,5,null,6,6,null,null,null,6,6,null,null,null,null,null,null,7,7,null,8,8,null,null,null,8,8,null,null,null,null,null,null,9,9,null,"0268","0268","","","","013456789","013456789"]
[null,null,0,0,null,null,null,0,0,null,null,null,null,null,null,1,1,null,2,2,null,null,null,null,null,null,null,null,null,null,null,3,3,null,null,null,null,null,null,4,4,null,null,null,null,null,null,5,5,null,6,6,null,null,null,6,6,null,null,null,null,null,null,7,7,null,8,8,null,null,null,8,8,null,null,null,null,null,null,9,9,null,"0268","0268","","","","013456789","013456789"]
[null,null,0,0,0,0,0,0,0,null,null,null,null,null,null,1,1,null,2,2,2,2,2,2,2,null,3,3,3,3,3,3,3,null,null,null,null,null,null,4,4,null,5,5,5,5,5,5,5,null,6,6,6,6,6,6,6,null,null,null,null,null,null,7,7,null,8,8,8,8,8,8,8,null,null,null,null,null,null,9,9,null,"023568","023568","023568","023568","023568","0123456789","0123456789"]
[null,null,0,0,0,0,0,0,0,null,null,null,null,null,null,1,1,null,2,2,2,2,2,2,2,null,3,3,3,3,3,3,3,null,null,null,null,null,null,4,4,null,5,5,5,5,5,5,5,null,6,6,6,6,6,6,6,null,null,null,null,null,null,7,7,null,8,8,8,8,8,8,8,null,null,null,null,null,null,9,9,null,"023568","023568","023568","023568","023568","0123456789","0123456789"]
[1,{"$f":"A17+1","v":2},{"$f":"B17+1","v":3},4,5,6,7,8,9,10,11,12,13,14,15,16,17,18,19,20,21,22,23,24,25,26,{"$f":"Z17+1","v":27},{"$f":"AA17+1","v":28},{"$f":"AB17+1","v":29},{"$f":"AC17+1","v":30}]
[null,null,"2022-05-20T15:12:52",null,null,null,null,null,null,null,{"$f":"IF(C18=\"\",\"\",MID(YEAR($C$18),1,1))","v":"2"},{"$f":"IF(C18=\"\",\"\",MID(YEAR($C$18),2,1))","v":"0"},{"$f":"IF(C18=\"\",\"\",MID(YEAR($C$18),3,1))","v":"2"},{"$f":"IF(C18=\"\",\"\",MID(YEAR($C$18),4,1))","v":"2"},"年",{"$f":"IF(OR(C18=\"\",MONTH($C$18)<10),\"\",MID(TEXT(MONTH($C$18),\"00\"),1,1))","v":""},{"$f":"IF(C18=\"\",\"\",MID(TEXT(MONTH($C$18),\"00\"),2,1))","v":"5"},"月",{"$f":"IF(OR(C18=\"\",DAY($C$18)<10),\"\",MID(TEXT(DAY($C$18),\"00\"),1,1))","v":"2"},{"$f":"IF(C18=\"\",\"\",MID(TEXT(DAY($C$18),\"00\"),2,1))","v":"0"},"日",{"$f":"IF(OR(C18=\"\",HOUR($C$18)<10),\"\",MID(TEXT(HOUR($C$18),\"00\"),1,1))","v":"1"},{"$f":"IF(C18=\"\",\"\",MID(TEXT(HOUR($C$18),\"00\"),2,1))","v":"5"},"時",{"$f":"IF(OR(C18=\"\",MINUTE($C$18)<10),\"\",MID(TEXT(MINUTE($C$18),\"00\"),1,1))","v":"1"},{"$f":"IF(C18=\"\",\"\",MID(TEXT(MINUTE($C$18),\"00\"),2,1))","v":"2"},"分",null,null,":"]
[]
[null,null,{"$f":"V18","v":"1"},null,null,null,null,null,null,null,{"$f":"W18","v":"5"},null,null,null,null,null,null,null,null,null,null,{"$f":"Y18","v":"1"},null,null,null,null,null,null,null,{"$f":"Z18","v":"2"}]
[null,null,{"$f":"IF(C20=\"\",\"\",IF(ISERROR(FIND(C20,$CE$3))=TRUE,\"\",\"○\"))","v":""},{"$f":"IF(C20=\"\",\"\",IF(ISERROR(FIND(C20,$CF$3))=TRUE,\"\",\"○\"))","v":""},{"$f":"IF(C20=\"\",\"\",IF(ISERROR(FIND(C20,$CG$3))=TRUE,\"\",\"○\"))","v":""},{"$f":"IF(C20=\"\",\"\",IF(ISERROR(FIND(C20,$CH$3))=TRUE,\"\",\"○\"))","v":""},{"$f":"IF(C20=\"\",\"\",IF(ISERROR(FIND(C20,$CI$3))=TRUE,\"\",\"○\"))","v":""},{"$f":"IF(C20=\"\",\"\",IF(ISERROR(FIND(C20,$CJ$3))=TRUE,\"\",\"○\"))","v":"○"},{"$f":"IF(C20=\"\",\"\",IF(ISERROR(FIND(C20,$CK$3))=TRUE,\"\",\"○\"))","v":"○"},null,{"$f":"IF(K20=\"\",\"\",IF(ISERROR(FIND(K20,$CE$3))=TRUE,\"\",\"○\"))","v":"○"},{"$f":"IF(K20=\"\",\"\",IF(ISERROR(FIND(K20,$CF$3))=TRUE,\"\",\"○\"))","v":"○"},{"$f":"IF(K20=\"\",\"\",IF(ISERROR(FIND(K20,$CG$3))=TRUE,\"\",\"○\"))","v":"○"},{"$f":"IF(K20=\"\",\"\",IF(ISERROR(FIND(K20,$CH$3))=TRUE,\"\",\"○\"))","v":"○"},{"$f":"IF(K20=\"\",\"\",IF(ISERROR(FIND(K20,$CI$3))=TRUE,\"\",\"○\"))","v":"○"},{"$f":"IF(K20=\"\",\"\",IF(ISERROR(FIND(K20,$CJ$3))=TRUE,\"\",\"○\"))","v":"○"},{"$f":"IF(K20=\"\",\"\",IF(ISERROR(FIND(K20,$CK$3))=TRUE,\"\",\"○\"))","v":"○"},null,null,null,null,{"$f":"IF(V20=\"\",\"\",IF(ISERROR(FIND(V20,$CE$3))=TRUE,\"\",\"○\"))","v":""},{"$f":"IF(V20=\"\",\"\",IF(ISERROR(FIND(V20,$CF$3))=TRUE,\"\",\"○\"))","v":""},{"$f":"IF(V20=\"\",\"\",IF(ISERROR(FIND(V20,$CG$3))=TRUE,\"\",\"○\"))","v":""},{"$f":"IF(V20=\"\",\"\",IF(ISERROR(FIND(V20,$CH$3))=TRUE,\"\",\"○\"))","v":""},{"$f":"IF(V20=\"\",\"\",IF(ISERROR(FIND(V20,$CI$3))=TRUE,\"\",\"○\"))","v":""},{"$f":"IF(V20=\"\",\"\",IF(ISERROR(FIND(V20,$CJ$3))=TRUE,\"\",\"○\"))","v":"○"},{"$f":"IF(V20=\"\",\"\",IF(ISERROR(FIND(V20,$CK$3))=TRUE,\"\",\"○\"))","v":"○"},null,{"$f":"IF(AD20=\"\",\"\",IF(ISERROR(FIND(AD20,$CE$3))=TRUE,\"\",\"○\"))","v":"○"},{"$f":"IF(AD20=\"\",\"\",IF(ISERROR(FIND(AD20,$CF$3))=TRUE,\"\",\"○\"))","v":"○"},{"$f":"IF(AD20=\"\",\"\",IF(ISERROR(FIND(AD20,$CG$3))=TRUE,\"\",\"○\"))","v":"○"},{"$f":"IF(AD20=\"\",\"\",IF(ISERROR(FIND(AD20,$CH$3))=TRUE,\"\",\"○\"))","v":"○"},{"$f":"IF(AD20=\"\",\"\",IF(ISERROR(FIND(AD20,$CI$3))=TRUE,\"\",\"○\"))","v":"○"},{"$f":"IF(AD20=\"\",\"\",IF(ISERROR(FIND(AD20,$CJ$3))=TRUE,\"\",\"○\"))","v":"○"},{"$f":"IF(AD20=\"\",\"\",IF(ISERROR(FIND(AD20,$CK$3))=TRUE,\"\",\"○\"))","v":"○"}]
[null,null,{"$f":"IF(C20=\"\",\"\",IF(ISERROR(FIND(C20,$CE$4))=TRUE,\"\",\"○\"))","v":""},{"$f":"IF(C20=\"\",\"\",IF(ISERROR(FIND(C20,$CF$4))=TRUE,\"\",\"○\"))","v":""},{"$f":"IF(C20=\"\",\"\",IF(ISERROR(FIND(C20,$CG$4))=TRUE,\"\",\"○\"))","v":""},{"$f":"IF(C20=\"\",\"\",IF(ISERROR(FIND(C20,$CH$4))=TRUE,\"\",\"○\"))","v":""},{"$f":"IF(C20=\"\",\"\",IF(ISERROR(FIND(C20,$CI$4))=TRUE,\"\",\"○\"))","v":""},{"$f":"IF(C20=\"\",\"\",IF(ISERROR(FIND(C20,$CJ$4))=TRUE,\"\",\"○\"))","v":"○"},{"$f":"IF(C20=\"\",\"\",IF(ISERROR(FIND(C20,$CK$4))=TRUE,\"\",\"○\"))","v":"○"},null,{"$f":"IF(K20=\"\",\"\",IF(ISERROR(FIND(K20,$CE$4))=TRUE,\"\",\"○\"))","v":"○"},{"$f":"IF(K20=\"\",\"\",IF(ISERROR(FIND(K20,$CF$4))=TRUE,\"\",\"○\"))","v":"○"},{"$f":"IF(K20=\"\",\"\",IF(ISERROR(FIND(K20,$CG$4))=TRUE,\"\",\"○\"))","v":"○"},{"$f":"IF(K20=\"\",\"\",IF(ISERROR(FIND(K20,$CH$4))=TRUE,\"\",\"○\"))","v":"○"},{"$f":"IF(K20=\"\",\"\",IF(ISERROR(FIND(K20,$CI$4))=TRUE,\"\",\"○\"))","v":"○"},{"$f":"IF(K20=\"\",\"\",IF(ISERROR(FIND(K20,$CJ$4))=TRUE,\"\",\"○\"))","v":"○"},{"$f":"IF(K20=\"\",\"\",IF(ISERROR(FIND(K20,$CK$4))=TRUE,\"\",\"○\"))","v":"○"},null,null,null,null,{"$f":"IF(V20=\"\",\"\",IF(ISERROR(FIND(V20,$CE$4))=TRUE,\"\",\"○\"))","v":""},{"$f":"IF(V20=\"\",\"\",IF(ISERROR(FIND(V20,$CF$4))=TRUE,\"\",\"○\"))","v":""},{"$f":"IF(V20=\"\",\"\",IF(ISERROR(FIND(V20,$CG$4))=TRUE,\"\",\"○\"))","v":""},{"$f":"IF(V20=\"\",\"\",IF(ISERROR(FIND(V20,$CH$4))=TRUE,\"\",\"○\"))","v":""},{"$f":"IF(V20=\"\",\"\",IF(ISERROR(FIND(V20,$CI$4))=TRUE,\"\",\"○\"))","v":""},{"$f":"IF(V20=\"\",\"\",IF(ISERROR(FIND(V20,$CJ$4))=TRUE,\"\",\"○\"))","v":"○"},{"$f":"IF(V20=\"\",\"\",IF(ISERROR(FIND(V20,$CK$4))=TRUE,\"\",\"○\"))","v":"○"},null,{"$f":"IF(AD20=\"\",\"\",IF(ISERROR(FIND(AD20,$CE$4))=TRUE,\"\",\"○\"))","v":"○"},{"$f":"IF(AD20=\"\",\"\",IF(ISERROR(FIND(AD20,$CF$4))=TRUE,\"\",\"○\"))","v":"○"},{"$f":"IF(AD20=\"\",\"\",IF(ISERROR(FIND(AD20,$CG$4))=TRUE,\"\",\"○\"))","v":"○"},{"$f":"IF(AD20=\"\",\"\",IF(ISERROR(FIND(AD20,$CH$4))=TRUE,\"\",\"○\"))","v":"○"},{"$f":"IF(AD20=\"\",\"\",IF(ISERROR(FIND(AD20,$CI$4))=TRUE,\"\",\"○\"))","v":"○"},{"$f":"IF(AD20=\"\",\"\",IF(ISERROR(FIND(AD20,$CJ$4))=TRUE,\"\",\"○\"))","v":"○"},{"$f":"IF(AD20=\"\",\"\",IF(ISERROR(FIND(AD20,$CK$4))=TRUE,\"\",\"○\"))","v":"○"}]
[null,null,{"$f":"IF(C20=\"\",\"\",IF(ISERROR(FIND(C20,$CE$5))=TRUE,\"\",\"○\"))","v":""},{"$f":"IF(C20=\"\",\"\",IF(ISERROR(FIND(C20,$CF$5))=TRUE,\"\",\"○\"))","v":""},{"$f":"IF(C20=\"\",\"\",IF(ISERROR(FIND(C20,$CG$5))=TRUE,\"\",\"○\"))","v":""},{"$f":"IF(C20=\"\",\"\",IF(ISERROR(FIND(C20,$CH$5))=TRUE,\"\",\"○\"))","v":""},{"$f":"IF(C20=\"\",\"\",IF(ISERROR(FIND(C20,$CI$5))=TRUE,\"\",\"○\"))","v":""},{"$f":"IF(C20=\"\",\"\",IF(ISERROR(FIND(C20,$CJ$5))=TRUE,\"\",\"○\"))","v":"○"},{"$f":"IF(C20=\"\",\"\",IF(ISERROR(FIND(C20,$CK$5))=TRUE,\"\",\"○\"))","v":"○"},null,{"$f":"IF(K20=\"\",\"\",IF(ISERROR(FIND(K20,$CE$5))=TRUE,\"\",\"○\"))","v":"○"},{"$f":"IF(K20=\"\",\"\",IF(ISERROR(FIND(K20,$CF$5))=TRUE,\"\",\"○\"))","v":"○"},{"$f":"IF(K20=\"\",\"\",IF(ISERROR(FIND(K20,$CG$5))=TRUE,\"\",\"○\"))","v":""},{"$f":"IF(K20=\"\",\"\",IF(ISERROR(FIND(K20,$CH$5))=TRUE,\"\",\"○\"))","v":""},{"$f":"IF(K20=\"\",\"\",IF(ISERROR(FIND(K20,$CI$5))=TRUE,\"\",\"○\"))","v":""},{"$f":"IF(K20=\"\",\"\",IF(ISERROR(FIND(K20,$CJ$5))=TRUE,\"\",\"○\"))","v":""},{"$f":"IF(K20=\"\",\"\",IF(ISERROR(FIND(K20,$CK$5))=TRUE,\"\",\"○\"))","v":""},null,null,null,null,{"$f":"IF(V20=\"\",\"\",IF(ISERROR(FIND(V20,$CE$5))=TRUE,\"\",\"○\"))","v":""},{"$f":"IF(V20=\"\",\"\",IF(ISERROR(FIND(V20,$CF$5))=TRUE,\"\",\"○\"))","v":""},{"$f":"IF(V20=\"\",\"\",IF(ISERROR(FIND(V20,$CG$5))=TRUE,\"\",\"○\"))","v":""},{"$f":"IF(V20=\"\",\"\",IF(ISERROR(FIND(V20,$CH$5))=TRUE,\"\",\"○\"))","v":""},{"$f":"IF(V20=\"\",\"\",IF(ISERROR(FIND(V20,$CI$5))=TRUE,\"\",\"○\"))","v":""},{"$f":"IF(V20=\"\",\"\",IF(ISERROR(FIND(V20,$CJ$5))=TRUE,\"\",\"○\"))","v":"○"},{"$f":"IF(V20=\"\",\"\",IF(ISERROR(FIND(V20,$CK$5))=TRUE,\"\",\"○\"))","v":"○"},null,{"$f":"IF(AD20=\"\",\"\",IF(ISERROR(FIND(AD20,$CE$5))=TRUE,\"\",\"○\"))","v":""},{"$f":"IF(AD20=\"\",\"\",IF(ISERROR(FIND(AD20,$CF$5))=TRUE,\"\",\"○\"))","v":""},{"$f":"IF(AD20=\"\",\"\",IF(ISERROR(FIND(AD20,$CG$5))=TRUE,\"\",\"○\"))","v":""},{"$f":"IF(AD20=\"\",\"\",IF(ISERROR(FIND(AD20,$CH$5))=TRUE,\"\",\"○\"))","v":""},{"$f":"IF(AD20=\"\",\"\",IF(ISERROR(FIND(AD20,$CI$5))=TRUE,\"\",\"○\"))","v":""},{"$f":"IF(AD20=\"\",\"\",IF(ISERROR(FIND(AD20,$CJ$5))=TRUE,\"\",\"○\"))","v":"○"},{"$f":"IF(AD20=\"\",\"\",IF(ISERROR(FIND(AD20,$CK$5))=TRUE,\"\",\"○\"))","v":"○"}]
[null,null,{"$f":"IF(C20=\"\",\"\",IF(ISERROR(FIND(C20,$CE$6))=TRUE,\"\",\"○\"))","v":""},{"$f":"IF(C20=\"\",\"\",IF(ISERROR(FIND(C20,$CF$6))=TRUE,\"\",\"○\"))","v":""},{"$f":"IF(C20=\"\",\"\",IF(ISERROR(FIND(C20,$CG$6))=TRUE,\"\",\"○\"))","v":""},{"$f":"IF(C20=\"\",\"\",IF(ISERROR(FIND(C20,$CH$6))=TRUE,\"\",\"○\"))","v":""},{"$f":"IF(C20=\"\",\"\",IF(ISERROR(FIND(C20,$CI$6))=TRUE,\"\",\"○\"))","v":""},{"$f":"IF(C20=\"\",\"\",IF(ISERROR(FIND(C20,$CJ$6))=TRUE,\"\",\"○\"))","v":"○"},{"$f":"IF(C20=\"\",\"\",IF(ISERROR(FIND(C20,$CK$6))=TRUE,\"\",\"○\"))","v":"○"},null,{"$f":"IF(K20=\"\",\"\",IF(ISERROR(FIND(K20,$CE$6))=TRUE,\"\",\"○\"))","v":"○"},{"$f":"IF(K20=\"\",\"\",IF(ISERROR(FIND(K20,$CF$6))=TRUE,\"\",\"○\"))","v":"○"},{"$f":"IF(K20=\"\",\"\",IF(ISERROR(FIND(K20,$CG$6))=TRUE,\"\",\"○\"))","v":""},{"$f":"IF(K20=\"\",\"\",IF(ISERROR(FIND(K20,$CH$6))=TRUE,\"\",\"○\"))","v":""},{"$f":"IF(K20=\"\",\"\",IF(ISERROR(FIND(K20,$CI$6))=TRUE,\"\",\"○\"))","v":""},{"$f":"IF(K20=\"\",\"\",IF(ISERROR(FIND(K20,$CJ$6))=TRUE,\"\",\"○\"))","v":""},{"$f":"IF(K20=\"\",\"\",IF(ISERROR(FIND(K20,$CK$6))=TRUE,\"\",\"○\"))","v":""},null,null,null,null,{"$f":"IF(V20=\"\",\"\",IF(ISERROR(FIND(V20,$CE$6))=TRUE,\"\",\"○\"))","v":""},{"$f":"IF(V20=\"\",\"\",IF(ISERROR(FIND(V20,$CF$6))=TRUE,\"\",\"○\"))","v":""},{"$f":"IF(V20=\"\",\"\",IF(ISERROR(FIND(V20,$CG$6))=TRUE,\"\",\"○\"))","v":""},{"$f":"IF(V20=\"\",\"\",IF(ISERROR(FIND(V20,$CH$6))=TRUE,\"\",\"○\"))","v":""},{"$f":"IF(V20=\"\",\"\",IF(ISERROR(FIND(V20,$CI$6))=TRUE,\"\",\"○\"))","v":""},{"$f":"IF(V20=\"\",\"\",IF(ISERROR(FIND(V20,$CJ$6))=TRUE,\"\",\"○\"))","v":"○"},{"$f":"IF(V20=\"\",\"\",IF(ISERROR(FIND(V20,$CK$6))=TRUE,\"\",\"○\"))","v":"○"},null,{"$f":"IF(AD20=\"\",\"\",IF(ISERROR(FIND(AD20,$CE$6))=TRUE,\"\",\"○\"))","v":""},{"$f":"IF(AD20=\"\",\"\",IF(ISERROR(FIND(AD20,$CF$6))=TRUE,\"\",\"○\"))","v":""},{"$f":"IF(AD20=\"\",\"\",IF(ISERROR(FIND(AD20,$CG$6))=TRUE,\"\",\"○\"))","v":""},{"$f":"IF(AD20=\"\",\"\",IF(ISERROR(FIND(AD20,$CH$6))=TRUE,\"\",\"○\"))","v":""},{"$f":"IF(AD20=\"\",\"\",IF(ISERROR(FIND(AD20,$CI$6))=TRUE,\"\",\"○\"))","v":""},{"$f":"IF(AD20=\"\",\"\",IF(ISERROR(FIND(AD20,$CJ$6))=TRUE,\"\",\"○\"))","v":"○"},{"$f":"IF(AD20=\"\",\"\",IF(ISERROR(FIND(AD20,$CK$6))=TRUE,\"\",\"○\"))","v":"○"}]
[null,null,{"$f":"IF(C20=\"\",\"\",IF(ISERROR(FIND(C20,$CE$7))=TRUE,\"\",\"○\"))","v":""},{"$f":"IF(C20=\"\",\"\",IF(ISERROR(FIND(C20,$CF$7))=TRUE,\"\",\"○\"))","v":""},{"$f":"IF(C20=\"\",\"\",IF(ISERROR(FIND(C20,$CG$7))=TRUE,\"\",\"○\"))","v":""},{"$f":"IF(C20=\"\",\"\",IF(ISERROR(FIND(C20,$CH$7))=TRUE,\"\",\"○\"))","v":""},{"$f":"IF(C20=\"\",\"\",IF(ISERROR(FIND(C20,$CI$7))=TRUE,\"\",\"○\"))","v":""},{"$f":"IF(C20=\"\",\"\",IF(ISERROR(FIND(C20,$CJ$7))=TRUE,\"\",\"○\"))","v":"○"},{"$f":"IF(C20=\"\",\"\",IF(ISERROR(FIND(C20,$CK$7))=TRUE,\"\",\"○\"))","v":"○"},null,{"$f":"IF(K20=\"\",\"\",IF(ISERROR(FIND(K20,$CE$7))=TRUE,\"\",\"○\"))","v":"○"},{"$f":"IF(K20=\"\",\"\",IF(ISERROR(FIND(K20,$CF$7))=TRUE,\"\",\"○\"))","v":"○"},{"$f":"IF(K20=\"\",\"\",IF(ISERROR(FIND(K20,$CG$7))=TRUE,\"\",\"○\"))","v":""},{"$f":"IF(K20=\"\",\"\",IF(ISERROR(FIND(K20,$CH$7))=TRUE,\"\",\"○\"))","v":""},{"$f":"IF(K20=\"\",\"\",IF(ISERROR(FIND(K20,$CI$7))=TRUE,\"\",\"○\"))","v":""},{"$f":"IF(K20=\"\",\"\",IF(ISERROR(FIND(K20,$CJ$7))=TRUE,\"\",\"○\"))","v":""},{"$f":"IF(K20=\"\",\"\",IF(ISERROR(FIND(K20,$CK$7))=TRUE,\"\",\"○\"))","v":""},null,null,null,null,{"$f":"IF(V20=\"\",\"\",IF(ISERROR(FIND(V20,$CE$7))=TRUE,\"\",\"○\"))","v":""},{"$f":"IF(V20=\"\",\"\",IF(ISERROR(FIND(V20,$CF$7))=TRUE,\"\",\"○\"))","v":""},{"$f":"IF(V20=\"\",\"\",IF(ISERROR(FIND(V20,$CG$7))=TRUE,\"\",\"○\"))","v":""},{"$f":"IF(V20=\"\",\"\",IF(ISERROR(FIND(V20,$CH$7))=TRUE,\"\",\"○\"))","v":""},{"$f":"IF(V20=\"\",\"\",IF(ISERROR(FIND(V20,$CI$7))=TRUE,\"\",\"○\"))","v":""},{"$f":"IF(V20=\"\",\"\",IF(ISERROR(FIND(V20,$CJ$7))=TRUE,\"\",\"○\"))","v":"○"},{"$f":"IF(V20=\"\",\"\",IF(ISERROR(FIND(V20,$CK$7))=TRUE,\"\",\"○\"))","v":"○"},null,{"$f":"IF(AD20=\"\",\"\",IF(ISERROR(FIND(AD20,$CE$7))=TRUE,\"\",\"○\"))","v":""},{"$f":"IF(AD20=\"\",\"\",IF(ISERROR(FIND(AD20,$CF$7))=TRUE,\"\",\"○\"))","v":""},{"$f":"IF(AD20=\"\",\"\",IF(ISERROR(FIND(AD20,$CG$7))=TRUE,\"\",\"○\"))","v":""},{"$f":"IF(AD20=\"\",\"\",IF(ISERROR(FIND(AD20,$CH$7))=TRUE,\"\",\"○\"))","v":""},{"$f":"IF(AD20=\"\",\"\",IF(ISERROR(FIND(AD20,$CI$7))=TRUE,\"\",\"○\"))","v":""},{"$f":"IF(AD20=\"\",\"\",IF(ISERROR(FIND(AD20,$CJ$7))=TRUE,\"\",\"○\"))","v":"○"},{"$f":"IF(AD20=\"\",\"\",IF(ISERROR(FIND(AD20,$CK$7))=TRUE,\"\",\"○\"))","v":"○"}]
[null,null,{"$f":"IF(C20=\"\",\"\",IF(ISERROR(FIND(C20,$CE$8))=TRUE,\"\",\"○\"))","v":""},{"$f":"IF(C20=\"\",\"\",IF(ISERROR(FIND(C20,$CF$8))=TRUE,\"\",\"○\"))","v":""},{"$f":"IF(C20=\"\",\"\",IF(ISERROR(FIND(C20,$CG$8))=TRUE,\"\",\"○\"))","v":""},{"$f":"IF(C20=\"\",\"\",IF(ISERROR(FIND(C20,$CH$8))=TRUE,\"\",\"○\"))","v":""},{"$f":"IF(C20=\"\",\"\",IF(ISERROR(FIND(C20,$CI$8))=TRUE,\"\",\"○\"))","v":""},{"$f":"IF(C20=\"\",\"\",IF(ISERROR(FIND(C20,$CJ$8))=TRUE,\"\",\"○\"))","v":"○"},{"$f":"IF(C20=\"\",\"\",IF(ISERROR(FIND(C20,$CK$8))=TRUE,\"\",\"○\"))","v":"○"},null,{"$f":"IF(K20=\"\",\"\",IF(ISERROR(FIND(K20,$CE$8))=TRUE,\"\",\"○\"))","v":"○"},{"$f":"IF(K20=\"\",\"\",IF(ISERROR(FIND(K20,$CF$8))=TRUE,\"\",\"○\"))","v":"○"},{"$f":"IF(K20=\"\",\"\",IF(ISERROR(FIND(K20,$CG$8))=TRUE,\"\",\"○\"))","v":""},{"$f":"IF(K20=\"\",\"\",IF(ISERROR(FIND(K20,$CH$8))=TRUE,\"\",\"○\"))","v":""},{"$f":"IF(K20=\"\",\"\",IF(ISERROR(FIND(K20,$CI$8))=TRUE,\"\",\"○\"))","v":""},{"$f":"IF(K20=\"\",\"\",IF(ISERROR(FIND(K20,$CJ$8))=TRUE,\"\",\"○\"))","v":""},{"$f":"IF(K20=\"\",\"\",IF(ISERROR(FIND(K20,$CK$8))=TRUE,\"\",\"○\"))","v":""},null,null,null,null,{"$f":"IF(V20=\"\",\"\",IF(ISERROR(FIND(V20,$CE$8))=TRUE,\"\",\"○\"))","v":""},{"$f":"IF(V20=\"\",\"\",IF(ISERROR(FIND(V20,$CF$8))=TRUE,\"\",\"○\"))","v":""},{"$f":"IF(V20=\"\",\"\",IF(ISERROR(FIND(V20,$CG$8))=TRUE,\"\",\"○\"))","v":""},{"$f":"IF(V20=\"\",\"\",IF(ISERROR(FIND(V20,$CH$8))=TRUE,\"\",\"○\"))","v":""},{"$f":"IF(V20=\"\",\"\",IF(ISERROR(FIND(V20,$CI$8))=TRUE,\"\",\"○\"))","v":""},{"$f":"IF(V20=\"\",\"\",IF(ISERROR(FIND(V20,$CJ$8))=TRUE,\"\",\"○\"))","v":"○"},{"$f":"IF(V20=\"\",\"\",IF(ISERROR(FIND(V20,$CK$8))=TRUE,\"\",\"○\"))","v":"○"},null,{"$f":"IF(AD20=\"\",\"\",IF(ISERROR(FIND(AD20,$CE$8))=TRUE,\"\",\"○\"))","v":""},{"$f":"IF(AD20=\"\",\"\",IF(ISERROR(FIND(AD20,$CF$8))=TRUE,\"\",\"○\"))","v":""},{"$f":"IF(AD20=\"\",\"\",IF(ISERROR(FIND(AD20,$CG$8))=TRUE,\"\",\"○\"))","v":""},{"$f":"IF(AD20=\"\",\"\",IF(ISERROR(FIND(AD20,$CH$8))=TRUE,\"\",\"○\"))","v":""},{"$f":"IF(AD20=\"\",\"\",IF(ISERROR(FIND(AD20,$CI$8))=TRUE,\"\",\"○\"))","v":""},{"$f":"IF(AD20=\"\",\"\",IF(ISERROR(FIND(AD20,$CJ$8))=TRUE,\"\",\"○\"))","v":"○"},{"$f":"IF(AD20=\"\",\"\",IF(ISERROR(FIND(AD20,$CK$8))=TRUE,\"\",\"○\"))","v":"○"}]
[null,null,{"$f":"IF(C20=\"\",\"\",IF(ISERROR(FIND(C20,$CE$9))=TRUE,\"\",\"○\"))","v":""},{"$f":"IF(C20=\"\",\"\",IF(ISERROR(FIND(C20,$CF$9))=TRUE,\"\",\"○\"))","v":""},{"$f":"IF(C20=\"\",\"\",IF(ISERROR(FIND(C20,$CG$9))=TRUE,\"\",\"○\"))","v":""},{"$f":"IF(C20=\"\",\"\",IF(ISERROR(FIND(C20,$CH$9))=TRUE,\"\",\"○\"))","v":""},{"$f":"IF(C20=\"\",\"\",IF(ISERROR(FIND(C20,$CI$9))=TRUE,\"\",\"○\"))","v":""},{"$f":"IF(C20=\"\",\"\",IF(ISERROR(FIND(C20,$CJ$9))=TRUE,\"\",\"○\"))","v":"○"},{"$f":"IF(C20=\"\",\"\",IF(ISERROR(FIND(C20,$CK$9))=TRUE,\"\",\"○\"))","v":"○"},null,{"$f":"IF(K20=\"\",\"\",IF(ISERROR(FIND(K20,$CE$9))=TRUE,\"\",\"○\"))","v":"○"},{"$f":"IF(K20=\"\",\"\",IF(ISERROR(FIND(K20,$CF$9))=TRUE,\"\",\"○\"))","v":"○"},{"$f":"IF(K20=\"\",\"\",IF(ISERROR(FIND(K20,$CG$9))=TRUE,\"\",\"○\"))","v":"○"},{"$f":"IF(K20=\"\",\"\",IF(ISERROR(FIND(K20,$CH$9))=TRUE,\"\",\"○\"))","v":"○"},{"$f":"IF(K20=\"\",\"\",IF(ISERROR(FIND(K20,$CI$9))=TRUE,\"\",\"○\"))","v":"○"},{"$f":"IF(K20=\"\",\"\",IF(ISERROR(FIND(K20,$CJ$9))=TRUE,\"\",\"○\"))","v":"○"},{"$f":"IF(K20=\"\",\"\",IF(ISERROR(FIND(K20,$CK$9))=TRUE,\"\",\"○\"))","v":"○"},null,null,null,null,{"$f":"IF(V20=\"\",\"\",IF(ISERROR(FIND(V20,$CE$9))=TRUE,\"\",\"○\"))","v":""},{"$f":"IF(V20=\"\",\"\",IF(ISERROR(FIND(V20,$CF$9))=TRUE,\"\",\"○\"))","v":""},{"$f":"IF(V20=\"\",\"\",IF(ISERROR(FIND(V20,$CG$9))=TRUE,\"\",\"○\"))","v":""},{"$f":"IF(V20=\"\",\"\",IF(ISERROR(FIND(V20,$CH$9))=TRUE,\"\",\"○\"))","v":""},{"$f":"IF(V20=\"\",\"\",IF(ISERROR(FIND(V20,$CI$9))=TRUE,\"\",\"○\"))","v":""},{"$f":"IF(V20=\"\",\"\",IF(ISERROR(FIND(V20,$CJ$9))=TRUE,\"\",\"○\"))","v":"○"},{"$f":"IF(V20=\"\",\"\",IF(ISERROR(FIND(V20,$CK$9))=TRUE,\"\",\"○\"))","v":"○"},null,{"$f":"IF(AD20=\"\",\"\",IF(ISERROR(FIND(AD20,$CE$9))=TRUE,\"\",\"○\"))","v":"○"},{"$f":"IF(AD20=\"\",\"\",IF(ISERROR(FIND(AD20,$CF$9))=TRUE,\"\",\"○\"))","v":"○"},{"$f":"IF(AD20=\"\",\"\",IF(ISERROR(FIND(AD20,$CG$9))=TRUE,\"\",\"○\"))","v":"○"},{"$f":"IF(AD20=\"\",\"\",IF(ISERROR(FIND(AD20,$CH$9))=TRUE,\"\",\"○\"))","v":"○"},{"$f":"IF(AD20=\"\",\"\",IF(ISERROR(FIND(AD20,$CI$9))=TRUE,\"\",\"○\"))","v":"○"},{"$f":"IF(AD20=\"\",\"\",IF(ISERROR(FIND(AD20,$CJ$9))=TRUE,\"\",\"○\"))","v":"○"},{"$f":"IF(AD20=\"\",\"\",IF(ISERROR(FIND(AD20,$CK$9))=TRUE,\"\",\"○\"))","v":"○"}]
[null,null,{"$f":"IF(C20=\"\",\"\",IF(ISERROR(FIND(C20,$CE$10))=TRUE,\"\",\"○\"))","v":""},{"$f":"IF(C20=\"\",\"\",IF(ISERROR(FIND(C20,$CF$10))=TRUE,\"\",\"○\"))","v":""},{"$f":"IF(C20=\"\",\"\",IF(ISERROR(FIND(C20,$CG$10))=TRUE,\"\",\"○\"))","v":""},{"$f":"IF(C20=\"\",\"\",IF(ISERROR(FIND(C20,$CH$10))=TRUE,\"\",\"○\"))","v":""},{"$f":"IF(C20=\"\",\"\",IF(ISERROR(FIND(C20,$CI$10))=TRUE,\"\",\"○\"))","v":""},{"$f":"IF(C20=\"\",\"\",IF(ISERROR(FIND(C20,$CJ$10))=TRUE,\"\",\"○\"))","v":"○"},{"$f":"IF(C20=\"\",\"\",IF(ISERROR(FIND(C20,$CK$10))=TRUE,\"\",\"○\"))","v":"○"},null,{"$f":"IF(K20=\"\",\"\",IF(ISERROR(FIND(K20,$CE$10))=TRUE,\"\",\"○\"))","v":"○"},{"$f":"IF(K20=\"\",\"\",IF(ISERROR(FIND(K20,$CF$10))=TRUE,\"\",\"○\"))","v":"○"},{"$f":"IF(K20=\"\",\"\",IF(ISERROR(FIND(K20,$CG$10))=TRUE,\"\",\"○\"))","v":"○"},{"$f":"IF(K20=\"\",\"\",IF(ISERROR(FIND(K20,$CH$10))=TRUE,\"\",\"○\"))","v":"○"},{"$f":"IF(K20=\"\",\"\",IF(ISERROR(FIND(K20,$CI$10))=TRUE,\"\",\"○\"))","v":"○"},{"$f":"IF(K20=\"\",\"\",IF(ISERROR(FIND(K20,$CJ$10))=TRUE,\"\",\"○\"))","v":"○"},{"$f":"IF(K20=\"\",\"\",IF(ISERROR(FIND(K20,$CK$10))=TRUE,\"\",\"○\"))","v":"○"},null,null,null,null,{"$f":"IF(V20=\"\",\"\",IF(ISERROR(FIND(V20,$CE$10))=TRUE,\"\",\"○\"))","v":""},{"$f":"IF(V20=\"\",\"\",IF(ISERROR(FIND(V20,$CF$10))=TRUE,\"\",\"○\"))","v":""},{"$f":"IF(V20=\"\",\"\",IF(ISERROR(FIND(V20,$CG$10))=TRUE,\"\",\"○\"))","v":""},{"$f":"IF(V20=\"\",\"\",IF(ISERROR(FIND(V20,$CH$10))=TRUE,\"\",\"○\"))","v":""},{"$f":"IF(V20=\"\",\"\",IF(ISERROR(FIND(V20,$CI$10))=TRUE,\"\",\"○\"))","v":""},{"$f":"IF(V20=\"\",\"\",IF(ISERROR(FIND(V20,$CJ$10))=TRUE,\"\",\"○\"))","v":"○"},{"$f":"IF(V20=\"\",\"\",IF(ISERROR(FIND(V20,$CK$10))=TRUE,\"\",\"○\"))","v":"○"},null,{"$f":"IF(AD20=\"\",\"\",IF(ISERROR(FIND(AD20,$CE$10))=TRUE,\"\",\"○\"))","v":"○"},{"$f":"IF(AD20=\"\",\"\",IF(ISERROR(FIND(AD20,$CF$10))=TRUE,\"\",\"○\"))","v":"○"},{"$f":"IF(AD20=\"\",\"\",IF(ISERROR(FIND(AD20,$CG$10))=TRUE,\"\",\"○\"))","v":"○"},{"$f":"IF(AD20=\"\",\"\",IF(ISERROR(FIND(AD20,$CH$10))=TRUE,\"\",\"○\"))","v":"○"},{"$f":"IF(AD20=\"\",\"\",IF(ISERROR(FIND(AD20,$CI$10))=TRUE,\"\",\"○\"))","v":"○"},{"$f":"IF(AD20=\"\",\"\",IF(ISERROR(FIND(AD20,$CJ$10))=TRUE,\"\",\"○\"))","v":"○"},{"$f":"IF(AD20=\"\",\"\",IF(ISERROR(FIND(AD20,$CK$10))=TRUE,\"\",\"○\"))","v":"○"}]
[null,null,{"$f":"IF(C20=\"\",\"\",IF(ISERROR(FIND(C20,$CE$11))=TRUE,\"\",\"○\"))","v":""},{"$f":"IF(C20=\"\",\"\",IF(ISERROR(FIND(C20,$CF$11))=TRUE,\"\",\"○\"))","v":""},{"$f":"IF(C20=\"\",\"\",IF(ISERROR(FIND(C20,$CG$11))=TRUE,\"\",\"○\"))","v":""},{"$f":"IF(C20=\"\",\"\",IF(ISERROR(FIND(C20,$CH$11))=TRUE,\"\",\"○\"))","v":""},{"$f":"IF(C20=\"\",\"\",IF(ISERROR(FIND(C20,$CI$11))=TRUE,\"\",\"○\"))","v":""},{"$f":"IF(C20=\"\",\"\",IF(ISERROR(FIND(C20,$CJ$11))=TRUE,\"\",\"○\"))","v":"○"},{"$f":"IF(C20=\"\",\"\",IF(ISERROR(FIND(C20,$CK$11))=TRUE,\"\",\"○\"))","v":"○"},null,{"$f":"IF(K20=\"\",\"\",IF(ISERROR(FIND(K20,$CE$11))=TRUE,\"\",\"○\"))","v":""},{"$f":"IF(K20=\"\",\"\",IF(ISERROR(FIND(K20,$CF$11))=TRUE,\"\",\"○\"))","v":""},{"$f":"IF(K20=\"\",\"\",IF(ISERROR(FIND(K20,$CG$11))=TRUE,\"\",\"○\"))","v":""},{"$f":"IF(K20=\"\",\"\",IF(ISERROR(FIND(K20,$CH$11))=TRUE,\"\",\"○\"))","v":""},{"$f":"IF(K20=\"\",\"\",IF(ISERROR(FIND(K20,$CI$11))=TRUE,\"\",\"○\"))","v":""},{"$f":"IF(K20=\"\",\"\",IF(ISERROR(FIND(K20,$CJ$11))=TRUE,\"\",\"○\"))","v":"○"},{"$f":"IF(K20=\"\",\"\",IF(ISERROR(FIND(K20,$CK$11))=TRUE,\"\",\"○\"))","v":"○"},null,null,null,null,{"$f":"IF(V20=\"\",\"\",IF(ISERROR(FIND(V20,$CE$11))=TRUE,\"\",\"○\"))","v":""},{"$f":"IF(V20=\"\",\"\",IF(ISERROR(FIND(V20,$CF$11))=TRUE,\"\",\"○\"))","v":""},{"$f":"IF(V20=\"\",\"\",IF(ISERROR(FIND(V20,$CG$11))=TRUE,\"\",\"○\"))","v":""},{"$f":"IF(V20=\"\",\"\",IF(ISERROR(FIND(V20,$CH$11))=TRUE,\"\",\"○\"))","v":""},{"$f":"IF(V20=\"\",\"\",IF(ISERROR(FIND(V20,$CI$11))=TRUE,\"\",\"○\"))","v":""},{"$f":"IF(V20=\"\",\"\",IF(ISERROR(FIND(V20,$CJ$11))=TRUE,\"\",\"○\"))","v":"○"},{"$f":"IF(V20=\"\",\"\",IF(ISERROR(FIND(V20,$CK$11))=TRUE,\"\",\"○\"))","v":"○"},null,{"$f":"IF(AD20=\"\",\"\",IF(ISERROR(FIND(AD20,$CE$11))=TRUE,\"\",\"○\"))","v":"○"},{"$f":"IF(AD20=\"\",\"\",IF(ISERROR(FIND(AD20,$CF$11))=TRUE,\"\",\"○\"))","v":"○"},{"$f":"IF(AD20=\"\",\"\",IF(ISERROR(FIND(AD20,$CG$11))=TRUE,\"\",\"○\"))","v":""},{"$f":"IF(AD20=\"\",\"\",IF(ISERROR(FIND(AD20,$CH$11))=TRUE,\"\",\"○\"))","v":""},{"$f":"IF(AD20=\"\",\"\",IF(ISERROR(FIND(AD20,$CI$11))=TRUE,\"\",\"○\"))","v":""},{"$f":"IF(AD20=\"\",\"\",IF(ISERROR(FIND(AD20,$CJ$11))=TRUE,\"\",\"○\"))","v":""},{"$f":"IF(AD20=\"\",\"\",IF(ISERROR(FIND(AD20,$CK$11))=TRUE,\"\",\"○\"))","v":""}]
[null,null,{"$f":"IF(C20=\"\",\"\",IF(ISERROR(FIND(C20,$CE$12))=TRUE,\"\",\"○\"))","v":""},{"$f":"IF(C20=\"\",\"\",IF(ISERROR(FIND(C20,$CF$12))=TRUE,\"\",\"○\"))","v":""},{"$f":"IF(C20=\"\",\"\",IF(ISERROR(FIND(C20,$CG$12))=TRUE,\"\",\"○\"))","v":""},{"$f":"IF(C20=\"\",\"\",IF(ISERROR(FIND(C20,$CH$12))=TRUE,\"\",\"○\"))","v":""},{"$f":"IF(C20=\"\",\"\",IF(ISERROR(FIND(C20,$CI$12))=TRUE,\"\",\"○\"))","v":""},{"$f":"IF(C20=\"\",\"\",IF(ISERROR(FIND(C20,$CJ$12))=TRUE,\"\",\"○\"))","v":"○"},{"$f":"IF(C20=\"\",\"\",IF(ISERROR(FIND(C20,$CK$12))=TRUE,\"\",\"○\"))","v":"○"},null,{"$f":"IF(K20=\"\",\"\",IF(ISERROR(FIND(K20,$CE$12))=TRUE,\"\",\"○\"))","v":""},{"$f":"IF(K20=\"\",\"\",IF(ISERROR(FIND(K20,$CF$12))=TRUE,\"\",\"○\"))","v":""},{"$f":"IF(K20=\"\",\"\",IF(ISERROR(FIND(K20,$CG$12))=TRUE,\"\",\"○\"))","v":""},{"$f":"IF(K20=\"\",\"\",IF(ISERROR(FIND(K20,$CH$12))=TRUE,\"\",\"○\"))","v":""},{"$f":"IF(K20=\"\",\"\",IF(ISERROR(FIND(K20,$CI$12))=TRUE,\"\",\"○\"))","v":""},{"$f":"IF(K20=\"\",\"\",IF(ISERROR(FIND(K20,$CJ$12))=TRUE,\"\",\"○\"))","v":"○"},{"$f":"IF(K20=\"\",\"\",IF(ISERROR(FIND(K20,$CK$12))=TRUE,\"\",\"○\"))","v":"○"},null,null,null,null,{"$f":"IF(V20=\"\",\"\",IF(ISERROR(FIND(V20,$CE$12))=TRUE,\"\",\"○\"))","v":""},{"$f":"IF(V20=\"\",\"\",IF(ISERROR(FIND(V20,$CF$12))=TRUE,\"\",\"○\"))","v":""},{"$f":"IF(V20=\"\",\"\",IF(ISERROR(FIND(V20,$CG$12))=TRUE,\"\",\"○\"))","v":""},{"$f":"IF(V20=\"\",\"\",IF(ISERROR(FIND(V20,$CH$12))=TRUE,\"\",\"○\"))","v":""},{"$f":"IF(V20=\"\",\"\",IF(ISERROR(FIND(V20,$CI$12))=TRUE,\"\",\"○\"))","v":""},{"$f":"IF(V20=\"\",\"\",IF(ISERROR(FIND(V20,$CJ$12))=TRUE,\"\",\"○\"))","v":"○"},{"$f":"IF(V20=\"\",\"\",IF(ISERROR(FIND(V20,$CK$12))=TRUE,\"\",\"○\"))","v":"○"},null,{"$f":"IF(AD20=\"\",\"\",IF(ISERROR(FIND(AD20,$CE$12))=TRUE,\"\",\"○\"))","v":"○"},{"$f":"IF(AD20=\"\",\"\",IF(ISERROR(FIND(AD20,$CF$12))=TRUE,\"\",\"○\"))","v":"○"},{"$f":"IF(AD20=\"\",\"\",IF(ISERROR(FIND(AD20,$CG$12))=TRUE,\"\",\"○\"))","v":""},{"$f":"IF(AD20=\"\",\"\",IF(ISERROR(FIND(AD20,$CH$12))=TRUE,\"\",\"○\"))","v":""},{"$f":"IF(AD20=\"\",\"\",IF(ISERROR(FIND(AD20,$CI$12))=TRUE,\"\",\"○\"))","v":""},{"$f":"IF(AD20=\"\",\"\",IF(ISERROR(FIND(AD20,$CJ$12))=TRUE,\"\",\"○\"))","v":""},{"$f":"IF(AD20=\"\",\"\",IF(ISERROR(FIND(AD20,$CK$12))=TRUE,\"\",\"○\"))","v":""}]
[null,null,{"$f":"IF(C20=\"\",\"\",IF(ISERROR(FIND(C20,$CE$13))=TRUE,\"\",\"○\"))","v":""},{"$f":"IF(C20=\"\",\"\",IF(ISERROR(FIND(C20,$CF$13))=TRUE,\"\",\"○\"))","v":""},{"$f":"IF(C20=\"\",\"\",IF(ISERROR(FIND(C20,$CG$13))=TRUE,\"\",\"○\"))","v":""},{"$f":"IF(C20=\"\",\"\",IF(ISERROR(FIND(C20,$CH$13))=TRUE,\"\",\"○\"))","v":""},{"$f":"IF(C20=\"\",\"\",IF(ISERROR(FIND(C20,$CI$13))=TRUE,\"\",\"○\"))","v":""},{"$f":"IF(C20=\"\",\"\",IF(ISERROR(FIND(C20,$CJ$13))=TRUE,\"\",\"○\"))","v":"○"},{"$f":"IF(C20=\"\",\"\",IF(ISERROR(FIND(C20,$CK$13))=TRUE,\"\",\"○\"))","v":"○"},null,{"$f":"IF(K20=\"\",\"\",IF(ISERROR(FIND(K20,$CE$13))=TRUE,\"\",\"○\"))","v":""},{"$f":"IF(K20=\"\",\"\",IF(ISERROR(FIND(K20,$CF$13))=TRUE,\"\",\"○\"))","v":""},{"$f":"IF(K20=\"\",\"\",IF(ISERROR(FIND(K20,$CG$13))=TRUE,\"\",\"○\"))","v":""},{"$f":"IF(K20=\"\",\"\",IF(ISERROR(FIND(K20,$CH$13))=TRUE,\"\",\"○\"))","v":""},{"$f":"IF(K20=\"\",\"\",IF(ISERROR(FIND(K20,$CI$13))=TRUE,\"\",\"○\"))","v":""},{"$f":"IF(K20=\"\",\"\",IF(ISERROR(FIND(K20,$CJ$13))=TRUE,\"\",\"○\"))","v":"○"},{"$f":"IF(K20=\"\",\"\",IF(ISERROR(FIND(K20,$CK$13))=TRUE,\"\",\"○\"))","v":"○"},null,null,null,null,{"$f":"IF(V20=\"\",\"\",IF(ISERROR(FIND(V20,$CE$13))=TRUE,\"\",\"○\"))","v":""},{"$f":"IF(V20=\"\",\"\",IF(ISERROR(FIND(V20,$CF$13))=TRUE,\"\",\"○\"))","v":""},{"$f":"IF(V20=\"\",\"\",IF(ISERROR(FIND(V20,$CG$13))=TRUE,\"\",\"○\"))","v":""},{"$f":"IF(V20=\"\",\"\",IF(ISERROR(FIND(V20,$CH$13))=TRUE,\"\",\"○\"))","v":""},{"$f":"IF(V20=\"\",\"\",IF(ISERROR(FIND(V20,$CI$13))=TRUE,\"\",\"○\"))","v":""},{"$f":"IF(V20=\"\",\"\",IF(ISERROR(FIND(V20,$CJ$13))=TRUE,\"\",\"○\"))","v":"○"},{"$f":"IF(V20=\"\",\"\",IF(ISERROR(FIND(V20,$CK$13))=TRUE,\"\",\"○\"))","v":"○"},null,{"$f":"IF(AD20=\"\",\"\",IF(ISERROR(FIND(AD20,$CE$13))=TRUE,\"\",\"○\"))","v":"○"},{"$f":"IF(AD20=\"\",\"\",IF(ISERROR(FIND(AD20,$CF$13))=TRUE,\"\",\"○\"))","v":"○"},{"$f":"IF(AD20=\"\",\"\",IF(ISERROR(FIND(AD20,$CG$13))=TRUE,\"\",\"○\"))","v":""},{"$f":"IF(AD20=\"\",\"\",IF(ISERROR(FIND(AD20,$CH$13))=TRUE,\"\",\"○\"))","v":""},{"$f":"IF(AD20=\"\",\"\",IF(ISERROR(FIND(AD20,$CI$13))=TRUE,\"\",\"○\"))","v":""},{"$f":"IF(AD20=\"\",\"\",IF(ISERROR(FIND(AD20,$CJ$13))=TRUE,\"\",\"○\"))","v":""},{"$f":"IF(AD20=\"\",\"\",IF(ISERROR(FIND(AD20,$CK$13))=TRUE,\"\",\"○\"))","v":""}]
[null,null,{"$f":"IF(C20=\"\",\"\",IF(ISERROR(FIND(C20,$CE$14))=TRUE,\"\",\"○\"))","v":""},{"$f":"IF(C20=\"\",\"\",IF(ISERROR(FIND(C20,$CF$14))=TRUE,\"\",\"○\"))","v":""},{"$f":"IF(C20=\"\",\"\",IF(ISERROR(FIND(C20,$CG$14))=TRUE,\"\",\"○\"))","v":""},{"$f":"IF(C20=\"\",\"\",IF(ISERROR(FIND(C20,$CH$14))=TRUE,\"\",\"○\"))","v":""},{"$f":"IF(C20=\"\",\"\",IF(ISERROR(FIND(C20,$CI$14))=TRUE,\"\",\"○\"))","v":""},{"$f":"IF(C20=\"\",\"\",IF(ISERROR(FIND(C20,$CJ$14))=TRUE,\"\",\"○\"))","v":"○"},{"$f":"IF(C20=\"\",\"\",IF(ISERROR(FIND(C20,$CK$14))=TRUE,\"\",\"○\"))","v":"○"},null,{"$f":"IF(K20=\"\",\"\",IF(ISERROR(FIND(K20,$CE$14))=TRUE,\"\",\"○\"))","v":""},{"$f":"IF(K20=\"\",\"\",IF(ISERROR(FIND(K20,$CF$14))=TRUE,\"\",\"○\"))","v":""},{"$f":"IF(K20=\"\",\"\",IF(ISERROR(FIND(K20,$CG$14))=TRUE,\"\",\"○\"))","v":""},{"$f":"IF(K20=\"\",\"\",IF(ISERROR(FIND(K20,$CH$14))=TRUE,\"\",\"○\"))","v":""},{"$f":"IF(K20=\"\",\"\",IF(ISERROR(FIND(K20,$CI$14))=TRUE,\"\",\"○\"))","v":""},{"$f":"IF(K20=\"\",\"\",IF(ISERROR(FIND(K20,$CJ$14))=TRUE,\"\",\"○\"))","v":"○"},{"$f":"IF(K20=\"\",\"\",IF(ISERROR(FIND(K20,$CK$14))=TRUE,\"\",\"○\"))","v":"○"},null,null,null,null,{"$f":"IF(V20=\"\",\"\",IF(ISERROR(FIND(V20,$CE$14))=TRUE,\"\",\"○\"))","v":""},{"$f":"IF(V20=\"\",\"\",IF(ISERROR(FIND(V20,$CF$14))=TRUE,\"\",\"○\"))","v":""},{"$f":"IF(V20=\"\",\"\",IF(ISERROR(FIND(V20,$CG$14))=TRUE,\"\",\"○\"))","v":""},{"$f":"IF(V20=\"\",\"\",IF(ISERROR(FIND(V20,$CH$14))=TRUE,\"\",\"○\"))","v":""},{"$f":"IF(V20=\"\",\"\",IF(ISERROR(FIND(V20,$CI$14))=TRUE,\"\",\"○\"))","v":""},{"$f":"IF(V20=\"\",\"\",IF(ISERROR(FIND(V20,$CJ$14))=TRUE,\"\",\"○\"))","v":"○"},{"$f":"IF(V20=\"\",\"\",IF(ISERROR(FIND(V20,$CK$14))=TRUE,\"\",\"○\"))","v":"○"},null,{"$f":"IF(AD20=\"\",\"\",IF(ISERROR(FIND(AD20,$CE$14))=TRUE,\"\",\"○\"))","v":"○"},{"$f":"IF(AD20=\"\",\"\",IF(ISERROR(FIND(AD20,$CF$14))=TRUE,\"\",\"○\"))","v":"○"},{"$f":"IF(AD20=\"\",\"\",IF(ISERROR(FIND(AD20,$CG$14))=TRUE,\"\",\"○\"))","v":""},{"$f":"IF(AD20=\"\",\"\",IF(ISERROR(FIND(AD20,$CH$14))=TRUE,\"\",\"○\"))","v":""},{"$f":"IF(AD20=\"\",\"\",IF(ISERROR(FIND(AD20,$CI$14))=TRUE,\"\",\"○\"))","v":""},{"$f":"IF(AD20=\"\",\"\",IF(ISERROR(FIND(AD20,$CJ$14))=TRUE,\"\",\"○\"))","v":""},{"$f":"IF(AD20=\"\",\"\",IF(ISERROR(FIND(AD20,$CK$14))=TRUE,\"\",\"○\"))","v":""}]
[null,null,{"$f":"IF(C20=\"\",\"\",IF(ISERROR(FIND(C20,$CE$15))=TRUE,\"\",\"○\"))","v":""},{"$f":"IF(C20=\"\",\"\",IF(ISERROR(FIND(C20,$CF$15))=TRUE,\"\",\"○\"))","v":""},{"$f":"IF(C20=\"\",\"\",IF(ISERROR(FIND(C20,$CG$15))=TRUE,\"\",\"○\"))","v":""},{"$f":"IF(C20=\"\",\"\",IF(ISERROR(FIND(C20,$CH$15))=TRUE,\"\",\"○\"))","v":""},{"$f":"IF(C20=\"\",\"\",IF(ISERROR(FIND(C20,$CI$15))=TRUE,\"\",\"○\"))","v":""},{"$f":"IF(C20=\"\",\"\",IF(ISERROR(FIND(C20,$CJ$15))=TRUE,\"\",\"○\"))","v":"○"},{"$f":"IF(C20=\"\",\"\",IF(ISERROR(FIND(C20,$CK$15))=TRUE,\"\",\"○\"))","v":"○"},null,{"$f":"IF(K20=\"\",\"\",IF(ISERROR(FIND(K20,$CE$15))=TRUE,\"\",\"○\"))","v":"○"},{"$f":"IF(K20=\"\",\"\",IF(ISERROR(FIND(K20,$CF$15))=TRUE,\"\",\"○\"))","v":"○"},{"$f":"IF(K20=\"\",\"\",IF(ISERROR(FIND(K20,$CG$15))=TRUE,\"\",\"○\"))","v":"○"},{"$f":"IF(K20=\"\",\"\",IF(ISERROR(FIND(K20,$CH$15))=TRUE,\"\",\"○\"))","v":"○"},{"$f":"IF(K20=\"\",\"\",IF(ISERROR(FIND(K20,$CI$15))=TRUE,\"\",\"○\"))","v":"○"},{"$f":"IF(K20=\"\",\"\",IF(ISERROR(FIND(K20,$CJ$15))=TRUE,\"\",\"○\"))","v":"○"},{"$f":"IF(K20=\"\",\"\",IF(ISERROR(FIND(K20,$CK$15))=TRUE,\"\",\"○\"))","v":"○"},null,null,null,null,{"$f":"IF(V20=\"\",\"\",IF(ISERROR(FIND(V20,$CE$15))=TRUE,\"\",\"○\"))","v":""},{"$f":"IF(V20=\"\",\"\",IF(ISERROR(FIND(V20,$CF$15))=TRUE,\"\",\"○\"))","v":""},{"$f":"IF(V20=\"\",\"\",IF(ISERROR(FIND(V20,$CG$15))=TRUE,\"\",\"○\"))","v":""},{"$f":"IF(V20=\"\",\"\",IF(ISERROR(FIND(V20,$CH$15))=TRUE,\"\",\"○\"))","v":""},{"$f":"IF(V20=\"\",\"\",IF(ISERROR(FIND(V20,$CI$15))=TRUE,\"\",\"○\"))","v":""},{"$f":"IF(V20=\"\",\"\",IF(ISERROR(FIND(V20,$CJ$15))=TRUE,\"\",\"○\"))","v":"○"},{"$f":"IF(V20=\"\",\"\",IF(ISERROR(FIND(V20,$CK$15))=TRUE,\"\",\"○\"))","v":"○"},null,{"$f":"IF(AD20=\"\",\"\",IF(ISERROR(FIND(AD20,$CE$15))=TRUE,\"\",\"○\"))","v":"○"},{"$f":"IF(AD20=\"\",\"\",IF(ISERROR(FIND(AD20,$CF$15))=TRUE,\"\",\"○\"))","v":"○"},{"$f":"IF(AD20=\"\",\"\",IF(ISERROR(FIND(AD20,$CG$15))=TRUE,\"\",\"○\"))","v":"○"},{"$f":"IF(AD20=\"\",\"\",IF(ISERROR(FIND(AD20,$CH$15))=TRUE,\"\",\"○\"))","v":"○"},{"$f":"IF(AD20=\"\",\"\",IF(ISERROR(FIND(AD20,$CI$15))=TRUE,\"\",\"○\"))","v":"○"},{"$f":"IF(AD20=\"\",\"\",IF(ISERROR(FIND(AD20,$CJ$15))=TRUE,\"\",\"○\"))","v":"○"},{"$f":"IF(AD20=\"\",\"\",IF(ISERROR(FIND(AD20,$CK$15))=TRUE,\"\",\"○\"))","v":"○"}]
[null,null,{"$f":"IF(C20=\"\",\"\",IF(ISERROR(FIND(C20,$CE$16))=TRUE,\"\",\"○\"))","v":""},{"$f":"IF(C20=\"\",\"\",IF(ISERROR(FIND(C20,$CF$16))=TRUE,\"\",\"○\"))","v":""},{"$f":"IF(C20=\"\",\"\",IF(ISERROR(FIND(C20,$CG$16))=TRUE,\"\",\"○\"))","v":""},{"$f":"IF(C20=\"\",\"\",IF(ISERROR(FIND(C20,$CH$16))=TRUE,\"\",\"○\"))","v":""},{"$f":"IF(C20=\"\",\"\",IF(ISERROR(FIND(C20,$CI$16))=TRUE,\"\",\"○\"))","v":""},{"$f":"IF(C20=\"\",\"\",IF(ISERROR(FIND(C20,$CJ$16))=TRUE,\"\",\"○\"))","v":"○"},{"$f":"IF(C20=\"\",\"\",IF(ISERROR(FIND(C20,$CK$16))=TRUE,\"\",\"○\"))","v":"○"},null,{"$f":"IF(K20=\"\",\"\",IF(ISERROR(FIND(K20,$CE$16))=TRUE,\"\",\"○\"))","v":"○"},{"$f":"IF(K20=\"\",\"\",IF(ISERROR(FIND(K20,$CF$16))=TRUE,\"\",\"○\"))","v":"○"},{"$f":"IF(K20=\"\",\"\",IF(ISERROR(FIND(K20,$CG$16))=TRUE,\"\",\"○\"))","v":"○"},{"$f":"IF(K20=\"\",\"\",IF(ISERROR(FIND(K20,$CH$16))=TRUE,\"\",\"○\"))","v":"○"},{"$f":"IF(K20=\"\",\"\",IF(ISERROR(FIND(K20,$CI$16))=TRUE,\"\",\"○\"))","v":"○"},{"$f":"IF(K20=\"\",\"\",IF(ISERROR(FIND(K20,$CJ$16))=TRUE,\"\",\"○\"))","v":"○"},{"$f":"IF(K20=\"\",\"\",IF(ISERROR(FIND(K20,$CK$16))=TRUE,\"\",\"○\"))","v":"○"},null,null,null,null,{"$f":"IF(V20=\"\",\"\",IF(ISERROR(FIND(V20,$CE$16))=TRUE,\"\",\"○\"))","v":""},{"$f":"IF(V20=\"\",\"\",IF(ISERROR(FIND(V20,$CF$16))=TRUE,\"\",\"○\"))","v":""},{"$f":"IF(V20=\"\",\"\",IF(ISERROR(FIND(V20,$CG$16))=TRUE,\"\",\"○\"))","v":""},{"$f":"IF(V20=\"\",\"\",IF(ISERROR(FIND(V20,$CH$16))=TRUE,\"\",\"○\"))","v":""},{"$f":"IF(V20=\"\",\"\",IF(ISERROR(FIND(V20,$CI$16))=TRUE,\"\",\"○\"))","v":""},{"$f":"IF(V20=\"\",\"\",IF(ISERROR(FIND(V20,$CJ$16))=TRUE,\"\",\"○\"))","v":"○"},{"$f":"IF(V20=\"\",\"\",IF(ISERROR(FIND(V20,$CK$16))=TRUE,\"\",\"○\"))","v":"○"},null,{"$f":"IF(AD20=\"\",\"\",IF(ISERROR(FIND(AD20,$CE$16))=TRUE,\"\",\"○\"))","v":"○"},{"$f":"IF(AD20=\"\",\"\",IF(ISERROR(FIND(AD20,$CF$16))=TRUE,\"\",\"○\"))","v":"○"},{"$f":"IF(AD20=\"\",\"\",IF(ISERROR(FIND(AD20,$CG$16))=TRUE,\"\",\"○\"))","v":"○"},{"$f":"IF(AD20=\"\",\"\",IF(ISERROR(FIND(AD20,$CH$16))=TRUE,\"\",\"○\"))","v":"○"},{"$f":"IF(AD20=\"\",\"\",IF(ISERROR(FIND(AD20,$CI$16))=TRUE,\"\",\"○\"))","v":"○"},{"$f":"IF(AD21=\"\",\"\",IF(ISERROR(FIND(AD20,$CJ$16))=TRUE,\"\",\"○\"))","v":"○"},{"$f":"IF(AD21=\"\",\"\",IF(ISERROR(FIND(AD20,$CK$16))=TRUE,\"\",\"○\"))","v":"○"}]