{"text_format":"1","workbook":"xlsx","n_sheets":4,"sheets":["比較設定","ファイル1","ファイル2","比較結果"],"not_rendered":{"charts":0,"images":0,"macros":1,"external_links":0,"defined_names":0,"comments":0,"pivot_tables":0},"unopened":[],"bounds":{"document_bytes":16777216,"sheet_cells":100000,"rows_first":2000,"rows_last":500,"rows_between":2000,"halvings":0,"cell_chars":16384,"cell_head_chars":4096},"cells_cut":0,"cells_raw":0,"read":"whole","date_system":"1900"}

{"sheet":"比較設定","index":0,"n_rows":23,"n_cols":42,"rows_kept":23,"cut":false,"hidden":false,"merged":[[2,33,3,41],[14,15,14,26],[15,15,16,26],[2,4,3,12],[6,4,6,36],[10,4,10,36],[11,4,12,20],[11,21,12,36],[6,38,6,41],[7,38,8,41],[10,38,10,41],[11,38,12,41],[7,4,8,20],[7,21,8,36]]}
[]
[]
[null,null,null,null,"株式会社つくばＩＴパートナー",null,null,null,null,null,null,null,null,null,null,null,null,null,null,null,null,null,null,null,null,null,null,null,null,null,null,null,null,{"$f":"NOW()","v":"2020-04-21T07:35:15.730"}]
[]
[]
[]
[null,null,null,null,"テキスト１",null,null,null,null,null,null,null,null,null,null,null,null,null,null,null,null,null,null,null,null,null,null,null,null,null,null,null,null,null,null,null,null,null,"ｽﾃｯﾌﾟ数"]
[null,null,null,null,null,null,null,null,null,null,null,null,null,null,null,null,null,null,null,null,null,null,null,null,null,null,null,null,null,null,null,null,null,null,null,null,null,null,{"$f":"COUNTA(ファイル1!A:A)","v":0}]
[]
[]
[null,null,null,null,"テキスト２",null,null,null,null,null,null,null,null,null,null,null,null,null,null,null,null,null,null,null,null,null,null,null,null,null,null,null,null,null,null,null,null,null,"ｽﾃｯﾌﾟ数"]
[null,null,null,null,null,null,null,null,null,null,null,null,null,null,null,null,null,null,null,null,null,null,null,null,null,null,null,null,null,null,null,null,null,null,null,null,null,null,{"$f":"COUNTA(ファイル2!A:A)","v":0}]
[]
[]
[null,null,null,null,null,null,null,null,null,null,null,null,null,null,null,"比較結果"]
[null,null,null,null,null,null,null,null,null,null,null,null,null,null,null,{"$f":"IF(OR(AM8=0,AM12=0),\"\",IF(比較結果!B1=0,IF(比較結果!C1=0,\"\",\"同様の内容です。\"),\"アンマッチ！\"))","v":""}]
[]
[]
[]
[]
[]
[]
[null,null,null,null,null,null,null,null,null,null,null,null,null,null,null,null,null,null,null,null,null,null,null,null,null,null,null,null,null,null,null,null,null,null,null,null,null,null,null,null,null,"Copyright © 2017 Tsukuba IT Partner Co., Ltd. All Rights Reserved."]

{"sheet":"ファイル1","index":1,"n_rows":0,"n_cols":0,"rows_kept":0,"cut":false,"hidden":false,"merged":[]}

{"sheet":"ファイル2","index":2,"n_rows":0,"n_cols":0,"rows_kept":0,"cut":false,"hidden":false,"merged":[]}

{"sheet":"比較結果","index":3,"n_rows":76,"n_cols":5,"rows_kept":76,"cut":false,"hidden":true,"merged":[]}
[{"$f":"IF(ファイル1!A1=ファイル2!A1,\"○\",\"×\")","v":"○"},{"$f":"COUNTIF(A:A,\"×\")","v":0},{"$f":"COUNTIF(A:A,\"○\")","v":76},null,{"$f":"IFERROR(MATCH(\"\",ファイル1!A:A,-1),0)","v":0}]
[{"$f":"IF(ファイル1!A2=ファイル2!A2,\"○\",\"×\")","v":"○"}]
[{"$f":"IF(ファイル1!A3=ファイル2!A3,\"○\",\"×\")","v":"○"}]
[{"$f":"IF(ファイル1!A4=ファイル2!A4,\"○\",\"×\")","v":"○"}]
[{"$f":"IF(ファイル1!A5=ファイル2!A5,\"○\",\"×\")","v":"○"}]
[{"$f":"IF(ファイル1!A6=ファイル2!A6,\"○\",\"×\")","v":"○"}]
[{"$f":"IF(ファイル1!A7=ファイル2!A7,\"○\",\"×\")","v":"○"}]
[{"$f":"IF(ファイル1!A8=ファイル2!A8,\"○\",\"×\")","v":"○"}]
[{"$f":"IF(ファイル1!A9=ファイル2!A9,\"○\",\"×\")","v":"○"}]
[{"$f":"IF(ファイル1!A10=ファイル2!A10,\"○\",\"×\")","v":"○"}]
[{"$f":"IF(ファイル1!A11=ファイル2!A11,\"○\",\"×\")","v":"○"}]
[{"$f":"IF(ファイル1!A12=ファイル2!A12,\"○\",\"×\")","v":"○"}]
[{"$f":"IF(ファイル1!A13=ファイル2!A13,\"○\",\"×\")","v":"○"}]
[{"$f":"IF(ファイル1!A14=ファイル2!A14,\"○\",\"×\")","v":"○"}]
[{"$f":"IF(ファイル1!A15=ファイル2!A15,\"○\",\"×\")","v":"○"}]
[{"$f":"IF(ファイル1!A16=ファイル2!A16,\"○\",\"×\")","v":"○"}]
[{"$f":"IF(ファイル1!A17=ファイル2!A17,\"○\",\"×\")","v":"○"}]
[{"$f":"IF(ファイル1!A18=ファイル2!A18,\"○\",\"×\")","v":"○"}]
[{"$f":"IF(ファイル1!A19=ファイル2!A19,\"○\",\"×\")","v":"○"}]
[{"$f":"IF(ファイル1!A20=ファイル2!A20,\"○\",\"×\")","v":"○"}]
[{"$f":"IF(ファイル1!A21=ファイル2!A21,\"○\",\"×\")","v":"○"}]
[{"$f":"IF(ファイル1!A22=ファイル2!A22,\"○\",\"×\")","v":"○"}]
[{"$f":"IF(ファイル1!A23=ファイル2!A23,\"○\",\"×\")","v":"○"}]
[{"$f":"IF(ファイル1!A24=ファイル2!A24,\"○\",\"×\")","v":"○"}]
[{"$f":"IF(ファイル1!A25=ファイル2!A25,\"○\",\"×\")","v":"○"}]
[{"$f":"IF(ファイル1!A26=ファイル2!A26,\"○\",\"×\")","v":"○"}]
[{"$f":"IF(ファイル1!A27=ファイル2!A27,\"○\",\"×\")","v":"○"}]
[{"$f":"IF(ファイル1!A28=ファイル2!A28,\"○\",\"×\")","v":"○"}]
[{"$f":"IF(ファイル1!A29=ファイル2!A29,\"○\",\"×\")","v":"○"}]
[{"$f":"IF(ファイル1!A30=ファイル2!A30,\"○\",\"×\")","v":"○"}]
[{"$f":"IF(ファイル1!A31=ファイル2!A31,\"○\",\"×\")","v":"○"}]
[{"$f":"IF(ファイル1!A32=ファイル2!A32,\"○\",\"×\")","v":"○"}]
[{"$f":"IF(ファイル1!A33=ファイル2!A33,\"○\",\"×\")","v":"○"}]
[{"$f":"IF(ファイル1!A34=ファイル2!A34,\"○\",\"×\")","v":"○"}]
[{"$f":"IF(ファイル1!A35=ファイル2!A35,\"○\",\"×\")","v":"○"}]
[{"$f":"IF(ファイル1!A36=ファイル2!A36,\"○\",\"×\")","v":"○"}]
[{"$f":"IF(ファイル1!A37=ファイル2!A37,\"○\",\"×\")","v":"○"}]
[{"$f":"IF(ファイル1!A38=ファイル2!A38,\"○\",\"×\")","v":"○"}]
[{"$f":"IF(ファイル1!A39=ファイル2!A39,\"○\",\"×\")","v":"○"}]
[{"$f":"IF(ファイル1!A40=ファイル2!A40,\"○\",\"×\")","v":"○"}]
[{"$f":"IF(ファイル1!A41=ファイル2!A41,\"○\",\"×\")","v":"○"}]
[{"$f":"IF(ファイル1!A42=ファイル2!A42,\"○\",\"×\")","v":"○"}]
[{"$f":"IF(ファイル1!A43=ファイル2!A43,\"○\",\"×\")","v":"○"}]
[{"$f":"IF(ファイル1!A44=ファイル2!A44,\"○\",\"×\")","v":"○"}]
[{"$f":"IF(ファイル1!A45=ファイル2!A45,\"○\",\"×\")","v":"○"}]
[{"$f":"IF(ファイル1!A46=ファイル2!A46,\"○\",\"×\")","v":"○"}]
[{"$f":"IF(ファイル1!A47=ファイル2!A47,\"○\",\"×\")","v":"○"}]
[{"$f":"IF(ファイル1!A48=ファイル2!A48,\"○\",\"×\")","v":"○"}]
[{"$f":"IF(ファイル1!A49=ファイル2!A49,\"○\",\"×\")","v":"○"}]
[{"$f":"IF(ファイル1!A50=ファイル2!A50,\"○\",\"×\")","v":"○"}]
[{"$f":"IF(ファイル1!A51=ファイル2!A51,\"○\",\"×\")","v":"○"}]
[{"$f":"IF(ファイル1!A52=ファイル2!A52,\"○\",\"×\")","v":"○"}]
[{"$f":"IF(ファイル1!A53=ファイル2!A53,\"○\",\"×\")","v":"○"}]
[{"$f":"IF(ファイル1!A54=ファイル2!A54,\"○\",\"×\")","v":"○"}]
[{"$f":"IF(ファイル1!A55=ファイル2!A55,\"○\",\"×\")","v":"○"}]
[{"$f":"IF(ファイル1!A56=ファイル2!A56,\"○\",\"×\")","v":"○"}]
[{"$f":"IF(ファイル1!A57=ファイル2!A57,\"○\",\"×\")","v":"○"}]
[{"$f":"IF(ファイル1!A58=ファイル2!A58,\"○\",\"×\")","v":"○"}]
[{"$f":"IF(ファイル1!A59=ファイル2!A59,\"○\",\"×\")","v":"○"}]
[{"$f":"IF(ファイル1!A60=ファイル2!A60,\"○\",\"×\")","v":"○"}]
[{"$f":"IF(ファイル1!A61=ファイル2!A61,\"○\",\"×\")","v":"○"}]
[{"$f":"IF(ファイル1!A62=ファイル2!A62,\"○\",\"×\")","v":"○"}]
[{"$f":"IF(ファイル1!A63=ファイル2!A63,\"○\",\"×\")","v":"○"}]
[{"$f":"IF(ファイル1!A64=ファイル2!A64,\"○\",\"×\")","v":"○"}]
[{"$f":"IF(ファイル1!A65=ファイル2!A65,\"○\",\"×\")","v":"○"}]
[{"$f":"IF(ファイル1!A66=ファイル2!A66,\"○\",\"×\")","v":"○"}]
[{"$f":"IF(ファイル1!A67=ファイル2!A67,\"○\",\"×\")","v":"○"}]
[{"$f":"IF(ファイル1!A68=ファイル2!A68,\"○\",\"×\")","v":"○"}]
[{"$f":"IF(ファイル1!A69=ファイル2!A69,\"○\",\"×\")","v":"○"}]
[{"$f":"IF(ファイル1!A70=ファイル2!A70,\"○\",\"×\")","v":"○"}]
[{"$f":"IF(ファイル1!A71=ファイル2!A71,\"○\",\"×\")","v":"○"}]
[{"$f":"IF(ファイル1!A72=ファイル2!A72,\"○\",\"×\")","v":"○"}]
[{"$f":"IF(ファイル1!A73=ファイル2!A73,\"○\",\"×\")","v":"○"}]
[{"$f":"IF(ファイル1!A74=ファイル2!A74,\"○\",\"×\")","v":"○"}]
[{"$f":"IF(ファイル1!A75=ファイル2!A75,\"○\",\"×\")","v":"○"}]
[{"$f":"IF(ファイル1!A76=ファイル2!A76,\"○\",\"×\")","v":"○"}]