{"text_format":"1","workbook":"xlsx","n_sheets":6,"sheets":["花言葉検索","花言葉","誕生月花","誕生日花","国花","県花"],"not_rendered":{"charts":0,"images":1,"macros":1,"external_links":0,"defined_names":2,"comments":0,"pivot_tables":0},"unopened":[],"bounds":{"document_bytes":16777216,"sheet_cells":100000,"rows_first":2000,"rows_last":500,"rows_between":2000,"halvings":0,"cell_chars":16384,"cell_head_chars":4096},"cells_cut":0,"cells_raw":0,"read":"whole","date_system":"1900"}

{"sheet":"花言葉検索","index":0,"n_rows":9,"n_cols":8,"rows_kept":9,"cut":false,"hidden":false,"merged":[[0,6,0,7],[4,2,5,4],[6,2,6,4],[8,2,8,4],[4,7,5,7],[4,6,5,6],[3,2,3,7],[4,5,5,5],[0,3,1,4]]}
[null,null,null,"☘ 花 言 葉 ☘ 《検 索》",null,{"$f":"\"今月の誕生月花（\"&VLOOKUP(MONTH(G1),誕生月花!A:B,2,FALSE)&\"）\"","v":"今月の誕生月花（フリージア）"},{"$f":"TODAY()","v":"2021-02-19"}]
[null,null,null,null,null,{"$f":"\"本日の誕生日花（\"&VLOOKUP(DATE(2016,MONTH(G1),DAY(G1)),誕生日花!A:B,2,FALSE)&\"）\"","v":"本日の誕生日花（プリムラ）"}]
[]
[null,null,"検索入力（部分検索）（or条件）"]
[null,null,"花の名称",null,null,"花言葉","誕生月花\n対象月","誕生日花\n対象月日"]
[]
[]
[]
[null,null,"花名称",null,null,"花言葉","誕生月","誕生月日"]

{"sheet":"花言葉","index":1,"n_rows":1701,"n_cols":6,"rows_kept":1701,"cut":false,"hidden":true,"merged":[]}
["花の名前１","花の名前２","色／形態","花言葉","誕生月花","誕生日花"]
["藍","アイ","","あなた次第",{"$f":"IFERROR(MATCH(B2,誕生月花!$B$2:$B$13,0),\"\")","v":""},{"$f":"IFERROR(VLOOKUP(B2&C2,誕生日花!E:F,2,FALSE),IFERROR(VLOOKUP(B2,誕生日花!E:F,2,FALSE),\"\"))","v":""}]
["藍","アイ","","美しい装い",{"$f":"IFERROR(MATCH(B3,誕生月花!$B$2:$B$13,0),\"\")","v":""},{"$f":"IFERROR(VLOOKUP(B3&C3,誕生日花!E:F,2,FALSE),IFERROR(VLOOKUP(B3,誕生日花!E:F,2,FALSE),\"\"))","v":""}]
["西洋木蔦（セイヨウキズタ）","アイビー","","公正と信頼",{"$f":"IFERROR(MATCH(B4,誕生月花!$B$2:$B$13,0),\"\")","v":""},{"$f":"IFERROR(VLOOKUP(B4&C4,誕生日花!E:F,2,FALSE),IFERROR(VLOOKUP(B4,誕生日花!E:F,2,FALSE),\"\"))","v":""}]
["西洋木蔦（セイヨウキズタ）","アイビー","","永遠の愛",{"$f":"IFERROR(MATCH(B5,誕生月花!$B$2:$B$13,0),\"\")","v":""},{"$f":"IFERROR(VLOOKUP(B5&C5,誕生日花!E:F,2,FALSE),IFERROR(VLOOKUP(B5,誕生日花!E:F,2,FALSE),\"\"))","v":""}]
["西洋木蔦（セイヨウキズタ）","アイビー","","結婚",{"$f":"IFERROR(MATCH(B6,誕生月花!$B$2:$B$13,0),\"\")","v":""},{"$f":"IFERROR(VLOOKUP(B6&C6,誕生日花!E:F,2,FALSE),IFERROR(VLOOKUP(B6,誕生日花!E:F,2,FALSE),\"\"))","v":""}]
["西洋木蔦（セイヨウキズタ）","アイビー","","誠実",{"$f":"IFERROR(MATCH(B7,誕生月花!$B$2:$B$13,0),\"\")","v":""},{"$f":"IFERROR(VLOOKUP(B7&C7,誕生日花!E:F,2,FALSE),IFERROR(VLOOKUP(B7,誕生日花!E:F,2,FALSE),\"\"))","v":""}]
["西洋木蔦（セイヨウキズタ）","アイビー","","不滅",{"$f":"IFERROR(MATCH(B8,誕生月花!$B$2:$B$13,0),\"\")","v":""},{"$f":"IFERROR(VLOOKUP(B8&C8,誕生日花!E:F,2,FALSE),IFERROR(VLOOKUP(B8,誕生日花!E:F,2,FALSE),\"\"))","v":""}]
["西洋木蔦（セイヨウキズタ）","アイビー","","友情",{"$f":"IFERROR(MATCH(B9,誕生月花!$B$2:$B$13,0),\"\")","v":""},{"$f":"IFERROR(VLOOKUP(B9&C9,誕生日花!E:F,2,FALSE),IFERROR(VLOOKUP(B9,誕生日花!E:F,2,FALSE),\"\"))","v":""}]
["蔦葉天竺葵（ツタバテンジクアオイ）","アイビーゼラニウム","","新しいチャレンジ",{"$f":"IFERROR(MATCH(B10,誕生月花!$B$2:$B$13,0),\"\")","v":""},{"$f":"IFERROR(VLOOKUP(B10&C10,誕生日花!E:F,2,FALSE),IFERROR(VLOOKUP(B10,誕生日花!E:F,2,FALSE),\"\"))","v":""}]
["文目（アヤメ）","アイリス","","優雅",{"$f":"IFERROR(MATCH(B11,誕生月花!$B$2:$B$13,0),\"\")","v":""},{"$f":"IFERROR(VLOOKUP(B11&C11,誕生日花!E:F,2,FALSE),IFERROR(VLOOKUP(B11,誕生日花!E:F,2,FALSE),\"\"))","v":""}]
["葵","アオイ","","豊穣",{"$f":"IFERROR(MATCH(B12,誕生月花!$B$2:$B$13,0),\"\")","v":""},{"$f":"IFERROR(VLOOKUP(B12&C12,誕生日花!E:F,2,FALSE),IFERROR(VLOOKUP(B12,誕生日花!E:F,2,FALSE),\"\"))","v":""}]
["葵","アオイ","白","女性の野心",{"$f":"IFERROR(MATCH(B13,誕生月花!$B$2:$B$13,0),\"\")","v":""},{"$f":"IFERROR(VLOOKUP(B13&C13,誕生日花!E:F,2,FALSE),IFERROR(VLOOKUP(B13,誕生日花!E:F,2,FALSE),\"\"))","v":""}]
["金合歓（キンゴウカン）","アカシア","","魂の不死",{"$f":"IFERROR(MATCH(B14,誕生月花!$B$2:$B$13,0),\"\")","v":""},{"$f":"IFERROR(VLOOKUP(B14&C14,誕生日花!E:F,2,FALSE),IFERROR(VLOOKUP(B14,誕生日花!E:F,2,FALSE),\"\"))","v":"2016-03-20"}]
["茜","アカネ","","私を思って",{"$f":"IFERROR(MATCH(B15,誕生月花!$B$2:$B$13,0),\"\")","v":""},{"$f":"IFERROR(VLOOKUP(B15&C15,誕生日花!E:F,2,FALSE),IFERROR(VLOOKUP(B15,誕生日花!E:F,2,FALSE),\"\"))","v":""}]
["茜","アカネ","","媚び",{"$f":"IFERROR(MATCH(B16,誕生月花!$B$2:$B$13,0),\"\")","v":""},{"$f":"IFERROR(VLOOKUP(B16&C16,誕生日花!E:F,2,FALSE),IFERROR(VLOOKUP(B16,誕生日花!E:F,2,FALSE),\"\"))","v":""}]
["紫君子蘭（ムラサキクンシラン）","アガパンサス","","知的な装い",{"$f":"IFERROR(MATCH(B17,誕生月花!$B$2:$B$13,0),\"\")","v":""},{"$f":"IFERROR(VLOOKUP(B17&C17,誕生日花!E:F,2,FALSE),IFERROR(VLOOKUP(B17,誕生日花!E:F,2,FALSE),\"\"))","v":"2016-06-25"}]
["紫君子蘭（ムラサキクンシラン）","アガパンサス","","ラブレター",{"$f":"IFERROR(MATCH(B18,誕生月花!$B$2:$B$13,0),\"\")","v":""},{"$f":"IFERROR(VLOOKUP(B18&C18,誕生日花!E:F,2,FALSE),IFERROR(VLOOKUP(B18,誕生日花!E:F,2,FALSE),\"\"))","v":"2016-06-25"}]
["紫君子蘭（ムラサキクンシラン）","アガパンサス","","恋の訪れ",{"$f":"IFERROR(MATCH(B19,誕生月花!$B$2:$B$13,0),\"\")","v":""},{"$f":"IFERROR(VLOOKUP(B19&C19,誕生日花!E:F,2,FALSE),IFERROR(VLOOKUP(B19,誕生日花!E:F,2,FALSE),\"\"))","v":"2016-06-25"}]
["葉薊（ハアザミ）","アカンサス","","技巧",{"$f":"IFERROR(MATCH(B20,誕生月花!$B$2:$B$13,0),\"\")","v":""},{"$f":"IFERROR(VLOOKUP(B20&C20,誕生日花!E:F,2,FALSE),IFERROR(VLOOKUP(B20,誕生日花!E:F,2,FALSE),\"\"))","v":""}]
["葉薊（ハアザミ）","アカンサス","","芸術",{"$f":"IFERROR(MATCH(B21,誕生月花!$B$2:$B$13,0),\"\")","v":""},{"$f":"IFERROR(VLOOKUP(B21&C21,誕生日花!E:F,2,FALSE),IFERROR(VLOOKUP(B21,誕生日花!E:F,2,FALSE),\"\"))","v":""}]
["秋の麒麟草","アキノキリンソウ","","警戒",{"$f":"IFERROR(MATCH(B22,誕生月花!$B$2:$B$13,0),\"\")","v":""},{"$f":"IFERROR(VLOOKUP(B22&C22,誕生日花!E:F,2,FALSE),IFERROR(VLOOKUP(B22,誕生日花!E:F,2,FALSE),\"\"))","v":""}]
["秋の麒麟草","アキノキリンソウ","","予防",{"$f":"IFERROR(MATCH(B23,誕生月花!$B$2:$B$13,0),\"\")","v":""},{"$f":"IFERROR(VLOOKUP(B23&C23,誕生日花!E:F,2,FALSE),IFERROR(VLOOKUP(B23,誕生日花!E:F,2,FALSE),\"\"))","v":""}]
["秋の麒麟草","アキノキリンソウ","","用心",{"$f":"IFERROR(MATCH(B24,誕生月花!$B$2:$B$13,0),\"\")","v":""},{"$f":"IFERROR(VLOOKUP(B24&C24,誕生日花!E:F,2,FALSE),IFERROR(VLOOKUP(B24,誕生日花!E:F,2,FALSE),\"\"))","v":""}]
["秋の麒麟草","アキノキリンソウ","","励まし",{"$f":"IFERROR(MATCH(B25,誕生月花!$B$2:$B$13,0),\"\")","v":""},{"$f":"IFERROR(VLOOKUP(B25&C25,誕生日花!E:F,2,FALSE),IFERROR(VLOOKUP(B25,誕生日花!E:F,2,FALSE),\"\"))","v":""}]
["秋の野芥子","アキノノゲシ","","クールな恋",{"$f":"IFERROR(MATCH(B26,誕生月花!$B$2:$B$13,0),\"\")","v":""},{"$f":"IFERROR(VLOOKUP(B26&C26,誕生日花!E:F,2,FALSE),IFERROR(VLOOKUP(B26,誕生日花!E:F,2,FALSE),\"\"))","v":"2016-09-29"}]
["西洋金水引（セイヨウキンミズヒキ）","アグリモニー","","多才",{"$f":"IFERROR(MATCH(B27,誕生月花!$B$2:$B$13,0),\"\")","v":""},{"$f":"IFERROR(VLOOKUP(B27&C27,誕生日花!E:F,2,FALSE),IFERROR(VLOOKUP(B27,誕生日花!E:F,2,FALSE),\"\"))","v":""}]
["大霍香薊（オオカッコウアザミ）","アゲラタム","","深い信頼",{"$f":"IFERROR(MATCH(B28,誕生月花!$B$2:$B$13,0),\"\")","v":""},{"$f":"IFERROR(VLOOKUP(B28&C28,誕生日花!E:F,2,FALSE),IFERROR(VLOOKUP(B28,誕生日花!E:F,2,FALSE),\"\"))","v":""}]
["大霍香薊（オオカッコウアザミ）","アゲラタム","","安楽",{"$f":"IFERROR(MATCH(B29,誕生月花!$B$2:$B$13,0),\"\")","v":""},{"$f":"IFERROR(VLOOKUP(B29&C29,誕生日花!E:F,2,FALSE),IFERROR(VLOOKUP(B29,誕生日花!E:F,2,FALSE),\"\"))","v":""}]
["大霍香薊（オオカッコウアザミ）","アゲラタム","","信頼",{"$f":"IFERROR(MATCH(B30,誕生月花!$B$2:$B$13,0),\"\")","v":""},{"$f":"IFERROR(VLOOKUP(B30&C30,誕生日花!E:F,2,FALSE),IFERROR(VLOOKUP(B30,誕生日花!E:F,2,FALSE),\"\"))","v":""}]
["朝顔","アサガオ","","はかない恋",{"$f":"IFERROR(MATCH(B31,誕生月花!$B$2:$B$13,0),\"\")","v":""},{"$f":"IFERROR(VLOOKUP(B31&C31,誕生日花!E:F,2,FALSE),IFERROR(VLOOKUP(B31,誕生日花!E:F,2,FALSE),\"\"))","v":"2016-07-21"}]
["朝顔","アサガオ","","愛情",{"$f":"IFERROR(MATCH(B32,誕生月花!$B$2:$B$13,0),\"\")","v":""},{"$f":"IFERROR(VLOOKUP(B32&C32,誕生日花!E:F,2,FALSE),IFERROR(VLOOKUP(B32,誕生日花!E:F,2,FALSE),\"\"))","v":"2016-07-21"}]
["朝顔","アサガオ","","固い絆",{"$f":"IFERROR(MATCH(B33,誕生月花!$B$2:$B$13,0),\"\")","v":""},{"$f":"IFERROR(VLOOKUP(B33&C33,誕生日花!E:F,2,FALSE),IFERROR(VLOOKUP(B33,誕生日花!E:F,2,FALSE),\"\"))","v":"2016-07-21"}]
["朝顔","アサガオ","","偉大なる友情",{"$f":"IFERROR(MATCH(B34,誕生月花!$B$2:$B$13,0),\"\")","v":""},{"$f":"IFERROR(VLOOKUP(B34&C34,誕生日花!E:F,2,FALSE),IFERROR(VLOOKUP(B34,誕生日花!E:F,2,FALSE),\"\"))","v":"2016-07-21"}]
["朝顔","アサガオ","白","喜び溢れ",{"$f":"IFERROR(MATCH(B35,誕生月花!$B$2:$B$13,0),\"\")","v":""},{"$f":"IFERROR(VLOOKUP(B35&C35,誕生日花!E:F,2,FALSE),IFERROR(VLOOKUP(B35,誕生日花!E:F,2,FALSE),\"\"))","v":"2016-07-21"}]
["薊","アザミ","","独立",{"$f":"IFERROR(MATCH(B36,誕生月花!$B$2:$B$13,0),\"\")","v":""},{"$f":"IFERROR(VLOOKUP(B36&C36,誕生日花!E:F,2,FALSE),IFERROR(VLOOKUP(B36,誕生日花!E:F,2,FALSE),\"\"))","v":"2016-05-12"}]
["薊","アザミ","","厳格",{"$f":"IFERROR(MATCH(B37,誕生月花!$B$2:$B$13,0),\"\")","v":""},{"$f":"IFERROR(VLOOKUP(B37&C37,誕生日花!E:F,2,FALSE),IFERROR(VLOOKUP(B37,誕生日花!E:F,2,FALSE),\"\"))","v":"2016-05-12"}]
["薊","アザミ","","触れないで",{"$f":"IFERROR(MATCH(B38,誕生月花!$B$2:$B$13,0),\"\")","v":""},{"$f":"IFERROR(VLOOKUP(B38&C38,誕生日花!E:F,2,FALSE),IFERROR(VLOOKUP(B38,誕生日花!E:F,2,FALSE),\"\"))","v":"2016-05-12"}]
["薊","アザミ","","報復",{"$f":"IFERROR(MATCH(B39,誕生月花!$B$2:$B$13,0),\"\")","v":""},{"$f":"IFERROR(VLOOKUP(B39&C39,誕生日花!E:F,2,FALSE),IFERROR(VLOOKUP(B39,誕生日花!E:F,2,FALSE),\"\"))","v":"2016-05-12"}]
["西洋躑躅（セイヨウツツジ）","アザレア","","禁酒",{"$f":"IFERROR(MATCH(B40,誕生月花!$B$2:$B$13,0),\"\")","v":""},{"$f":"IFERROR(VLOOKUP(B40&C40,誕生日花!E:F,2,FALSE),IFERROR(VLOOKUP(B40,誕生日花!E:F,2,FALSE),\"\"))","v":"2016-02-13"}]
["西洋躑躅（セイヨウツツジ）","アザレア","","節制",{"$f":"IFERROR(MATCH(B41,誕生月花!$B$2:$B$13,0),\"\")","v":""},{"$f":"IFERROR(VLOOKUP(B41&C41,誕生日花!E:F,2,FALSE),IFERROR(VLOOKUP(B41,誕生日花!E:F,2,FALSE),\"\"))","v":"2016-02-13"}]
["西洋躑躅（セイヨウツツジ）","アザレア","","恋の喜び",{"$f":"IFERROR(MATCH(B42,誕生月花!$B$2:$B$13,0),\"\")","v":""},{"$f":"IFERROR(VLOOKUP(B42&C42,誕生日花!E:F,2,FALSE),IFERROR(VLOOKUP(B42,誕生日花!E:F,2,FALSE),\"\"))","v":"2016-02-13"}]
["西洋躑躅（セイヨウツツジ）","アザレア","","愛で満たされる",{"$f":"IFERROR(MATCH(B43,誕生月花!$B$2:$B$13,0),\"\")","v":""},{"$f":"IFERROR(VLOOKUP(B43&C43,誕生日花!E:F,2,FALSE),IFERROR(VLOOKUP(B43,誕生日花!E:F,2,FALSE),\"\"))","v":"2016-02-13"}]
["西洋躑躅（セイヨウツツジ）","アザレア","赤","自制心",{"$f":"IFERROR(MATCH(B44,誕生月花!$B$2:$B$13,0),\"\")","v":""},{"$f":"IFERROR(VLOOKUP(B44&C44,誕生日花!E:F,2,FALSE),IFERROR(VLOOKUP(B44,誕生日花!E:F,2,FALSE),\"\"))","v":"2016-12-05"}]
["西洋躑躅（セイヨウツツジ）","アザレア","白","節制",{"$f":"IFERROR(MATCH(B45,誕生月花!$B$2:$B$13,0),\"\")","v":""},{"$f":"IFERROR(VLOOKUP(B45&C45,誕生日花!E:F,2,FALSE),IFERROR(VLOOKUP(B45,誕生日花!E:F,2,FALSE),\"\"))","v":"2016-02-13"}]
["西洋躑躅（セイヨウツツジ）","アザレア","白","あなたに愛されて幸せ",{"$f":"IFERROR(MATCH(B46,誕生月花!$B$2:$B$13,0),\"\")","v":""},{"$f":"IFERROR(VLOOKUP(B46&C46,誕生日花!E:F,2,FALSE),IFERROR(VLOOKUP(B46,誕生日花!E:F,2,FALSE),\"\"))","v":"2016-02-13"}]
["西洋躑躅（セイヨウツツジ）","アザレア","白","充足",{"$f":"IFERROR(MATCH(B47,誕生月花!$B$2:$B$13,0),\"\")","v":""},{"$f":"IFERROR(VLOOKUP(B47&C47,誕生日花!E:F,2,FALSE),IFERROR(VLOOKUP(B47,誕生日花!E:F,2,FALSE),\"\"))","v":"2016-02-13"}]
["唐草蓬莱羊歯（カラクサホウライシダ）","アジアンタム","","繊細",{"$f":"IFERROR(MATCH(B48,誕生月花!$B$2:$B$13,0),\"\")","v":""},{"$f":"IFERROR(VLOOKUP(B48&C48,誕生日花!E:F,2,FALSE),IFERROR(VLOOKUP(B48,誕生日花!E:F,2,FALSE),\"\"))","v":""}]
["唐草蓬莱羊歯（カラクサホウライシダ）","アジアンタム","","天真爛漫",{"$f":"IFERROR(MATCH(B49,誕生月花!$B$2:$B$13,0),\"\")","v":""},{"$f":"IFERROR(VLOOKUP(B49&C49,誕生日花!E:F,2,FALSE),IFERROR(VLOOKUP(B49,誕生日花!E:F,2,FALSE),\"\"))","v":""}]
["紫陽花","アジサイ","","移り気",{"$f":"IFERROR(MATCH(B50,誕生月花!$B$2:$B$13,0),\"\")","v":""},{"$f":"IFERROR(VLOOKUP(B50&C50,誕生日花!E:F,2,FALSE),IFERROR(VLOOKUP(B50,誕生日花!E:F,2,FALSE),\"\"))","v":"2016-06-15"}]
["紫陽花","アジサイ","","高慢",{"$f":"IFERROR(MATCH(B51,誕生月花!$B$2:$B$13,0),\"\")","v":""},{"$f":"IFERROR(VLOOKUP(B51&C51,誕生日花!E:F,2,FALSE),IFERROR(VLOOKUP(B51,誕生日花!E:F,2,FALSE),\"\"))","v":"2016-06-15"}]
["紫陽花","アジサイ","","辛抱強さ",{"$f":"IFERROR(MATCH(B52,誕生月花!$B$2:$B$13,0),\"\")","v":""},{"$f":"IFERROR(VLOOKUP(B52&C52,誕生日花!E:F,2,FALSE),IFERROR(VLOOKUP(B52,誕生日花!E:F,2,FALSE),\"\"))","v":"2016-06-15"}]
["紫陽花","アジサイ","","無情",{"$f":"IFERROR(MATCH(B53,誕生月花!$B$2:$B$13,0),\"\")","v":""},{"$f":"IFERROR(VLOOKUP(B53&C53,誕生日花!E:F,2,FALSE),IFERROR(VLOOKUP(B53,誕生日花!E:F,2,FALSE),\"\"))","v":"2016-06-15"}]
["紫陽花","アジサイ","","冷酷",{"$f":"IFERROR(MATCH(B54,誕生月花!$B$2:$B$13,0),\"\")","v":""},{"$f":"IFERROR(VLOOKUP(B54&C54,誕生日花!E:F,2,FALSE),IFERROR(VLOOKUP(B54,誕生日花!E:F,2,FALSE),\"\"))","v":"2016-06-15"}]
["紫陽花","アジサイ","","冷淡",{"$f":"IFERROR(MATCH(B55,誕生月花!$B$2:$B$13,0),\"\")","v":""},{"$f":"IFERROR(VLOOKUP(B55&C55,誕生日花!E:F,2,FALSE),IFERROR(VLOOKUP(B55,誕生日花!E:F,2,FALSE),\"\"))","v":"2016-06-15"}]
["紫陽花","アジサイ","白","寛容",{"$f":"IFERROR(MATCH(B56,誕生月花!$B$2:$B$13,0),\"\")","v":""},{"$f":"IFERROR(VLOOKUP(B56&C56,誕生日花!E:F,2,FALSE),IFERROR(VLOOKUP(B56,誕生日花!E:F,2,FALSE),\"\"))","v":"2016-06-15"}]
["西洋十二単（セイヨウジュウニヒトエ）","アジュガ","","強い友情",{"$f":"IFERROR(MATCH(B57,誕生月花!$B$2:$B$13,0),\"\")","v":""},{"$f":"IFERROR(VLOOKUP(B57&C57,誕生日花!E:F,2,FALSE),IFERROR(VLOOKUP(B57,誕生日花!E:F,2,FALSE),\"\"))","v":""}]
["西洋十二単（セイヨウジュウニヒトエ）","アジュガ","","心休まる家庭",{"$f":"IFERROR(MATCH(B58,誕生月花!$B$2:$B$13,0),\"\")","v":""},{"$f":"IFERROR(VLOOKUP(B58&C58,誕生日花!E:F,2,FALSE),IFERROR(VLOOKUP(B58,誕生日花!E:F,2,FALSE),\"\"))","v":""}]
["唐綿（トウワタ）","アスクレピアス","","移り気",{"$f":"IFERROR(MATCH(B59,誕生月花!$B$2:$B$13,0),\"\")","v":""},{"$f":"IFERROR(VLOOKUP(B59&C59,誕生日花!E:F,2,FALSE),IFERROR(VLOOKUP(B59,誕生日花!E:F,2,FALSE),\"\"))","v":"2016-09-16"}]
["蝦夷菊（エゾギク）","アスター","","信じる心",{"$f":"IFERROR(MATCH(B60,誕生月花!$B$2:$B$13,0),\"\")","v":""},{"$f":"IFERROR(VLOOKUP(B60&C60,誕生日花!E:F,2,FALSE),IFERROR(VLOOKUP(B60,誕生日花!E:F,2,FALSE),\"\"))","v":"2016-03-07"}]
["泡盛草（アワモリソウ）","アスチルベ","","自由",{"$f":"IFERROR(MATCH(B61,誕生月花!$B$2:$B$13,0),\"\")","v":""},{"$f":"IFERROR(VLOOKUP(B61&C61,誕生日花!E:F,2,FALSE),IFERROR(VLOOKUP(B61,誕生日花!E:F,2,FALSE),\"\"))","v":""}]
["泡盛草（アワモリソウ）","アスチルベ","","恋の訪れ",{"$f":"IFERROR(MATCH(B62,誕生月花!$B$2:$B$13,0),\"\")","v":""},{"$f":"IFERROR(VLOOKUP(B62&C62,誕生日花!E:F,2,FALSE),IFERROR(VLOOKUP(B62,誕生日花!E:F,2,FALSE),\"\"))","v":""}]
["山鳴ラシ（ヤマナラシ）","アスペン","","自信と勇気",{"$f":"IFERROR(MATCH(B63,誕生月花!$B$2:$B$13,0),\"\")","v":""},{"$f":"IFERROR(VLOOKUP(B63&C63,誕生日花!E:F,2,FALSE),IFERROR(VLOOKUP(B63,誕生日花!E:F,2,FALSE),\"\"))","v":""}]
["馬酔木","アセビ","","あなたと二人で旅をしましょう",{"$f":"IFERROR(MATCH(B64,誕生月花!$B$2:$B$13,0),\"\")","v":""},{"$f":"IFERROR(VLOOKUP(B64&C64,誕生日花!E:F,2,FALSE),IFERROR(VLOOKUP(B64,誕生日花!E:F,2,FALSE),\"\"))","v":""}]
["馬酔木","アセビ","","犠牲",{"$f":"IFERROR(MATCH(B65,誕生月花!$B$2:$B$13,0),\"\")","v":""},{"$f":"IFERROR(VLOOKUP(B65&C65,誕生日花!E:F,2,FALSE),IFERROR(VLOOKUP(B65,誕生日花!E:F,2,FALSE),\"\"))","v":""}]
["馬酔木","アセビ","","献身",{"$f":"IFERROR(MATCH(B66,誕生月花!$B$2:$B$13,0),\"\")","v":""},{"$f":"IFERROR(VLOOKUP(B66&C66,誕生日花!E:F,2,FALSE),IFERROR(VLOOKUP(B66,誕生日花!E:F,2,FALSE),\"\"))","v":""}]
["アッツ桜","アッツザクラ","","無意識",{"$f":"IFERROR(MATCH(B67,誕生月花!$B$2:$B$13,0),\"\")","v":""},{"$f":"IFERROR(VLOOKUP(B67&C67,誕生日花!E:F,2,FALSE),IFERROR(VLOOKUP(B67,誕生日花!E:F,2,FALSE),\"\"))","v":"2016-01-07"}]
["牡丹一華（ボタンイチゲ）","アネモネ","","はかない恋",{"$f":"IFERROR(MATCH(B68,誕生月花!$B$2:$B$13,0),\"\")","v":""},{"$f":"IFERROR(VLOOKUP(B68&C68,誕生日花!E:F,2,FALSE),IFERROR(VLOOKUP(B68,誕生日花!E:F,2,FALSE),\"\"))","v":"2016-03-06"}]
["牡丹一華（ボタンイチゲ）","アネモネ","","見捨てられた",{"$f":"IFERROR(MATCH(B69,誕生月花!$B$2:$B$13,0),\"\")","v":""},{"$f":"IFERROR(VLOOKUP(B69&C69,誕生日花!E:F,2,FALSE),IFERROR(VLOOKUP(B69,誕生日花!E:F,2,FALSE),\"\"))","v":"2016-03-06"}]
["牡丹一華（ボタンイチゲ）","アネモネ","","見放された",{"$f":"IFERROR(MATCH(B70,誕生月花!$B$2:$B$13,0),\"\")","v":""},{"$f":"IFERROR(VLOOKUP(B70&C70,誕生日花!E:F,2,FALSE),IFERROR(VLOOKUP(B70,誕生日花!E:F,2,FALSE),\"\"))","v":"2016-03-06"}]
["牡丹一華（ボタンイチゲ）","アネモネ","","恋の苦しみ",{"$f":"IFERROR(MATCH(B71,誕生月花!$B$2:$B$13,0),\"\")","v":""},{"$f":"IFERROR(VLOOKUP(B71&C71,誕生日花!E:F,2,FALSE),IFERROR(VLOOKUP(B71,誕生日花!E:F,2,FALSE),\"\"))","v":"2016-03-06"}]
["牡丹一華（ボタンイチゲ）","アネモネ","","遊び",{"$f":"IFERROR(MATCH(B72,誕生月花!$B$2:$B$13,0),\"\")","v":""},{"$f":"IFERROR(VLOOKUP(B72&C72,誕生日花!E:F,2,FALSE),IFERROR(VLOOKUP(B72,誕生日花!E:F,2,FALSE),\"\"))","v":"2016-03-06"}]
["牡丹一華（ボタンイチゲ）","アネモネ","紫","あなたを信じて待つ",{"$f":"IFERROR(MATCH(B73,誕生月花!$B$2:$B$13,0),\"\")","v":""},{"$f":"IFERROR(VLOOKUP(B73&C73,誕生日花!E:F,2,FALSE),IFERROR(VLOOKUP(B73,誕生日花!E:F,2,FALSE),\"\"))","v":"2016-03-06"}]
["牡丹一華（ボタンイチゲ）","アネモネ","赤","君を愛する",{"$f":"IFERROR(MATCH(B74,誕生月花!$B$2:$B$13,0),\"\")","v":""},{"$f":"IFERROR(VLOOKUP(B74&C74,誕生日花!E:F,2,FALSE),IFERROR(VLOOKUP(B74,誕生日花!E:F,2,FALSE),\"\"))","v":"2016-03-06"}]
["牡丹一華（ボタンイチゲ）","アネモネ","白","希望",{"$f":"IFERROR(MATCH(B75,誕生月花!$B$2:$B$13,0),\"\")","v":""},{"$f":"IFERROR(VLOOKUP(B75&C75,誕生日花!E:F,2,FALSE),IFERROR(VLOOKUP(B75,誕生日花!E:F,2,FALSE),\"\"))","v":"2016-03-06"}]
["牡丹一華（ボタンイチゲ）","アネモネ","白","期待",{"$f":"IFERROR(MATCH(B76,誕生月花!$B$2:$B$13,0),\"\")","v":""},{"$f":"IFERROR(VLOOKUP(B76&C76,誕生日花!E:F,2,FALSE),IFERROR(VLOOKUP(B76,誕生日花!E:F,2,FALSE),\"\"))","v":"2016-03-06"}]
["牡丹一華（ボタンイチゲ）","アネモネ","白","真実",{"$f":"IFERROR(MATCH(B77,誕生月花!$B$2:$B$13,0),\"\")","v":""},{"$f":"IFERROR(VLOOKUP(B77&C77,誕生日花!E:F,2,FALSE),IFERROR(VLOOKUP(B77,誕生日花!E:F,2,FALSE),\"\"))","v":"2016-03-06"}]
["アフリカン金盞花","アフリカンキンセンカ","","元気",{"$f":"IFERROR(MATCH(B78,誕生月花!$B$2:$B$13,0),\"\")","v":""},{"$f":"IFERROR(VLOOKUP(B78&C78,誕生日花!E:F,2,FALSE),IFERROR(VLOOKUP(B78,誕生日花!E:F,2,FALSE),\"\"))","v":"2016-02-11"}]
["花衝羽根空木（ハナツクバネウツギ）","アベリア","","謙虚",{"$f":"IFERROR(MATCH(B79,誕生月花!$B$2:$B$13,0),\"\")","v":""},{"$f":"IFERROR(VLOOKUP(B79&C79,誕生日花!E:F,2,FALSE),IFERROR(VLOOKUP(B79,誕生日花!E:F,2,FALSE),\"\"))","v":""}]
["花衝羽根空木（ハナツクバネウツギ）","アベリア","","強運",{"$f":"IFERROR(MATCH(B80,誕生月花!$B$2:$B$13,0),\"\")","v":""},{"$f":"IFERROR(VLOOKUP(B80&C80,誕生日花!E:F,2,FALSE),IFERROR(VLOOKUP(B80,誕生日花!E:F,2,FALSE),\"\"))","v":""}]
["花衝羽根空木（ハナツクバネウツギ）","アベリア","","謙譲",{"$f":"IFERROR(MATCH(B81,誕生月花!$B$2:$B$13,0),\"\")","v":""},{"$f":"IFERROR(VLOOKUP(B81&C81,誕生日花!E:F,2,FALSE),IFERROR(VLOOKUP(B81,誕生日花!E:F,2,FALSE),\"\"))","v":""}]
["アマリネ","アマリネ","","魅惑的",{"$f":"IFERROR(MATCH(B82,誕生月花!$B$2:$B$13,0),\"\")","v":""},{"$f":"IFERROR(VLOOKUP(B82&C82,誕生日花!E:F,2,FALSE),IFERROR(VLOOKUP(B82,誕生日花!E:F,2,FALSE),\"\"))","v":"2016-08-10"}]
["朱頂蘭（シュチョウラン）","アマリリス","","おしゃべり",{"$f":"IFERROR(MATCH(B83,誕生月花!$B$2:$B$13,0),\"\")","v":""},{"$f":"IFERROR(VLOOKUP(B83&C83,誕生日花!E:F,2,FALSE),IFERROR(VLOOKUP(B83,誕生日花!E:F,2,FALSE),\"\"))","v":"2016-06-22"}]
["朱頂蘭（シュチョウラン）","アマリリス","","輝くばかりの美しさ",{"$f":"IFERROR(MATCH(B84,誕生月花!$B$2:$B$13,0),\"\")","v":""},{"$f":"IFERROR(VLOOKUP(B84&C84,誕生日花!E:F,2,FALSE),IFERROR(VLOOKUP(B84,誕生日花!E:F,2,FALSE),\"\"))","v":"2016-06-22"}]
["朱頂蘭（シュチョウラン）","アマリリス","","誇り",{"$f":"IFERROR(MATCH(B85,誕生月花!$B$2:$B$13,0),\"\")","v":""},{"$f":"IFERROR(VLOOKUP(B85&C85,誕生日花!E:F,2,FALSE),IFERROR(VLOOKUP(B85,誕生日花!E:F,2,FALSE),\"\"))","v":"2016-06-22"}]
["海紅豆（カイコウズ）","アメリカデイコ","","夢の力",{"$f":"IFERROR(MATCH(B86,誕生月花!$B$2:$B$13,0),\"\")","v":""},{"$f":"IFERROR(VLOOKUP(B86&C86,誕生日花!E:F,2,FALSE),IFERROR(VLOOKUP(B86,誕生日花!E:F,2,FALSE),\"\"))","v":"2016-07-17"}]
["あやめ","アヤメ","","優雅",{"$f":"IFERROR(MATCH(B87,誕生月花!$B$2:$B$13,0),\"\")","v":""},{"$f":"IFERROR(VLOOKUP(B87&C87,誕生日花!E:F,2,FALSE),IFERROR(VLOOKUP(B87,誕生日花!E:F,2,FALSE),\"\"))","v":"2016-05-15"}]
["あやめ","アヤメ","アイリス","メッセージ",{"$f":"IFERROR(MATCH(B88,誕生月花!$B$2:$B$13,0),\"\")","v":""},{"$f":"IFERROR(VLOOKUP(B88&C88,誕生日花!E:F,2,FALSE),IFERROR(VLOOKUP(B88,誕生日花!E:F,2,FALSE),\"\"))","v":"2016-05-15"}]
["あやめ","アヤメ","アイリス","よい便り",{"$f":"IFERROR(MATCH(B89,誕生月花!$B$2:$B$13,0),\"\")","v":""},{"$f":"IFERROR(VLOOKUP(B89&C89,誕生日花!E:F,2,FALSE),IFERROR(VLOOKUP(B89,誕生日花!E:F,2,FALSE),\"\"))","v":"2016-05-15"}]
["あやめ","アヤメ","アイリス","希望",{"$f":"IFERROR(MATCH(B90,誕生月花!$B$2:$B$13,0),\"\")","v":""},{"$f":"IFERROR(VLOOKUP(B90&C90,誕生日花!E:F,2,FALSE),IFERROR(VLOOKUP(B90,誕生日花!E:F,2,FALSE),\"\"))","v":"2016-05-15"}]
["花葱（ハナネギ）","アリウム","","深い悲しみ",{"$f":"IFERROR(MATCH(B91,誕生月花!$B$2:$B$13,0),\"\")","v":""},{"$f":"IFERROR(VLOOKUP(B91&C91,誕生日花!E:F,2,FALSE),IFERROR(VLOOKUP(B91,誕生日花!E:F,2,FALSE),\"\"))","v":"2016-06-19"}]
["花葱（ハナネギ）","アリウム","","正しい主張",{"$f":"IFERROR(MATCH(B92,誕生月花!$B$2:$B$13,0),\"\")","v":""},{"$f":"IFERROR(VLOOKUP(B92&C92,誕生日花!E:F,2,FALSE),IFERROR(VLOOKUP(B92,誕生日花!E:F,2,FALSE),\"\"))","v":"2016-06-19"}]
["庭薺（ニワナズナ）","アリッサム","","仲直り",{"$f":"IFERROR(MATCH(B93,誕生月花!$B$2:$B$13,0),\"\")","v":""},{"$f":"IFERROR(VLOOKUP(B93&C93,誕生日花!E:F,2,FALSE),IFERROR(VLOOKUP(B93,誕生日花!E:F,2,FALSE),\"\"))","v":"2016-03-02"}]
["百合水仙（ユリズイセン）","アルストロメリア","","小悪魔的な思い",{"$f":"IFERROR(MATCH(B94,誕生月花!$B$2:$B$13,0),\"\")","v":""},{"$f":"IFERROR(VLOOKUP(B94&C94,誕生日花!E:F,2,FALSE),IFERROR(VLOOKUP(B94,誕生日花!E:F,2,FALSE),\"\"))","v":""}]
["百合水仙（ユリズイセン）","アルストロメリア","","エキゾチック",{"$f":"IFERROR(MATCH(B95,誕生月花!$B$2:$B$13,0),\"\")","v":""},{"$f":"IFERROR(VLOOKUP(B95&C95,誕生日花!E:F,2,FALSE),IFERROR(VLOOKUP(B95,誕生日花!E:F,2,FALSE),\"\"))","v":""}]
["百合水仙（ユリズイセン）","アルストロメリア","","持続",{"$f":"IFERROR(MATCH(B96,誕生月花!$B$2:$B$13,0),\"\")","v":""},{"$f":"IFERROR(VLOOKUP(B96&C96,誕生日花!E:F,2,FALSE),IFERROR(VLOOKUP(B96,誕生日花!E:F,2,FALSE),\"\"))","v":""}]
["百合水仙（ユリズイセン）","アルストロメリア","","未来への憧れ",{"$f":"IFERROR(MATCH(B97,誕生月花!$B$2:$B$13,0),\"\")","v":""},{"$f":"IFERROR(VLOOKUP(B97&C97,誕生日花!E:F,2,FALSE),IFERROR(VLOOKUP(B97,誕生日花!E:F,2,FALSE),\"\"))","v":""}]
["百合水仙（ユリズイセン）","アルストロメリア","ピンク","気配り",{"$f":"IFERROR(MATCH(B98,誕生月花!$B$2:$B$13,0),\"\")","v":""},{"$f":"IFERROR(VLOOKUP(B98&C98,誕生日花!E:F,2,FALSE),IFERROR(VLOOKUP(B98,誕生日花!E:F,2,FALSE),\"\"))","v":""}]
["百合水仙（ユリズイセン）","アルストロメリア","赤","幸い",{"$f":"IFERROR(MATCH(B99,誕生月花!$B$2:$B$13,0),\"\")","v":""},{"$f":"IFERROR(VLOOKUP(B99&C99,誕生日花!E:F,2,FALSE),IFERROR(VLOOKUP(B99,誕生日花!E:F,2,FALSE),\"\"))","v":""}]
["百合水仙（ユリズイセン）","アルストロメリア","白","凛々しさ",{"$f":"IFERROR(MATCH(B100,誕生月花!$B$2:$B$13,0),\"\")","v":""},{"$f":"IFERROR(VLOOKUP(B100&C100,誕生日花!E:F,2,FALSE),IFERROR(VLOOKUP(B100,誕生日花!E:F,2,FALSE),\"\"))","v":""}]
["浜簪（ハマカンザシ）","アルメリア","","共感",{"$f":"IFERROR(MATCH(B101,誕生月花!$B$2:$B$13,0),\"\")","v":""},{"$f":"IFERROR(VLOOKUP(B101&C101,誕生日花!E:F,2,FALSE),IFERROR(VLOOKUP(B101,誕生日花!E:F,2,FALSE),\"\"))","v":"2016-03-09"}]
["浜簪（ハマカンザシ）","アルメリア","","思いやり",{"$f":"IFERROR(MATCH(B102,誕生月花!$B$2:$B$13,0),\"\")","v":""},{"$f":"IFERROR(VLOOKUP(B102&C102,誕生日花!E:F,2,FALSE),IFERROR(VLOOKUP(B102,誕生日花!E:F,2,FALSE),\"\"))","v":"2016-03-09"}]
["浜簪（ハマカンザシ）","アルメリア","","同情",{"$f":"IFERROR(MATCH(B103,誕生月花!$B$2:$B$13,0),\"\")","v":""},{"$f":"IFERROR(VLOOKUP(B103&C103,誕生日花!E:F,2,FALSE),IFERROR(VLOOKUP(B103,誕生日花!E:F,2,FALSE),\"\"))","v":"2016-03-09"}]
["アロエ","アロエ","","万能",{"$f":"IFERROR(MATCH(B104,誕生月花!$B$2:$B$13,0),\"\")","v":""},{"$f":"IFERROR(VLOOKUP(B104&C104,誕生日花!E:F,2,FALSE),IFERROR(VLOOKUP(B104,誕生日花!E:F,2,FALSE),\"\"))","v":""}]
["アロエ","アロエ","","苦痛",{"$f":"IFERROR(MATCH(B105,誕生月花!$B$2:$B$13,0),\"\")","v":""},{"$f":"IFERROR(VLOOKUP(B105&C105,誕生日花!E:F,2,FALSE),IFERROR(VLOOKUP(B105,誕生日花!E:F,2,FALSE),\"\"))","v":""}]
["アロエ","アロエ","","悲嘆",{"$f":"IFERROR(MATCH(B106,誕生月花!$B$2:$B$13,0),\"\")","v":""},{"$f":"IFERROR(VLOOKUP(B106&C106,誕生日花!E:F,2,FALSE),IFERROR(VLOOKUP(B106,誕生日花!E:F,2,FALSE),\"\"))","v":""}]
["章魚蘭（タコラン）","アングレカム","","いつまでもあなたと一緒",{"$f":"IFERROR(MATCH(B107,誕生月花!$B$2:$B$13,0),\"\")","v":""},{"$f":"IFERROR(VLOOKUP(B107&C107,誕生日花!E:F,2,FALSE),IFERROR(VLOOKUP(B107,誕生日花!E:F,2,FALSE),\"\"))","v":"2016-10-29"}]
["章魚蘭（タコラン）","アングレカム","","祈り",{"$f":"IFERROR(MATCH(B108,誕生月花!$B$2:$B$13,0),\"\")","v":""},{"$f":"IFERROR(VLOOKUP(B108&C108,誕生日花!E:F,2,FALSE),IFERROR(VLOOKUP(B108,誕生日花!E:F,2,FALSE),\"\"))","v":"2016-10-29"}]
["杏","アンズ","","臆病",{"$f":"IFERROR(MATCH(B109,誕生月花!$B$2:$B$13,0),\"\")","v":""},{"$f":"IFERROR(VLOOKUP(B109&C109,誕生日花!E:F,2,FALSE),IFERROR(VLOOKUP(B109,誕生日花!E:F,2,FALSE),\"\"))","v":""}]
["杏","アンズ","","臆病な愛",{"$f":"IFERROR(MATCH(B110,誕生月花!$B$2:$B$13,0),\"\")","v":""},{"$f":"IFERROR(VLOOKUP(B110&C110,誕生日花!E:F,2,FALSE),IFERROR(VLOOKUP(B110,誕生日花!E:F,2,FALSE),\"\"))","v":""}]
["杏","アンズ","","乙女のはにかみ",{"$f":"IFERROR(MATCH(B111,誕生月花!$B$2:$B$13,0),\"\")","v":""},{"$f":"IFERROR(VLOOKUP(B111&C111,誕生日花!E:F,2,FALSE),IFERROR(VLOOKUP(B111,誕生日花!E:F,2,FALSE),\"\"))","v":""}]
["杏","アンズ","","疑惑",{"$f":"IFERROR(MATCH(B112,誕生月花!$B$2:$B$13,0),\"\")","v":""},{"$f":"IFERROR(VLOOKUP(B112&C112,誕生日花!E:F,2,FALSE),IFERROR(VLOOKUP(B112,誕生日花!E:F,2,FALSE),\"\"))","v":""}]
["大紅団扇（オオベニウチワ）","アンスリウム","","強い印象",{"$f":"IFERROR(MATCH(B113,誕生月花!$B$2:$B$13,0),\"\")","v":""},{"$f":"IFERROR(VLOOKUP(B113&C113,誕生日花!E:F,2,FALSE),IFERROR(VLOOKUP(B113,誕生日花!E:F,2,FALSE),\"\"))","v":"2016-07-05"}]
["大紅団扇（オオベニウチワ）","アンスリウム","","煩悩",{"$f":"IFERROR(MATCH(B114,誕生月花!$B$2:$B$13,0),\"\")","v":""},{"$f":"IFERROR(VLOOKUP(B114&C114,誕生日花!E:F,2,FALSE),IFERROR(VLOOKUP(B114,誕生日花!E:F,2,FALSE),\"\"))","v":"2016-07-05"}]
["大紅団扇（オオベニウチワ）","アンスリウム","","恋にもだえる心",{"$f":"IFERROR(MATCH(B115,誕生月花!$B$2:$B$13,0),\"\")","v":""},{"$f":"IFERROR(VLOOKUP(B115&C115,誕生日花!E:F,2,FALSE),IFERROR(VLOOKUP(B115,誕生日花!E:F,2,FALSE),\"\"))","v":"2016-07-05"}]
["大紅団扇（オオベニウチワ）","アンスリウム","ピンク","飾らない美しさ",{"$f":"IFERROR(MATCH(B116,誕生月花!$B$2:$B$13,0),\"\")","v":""},{"$f":"IFERROR(VLOOKUP(B116&C116,誕生日花!E:F,2,FALSE),IFERROR(VLOOKUP(B116,誕生日花!E:F,2,FALSE),\"\"))","v":"2016-07-05"}]
["大紅団扇（オオベニウチワ）","アンスリウム","赤","情熱",{"$f":"IFERROR(MATCH(B117,誕生月花!$B$2:$B$13,0),\"\")","v":""},{"$f":"IFERROR(VLOOKUP(B117&C117,誕生日花!E:F,2,FALSE),IFERROR(VLOOKUP(B117,誕生日花!E:F,2,FALSE),\"\"))","v":"2016-07-05"}]
["大紅団扇（オオベニウチワ）","アンスリウム","白","熱心",{"$f":"IFERROR(MATCH(B118,誕生月花!$B$2:$B$13,0),\"\")","v":""},{"$f":"IFERROR(VLOOKUP(B118&C118,誕生日花!E:F,2,FALSE),IFERROR(VLOOKUP(B118,誕生日花!E:F,2,FALSE),\"\"))","v":"2016-07-05"}]
["貝細工（カイザイク）","アンモビウム","","永遠の悲しみ",{"$f":"IFERROR(MATCH(B119,誕生月花!$B$2:$B$13,0),\"\")","v":""},{"$f":"IFERROR(VLOOKUP(B119&C119,誕生日花!E:F,2,FALSE),IFERROR(VLOOKUP(B119,誕生日花!E:F,2,FALSE),\"\"))","v":"2016-08-26"}]
["貝細工（カイザイク）","アンモビウム","","不変の誓い",{"$f":"IFERROR(MATCH(B120,誕生月花!$B$2:$B$13,0),\"\")","v":""},{"$f":"IFERROR(VLOOKUP(B120&C120,誕生日花!E:F,2,FALSE),IFERROR(VLOOKUP(B120,誕生日花!E:F,2,FALSE),\"\"))","v":"2016-08-26"}]
["碇草","イカリソウ","","君を離さない",{"$f":"IFERROR(MATCH(B121,誕生月花!$B$2:$B$13,0),\"\")","v":""},{"$f":"IFERROR(VLOOKUP(B121&C121,誕生日花!E:F,2,FALSE),IFERROR(VLOOKUP(B121,誕生日花!E:F,2,FALSE),\"\"))","v":"2016-03-29"}]
["碇草","イカリソウ","","旅立ち",{"$f":"IFERROR(MATCH(B122,誕生月花!$B$2:$B$13,0),\"\")","v":""},{"$f":"IFERROR(VLOOKUP(B122&C122,誕生日花!E:F,2,FALSE),IFERROR(VLOOKUP(B122,誕生日花!E:F,2,FALSE),\"\"))","v":"2016-03-29"}]
["槍水仙（ヤリズイセン）","イキシア","","誇り高い",{"$f":"IFERROR(MATCH(B123,誕生月花!$B$2:$B$13,0),\"\")","v":""},{"$f":"IFERROR(VLOOKUP(B123&C123,誕生日花!E:F,2,FALSE),IFERROR(VLOOKUP(B123,誕生日花!E:F,2,FALSE),\"\"))","v":""}]
["槍水仙（ヤリズイセン）","イキシア","","団結",{"$f":"IFERROR(MATCH(B124,誕生月花!$B$2:$B$13,0),\"\")","v":""},{"$f":"IFERROR(VLOOKUP(B124&C124,誕生日花!E:F,2,FALSE),IFERROR(VLOOKUP(B124,誕生日花!E:F,2,FALSE),\"\"))","v":""}]
["槍水仙（ヤリズイセン）","イキシア","","秘めた恋",{"$f":"IFERROR(MATCH(B125,誕生月花!$B$2:$B$13,0),\"\")","v":""},{"$f":"IFERROR(VLOOKUP(B125&C125,誕生日花!E:F,2,FALSE),IFERROR(VLOOKUP(B125,誕生日花!E:F,2,FALSE),\"\"))","v":""}]
["磯寒菊","イソカンギク","","教養",{"$f":"IFERROR(MATCH(B126,誕生月花!$B$2:$B$13,0),\"\")","v":""},{"$f":"IFERROR(VLOOKUP(B126&C126,誕生日花!E:F,2,FALSE),IFERROR(VLOOKUP(B126,誕生日花!E:F,2,FALSE),\"\"))","v":"2016-12-11"}]
["苺","イチゴ","","尊重と愛情",{"$f":"IFERROR(MATCH(B127,誕生月花!$B$2:$B$13,0),\"\")","v":""},{"$f":"IFERROR(VLOOKUP(B127&C127,誕生日花!E:F,2,FALSE),IFERROR(VLOOKUP(B127,誕生日花!E:F,2,FALSE),\"\"))","v":""}]
["苺","イチゴ","","あなたは私を喜ばせる",{"$f":"IFERROR(MATCH(B128,誕生月花!$B$2:$B$13,0),\"\")","v":""},{"$f":"IFERROR(VLOOKUP(B128&C128,誕生日花!E:F,2,FALSE),IFERROR(VLOOKUP(B128,誕生日花!E:F,2,FALSE),\"\"))","v":""}]
["苺","イチゴ","","幸福な家庭",{"$f":"IFERROR(MATCH(B129,誕生月花!$B$2:$B$13,0),\"\")","v":""},{"$f":"IFERROR(VLOOKUP(B129&C129,誕生日花!E:F,2,FALSE),IFERROR(VLOOKUP(B129,誕生日花!E:F,2,FALSE),\"\"))","v":""}]
["苺","イチゴ","","先見の明",{"$f":"IFERROR(MATCH(B130,誕生月花!$B$2:$B$13,0),\"\")","v":""},{"$f":"IFERROR(VLOOKUP(B130&C130,誕生日花!E:F,2,FALSE),IFERROR(VLOOKUP(B130,誕生日花!E:F,2,FALSE),\"\"))","v":""}]
["苺の木","イチゴノキ","","あなただけを愛します",{"$f":"IFERROR(MATCH(B131,誕生月花!$B$2:$B$13,0),\"\")","v":""},{"$f":"IFERROR(VLOOKUP(B131&C131,誕生日花!E:F,2,FALSE),IFERROR(VLOOKUP(B131,誕生日花!E:F,2,FALSE),\"\"))","v":""}]
["銀杏","イチョウ","","荘厳",{"$f":"IFERROR(MATCH(B132,誕生月花!$B$2:$B$13,0),\"\")","v":""},{"$f":"IFERROR(VLOOKUP(B132&C132,誕生日花!E:F,2,FALSE),IFERROR(VLOOKUP(B132,誕生日花!E:F,2,FALSE),\"\"))","v":""}]
["銀杏","イチョウ","","長寿",{"$f":"IFERROR(MATCH(B133,誕生月花!$B$2:$B$13,0),\"\")","v":""},{"$f":"IFERROR(VLOOKUP(B133&C133,誕生日花!E:F,2,FALSE),IFERROR(VLOOKUP(B133,誕生日花!E:F,2,FALSE),\"\"))","v":""}]
["銀杏","イチョウ","","鎮魂",{"$f":"IFERROR(MATCH(B134,誕生月花!$B$2:$B$13,0),\"\")","v":""},{"$f":"IFERROR(VLOOKUP(B134&C134,誕生日花!E:F,2,FALSE),IFERROR(VLOOKUP(B134,誕生日花!E:F,2,FALSE),\"\"))","v":""}]
["屈曲花（マガリバナ）","イベリス","","心を惹きつける",{"$f":"IFERROR(MATCH(B135,誕生月花!$B$2:$B$13,0),\"\")","v":""},{"$f":"IFERROR(VLOOKUP(B135&C135,誕生日花!E:F,2,FALSE),IFERROR(VLOOKUP(B135,誕生日花!E:F,2,FALSE),\"\"))","v":""}]
["屈曲花（マガリバナ）","イベリス","","甘い誘惑",{"$f":"IFERROR(MATCH(B136,誕生月花!$B$2:$B$13,0),\"\")","v":""},{"$f":"IFERROR(VLOOKUP(B136&C136,誕生日花!E:F,2,FALSE),IFERROR(VLOOKUP(B136,誕生日花!E:F,2,FALSE),\"\"))","v":""}]
["屈曲花（マガリバナ）","イベリス","","初恋の思い出",{"$f":"IFERROR(MATCH(B137,誕生月花!$B$2:$B$13,0),\"\")","v":""},{"$f":"IFERROR(VLOOKUP(B137&C137,誕生日花!E:F,2,FALSE),IFERROR(VLOOKUP(B137,誕生日花!E:F,2,FALSE),\"\"))","v":""}]
["アフリカ鳳仙花（アフリカホウセンカ）","インパチェンス","","流れるままに",{"$f":"IFERROR(MATCH(B138,誕生月花!$B$2:$B$13,0),\"\")","v":""},{"$f":"IFERROR(VLOOKUP(B138&C138,誕生日花!E:F,2,FALSE),IFERROR(VLOOKUP(B138,誕生日花!E:F,2,FALSE),\"\"))","v":"2016-07-11"}]
["アフリカ鳳仙花（アフリカホウセンカ）","インパチェンス","","強い個性",{"$f":"IFERROR(MATCH(B139,誕生月花!$B$2:$B$13,0),\"\")","v":""},{"$f":"IFERROR(VLOOKUP(B139&C139,誕生日花!E:F,2,FALSE),IFERROR(VLOOKUP(B139,誕生日花!E:F,2,FALSE),\"\"))","v":"2016-07-11"}]
["アフリカ鳳仙花（アフリカホウセンカ）","インパチェンス","","鮮やかな人",{"$f":"IFERROR(MATCH(B140,誕生月花!$B$2:$B$13,0),\"\")","v":""},{"$f":"IFERROR(VLOOKUP(B140&C140,誕生日花!E:F,2,FALSE),IFERROR(VLOOKUP(B140,誕生日花!E:F,2,FALSE),\"\"))","v":"2016-07-11"}]
["冬緑油（トウリョクユ）","ウィンターグリーン","","際立った個性",{"$f":"IFERROR(MATCH(B141,誕生月花!$B$2:$B$13,0),\"\")","v":""},{"$f":"IFERROR(VLOOKUP(B141&C141,誕生日花!E:F,2,FALSE),IFERROR(VLOOKUP(B141,誕生日花!E:F,2,FALSE),\"\"))","v":""}]
["菊咲キ栴檀草（キクザキセンダングサ）","ウィンターコスモス","","美しい調和",{"$f":"IFERROR(MATCH(B142,誕生月花!$B$2:$B$13,0),\"\")","v":""},{"$f":"IFERROR(VLOOKUP(B142&C142,誕生日花!E:F,2,FALSE),IFERROR(VLOOKUP(B142,誕生日花!E:F,2,FALSE),\"\"))","v":""}]
["匂紫羅欄花（ニオイアラセイトウ）","ウォールフラワー","","熱愛",{"$f":"IFERROR(MATCH(B143,誕生月花!$B$2:$B$13,0),\"\")","v":""},{"$f":"IFERROR(VLOOKUP(B143&C143,誕生日花!E:F,2,FALSE),IFERROR(VLOOKUP(B143,誕生日花!E:F,2,FALSE),\"\"))","v":"2016-04-09"}]
["うすべにあおい","ウスベニアオイ","","柔和な心",{"$f":"IFERROR(MATCH(B144,誕生月花!$B$2:$B$13,0),\"\")","v":""},{"$f":"IFERROR(VLOOKUP(B144&C144,誕生日花!E:F,2,FALSE),IFERROR(VLOOKUP(B144,誕生日花!E:F,2,FALSE),\"\"))","v":""}]
["うすべにあおい","ウスベニアオイ","","穏やか",{"$f":"IFERROR(MATCH(B145,誕生月花!$B$2:$B$13,0),\"\")","v":""},{"$f":"IFERROR(VLOOKUP(B145&C145,誕生日花!E:F,2,FALSE),IFERROR(VLOOKUP(B145,誕生日花!E:F,2,FALSE),\"\"))","v":""}]
["空木","ウツギ","","古風",{"$f":"IFERROR(MATCH(B146,誕生月花!$B$2:$B$13,0),\"\")","v":""},{"$f":"IFERROR(VLOOKUP(B146&C146,誕生日花!E:F,2,FALSE),IFERROR(VLOOKUP(B146,誕生日花!E:F,2,FALSE),\"\"))","v":""}]
["空木","ウツギ","","秘密",{"$f":"IFERROR(MATCH(B147,誕生月花!$B$2:$B$13,0),\"\")","v":""},{"$f":"IFERROR(VLOOKUP(B147&C147,誕生日花!E:F,2,FALSE),IFERROR(VLOOKUP(B147,誕生日花!E:F,2,FALSE),\"\"))","v":""}]
["梅","ウメ","","澄んだ心",{"$f":"IFERROR(MATCH(B148,誕生月花!$B$2:$B$13,0),\"\")","v":""},{"$f":"IFERROR(VLOOKUP(B148&C148,誕生日花!E:F,2,FALSE),IFERROR(VLOOKUP(B148,誕生日花!E:F,2,FALSE),\"\"))","v":""}]
["梅","ウメ","","高潔",{"$f":"IFERROR(MATCH(B149,誕生月花!$B$2:$B$13,0),\"\")","v":""},{"$f":"IFERROR(VLOOKUP(B149&C149,誕生日花!E:F,2,FALSE),IFERROR(VLOOKUP(B149,誕生日花!E:F,2,FALSE),\"\"))","v":""}]
["梅","ウメ","","忍耐",{"$f":"IFERROR(MATCH(B150,誕生月花!$B$2:$B$13,0),\"\")","v":""},{"$f":"IFERROR(VLOOKUP(B150&C150,誕生日花!E:F,2,FALSE),IFERROR(VLOOKUP(B150,誕生日花!E:F,2,FALSE),\"\"))","v":""}]
["梅","ウメ","紅","忠実",{"$f":"IFERROR(MATCH(B151,誕生月花!$B$2:$B$13,0),\"\")","v":""},{"$f":"IFERROR(VLOOKUP(B151&C151,誕生日花!E:F,2,FALSE),IFERROR(VLOOKUP(B151,誕生日花!E:F,2,FALSE),\"\"))","v":"2016-02-21"}]
["梅","ウメ","白","気品",{"$f":"IFERROR(MATCH(B152,誕生月花!$B$2:$B$13,0),\"\")","v":""},{"$f":"IFERROR(VLOOKUP(B152&C152,誕生日花!E:F,2,FALSE),IFERROR(VLOOKUP(B152,誕生日花!E:F,2,FALSE),\"\"))","v":"2016-01-31"}]
["西洋薄雪草（セイヨウウスユキソウ）","エーデルワイス","","尊い記憶",{"$f":"IFERROR(MATCH(B153,誕生月花!$B$2:$B$13,0),\"\")","v":""},{"$f":"IFERROR(VLOOKUP(B153&C153,誕生日花!E:F,2,FALSE),IFERROR(VLOOKUP(B153,誕生日花!E:F,2,FALSE),\"\"))","v":""}]
["西洋薄雪草（セイヨウウスユキソウ）","エーデルワイス","","大切な思い出",{"$f":"IFERROR(MATCH(B154,誕生月花!$B$2:$B$13,0),\"\")","v":""},{"$f":"IFERROR(VLOOKUP(B154&C154,誕生日花!E:F,2,FALSE),IFERROR(VLOOKUP(B154,誕生日花!E:F,2,FALSE),\"\"))","v":""}]
["西洋薄雪草（セイヨウウスユキソウ）","エーデルワイス","","勇気",{"$f":"IFERROR(MATCH(B155,誕生月花!$B$2:$B$13,0),\"\")","v":""},{"$f":"IFERROR(VLOOKUP(B155&C155,誕生日花!E:F,2,FALSE),IFERROR(VLOOKUP(B155,誕生日花!E:F,2,FALSE),\"\"))","v":""}]
["紅姫竜胆（ベニヒメリンドウ）","エキザカム","","あなたを愛します",{"$f":"IFERROR(MATCH(B156,誕生月花!$B$2:$B$13,0),\"\")","v":""},{"$f":"IFERROR(VLOOKUP(B156&C156,誕生日花!E:F,2,FALSE),IFERROR(VLOOKUP(B156,誕生日花!E:F,2,FALSE),\"\"))","v":"2016-07-29"}]
["紫馬簾菊（ムラサキバレンギク）","エキナセア","","痛みを癒す",{"$f":"IFERROR(MATCH(B157,誕生月花!$B$2:$B$13,0),\"\")","v":""},{"$f":"IFERROR(VLOOKUP(B157&C157,誕生日花!E:F,2,FALSE),IFERROR(VLOOKUP(B157,誕生日花!E:F,2,FALSE),\"\"))","v":""}]
["野茉莉","エゴノキ","","壮大",{"$f":"IFERROR(MATCH(B158,誕生月花!$B$2:$B$13,0),\"\")","v":""},{"$f":"IFERROR(VLOOKUP(B158&C158,誕生日花!E:F,2,FALSE),IFERROR(VLOOKUP(B158,誕生日花!E:F,2,FALSE),\"\"))","v":""}]
["蝦夷菊","エゾギク","","信じる心",{"$f":"IFERROR(MATCH(B159,誕生月花!$B$2:$B$13,0),\"\")","v":""},{"$f":"IFERROR(VLOOKUP(B159&C159,誕生日花!E:F,2,FALSE),IFERROR(VLOOKUP(B159,誕生日花!E:F,2,FALSE),\"\"))","v":""}]
["蝦夷菊","エゾギク","アスター","あなたを信じているけど心配",{"$f":"IFERROR(MATCH(B160,誕生月花!$B$2:$B$13,0),\"\")","v":""},{"$f":"IFERROR(VLOOKUP(B160&C160,誕生日花!E:F,2,FALSE),IFERROR(VLOOKUP(B160,誕生日花!E:F,2,FALSE),\"\"))","v":""}]
["蝦夷菊","エゾギク","アスター","甘い夢",{"$f":"IFERROR(MATCH(B161,誕生月花!$B$2:$B$13,0),\"\")","v":""},{"$f":"IFERROR(VLOOKUP(B161&C161,誕生日花!E:F,2,FALSE),IFERROR(VLOOKUP(B161,誕生日花!E:F,2,FALSE),\"\"))","v":""}]
["蝦夷菊","エゾギク","アスター","私の愛はあなたの愛より深い",{"$f":"IFERROR(MATCH(B162,誕生月花!$B$2:$B$13,0),\"\")","v":""},{"$f":"IFERROR(VLOOKUP(B162&C162,誕生日花!E:F,2,FALSE),IFERROR(VLOOKUP(B162,誕生日花!E:F,2,FALSE),\"\"))","v":""}]
["蝦夷菊","エゾギク","アスター","私を信じてください",{"$f":"IFERROR(MATCH(B163,誕生月花!$B$2:$B$13,0),\"\")","v":""},{"$f":"IFERROR(VLOOKUP(B163&C163,誕生日花!E:F,2,FALSE),IFERROR(VLOOKUP(B163,誕生日花!E:F,2,FALSE),\"\"))","v":""}]
["蝦夷菊","エゾギク","アスター","信じる恋",{"$f":"IFERROR(MATCH(B164,誕生月花!$B$2:$B$13,0),\"\")","v":""},{"$f":"IFERROR(VLOOKUP(B164&C164,誕生日花!E:F,2,FALSE),IFERROR(VLOOKUP(B164,誕生日花!E:F,2,FALSE),\"\"))","v":""}]
["蝦夷菊","エゾギク","アスター","信頼",{"$f":"IFERROR(MATCH(B165,誕生月花!$B$2:$B$13,0),\"\")","v":""},{"$f":"IFERROR(VLOOKUP(B165&C165,誕生日花!E:F,2,FALSE),IFERROR(VLOOKUP(B165,誕生日花!E:F,2,FALSE),\"\"))","v":""}]
["蝦夷菊","エゾギク","アスター","追憶",{"$f":"IFERROR(MATCH(B166,誕生月花!$B$2:$B$13,0),\"\")","v":""},{"$f":"IFERROR(VLOOKUP(B166&C166,誕生日花!E:F,2,FALSE),IFERROR(VLOOKUP(B166,誕生日花!E:F,2,FALSE),\"\"))","v":""}]
["蝦夷菊","エゾギク","アスター","同感",{"$f":"IFERROR(MATCH(B167,誕生月花!$B$2:$B$13,0),\"\")","v":""},{"$f":"IFERROR(VLOOKUP(B167&C167,誕生日花!E:F,2,FALSE),IFERROR(VLOOKUP(B167,誕生日花!E:F,2,FALSE),\"\"))","v":""}]
["蝦夷菊","エゾギク","アスター","変化",{"$f":"IFERROR(MATCH(B168,誕生月花!$B$2:$B$13,0),\"\")","v":""},{"$f":"IFERROR(VLOOKUP(B168&C168,誕生日花!E:F,2,FALSE),IFERROR(VLOOKUP(B168,誕生日花!E:F,2,FALSE),\"\"))","v":""}]
["蝦夷菊","エゾギク","アスター","変化を好む",{"$f":"IFERROR(MATCH(B169,誕生月花!$B$2:$B$13,0),\"\")","v":""},{"$f":"IFERROR(VLOOKUP(B169&C169,誕生日花!E:F,2,FALSE),IFERROR(VLOOKUP(B169,誕生日花!E:F,2,FALSE),\"\"))","v":""}]
["蝦夷菊","エゾギク","アスター","恋の勝利",{"$f":"IFERROR(MATCH(B170,誕生月花!$B$2:$B$13,0),\"\")","v":""},{"$f":"IFERROR(VLOOKUP(B170&C170,誕生日花!E:F,2,FALSE),IFERROR(VLOOKUP(B170,誕生日花!E:F,2,FALSE),\"\"))","v":""}]
["蝦夷菊","エゾギク","ピンク","甘い夢",{"$f":"IFERROR(MATCH(B171,誕生月花!$B$2:$B$13,0),\"\")","v":""},{"$f":"IFERROR(VLOOKUP(B171&C171,誕生日花!E:F,2,FALSE),IFERROR(VLOOKUP(B171,誕生日花!E:F,2,FALSE),\"\"))","v":""}]
["蝦夷菊","エゾギク","紫","私の愛はあなたの愛より深い",{"$f":"IFERROR(MATCH(B172,誕生月花!$B$2:$B$13,0),\"\")","v":""},{"$f":"IFERROR(VLOOKUP(B172&C172,誕生日花!E:F,2,FALSE),IFERROR(VLOOKUP(B172,誕生日花!E:F,2,FALSE),\"\"))","v":""}]
["蝦夷菊","エゾギク","紫","恋の勝利",{"$f":"IFERROR(MATCH(B173,誕生月花!$B$2:$B$13,0),\"\")","v":""},{"$f":"IFERROR(VLOOKUP(B173&C173,誕生日花!E:F,2,FALSE),IFERROR(VLOOKUP(B173,誕生日花!E:F,2,FALSE),\"\"))","v":""}]
["蝦夷菊","エゾギク","青","信頼",{"$f":"IFERROR(MATCH(B174,誕生月花!$B$2:$B$13,0),\"\")","v":""},{"$f":"IFERROR(VLOOKUP(B174&C174,誕生日花!E:F,2,FALSE),IFERROR(VLOOKUP(B174,誕生日花!E:F,2,FALSE),\"\"))","v":""}]
["蝦夷菊","エゾギク","青","あなたを信じているけど心配",{"$f":"IFERROR(MATCH(B175,誕生月花!$B$2:$B$13,0),\"\")","v":""},{"$f":"IFERROR(VLOOKUP(B175&C175,誕生日花!E:F,2,FALSE),IFERROR(VLOOKUP(B175,誕生日花!E:F,2,FALSE),\"\"))","v":""}]
["蝦夷菊","エゾギク","赤","変化を好む",{"$f":"IFERROR(MATCH(B176,誕生月花!$B$2:$B$13,0),\"\")","v":""},{"$f":"IFERROR(VLOOKUP(B176&C176,誕生日花!E:F,2,FALSE),IFERROR(VLOOKUP(B176,誕生日花!E:F,2,FALSE),\"\"))","v":""}]
["金雀枝","エニシダ","","謙遜",{"$f":"IFERROR(MATCH(B177,誕生月花!$B$2:$B$13,0),\"\")","v":""},{"$f":"IFERROR(VLOOKUP(B177&C177,誕生日花!E:F,2,FALSE),IFERROR(VLOOKUP(B177,誕生日花!E:F,2,FALSE),\"\"))","v":""}]
["金雀枝","エニシダ","","清潔",{"$f":"IFERROR(MATCH(B178,誕生月花!$B$2:$B$13,0),\"\")","v":""},{"$f":"IFERROR(VLOOKUP(B178&C178,誕生日花!E:F,2,FALSE),IFERROR(VLOOKUP(B178,誕生日花!E:F,2,FALSE),\"\"))","v":""}]
["金雀枝","エニシダ","","卑下",{"$f":"IFERROR(MATCH(B179,誕生月花!$B$2:$B$13,0),\"\")","v":""},{"$f":"IFERROR(VLOOKUP(B179&C179,誕生日花!E:F,2,FALSE),IFERROR(VLOOKUP(B179,誕生日花!E:F,2,FALSE),\"\"))","v":""}]
["海老根","エビネ","","真実",{"$f":"IFERROR(MATCH(B180,誕生月花!$B$2:$B$13,0),\"\")","v":""},{"$f":"IFERROR(VLOOKUP(B180&C180,誕生日花!E:F,2,FALSE),IFERROR(VLOOKUP(B180,誕生日花!E:F,2,FALSE),\"\"))","v":"2016-04-13"}]
["海老根","エビネ","","謙虚",{"$f":"IFERROR(MATCH(B181,誕生月花!$B$2:$B$13,0),\"\")","v":""},{"$f":"IFERROR(VLOOKUP(B181&C181,誕生日花!E:F,2,FALSE),IFERROR(VLOOKUP(B181,誕生日花!E:F,2,FALSE),\"\"))","v":"2016-04-13"}]
["海老根","エビネ","","謙虚な恋",{"$f":"IFERROR(MATCH(B182,誕生月花!$B$2:$B$13,0),\"\")","v":""},{"$f":"IFERROR(VLOOKUP(B182&C182,誕生日花!E:F,2,FALSE),IFERROR(VLOOKUP(B182,誕生日花!E:F,2,FALSE),\"\"))","v":"2016-04-13"}]
["海老根","エリカ","","孤独",{"$f":"IFERROR(MATCH(B183,誕生月花!$B$2:$B$13,0),\"\")","v":""},{"$f":"IFERROR(VLOOKUP(B183&C183,誕生日花!E:F,2,FALSE),IFERROR(VLOOKUP(B183,誕生日花!E:F,2,FALSE),\"\"))","v":""}]
["海老根","エリカ","","寂しさ",{"$f":"IFERROR(MATCH(B184,誕生月花!$B$2:$B$13,0),\"\")","v":""},{"$f":"IFERROR(VLOOKUP(B184&C184,誕生日花!E:F,2,FALSE),IFERROR(VLOOKUP(B184,誕生日花!E:F,2,FALSE),\"\"))","v":""}]
["海老根","エリカ","","博愛",{"$f":"IFERROR(MATCH(B185,誕生月花!$B$2:$B$13,0),\"\")","v":""},{"$f":"IFERROR(VLOOKUP(B185&C185,誕生日花!E:F,2,FALSE),IFERROR(VLOOKUP(B185,誕生日花!E:F,2,FALSE),\"\"))","v":""}]
["海老根","エリカ","","良い言葉",{"$f":"IFERROR(MATCH(B186,誕生月花!$B$2:$B$13,0),\"\")","v":""},{"$f":"IFERROR(VLOOKUP(B186&C186,誕生日花!E:F,2,FALSE),IFERROR(VLOOKUP(B186,誕生日花!E:F,2,FALSE),\"\"))","v":""}]
["海老根","エリカ","","自立",{"$f":"IFERROR(MATCH(B187,誕生月花!$B$2:$B$13,0),\"\")","v":""},{"$f":"IFERROR(VLOOKUP(B187&C187,誕生日花!E:F,2,FALSE),IFERROR(VLOOKUP(B187,誕生日花!E:F,2,FALSE),\"\"))","v":""}]
["海老根","エリカ","クリスマスパレード","沈黙",{"$f":"IFERROR(MATCH(B188,誕生月花!$B$2:$B$13,0),\"\")","v":""},{"$f":"IFERROR(VLOOKUP(B188&C188,誕生日花!E:F,2,FALSE),IFERROR(VLOOKUP(B188,誕生日花!E:F,2,FALSE),\"\"))","v":""}]
["春楡（ハルニレ）","エルム","","感受性",{"$f":"IFERROR(MATCH(B189,誕生月花!$B$2:$B$13,0),\"\")","v":""},{"$f":"IFERROR(VLOOKUP(B189&C189,誕生日花!E:F,2,FALSE),IFERROR(VLOOKUP(B189,誕生日花!E:F,2,FALSE),\"\"))","v":""}]
["エレモフィラ","エレモフィラ","","あこがれの人",{"$f":"IFERROR(MATCH(B190,誕生月花!$B$2:$B$13,0),\"\")","v":""},{"$f":"IFERROR(VLOOKUP(B190&C190,誕生日花!E:F,2,FALSE),IFERROR(VLOOKUP(B190,誕生日花!E:F,2,FALSE),\"\"))","v":""}]
["花魁草","オイランソウ","","同意",{"$f":"IFERROR(MATCH(B191,誕生月花!$B$2:$B$13,0),\"\")","v":""},{"$f":"IFERROR(VLOOKUP(B191&C191,誕生日花!E:F,2,FALSE),IFERROR(VLOOKUP(B191,誕生日花!E:F,2,FALSE),\"\"))","v":"2016-08-28"}]
["黄梅","オウバイ","","恩恵",{"$f":"IFERROR(MATCH(B192,誕生月花!$B$2:$B$13,0),\"\")","v":""},{"$f":"IFERROR(VLOOKUP(B192&C192,誕生日花!E:F,2,FALSE),IFERROR(VLOOKUP(B192,誕生日花!E:F,2,FALSE),\"\"))","v":"2016-01-23"}]
["黄梅","オウバイ","","期待",{"$f":"IFERROR(MATCH(B193,誕生月花!$B$2:$B$13,0),\"\")","v":""},{"$f":"IFERROR(VLOOKUP(B193&C193,誕生日花!E:F,2,FALSE),IFERROR(VLOOKUP(B193,誕生日花!E:F,2,FALSE),\"\"))","v":"2016-01-23"}]
["黄梅","オウバイ","","控えめな美",{"$f":"IFERROR(MATCH(B194,誕生月花!$B$2:$B$13,0),\"\")","v":""},{"$f":"IFERROR(VLOOKUP(B194&C194,誕生日花!E:F,2,FALSE),IFERROR(VLOOKUP(B194,誕生日花!E:F,2,FALSE),\"\"))","v":"2016-01-23"}]
["大犬の陰嚢","オオイヌノフグリ","","神聖",{"$f":"IFERROR(MATCH(B195,誕生月花!$B$2:$B$13,0),\"\")","v":""},{"$f":"IFERROR(VLOOKUP(B195&C195,誕生日花!E:F,2,FALSE),IFERROR(VLOOKUP(B195,誕生日花!E:F,2,FALSE),\"\"))","v":""}]
["大犬の陰嚢","オオイヌノフグリ","","信頼",{"$f":"IFERROR(MATCH(B196,誕生月花!$B$2:$B$13,0),\"\")","v":""},{"$f":"IFERROR(VLOOKUP(B196&C196,誕生日花!E:F,2,FALSE),IFERROR(VLOOKUP(B196,誕生日花!E:F,2,FALSE),\"\"))","v":""}]
["大犬の陰嚢","オオイヌノフグリ","","清らか",{"$f":"IFERROR(MATCH(B197,誕生月花!$B$2:$B$13,0),\"\")","v":""},{"$f":"IFERROR(VLOOKUP(B197&C197,誕生日花!E:F,2,FALSE),IFERROR(VLOOKUP(B197,誕生日花!E:F,2,FALSE),\"\"))","v":""}]
["大犬の陰嚢","オオイヌノフグリ","","忠実",{"$f":"IFERROR(MATCH(B198,誕生月花!$B$2:$B$13,0),\"\")","v":""},{"$f":"IFERROR(VLOOKUP(B198&C198,誕生日花!E:F,2,FALSE),IFERROR(VLOOKUP(B198,誕生日花!E:F,2,FALSE),\"\"))","v":""}]
["オーク","オーク","木","強さ",{"$f":"IFERROR(MATCH(B199,誕生月花!$B$2:$B$13,0),\"\")","v":""},{"$f":"IFERROR(VLOOKUP(B199&C199,誕生日花!E:F,2,FALSE),IFERROR(VLOOKUP(B199,誕生日花!E:F,2,FALSE),\"\"))","v":""}]
["オーク","オーク","葉","勇敢さ",{"$f":"IFERROR(MATCH(B200,誕生月花!$B$2:$B$13,0),\"\")","v":""},{"$f":"IFERROR(VLOOKUP(B200&C200,誕生日花!E:F,2,FALSE),IFERROR(VLOOKUP(B200,誕生日花!E:F,2,FALSE),\"\"))","v":""}]
["大甘菜（オオアマナ）","オーニソガラム","","才能",{"$f":"IFERROR(MATCH(B201,誕生月花!$B$2:$B$13,0),\"\")","v":""},{"$f":"IFERROR(VLOOKUP(B201&C201,誕生日花!E:F,2,FALSE),IFERROR(VLOOKUP(B201,誕生日花!E:F,2,FALSE),\"\"))","v":""}]
["大甘菜（オオアマナ）","オーニソガラム","","純粋",{"$f":"IFERROR(MATCH(B202,誕生月花!$B$2:$B$13,0),\"\")","v":""},{"$f":"IFERROR(VLOOKUP(B202&C202,誕生日花!E:F,2,FALSE),IFERROR(VLOOKUP(B202,誕生日花!E:F,2,FALSE),\"\"))","v":""}]
["木立花酢漿草（オキザリスナカタバミ）","オキザリス","","光輝く心",{"$f":"IFERROR(MATCH(B203,誕生月花!$B$2:$B$13,0),\"\")","v":""},{"$f":"IFERROR(VLOOKUP(B203&C203,誕生日花!E:F,2,FALSE),IFERROR(VLOOKUP(B203,誕生日花!E:F,2,FALSE),\"\"))","v":"2016-01-16"}]
["翁草","オキナグサ","","何も求めない",{"$f":"IFERROR(MATCH(B204,誕生月花!$B$2:$B$13,0),\"\")","v":""},{"$f":"IFERROR(VLOOKUP(B204&C204,誕生日花!E:F,2,FALSE),IFERROR(VLOOKUP(B204,誕生日花!E:F,2,FALSE),\"\"))","v":""}]
["翁草","オキナグサ","","告げられぬ恋",{"$f":"IFERROR(MATCH(B205,誕生月花!$B$2:$B$13,0),\"\")","v":""},{"$f":"IFERROR(VLOOKUP(B205&C205,誕生日花!E:F,2,FALSE),IFERROR(VLOOKUP(B205,誕生日花!E:F,2,FALSE),\"\"))","v":""}]
["翁草","オキナグサ","","清純な心",{"$f":"IFERROR(MATCH(B206,誕生月花!$B$2:$B$13,0),\"\")","v":""},{"$f":"IFERROR(VLOOKUP(B206&C206,誕生日花!E:F,2,FALSE),IFERROR(VLOOKUP(B206,誕生日花!E:F,2,FALSE),\"\"))","v":""}]
["翁草","オキナグサ","","裏切りの恋",{"$f":"IFERROR(MATCH(B207,誕生月花!$B$2:$B$13,0),\"\")","v":""},{"$f":"IFERROR(VLOOKUP(B207&C207,誕生日花!E:F,2,FALSE),IFERROR(VLOOKUP(B207,誕生日花!E:F,2,FALSE),\"\"))","v":""}]
["秋葵","オクラ","","初恋",{"$f":"IFERROR(MATCH(B208,誕生月花!$B$2:$B$13,0),\"\")","v":""},{"$f":"IFERROR(VLOOKUP(B208&C208,誕生日花!E:F,2,FALSE),IFERROR(VLOOKUP(B208,誕生日花!E:F,2,FALSE),\"\"))","v":"2016-08-07"}]
["お辞儀草","オジギソウ","","感受性",{"$f":"IFERROR(MATCH(B209,誕生月花!$B$2:$B$13,0),\"\")","v":""},{"$f":"IFERROR(VLOOKUP(B209&C209,誕生日花!E:F,2,FALSE),IFERROR(VLOOKUP(B209,誕生日花!E:F,2,FALSE),\"\"))","v":"2016-08-30"}]
["お辞儀草","オジギソウ","","繊細な感情",{"$f":"IFERROR(MATCH(B210,誕生月花!$B$2:$B$13,0),\"\")","v":""},{"$f":"IFERROR(VLOOKUP(B210&C210,誕生日花!E:F,2,FALSE),IFERROR(VLOOKUP(B210,誕生日花!E:F,2,FALSE),\"\"))","v":"2016-08-30"}]
["お辞儀草","オジギソウ","","敏感",{"$f":"IFERROR(MATCH(B211,誕生月花!$B$2:$B$13,0),\"\")","v":""},{"$f":"IFERROR(VLOOKUP(B211&C211,誕生日花!E:F,2,FALSE),IFERROR(VLOOKUP(B211,誕生日花!E:F,2,FALSE),\"\"))","v":"2016-08-30"}]
["白粉花","オシロイバナ","","臆病な愛",{"$f":"IFERROR(MATCH(B212,誕生月花!$B$2:$B$13,0),\"\")","v":""},{"$f":"IFERROR(VLOOKUP(B212&C212,誕生日花!E:F,2,FALSE),IFERROR(VLOOKUP(B212,誕生日花!E:F,2,FALSE),\"\"))","v":"2016-07-24"}]
["白粉花","オシロイバナ","","臆病",{"$f":"IFERROR(MATCH(B213,誕生月花!$B$2:$B$13,0),\"\")","v":""},{"$f":"IFERROR(VLOOKUP(B213&C213,誕生日花!E:F,2,FALSE),IFERROR(VLOOKUP(B213,誕生日花!E:F,2,FALSE),\"\"))","v":"2016-07-24"}]
["白粉花","オシロイバナ","","内気",{"$f":"IFERROR(MATCH(B214,誕生月花!$B$2:$B$13,0),\"\")","v":""},{"$f":"IFERROR(VLOOKUP(B214&C214,誕生日花!E:F,2,FALSE),IFERROR(VLOOKUP(B214,誕生日花!E:F,2,FALSE),\"\"))","v":"2016-07-24"}]
["白粉花","オシロイバナ","","恋を疑う",{"$f":"IFERROR(MATCH(B215,誕生月花!$B$2:$B$13,0),\"\")","v":""},{"$f":"IFERROR(VLOOKUP(B215&C215,誕生日花!E:F,2,FALSE),IFERROR(VLOOKUP(B215,誕生日花!E:F,2,FALSE),\"\"))","v":"2016-07-24"}]
["アフリカ金盞花","オステオスペルマム","","心身の健康",{"$f":"IFERROR(MATCH(B216,誕生月花!$B$2:$B$13,0),\"\")","v":""},{"$f":"IFERROR(VLOOKUP(B216&C216,誕生日花!E:F,2,FALSE),IFERROR(VLOOKUP(B216,誕生日花!E:F,2,FALSE),\"\"))","v":""}]
["苧環","オダマキ","","愚か",{"$f":"IFERROR(MATCH(B217,誕生月花!$B$2:$B$13,0),\"\")","v":""},{"$f":"IFERROR(VLOOKUP(B217&C217,誕生日花!E:F,2,FALSE),IFERROR(VLOOKUP(B217,誕生日花!E:F,2,FALSE),\"\"))","v":"2016-05-27"}]
["苧環","オダマキ","","勝利の誓い",{"$f":"IFERROR(MATCH(B218,誕生月花!$B$2:$B$13,0),\"\")","v":""},{"$f":"IFERROR(VLOOKUP(B218&C218,誕生日花!E:F,2,FALSE),IFERROR(VLOOKUP(B218,誕生日花!E:F,2,FALSE),\"\"))","v":"2016-05-27"}]
["苧環","オダマキ","紫","勝利への決意",{"$f":"IFERROR(MATCH(B219,誕生月花!$B$2:$B$13,0),\"\")","v":""},{"$f":"IFERROR(VLOOKUP(B219&C219,誕生日花!E:F,2,FALSE),IFERROR(VLOOKUP(B219,誕生日花!E:F,2,FALSE),\"\"))","v":"2016-05-27"}]
["苧環","オダマキ","赤","素直",{"$f":"IFERROR(MATCH(B220,誕生月花!$B$2:$B$13,0),\"\")","v":""},{"$f":"IFERROR(VLOOKUP(B220&C220,誕生日花!E:F,2,FALSE),IFERROR(VLOOKUP(B220,誕生日花!E:F,2,FALSE),\"\"))","v":"2016-05-27"}]
["苧環","オダマキ","赤","心配して震えている",{"$f":"IFERROR(MATCH(B221,誕生月花!$B$2:$B$13,0),\"\")","v":""},{"$f":"IFERROR(VLOOKUP(B221&C221,誕生日花!E:F,2,FALSE),IFERROR(VLOOKUP(B221,誕生日花!E:F,2,FALSE),\"\"))","v":"2016-05-27"}]
["苧環","オダマキ","白","あの方が気がかり",{"$f":"IFERROR(MATCH(B222,誕生月花!$B$2:$B$13,0),\"\")","v":""},{"$f":"IFERROR(VLOOKUP(B222&C222,誕生日花!E:F,2,FALSE),IFERROR(VLOOKUP(B222,誕生日花!E:F,2,FALSE),\"\"))","v":"2016-05-27"}]
["弟切草","オトギリソウ","","恨み",{"$f":"IFERROR(MATCH(B223,誕生月花!$B$2:$B$13,0),\"\")","v":""},{"$f":"IFERROR(VLOOKUP(B223&C223,誕生日花!E:F,2,FALSE),IFERROR(VLOOKUP(B223,誕生日花!E:F,2,FALSE),\"\"))","v":""}]
["弟切草","オトギリソウ","","敵意",{"$f":"IFERROR(MATCH(B224,誕生月花!$B$2:$B$13,0),\"\")","v":""},{"$f":"IFERROR(VLOOKUP(B224&C224,誕生日花!E:F,2,FALSE),IFERROR(VLOOKUP(B224,誕生日花!E:F,2,FALSE),\"\"))","v":""}]
["弟切草","オトギリソウ","","秘密",{"$f":"IFERROR(MATCH(B225,誕生月花!$B$2:$B$13,0),\"\")","v":""},{"$f":"IFERROR(VLOOKUP(B225&C225,誕生日花!E:F,2,FALSE),IFERROR(VLOOKUP(B225,誕生日花!E:F,2,FALSE),\"\"))","v":""}]
["弟切草","オトギリソウ","","迷信",{"$f":"IFERROR(MATCH(B226,誕生月花!$B$2:$B$13,0),\"\")","v":""},{"$f":"IFERROR(VLOOKUP(B226&C226,誕生日花!E:F,2,FALSE),IFERROR(VLOOKUP(B226,誕生日花!E:F,2,FALSE),\"\"))","v":""}]
["乙女桔梗","オトメギキョウ","","大切な人",{"$f":"IFERROR(MATCH(B227,誕生月花!$B$2:$B$13,0),\"\")","v":""},{"$f":"IFERROR(VLOOKUP(B227&C227,誕生日花!E:F,2,FALSE),IFERROR(VLOOKUP(B227,誕生日花!E:F,2,FALSE),\"\"))","v":"2016-06-20"}]
["彗星蘭（スイセイラン）","オドントグロッサム","","特別な存在",{"$f":"IFERROR(MATCH(B228,誕生月花!$B$2:$B$13,0),\"\")","v":""},{"$f":"IFERROR(VLOOKUP(B228&C228,誕生日花!E:F,2,FALSE),IFERROR(VLOOKUP(B228,誕生日花!E:F,2,FALSE),\"\"))","v":"2016-12-15"}]
["鬼百合","オニユリ","","富の蓄積",{"$f":"IFERROR(MATCH(B229,誕生月花!$B$2:$B$13,0),\"\")","v":""},{"$f":"IFERROR(VLOOKUP(B229&C229,誕生日花!E:F,2,FALSE),IFERROR(VLOOKUP(B229,誕生日花!E:F,2,FALSE),\"\"))","v":""}]
["鬼百合","オニユリ","","賢者",{"$f":"IFERROR(MATCH(B230,誕生月花!$B$2:$B$13,0),\"\")","v":""},{"$f":"IFERROR(VLOOKUP(B230&C230,誕生日花!E:F,2,FALSE),IFERROR(VLOOKUP(B230,誕生日花!E:F,2,FALSE),\"\"))","v":""}]
["鬼百合","オニユリ","","富と誇り",{"$f":"IFERROR(MATCH(B231,誕生月花!$B$2:$B$13,0),\"\")","v":""},{"$f":"IFERROR(VLOOKUP(B231&C231,誕生日花!E:F,2,FALSE),IFERROR(VLOOKUP(B231,誕生日花!E:F,2,FALSE),\"\"))","v":""}]
["女郎花","オミナエシ","","はかない恋",{"$f":"IFERROR(MATCH(B232,誕生月花!$B$2:$B$13,0),\"\")","v":""},{"$f":"IFERROR(VLOOKUP(B232&C232,誕生日花!E:F,2,FALSE),IFERROR(VLOOKUP(B232,誕生日花!E:F,2,FALSE),\"\"))","v":"2016-09-05"}]
["女郎花","オミナエシ","","親切",{"$f":"IFERROR(MATCH(B233,誕生月花!$B$2:$B$13,0),\"\")","v":""},{"$f":"IFERROR(VLOOKUP(B233&C233,誕生日花!E:F,2,FALSE),IFERROR(VLOOKUP(B233,誕生日花!E:F,2,FALSE),\"\"))","v":"2016-09-05"}]
["女郎花","オミナエシ","","美人",{"$f":"IFERROR(MATCH(B234,誕生月花!$B$2:$B$13,0),\"\")","v":""},{"$f":"IFERROR(VLOOKUP(B234&C234,誕生日花!E:F,2,FALSE),IFERROR(VLOOKUP(B234,誕生日花!E:F,2,FALSE),\"\"))","v":"2016-09-05"}]
["阿蘭陀菖蒲","オランダアヤメ","","メッセージ",{"$f":"IFERROR(MATCH(B235,誕生月花!$B$2:$B$13,0),\"\")","v":""},{"$f":"IFERROR(VLOOKUP(B235&C235,誕生日花!E:F,2,FALSE),IFERROR(VLOOKUP(B235,誕生日花!E:F,2,FALSE),\"\"))","v":"2016-03-05"}]
["橄欖","オリーブ","","平和",{"$f":"IFERROR(MATCH(B236,誕生月花!$B$2:$B$13,0),\"\")","v":""},{"$f":"IFERROR(VLOOKUP(B236&C236,誕生日花!E:F,2,FALSE),IFERROR(VLOOKUP(B236,誕生日花!E:F,2,FALSE),\"\"))","v":""}]
["橄欖","オリーブ","","知恵",{"$f":"IFERROR(MATCH(B237,誕生月花!$B$2:$B$13,0),\"\")","v":""},{"$f":"IFERROR(VLOOKUP(B237&C237,誕生日花!E:F,2,FALSE),IFERROR(VLOOKUP(B237,誕生日花!E:F,2,FALSE),\"\"))","v":""}]
["甜橙","オレンジ","","花嫁の喜び",{"$f":"IFERROR(MATCH(B238,誕生月花!$B$2:$B$13,0),\"\")","v":""},{"$f":"IFERROR(VLOOKUP(B238&C238,誕生日花!E:F,2,FALSE),IFERROR(VLOOKUP(B238,誕生日花!E:F,2,FALSE),\"\"))","v":""}]
["甜橙","オレンジ","","愛らしさ",{"$f":"IFERROR(MATCH(B239,誕生月花!$B$2:$B$13,0),\"\")","v":""},{"$f":"IFERROR(VLOOKUP(B239&C239,誕生日花!E:F,2,FALSE),IFERROR(VLOOKUP(B239,誕生日花!E:F,2,FALSE),\"\"))","v":""}]
["甜橙","オレンジ","","結婚式の祝宴",{"$f":"IFERROR(MATCH(B240,誕生月花!$B$2:$B$13,0),\"\")","v":""},{"$f":"IFERROR(VLOOKUP(B240&C240,誕生日花!E:F,2,FALSE),IFERROR(VLOOKUP(B240,誕生日花!E:F,2,FALSE),\"\"))","v":""}]
["甜橙","オレンジ","","純粋",{"$f":"IFERROR(MATCH(B241,誕生月花!$B$2:$B$13,0),\"\")","v":""},{"$f":"IFERROR(VLOOKUP(B241&C241,誕生日花!E:F,2,FALSE),IFERROR(VLOOKUP(B241,誕生日花!E:F,2,FALSE),\"\"))","v":""}]
["甜橙","オレンジ","実","美しさ",{"$f":"IFERROR(MATCH(B242,誕生月花!$B$2:$B$13,0),\"\")","v":""},{"$f":"IFERROR(VLOOKUP(B242&C242,誕生日花!E:F,2,FALSE),IFERROR(VLOOKUP(B242,誕生日花!E:F,2,FALSE),\"\"))","v":""}]
["甜橙","オレンジ","実","優しさ",{"$f":"IFERROR(MATCH(B243,誕生月花!$B$2:$B$13,0),\"\")","v":""},{"$f":"IFERROR(VLOOKUP(B243&C243,誕生日花!E:F,2,FALSE),IFERROR(VLOOKUP(B243,誕生日花!E:F,2,FALSE),\"\"))","v":""}]
["甜橙","オレンジ","木","寛大",{"$f":"IFERROR(MATCH(B244,誕生月花!$B$2:$B$13,0),\"\")","v":""},{"$f":"IFERROR(VLOOKUP(B244&C244,誕生日花!E:F,2,FALSE),IFERROR(VLOOKUP(B244,誕生日花!E:F,2,FALSE),\"\"))","v":""}]
["甜橙","オレンジ","木","気前のよさ",{"$f":"IFERROR(MATCH(B245,誕生月花!$B$2:$B$13,0),\"\")","v":""},{"$f":"IFERROR(VLOOKUP(B245&C245,誕生日花!E:F,2,FALSE),IFERROR(VLOOKUP(B245,誕生日花!E:F,2,FALSE),\"\"))","v":""}]
["黄花コスモス","オレンジコスモス","","野生美",{"$f":"IFERROR(MATCH(B246,誕生月花!$B$2:$B$13,0),\"\")","v":""},{"$f":"IFERROR(VLOOKUP(B246&C246,誕生日花!E:F,2,FALSE),IFERROR(VLOOKUP(B246,誕生日花!E:F,2,FALSE),\"\"))","v":"2016-10-02"}]
["雀蘭（スズメラン）","オンシジウム","","気だての良さ",{"$f":"IFERROR(MATCH(B247,誕生月花!$B$2:$B$13,0),\"\")","v":""},{"$f":"IFERROR(VLOOKUP(B247&C247,誕生日花!E:F,2,FALSE),IFERROR(VLOOKUP(B247,誕生日花!E:F,2,FALSE),\"\"))","v":"2016-10-14"}]
["雀蘭（スズメラン）","オンシジウム","","一緒に踊って",{"$f":"IFERROR(MATCH(B248,誕生月花!$B$2:$B$13,0),\"\")","v":""},{"$f":"IFERROR(VLOOKUP(B248&C248,誕生日花!E:F,2,FALSE),IFERROR(VLOOKUP(B248,誕生日花!E:F,2,FALSE),\"\"))","v":"2016-10-14"}]
["雀蘭（スズメラン）","オンシジウム","","可憐",{"$f":"IFERROR(MATCH(B249,誕生月花!$B$2:$B$13,0),\"\")","v":""},{"$f":"IFERROR(VLOOKUP(B249&C249,誕生日花!E:F,2,FALSE),IFERROR(VLOOKUP(B249,誕生日花!E:F,2,FALSE),\"\"))","v":"2016-10-14"}]
["梔子（クチナシ）","ガーデニア","","幸せでとてもうれしい",{"$f":"IFERROR(MATCH(B250,誕生月花!$B$2:$B$13,0),\"\")","v":""},{"$f":"IFERROR(VLOOKUP(B250&C250,誕生日花!E:F,2,FALSE),IFERROR(VLOOKUP(B250,誕生日花!E:F,2,FALSE),\"\"))","v":""}]
["麝香撫子（ジャコウナデシコ）","カーネーション","","無垢で深い愛",{"$f":"IFERROR(MATCH(B251,誕生月花!$B$2:$B$13,0),\"\")","v":""},{"$f":"IFERROR(VLOOKUP(B251&C251,誕生日花!E:F,2,FALSE),IFERROR(VLOOKUP(B251,誕生日花!E:F,2,FALSE),\"\"))","v":""}]
["麝香撫子（ジャコウナデシコ）","カーネーション","","神の愛",{"$f":"IFERROR(MATCH(B252,誕生月花!$B$2:$B$13,0),\"\")","v":""},{"$f":"IFERROR(VLOOKUP(B252&C252,誕生日花!E:F,2,FALSE),IFERROR(VLOOKUP(B252,誕生日花!E:F,2,FALSE),\"\"))","v":""}]
["麝香撫子（ジャコウナデシコ）","カーネーション","ピンク","母の愛",{"$f":"IFERROR(MATCH(B253,誕生月花!$B$2:$B$13,0),\"\")","v":""},{"$f":"IFERROR(VLOOKUP(B253&C253,誕生日花!E:F,2,FALSE),IFERROR(VLOOKUP(B253,誕生日花!E:F,2,FALSE),\"\"))","v":"2016-01-06"}]
["麝香撫子（ジャコウナデシコ）","カーネーション","ピンク","女性の愛",{"$f":"IFERROR(MATCH(B254,誕生月花!$B$2:$B$13,0),\"\")","v":""},{"$f":"IFERROR(VLOOKUP(B254&C254,誕生日花!E:F,2,FALSE),IFERROR(VLOOKUP(B254,誕生日花!E:F,2,FALSE),\"\"))","v":"2016-01-06"}]
["麝香撫子（ジャコウナデシコ）","カーネーション","ピンク","熱愛",{"$f":"IFERROR(MATCH(B255,誕生月花!$B$2:$B$13,0),\"\")","v":""},{"$f":"IFERROR(VLOOKUP(B255&C255,誕生日花!E:F,2,FALSE),IFERROR(VLOOKUP(B255,誕生日花!E:F,2,FALSE),\"\"))","v":"2016-01-06"}]
["麝香撫子（ジャコウナデシコ）","カーネーション","ピンク","美しいしぐさ",{"$f":"IFERROR(MATCH(B256,誕生月花!$B$2:$B$13,0),\"\")","v":""},{"$f":"IFERROR(VLOOKUP(B256&C256,誕生日花!E:F,2,FALSE),IFERROR(VLOOKUP(B256,誕生日花!E:F,2,FALSE),\"\"))","v":"2016-01-06"}]
["麝香撫子（ジャコウナデシコ）","カーネーション","黄","ユニークな視点",{"$f":"IFERROR(MATCH(B257,誕生月花!$B$2:$B$13,0),\"\")","v":""},{"$f":"IFERROR(VLOOKUP(B257&C257,誕生日花!E:F,2,FALSE),IFERROR(VLOOKUP(B257,誕生日花!E:F,2,FALSE),\"\"))","v":""}]
["麝香撫子（ジャコウナデシコ）","カーネーション","黄","軽蔑",{"$f":"IFERROR(MATCH(B258,誕生月花!$B$2:$B$13,0),\"\")","v":""},{"$f":"IFERROR(VLOOKUP(B258&C258,誕生日花!E:F,2,FALSE),IFERROR(VLOOKUP(B258,誕生日花!E:F,2,FALSE),\"\"))","v":""}]
["麝香撫子（ジャコウナデシコ）","カーネーション","紫","気品",{"$f":"IFERROR(MATCH(B259,誕生月花!$B$2:$B$13,0),\"\")","v":""},{"$f":"IFERROR(VLOOKUP(B259&C259,誕生日花!E:F,2,FALSE),IFERROR(VLOOKUP(B259,誕生日花!E:F,2,FALSE),\"\"))","v":""}]
["麝香撫子（ジャコウナデシコ）","カーネーション","紫","誇り",{"$f":"IFERROR(MATCH(B260,誕生月花!$B$2:$B$13,0),\"\")","v":""},{"$f":"IFERROR(VLOOKUP(B260&C260,誕生日花!E:F,2,FALSE),IFERROR(VLOOKUP(B260,誕生日花!E:F,2,FALSE),\"\"))","v":""}]
["麝香撫子（ジャコウナデシコ）","カーネーション","青","永遠の幸福",{"$f":"IFERROR(MATCH(B261,誕生月花!$B$2:$B$13,0),\"\")","v":""},{"$f":"IFERROR(VLOOKUP(B261&C261,誕生日花!E:F,2,FALSE),IFERROR(VLOOKUP(B261,誕生日花!E:F,2,FALSE),\"\"))","v":""}]
["麝香撫子（ジャコウナデシコ）","カーネーション","赤","母への愛",{"$f":"IFERROR(MATCH(B262,誕生月花!$B$2:$B$13,0),\"\")","v":""},{"$f":"IFERROR(VLOOKUP(B262&C262,誕生日花!E:F,2,FALSE),IFERROR(VLOOKUP(B262,誕生日花!E:F,2,FALSE),\"\"))","v":"2016-05-08"}]
["麝香撫子（ジャコウナデシコ）","カーネーション","白","安定",{"$f":"IFERROR(MATCH(B263,誕生月花!$B$2:$B$13,0),\"\")","v":""},{"$f":"IFERROR(VLOOKUP(B263&C263,誕生日花!E:F,2,FALSE),IFERROR(VLOOKUP(B263,誕生日花!E:F,2,FALSE),\"\"))","v":"2016-11-06"}]
["麝香撫子（ジャコウナデシコ）","カーネーション","白","私の愛は生きています",{"$f":"IFERROR(MATCH(B264,誕生月花!$B$2:$B$13,0),\"\")","v":""},{"$f":"IFERROR(VLOOKUP(B264&C264,誕生日花!E:F,2,FALSE),IFERROR(VLOOKUP(B264,誕生日花!E:F,2,FALSE),\"\"))","v":"2016-11-06"}]
["麝香撫子（ジャコウナデシコ）","カーネーション","白","純粋な愛",{"$f":"IFERROR(MATCH(B265,誕生月花!$B$2:$B$13,0),\"\")","v":""},{"$f":"IFERROR(VLOOKUP(B265&C265,誕生日花!E:F,2,FALSE),IFERROR(VLOOKUP(B265,誕生日花!E:F,2,FALSE),\"\"))","v":"2016-11-06"}]
["宿根草","ガーベラ","","希望",{"$f":"IFERROR(MATCH(B266,誕生月花!$B$2:$B$13,0),\"\")","v":10},{"$f":"IFERROR(VLOOKUP(B266&C266,誕生日花!E:F,2,FALSE),IFERROR(VLOOKUP(B266,誕生日花!E:F,2,FALSE),\"\"))","v":""}]
["宿根草","ガーベラ","","常に前進",{"$f":"IFERROR(MATCH(B267,誕生月花!$B$2:$B$13,0),\"\")","v":10},{"$f":"IFERROR(VLOOKUP(B267&C267,誕生日花!E:F,2,FALSE),IFERROR(VLOOKUP(B267,誕生日花!E:F,2,FALSE),\"\"))","v":""}]
["宿根草","ガーベラ","","神秘的な美しさ",{"$f":"IFERROR(MATCH(B268,誕生月花!$B$2:$B$13,0),\"\")","v":10},{"$f":"IFERROR(VLOOKUP(B268&C268,誕生日花!E:F,2,FALSE),IFERROR(VLOOKUP(B268,誕生日花!E:F,2,FALSE),\"\"))","v":""}]
["宿根草","ガーベラ","オレンジ","続ける力",{"$f":"IFERROR(MATCH(B269,誕生月花!$B$2:$B$13,0),\"\")","v":10},{"$f":"IFERROR(VLOOKUP(B269&C269,誕生日花!E:F,2,FALSE),IFERROR(VLOOKUP(B269,誕生日花!E:F,2,FALSE),\"\"))","v":""}]
["宿根草","ガーベラ","オレンジ","我慢強さ",{"$f":"IFERROR(MATCH(B270,誕生月花!$B$2:$B$13,0),\"\")","v":10},{"$f":"IFERROR(VLOOKUP(B270&C270,誕生日花!E:F,2,FALSE),IFERROR(VLOOKUP(B270,誕生日花!E:F,2,FALSE),\"\"))","v":""}]
["宿根草","ガーベラ","スパイダー咲","崇高な美しさ",{"$f":"IFERROR(MATCH(B271,誕生月花!$B$2:$B$13,0),\"\")","v":10},{"$f":"IFERROR(VLOOKUP(B271&C271,誕生日花!E:F,2,FALSE),IFERROR(VLOOKUP(B271,誕生日花!E:F,2,FALSE),\"\"))","v":""}]
["宿根草","ガーベラ","ピンク","崇高美の探求",{"$f":"IFERROR(MATCH(B272,誕生月花!$B$2:$B$13,0),\"\")","v":10},{"$f":"IFERROR(VLOOKUP(B272&C272,誕生日花!E:F,2,FALSE),IFERROR(VLOOKUP(B272,誕生日花!E:F,2,FALSE),\"\"))","v":"2016-08-19"}]
["宿根草","ガーベラ","黄","究極美",{"$f":"IFERROR(MATCH(B273,誕生月花!$B$2:$B$13,0),\"\")","v":10},{"$f":"IFERROR(VLOOKUP(B273&C273,誕生日花!E:F,2,FALSE),IFERROR(VLOOKUP(B273,誕生日花!E:F,2,FALSE),\"\"))","v":""}]
["宿根草","ガーベラ","黄","親しみやすい",{"$f":"IFERROR(MATCH(B274,誕生月花!$B$2:$B$13,0),\"\")","v":10},{"$f":"IFERROR(VLOOKUP(B274&C274,誕生日花!E:F,2,FALSE),IFERROR(VLOOKUP(B274,誕生日花!E:F,2,FALSE),\"\"))","v":""}]
["宿根草","ガーベラ","赤","神秘的な魅力",{"$f":"IFERROR(MATCH(B275,誕生月花!$B$2:$B$13,0),\"\")","v":10},{"$f":"IFERROR(VLOOKUP(B275&C275,誕生日花!E:F,2,FALSE),IFERROR(VLOOKUP(B275,誕生日花!E:F,2,FALSE),\"\"))","v":""}]
["宿根草","ガーベラ","赤","神秘",{"$f":"IFERROR(MATCH(B276,誕生月花!$B$2:$B$13,0),\"\")","v":10},{"$f":"IFERROR(VLOOKUP(B276&C276,誕生日花!E:F,2,FALSE),IFERROR(VLOOKUP(B276,誕生日花!E:F,2,FALSE),\"\"))","v":""}]
["宿根草","ガーベラ","白","律儀",{"$f":"IFERROR(MATCH(B277,誕生月花!$B$2:$B$13,0),\"\")","v":10},{"$f":"IFERROR(VLOOKUP(B277&C277,誕生日花!E:F,2,FALSE),IFERROR(VLOOKUP(B277,誕生日花!E:F,2,FALSE),\"\"))","v":""}]
["楓","カエデ","","寡黙",{"$f":"IFERROR(MATCH(B278,誕生月花!$B$2:$B$13,0),\"\")","v":""},{"$f":"IFERROR(VLOOKUP(B278&C278,誕生日花!E:F,2,FALSE),IFERROR(VLOOKUP(B278,誕生日花!E:F,2,FALSE),\"\"))","v":""}]
["楓","カエデ","","遠慮",{"$f":"IFERROR(MATCH(B279,誕生月花!$B$2:$B$13,0),\"\")","v":""},{"$f":"IFERROR(VLOOKUP(B279&C279,誕生日花!E:F,2,FALSE),IFERROR(VLOOKUP(B279,誕生日花!E:F,2,FALSE),\"\"))","v":""}]
["楓","カエデ","","大切な思い出",{"$f":"IFERROR(MATCH(B280,誕生月花!$B$2:$B$13,0),\"\")","v":""},{"$f":"IFERROR(VLOOKUP(B280&C280,誕生日花!E:F,2,FALSE),IFERROR(VLOOKUP(B280,誕生日花!E:F,2,FALSE),\"\"))","v":""}]
["楓","カエデ","","美しい変化",{"$f":"IFERROR(MATCH(B281,誕生月花!$B$2:$B$13,0),\"\")","v":""},{"$f":"IFERROR(VLOOKUP(B281&C281,誕生日花!E:F,2,FALSE),IFERROR(VLOOKUP(B281,誕生日花!E:F,2,FALSE),\"\"))","v":""}]
["燕子花","カキツバタ","","幸運は必ず来る",{"$f":"IFERROR(MATCH(B282,誕生月花!$B$2:$B$13,0),\"\")","v":""},{"$f":"IFERROR(VLOOKUP(B282&C282,誕生日花!E:F,2,FALSE),IFERROR(VLOOKUP(B282,誕生日花!E:F,2,FALSE),\"\"))","v":"2016-03-25"}]
["燕子花","カキツバタ","","幸せは必ずくる",{"$f":"IFERROR(MATCH(B283,誕生月花!$B$2:$B$13,0),\"\")","v":""},{"$f":"IFERROR(VLOOKUP(B283&C283,誕生日花!E:F,2,FALSE),IFERROR(VLOOKUP(B283,誕生日花!E:F,2,FALSE),\"\"))","v":"2016-03-25"}]
["額紫陽花","ガクアジサイ","","素直",{"$f":"IFERROR(MATCH(B284,誕生月花!$B$2:$B$13,0),\"\")","v":""},{"$f":"IFERROR(VLOOKUP(B284&C284,誕生日花!E:F,2,FALSE),IFERROR(VLOOKUP(B284,誕生日花!E:F,2,FALSE),\"\"))","v":"2016-06-11"}]
["勲章菊（クンショウギク）","ガザニア","","天才",{"$f":"IFERROR(MATCH(B285,誕生月花!$B$2:$B$13,0),\"\")","v":""},{"$f":"IFERROR(VLOOKUP(B285&C285,誕生日花!E:F,2,FALSE),IFERROR(VLOOKUP(B285,誕生日花!E:F,2,FALSE),\"\"))","v":""}]
["勲章菊（クンショウギク）","ガザニア","","あなたを誇りに思う",{"$f":"IFERROR(MATCH(B286,誕生月花!$B$2:$B$13,0),\"\")","v":""},{"$f":"IFERROR(VLOOKUP(B286&C286,誕生日花!E:F,2,FALSE),IFERROR(VLOOKUP(B286,誕生日花!E:F,2,FALSE),\"\"))","v":""}]
["勲章菊（クンショウギク）","ガザニア","","きらびやか",{"$f":"IFERROR(MATCH(B287,誕生月花!$B$2:$B$13,0),\"\")","v":""},{"$f":"IFERROR(VLOOKUP(B287&C287,誕生日花!E:F,2,FALSE),IFERROR(VLOOKUP(B287,誕生日花!E:F,2,FALSE),\"\"))","v":""}]
["勲章菊（クンショウギク）","ガザニア","","潔白",{"$f":"IFERROR(MATCH(B288,誕生月花!$B$2:$B$13,0),\"\")","v":""},{"$f":"IFERROR(VLOOKUP(B288&C288,誕生日花!E:F,2,FALSE),IFERROR(VLOOKUP(B288,誕生日花!E:F,2,FALSE),\"\"))","v":""}]
["カサブランカ","カサブランカ","","威厳",{"$f":"IFERROR(MATCH(B289,誕生月花!$B$2:$B$13,0),\"\")","v":""},{"$f":"IFERROR(VLOOKUP(B289&C289,誕生日花!E:F,2,FALSE),IFERROR(VLOOKUP(B289,誕生日花!E:F,2,FALSE),\"\"))","v":""}]
["カサブランカ","カサブランカ","","高貴",{"$f":"IFERROR(MATCH(B290,誕生月花!$B$2:$B$13,0),\"\")","v":""},{"$f":"IFERROR(VLOOKUP(B290&C290,誕生日花!E:F,2,FALSE),IFERROR(VLOOKUP(B290,誕生日花!E:F,2,FALSE),\"\"))","v":""}]
["カサブランカ","カサブランカ","","純潔",{"$f":"IFERROR(MATCH(B291,誕生月花!$B$2:$B$13,0),\"\")","v":""},{"$f":"IFERROR(VLOOKUP(B291&C291,誕生日花!E:F,2,FALSE),IFERROR(VLOOKUP(B291,誕生日花!E:F,2,FALSE),\"\"))","v":""}]
["ガジュマル","ガジュマル","","沢山の幸せ",{"$f":"IFERROR(MATCH(B292,誕生月花!$B$2:$B$13,0),\"\")","v":""},{"$f":"IFERROR(VLOOKUP(B292&C292,誕生日花!E:F,2,FALSE),IFERROR(VLOOKUP(B292,誕生日花!E:F,2,FALSE),\"\"))","v":""}]
["かすみ草","カスミソウ","","夢見心地",{"$f":"IFERROR(MATCH(B293,誕生月花!$B$2:$B$13,0),\"\")","v":""},{"$f":"IFERROR(VLOOKUP(B293&C293,誕生日花!E:F,2,FALSE),IFERROR(VLOOKUP(B293,誕生日花!E:F,2,FALSE),\"\"))","v":"2016-05-09"}]
["かすみ草","カスミソウ","","幸福",{"$f":"IFERROR(MATCH(B294,誕生月花!$B$2:$B$13,0),\"\")","v":""},{"$f":"IFERROR(VLOOKUP(B294&C294,誕生日花!E:F,2,FALSE),IFERROR(VLOOKUP(B294,誕生日花!E:F,2,FALSE),\"\"))","v":"2016-05-09"}]
["かすみ草","カスミソウ","","親切",{"$f":"IFERROR(MATCH(B295,誕生月花!$B$2:$B$13,0),\"\")","v":""},{"$f":"IFERROR(VLOOKUP(B295&C295,誕生日花!E:F,2,FALSE),IFERROR(VLOOKUP(B295,誕生日花!E:F,2,FALSE),\"\"))","v":"2016-05-09"}]
["かすみ草","カスミソウ","","清らかな心",{"$f":"IFERROR(MATCH(B296,誕生月花!$B$2:$B$13,0),\"\")","v":""},{"$f":"IFERROR(VLOOKUP(B296&C296,誕生日花!E:F,2,FALSE),IFERROR(VLOOKUP(B296,誕生日花!E:F,2,FALSE),\"\"))","v":"2016-05-09"}]
["かすみ草","カスミソウ","","無邪気",{"$f":"IFERROR(MATCH(B297,誕生月花!$B$2:$B$13,0),\"\")","v":""},{"$f":"IFERROR(VLOOKUP(B297&C297,誕生日花!E:F,2,FALSE),IFERROR(VLOOKUP(B297,誕生日花!E:F,2,FALSE),\"\"))","v":"2016-05-09"}]
["かすみ草","カスミソウ","ピンク","感激",{"$f":"IFERROR(MATCH(B298,誕生月花!$B$2:$B$13,0),\"\")","v":""},{"$f":"IFERROR(VLOOKUP(B298&C298,誕生日花!E:F,2,FALSE),IFERROR(VLOOKUP(B298,誕生日花!E:F,2,FALSE),\"\"))","v":"2016-05-09"}]
["かすみ草","カスミソウ","ピンク","切なる願い",{"$f":"IFERROR(MATCH(B299,誕生月花!$B$2:$B$13,0),\"\")","v":""},{"$f":"IFERROR(VLOOKUP(B299&C299,誕生日花!E:F,2,FALSE),IFERROR(VLOOKUP(B299,誕生日花!E:F,2,FALSE),\"\"))","v":"2016-05-09"}]
["片栗","カタクリ","","寂しさに耐える",{"$f":"IFERROR(MATCH(B300,誕生月花!$B$2:$B$13,0),\"\")","v":""},{"$f":"IFERROR(VLOOKUP(B300&C300,誕生日花!E:F,2,FALSE),IFERROR(VLOOKUP(B300,誕生日花!E:F,2,FALSE),\"\"))","v":"2016-04-12"}]
["片栗","カタクリ","","初恋",{"$f":"IFERROR(MATCH(B301,誕生月花!$B$2:$B$13,0),\"\")","v":""},{"$f":"IFERROR(VLOOKUP(B301&C301,誕生日花!E:F,2,FALSE),IFERROR(VLOOKUP(B301,誕生日花!E:F,2,FALSE),\"\"))","v":"2016-04-12"}]
["酢漿草","カタバミ","","光輝く心",{"$f":"IFERROR(MATCH(B302,誕生月花!$B$2:$B$13,0),\"\")","v":""},{"$f":"IFERROR(VLOOKUP(B302&C302,誕生日花!E:F,2,FALSE),IFERROR(VLOOKUP(B302,誕生日花!E:F,2,FALSE),\"\"))","v":""}]
["酢漿草","カタバミ","","喜び",{"$f":"IFERROR(MATCH(B303,誕生月花!$B$2:$B$13,0),\"\")","v":""},{"$f":"IFERROR(VLOOKUP(B303&C303,誕生日花!E:F,2,FALSE),IFERROR(VLOOKUP(B303,誕生日花!E:F,2,FALSE),\"\"))","v":""}]
["酢漿草","カタバミ","","輝く心",{"$f":"IFERROR(MATCH(B304,誕生月花!$B$2:$B$13,0),\"\")","v":""},{"$f":"IFERROR(VLOOKUP(B304&C304,誕生日花!E:F,2,FALSE),IFERROR(VLOOKUP(B304,誕生日花!E:F,2,FALSE),\"\"))","v":""}]
["酢漿草","カタバミ","","母のやさしさ",{"$f":"IFERROR(MATCH(B305,誕生月花!$B$2:$B$13,0),\"\")","v":""},{"$f":"IFERROR(VLOOKUP(B305&C305,誕生日花!E:F,2,FALSE),IFERROR(VLOOKUP(B305,誕生日花!E:F,2,FALSE),\"\"))","v":""}]
["カトレア","カトレア","","成熟した大人の魅力",{"$f":"IFERROR(MATCH(B306,誕生月花!$B$2:$B$13,0),\"\")","v":""},{"$f":"IFERROR(VLOOKUP(B306&C306,誕生日花!E:F,2,FALSE),IFERROR(VLOOKUP(B306,誕生日花!E:F,2,FALSE),\"\"))","v":"2016-12-13"}]
["カトレア","カトレア","","魔力",{"$f":"IFERROR(MATCH(B307,誕生月花!$B$2:$B$13,0),\"\")","v":""},{"$f":"IFERROR(VLOOKUP(B307&C307,誕生日花!E:F,2,FALSE),IFERROR(VLOOKUP(B307,誕生日花!E:F,2,FALSE),\"\"))","v":"2016-12-13"}]
["カトレア","カトレア","","魅惑的",{"$f":"IFERROR(MATCH(B308,誕生月花!$B$2:$B$13,0),\"\")","v":""},{"$f":"IFERROR(VLOOKUP(B308&C308,誕生日花!E:F,2,FALSE),IFERROR(VLOOKUP(B308,誕生日花!E:F,2,FALSE),\"\"))","v":"2016-12-13"}]
["カトレア","カトレア","","優美な貴婦人",{"$f":"IFERROR(MATCH(B309,誕生月花!$B$2:$B$13,0),\"\")","v":""},{"$f":"IFERROR(VLOOKUP(B309&C309,誕生日花!E:F,2,FALSE),IFERROR(VLOOKUP(B309,誕生日花!E:F,2,FALSE),\"\"))","v":"2016-12-13"}]
["鹿の子百合","カノコユリ","","慈悲深さ",{"$f":"IFERROR(MATCH(B310,誕生月花!$B$2:$B$13,0),\"\")","v":""},{"$f":"IFERROR(VLOOKUP(B310&C310,誕生日花!E:F,2,FALSE),IFERROR(VLOOKUP(B310,誕生日花!E:F,2,FALSE),\"\"))","v":"2016-08-04"}]
["鹿の子百合","カノコユリ","","上品",{"$f":"IFERROR(MATCH(B311,誕生月花!$B$2:$B$13,0),\"\")","v":""},{"$f":"IFERROR(VLOOKUP(B311&C311,誕生日花!E:F,2,FALSE),IFERROR(VLOOKUP(B311,誕生日花!E:F,2,FALSE),\"\"))","v":"2016-08-04"}]
["莢蒾","ガマズミ","","愛は死より強し",{"$f":"IFERROR(MATCH(B312,誕生月花!$B$2:$B$13,0),\"\")","v":""},{"$f":"IFERROR(VLOOKUP(B312&C312,誕生日花!E:F,2,FALSE),IFERROR(VLOOKUP(B312,誕生日花!E:F,2,FALSE),\"\"))","v":""}]
["莢蒾","ガマズミ","","結合",{"$f":"IFERROR(MATCH(B313,誕生月花!$B$2:$B$13,0),\"\")","v":""},{"$f":"IFERROR(VLOOKUP(B313&C313,誕生日花!E:F,2,FALSE),IFERROR(VLOOKUP(B313,誕生日花!E:F,2,FALSE),\"\"))","v":""}]
["莢蒾","ガマズミ","","私を無視しないで",{"$f":"IFERROR(MATCH(B314,誕生月花!$B$2:$B$13,0),\"\")","v":""},{"$f":"IFERROR(VLOOKUP(B314&C314,誕生日花!E:F,2,FALSE),IFERROR(VLOOKUP(B314,誕生日花!E:F,2,FALSE),\"\"))","v":""}]
["椿（ツバキ）","カメリア","寒椿","愛嬌",{"$f":"IFERROR(MATCH(B315,誕生月花!$B$2:$B$13,0),\"\")","v":""},{"$f":"IFERROR(VLOOKUP(B315&C315,誕生日花!E:F,2,FALSE),IFERROR(VLOOKUP(B315,誕生日花!E:F,2,FALSE),\"\"))","v":""}]
["椿（ツバキ）","カメリア","赤","生来の価値",{"$f":"IFERROR(MATCH(B316,誕生月花!$B$2:$B$13,0),\"\")","v":""},{"$f":"IFERROR(VLOOKUP(B316&C316,誕生日花!E:F,2,FALSE),IFERROR(VLOOKUP(B316,誕生日花!E:F,2,FALSE),\"\"))","v":""}]
["椿（ツバキ）","カメリア","白椿","愛らしさ",{"$f":"IFERROR(MATCH(B317,誕生月花!$B$2:$B$13,0),\"\")","v":""},{"$f":"IFERROR(VLOOKUP(B317&C317,誕生日花!E:F,2,FALSE),IFERROR(VLOOKUP(B317,誕生日花!E:F,2,FALSE),\"\"))","v":""}]
["加密列（カミツレ）","カモミール","","逆境に負けぬ強さ",{"$f":"IFERROR(MATCH(B318,誕生月花!$B$2:$B$13,0),\"\")","v":""},{"$f":"IFERROR(VLOOKUP(B318&C318,誕生日花!E:F,2,FALSE),IFERROR(VLOOKUP(B318,誕生日花!E:F,2,FALSE),\"\"))","v":"2016-05-22"}]
["加密列（カミツレ）","カモミール","","逆境で生まれる力",{"$f":"IFERROR(MATCH(B319,誕生月花!$B$2:$B$13,0),\"\")","v":""},{"$f":"IFERROR(VLOOKUP(B319&C319,誕生日花!E:F,2,FALSE),IFERROR(VLOOKUP(B319,誕生日花!E:F,2,FALSE),\"\"))","v":"2016-05-22"}]
["加密列（カミツレ）","カモミール","","逆境に耐える",{"$f":"IFERROR(MATCH(B320,誕生月花!$B$2:$B$13,0),\"\")","v":""},{"$f":"IFERROR(VLOOKUP(B320&C320,誕生日花!E:F,2,FALSE),IFERROR(VLOOKUP(B320,誕生日花!E:F,2,FALSE),\"\"))","v":"2016-05-22"}]
["和蘭海芋（オランダカイウ）","カラー","","乙女のしとやかさ",{"$f":"IFERROR(MATCH(B321,誕生月花!$B$2:$B$13,0),\"\")","v":""},{"$f":"IFERROR(VLOOKUP(B321&C321,誕生日花!E:F,2,FALSE),IFERROR(VLOOKUP(B321,誕生日花!E:F,2,FALSE),\"\"))","v":""}]
["和蘭海芋（オランダカイウ）","カラー","","華麗なる美",{"$f":"IFERROR(MATCH(B322,誕生月花!$B$2:$B$13,0),\"\")","v":""},{"$f":"IFERROR(VLOOKUP(B322&C322,誕生日花!E:F,2,FALSE),IFERROR(VLOOKUP(B322,誕生日花!E:F,2,FALSE),\"\"))","v":""}]
["和蘭海芋（オランダカイウ）","カラー","","清浄",{"$f":"IFERROR(MATCH(B323,誕生月花!$B$2:$B$13,0),\"\")","v":""},{"$f":"IFERROR(VLOOKUP(B323&C323,誕生日花!E:F,2,FALSE),IFERROR(VLOOKUP(B323,誕生日花!E:F,2,FALSE),\"\"))","v":""}]
["和蘭海芋（オランダカイウ）","カラー","黄","熱意",{"$f":"IFERROR(MATCH(B324,誕生月花!$B$2:$B$13,0),\"\")","v":""},{"$f":"IFERROR(VLOOKUP(B324&C324,誕生日花!E:F,2,FALSE),IFERROR(VLOOKUP(B324,誕生日花!E:F,2,FALSE),\"\"))","v":"2016-11-18"}]
["和蘭海芋（オランダカイウ）","カラー","色","情熱と勇敢さ",{"$f":"IFERROR(MATCH(B325,誕生月花!$B$2:$B$13,0),\"\")","v":""},{"$f":"IFERROR(VLOOKUP(B325&C325,誕生日花!E:F,2,FALSE),IFERROR(VLOOKUP(B325,誕生日花!E:F,2,FALSE),\"\"))","v":""}]
["和蘭海芋（オランダカイウ）","カラー","白","清純さ",{"$f":"IFERROR(MATCH(B326,誕生月花!$B$2:$B$13,0),\"\")","v":""},{"$f":"IFERROR(VLOOKUP(B326&C326,誕生日花!E:F,2,FALSE),IFERROR(VLOOKUP(B326,誕生日花!E:F,2,FALSE),\"\"))","v":"2016-07-02"}]
["烏瓜","カラスウリ","","よき便り",{"$f":"IFERROR(MATCH(B327,誕生月花!$B$2:$B$13,0),\"\")","v":""},{"$f":"IFERROR(VLOOKUP(B327&C327,誕生日花!E:F,2,FALSE),IFERROR(VLOOKUP(B327,誕生日花!E:F,2,FALSE),\"\"))","v":""}]
["烏瓜","カラスウリ","","誠実",{"$f":"IFERROR(MATCH(B328,誕生月花!$B$2:$B$13,0),\"\")","v":""},{"$f":"IFERROR(VLOOKUP(B328&C328,誕生日花!E:F,2,FALSE),IFERROR(VLOOKUP(B328,誕生日花!E:F,2,FALSE),\"\"))","v":""}]
["烏瓜","カラスウリ","","男ぎらい",{"$f":"IFERROR(MATCH(B329,誕生月花!$B$2:$B$13,0),\"\")","v":""},{"$f":"IFERROR(VLOOKUP(B329&C329,誕生日花!E:F,2,FALSE),IFERROR(VLOOKUP(B329,誕生日花!E:F,2,FALSE),\"\"))","v":""}]
["紅弁慶（ベニベンケイ）","カランコエ","","幸せを告げる",{"$f":"IFERROR(MATCH(B330,誕生月花!$B$2:$B$13,0),\"\")","v":""},{"$f":"IFERROR(VLOOKUP(B330&C330,誕生日花!E:F,2,FALSE),IFERROR(VLOOKUP(B330,誕生日花!E:F,2,FALSE),\"\"))","v":""}]
["紅弁慶（ベニベンケイ）","カランコエ","","あなたを守る",{"$f":"IFERROR(MATCH(B331,誕生月花!$B$2:$B$13,0),\"\")","v":""},{"$f":"IFERROR(VLOOKUP(B331&C331,誕生日花!E:F,2,FALSE),IFERROR(VLOOKUP(B331,誕生日花!E:F,2,FALSE),\"\"))","v":""}]
["紅弁慶（ベニベンケイ）","カランコエ","","おおらかな心",{"$f":"IFERROR(MATCH(B332,誕生月花!$B$2:$B$13,0),\"\")","v":""},{"$f":"IFERROR(VLOOKUP(B332&C332,誕生日花!E:F,2,FALSE),IFERROR(VLOOKUP(B332,誕生日花!E:F,2,FALSE),\"\"))","v":""}]
["紅弁慶（ベニベンケイ）","カランコエ","","たくさんの小さな思い出",{"$f":"IFERROR(MATCH(B333,誕生月花!$B$2:$B$13,0),\"\")","v":""},{"$f":"IFERROR(VLOOKUP(B333&C333,誕生日花!E:F,2,FALSE),IFERROR(VLOOKUP(B333,誕生日花!E:F,2,FALSE),\"\"))","v":""}]
["紅弁慶（ベニベンケイ）","カランコエ","","幸福を告げる",{"$f":"IFERROR(MATCH(B334,誕生月花!$B$2:$B$13,0),\"\")","v":""},{"$f":"IFERROR(VLOOKUP(B334&C334,誕生日花!E:F,2,FALSE),IFERROR(VLOOKUP(B334,誕生日花!E:F,2,FALSE),\"\"))","v":""}]
["海老根（エビネ）","カランセ","","真実",{"$f":"IFERROR(MATCH(B335,誕生月花!$B$2:$B$13,0),\"\")","v":""},{"$f":"IFERROR(VLOOKUP(B335&C335,誕生日花!E:F,2,FALSE),IFERROR(VLOOKUP(B335,誕生日花!E:F,2,FALSE),\"\"))","v":""}]
["花菱草（ハナビシソウ）","カリフォルニアポピー","","友情",{"$f":"IFERROR(MATCH(B336,誕生月花!$B$2:$B$13,0),\"\")","v":""},{"$f":"IFERROR(VLOOKUP(B336&C336,誕生日花!E:F,2,FALSE),IFERROR(VLOOKUP(B336,誕生日花!E:F,2,FALSE),\"\"))","v":"2016-04-19"}]
["花梨","カリン","","豊麗",{"$f":"IFERROR(MATCH(B337,誕生月花!$B$2:$B$13,0),\"\")","v":""},{"$f":"IFERROR(VLOOKUP(B337&C337,誕生日花!E:F,2,FALSE),IFERROR(VLOOKUP(B337,誕生日花!E:F,2,FALSE),\"\"))","v":""}]
["花梨","カリン","","唯一の恋",{"$f":"IFERROR(MATCH(B338,誕生月花!$B$2:$B$13,0),\"\")","v":""},{"$f":"IFERROR(VLOOKUP(B338&C338,誕生日花!E:F,2,FALSE),IFERROR(VLOOKUP(B338,誕生日花!E:F,2,FALSE),\"\"))","v":""}]
["巾着草（キンチャクソウ）","カルセオラリア","","私の伴侶",{"$f":"IFERROR(MATCH(B339,誕生月花!$B$2:$B$13,0),\"\")","v":""},{"$f":"IFERROR(VLOOKUP(B339&C339,誕生日花!E:F,2,FALSE),IFERROR(VLOOKUP(B339,誕生日花!E:F,2,FALSE),\"\"))","v":"2016-06-07"}]
["アメリカ石楠花（アメリカシャクナゲ）","カルミア","","大きな希望",{"$f":"IFERROR(MATCH(B340,誕生月花!$B$2:$B$13,0),\"\")","v":""},{"$f":"IFERROR(VLOOKUP(B340&C340,誕生日花!E:F,2,FALSE),IFERROR(VLOOKUP(B340,誕生日花!E:F,2,FALSE),\"\"))","v":""}]
["アメリカ石楠花（アメリカシャクナゲ）","カルミア","","野心",{"$f":"IFERROR(MATCH(B341,誕生月花!$B$2:$B$13,0),\"\")","v":""},{"$f":"IFERROR(VLOOKUP(B341&C341,誕生日花!E:F,2,FALSE),IFERROR(VLOOKUP(B341,誕生日花!E:F,2,FALSE),\"\"))","v":""}]
["アメリカ石楠花（アメリカシャクナゲ）","カルミア","","優美な女性",{"$f":"IFERROR(MATCH(B342,誕生月花!$B$2:$B$13,0),\"\")","v":""},{"$f":"IFERROR(VLOOKUP(B342&C342,誕生日花!E:F,2,FALSE),IFERROR(VLOOKUP(B342,誕生日花!E:F,2,FALSE),\"\"))","v":""}]
["アメリカ石楠花（アメリカシャクナゲ）","カルミヤ","","賞賛",{"$f":"IFERROR(MATCH(B343,誕生月花!$B$2:$B$13,0),\"\")","v":""},{"$f":"IFERROR(VLOOKUP(B343&C343,誕生日花!E:F,2,FALSE),IFERROR(VLOOKUP(B343,誕生日花!E:F,2,FALSE),\"\"))","v":"2016-04-27"}]
["素馨（ソケイ）","カロライナジャスミン","","甘いささやき",{"$f":"IFERROR(MATCH(B344,誕生月花!$B$2:$B$13,0),\"\")","v":""},{"$f":"IFERROR(VLOOKUP(B344&C344,誕生日花!E:F,2,FALSE),IFERROR(VLOOKUP(B344,誕生日花!E:F,2,FALSE),\"\"))","v":""}]
["素馨（ソケイ）","カロライナジャスミン","","長寿",{"$f":"IFERROR(MATCH(B345,誕生月花!$B$2:$B$13,0),\"\")","v":""},{"$f":"IFERROR(VLOOKUP(B345&C345,誕生日花!E:F,2,FALSE),IFERROR(VLOOKUP(B345,誕生日花!E:F,2,FALSE),\"\"))","v":""}]
["カンガルーポー","カンガルーポー","","不思議",{"$f":"IFERROR(MATCH(B346,誕生月花!$B$2:$B$13,0),\"\")","v":""},{"$f":"IFERROR(VLOOKUP(B346&C346,誕生日花!E:F,2,FALSE),IFERROR(VLOOKUP(B346,誕生日花!E:F,2,FALSE),\"\"))","v":"2016-12-09"}]
["寒菊","カンギク","","真の強さ",{"$f":"IFERROR(MATCH(B347,誕生月花!$B$2:$B$13,0),\"\")","v":""},{"$f":"IFERROR(VLOOKUP(B347&C347,誕生日花!E:F,2,FALSE),IFERROR(VLOOKUP(B347,誕生日花!E:F,2,FALSE),\"\"))","v":"2016-12-31"}]
["寒桜","カンザクラ","","気まぐれ",{"$f":"IFERROR(MATCH(B348,誕生月花!$B$2:$B$13,0),\"\")","v":""},{"$f":"IFERROR(VLOOKUP(B348&C348,誕生日花!E:F,2,FALSE),IFERROR(VLOOKUP(B348,誕生日花!E:F,2,FALSE),\"\"))","v":""}]
["寒椿","カンツバキ","","謙譲",{"$f":"IFERROR(MATCH(B349,誕生月花!$B$2:$B$13,0),\"\")","v":""},{"$f":"IFERROR(VLOOKUP(B349&C349,誕生日花!E:F,2,FALSE),IFERROR(VLOOKUP(B349,誕生日花!E:F,2,FALSE),\"\"))","v":"2016-01-12"}]
["檀特（ダンドク）","カンナ","","情熱と快活",{"$f":"IFERROR(MATCH(B350,誕生月花!$B$2:$B$13,0),\"\")","v":""},{"$f":"IFERROR(VLOOKUP(B350&C350,誕生日花!E:F,2,FALSE),IFERROR(VLOOKUP(B350,誕生日花!E:F,2,FALSE),\"\"))","v":"2016-07-15"}]
["檀特（ダンドク）","カンナ","","永遠",{"$f":"IFERROR(MATCH(B351,誕生月花!$B$2:$B$13,0),\"\")","v":""},{"$f":"IFERROR(VLOOKUP(B351&C351,誕生日花!E:F,2,FALSE),IFERROR(VLOOKUP(B351,誕生日花!E:F,2,FALSE),\"\"))","v":"2016-07-15"}]
["檀特（ダンドク）","カンナ","","快活",{"$f":"IFERROR(MATCH(B352,誕生月花!$B$2:$B$13,0),\"\")","v":""},{"$f":"IFERROR(VLOOKUP(B352&C352,誕生日花!E:F,2,FALSE),IFERROR(VLOOKUP(B352,誕生日花!E:F,2,FALSE),\"\"))","v":"2016-07-15"}]
["檀特（ダンドク）","カンナ","","情熱",{"$f":"IFERROR(MATCH(B353,誕生月花!$B$2:$B$13,0),\"\")","v":""},{"$f":"IFERROR(VLOOKUP(B353&C353,誕生日花!E:F,2,FALSE),IFERROR(VLOOKUP(B353,誕生日花!E:F,2,FALSE),\"\"))","v":"2016-07-15"}]
["檀特（ダンドク）","カンナ","","妄想",{"$f":"IFERROR(MATCH(B354,誕生月花!$B$2:$B$13,0),\"\")","v":""},{"$f":"IFERROR(VLOOKUP(B354&C354,誕生日花!E:F,2,FALSE),IFERROR(VLOOKUP(B354,誕生日花!E:F,2,FALSE),\"\"))","v":"2016-07-15"}]
["風鈴草（フウリンソウ）","カンパニュラ","","高貴",{"$f":"IFERROR(MATCH(B355,誕生月花!$B$2:$B$13,0),\"\")","v":""},{"$f":"IFERROR(VLOOKUP(B355&C355,誕生日花!E:F,2,FALSE),IFERROR(VLOOKUP(B355,誕生日花!E:F,2,FALSE),\"\"))","v":"2016-06-16"}]
["風鈴草（フウリンソウ）","カンパニュラ","","感謝",{"$f":"IFERROR(MATCH(B356,誕生月花!$B$2:$B$13,0),\"\")","v":""},{"$f":"IFERROR(VLOOKUP(B356&C356,誕生日花!E:F,2,FALSE),IFERROR(VLOOKUP(B356,誕生日花!E:F,2,FALSE),\"\"))","v":"2016-06-16"}]
["風鈴草（フウリンソウ）","カンパニュラ","","誠実",{"$f":"IFERROR(MATCH(B357,誕生月花!$B$2:$B$13,0),\"\")","v":""},{"$f":"IFERROR(VLOOKUP(B357&C357,誕生日花!E:F,2,FALSE),IFERROR(VLOOKUP(B357,誕生日花!E:F,2,FALSE),\"\"))","v":"2016-06-16"}]
["風鈴草（フウリンソウ）","カンパニュラ","","節操",{"$f":"IFERROR(MATCH(B358,誕生月花!$B$2:$B$13,0),\"\")","v":""},{"$f":"IFERROR(VLOOKUP(B358&C358,誕生日花!E:F,2,FALSE),IFERROR(VLOOKUP(B358,誕生日花!E:F,2,FALSE),\"\"))","v":"2016-06-16"}]
["桔梗","キキョウ","","変わらぬ愛",{"$f":"IFERROR(MATCH(B359,誕生月花!$B$2:$B$13,0),\"\")","v":""},{"$f":"IFERROR(VLOOKUP(B359&C359,誕生日花!E:F,2,FALSE),IFERROR(VLOOKUP(B359,誕生日花!E:F,2,FALSE),\"\"))","v":"2016-09-21"}]
["桔梗","キキョウ","","永遠の愛",{"$f":"IFERROR(MATCH(B360,誕生月花!$B$2:$B$13,0),\"\")","v":""},{"$f":"IFERROR(VLOOKUP(B360&C360,誕生日花!E:F,2,FALSE),IFERROR(VLOOKUP(B360,誕生日花!E:F,2,FALSE),\"\"))","v":"2016-09-21"}]
["桔梗","キキョウ","","従順",{"$f":"IFERROR(MATCH(B361,誕生月花!$B$2:$B$13,0),\"\")","v":""},{"$f":"IFERROR(VLOOKUP(B361&C361,誕生日花!E:F,2,FALSE),IFERROR(VLOOKUP(B361,誕生日花!E:F,2,FALSE),\"\"))","v":"2016-09-21"}]
["桔梗","キキョウ","","清楚",{"$f":"IFERROR(MATCH(B362,誕生月花!$B$2:$B$13,0),\"\")","v":""},{"$f":"IFERROR(VLOOKUP(B362&C362,誕生日花!E:F,2,FALSE),IFERROR(VLOOKUP(B362,誕生日花!E:F,2,FALSE),\"\"))","v":"2016-09-21"}]
["桔梗","キキョウ","","誠実",{"$f":"IFERROR(MATCH(B363,誕生月花!$B$2:$B$13,0),\"\")","v":""},{"$f":"IFERROR(VLOOKUP(B363&C363,誕生日花!E:F,2,FALSE),IFERROR(VLOOKUP(B363,誕生日花!E:F,2,FALSE),\"\"))","v":"2016-09-21"}]
["桔梗撫子","キキョウナデシコ","","あなたの望みを受けます",{"$f":"IFERROR(MATCH(B364,誕生月花!$B$2:$B$13,0),\"\")","v":""},{"$f":"IFERROR(VLOOKUP(B364&C364,誕生日花!E:F,2,FALSE),IFERROR(VLOOKUP(B364,誕生日花!E:F,2,FALSE),\"\"))","v":""}]
["菊","キク","","高貴",{"$f":"IFERROR(MATCH(B365,誕生月花!$B$2:$B$13,0),\"\")","v":""},{"$f":"IFERROR(VLOOKUP(B365&C365,誕生日花!E:F,2,FALSE),IFERROR(VLOOKUP(B365,誕生日花!E:F,2,FALSE),\"\"))","v":"2016-09-02"}]
["菊","キク","","高潔",{"$f":"IFERROR(MATCH(B366,誕生月花!$B$2:$B$13,0),\"\")","v":""},{"$f":"IFERROR(VLOOKUP(B366&C366,誕生日花!E:F,2,FALSE),IFERROR(VLOOKUP(B366,誕生日花!E:F,2,FALSE),\"\"))","v":"2016-09-02"}]
["菊","キク","","高尚",{"$f":"IFERROR(MATCH(B367,誕生月花!$B$2:$B$13,0),\"\")","v":""},{"$f":"IFERROR(VLOOKUP(B367&C367,誕生日花!E:F,2,FALSE),IFERROR(VLOOKUP(B367,誕生日花!E:F,2,FALSE),\"\"))","v":"2016-09-02"}]
["菊","キク","","王侯にふさわしい壮麗さ",{"$f":"IFERROR(MATCH(B368,誕生月花!$B$2:$B$13,0),\"\")","v":""},{"$f":"IFERROR(VLOOKUP(B368&C368,誕生日花!E:F,2,FALSE),IFERROR(VLOOKUP(B368,誕生日花!E:F,2,FALSE),\"\"))","v":"2016-09-02"}]
["菊","キク","うら菊","熟考",{"$f":"IFERROR(MATCH(B369,誕生月花!$B$2:$B$13,0),\"\")","v":""},{"$f":"IFERROR(VLOOKUP(B369&C369,誕生日花!E:F,2,FALSE),IFERROR(VLOOKUP(B369,誕生日花!E:F,2,FALSE),\"\"))","v":"2016-09-02"}]
["菊","キク","ポンポン咲き","嬉しい夢",{"$f":"IFERROR(MATCH(B370,誕生月花!$B$2:$B$13,0),\"\")","v":""},{"$f":"IFERROR(VLOOKUP(B370&C370,誕生日花!E:F,2,FALSE),IFERROR(VLOOKUP(B370,誕生日花!E:F,2,FALSE),\"\"))","v":"2016-09-02"}]
["菊","キク","黄","いつも満たされる",{"$f":"IFERROR(MATCH(B371,誕生月花!$B$2:$B$13,0),\"\")","v":""},{"$f":"IFERROR(VLOOKUP(B371&C371,誕生日花!E:F,2,FALSE),IFERROR(VLOOKUP(B371,誕生日花!E:F,2,FALSE),\"\"))","v":"2016-09-02"}]
["菊","キク","黄","破れた恋",{"$f":"IFERROR(MATCH(B372,誕生月花!$B$2:$B$13,0),\"\")","v":""},{"$f":"IFERROR(VLOOKUP(B372&C372,誕生日花!E:F,2,FALSE),IFERROR(VLOOKUP(B372,誕生日花!E:F,2,FALSE),\"\"))","v":"2016-09-02"}]
["菊","キク","紅","ダイナミック",{"$f":"IFERROR(MATCH(B373,誕生月花!$B$2:$B$13,0),\"\")","v":""},{"$f":"IFERROR(VLOOKUP(B373&C373,誕生日花!E:F,2,FALSE),IFERROR(VLOOKUP(B373,誕生日花!E:F,2,FALSE),\"\"))","v":"2016-09-02"}]
["菊","キク","紫紅","社会への愛",{"$f":"IFERROR(MATCH(B374,誕生月花!$B$2:$B$13,0),\"\")","v":""},{"$f":"IFERROR(VLOOKUP(B374&C374,誕生日花!E:F,2,FALSE),IFERROR(VLOOKUP(B374,誕生日花!E:F,2,FALSE),\"\"))","v":"2016-09-02"}]
["菊","キク","赤","あなたを愛してます",{"$f":"IFERROR(MATCH(B375,誕生月花!$B$2:$B$13,0),\"\")","v":""},{"$f":"IFERROR(VLOOKUP(B375&C375,誕生日花!E:F,2,FALSE),IFERROR(VLOOKUP(B375,誕生日花!E:F,2,FALSE),\"\"))","v":"2016-09-02"}]
["菊","キク","大菊","あなたを心から愛します。",{"$f":"IFERROR(MATCH(B376,誕生月花!$B$2:$B$13,0),\"\")","v":""},{"$f":"IFERROR(VLOOKUP(B376&C376,誕生日花!E:F,2,FALSE),IFERROR(VLOOKUP(B376,誕生日花!E:F,2,FALSE),\"\"))","v":"2016-09-02"}]
["菊","キク","白","真実を求める",{"$f":"IFERROR(MATCH(B377,誕生月花!$B$2:$B$13,0),\"\")","v":""},{"$f":"IFERROR(VLOOKUP(B377&C377,誕生日花!E:F,2,FALSE),IFERROR(VLOOKUP(B377,誕生日花!E:F,2,FALSE),\"\"))","v":"2016-09-02"}]
["菊","キク","白","真実",{"$f":"IFERROR(MATCH(B378,誕生月花!$B$2:$B$13,0),\"\")","v":""},{"$f":"IFERROR(VLOOKUP(B378&C378,誕生日花!E:F,2,FALSE),IFERROR(VLOOKUP(B378,誕生日花!E:F,2,FALSE),\"\"))","v":"2016-09-02"}]
["黄菖蒲","キショウブ","","消息",{"$f":"IFERROR(MATCH(B379,誕生月花!$B$2:$B$13,0),\"\")","v":""},{"$f":"IFERROR(VLOOKUP(B379&C379,誕生日花!E:F,2,FALSE),IFERROR(VLOOKUP(B379,誕生日花!E:F,2,FALSE),\"\"))","v":"2016-05-31"}]
["黄花コスモス","キバナコスモス","","野性的な美しさ",{"$f":"IFERROR(MATCH(B380,誕生月花!$B$2:$B$13,0),\"\")","v":""},{"$f":"IFERROR(VLOOKUP(B380&C380,誕生日花!E:F,2,FALSE),IFERROR(VLOOKUP(B380,誕生日花!E:F,2,FALSE),\"\"))","v":""}]
["貴船菊","キブネギク","","多感なとき",{"$f":"IFERROR(MATCH(B381,誕生月花!$B$2:$B$13,0),\"\")","v":""},{"$f":"IFERROR(VLOOKUP(B381&C381,誕生日花!E:F,2,FALSE),IFERROR(VLOOKUP(B381,誕生日花!E:F,2,FALSE),\"\"))","v":"2016-10-12"}]
["擬宝珠","ギボウシ","","沈静",{"$f":"IFERROR(MATCH(B382,誕生月花!$B$2:$B$13,0),\"\")","v":""},{"$f":"IFERROR(VLOOKUP(B382&C382,誕生日花!E:F,2,FALSE),IFERROR(VLOOKUP(B382,誕生日花!E:F,2,FALSE),\"\"))","v":""}]
["屈曲花（マガリバナ）","キャンディタフト","","復活",{"$f":"IFERROR(MATCH(B383,誕生月花!$B$2:$B$13,0),\"\")","v":""},{"$f":"IFERROR(VLOOKUP(B383&C383,誕生日花!E:F,2,FALSE),IFERROR(VLOOKUP(B383,誕生日花!E:F,2,FALSE),\"\"))","v":"2016-03-12"}]
["夾竹桃","キョウチクトウ","","親友",{"$f":"IFERROR(MATCH(B384,誕生月花!$B$2:$B$13,0),\"\")","v":""},{"$f":"IFERROR(VLOOKUP(B384&C384,誕生日花!E:F,2,FALSE),IFERROR(VLOOKUP(B384,誕生日花!E:F,2,FALSE),\"\"))","v":""}]
["夾竹桃","キョウチクトウ","","危険",{"$f":"IFERROR(MATCH(B385,誕生月花!$B$2:$B$13,0),\"\")","v":""},{"$f":"IFERROR(VLOOKUP(B385&C385,誕生日花!E:F,2,FALSE),IFERROR(VLOOKUP(B385,誕生日花!E:F,2,FALSE),\"\"))","v":""}]
["夾竹桃","キョウチクトウ","","注意",{"$f":"IFERROR(MATCH(B386,誕生月花!$B$2:$B$13,0),\"\")","v":""},{"$f":"IFERROR(VLOOKUP(B386&C386,誕生日花!E:F,2,FALSE),IFERROR(VLOOKUP(B386,誕生日花!E:F,2,FALSE),\"\"))","v":""}]
["夾竹桃","キョウチクトウ","","用心",{"$f":"IFERROR(MATCH(B387,誕生月花!$B$2:$B$13,0),\"\")","v":""},{"$f":"IFERROR(VLOOKUP(B387&C387,誕生日花!E:F,2,FALSE),IFERROR(VLOOKUP(B387,誕生日花!E:F,2,FALSE),\"\"))","v":""}]
["桐","キリ","","高尚",{"$f":"IFERROR(MATCH(B388,誕生月花!$B$2:$B$13,0),\"\")","v":""},{"$f":"IFERROR(VLOOKUP(B388&C388,誕生日花!E:F,2,FALSE),IFERROR(VLOOKUP(B388,誕生日花!E:F,2,FALSE),\"\"))","v":""}]
["笛吹水仙（フエサキスイセン） ","キルタンサス","","ロマンティック",{"$f":"IFERROR(MATCH(B389,誕生月花!$B$2:$B$13,0),\"\")","v":""},{"$f":"IFERROR(VLOOKUP(B389&C389,誕生日花!E:F,2,FALSE),IFERROR(VLOOKUP(B389,誕生日花!E:F,2,FALSE),\"\"))","v":"2016-12-17"}]
["金魚草","キンギョソウ","","世話好き",{"$f":"IFERROR(MATCH(B390,誕生月花!$B$2:$B$13,0),\"\")","v":""},{"$f":"IFERROR(VLOOKUP(B390&C390,誕生日花!E:F,2,FALSE),IFERROR(VLOOKUP(B390,誕生日花!E:F,2,FALSE),\"\"))","v":"2016-01-28"}]
["金魚草","キンギョソウ","","おしゃべり",{"$f":"IFERROR(MATCH(B391,誕生月花!$B$2:$B$13,0),\"\")","v":""},{"$f":"IFERROR(VLOOKUP(B391&C391,誕生日花!E:F,2,FALSE),IFERROR(VLOOKUP(B391,誕生日花!E:F,2,FALSE),\"\"))","v":"2016-01-28"}]
["金魚草","キンギョソウ","","おせっかい",{"$f":"IFERROR(MATCH(B392,誕生月花!$B$2:$B$13,0),\"\")","v":""},{"$f":"IFERROR(VLOOKUP(B392&C392,誕生日花!E:F,2,FALSE),IFERROR(VLOOKUP(B392,誕生日花!E:F,2,FALSE),\"\"))","v":"2016-01-28"}]
["金魚草","キンギョソウ","","でしゃばり",{"$f":"IFERROR(MATCH(B393,誕生月花!$B$2:$B$13,0),\"\")","v":""},{"$f":"IFERROR(VLOOKUP(B393&C393,誕生日花!E:F,2,FALSE),IFERROR(VLOOKUP(B393,誕生日花!E:F,2,FALSE),\"\"))","v":"2016-01-28"}]
["金魚草","キンギョソウ","","推測ではやはりNO",{"$f":"IFERROR(MATCH(B394,誕生月花!$B$2:$B$13,0),\"\")","v":""},{"$f":"IFERROR(VLOOKUP(B394&C394,誕生日花!E:F,2,FALSE),IFERROR(VLOOKUP(B394,誕生日花!E:F,2,FALSE),\"\"))","v":"2016-01-28"}]
["金盞花","キンセンカ","","太陽",{"$f":"IFERROR(MATCH(B395,誕生月花!$B$2:$B$13,0),\"\")","v":""},{"$f":"IFERROR(VLOOKUP(B395&C395,誕生日花!E:F,2,FALSE),IFERROR(VLOOKUP(B395,誕生日花!E:F,2,FALSE),\"\"))","v":"2016-03-31"}]
["金盞花","キンセンカ","","失望",{"$f":"IFERROR(MATCH(B396,誕生月花!$B$2:$B$13,0),\"\")","v":""},{"$f":"IFERROR(VLOOKUP(B396&C396,誕生日花!E:F,2,FALSE),IFERROR(VLOOKUP(B396,誕生日花!E:F,2,FALSE),\"\"))","v":"2016-03-31"}]
["金盞花","キンセンカ","","寂しさ",{"$f":"IFERROR(MATCH(B397,誕生月花!$B$2:$B$13,0),\"\")","v":""},{"$f":"IFERROR(VLOOKUP(B397&C397,誕生日花!E:F,2,FALSE),IFERROR(VLOOKUP(B397,誕生日花!E:F,2,FALSE),\"\"))","v":"2016-03-31"}]
["金盞花","キンセンカ","","悲嘆",{"$f":"IFERROR(MATCH(B398,誕生月花!$B$2:$B$13,0),\"\")","v":""},{"$f":"IFERROR(VLOOKUP(B398&C398,誕生日花!E:F,2,FALSE),IFERROR(VLOOKUP(B398,誕生日花!E:F,2,FALSE),\"\"))","v":"2016-03-31"}]
["金盞花","キンセンカ","","別れの悲しみ",{"$f":"IFERROR(MATCH(B399,誕生月花!$B$2:$B$13,0),\"\")","v":""},{"$f":"IFERROR(VLOOKUP(B399&C399,誕生日花!E:F,2,FALSE),IFERROR(VLOOKUP(B399,誕生日花!E:F,2,FALSE),\"\"))","v":"2016-03-31"}]
["金木犀","キンモクセイ","","志の高い人",{"$f":"IFERROR(MATCH(B400,誕生月花!$B$2:$B$13,0),\"\")","v":""},{"$f":"IFERROR(VLOOKUP(B400&C400,誕生日花!E:F,2,FALSE),IFERROR(VLOOKUP(B400,誕生日花!E:F,2,FALSE),\"\"))","v":"2016-10-18"}]
["金木犀","キンモクセイ","","気高い人",{"$f":"IFERROR(MATCH(B401,誕生月花!$B$2:$B$13,0),\"\")","v":""},{"$f":"IFERROR(VLOOKUP(B401&C401,誕生日花!E:F,2,FALSE),IFERROR(VLOOKUP(B401,誕生日花!E:F,2,FALSE),\"\"))","v":"2016-10-18"}]
["金木犀","キンモクセイ","","謙虚",{"$f":"IFERROR(MATCH(B402,誕生月花!$B$2:$B$13,0),\"\")","v":""},{"$f":"IFERROR(VLOOKUP(B402&C402,誕生日花!E:F,2,FALSE),IFERROR(VLOOKUP(B402,誕生日花!E:F,2,FALSE),\"\"))","v":"2016-10-18"}]
["銀木犀","ギンモクセイ","","気高い人",{"$f":"IFERROR(MATCH(B403,誕生月花!$B$2:$B$13,0),\"\")","v":""},{"$f":"IFERROR(VLOOKUP(B403&C403,誕生日花!E:F,2,FALSE),IFERROR(VLOOKUP(B403,誕生日花!E:F,2,FALSE),\"\"))","v":""}]
["銀木犀","ギンモクセイ","","初恋",{"$f":"IFERROR(MATCH(B404,誕生月花!$B$2:$B$13,0),\"\")","v":""},{"$f":"IFERROR(VLOOKUP(B404&C404,誕生日花!E:F,2,FALSE),IFERROR(VLOOKUP(B404,誕生日花!E:F,2,FALSE),\"\"))","v":""}]
["草夾竹桃","クサキョウチクトウ","","温和",{"$f":"IFERROR(MATCH(B405,誕生月花!$B$2:$B$13,0),\"\")","v":""},{"$f":"IFERROR(VLOOKUP(B405&C405,誕生日花!E:F,2,FALSE),IFERROR(VLOOKUP(B405,誕生日花!E:F,2,FALSE),\"\"))","v":""}]
["孔雀草","クジャクソウ","","一目惚れ",{"$f":"IFERROR(MATCH(B406,誕生月花!$B$2:$B$13,0),\"\")","v":""},{"$f":"IFERROR(VLOOKUP(B406&C406,誕生日花!E:F,2,FALSE),IFERROR(VLOOKUP(B406,誕生日花!E:F,2,FALSE),\"\"))","v":"2016-09-22"}]
["グズマニア","グズマニア","","あなたは完璧",{"$f":"IFERROR(MATCH(B407,誕生月花!$B$2:$B$13,0),\"\")","v":""},{"$f":"IFERROR(VLOOKUP(B407&C407,誕生日花!E:F,2,FALSE),IFERROR(VLOOKUP(B407,誕生日花!E:F,2,FALSE),\"\"))","v":"2016-01-18"}]
["グズマニア","グズマニア","","情熱",{"$f":"IFERROR(MATCH(B408,誕生月花!$B$2:$B$13,0),\"\")","v":""},{"$f":"IFERROR(VLOOKUP(B408&C408,誕生日花!E:F,2,FALSE),IFERROR(VLOOKUP(B408,誕生日花!E:F,2,FALSE),\"\"))","v":"2016-01-18"}]
["グズマニア","グズマニア","","理想の夫婦",{"$f":"IFERROR(MATCH(B409,誕生月花!$B$2:$B$13,0),\"\")","v":""},{"$f":"IFERROR(VLOOKUP(B409&C409,誕生日花!E:F,2,FALSE),IFERROR(VLOOKUP(B409,誕生日花!E:F,2,FALSE),\"\"))","v":"2016-01-18"}]
["梔子","クチナシ","","幸せでとてもうれしい",{"$f":"IFERROR(MATCH(B410,誕生月花!$B$2:$B$13,0),\"\")","v":""},{"$f":"IFERROR(VLOOKUP(B410&C410,誕生日花!E:F,2,FALSE),IFERROR(VLOOKUP(B410,誕生日花!E:F,2,FALSE),\"\"))","v":"2016-06-13"}]
["梔子","クチナシ","","とても幸せです",{"$f":"IFERROR(MATCH(B411,誕生月花!$B$2:$B$13,0),\"\")","v":""},{"$f":"IFERROR(VLOOKUP(B411&C411,誕生日花!E:F,2,FALSE),IFERROR(VLOOKUP(B411,誕生日花!E:F,2,FALSE),\"\"))","v":"2016-06-13"}]
["梔子","クチナシ","","喜びを運ぶ",{"$f":"IFERROR(MATCH(B412,誕生月花!$B$2:$B$13,0),\"\")","v":""},{"$f":"IFERROR(VLOOKUP(B412&C412,誕生日花!E:F,2,FALSE),IFERROR(VLOOKUP(B412,誕生日花!E:F,2,FALSE),\"\"))","v":"2016-06-13"}]
["梔子","クチナシ","","洗練",{"$f":"IFERROR(MATCH(B413,誕生月花!$B$2:$B$13,0),\"\")","v":""},{"$f":"IFERROR(VLOOKUP(B413&C413,誕生日花!E:F,2,FALSE),IFERROR(VLOOKUP(B413,誕生日花!E:F,2,FALSE),\"\"))","v":"2016-06-13"}]
["梔子","クチナシ","","優雅",{"$f":"IFERROR(MATCH(B414,誕生月花!$B$2:$B$13,0),\"\")","v":""},{"$f":"IFERROR(VLOOKUP(B414&C414,誕生日花!E:F,2,FALSE),IFERROR(VLOOKUP(B414,誕生日花!E:F,2,FALSE),\"\"))","v":"2016-06-13"}]
["口紅水仙","クチベニスイセン","","詩人",{"$f":"IFERROR(MATCH(B415,誕生月花!$B$2:$B$13,0),\"\")","v":""},{"$f":"IFERROR(VLOOKUP(B415&C415,誕生日花!E:F,2,FALSE),IFERROR(VLOOKUP(B415,誕生日花!E:F,2,FALSE),\"\"))","v":"2016-12-22"}]
["口紅水仙","クチベニズイセン","","すてきな装い",{"$f":"IFERROR(MATCH(B416,誕生月花!$B$2:$B$13,0),\"\")","v":""},{"$f":"IFERROR(VLOOKUP(B416&C416,誕生日花!E:F,2,FALSE),IFERROR(VLOOKUP(B416,誕生日花!E:F,2,FALSE),\"\"))","v":""}]
["クッションマム","クッションマム","","自立心",{"$f":"IFERROR(MATCH(B417,誕生月花!$B$2:$B$13,0),\"\")","v":""},{"$f":"IFERROR(VLOOKUP(B417&C417,誕生日花!E:F,2,FALSE),IFERROR(VLOOKUP(B417,誕生日花!E:F,2,FALSE),\"\"))","v":"2016-10-11"}]
["熊葛","クマツヅラ","","魔法",{"$f":"IFERROR(MATCH(B418,誕生月花!$B$2:$B$13,0),\"\")","v":""},{"$f":"IFERROR(VLOOKUP(B418&C418,誕生日花!E:F,2,FALSE),IFERROR(VLOOKUP(B418,誕生日花!E:F,2,FALSE),\"\"))","v":""}]
["茱萸","グミ","","心の純潔",{"$f":"IFERROR(MATCH(B419,誕生月花!$B$2:$B$13,0),\"\")","v":""},{"$f":"IFERROR(VLOOKUP(B419&C419,誕生日花!E:F,2,FALSE),IFERROR(VLOOKUP(B419,誕生日花!E:F,2,FALSE),\"\"))","v":"2016-11-12"}]
["唐菖蒲（トウショウブ）","グラジオラス","","準備",{"$f":"IFERROR(MATCH(B420,誕生月花!$B$2:$B$13,0),\"\")","v":""},{"$f":"IFERROR(VLOOKUP(B420&C420,誕生日花!E:F,2,FALSE),IFERROR(VLOOKUP(B420,誕生日花!E:F,2,FALSE),\"\"))","v":"2016-08-11"}]
["唐菖蒲（トウショウブ）","グラジオラス","","思い出",{"$f":"IFERROR(MATCH(B421,誕生月花!$B$2:$B$13,0),\"\")","v":""},{"$f":"IFERROR(VLOOKUP(B421&C421,誕生日花!E:F,2,FALSE),IFERROR(VLOOKUP(B421,誕生日花!E:F,2,FALSE),\"\"))","v":"2016-08-11"}]
["唐菖蒲（トウショウブ）","グラジオラス","","勝利",{"$f":"IFERROR(MATCH(B422,誕生月花!$B$2:$B$13,0),\"\")","v":""},{"$f":"IFERROR(VLOOKUP(B422&C422,誕生日花!E:F,2,FALSE),IFERROR(VLOOKUP(B422,誕生日花!E:F,2,FALSE),\"\"))","v":"2016-08-11"}]
["唐菖蒲（トウショウブ）","グラジオラス","","忘却",{"$f":"IFERROR(MATCH(B423,誕生月花!$B$2:$B$13,0),\"\")","v":""},{"$f":"IFERROR(VLOOKUP(B423&C423,誕生日花!E:F,2,FALSE),IFERROR(VLOOKUP(B423,誕生日花!E:F,2,FALSE),\"\"))","v":"2016-08-11"}]
["唐菖蒲（トウショウブ）","グラジオラス","","密会",{"$f":"IFERROR(MATCH(B424,誕生月花!$B$2:$B$13,0),\"\")","v":""},{"$f":"IFERROR(VLOOKUP(B424&C424,誕生日花!E:F,2,FALSE),IFERROR(VLOOKUP(B424,誕生日花!E:F,2,FALSE),\"\"))","v":"2016-08-11"}]
["唐菖蒲（トウショウブ）","グラジオラス","","用心",{"$f":"IFERROR(MATCH(B425,誕生月花!$B$2:$B$13,0),\"\")","v":""},{"$f":"IFERROR(VLOOKUP(B425&C425,誕生日花!E:F,2,FALSE),IFERROR(VLOOKUP(B425,誕生日花!E:F,2,FALSE),\"\"))","v":"2016-08-11"}]
["唐菖蒲（トウショウブ）","グラジオラス","ピンク","たゆまぬ努力",{"$f":"IFERROR(MATCH(B426,誕生月花!$B$2:$B$13,0),\"\")","v":""},{"$f":"IFERROR(VLOOKUP(B426&C426,誕生日花!E:F,2,FALSE),IFERROR(VLOOKUP(B426,誕生日花!E:F,2,FALSE),\"\"))","v":"2016-08-11"}]
["唐菖蒲（トウショウブ）","グラジオラス","ピンク","ひたむきな愛",{"$f":"IFERROR(MATCH(B427,誕生月花!$B$2:$B$13,0),\"\")","v":""},{"$f":"IFERROR(VLOOKUP(B427&C427,誕生日花!E:F,2,FALSE),IFERROR(VLOOKUP(B427,誕生日花!E:F,2,FALSE),\"\"))","v":"2016-08-11"}]
["唐菖蒲（トウショウブ）","グラジオラス","ピンク","満足",{"$f":"IFERROR(MATCH(B428,誕生月花!$B$2:$B$13,0),\"\")","v":""},{"$f":"IFERROR(VLOOKUP(B428&C428,誕生日花!E:F,2,FALSE),IFERROR(VLOOKUP(B428,誕生日花!E:F,2,FALSE),\"\"))","v":"2016-08-11"}]
["唐菖蒲（トウショウブ）","グラジオラス","紫","情熱的な恋",{"$f":"IFERROR(MATCH(B429,誕生月花!$B$2:$B$13,0),\"\")","v":""},{"$f":"IFERROR(VLOOKUP(B429&C429,誕生日花!E:F,2,FALSE),IFERROR(VLOOKUP(B429,誕生日花!E:F,2,FALSE),\"\"))","v":"2016-08-11"}]
["唐菖蒲（トウショウブ）","グラジオラス","赤","堅固",{"$f":"IFERROR(MATCH(B430,誕生月花!$B$2:$B$13,0),\"\")","v":""},{"$f":"IFERROR(VLOOKUP(B430&C430,誕生日花!E:F,2,FALSE),IFERROR(VLOOKUP(B430,誕生日花!E:F,2,FALSE),\"\"))","v":"2016-08-11"}]
["唐菖蒲（トウショウブ）","グラジオラス","赤","用心深い",{"$f":"IFERROR(MATCH(B431,誕生月花!$B$2:$B$13,0),\"\")","v":""},{"$f":"IFERROR(VLOOKUP(B431&C431,誕生日花!E:F,2,FALSE),IFERROR(VLOOKUP(B431,誕生日花!E:F,2,FALSE),\"\"))","v":"2016-08-11"}]
["栗","クリ","","約束",{"$f":"IFERROR(MATCH(B432,誕生月花!$B$2:$B$13,0),\"\")","v":""},{"$f":"IFERROR(VLOOKUP(B432&C432,誕生日花!E:F,2,FALSE),IFERROR(VLOOKUP(B432,誕生日花!E:F,2,FALSE),\"\"))","v":"2016-11-28"}]
["蝦蛄葉サボテン（シャコバサボテン）","クリスマスカクタス","","冒険心",{"$f":"IFERROR(MATCH(B433,誕生月花!$B$2:$B$13,0),\"\")","v":""},{"$f":"IFERROR(VLOOKUP(B433&C433,誕生日花!E:F,2,FALSE),IFERROR(VLOOKUP(B433,誕生日花!E:F,2,FALSE),\"\"))","v":""}]
["花衝羽根空木（ハナツクバネウツギ）","クリスマスパレード","","博愛",{"$f":"IFERROR(MATCH(B434,誕生月花!$B$2:$B$13,0),\"\")","v":""},{"$f":"IFERROR(VLOOKUP(B434&C434,誕生日花!E:F,2,FALSE),IFERROR(VLOOKUP(B434,誕生日花!E:F,2,FALSE),\"\"))","v":"2016-12-25"}]
["冬咲キベゴニア","クリスマスベゴニア","","愛の告白",{"$f":"IFERROR(MATCH(B435,誕生月花!$B$2:$B$13,0),\"\")","v":""},{"$f":"IFERROR(VLOOKUP(B435&C435,誕生日花!E:F,2,FALSE),IFERROR(VLOOKUP(B435,誕生日花!E:F,2,FALSE),\"\"))","v":""}]
["寒芍薬（カンシャクヤク）","クリスマスローズ","","私の心配をやわらげて",{"$f":"IFERROR(MATCH(B436,誕生月花!$B$2:$B$13,0),\"\")","v":""},{"$f":"IFERROR(VLOOKUP(B436&C436,誕生日花!E:F,2,FALSE),IFERROR(VLOOKUP(B436,誕生日花!E:F,2,FALSE),\"\"))","v":"2016-02-09"}]
["寒芍薬（カンシャクヤク）","クリスマスローズ","","慰め",{"$f":"IFERROR(MATCH(B437,誕生月花!$B$2:$B$13,0),\"\")","v":""},{"$f":"IFERROR(VLOOKUP(B437&C437,誕生日花!E:F,2,FALSE),IFERROR(VLOOKUP(B437,誕生日花!E:F,2,FALSE),\"\"))","v":"2016-02-09"}]
["寒芍薬（カンシャクヤク）","クリスマスローズ","","私の不安をやわらげて",{"$f":"IFERROR(MATCH(B438,誕生月花!$B$2:$B$13,0),\"\")","v":""},{"$f":"IFERROR(VLOOKUP(B438&C438,誕生日花!E:F,2,FALSE),IFERROR(VLOOKUP(B438,誕生日花!E:F,2,FALSE),\"\"))","v":"2016-02-09"}]
["寒芍薬（カンシャクヤク）","クリスマスローズ","","中傷",{"$f":"IFERROR(MATCH(B439,誕生月花!$B$2:$B$13,0),\"\")","v":""},{"$f":"IFERROR(VLOOKUP(B439&C439,誕生日花!E:F,2,FALSE),IFERROR(VLOOKUP(B439,誕生日花!E:F,2,FALSE),\"\"))","v":"2016-02-09"}]
["鬱金（ウコン）","クルクマ","","酔いしれる",{"$f":"IFERROR(MATCH(B440,誕生月花!$B$2:$B$13,0),\"\")","v":""},{"$f":"IFERROR(VLOOKUP(B440&C440,誕生日花!E:F,2,FALSE),IFERROR(VLOOKUP(B440,誕生日花!E:F,2,FALSE),\"\"))","v":"2016-08-29"}]
["鬱金（ウコン）","クルクマ","","あなたの姿に酔いしれる",{"$f":"IFERROR(MATCH(B441,誕生月花!$B$2:$B$13,0),\"\")","v":""},{"$f":"IFERROR(VLOOKUP(B441&C441,誕生日花!E:F,2,FALSE),IFERROR(VLOOKUP(B441,誕生日花!E:F,2,FALSE),\"\"))","v":"2016-08-29"}]
["車百合","クルマユリ","","純潔",{"$f":"IFERROR(MATCH(B442,誕生月花!$B$2:$B$13,0),\"\")","v":""},{"$f":"IFERROR(VLOOKUP(B442&C442,誕生日花!E:F,2,FALSE),IFERROR(VLOOKUP(B442,誕生日花!E:F,2,FALSE),\"\"))","v":""}]
["車百合","クルマユリ","","多才な人",{"$f":"IFERROR(MATCH(B443,誕生月花!$B$2:$B$13,0),\"\")","v":""},{"$f":"IFERROR(VLOOKUP(B443&C443,誕生日花!E:F,2,FALSE),IFERROR(VLOOKUP(B443,誕生日花!E:F,2,FALSE),\"\"))","v":""}]
["西洋風蝶草（セイヨウフウチョウソウ）","クレオメ","","あなたの容姿に酔う",{"$f":"IFERROR(MATCH(B444,誕生月花!$B$2:$B$13,0),\"\")","v":""},{"$f":"IFERROR(VLOOKUP(B444&C444,誕生日花!E:F,2,FALSE),IFERROR(VLOOKUP(B444,誕生日花!E:F,2,FALSE),\"\"))","v":"2016-08-18"}]
["西洋風蝶草（セイヨウフウチョウソウ）","クレオメ","","秘密のひととき",{"$f":"IFERROR(MATCH(B445,誕生月花!$B$2:$B$13,0),\"\")","v":""},{"$f":"IFERROR(VLOOKUP(B445&C445,誕生日花!E:F,2,FALSE),IFERROR(VLOOKUP(B445,誕生日花!E:F,2,FALSE),\"\"))","v":"2016-08-18"}]
["鉄線（テッセン）","クレマチス","","心の美しさ",{"$f":"IFERROR(MATCH(B446,誕生月花!$B$2:$B$13,0),\"\")","v":""},{"$f":"IFERROR(VLOOKUP(B446&C446,誕生日花!E:F,2,FALSE),IFERROR(VLOOKUP(B446,誕生日花!E:F,2,FALSE),\"\"))","v":"2016-06-01"}]
["鉄線（テッセン）","クレマチス","","策略",{"$f":"IFERROR(MATCH(B447,誕生月花!$B$2:$B$13,0),\"\")","v":""},{"$f":"IFERROR(VLOOKUP(B447&C447,誕生日花!E:F,2,FALSE),IFERROR(VLOOKUP(B447,誕生日花!E:F,2,FALSE),\"\"))","v":"2016-06-01"}]
["鉄線（テッセン）","クレマチス","","精神の美",{"$f":"IFERROR(MATCH(B448,誕生月花!$B$2:$B$13,0),\"\")","v":""},{"$f":"IFERROR(VLOOKUP(B448&C448,誕生日花!E:F,2,FALSE),IFERROR(VLOOKUP(B448,誕生日花!E:F,2,FALSE),\"\"))","v":"2016-06-01"}]
["鉄線（テッセン）","クレマチス","","旅人の喜び",{"$f":"IFERROR(MATCH(B449,誕生月花!$B$2:$B$13,0),\"\")","v":""},{"$f":"IFERROR(VLOOKUP(B449&C449,誕生日花!E:F,2,FALSE),IFERROR(VLOOKUP(B449,誕生日花!E:F,2,FALSE),\"\"))","v":"2016-06-01"}]
["白詰草（シロツメクサ）","クローバー","","幸運",{"$f":"IFERROR(MATCH(B450,誕生月花!$B$2:$B$13,0),\"\")","v":""},{"$f":"IFERROR(VLOOKUP(B450&C450,誕生日花!E:F,2,FALSE),IFERROR(VLOOKUP(B450,誕生日花!E:F,2,FALSE),\"\"))","v":"2016-06-03"}]
["白詰草（シロツメクサ）","クローバー","","私を思って",{"$f":"IFERROR(MATCH(B451,誕生月花!$B$2:$B$13,0),\"\")","v":""},{"$f":"IFERROR(VLOOKUP(B451&C451,誕生日花!E:F,2,FALSE),IFERROR(VLOOKUP(B451,誕生日花!E:F,2,FALSE),\"\"))","v":"2016-06-03"}]
["白詰草（シロツメクサ）","クローバー","","復讐",{"$f":"IFERROR(MATCH(B452,誕生月花!$B$2:$B$13,0),\"\")","v":""},{"$f":"IFERROR(VLOOKUP(B452&C452,誕生日花!E:F,2,FALSE),IFERROR(VLOOKUP(B452,誕生日花!E:F,2,FALSE),\"\"))","v":"2016-06-03"}]
["白詰草（シロツメクサ）","クローバー","","約束",{"$f":"IFERROR(MATCH(B453,誕生月花!$B$2:$B$13,0),\"\")","v":""},{"$f":"IFERROR(VLOOKUP(B453&C453,誕生日花!E:F,2,FALSE),IFERROR(VLOOKUP(B453,誕生日花!E:F,2,FALSE),\"\"))","v":"2016-06-03"}]
["白詰草（シロツメクサ）","クローバー","","私のことを考えて",{"$f":"IFERROR(MATCH(B454,誕生月花!$B$2:$B$13,0),\"\")","v":""},{"$f":"IFERROR(VLOOKUP(B454&C454,誕生日花!E:F,2,FALSE),IFERROR(VLOOKUP(B454,誕生日花!E:F,2,FALSE),\"\"))","v":"2016-06-03"}]
["白詰草（シロツメクサ）","クローバー","四つ葉","望みがかなう",{"$f":"IFERROR(MATCH(B455,誕生月花!$B$2:$B$13,0),\"\")","v":""},{"$f":"IFERROR(VLOOKUP(B455&C455,誕生日花!E:F,2,FALSE),IFERROR(VLOOKUP(B455,誕生日花!E:F,2,FALSE),\"\"))","v":"2016-06-03"}]
["大岩桐草（オオイワギリソウ）","グロキシニア","","艶麗",{"$f":"IFERROR(MATCH(B456,誕生月花!$B$2:$B$13,0),\"\")","v":""},{"$f":"IFERROR(VLOOKUP(B456&C456,誕生日花!E:F,2,FALSE),IFERROR(VLOOKUP(B456,誕生日花!E:F,2,FALSE),\"\"))","v":""}]
["大岩桐草（オオイワギリソウ）","グロキシニア","","華やかな日々",{"$f":"IFERROR(MATCH(B457,誕生月花!$B$2:$B$13,0),\"\")","v":""},{"$f":"IFERROR(VLOOKUP(B457&C457,誕生日花!E:F,2,FALSE),IFERROR(VLOOKUP(B457,誕生日花!E:F,2,FALSE),\"\"))","v":""}]
["大岩桐草（オオイワギリソウ）","グロキシニア","","媚態",{"$f":"IFERROR(MATCH(B458,誕生月花!$B$2:$B$13,0),\"\")","v":""},{"$f":"IFERROR(VLOOKUP(B458&C458,誕生日花!E:F,2,FALSE),IFERROR(VLOOKUP(B458,誕生日花!E:F,2,FALSE),\"\"))","v":""}]
["花サフラン（ハナサフラン）","クロッカス","","天真爛漫",{"$f":"IFERROR(MATCH(B459,誕生月花!$B$2:$B$13,0),\"\")","v":""},{"$f":"IFERROR(VLOOKUP(B459&C459,誕生日花!E:F,2,FALSE),IFERROR(VLOOKUP(B459,誕生日花!E:F,2,FALSE),\"\"))","v":""}]
["花サフラン（ハナサフラン）","クロッカス","","青春の喜び",{"$f":"IFERROR(MATCH(B460,誕生月花!$B$2:$B$13,0),\"\")","v":""},{"$f":"IFERROR(VLOOKUP(B460&C460,誕生日花!E:F,2,FALSE),IFERROR(VLOOKUP(B460,誕生日花!E:F,2,FALSE),\"\"))","v":""}]
["花サフラン（ハナサフラン）","クロッカス","","切望",{"$f":"IFERROR(MATCH(B461,誕生月花!$B$2:$B$13,0),\"\")","v":""},{"$f":"IFERROR(VLOOKUP(B461&C461,誕生日花!E:F,2,FALSE),IFERROR(VLOOKUP(B461,誕生日花!E:F,2,FALSE),\"\"))","v":""}]
["花サフラン（ハナサフラン）","クロッカス","黄","私を信じて",{"$f":"IFERROR(MATCH(B462,誕生月花!$B$2:$B$13,0),\"\")","v":""},{"$f":"IFERROR(VLOOKUP(B462&C462,誕生日花!E:F,2,FALSE),IFERROR(VLOOKUP(B462,誕生日花!E:F,2,FALSE),\"\"))","v":"2016-04-01"}]
["花サフラン（ハナサフラン）","クロッカス","紫","愛の後悔",{"$f":"IFERROR(MATCH(B463,誕生月花!$B$2:$B$13,0),\"\")","v":""},{"$f":"IFERROR(VLOOKUP(B463&C463,誕生日花!E:F,2,FALSE),IFERROR(VLOOKUP(B463,誕生日花!E:F,2,FALSE),\"\"))","v":"2016-10-30"}]
["縁取雄（ヘリトリオシベ）","クロッサンドラ","","仲良し",{"$f":"IFERROR(MATCH(B464,誕生月花!$B$2:$B$13,0),\"\")","v":""},{"$f":"IFERROR(VLOOKUP(B464&C464,誕生日花!E:F,2,FALSE),IFERROR(VLOOKUP(B464,誕生日花!E:F,2,FALSE),\"\"))","v":"2016-11-27"}]
["黒百合","クロユリ","","独創的",{"$f":"IFERROR(MATCH(B465,誕生月花!$B$2:$B$13,0),\"\")","v":""},{"$f":"IFERROR(VLOOKUP(B465&C465,誕生日花!E:F,2,FALSE),IFERROR(VLOOKUP(B465,誕生日花!E:F,2,FALSE),\"\"))","v":"2016-07-08"}]
["黒百合","クロユリ","","呪い",{"$f":"IFERROR(MATCH(B466,誕生月花!$B$2:$B$13,0),\"\")","v":""},{"$f":"IFERROR(VLOOKUP(B466&C466,誕生日花!E:F,2,FALSE),IFERROR(VLOOKUP(B466,誕生日花!E:F,2,FALSE),\"\"))","v":"2016-07-08"}]
["黒百合","クロユリ","","恋",{"$f":"IFERROR(MATCH(B467,誕生月花!$B$2:$B$13,0),\"\")","v":""},{"$f":"IFERROR(VLOOKUP(B467&C467,誕生日花!E:F,2,FALSE),IFERROR(VLOOKUP(B467,誕生日花!E:F,2,FALSE),\"\"))","v":"2016-07-08"}]
["百合車（ユリグルマ）","グロリオサ","","光栄",{"$f":"IFERROR(MATCH(B468,誕生月花!$B$2:$B$13,0),\"\")","v":""},{"$f":"IFERROR(VLOOKUP(B468&C468,誕生日花!E:F,2,FALSE),IFERROR(VLOOKUP(B468,誕生日花!E:F,2,FALSE),\"\"))","v":"2016-07-28"}]
["百合車（ユリグルマ）","グロリオサ","","栄光に満ちた世界",{"$f":"IFERROR(MATCH(B469,誕生月花!$B$2:$B$13,0),\"\")","v":""},{"$f":"IFERROR(VLOOKUP(B469&C469,誕生日花!E:F,2,FALSE),IFERROR(VLOOKUP(B469,誕生日花!E:F,2,FALSE),\"\"))","v":"2016-07-28"}]
["百合車（ユリグルマ）","グロリオサ","","栄光",{"$f":"IFERROR(MATCH(B470,誕生月花!$B$2:$B$13,0),\"\")","v":""},{"$f":"IFERROR(VLOOKUP(B470&C470,誕生日花!E:F,2,FALSE),IFERROR(VLOOKUP(B470,誕生日花!E:F,2,FALSE),\"\"))","v":"2016-07-28"}]
["百合車（ユリグルマ）","グロリオサ","","勇敢",{"$f":"IFERROR(MATCH(B471,誕生月花!$B$2:$B$13,0),\"\")","v":""},{"$f":"IFERROR(VLOOKUP(B471&C471,誕生日花!E:F,2,FALSE),IFERROR(VLOOKUP(B471,誕生日花!E:F,2,FALSE),\"\"))","v":"2016-07-28"}]
["君子蘭","クンシラン","","高貴",{"$f":"IFERROR(MATCH(B472,誕生月花!$B$2:$B$13,0),\"\")","v":""},{"$f":"IFERROR(VLOOKUP(B472&C472,誕生日花!E:F,2,FALSE),IFERROR(VLOOKUP(B472,誕生日花!E:F,2,FALSE),\"\"))","v":"2016-04-11"}]
["君子蘭","クンシラン","","情け深い",{"$f":"IFERROR(MATCH(B473,誕生月花!$B$2:$B$13,0),\"\")","v":""},{"$f":"IFERROR(VLOOKUP(B473&C473,誕生日花!E:F,2,FALSE),IFERROR(VLOOKUP(B473,誕生日花!E:F,2,FALSE),\"\"))","v":"2016-04-11"}]
["君子蘭","クンシラン","","誠実",{"$f":"IFERROR(MATCH(B474,誕生月花!$B$2:$B$13,0),\"\")","v":""},{"$f":"IFERROR(VLOOKUP(B474&C474,誕生日花!E:F,2,FALSE),IFERROR(VLOOKUP(B474,誕生日花!E:F,2,FALSE),\"\"))","v":"2016-04-11"}]
["鶏頭","ケイトウ","","色褪せぬ恋",{"$f":"IFERROR(MATCH(B475,誕生月花!$B$2:$B$13,0),\"\")","v":""},{"$f":"IFERROR(VLOOKUP(B475&C475,誕生日花!E:F,2,FALSE),IFERROR(VLOOKUP(B475,誕生日花!E:F,2,FALSE),\"\"))","v":"2016-09-03"}]
["鶏頭","ケイトウ","","おしゃれ",{"$f":"IFERROR(MATCH(B476,誕生月花!$B$2:$B$13,0),\"\")","v":""},{"$f":"IFERROR(VLOOKUP(B476&C476,誕生日花!E:F,2,FALSE),IFERROR(VLOOKUP(B476,誕生日花!E:F,2,FALSE),\"\"))","v":"2016-09-03"}]
["鶏頭","ケイトウ","","気取り",{"$f":"IFERROR(MATCH(B477,誕生月花!$B$2:$B$13,0),\"\")","v":""},{"$f":"IFERROR(VLOOKUP(B477&C477,誕生日花!E:F,2,FALSE),IFERROR(VLOOKUP(B477,誕生日花!E:F,2,FALSE),\"\"))","v":"2016-09-03"}]
["鶏頭","ケイトウ","","風変わり",{"$f":"IFERROR(MATCH(B478,誕生月花!$B$2:$B$13,0),\"\")","v":""},{"$f":"IFERROR(VLOOKUP(B478&C478,誕生日花!E:F,2,FALSE),IFERROR(VLOOKUP(B478,誕生日花!E:F,2,FALSE),\"\"))","v":"2016-09-03"}]
["牛の舌（ウシノシタ）","ケーププリムローズ","","真実",{"$f":"IFERROR(MATCH(B479,誕生月花!$B$2:$B$13,0),\"\")","v":""},{"$f":"IFERROR(VLOOKUP(B479&C479,誕生日花!E:F,2,FALSE),IFERROR(VLOOKUP(B479,誕生日花!E:F,2,FALSE),\"\"))","v":"2016-09-20"}]
["月下美人","ゲッカビジン","","ただ一度だけ会いたくて",{"$f":"IFERROR(MATCH(B480,誕生月花!$B$2:$B$13,0),\"\")","v":""},{"$f":"IFERROR(VLOOKUP(B480&C480,誕生日花!E:F,2,FALSE),IFERROR(VLOOKUP(B480,誕生日花!E:F,2,FALSE),\"\"))","v":"2016-07-18"}]
["月下美人","ゲッカビジン","","あでやかな美人",{"$f":"IFERROR(MATCH(B481,誕生月花!$B$2:$B$13,0),\"\")","v":""},{"$f":"IFERROR(VLOOKUP(B481&C481,誕生日花!E:F,2,FALSE),IFERROR(VLOOKUP(B481,誕生日花!E:F,2,FALSE),\"\"))","v":"2016-07-18"}]
["月下美人","ゲッカビジン","","はかない美",{"$f":"IFERROR(MATCH(B482,誕生月花!$B$2:$B$13,0),\"\")","v":""},{"$f":"IFERROR(VLOOKUP(B482&C482,誕生日花!E:F,2,FALSE),IFERROR(VLOOKUP(B482,誕生日花!E:F,2,FALSE),\"\"))","v":"2016-07-18"}]
["月下美人","ゲッカビジン","","はかない恋",{"$f":"IFERROR(MATCH(B483,誕生月花!$B$2:$B$13,0),\"\")","v":""},{"$f":"IFERROR(VLOOKUP(B483&C483,誕生日花!E:F,2,FALSE),IFERROR(VLOOKUP(B483,誕生日花!E:F,2,FALSE),\"\"))","v":"2016-07-18"}]
["月橘","ゲッキツ","","愛想の良さ",{"$f":"IFERROR(MATCH(B484,誕生月花!$B$2:$B$13,0),\"\")","v":""},{"$f":"IFERROR(VLOOKUP(B484&C484,誕生日花!E:F,2,FALSE),IFERROR(VLOOKUP(B484,誕生日花!E:F,2,FALSE),\"\"))","v":""}]
["月橘","ゲッキツ","アラビアンジャスミン・茉莉花","清浄無垢",{"$f":"IFERROR(MATCH(B485,誕生月花!$B$2:$B$13,0),\"\")","v":""},{"$f":"IFERROR(VLOOKUP(B485&C485,誕生日花!E:F,2,FALSE),IFERROR(VLOOKUP(B485,誕生日花!E:F,2,FALSE),\"\"))","v":""}]
["月橘","ゲッキツ","シルクジャスミン・ゲッキツ","正当な道",{"$f":"IFERROR(MATCH(B486,誕生月花!$B$2:$B$13,0),\"\")","v":""},{"$f":"IFERROR(VLOOKUP(B486&C486,誕生日花!E:F,2,FALSE),IFERROR(VLOOKUP(B486,誕生日花!E:F,2,FALSE),\"\"))","v":""}]
["月橘","ゲッキツ","マダガスカルジャスミン","私はあなたについていく",{"$f":"IFERROR(MATCH(B487,誕生月花!$B$2:$B$13,0),\"\")","v":""},{"$f":"IFERROR(VLOOKUP(B487&C487,誕生日花!E:F,2,FALSE),IFERROR(VLOOKUP(B487,誕生日花!E:F,2,FALSE),\"\"))","v":""}]
["月桂樹","ゲッケイジュ","","栄光と勝利",{"$f":"IFERROR(MATCH(B488,誕生月花!$B$2:$B$13,0),\"\")","v":""},{"$f":"IFERROR(VLOOKUP(B488&C488,誕生日花!E:F,2,FALSE),IFERROR(VLOOKUP(B488,誕生日花!E:F,2,FALSE),\"\"))","v":"2016-03-30"}]
["月桂樹","ゲッケイジュ","","栄光",{"$f":"IFERROR(MATCH(B489,誕生月花!$B$2:$B$13,0),\"\")","v":""},{"$f":"IFERROR(VLOOKUP(B489&C489,誕生日花!E:F,2,FALSE),IFERROR(VLOOKUP(B489,誕生日花!E:F,2,FALSE),\"\"))","v":"2016-03-30"}]
["月桂樹","ゲッケイジュ","","栄誉",{"$f":"IFERROR(MATCH(B490,誕生月花!$B$2:$B$13,0),\"\")","v":""},{"$f":"IFERROR(VLOOKUP(B490&C490,誕生日花!E:F,2,FALSE),IFERROR(VLOOKUP(B490,誕生日花!E:F,2,FALSE),\"\"))","v":"2016-03-30"}]
["月桂樹","ゲッケイジュ","","勝利",{"$f":"IFERROR(MATCH(B491,誕生月花!$B$2:$B$13,0),\"\")","v":""},{"$f":"IFERROR(VLOOKUP(B491&C491,誕生日花!E:F,2,FALSE),IFERROR(VLOOKUP(B491,誕生日花!E:F,2,FALSE),\"\"))","v":"2016-03-30"}]
["月桂樹","ゲッケイジュ","花","裏切り",{"$f":"IFERROR(MATCH(B492,誕生月花!$B$2:$B$13,0),\"\")","v":""},{"$f":"IFERROR(VLOOKUP(B492&C492,誕生日花!E:F,2,FALSE),IFERROR(VLOOKUP(B492,誕生日花!E:F,2,FALSE),\"\"))","v":"2016-03-30"}]
["月桂樹","ゲッケイジュ","葉","私は死ぬまで変わりません",{"$f":"IFERROR(MATCH(B493,誕生月花!$B$2:$B$13,0),\"\")","v":""},{"$f":"IFERROR(VLOOKUP(B493&C493,誕生日花!E:F,2,FALSE),IFERROR(VLOOKUP(B493,誕生日花!E:F,2,FALSE),\"\"))","v":"2016-03-30"}]
["皇帝ダリア","コウテイダリア","","乙女の純潔",{"$f":"IFERROR(MATCH(B494,誕生月花!$B$2:$B$13,0),\"\")","v":""},{"$f":"IFERROR(VLOOKUP(B494&C494,誕生日花!E:F,2,FALSE),IFERROR(VLOOKUP(B494,誕生日花!E:F,2,FALSE),\"\"))","v":""}]
["皇帝ダリア","コウテイダリア","","乙女の真心",{"$f":"IFERROR(MATCH(B495,誕生月花!$B$2:$B$13,0),\"\")","v":""},{"$f":"IFERROR(VLOOKUP(B495&C495,誕生日花!E:F,2,FALSE),IFERROR(VLOOKUP(B495,誕生日花!E:F,2,FALSE),\"\"))","v":""}]
["秋の麒麟草（アキノキリンソウ）","ゴールデンロッド","","用心",{"$f":"IFERROR(MATCH(B496,誕生月花!$B$2:$B$13,0),\"\")","v":""},{"$f":"IFERROR(VLOOKUP(B496&C496,誕生日花!E:F,2,FALSE),IFERROR(VLOOKUP(B496,誕生日花!E:F,2,FALSE),\"\"))","v":""}]
["矢車菊（ヤグルマギク）","コーンフラワー","","天上の人",{"$f":"IFERROR(MATCH(B497,誕生月花!$B$2:$B$13,0),\"\")","v":""},{"$f":"IFERROR(VLOOKUP(B497&C497,誕生日花!E:F,2,FALSE),IFERROR(VLOOKUP(B497,誕生日花!E:F,2,FALSE),\"\"))","v":""}]
["極楽鳥花","ゴクラクチョウカ","","気取った恋",{"$f":"IFERROR(MATCH(B498,誕生月花!$B$2:$B$13,0),\"\")","v":""},{"$f":"IFERROR(VLOOKUP(B498&C498,誕生日花!E:F,2,FALSE),IFERROR(VLOOKUP(B498,誕生日花!E:F,2,FALSE),\"\"))","v":""}]
["秋桜","コスモス","","乙女の心",{"$f":"IFERROR(MATCH(B499,誕生月花!$B$2:$B$13,0),\"\")","v":""},{"$f":"IFERROR(VLOOKUP(B499&C499,誕生日花!E:F,2,FALSE),IFERROR(VLOOKUP(B499,誕生日花!E:F,2,FALSE),\"\"))","v":"2016-09-12"}]
["秋桜","コスモス","","乙女の真心",{"$f":"IFERROR(MATCH(B500,誕生月花!$B$2:$B$13,0),\"\")","v":""},{"$f":"IFERROR(VLOOKUP(B500&C500,誕生日花!E:F,2,FALSE),IFERROR(VLOOKUP(B500,誕生日花!E:F,2,FALSE),\"\"))","v":"2016-09-12"}]
["秋桜","コスモス","","謙虚",{"$f":"IFERROR(MATCH(B501,誕生月花!$B$2:$B$13,0),\"\")","v":""},{"$f":"IFERROR(VLOOKUP(B501&C501,誕生日花!E:F,2,FALSE),IFERROR(VLOOKUP(B501,誕生日花!E:F,2,FALSE),\"\"))","v":"2016-09-12"}]
["秋桜","コスモス","","調和",{"$f":"IFERROR(MATCH(B502,誕生月花!$B$2:$B$13,0),\"\")","v":""},{"$f":"IFERROR(VLOOKUP(B502&C502,誕生日花!E:F,2,FALSE),IFERROR(VLOOKUP(B502,誕生日花!E:F,2,FALSE),\"\"))","v":"2016-09-12"}]
["秋桜","コスモス","ピンク","純潔",{"$f":"IFERROR(MATCH(B503,誕生月花!$B$2:$B$13,0),\"\")","v":""},{"$f":"IFERROR(VLOOKUP(B503&C503,誕生日花!E:F,2,FALSE),IFERROR(VLOOKUP(B503,誕生日花!E:F,2,FALSE),\"\"))","v":"2016-09-12"}]
["秋桜","コスモス","赤","愛情",{"$f":"IFERROR(MATCH(B504,誕生月花!$B$2:$B$13,0),\"\")","v":""},{"$f":"IFERROR(VLOOKUP(B504&C504,誕生日花!E:F,2,FALSE),IFERROR(VLOOKUP(B504,誕生日花!E:F,2,FALSE),\"\"))","v":"2016-09-12"}]
["秋桜","コスモス","白","優美",{"$f":"IFERROR(MATCH(B505,誕生月花!$B$2:$B$13,0),\"\")","v":""},{"$f":"IFERROR(VLOOKUP(B505&C505,誕生日花!E:F,2,FALSE),IFERROR(VLOOKUP(B505,誕生日花!E:F,2,FALSE),\"\"))","v":"2016-09-12"}]
["木立ベゴニア","コダチベゴニア","","無邪気",{"$f":"IFERROR(MATCH(B506,誕生月花!$B$2:$B$13,0),\"\")","v":""},{"$f":"IFERROR(VLOOKUP(B506&C506,誕生日花!E:F,2,FALSE),IFERROR(VLOOKUP(B506,誕生日花!E:F,2,FALSE),\"\"))","v":"2016-11-10"}]
["胡蝶蘭","コチョウラン","","幸福が飛んでくる",{"$f":"IFERROR(MATCH(B507,誕生月花!$B$2:$B$13,0),\"\")","v":""},{"$f":"IFERROR(VLOOKUP(B507&C507,誕生日花!E:F,2,FALSE),IFERROR(VLOOKUP(B507,誕生日花!E:F,2,FALSE),\"\"))","v":"2016-11-25"}]
["胡蝶蘭","コチョウラン","","純粋な愛",{"$f":"IFERROR(MATCH(B508,誕生月花!$B$2:$B$13,0),\"\")","v":""},{"$f":"IFERROR(VLOOKUP(B508&C508,誕生日花!E:F,2,FALSE),IFERROR(VLOOKUP(B508,誕生日花!E:F,2,FALSE),\"\"))","v":"2016-11-25"}]
["胡蝶蘭","コチョウラン","ピンク","あなたを愛してます",{"$f":"IFERROR(MATCH(B509,誕生月花!$B$2:$B$13,0),\"\")","v":""},{"$f":"IFERROR(VLOOKUP(B509&C509,誕生日花!E:F,2,FALSE),IFERROR(VLOOKUP(B509,誕生日花!E:F,2,FALSE),\"\"))","v":"2016-11-25"}]
["胡蝶蘭","コチョウラン","白","清純",{"$f":"IFERROR(MATCH(B510,誕生月花!$B$2:$B$13,0),\"\")","v":""},{"$f":"IFERROR(VLOOKUP(B510&C510,誕生日花!E:F,2,FALSE),IFERROR(VLOOKUP(B510,誕生日花!E:F,2,FALSE),\"\"))","v":"2016-01-11"}]
["色待宵草（イロマツヨイグサ）","ゴデチア","","お慕いいたします",{"$f":"IFERROR(MATCH(B511,誕生月花!$B$2:$B$13,0),\"\")","v":""},{"$f":"IFERROR(VLOOKUP(B511&C511,誕生日花!E:F,2,FALSE),IFERROR(VLOOKUP(B511,誕生日花!E:F,2,FALSE),\"\"))","v":"2016-06-09"}]
["色待宵草（イロマツヨイグサ）","ゴデチア","","変わらぬ愛",{"$f":"IFERROR(MATCH(B512,誕生月花!$B$2:$B$13,0),\"\")","v":""},{"$f":"IFERROR(VLOOKUP(B512&C512,誕生日花!E:F,2,FALSE),IFERROR(VLOOKUP(B512,誕生日花!E:F,2,FALSE),\"\"))","v":"2016-06-09"}]
["小手毬","コデマリ","","品格",{"$f":"IFERROR(MATCH(B513,誕生月花!$B$2:$B$13,0),\"\")","v":""},{"$f":"IFERROR(VLOOKUP(B513&C513,誕生日花!E:F,2,FALSE),IFERROR(VLOOKUP(B513,誕生日花!E:F,2,FALSE),\"\"))","v":"2016-04-05"}]
["小手毬","コデマリ","","上品",{"$f":"IFERROR(MATCH(B514,誕生月花!$B$2:$B$13,0),\"\")","v":""},{"$f":"IFERROR(VLOOKUP(B514&C514,誕生日花!E:F,2,FALSE),IFERROR(VLOOKUP(B514,誕生日花!E:F,2,FALSE),\"\"))","v":"2016-04-05"}]
["小手毬","コデマリ","","優雅",{"$f":"IFERROR(MATCH(B515,誕生月花!$B$2:$B$13,0),\"\")","v":""},{"$f":"IFERROR(VLOOKUP(B515&C515,誕生日花!E:F,2,FALSE),IFERROR(VLOOKUP(B515,誕生日花!E:F,2,FALSE),\"\"))","v":"2016-04-05"}]
["小手毬","コデマリ","","友情",{"$f":"IFERROR(MATCH(B516,誕生月花!$B$2:$B$13,0),\"\")","v":""},{"$f":"IFERROR(VLOOKUP(B516&C516,誕生日花!E:F,2,FALSE),IFERROR(VLOOKUP(B516,誕生日花!E:F,2,FALSE),\"\"))","v":"2016-04-05"}]
["辛夷","コブシ","","愛らしさ",{"$f":"IFERROR(MATCH(B517,誕生月花!$B$2:$B$13,0),\"\")","v":""},{"$f":"IFERROR(VLOOKUP(B517&C517,誕生日花!E:F,2,FALSE),IFERROR(VLOOKUP(B517,誕生日花!E:F,2,FALSE),\"\"))","v":"2016-02-20"}]
["辛夷","コブシ","","友愛",{"$f":"IFERROR(MATCH(B518,誕生月花!$B$2:$B$13,0),\"\")","v":""},{"$f":"IFERROR(VLOOKUP(B518&C518,誕生日花!E:F,2,FALSE),IFERROR(VLOOKUP(B518,誕生日花!E:F,2,FALSE),\"\"))","v":"2016-02-20"}]
["辛夷","コブシ","","友情",{"$f":"IFERROR(MATCH(B519,誕生月花!$B$2:$B$13,0),\"\")","v":""},{"$f":"IFERROR(VLOOKUP(B519&C519,誕生日花!E:F,2,FALSE),IFERROR(VLOOKUP(B519,誕生日花!E:F,2,FALSE),\"\"))","v":"2016-02-20"}]
["牛蒡","ゴボウ","","解放",{"$f":"IFERROR(MATCH(B520,誕生月花!$B$2:$B$13,0),\"\")","v":""},{"$f":"IFERROR(VLOOKUP(B520&C520,誕生日花!E:F,2,FALSE),IFERROR(VLOOKUP(B520,誕生日花!E:F,2,FALSE),\"\"))","v":""}]
["牛蒡","ゴボウ","","いじめないで",{"$f":"IFERROR(MATCH(B521,誕生月花!$B$2:$B$13,0),\"\")","v":""},{"$f":"IFERROR(VLOOKUP(B521&C521,誕生日花!E:F,2,FALSE),IFERROR(VLOOKUP(B521,誕生日花!E:F,2,FALSE),\"\"))","v":""}]
["牛蒡","ゴボウ","","しつこくせがむ",{"$f":"IFERROR(MATCH(B522,誕生月花!$B$2:$B$13,0),\"\")","v":""},{"$f":"IFERROR(VLOOKUP(B522&C522,誕生日花!E:F,2,FALSE),IFERROR(VLOOKUP(B522,誕生日花!E:F,2,FALSE),\"\"))","v":""}]
["牛蒡","ゴボウ","","私にさわらないで",{"$f":"IFERROR(MATCH(B523,誕生月花!$B$2:$B$13,0),\"\")","v":""},{"$f":"IFERROR(VLOOKUP(B523&C523,誕生日花!E:F,2,FALSE),IFERROR(VLOOKUP(B523,誕生日花!E:F,2,FALSE),\"\"))","v":""}]
["牛蒡","ゴボウ","","用心",{"$f":"IFERROR(MATCH(B524,誕生月花!$B$2:$B$13,0),\"\")","v":""},{"$f":"IFERROR(VLOOKUP(B524&C524,誕生日花!E:F,2,FALSE),IFERROR(VLOOKUP(B524,誕生日花!E:F,2,FALSE),\"\"))","v":""}]
["パクチー","コリアンダー","","秘密の富",{"$f":"IFERROR(MATCH(B525,誕生月花!$B$2:$B$13,0),\"\")","v":""},{"$f":"IFERROR(VLOOKUP(B525&C525,誕生日花!E:F,2,FALSE),IFERROR(VLOOKUP(B525,誕生日花!E:F,2,FALSE),\"\"))","v":""}]
["金襴紫蘇（キンランジソ）","コリウス","","かなわぬ恋",{"$f":"IFERROR(MATCH(B526,誕生月花!$B$2:$B$13,0),\"\")","v":""},{"$f":"IFERROR(VLOOKUP(B526&C526,誕生日花!E:F,2,FALSE),IFERROR(VLOOKUP(B526,誕生日花!E:F,2,FALSE),\"\"))","v":""}]
["金襴紫蘇（キンランジソ）","コリウス","","健康",{"$f":"IFERROR(MATCH(B527,誕生月花!$B$2:$B$13,0),\"\")","v":""},{"$f":"IFERROR(VLOOKUP(B527&C527,誕生日花!E:F,2,FALSE),IFERROR(VLOOKUP(B527,誕生日花!E:F,2,FALSE),\"\"))","v":""}]
["金襴紫蘇（キンランジソ）","コリウス","","善良な家風",{"$f":"IFERROR(MATCH(B528,誕生月花!$B$2:$B$13,0),\"\")","v":""},{"$f":"IFERROR(VLOOKUP(B528&C528,誕生日花!E:F,2,FALSE),IFERROR(VLOOKUP(B528,誕生日花!E:F,2,FALSE),\"\"))","v":""}]
["犬サフラン（イヌサフラン）","コルチカム","","危険な美しさ",{"$f":"IFERROR(MATCH(B529,誕生月花!$B$2:$B$13,0),\"\")","v":""},{"$f":"IFERROR(VLOOKUP(B529&C529,誕生日花!E:F,2,FALSE),IFERROR(VLOOKUP(B529,誕生日花!E:F,2,FALSE),\"\"))","v":"2016-09-30"}]
["犬サフラン（イヌサフラン）","コルチカム","","私の最良の日々は過ぎ去った",{"$f":"IFERROR(MATCH(B530,誕生月花!$B$2:$B$13,0),\"\")","v":""},{"$f":"IFERROR(VLOOKUP(B530&C530,誕生日花!E:F,2,FALSE),IFERROR(VLOOKUP(B530,誕生日花!E:F,2,FALSE),\"\"))","v":"2016-09-30"}]
["嵯峨菊","サガギク","","フェミニン",{"$f":"IFERROR(MATCH(B531,誕生月花!$B$2:$B$13,0),\"\")","v":""},{"$f":"IFERROR(VLOOKUP(B531&C531,誕生日花!E:F,2,FALSE),IFERROR(VLOOKUP(B531,誕生日花!E:F,2,FALSE),\"\"))","v":"2016-09-23"}]
["鷺草","サギソウ","","清純",{"$f":"IFERROR(MATCH(B532,誕生月花!$B$2:$B$13,0),\"\")","v":""},{"$f":"IFERROR(VLOOKUP(B532&C532,誕生日花!E:F,2,FALSE),IFERROR(VLOOKUP(B532,誕生日花!E:F,2,FALSE),\"\"))","v":"2016-06-18"}]
["鷺草","サギソウ","","繊細",{"$f":"IFERROR(MATCH(B533,誕生月花!$B$2:$B$13,0),\"\")","v":""},{"$f":"IFERROR(VLOOKUP(B533&C533,誕生日花!E:F,2,FALSE),IFERROR(VLOOKUP(B533,誕生日花!E:F,2,FALSE),\"\"))","v":"2016-06-18"}]
["鷺草","サギソウ","","夢でもあなたを想う",{"$f":"IFERROR(MATCH(B534,誕生月花!$B$2:$B$13,0),\"\")","v":""},{"$f":"IFERROR(VLOOKUP(B534&C534,誕生日花!E:F,2,FALSE),IFERROR(VLOOKUP(B534,誕生日花!E:F,2,FALSE),\"\"))","v":"2016-06-18"}]
["雲間草（クモマグサ）","サクシフラガ","","自信",{"$f":"IFERROR(MATCH(B535,誕生月花!$B$2:$B$13,0),\"\")","v":""},{"$f":"IFERROR(VLOOKUP(B535&C535,誕生日花!E:F,2,FALSE),IFERROR(VLOOKUP(B535,誕生日花!E:F,2,FALSE),\"\"))","v":"2016-02-14"}]
["桜","サクラ","","精神美",{"$f":"IFERROR(MATCH(B536,誕生月花!$B$2:$B$13,0),\"\")","v":4},{"$f":"IFERROR(VLOOKUP(B536&C536,誕生日花!E:F,2,FALSE),IFERROR(VLOOKUP(B536,誕生日花!E:F,2,FALSE),\"\"))","v":"2016-04-07"}]
["桜","サクラ","","優美な女性",{"$f":"IFERROR(MATCH(B537,誕生月花!$B$2:$B$13,0),\"\")","v":4},{"$f":"IFERROR(VLOOKUP(B537&C537,誕生日花!E:F,2,FALSE),IFERROR(VLOOKUP(B537,誕生日花!E:F,2,FALSE),\"\"))","v":"2016-04-07"}]
["桜草","サクラソウ","","純潔",{"$f":"IFERROR(MATCH(B538,誕生月花!$B$2:$B$13,0),\"\")","v":""},{"$f":"IFERROR(VLOOKUP(B538&C538,誕生日花!E:F,2,FALSE),IFERROR(VLOOKUP(B538,誕生日花!E:F,2,FALSE),\"\"))","v":"2016-01-30"}]
["桜草","サクラソウ","","憧れ",{"$f":"IFERROR(MATCH(B539,誕生月花!$B$2:$B$13,0),\"\")","v":""},{"$f":"IFERROR(VLOOKUP(B539&C539,誕生日花!E:F,2,FALSE),IFERROR(VLOOKUP(B539,誕生日花!E:F,2,FALSE),\"\"))","v":"2016-01-30"}]
["桜草","サクラソウ","","初恋",{"$f":"IFERROR(MATCH(B540,誕生月花!$B$2:$B$13,0),\"\")","v":""},{"$f":"IFERROR(VLOOKUP(B540&C540,誕生日花!E:F,2,FALSE),IFERROR(VLOOKUP(B540,誕生日花!E:F,2,FALSE),\"\"))","v":"2016-01-30"}]
["桜草","サクラソウ","オブコニカ","少年時代の希望",{"$f":"IFERROR(MATCH(B541,誕生月花!$B$2:$B$13,0),\"\")","v":""},{"$f":"IFERROR(VLOOKUP(B541&C541,誕生日花!E:F,2,FALSE),IFERROR(VLOOKUP(B541,誕生日花!E:F,2,FALSE),\"\"))","v":"2016-01-30"}]
["桜草","サクラソウ","ジュリアン","神秘的な心",{"$f":"IFERROR(MATCH(B542,誕生月花!$B$2:$B$13,0),\"\")","v":""},{"$f":"IFERROR(VLOOKUP(B542&C542,誕生日花!E:F,2,FALSE),IFERROR(VLOOKUP(B542,誕生日花!E:F,2,FALSE),\"\"))","v":"2016-01-30"}]
["桜草","サクラソウ","ポリアンサ","運命を切り開く",{"$f":"IFERROR(MATCH(B543,誕生月花!$B$2:$B$13,0),\"\")","v":""},{"$f":"IFERROR(VLOOKUP(B543&C543,誕生日花!E:F,2,FALSE),IFERROR(VLOOKUP(B543,誕生日花!E:F,2,FALSE),\"\"))","v":"2016-01-30"}]
["桜草","サクラソウ","桜草","若い時代と苦悩",{"$f":"IFERROR(MATCH(B544,誕生月花!$B$2:$B$13,0),\"\")","v":""},{"$f":"IFERROR(VLOOKUP(B544&C544,誕生日花!E:F,2,FALSE),IFERROR(VLOOKUP(B544,誕生日花!E:F,2,FALSE),\"\"))","v":"2016-01-30"}]
["桜草","サクラソウ","赤","美の秘密",{"$f":"IFERROR(MATCH(B545,誕生月花!$B$2:$B$13,0),\"\")","v":""},{"$f":"IFERROR(VLOOKUP(B545&C545,誕生日花!E:F,2,FALSE),IFERROR(VLOOKUP(B545,誕生日花!E:F,2,FALSE),\"\"))","v":"2016-01-30"}]
["桜草","サクラソウ","白","正当",{"$f":"IFERROR(MATCH(B546,誕生月花!$B$2:$B$13,0),\"\")","v":""},{"$f":"IFERROR(VLOOKUP(B546&C546,誕生日花!E:F,2,FALSE),IFERROR(VLOOKUP(B546,誕生日花!E:F,2,FALSE),\"\"))","v":"2016-01-30"}]
["桜桃","サクランボ","","真実の心",{"$f":"IFERROR(MATCH(B547,誕生月花!$B$2:$B$13,0),\"\")","v":""},{"$f":"IFERROR(VLOOKUP(B547&C547,誕生日花!E:F,2,FALSE),IFERROR(VLOOKUP(B547,誕生日花!E:F,2,FALSE),\"\"))","v":""}]
["柘榴","ザクロ","花","円熟の美",{"$f":"IFERROR(MATCH(B548,誕生月花!$B$2:$B$13,0),\"\")","v":""},{"$f":"IFERROR(VLOOKUP(B548&C548,誕生日花!E:F,2,FALSE),IFERROR(VLOOKUP(B548,誕生日花!E:F,2,FALSE),\"\"))","v":""}]
["柘榴","ザクロ","花","円熟した優雅さ",{"$f":"IFERROR(MATCH(B549,誕生月花!$B$2:$B$13,0),\"\")","v":""},{"$f":"IFERROR(VLOOKUP(B549&C549,誕生日花!E:F,2,FALSE),IFERROR(VLOOKUP(B549,誕生日花!E:F,2,FALSE),\"\"))","v":""}]
["柘榴","ザクロ","実","希望の成就",{"$f":"IFERROR(MATCH(B550,誕生月花!$B$2:$B$13,0),\"\")","v":""},{"$f":"IFERROR(VLOOKUP(B550&C550,誕生日花!E:F,2,FALSE),IFERROR(VLOOKUP(B550,誕生日花!E:F,2,FALSE),\"\"))","v":""}]
["柘榴","ザクロ","実","愚かしさ",{"$f":"IFERROR(MATCH(B551,誕生月花!$B$2:$B$13,0),\"\")","v":""},{"$f":"IFERROR(VLOOKUP(B551&C551,誕生日花!E:F,2,FALSE),IFERROR(VLOOKUP(B551,誕生日花!E:F,2,FALSE),\"\"))","v":""}]
["柘榴","ザクロ","実","結合",{"$f":"IFERROR(MATCH(B552,誕生月花!$B$2:$B$13,0),\"\")","v":""},{"$f":"IFERROR(VLOOKUP(B552&C552,誕生日花!E:F,2,FALSE),IFERROR(VLOOKUP(B552,誕生日花!E:F,2,FALSE),\"\"))","v":""}]
["笹百合","ササユリ","","上品",{"$f":"IFERROR(MATCH(B553,誕生月花!$B$2:$B$13,0),\"\")","v":""},{"$f":"IFERROR(VLOOKUP(B553&C553,誕生日花!E:F,2,FALSE),IFERROR(VLOOKUP(B553,誕生日花!E:F,2,FALSE),\"\"))","v":"2016-06-23"}]
["笹百合","ササユリ","","清浄",{"$f":"IFERROR(MATCH(B554,誕生月花!$B$2:$B$13,0),\"\")","v":""},{"$f":"IFERROR(VLOOKUP(B554&C554,誕生日花!E:F,2,FALSE),IFERROR(VLOOKUP(B554,誕生日花!E:F,2,FALSE),\"\"))","v":"2016-06-23"}]
["山茶花","サザンカ","","ひたむきに愛します",{"$f":"IFERROR(MATCH(B555,誕生月花!$B$2:$B$13,0),\"\")","v":""},{"$f":"IFERROR(VLOOKUP(B555&C555,誕生日花!E:F,2,FALSE),IFERROR(VLOOKUP(B555,誕生日花!E:F,2,FALSE),\"\"))","v":"2016-11-13"}]
["山茶花","サザンカ","","ひたむきさ",{"$f":"IFERROR(MATCH(B556,誕生月花!$B$2:$B$13,0),\"\")","v":""},{"$f":"IFERROR(VLOOKUP(B556&C556,誕生日花!E:F,2,FALSE),IFERROR(VLOOKUP(B556,誕生日花!E:F,2,FALSE),\"\"))","v":"2016-11-13"}]
["山茶花","サザンカ","","困難に打ち克つ",{"$f":"IFERROR(MATCH(B557,誕生月花!$B$2:$B$13,0),\"\")","v":""},{"$f":"IFERROR(VLOOKUP(B557&C557,誕生日花!E:F,2,FALSE),IFERROR(VLOOKUP(B557,誕生日花!E:F,2,FALSE),\"\"))","v":"2016-11-13"}]
["山茶花","サザンカ","ピンク","永遠の愛",{"$f":"IFERROR(MATCH(B558,誕生月花!$B$2:$B$13,0),\"\")","v":""},{"$f":"IFERROR(VLOOKUP(B558&C558,誕生日花!E:F,2,FALSE),IFERROR(VLOOKUP(B558,誕生日花!E:F,2,FALSE),\"\"))","v":"2016-11-13"}]
["山茶花","サザンカ","赤","あなたがもっとも美しい",{"$f":"IFERROR(MATCH(B559,誕生月花!$B$2:$B$13,0),\"\")","v":""},{"$f":"IFERROR(VLOOKUP(B559&C559,誕生日花!E:F,2,FALSE),IFERROR(VLOOKUP(B559,誕生日花!E:F,2,FALSE),\"\"))","v":"2016-11-13"}]
["山茶花","サザンカ","赤","謙譲",{"$f":"IFERROR(MATCH(B560,誕生月花!$B$2:$B$13,0),\"\")","v":""},{"$f":"IFERROR(VLOOKUP(B560&C560,誕生日花!E:F,2,FALSE),IFERROR(VLOOKUP(B560,誕生日花!E:F,2,FALSE),\"\"))","v":"2016-11-13"}]
["山茶花","サザンカ","白","あなたは私の愛を退ける",{"$f":"IFERROR(MATCH(B561,誕生月花!$B$2:$B$13,0),\"\")","v":""},{"$f":"IFERROR(VLOOKUP(B561&C561,誕生日花!E:F,2,FALSE),IFERROR(VLOOKUP(B561,誕生日花!E:F,2,FALSE),\"\"))","v":"2016-11-13"}]
["山茶花","サザンカ","白","愛嬌",{"$f":"IFERROR(MATCH(B562,誕生月花!$B$2:$B$13,0),\"\")","v":""},{"$f":"IFERROR(VLOOKUP(B562&C562,誕生日花!E:F,2,FALSE),IFERROR(VLOOKUP(B562,誕生日花!E:F,2,FALSE),\"\"))","v":"2016-11-13"}]
["皐月","サツキ","","節制",{"$f":"IFERROR(MATCH(B563,誕生月花!$B$2:$B$13,0),\"\")","v":""},{"$f":"IFERROR(VLOOKUP(B563&C563,誕生日花!E:F,2,FALSE),IFERROR(VLOOKUP(B563,誕生日花!E:F,2,FALSE),\"\"))","v":"2016-05-13"}]
["里桜","サトザクラ","","豊かな教養",{"$f":"IFERROR(MATCH(B564,誕生月花!$B$2:$B$13,0),\"\")","v":""},{"$f":"IFERROR(VLOOKUP(B564&C564,誕生日花!E:F,2,FALSE),IFERROR(VLOOKUP(B564,誕生日花!E:F,2,FALSE),\"\"))","v":""}]
["里桜","サトザクラ","","しとやか",{"$f":"IFERROR(MATCH(B565,誕生月花!$B$2:$B$13,0),\"\")","v":""},{"$f":"IFERROR(VLOOKUP(B565&C565,誕生日花!E:F,2,FALSE),IFERROR(VLOOKUP(B565,誕生日花!E:F,2,FALSE),\"\"))","v":""}]
["里桜","サトザクラ","","善良な教育",{"$f":"IFERROR(MATCH(B566,誕生月花!$B$2:$B$13,0),\"\")","v":""},{"$f":"IFERROR(VLOOKUP(B566&C566,誕生日花!E:F,2,FALSE),IFERROR(VLOOKUP(B566,誕生日花!E:F,2,FALSE),\"\"))","v":""}]
["番紅花（サフラン）","サフラン","","歓喜",{"$f":"IFERROR(MATCH(B567,誕生月花!$B$2:$B$13,0),\"\")","v":""},{"$f":"IFERROR(VLOOKUP(B567&C567,誕生日花!E:F,2,FALSE),IFERROR(VLOOKUP(B567,誕生日花!E:F,2,FALSE),\"\"))","v":"2016-12-01"}]
["番紅花（サフラン）","サフラン","","過度をつつしめ",{"$f":"IFERROR(MATCH(B568,誕生月花!$B$2:$B$13,0),\"\")","v":""},{"$f":"IFERROR(VLOOKUP(B568&C568,誕生日花!E:F,2,FALSE),IFERROR(VLOOKUP(B568,誕生日花!E:F,2,FALSE),\"\"))","v":"2016-12-01"}]
["番紅花（サフラン）","サフラン","","歓喜",{"$f":"IFERROR(MATCH(B569,誕生月花!$B$2:$B$13,0),\"\")","v":""},{"$f":"IFERROR(VLOOKUP(B569&C569,誕生日花!E:F,2,FALSE),IFERROR(VLOOKUP(B569,誕生日花!E:F,2,FALSE),\"\"))","v":"2016-12-01"}]
["番紅花（サフラン）","サフラン","","濫用するな",{"$f":"IFERROR(MATCH(B570,誕生月花!$B$2:$B$13,0),\"\")","v":""},{"$f":"IFERROR(VLOOKUP(B570&C570,誕生日花!E:F,2,FALSE),IFERROR(VLOOKUP(B570,誕生日花!E:F,2,FALSE),\"\"))","v":"2016-12-01"}]
["仙人掌","サボテン","","燃える心",{"$f":"IFERROR(MATCH(B571,誕生月花!$B$2:$B$13,0),\"\")","v":""},{"$f":"IFERROR(VLOOKUP(B571&C571,誕生日花!E:F,2,FALSE),IFERROR(VLOOKUP(B571,誕生日花!E:F,2,FALSE),\"\"))","v":""}]
["仙人掌","サボテン","","偉大",{"$f":"IFERROR(MATCH(B572,誕生月花!$B$2:$B$13,0),\"\")","v":""},{"$f":"IFERROR(VLOOKUP(B572&C572,誕生日花!E:F,2,FALSE),IFERROR(VLOOKUP(B572,誕生日花!E:F,2,FALSE),\"\"))","v":""}]
["仙人掌","サボテン","","枯れない愛",{"$f":"IFERROR(MATCH(B573,誕生月花!$B$2:$B$13,0),\"\")","v":""},{"$f":"IFERROR(VLOOKUP(B573&C573,誕生日花!E:F,2,FALSE),IFERROR(VLOOKUP(B573,誕生日花!E:F,2,FALSE),\"\"))","v":""}]
["仙人掌","サボテン","","暖かい心",{"$f":"IFERROR(MATCH(B574,誕生月花!$B$2:$B$13,0),\"\")","v":""},{"$f":"IFERROR(VLOOKUP(B574&C574,誕生日花!E:F,2,FALSE),IFERROR(VLOOKUP(B574,誕生日花!E:F,2,FALSE),\"\"))","v":""}]
["百日紅","サルスベリ","","雄弁",{"$f":"IFERROR(MATCH(B575,誕生月花!$B$2:$B$13,0),\"\")","v":""},{"$f":"IFERROR(VLOOKUP(B575&C575,誕生日花!E:F,2,FALSE),IFERROR(VLOOKUP(B575,誕生日花!E:F,2,FALSE),\"\"))","v":"2016-09-11"}]
["百日紅","サルスベリ","","愛嬌",{"$f":"IFERROR(MATCH(B576,誕生月花!$B$2:$B$13,0),\"\")","v":""},{"$f":"IFERROR(VLOOKUP(B576&C576,誕生日花!E:F,2,FALSE),IFERROR(VLOOKUP(B576,誕生日花!E:F,2,FALSE),\"\"))","v":"2016-09-11"}]
["来路花","サルビア","","家族愛",{"$f":"IFERROR(MATCH(B577,誕生月花!$B$2:$B$13,0),\"\")","v":""},{"$f":"IFERROR(VLOOKUP(B577&C577,誕生日花!E:F,2,FALSE),IFERROR(VLOOKUP(B577,誕生日花!E:F,2,FALSE),\"\"))","v":""}]
["来路花","サルビア","","尊敬",{"$f":"IFERROR(MATCH(B578,誕生月花!$B$2:$B$13,0),\"\")","v":""},{"$f":"IFERROR(VLOOKUP(B578&C578,誕生日花!E:F,2,FALSE),IFERROR(VLOOKUP(B578,誕生日花!E:F,2,FALSE),\"\"))","v":""}]
["来路花","サルビア","","知恵",{"$f":"IFERROR(MATCH(B579,誕生月花!$B$2:$B$13,0),\"\")","v":""},{"$f":"IFERROR(VLOOKUP(B579&C579,誕生日花!E:F,2,FALSE),IFERROR(VLOOKUP(B579,誕生日花!E:F,2,FALSE),\"\"))","v":""}]
["来路花","サルビア","","良い家庭",{"$f":"IFERROR(MATCH(B580,誕生月花!$B$2:$B$13,0),\"\")","v":""},{"$f":"IFERROR(VLOOKUP(B580&C580,誕生日花!E:F,2,FALSE),IFERROR(VLOOKUP(B580,誕生日花!E:F,2,FALSE),\"\"))","v":""}]
["来路花","サルビア","紫","尊敬",{"$f":"IFERROR(MATCH(B581,誕生月花!$B$2:$B$13,0),\"\")","v":""},{"$f":"IFERROR(VLOOKUP(B581&C581,誕生日花!E:F,2,FALSE),IFERROR(VLOOKUP(B581,誕生日花!E:F,2,FALSE),\"\"))","v":"2016-09-18"}]
["来路花","サルビア","赤","燃ゆる思い",{"$f":"IFERROR(MATCH(B582,誕生月花!$B$2:$B$13,0),\"\")","v":""},{"$f":"IFERROR(VLOOKUP(B582&C582,誕生日花!E:F,2,FALSE),IFERROR(VLOOKUP(B582,誕生日花!E:F,2,FALSE),\"\"))","v":"2016-08-14"}]
["来路花","サルビア","赤","燃える思い",{"$f":"IFERROR(MATCH(B583,誕生月花!$B$2:$B$13,0),\"\")","v":""},{"$f":"IFERROR(VLOOKUP(B583&C583,誕生日花!E:F,2,FALSE),IFERROR(VLOOKUP(B583,誕生日花!E:F,2,FALSE),\"\"))","v":"2016-08-14"}]
["沢桔梗","サワギキョウ","","悪意",{"$f":"IFERROR(MATCH(B584,誕生月花!$B$2:$B$13,0),\"\")","v":""},{"$f":"IFERROR(VLOOKUP(B584&C584,誕生日花!E:F,2,FALSE),IFERROR(VLOOKUP(B584,誕生日花!E:F,2,FALSE),\"\"))","v":""}]
["沢桔梗","サワギキョウ","","高貴",{"$f":"IFERROR(MATCH(B585,誕生月花!$B$2:$B$13,0),\"\")","v":""},{"$f":"IFERROR(VLOOKUP(B585&C585,誕生日花!E:F,2,FALSE),IFERROR(VLOOKUP(B585,誕生日花!E:F,2,FALSE),\"\"))","v":""}]
["沢桔梗","サワギキョウ","","特異な才能",{"$f":"IFERROR(MATCH(B586,誕生月花!$B$2:$B$13,0),\"\")","v":""},{"$f":"IFERROR(VLOOKUP(B586&C586,誕生日花!E:F,2,FALSE),IFERROR(VLOOKUP(B586,誕生日花!E:F,2,FALSE),\"\"))","v":""}]
["山査子","サンザシ","","希望",{"$f":"IFERROR(MATCH(B587,誕生月花!$B$2:$B$13,0),\"\")","v":""},{"$f":"IFERROR(VLOOKUP(B587&C587,誕生日花!E:F,2,FALSE),IFERROR(VLOOKUP(B587,誕生日花!E:F,2,FALSE),\"\"))","v":""}]
["山査子","サンザシ","","慎重",{"$f":"IFERROR(MATCH(B588,誕生月花!$B$2:$B$13,0),\"\")","v":""},{"$f":"IFERROR(VLOOKUP(B588&C588,誕生日花!E:F,2,FALSE),IFERROR(VLOOKUP(B588,誕生日花!E:F,2,FALSE),\"\"))","v":""}]
["山茱萸","サンシュユ","","永遠",{"$f":"IFERROR(MATCH(B589,誕生月花!$B$2:$B$13,0),\"\")","v":""},{"$f":"IFERROR(VLOOKUP(B589&C589,誕生日花!E:F,2,FALSE),IFERROR(VLOOKUP(B589,誕生日花!E:F,2,FALSE),\"\"))","v":"2016-02-15"}]
["千年蘭（チトセラン）","サンセベリア","","永久",{"$f":"IFERROR(MATCH(B590,誕生月花!$B$2:$B$13,0),\"\")","v":""},{"$f":"IFERROR(VLOOKUP(B590&C590,誕生日花!E:F,2,FALSE),IFERROR(VLOOKUP(B590,誕生日花!E:F,2,FALSE),\"\"))","v":""}]
["提灯百合（チョウチンユリ）","サンダーソニア","","愛嬌",{"$f":"IFERROR(MATCH(B591,誕生月花!$B$2:$B$13,0),\"\")","v":""},{"$f":"IFERROR(VLOOKUP(B591&C591,誕生日花!E:F,2,FALSE),IFERROR(VLOOKUP(B591,誕生日花!E:F,2,FALSE),\"\"))","v":"2016-06-27"}]
["提灯百合（チョウチンユリ）","サンダーソニア","","祈り",{"$f":"IFERROR(MATCH(B592,誕生月花!$B$2:$B$13,0),\"\")","v":""},{"$f":"IFERROR(VLOOKUP(B592&C592,誕生日花!E:F,2,FALSE),IFERROR(VLOOKUP(B592,誕生日花!E:F,2,FALSE),\"\"))","v":"2016-06-27"}]
["提灯百合（チョウチンユリ）","サンダーソニア","","望郷",{"$f":"IFERROR(MATCH(B593,誕生月花!$B$2:$B$13,0),\"\")","v":""},{"$f":"IFERROR(VLOOKUP(B593&C593,誕生日花!E:F,2,FALSE),IFERROR(VLOOKUP(B593,誕生日花!E:F,2,FALSE),\"\"))","v":"2016-06-27"}]
["綿杉菊（ワタスギギク）","サントリナ","","悪を遠ざける",{"$f":"IFERROR(MATCH(B594,誕生月花!$B$2:$B$13,0),\"\")","v":""},{"$f":"IFERROR(VLOOKUP(B594&C594,誕生日花!E:F,2,FALSE),IFERROR(VLOOKUP(B594,誕生日花!E:F,2,FALSE),\"\"))","v":""}]
["綿杉菊（ワタスギギク）","サントリナ","","移り気な人",{"$f":"IFERROR(MATCH(B595,誕生月花!$B$2:$B$13,0),\"\")","v":""},{"$f":"IFERROR(VLOOKUP(B595&C595,誕生日花!E:F,2,FALSE),IFERROR(VLOOKUP(B595,誕生日花!E:F,2,FALSE),\"\"))","v":""}]
["蛇ノ目菊（ジャノメギク）","サンビタリア","","私を見つめて",{"$f":"IFERROR(MATCH(B596,誕生月花!$B$2:$B$13,0),\"\")","v":""},{"$f":"IFERROR(VLOOKUP(B596&C596,誕生日花!E:F,2,FALSE),IFERROR(VLOOKUP(B596,誕生日花!E:F,2,FALSE),\"\"))","v":""}]
["瑠璃溝隠（ルリミゾカクシ）","シーマニア","","コミュニケーション",{"$f":"IFERROR(MATCH(B597,誕生月花!$B$2:$B$13,0),\"\")","v":""},{"$f":"IFERROR(VLOOKUP(B597&C597,誕生日花!E:F,2,FALSE),IFERROR(VLOOKUP(B597,誕生日花!E:F,2,FALSE),\"\"))","v":"2016-11-26"}]
["瑠璃溝隠（ルリミゾカクシ）","シーマニア","","繁栄",{"$f":"IFERROR(MATCH(B598,誕生月花!$B$2:$B$13,0),\"\")","v":""},{"$f":"IFERROR(VLOOKUP(B598&C598,誕生日花!E:F,2,FALSE),IFERROR(VLOOKUP(B598,誕生日花!E:F,2,FALSE),\"\"))","v":"2016-11-26"}]
["瑠璃溝隠（ルリミゾカクシ）","シーマニア","","栄華",{"$f":"IFERROR(MATCH(B599,誕生月花!$B$2:$B$13,0),\"\")","v":""},{"$f":"IFERROR(VLOOKUP(B599&C599,誕生日花!E:F,2,FALSE),IFERROR(VLOOKUP(B599,誕生日花!E:F,2,FALSE),\"\"))","v":"2016-11-26"}]
["紫菀","シオン","","遠方にある人を思う",{"$f":"IFERROR(MATCH(B600,誕生月花!$B$2:$B$13,0),\"\")","v":""},{"$f":"IFERROR(VLOOKUP(B600&C600,誕生日花!E:F,2,FALSE),IFERROR(VLOOKUP(B600,誕生日花!E:F,2,FALSE),\"\"))","v":"2016-10-10"}]
["紫菀","シオン","","君を忘れない",{"$f":"IFERROR(MATCH(B601,誕生月花!$B$2:$B$13,0),\"\")","v":""},{"$f":"IFERROR(VLOOKUP(B601&C601,誕生日花!E:F,2,FALSE),IFERROR(VLOOKUP(B601,誕生日花!E:F,2,FALSE),\"\"))","v":"2016-10-10"}]
["紫菀","シオン","","追憶",{"$f":"IFERROR(MATCH(B602,誕生月花!$B$2:$B$13,0),\"\")","v":""},{"$f":"IFERROR(VLOOKUP(B602&C602,誕生日花!E:F,2,FALSE),IFERROR(VLOOKUP(B602,誕生日花!E:F,2,FALSE),\"\"))","v":"2016-10-10"}]
["狐ノ手袋（キツネノテブクロ）","ジギタリス","","熱愛",{"$f":"IFERROR(MATCH(B603,誕生月花!$B$2:$B$13,0),\"\")","v":""},{"$f":"IFERROR(VLOOKUP(B603&C603,誕生日花!E:F,2,FALSE),IFERROR(VLOOKUP(B603,誕生日花!E:F,2,FALSE),\"\"))","v":"2016-05-18"}]
["狐ノ手袋（キツネノテブクロ）","ジギタリス","","不誠実",{"$f":"IFERROR(MATCH(B604,誕生月花!$B$2:$B$13,0),\"\")","v":""},{"$f":"IFERROR(VLOOKUP(B604&C604,誕生日花!E:F,2,FALSE),IFERROR(VLOOKUP(B604,誕生日花!E:F,2,FALSE),\"\"))","v":"2016-05-18"}]
["篝火花（カガリビバナ）","シクラメン","","はにかみ",{"$f":"IFERROR(MATCH(B605,誕生月花!$B$2:$B$13,0),\"\")","v":11},{"$f":"IFERROR(VLOOKUP(B605&C605,誕生日花!E:F,2,FALSE),IFERROR(VLOOKUP(B605,誕生日花!E:F,2,FALSE),\"\"))","v":""}]
["篝火花（カガリビバナ）","シクラメン","","遠慮",{"$f":"IFERROR(MATCH(B606,誕生月花!$B$2:$B$13,0),\"\")","v":11},{"$f":"IFERROR(VLOOKUP(B606&C606,誕生日花!E:F,2,FALSE),IFERROR(VLOOKUP(B606,誕生日花!E:F,2,FALSE),\"\"))","v":""}]
["篝火花（カガリビバナ）","シクラメン","","気後れ",{"$f":"IFERROR(MATCH(B607,誕生月花!$B$2:$B$13,0),\"\")","v":11},{"$f":"IFERROR(VLOOKUP(B607&C607,誕生日花!E:F,2,FALSE),IFERROR(VLOOKUP(B607,誕生日花!E:F,2,FALSE),\"\"))","v":""}]
["篝火花（カガリビバナ）","シクラメン","","内気",{"$f":"IFERROR(MATCH(B608,誕生月花!$B$2:$B$13,0),\"\")","v":11},{"$f":"IFERROR(VLOOKUP(B608&C608,誕生日花!E:F,2,FALSE),IFERROR(VLOOKUP(B608,誕生日花!E:F,2,FALSE),\"\"))","v":""}]
["篝火花（カガリビバナ）","シクラメン","","はにかみ",{"$f":"IFERROR(MATCH(B609,誕生月花!$B$2:$B$13,0),\"\")","v":11},{"$f":"IFERROR(VLOOKUP(B609&C609,誕生日花!E:F,2,FALSE),IFERROR(VLOOKUP(B609,誕生日花!E:F,2,FALSE),\"\"))","v":""}]
["篝火花（カガリビバナ）","シクラメン","ピンク","憧れ",{"$f":"IFERROR(MATCH(B610,誕生月花!$B$2:$B$13,0),\"\")","v":11},{"$f":"IFERROR(VLOOKUP(B610&C610,誕生日花!E:F,2,FALSE),IFERROR(VLOOKUP(B610,誕生日花!E:F,2,FALSE),\"\"))","v":"2016-02-03"}]
["篝火花（カガリビバナ）","シクラメン","ピンク","憧れ",{"$f":"IFERROR(MATCH(B611,誕生月花!$B$2:$B$13,0),\"\")","v":11},{"$f":"IFERROR(VLOOKUP(B611&C611,誕生日花!E:F,2,FALSE),IFERROR(VLOOKUP(B611,誕生日花!E:F,2,FALSE),\"\"))","v":"2016-02-03"}]
["篝火花（カガリビバナ）","シクラメン","赤","感情の手放し",{"$f":"IFERROR(MATCH(B612,誕生月花!$B$2:$B$13,0),\"\")","v":11},{"$f":"IFERROR(VLOOKUP(B612&C612,誕生日花!E:F,2,FALSE),IFERROR(VLOOKUP(B612,誕生日花!E:F,2,FALSE),\"\"))","v":"2016-11-14"}]
["篝火花（カガリビバナ）","シクラメン","赤","嫉妬",{"$f":"IFERROR(MATCH(B613,誕生月花!$B$2:$B$13,0),\"\")","v":11},{"$f":"IFERROR(VLOOKUP(B613&C613,誕生日花!E:F,2,FALSE),IFERROR(VLOOKUP(B613,誕生日花!E:F,2,FALSE),\"\"))","v":"2016-11-14"}]
["篝火花（カガリビバナ）","シクラメン","白","清純",{"$f":"IFERROR(MATCH(B614,誕生月花!$B$2:$B$13,0),\"\")","v":11},{"$f":"IFERROR(VLOOKUP(B614&C614,誕生日花!E:F,2,FALSE),IFERROR(VLOOKUP(B614,誕生日花!E:F,2,FALSE),\"\"))","v":""}]
["午時葵（ゴジアオイ）","シスタス","","注目",{"$f":"IFERROR(MATCH(B615,誕生月花!$B$2:$B$13,0),\"\")","v":""},{"$f":"IFERROR(VLOOKUP(B615&C615,誕生日花!E:F,2,FALSE),IFERROR(VLOOKUP(B615,誕生日花!E:F,2,FALSE),\"\"))","v":""}]
["枝垂桜","シダレザクラ","","ごまかし",{"$f":"IFERROR(MATCH(B616,誕生月花!$B$2:$B$13,0),\"\")","v":""},{"$f":"IFERROR(VLOOKUP(B616&C616,誕生日花!E:F,2,FALSE),IFERROR(VLOOKUP(B616,誕生日花!E:F,2,FALSE),\"\"))","v":""}]
["枝垂桜","シダレザクラ","","優美",{"$f":"IFERROR(MATCH(B617,誕生月花!$B$2:$B$13,0),\"\")","v":""},{"$f":"IFERROR(VLOOKUP(B617&C617,誕生日花!E:F,2,FALSE),IFERROR(VLOOKUP(B617,誕生日花!E:F,2,FALSE),\"\"))","v":""}]
["枝垂柳","シダレヤナギ","","悲哀",{"$f":"IFERROR(MATCH(B618,誕生月花!$B$2:$B$13,0),\"\")","v":""},{"$f":"IFERROR(VLOOKUP(B618&C618,誕生日花!E:F,2,FALSE),IFERROR(VLOOKUP(B618,誕生日花!E:F,2,FALSE),\"\"))","v":""}]
["百日草（ヒャクニチソウ） ","ジニア","","遠く離れた友",{"$f":"IFERROR(MATCH(B619,誕生月花!$B$2:$B$13,0),\"\")","v":""},{"$f":"IFERROR(VLOOKUP(B619&C619,誕生日花!E:F,2,FALSE),IFERROR(VLOOKUP(B619,誕生日花!E:F,2,FALSE),\"\"))","v":""}]
["百日草（ヒャクニチソウ） ","ジニア","","注意を怠るな",{"$f":"IFERROR(MATCH(B620,誕生月花!$B$2:$B$13,0),\"\")","v":""},{"$f":"IFERROR(VLOOKUP(B620&C620,誕生日花!E:F,2,FALSE),IFERROR(VLOOKUP(B620,誕生日花!E:F,2,FALSE),\"\"))","v":""}]
["百日草（ヒャクニチソウ） ","ジニア","","不在の友を思う",{"$f":"IFERROR(MATCH(B621,誕生月花!$B$2:$B$13,0),\"\")","v":""},{"$f":"IFERROR(VLOOKUP(B621&C621,誕生日花!E:F,2,FALSE),IFERROR(VLOOKUP(B621,誕生日花!E:F,2,FALSE),\"\"))","v":""}]
["細葉百日草（ホソバヒャクニチソウ）","ジニア・リネアリス","","友情",{"$f":"IFERROR(MATCH(B622,誕生月花!$B$2:$B$13,0),\"\")","v":""},{"$f":"IFERROR(VLOOKUP(B622&C622,誕生日花!E:F,2,FALSE),IFERROR(VLOOKUP(B622,誕生日花!E:F,2,FALSE),\"\"))","v":"2016-10-22"}]
["蕗櫻（フキザクラ）","シネラリア","","快活",{"$f":"IFERROR(MATCH(B623,誕生月花!$B$2:$B$13,0),\"\")","v":""},{"$f":"IFERROR(VLOOKUP(B623&C623,誕生日花!E:F,2,FALSE),IFERROR(VLOOKUP(B623,誕生日花!E:F,2,FALSE),\"\"))","v":"2016-11-30"}]
["蕗櫻（フキザクラ）","シネラリア","サイネリア","いつも快活",{"$f":"IFERROR(MATCH(B624,誕生月花!$B$2:$B$13,0),\"\")","v":""},{"$f":"IFERROR(VLOOKUP(B624&C624,誕生日花!E:F,2,FALSE),IFERROR(VLOOKUP(B624,誕生日花!E:F,2,FALSE),\"\"))","v":"2016-11-30"}]
["蕗櫻（フキザクラ）","シネラリア","サイネリア","喜び",{"$f":"IFERROR(MATCH(B625,誕生月花!$B$2:$B$13,0),\"\")","v":""},{"$f":"IFERROR(VLOOKUP(B625&C625,誕生日花!E:F,2,FALSE),IFERROR(VLOOKUP(B625,誕生日花!E:F,2,FALSE),\"\"))","v":"2016-11-30"}]
["芝桜","シバザクラ","","一致",{"$f":"IFERROR(MATCH(B626,誕生月花!$B$2:$B$13,0),\"\")","v":""},{"$f":"IFERROR(VLOOKUP(B626&C626,誕生日花!E:F,2,FALSE),IFERROR(VLOOKUP(B626,誕生日花!E:F,2,FALSE),\"\"))","v":"2016-05-02"}]
["芝桜","シバザクラ","","臆病な心",{"$f":"IFERROR(MATCH(B627,誕生月花!$B$2:$B$13,0),\"\")","v":""},{"$f":"IFERROR(VLOOKUP(B627&C627,誕生日花!E:F,2,FALSE),IFERROR(VLOOKUP(B627,誕生日花!E:F,2,FALSE),\"\"))","v":"2016-05-02"}]
["芝桜","シバザクラ","","合意",{"$f":"IFERROR(MATCH(B628,誕生月花!$B$2:$B$13,0),\"\")","v":""},{"$f":"IFERROR(VLOOKUP(B628&C628,誕生日花!E:F,2,FALSE),IFERROR(VLOOKUP(B628,誕生日花!E:F,2,FALSE),\"\"))","v":"2016-05-02"}]
["ドイツ菖蒲（ドイツアヤメ）","ジャーマンアイリス","","情熱",{"$f":"IFERROR(MATCH(B629,誕生月花!$B$2:$B$13,0),\"\")","v":""},{"$f":"IFERROR(VLOOKUP(B629&C629,誕生日花!E:F,2,FALSE),IFERROR(VLOOKUP(B629,誕生日花!E:F,2,FALSE),\"\"))","v":""}]
["ドイツ菖蒲（ドイツアヤメ）","ジャーマンアイリス","","燃える思い",{"$f":"IFERROR(MATCH(B630,誕生月花!$B$2:$B$13,0),\"\")","v":""},{"$f":"IFERROR(VLOOKUP(B630&C630,誕生日花!E:F,2,FALSE),IFERROR(VLOOKUP(B630,誕生日花!E:F,2,FALSE),\"\"))","v":""}]
["射干","シャガ","","反抗",{"$f":"IFERROR(MATCH(B631,誕生月花!$B$2:$B$13,0),\"\")","v":""},{"$f":"IFERROR(VLOOKUP(B631&C631,誕生日花!E:F,2,FALSE),IFERROR(VLOOKUP(B631,誕生日花!E:F,2,FALSE),\"\"))","v":"2016-04-24"}]
["射干","シャガ","","友人が多い",{"$f":"IFERROR(MATCH(B632,誕生月花!$B$2:$B$13,0),\"\")","v":""},{"$f":"IFERROR(VLOOKUP(B632&C632,誕生日花!E:F,2,FALSE),IFERROR(VLOOKUP(B632,誕生日花!E:F,2,FALSE),\"\"))","v":"2016-04-24"}]
["石楠花","シャクナゲ","","壮厳",{"$f":"IFERROR(MATCH(B633,誕生月花!$B$2:$B$13,0),\"\")","v":""},{"$f":"IFERROR(VLOOKUP(B633&C633,誕生日花!E:F,2,FALSE),IFERROR(VLOOKUP(B633,誕生日花!E:F,2,FALSE),\"\"))","v":"2016-06-02"}]
["石楠花","シャクナゲ","","威厳",{"$f":"IFERROR(MATCH(B634,誕生月花!$B$2:$B$13,0),\"\")","v":""},{"$f":"IFERROR(VLOOKUP(B634&C634,誕生日花!E:F,2,FALSE),IFERROR(VLOOKUP(B634,誕生日花!E:F,2,FALSE),\"\"))","v":"2016-06-02"}]
["石楠花","シャクナゲ","","危険",{"$f":"IFERROR(MATCH(B635,誕生月花!$B$2:$B$13,0),\"\")","v":""},{"$f":"IFERROR(VLOOKUP(B635&C635,誕生日花!E:F,2,FALSE),IFERROR(VLOOKUP(B635,誕生日花!E:F,2,FALSE),\"\"))","v":"2016-06-02"}]
["石楠花","シャクナゲ","","荘厳",{"$f":"IFERROR(MATCH(B636,誕生月花!$B$2:$B$13,0),\"\")","v":""},{"$f":"IFERROR(VLOOKUP(B636&C636,誕生日花!E:F,2,FALSE),IFERROR(VLOOKUP(B636,誕生日花!E:F,2,FALSE),\"\"))","v":"2016-06-02"}]
["芍薬","シャクヤク","","必ず来る幸福",{"$f":"IFERROR(MATCH(B637,誕生月花!$B$2:$B$13,0),\"\")","v":""},{"$f":"IFERROR(VLOOKUP(B637&C637,誕生日花!E:F,2,FALSE),IFERROR(VLOOKUP(B637,誕生日花!E:F,2,FALSE),\"\"))","v":"2016-05-04"}]
["芍薬","シャクヤク","","はにかみ",{"$f":"IFERROR(MATCH(B638,誕生月花!$B$2:$B$13,0),\"\")","v":""},{"$f":"IFERROR(VLOOKUP(B638&C638,誕生日花!E:F,2,FALSE),IFERROR(VLOOKUP(B638,誕生日花!E:F,2,FALSE),\"\"))","v":"2016-05-04"}]
["芍薬","シャクヤク","","謙遜",{"$f":"IFERROR(MATCH(B639,誕生月花!$B$2:$B$13,0),\"\")","v":""},{"$f":"IFERROR(VLOOKUP(B639&C639,誕生日花!E:F,2,FALSE),IFERROR(VLOOKUP(B639,誕生日花!E:F,2,FALSE),\"\"))","v":"2016-05-04"}]
["芍薬","シャクヤク","","恥じらい",{"$f":"IFERROR(MATCH(B640,誕生月花!$B$2:$B$13,0),\"\")","v":""},{"$f":"IFERROR(VLOOKUP(B640&C640,誕生日花!E:F,2,FALSE),IFERROR(VLOOKUP(B640,誕生日花!E:F,2,FALSE),\"\"))","v":"2016-05-04"}]
["蝦蛄葉仙人掌","シャコバサボテン","","冒険心",{"$f":"IFERROR(MATCH(B641,誕生月花!$B$2:$B$13,0),\"\")","v":""},{"$f":"IFERROR(VLOOKUP(B641&C641,誕生日花!E:F,2,FALSE),IFERROR(VLOOKUP(B641,誕生日花!E:F,2,FALSE),\"\"))","v":"2016-12-08"}]
["蝦蛄葉仙人掌","シャコバサボテン","","一時の美",{"$f":"IFERROR(MATCH(B642,誕生月花!$B$2:$B$13,0),\"\")","v":""},{"$f":"IFERROR(VLOOKUP(B642&C642,誕生日花!E:F,2,FALSE),IFERROR(VLOOKUP(B642,誕生日花!E:F,2,FALSE),\"\"))","v":"2016-12-08"}]
["蝦蛄葉仙人掌","シャコバサボテン","","美しい眺め",{"$f":"IFERROR(MATCH(B643,誕生月花!$B$2:$B$13,0),\"\")","v":""},{"$f":"IFERROR(VLOOKUP(B643&C643,誕生日花!E:F,2,FALSE),IFERROR(VLOOKUP(B643,誕生日花!E:F,2,FALSE),\"\"))","v":"2016-12-08"}]
["シャスタ菊（シャスタギク）","シャスタ・デイジー","","忍耐",{"$f":"IFERROR(MATCH(B644,誕生月花!$B$2:$B$13,0),\"\")","v":""},{"$f":"IFERROR(VLOOKUP(B644&C644,誕生日花!E:F,2,FALSE),IFERROR(VLOOKUP(B644,誕生日花!E:F,2,FALSE),\"\"))","v":""}]
["茉莉花（マツリカ）","ジャスミン","","愛らしさ",{"$f":"IFERROR(MATCH(B645,誕生月花!$B$2:$B$13,0),\"\")","v":""},{"$f":"IFERROR(VLOOKUP(B645&C645,誕生日花!E:F,2,FALSE),IFERROR(VLOOKUP(B645,誕生日花!E:F,2,FALSE),\"\"))","v":""}]
["茉莉花（マツリカ）","ジャスミン","","愛想のよい",{"$f":"IFERROR(MATCH(B646,誕生月花!$B$2:$B$13,0),\"\")","v":""},{"$f":"IFERROR(VLOOKUP(B646&C646,誕生日花!E:F,2,FALSE),IFERROR(VLOOKUP(B646,誕生日花!E:F,2,FALSE),\"\"))","v":""}]
["茉莉花（マツリカ）","ジャスミン","","官能的",{"$f":"IFERROR(MATCH(B647,誕生月花!$B$2:$B$13,0),\"\")","v":""},{"$f":"IFERROR(VLOOKUP(B647&C647,誕生日花!E:F,2,FALSE),IFERROR(VLOOKUP(B647,誕生日花!E:F,2,FALSE),\"\"))","v":""}]
["茉莉花（マツリカ）","ジャスミン","","優美",{"$f":"IFERROR(MATCH(B648,誕生月花!$B$2:$B$13,0),\"\")","v":""},{"$f":"IFERROR(VLOOKUP(B648&C648,誕生日花!E:F,2,FALSE),IFERROR(VLOOKUP(B648,誕生日花!E:F,2,FALSE),\"\"))","v":""}]
["茉莉花（マツリカ）","ジャスミン","","愛想の良さ",{"$f":"IFERROR(MATCH(B649,誕生月花!$B$2:$B$13,0),\"\")","v":""},{"$f":"IFERROR(VLOOKUP(B649&C649,誕生日花!E:F,2,FALSE),IFERROR(VLOOKUP(B649,誕生日花!E:F,2,FALSE),\"\"))","v":""}]
["茉莉花（マツリカ）","ジャスミン","アラビアンジャスミン・茉莉花","清浄無垢",{"$f":"IFERROR(MATCH(B650,誕生月花!$B$2:$B$13,0),\"\")","v":""},{"$f":"IFERROR(VLOOKUP(B650&C650,誕生日花!E:F,2,FALSE),IFERROR(VLOOKUP(B650,誕生日花!E:F,2,FALSE),\"\"))","v":""}]
["茉莉花（マツリカ）","ジャスミン","シルクジャスミン・ゲッキツ","正当な道",{"$f":"IFERROR(MATCH(B651,誕生月花!$B$2:$B$13,0),\"\")","v":""},{"$f":"IFERROR(VLOOKUP(B651&C651,誕生日花!E:F,2,FALSE),IFERROR(VLOOKUP(B651,誕生日花!E:F,2,FALSE),\"\"))","v":""}]
["茉莉花（マツリカ）","ジャスミン","マダガスカルジャスミン","私はあなたについていく",{"$f":"IFERROR(MATCH(B652,誕生月花!$B$2:$B$13,0),\"\")","v":""},{"$f":"IFERROR(VLOOKUP(B652&C652,誕生日花!E:F,2,FALSE),IFERROR(VLOOKUP(B652,誕生日花!E:F,2,FALSE),\"\"))","v":""}]
["茉莉花（マツリカ）","ジャスミン","黄","優雅",{"$f":"IFERROR(MATCH(B653,誕生月花!$B$2:$B$13,0),\"\")","v":""},{"$f":"IFERROR(VLOOKUP(B653&C653,誕生日花!E:F,2,FALSE),IFERROR(VLOOKUP(B653,誕生日花!E:F,2,FALSE),\"\"))","v":""}]
["茉莉花（マツリカ）","ジャスミン","白","温順",{"$f":"IFERROR(MATCH(B654,誕生月花!$B$2:$B$13,0),\"\")","v":""},{"$f":"IFERROR(VLOOKUP(B654&C654,誕生日花!E:F,2,FALSE),IFERROR(VLOOKUP(B654,誕生日花!E:F,2,FALSE),\"\"))","v":""}]
["茉莉花（マツリカ）","ジャスミン","白","好色",{"$f":"IFERROR(MATCH(B655,誕生月花!$B$2:$B$13,0),\"\")","v":""},{"$f":"IFERROR(VLOOKUP(B655&C655,誕生日花!E:F,2,FALSE),IFERROR(VLOOKUP(B655,誕生日花!E:F,2,FALSE),\"\"))","v":""}]
["茉莉花（マツリカ）","ジャスミン","白","柔和",{"$f":"IFERROR(MATCH(B656,誕生月花!$B$2:$B$13,0),\"\")","v":""},{"$f":"IFERROR(VLOOKUP(B656&C656,誕生日花!E:F,2,FALSE),IFERROR(VLOOKUP(B656,誕生日花!E:F,2,FALSE),\"\"))","v":""}]
["蛇の目菊","ジャノメギク","","せつない喜び",{"$f":"IFERROR(MATCH(B657,誕生月花!$B$2:$B$13,0),\"\")","v":""},{"$f":"IFERROR(VLOOKUP(B657&C657,誕生日花!E:F,2,FALSE),IFERROR(VLOOKUP(B657,誕生日花!E:F,2,FALSE),\"\"))","v":"2016-08-22"}]
["秋海棠","シュウカイドウ","","片想い",{"$f":"IFERROR(MATCH(B658,誕生月花!$B$2:$B$13,0),\"\")","v":""},{"$f":"IFERROR(VLOOKUP(B658&C658,誕生日花!E:F,2,FALSE),IFERROR(VLOOKUP(B658,誕生日花!E:F,2,FALSE),\"\"))","v":""}]
["秋海棠","シュウカイドウ","","恋の悩み",{"$f":"IFERROR(MATCH(B659,誕生月花!$B$2:$B$13,0),\"\")","v":""},{"$f":"IFERROR(VLOOKUP(B659&C659,誕生日花!E:F,2,FALSE),IFERROR(VLOOKUP(B659,誕生日花!E:F,2,FALSE),\"\"))","v":""}]
["秋明菊","シュウメイギク","","忍耐",{"$f":"IFERROR(MATCH(B660,誕生月花!$B$2:$B$13,0),\"\")","v":""},{"$f":"IFERROR(VLOOKUP(B660&C660,誕生日花!E:F,2,FALSE),IFERROR(VLOOKUP(B660,誕生日花!E:F,2,FALSE),\"\"))","v":""}]
["秋明菊","シュウメイギク","","薄れゆく愛",{"$f":"IFERROR(MATCH(B661,誕生月花!$B$2:$B$13,0),\"\")","v":""},{"$f":"IFERROR(VLOOKUP(B661&C661,誕生日花!E:F,2,FALSE),IFERROR(VLOOKUP(B661,誕生日花!E:F,2,FALSE),\"\"))","v":""}]
["西洋杜松（セイヨウネズ）","ジュニパー","","長寿",{"$f":"IFERROR(MATCH(B662,誕生月花!$B$2:$B$13,0),\"\")","v":""},{"$f":"IFERROR(VLOOKUP(B662&C662,誕生日花!E:F,2,FALSE),IFERROR(VLOOKUP(B662,誕生日花!E:F,2,FALSE),\"\"))","v":""}]
["春蘭","シュンラン","","控えめな美",{"$f":"IFERROR(MATCH(B663,誕生月花!$B$2:$B$13,0),\"\")","v":""},{"$f":"IFERROR(VLOOKUP(B663&C663,誕生日花!E:F,2,FALSE),IFERROR(VLOOKUP(B663,誕生日花!E:F,2,FALSE),\"\"))","v":""}]
["菖蒲","ショウブ","","適合",{"$f":"IFERROR(MATCH(B664,誕生月花!$B$2:$B$13,0),\"\")","v":""},{"$f":"IFERROR(VLOOKUP(B664&C664,誕生日花!E:F,2,FALSE),IFERROR(VLOOKUP(B664,誕生日花!E:F,2,FALSE),\"\"))","v":""}]
["秋明菊","ショウメイギク","","多感なとき",{"$f":"IFERROR(MATCH(B665,誕生月花!$B$2:$B$13,0),\"\")","v":""},"2016-10-12"]
["大蔓穂（オオツルボ）","シラー","","冷静",{"$f":"IFERROR(MATCH(B666,誕生月花!$B$2:$B$13,0),\"\")","v":""},{"$f":"IFERROR(VLOOKUP(B666&C666,誕生日花!E:F,2,FALSE),IFERROR(VLOOKUP(B666,誕生日花!E:F,2,FALSE),\"\"))","v":"2016-02-02"}]
["紫蘭","シラン","","希望",{"$f":"IFERROR(MATCH(B667,誕生月花!$B$2:$B$13,0),\"\")","v":""},{"$f":"IFERROR(VLOOKUP(B667&C667,誕生日花!E:F,2,FALSE),IFERROR(VLOOKUP(B667,誕生日花!E:F,2,FALSE),\"\"))","v":"2016-06-05"}]
["月橘（ゲッキツ）","シルクジャスミン","","純真な心",{"$f":"IFERROR(MATCH(B668,誕生月花!$B$2:$B$13,0),\"\")","v":""},{"$f":"IFERROR(VLOOKUP(B668&C668,誕生日花!E:F,2,FALSE),IFERROR(VLOOKUP(B668,誕生日花!E:F,2,FALSE),\"\"))","v":""}]
["白詰草","シロツメクサ","","私のことを考えて",{"$f":"IFERROR(MATCH(B669,誕生月花!$B$2:$B$13,0),\"\")","v":""},{"$f":"IFERROR(VLOOKUP(B669&C669,誕生日花!E:F,2,FALSE),IFERROR(VLOOKUP(B669,誕生日花!E:F,2,FALSE),\"\"))","v":""}]
["白詰草","シロツメクサ","四つ葉","望みがかなう",{"$f":"IFERROR(MATCH(B670,誕生月花!$B$2:$B$13,0),\"\")","v":""},{"$f":"IFERROR(VLOOKUP(B670&C670,誕生日花!E:F,2,FALSE),IFERROR(VLOOKUP(B670,誕生日花!E:F,2,FALSE),\"\"))","v":""}]
["花縮砂（ハナシュクシャ）","ジンジャー","","信頼しています",{"$f":"IFERROR(MATCH(B671,誕生月花!$B$2:$B$13,0),\"\")","v":""},{"$f":"IFERROR(VLOOKUP(B671&C671,誕生日花!E:F,2,FALSE),IFERROR(VLOOKUP(B671,誕生日花!E:F,2,FALSE),\"\"))","v":""}]
["花縮砂（ハナシュクシャ）","ジンジャー","","豊かな心",{"$f":"IFERROR(MATCH(B672,誕生月花!$B$2:$B$13,0),\"\")","v":""},{"$f":"IFERROR(VLOOKUP(B672&C672,誕生日花!E:F,2,FALSE),IFERROR(VLOOKUP(B672,誕生日花!E:F,2,FALSE),\"\"))","v":""}]
["花縮砂（ハナシュクシャ）","ジンジャー","","無駄なこと",{"$f":"IFERROR(MATCH(B673,誕生月花!$B$2:$B$13,0),\"\")","v":""},{"$f":"IFERROR(VLOOKUP(B673&C673,誕生日花!E:F,2,FALSE),IFERROR(VLOOKUP(B673,誕生日花!E:F,2,FALSE),\"\"))","v":""}]
["沈丁花","ジンチョウゲ","","栄光",{"$f":"IFERROR(MATCH(B674,誕生月花!$B$2:$B$13,0),\"\")","v":""},{"$f":"IFERROR(VLOOKUP(B674&C674,誕生日花!E:F,2,FALSE),IFERROR(VLOOKUP(B674,誕生日花!E:F,2,FALSE),\"\"))","v":"2016-03-18"}]
["沈丁花","ジンチョウゲ","","永遠",{"$f":"IFERROR(MATCH(B675,誕生月花!$B$2:$B$13,0),\"\")","v":""},{"$f":"IFERROR(VLOOKUP(B675&C675,誕生日花!E:F,2,FALSE),IFERROR(VLOOKUP(B675,誕生日花!E:F,2,FALSE),\"\"))","v":"2016-03-18"}]
["沈丁花","ジンチョウゲ","","不死",{"$f":"IFERROR(MATCH(B676,誕生月花!$B$2:$B$13,0),\"\")","v":""},{"$f":"IFERROR(VLOOKUP(B676&C676,誕生日花!E:F,2,FALSE),IFERROR(VLOOKUP(B676,誕生日花!E:F,2,FALSE),\"\"))","v":"2016-03-18"}]
["沈丁花","ジンチョウゲ","","不滅",{"$f":"IFERROR(MATCH(B677,誕生月花!$B$2:$B$13,0),\"\")","v":""},{"$f":"IFERROR(VLOOKUP(B677&C677,誕生日花!E:F,2,FALSE),IFERROR(VLOOKUP(B677,誕生日花!E:F,2,FALSE),\"\"))","v":"2016-03-18"}]
["霓裳蘭（ゲイショウラン）","シンビジウム","","華やかな恋",{"$f":"IFERROR(MATCH(B678,誕生月花!$B$2:$B$13,0),\"\")","v":1},{"$f":"IFERROR(VLOOKUP(B678&C678,誕生日花!E:F,2,FALSE),IFERROR(VLOOKUP(B678,誕生日花!E:F,2,FALSE),\"\"))","v":"2016-12-24"}]
["霓裳蘭（ゲイショウラン）","シンビジウム","","高貴な美人",{"$f":"IFERROR(MATCH(B679,誕生月花!$B$2:$B$13,0),\"\")","v":1},{"$f":"IFERROR(VLOOKUP(B679&C679,誕生日花!E:F,2,FALSE),IFERROR(VLOOKUP(B679,誕生日花!E:F,2,FALSE),\"\"))","v":"2016-12-24"}]
["霓裳蘭（ゲイショウラン）","シンビジウム","","飾らない心",{"$f":"IFERROR(MATCH(B680,誕生月花!$B$2:$B$13,0),\"\")","v":1},{"$f":"IFERROR(VLOOKUP(B680&C680,誕生日花!E:F,2,FALSE),IFERROR(VLOOKUP(B680,誕生日花!E:F,2,FALSE),\"\"))","v":"2016-12-24"}]
["霓裳蘭（ゲイショウラン）","シンビジウム","","素朴",{"$f":"IFERROR(MATCH(B681,誕生月花!$B$2:$B$13,0),\"\")","v":1},{"$f":"IFERROR(VLOOKUP(B681&C681,誕生日花!E:F,2,FALSE),IFERROR(VLOOKUP(B681,誕生日花!E:F,2,FALSE),\"\"))","v":"2016-12-24"}]
["霓裳蘭（ゲイショウラン）","シンビジウム","ピンク","気取らない心",{"$f":"IFERROR(MATCH(B682,誕生月花!$B$2:$B$13,0),\"\")","v":1},{"$f":"IFERROR(VLOOKUP(B682&C682,誕生日花!E:F,2,FALSE),IFERROR(VLOOKUP(B682,誕生日花!E:F,2,FALSE),\"\"))","v":"2016-12-24"}]
["霓裳蘭（ゲイショウラン）","シンビジウム","白","高貴な人",{"$f":"IFERROR(MATCH(B683,誕生月花!$B$2:$B$13,0),\"\")","v":1},{"$f":"IFERROR(VLOOKUP(B683&C683,誕生日花!E:F,2,FALSE),IFERROR(VLOOKUP(B683,誕生日花!E:F,2,FALSE),\"\"))","v":"2016-12-24"}]
["庭薺（ニワナズナ）","スイートアリッサム","","価値あるもの",{"$f":"IFERROR(MATCH(B684,誕生月花!$B$2:$B$13,0),\"\")","v":""},{"$f":"IFERROR(VLOOKUP(B684&C684,誕生日花!E:F,2,FALSE),IFERROR(VLOOKUP(B684,誕生日花!E:F,2,FALSE),\"\"))","v":""}]
["庭薺（ニワナズナ）","スイートアリッサム","","美しさに優る価値",{"$f":"IFERROR(MATCH(B685,誕生月花!$B$2:$B$13,0),\"\")","v":""},{"$f":"IFERROR(VLOOKUP(B685&C685,誕生日花!E:F,2,FALSE),IFERROR(VLOOKUP(B685,誕生日花!E:F,2,FALSE),\"\"))","v":""}]
["庭薺（ニワナズナ）","スイートアリッサム","","優美",{"$f":"IFERROR(MATCH(B686,誕生月花!$B$2:$B$13,0),\"\")","v":""},{"$f":"IFERROR(VLOOKUP(B686&C686,誕生日花!E:F,2,FALSE),IFERROR(VLOOKUP(B686,誕生日花!E:F,2,FALSE),\"\"))","v":""}]
["麝香豌豆（ジャコウエンドウ）","スイートピー","","私を覚えていて",{"$f":"IFERROR(MATCH(B687,誕生月花!$B$2:$B$13,0),\"\")","v":""},{"$f":"IFERROR(VLOOKUP(B687&C687,誕生日花!E:F,2,FALSE),IFERROR(VLOOKUP(B687,誕生日花!E:F,2,FALSE),\"\"))","v":"2016-01-20"}]
["麝香豌豆（ジャコウエンドウ）","スイートピー","","ほのかな喜び",{"$f":"IFERROR(MATCH(B688,誕生月花!$B$2:$B$13,0),\"\")","v":""},{"$f":"IFERROR(VLOOKUP(B688&C688,誕生日花!E:F,2,FALSE),IFERROR(VLOOKUP(B688,誕生日花!E:F,2,FALSE),\"\"))","v":"2016-01-20"}]
["麝香豌豆（ジャコウエンドウ）","スイートピー","","別離",{"$f":"IFERROR(MATCH(B689,誕生月花!$B$2:$B$13,0),\"\")","v":""},{"$f":"IFERROR(VLOOKUP(B689&C689,誕生日花!E:F,2,FALSE),IFERROR(VLOOKUP(B689,誕生日花!E:F,2,FALSE),\"\"))","v":"2016-01-20"}]
["麝香豌豆（ジャコウエンドウ）","スイートピー","","門出",{"$f":"IFERROR(MATCH(B690,誕生月花!$B$2:$B$13,0),\"\")","v":""},{"$f":"IFERROR(VLOOKUP(B690&C690,誕生日花!E:F,2,FALSE),IFERROR(VLOOKUP(B690,誕生日花!E:F,2,FALSE),\"\"))","v":"2016-01-20"}]
["麝香豌豆（ジャコウエンドウ）","スイートピー","","優しい思い出",{"$f":"IFERROR(MATCH(B691,誕生月花!$B$2:$B$13,0),\"\")","v":""},{"$f":"IFERROR(VLOOKUP(B691&C691,誕生日花!E:F,2,FALSE),IFERROR(VLOOKUP(B691,誕生日花!E:F,2,FALSE),\"\"))","v":"2016-01-20"}]
["忍冬","スイカズラ","","愛の絆",{"$f":"IFERROR(MATCH(B692,誕生月花!$B$2:$B$13,0),\"\")","v":""},{"$f":"IFERROR(VLOOKUP(B692&C692,誕生日花!E:F,2,FALSE),IFERROR(VLOOKUP(B692,誕生日花!E:F,2,FALSE),\"\"))","v":"2016-01-17"}]
["忍冬","スイカズラ","","献身的な愛",{"$f":"IFERROR(MATCH(B693,誕生月花!$B$2:$B$13,0),\"\")","v":""},{"$f":"IFERROR(VLOOKUP(B693&C693,誕生日花!E:F,2,FALSE),IFERROR(VLOOKUP(B693,誕生日花!E:F,2,FALSE),\"\"))","v":"2016-01-17"}]
["水仙","スイセン","","自己愛",{"$f":"IFERROR(MATCH(B694,誕生月花!$B$2:$B$13,0),\"\")","v":""},{"$f":"IFERROR(VLOOKUP(B694&C694,誕生日花!E:F,2,FALSE),IFERROR(VLOOKUP(B694,誕生日花!E:F,2,FALSE),\"\"))","v":"2016-01-21"}]
["水仙","スイセン","","うぬぼれ",{"$f":"IFERROR(MATCH(B695,誕生月花!$B$2:$B$13,0),\"\")","v":""},{"$f":"IFERROR(VLOOKUP(B695&C695,誕生日花!E:F,2,FALSE),IFERROR(VLOOKUP(B695,誕生日花!E:F,2,FALSE),\"\"))","v":"2016-01-21"}]
["水仙","スイセン","黄","もう一度愛してほしい",{"$f":"IFERROR(MATCH(B696,誕生月花!$B$2:$B$13,0),\"\")","v":""},{"$f":"IFERROR(VLOOKUP(B696&C696,誕生日花!E:F,2,FALSE),IFERROR(VLOOKUP(B696,誕生日花!E:F,2,FALSE),\"\"))","v":"2016-01-21"}]
["水仙","スイセン","黄","私のもとへ帰って",{"$f":"IFERROR(MATCH(B697,誕生月花!$B$2:$B$13,0),\"\")","v":""},{"$f":"IFERROR(VLOOKUP(B697&C697,誕生日花!E:F,2,FALSE),IFERROR(VLOOKUP(B697,誕生日花!E:F,2,FALSE),\"\"))","v":"2016-01-21"}]
["酔仙翁","スイセンノウ","","私の愛は不変",{"$f":"IFERROR(MATCH(B698,誕生月花!$B$2:$B$13,0),\"\")","v":""},{"$f":"IFERROR(VLOOKUP(B698&C698,誕生日花!E:F,2,FALSE),IFERROR(VLOOKUP(B698,誕生日花!E:F,2,FALSE),\"\"))","v":"2016-07-25"}]
["睡蓮","スイレン","","清純な心",{"$f":"IFERROR(MATCH(B699,誕生月花!$B$2:$B$13,0),\"\")","v":""},{"$f":"IFERROR(VLOOKUP(B699&C699,誕生日花!E:F,2,FALSE),IFERROR(VLOOKUP(B699,誕生日花!E:F,2,FALSE),\"\"))","v":"2016-02-05"}]
["睡蓮","スイレン","","信仰",{"$f":"IFERROR(MATCH(B700,誕生月花!$B$2:$B$13,0),\"\")","v":""},{"$f":"IFERROR(VLOOKUP(B700&C700,誕生日花!E:F,2,FALSE),IFERROR(VLOOKUP(B700,誕生日花!E:F,2,FALSE),\"\"))","v":"2016-02-05"}]
["睡蓮","スイレン","","信頼",{"$f":"IFERROR(MATCH(B701,誕生月花!$B$2:$B$13,0),\"\")","v":""},{"$f":"IFERROR(VLOOKUP(B701&C701,誕生日花!E:F,2,FALSE),IFERROR(VLOOKUP(B701,誕生日花!E:F,2,FALSE),\"\"))","v":"2016-02-05"}]
["西洋くり","スウィートチェストナット","","正当な扱い",{"$f":"IFERROR(MATCH(B702,誕生月花!$B$2:$B$13,0),\"\")","v":""},{"$f":"IFERROR(VLOOKUP(B702&C702,誕生日花!E:F,2,FALSE),IFERROR(VLOOKUP(B702,誕生日花!E:F,2,FALSE),\"\"))","v":""}]
["透百合","スカシユリ","","飾らぬ美",{"$f":"IFERROR(MATCH(B703,誕生月花!$B$2:$B$13,0),\"\")","v":""},{"$f":"IFERROR(VLOOKUP(B703&C703,誕生日花!E:F,2,FALSE),IFERROR(VLOOKUP(B703,誕生日花!E:F,2,FALSE),\"\"))","v":""}]
["透百合","スカシユリ","","注目を浴びる",{"$f":"IFERROR(MATCH(B704,誕生月花!$B$2:$B$13,0),\"\")","v":""},{"$f":"IFERROR(VLOOKUP(B704&C704,誕生日花!E:F,2,FALSE),IFERROR(VLOOKUP(B704,誕生日花!E:F,2,FALSE),\"\"))","v":""}]
["西洋松虫草（セイヨウマツムシソウ）","スカビオサ","","風情",{"$f":"IFERROR(MATCH(B705,誕生月花!$B$2:$B$13,0),\"\")","v":""},{"$f":"IFERROR(VLOOKUP(B705&C705,誕生日花!E:F,2,FALSE),IFERROR(VLOOKUP(B705,誕生日花!E:F,2,FALSE),\"\"))","v":"2016-05-30"}]
["西洋松虫草（セイヨウマツムシソウ）","スカビオサ","","私はすべてを失った",{"$f":"IFERROR(MATCH(B706,誕生月花!$B$2:$B$13,0),\"\")","v":""},{"$f":"IFERROR(VLOOKUP(B706&C706,誕生日花!E:F,2,FALSE),IFERROR(VLOOKUP(B706,誕生日花!E:F,2,FALSE),\"\"))","v":"2016-05-30"}]
["西洋松虫草（セイヨウマツムシソウ）","スカビオサ","","不幸な愛",{"$f":"IFERROR(MATCH(B707,誕生月花!$B$2:$B$13,0),\"\")","v":""},{"$f":"IFERROR(VLOOKUP(B707&C707,誕生日花!E:F,2,FALSE),IFERROR(VLOOKUP(B707,誕生日花!E:F,2,FALSE),\"\"))","v":"2016-05-30"}]
["杉","スギ","","雄大",{"$f":"IFERROR(MATCH(B708,誕生月花!$B$2:$B$13,0),\"\")","v":""},{"$f":"IFERROR(VLOOKUP(B708&C708,誕生日花!E:F,2,FALSE),IFERROR(VLOOKUP(B708,誕生日花!E:F,2,FALSE),\"\"))","v":""}]
["酸塊","スグリ","","（私は）あなたを喜ばせる",{"$f":"IFERROR(MATCH(B709,誕生月花!$B$2:$B$13,0),\"\")","v":""},{"$f":"IFERROR(VLOOKUP(B709&C709,誕生日花!E:F,2,FALSE),IFERROR(VLOOKUP(B709,誕生日花!E:F,2,FALSE),\"\"))","v":""}]
["酸塊","スグリ","","あなたの不機嫌が私を苦しめる",{"$f":"IFERROR(MATCH(B710,誕生月花!$B$2:$B$13,0),\"\")","v":""},{"$f":"IFERROR(VLOOKUP(B710&C710,誕生日花!E:F,2,FALSE),IFERROR(VLOOKUP(B710,誕生日花!E:F,2,FALSE),\"\"))","v":""}]
["酸塊","スグリ","","私はあなたを喜ばせる",{"$f":"IFERROR(MATCH(B711,誕生月花!$B$2:$B$13,0),\"\")","v":""},{"$f":"IFERROR(VLOOKUP(B711&C711,誕生日花!E:F,2,FALSE),IFERROR(VLOOKUP(B711,誕生日花!E:F,2,FALSE),\"\"))","v":""}]
["芒","ススキ","","活力",{"$f":"IFERROR(MATCH(B712,誕生月花!$B$2:$B$13,0),\"\")","v":""},{"$f":"IFERROR(VLOOKUP(B712&C712,誕生日花!E:F,2,FALSE),IFERROR(VLOOKUP(B712,誕生日花!E:F,2,FALSE),\"\"))","v":""}]
["芒","ススキ","","心が通じる",{"$f":"IFERROR(MATCH(B713,誕生月花!$B$2:$B$13,0),\"\")","v":""},{"$f":"IFERROR(VLOOKUP(B713&C713,誕生日花!E:F,2,FALSE),IFERROR(VLOOKUP(B713,誕生日花!E:F,2,FALSE),\"\"))","v":""}]
["鈴蘭","スズラン","","純潔、自然な美しさ",{"$f":"IFERROR(MATCH(B714,誕生月花!$B$2:$B$13,0),\"\")","v":5},{"$f":"IFERROR(VLOOKUP(B714&C714,誕生日花!E:F,2,FALSE),IFERROR(VLOOKUP(B714,誕生日花!E:F,2,FALSE),\"\"))","v":"2016-05-24"}]
["鈴蘭","スズラン","","謙遜",{"$f":"IFERROR(MATCH(B715,誕生月花!$B$2:$B$13,0),\"\")","v":5},{"$f":"IFERROR(VLOOKUP(B715&C715,誕生日花!E:F,2,FALSE),IFERROR(VLOOKUP(B715,誕生日花!E:F,2,FALSE),\"\"))","v":"2016-05-24"}]
["鈴蘭","スズラン","","再び幸せが訪れる",{"$f":"IFERROR(MATCH(B716,誕生月花!$B$2:$B$13,0),\"\")","v":5},{"$f":"IFERROR(VLOOKUP(B716&C716,誕生日花!E:F,2,FALSE),IFERROR(VLOOKUP(B716,誕生日花!E:F,2,FALSE),\"\"))","v":"2016-05-24"}]
["鈴蘭","スズラン","","純潔",{"$f":"IFERROR(MATCH(B717,誕生月花!$B$2:$B$13,0),\"\")","v":5},{"$f":"IFERROR(VLOOKUP(B717&C717,誕生日花!E:F,2,FALSE),IFERROR(VLOOKUP(B717,誕生日花!E:F,2,FALSE),\"\"))","v":"2016-05-24"}]
["鈴蘭","スズラン","","純粋",{"$f":"IFERROR(MATCH(B718,誕生月花!$B$2:$B$13,0),\"\")","v":5},{"$f":"IFERROR(VLOOKUP(B718&C718,誕生日花!E:F,2,FALSE),IFERROR(VLOOKUP(B718,誕生日花!E:F,2,FALSE),\"\"))","v":"2016-05-24"}]
["花浜匙（ハナハマサジ）","スターチス","","永遠に変わらぬ愛",{"$f":"IFERROR(MATCH(B719,誕生月花!$B$2:$B$13,0),\"\")","v":""},{"$f":"IFERROR(VLOOKUP(B719&C719,誕生日花!E:F,2,FALSE),IFERROR(VLOOKUP(B719,誕生日花!E:F,2,FALSE),\"\"))","v":"2016-06-06"}]
["花浜匙（ハナハマサジ）","スターチス","","途絶えぬ記憶",{"$f":"IFERROR(MATCH(B720,誕生月花!$B$2:$B$13,0),\"\")","v":""},{"$f":"IFERROR(VLOOKUP(B720&C720,誕生日花!E:F,2,FALSE),IFERROR(VLOOKUP(B720,誕生日花!E:F,2,FALSE),\"\"))","v":"2016-06-06"}]
["花浜匙（ハナハマサジ）","スターチス","","変わらぬ心",{"$f":"IFERROR(MATCH(B721,誕生月花!$B$2:$B$13,0),\"\")","v":""},{"$f":"IFERROR(VLOOKUP(B721&C721,誕生日花!E:F,2,FALSE),IFERROR(VLOOKUP(B721,誕生日花!E:F,2,FALSE),\"\"))","v":"2016-06-06"}]
["花浜匙（ハナハマサジ）","スターチス","ピンク","永久不変",{"$f":"IFERROR(MATCH(B722,誕生月花!$B$2:$B$13,0),\"\")","v":""},{"$f":"IFERROR(VLOOKUP(B722&C722,誕生日花!E:F,2,FALSE),IFERROR(VLOOKUP(B722,誕生日花!E:F,2,FALSE),\"\"))","v":"2016-06-06"}]
["花浜匙（ハナハマサジ）","スターチス","黄","愛の喜び",{"$f":"IFERROR(MATCH(B723,誕生月花!$B$2:$B$13,0),\"\")","v":""},{"$f":"IFERROR(VLOOKUP(B723&C723,誕生日花!E:F,2,FALSE),IFERROR(VLOOKUP(B723,誕生日花!E:F,2,FALSE),\"\"))","v":"2016-06-06"}]
["花浜匙（ハナハマサジ）","スターチス","黄","誠実",{"$f":"IFERROR(MATCH(B724,誕生月花!$B$2:$B$13,0),\"\")","v":""},{"$f":"IFERROR(VLOOKUP(B724&C724,誕生日花!E:F,2,FALSE),IFERROR(VLOOKUP(B724,誕生日花!E:F,2,FALSE),\"\"))","v":"2016-06-06"}]
["花浜匙（ハナハマサジ）","スターチス","紫","しとやか",{"$f":"IFERROR(MATCH(B725,誕生月花!$B$2:$B$13,0),\"\")","v":""},{"$f":"IFERROR(VLOOKUP(B725&C725,誕生日花!E:F,2,FALSE),IFERROR(VLOOKUP(B725,誕生日花!E:F,2,FALSE),\"\"))","v":"2016-06-06"}]
["花浜匙（ハナハマサジ）","スターチス","紫","上品",{"$f":"IFERROR(MATCH(B726,誕生月花!$B$2:$B$13,0),\"\")","v":""},{"$f":"IFERROR(VLOOKUP(B726&C726,誕生日花!E:F,2,FALSE),IFERROR(VLOOKUP(B726,誕生日花!E:F,2,FALSE),\"\"))","v":"2016-06-06"}]
["黄花玉簾（キバナタマスダレ）","ステルンベルギア","","粘り強さ",{"$f":"IFERROR(MATCH(B727,誕生月花!$B$2:$B$13,0),\"\")","v":""},{"$f":"IFERROR(VLOOKUP(B727&C727,誕生日花!E:F,2,FALSE),IFERROR(VLOOKUP(B727,誕生日花!E:F,2,FALSE),\"\"))","v":"2016-11-08"}]
["黄花玉簾（キバナタマスダレ）","ステルンベルギア","","待ちきれない",{"$f":"IFERROR(MATCH(B728,誕生月花!$B$2:$B$13,0),\"\")","v":""},{"$f":"IFERROR(VLOOKUP(B728&C728,誕生日花!E:F,2,FALSE),IFERROR(VLOOKUP(B728,誕生日花!E:F,2,FALSE),\"\"))","v":"2016-11-08"}]
["瑠璃菊（ルリギク）","ストケシア","","清楚な娘",{"$f":"IFERROR(MATCH(B729,誕生月花!$B$2:$B$13,0),\"\")","v":""},{"$f":"IFERROR(VLOOKUP(B729&C729,誕生日花!E:F,2,FALSE),IFERROR(VLOOKUP(B729,誕生日花!E:F,2,FALSE),\"\"))","v":"2016-07-09"}]
["瑠璃菊（ルリギク）","ストケシア","","追想",{"$f":"IFERROR(MATCH(B730,誕生月花!$B$2:$B$13,0),\"\")","v":""},{"$f":"IFERROR(VLOOKUP(B730&C730,誕生日花!E:F,2,FALSE),IFERROR(VLOOKUP(B730,誕生日花!E:F,2,FALSE),\"\"))","v":"2016-07-09"}]
["紫羅欄花（アラセイトウ）","ストック","","愛情の絆",{"$f":"IFERROR(MATCH(B731,誕生月花!$B$2:$B$13,0),\"\")","v":""},{"$f":"IFERROR(VLOOKUP(B731&C731,誕生日花!E:F,2,FALSE),IFERROR(VLOOKUP(B731,誕生日花!E:F,2,FALSE),\"\"))","v":""}]
["紫羅欄花（アラセイトウ）","ストック","","永遠の美",{"$f":"IFERROR(MATCH(B732,誕生月花!$B$2:$B$13,0),\"\")","v":""},{"$f":"IFERROR(VLOOKUP(B732&C732,誕生日花!E:F,2,FALSE),IFERROR(VLOOKUP(B732,誕生日花!E:F,2,FALSE),\"\"))","v":""}]
["紫羅欄花（アラセイトウ）","ストック","","求愛",{"$f":"IFERROR(MATCH(B733,誕生月花!$B$2:$B$13,0),\"\")","v":""},{"$f":"IFERROR(VLOOKUP(B733&C733,誕生日花!E:F,2,FALSE),IFERROR(VLOOKUP(B733,誕生日花!E:F,2,FALSE),\"\"))","v":""}]
["紫羅欄花（アラセイトウ）","ストック","ピンク","ふくよかな愛情",{"$f":"IFERROR(MATCH(B734,誕生月花!$B$2:$B$13,0),\"\")","v":""},{"$f":"IFERROR(VLOOKUP(B734&C734,誕生日花!E:F,2,FALSE),IFERROR(VLOOKUP(B734,誕生日花!E:F,2,FALSE),\"\"))","v":""}]
["紫羅欄花（アラセイトウ）","ストック","一重","逆境を克服",{"$f":"IFERROR(MATCH(B735,誕生月花!$B$2:$B$13,0),\"\")","v":""},{"$f":"IFERROR(VLOOKUP(B735&C735,誕生日花!E:F,2,FALSE),IFERROR(VLOOKUP(B735,誕生日花!E:F,2,FALSE),\"\"))","v":"2016-02-23"}]
["紫羅欄花（アラセイトウ）","ストック","黄","さびしい恋",{"$f":"IFERROR(MATCH(B736,誕生月花!$B$2:$B$13,0),\"\")","v":""},{"$f":"IFERROR(VLOOKUP(B736&C736,誕生日花!E:F,2,FALSE),IFERROR(VLOOKUP(B736,誕生日花!E:F,2,FALSE),\"\"))","v":""}]
["紫羅欄花（アラセイトウ）","ストック","紫","おおらかな愛情",{"$f":"IFERROR(MATCH(B737,誕生月花!$B$2:$B$13,0),\"\")","v":""},{"$f":"IFERROR(VLOOKUP(B737&C737,誕生日花!E:F,2,FALSE),IFERROR(VLOOKUP(B737,誕生日花!E:F,2,FALSE),\"\"))","v":""}]
["紫羅欄花（アラセイトウ）","ストック","赤","私を信じて",{"$f":"IFERROR(MATCH(B738,誕生月花!$B$2:$B$13,0),\"\")","v":""},{"$f":"IFERROR(VLOOKUP(B738&C738,誕生日花!E:F,2,FALSE),IFERROR(VLOOKUP(B738,誕生日花!E:F,2,FALSE),\"\"))","v":""}]
["紫羅欄花（アラセイトウ）","ストック","白","ひそやかな愛",{"$f":"IFERROR(MATCH(B739,誕生月花!$B$2:$B$13,0),\"\")","v":""},{"$f":"IFERROR(VLOOKUP(B739&C739,誕生日花!E:F,2,FALSE),IFERROR(VLOOKUP(B739,誕生日花!E:F,2,FALSE),\"\"))","v":""}]
["紫羅欄花（アラセイトウ）","ストック","白","思いやり",{"$f":"IFERROR(MATCH(B740,誕生月花!$B$2:$B$13,0),\"\")","v":""},{"$f":"IFERROR(VLOOKUP(B740&C740,誕生日花!E:F,2,FALSE),IFERROR(VLOOKUP(B740,誕生日花!E:F,2,FALSE),\"\"))","v":""}]
["紫羅欄花（アラセイトウ）","ストック","八重","永遠の美",{"$f":"IFERROR(MATCH(B741,誕生月花!$B$2:$B$13,0),\"\")","v":""},{"$f":"IFERROR(VLOOKUP(B741&C741,誕生日花!E:F,2,FALSE),IFERROR(VLOOKUP(B741,誕生日花!E:F,2,FALSE),\"\"))","v":"2016-01-19"}]
["姫桐草（ヒメギリソウ）","ストレプトカーパス","","ささやきに耳を傾けて",{"$f":"IFERROR(MATCH(B742,誕生月花!$B$2:$B$13,0),\"\")","v":""},{"$f":"IFERROR(VLOOKUP(B742&C742,誕生日花!E:F,2,FALSE),IFERROR(VLOOKUP(B742,誕生日花!E:F,2,FALSE),\"\"))","v":""}]
["姫桐草（ヒメギリソウ）","ストレプトカーパス","","信頼に応える",{"$f":"IFERROR(MATCH(B743,誕生月花!$B$2:$B$13,0),\"\")","v":""},{"$f":"IFERROR(VLOOKUP(B743&C743,誕生日花!E:F,2,FALSE),IFERROR(VLOOKUP(B743,誕生日花!E:F,2,FALSE),\"\"))","v":""}]
["極楽鳥花（ゴクラクチョウカ）","ストレリチア","","気取った恋",{"$f":"IFERROR(MATCH(B744,誕生月花!$B$2:$B$13,0),\"\")","v":""},{"$f":"IFERROR(VLOOKUP(B744&C744,誕生日花!E:F,2,FALSE),IFERROR(VLOOKUP(B744,誕生日花!E:F,2,FALSE),\"\"))","v":"2016-01-03"}]
["極楽鳥花（ゴクラクチョウカ）","ストレリチア","","恋する伊達者",{"$f":"IFERROR(MATCH(B745,誕生月花!$B$2:$B$13,0),\"\")","v":""},{"$f":"IFERROR(VLOOKUP(B745&C745,誕生日花!E:F,2,FALSE),IFERROR(VLOOKUP(B745,誕生日花!E:F,2,FALSE),\"\"))","v":"2016-01-03"}]
["紅花詰草（ベニバナツメクサ）","ストロベリーキャンドル","","善良",{"$f":"IFERROR(MATCH(B746,誕生月花!$B$2:$B$13,0),\"\")","v":""},{"$f":"IFERROR(VLOOKUP(B746&C746,誕生日花!E:F,2,FALSE),IFERROR(VLOOKUP(B746,誕生日花!E:F,2,FALSE),\"\"))","v":"2016-12-28"}]
["苺の木（イチゴノキ）","ストロベリーツリー","","あなただけを愛します",{"$f":"IFERROR(MATCH(B747,誕生月花!$B$2:$B$13,0),\"\")","v":""},{"$f":"IFERROR(VLOOKUP(B747&C747,誕生日花!E:F,2,FALSE),IFERROR(VLOOKUP(B747,誕生日花!E:F,2,FALSE),\"\"))","v":""}]
["待雪草（マツユキソウ）","スノードロップ","","希望",{"$f":"IFERROR(MATCH(B748,誕生月花!$B$2:$B$13,0),\"\")","v":""},{"$f":"IFERROR(VLOOKUP(B748&C748,誕生日花!E:F,2,FALSE),IFERROR(VLOOKUP(B748,誕生日花!E:F,2,FALSE),\"\"))","v":"2016-02-07"}]
["待雪草（マツユキソウ）","スノードロップ","","慰め",{"$f":"IFERROR(MATCH(B749,誕生月花!$B$2:$B$13,0),\"\")","v":""},{"$f":"IFERROR(VLOOKUP(B749&C749,誕生日花!E:F,2,FALSE),IFERROR(VLOOKUP(B749,誕生日花!E:F,2,FALSE),\"\"))","v":"2016-02-07"}]
["大待雪草（オオマツユキソウ）","スノーフレーク","","汚れ無き心",{"$f":"IFERROR(MATCH(B750,誕生月花!$B$2:$B$13,0),\"\")","v":""},{"$f":"IFERROR(VLOOKUP(B750&C750,誕生日花!E:F,2,FALSE),IFERROR(VLOOKUP(B750,誕生日花!E:F,2,FALSE),\"\"))","v":"2016-05-21"}]
["大待雪草（オオマツユキソウ）","スノーフレーク","","汚れなき心",{"$f":"IFERROR(MATCH(B751,誕生月花!$B$2:$B$13,0),\"\")","v":""},{"$f":"IFERROR(VLOOKUP(B751&C751,誕生日花!E:F,2,FALSE),IFERROR(VLOOKUP(B751,誕生日花!E:F,2,FALSE),\"\"))","v":"2016-05-21"}]
["大待雪草（オオマツユキソウ）","スノーフレーク","","皆をひきつける魅力",{"$f":"IFERROR(MATCH(B752,誕生月花!$B$2:$B$13,0),\"\")","v":""},{"$f":"IFERROR(VLOOKUP(B752&C752,誕生日花!E:F,2,FALSE),IFERROR(VLOOKUP(B752,誕生日花!E:F,2,FALSE),\"\"))","v":"2016-05-21"}]
["大待雪草（オオマツユキソウ）","スノーフレーク","","純潔",{"$f":"IFERROR(MATCH(B753,誕生月花!$B$2:$B$13,0),\"\")","v":""},{"$f":"IFERROR(VLOOKUP(B753&C753,誕生日花!E:F,2,FALSE),IFERROR(VLOOKUP(B753,誕生日花!E:F,2,FALSE),\"\"))","v":"2016-05-21"}]
["大待雪草（オオマツユキソウ）","スノーフレーク","","純粋",{"$f":"IFERROR(MATCH(B754,誕生月花!$B$2:$B$13,0),\"\")","v":""},{"$f":"IFERROR(VLOOKUP(B754&C754,誕生日花!E:F,2,FALSE),IFERROR(VLOOKUP(B754,誕生日花!E:F,2,FALSE),\"\"))","v":"2016-05-21"}]
["笹団扇（ササウチワ）","スパティフィラム","","上品な淑女",{"$f":"IFERROR(MATCH(B755,誕生月花!$B$2:$B$13,0),\"\")","v":""},{"$f":"IFERROR(VLOOKUP(B755&C755,誕生日花!E:F,2,FALSE),IFERROR(VLOOKUP(B755,誕生日花!E:F,2,FALSE),\"\"))","v":"2016-08-31"}]
["笹団扇（ササウチワ）","スパティフィラム","","清らかな心",{"$f":"IFERROR(MATCH(B756,誕生月花!$B$2:$B$13,0),\"\")","v":""},{"$f":"IFERROR(VLOOKUP(B756&C756,誕生日花!E:F,2,FALSE),IFERROR(VLOOKUP(B756,誕生日花!E:F,2,FALSE),\"\"))","v":"2016-08-31"}]
["スプレー菊","スプレーギク","","寛大",{"$f":"IFERROR(MATCH(B757,誕生月花!$B$2:$B$13,0),\"\")","v":""},{"$f":"IFERROR(VLOOKUP(B757&C757,誕生日花!E:F,2,FALSE),IFERROR(VLOOKUP(B757,誕生日花!E:F,2,FALSE),\"\"))","v":"2016-02-12"}]
["菫","スミレ","","謙虚",{"$f":"IFERROR(MATCH(B758,誕生月花!$B$2:$B$13,0),\"\")","v":""},{"$f":"IFERROR(VLOOKUP(B758&C758,誕生日花!E:F,2,FALSE),IFERROR(VLOOKUP(B758,誕生日花!E:F,2,FALSE),\"\"))","v":"2016-01-29"}]
["菫","スミレ","","小さな幸せ",{"$f":"IFERROR(MATCH(B759,誕生月花!$B$2:$B$13,0),\"\")","v":""},{"$f":"IFERROR(VLOOKUP(B759&C759,誕生日花!E:F,2,FALSE),IFERROR(VLOOKUP(B759,誕生日花!E:F,2,FALSE),\"\"))","v":"2016-01-29"}]
["菫","スミレ","","誠実",{"$f":"IFERROR(MATCH(B760,誕生月花!$B$2:$B$13,0),\"\")","v":""},{"$f":"IFERROR(VLOOKUP(B760&C760,誕生日花!E:F,2,FALSE),IFERROR(VLOOKUP(B760,誕生日花!E:F,2,FALSE),\"\"))","v":"2016-01-29"}]
["菫","スミレ","黄","希少価値",{"$f":"IFERROR(MATCH(B761,誕生月花!$B$2:$B$13,0),\"\")","v":""},{"$f":"IFERROR(VLOOKUP(B761&C761,誕生日花!E:F,2,FALSE),IFERROR(VLOOKUP(B761,誕生日花!E:F,2,FALSE),\"\"))","v":"2016-01-29"}]
["菫","スミレ","黄","つつましい喜び",{"$f":"IFERROR(MATCH(B762,誕生月花!$B$2:$B$13,0),\"\")","v":""},{"$f":"IFERROR(VLOOKUP(B762&C762,誕生日花!E:F,2,FALSE),IFERROR(VLOOKUP(B762,誕生日花!E:F,2,FALSE),\"\"))","v":"2016-01-29"}]
["菫","スミレ","黄","田園の幸福",{"$f":"IFERROR(MATCH(B763,誕生月花!$B$2:$B$13,0),\"\")","v":""},{"$f":"IFERROR(VLOOKUP(B763&C763,誕生日花!E:F,2,FALSE),IFERROR(VLOOKUP(B763,誕生日花!E:F,2,FALSE),\"\"))","v":"2016-01-29"}]
["菫","スミレ","紫","誠実",{"$f":"IFERROR(MATCH(B764,誕生月花!$B$2:$B$13,0),\"\")","v":""},{"$f":"IFERROR(VLOOKUP(B764&C764,誕生日花!E:F,2,FALSE),IFERROR(VLOOKUP(B764,誕生日花!E:F,2,FALSE),\"\"))","v":"2016-01-29"}]
["菫","スミレ","紫","愛",{"$f":"IFERROR(MATCH(B765,誕生月花!$B$2:$B$13,0),\"\")","v":""},{"$f":"IFERROR(VLOOKUP(B765&C765,誕生日花!E:F,2,FALSE),IFERROR(VLOOKUP(B765,誕生日花!E:F,2,FALSE),\"\"))","v":"2016-01-29"}]
["菫","スミレ","紫","貞節",{"$f":"IFERROR(MATCH(B766,誕生月花!$B$2:$B$13,0),\"\")","v":""},{"$f":"IFERROR(VLOOKUP(B766&C766,誕生日花!E:F,2,FALSE),IFERROR(VLOOKUP(B766,誕生日花!E:F,2,FALSE),\"\"))","v":"2016-01-29"}]
["菫","スミレ","青","直観に誠実",{"$f":"IFERROR(MATCH(B767,誕生月花!$B$2:$B$13,0),\"\")","v":""},{"$f":"IFERROR(VLOOKUP(B767&C767,誕生日花!E:F,2,FALSE),IFERROR(VLOOKUP(B767,誕生日花!E:F,2,FALSE),\"\"))","v":"2016-01-29"}]
["菫","スミレ","白","無垢",{"$f":"IFERROR(MATCH(B768,誕生月花!$B$2:$B$13,0),\"\")","v":""},{"$f":"IFERROR(VLOOKUP(B768&C768,誕生日花!E:F,2,FALSE),IFERROR(VLOOKUP(B768,誕生日花!E:F,2,FALSE),\"\"))","v":"2016-01-29"}]
["菫","スミレ","白","あどけない恋",{"$f":"IFERROR(MATCH(B769,誕生月花!$B$2:$B$13,0),\"\")","v":""},{"$f":"IFERROR(VLOOKUP(B769&C769,誕生日花!E:F,2,FALSE),IFERROR(VLOOKUP(B769,誕生日花!E:F,2,FALSE),\"\"))","v":"2016-01-29"}]
["菫","スミレ","白","純潔",{"$f":"IFERROR(MATCH(B770,誕生月花!$B$2:$B$13,0),\"\")","v":""},{"$f":"IFERROR(VLOOKUP(B770&C770,誕生日花!E:F,2,FALSE),IFERROR(VLOOKUP(B770,誕生日花!E:F,2,FALSE),\"\"))","v":"2016-01-29"}]
["菫","スミレ","白","無邪気な恋",{"$f":"IFERROR(MATCH(B771,誕生月花!$B$2:$B$13,0),\"\")","v":""},{"$f":"IFERROR(VLOOKUP(B771&C771,誕生日花!E:F,2,FALSE),IFERROR(VLOOKUP(B771,誕生日花!E:F,2,FALSE),\"\"))","v":"2016-01-29"}]
["菫","スミレ","野生","つれづれの恋",{"$f":"IFERROR(MATCH(B772,誕生月花!$B$2:$B$13,0),\"\")","v":""},{"$f":"IFERROR(VLOOKUP(B772&C772,誕生日花!E:F,2,FALSE),IFERROR(VLOOKUP(B772,誕生日花!E:F,2,FALSE),\"\"))","v":"2016-01-29"}]
["李","スモモ","","約束を守って",{"$f":"IFERROR(MATCH(B773,誕生月花!$B$2:$B$13,0),\"\")","v":""},{"$f":"IFERROR(VLOOKUP(B773&C773,誕生日花!E:F,2,FALSE),IFERROR(VLOOKUP(B773,誕生日花!E:F,2,FALSE),\"\"))","v":""}]
["李","スモモ","","誤解",{"$f":"IFERROR(MATCH(B774,誕生月花!$B$2:$B$13,0),\"\")","v":""},{"$f":"IFERROR(VLOOKUP(B774&C774,誕生日花!E:F,2,FALSE),IFERROR(VLOOKUP(B774,誕生日花!E:F,2,FALSE),\"\"))","v":""}]
["薬用サルビア","セージ","","家庭の徳",{"$f":"IFERROR(MATCH(B775,誕生月花!$B$2:$B$13,0),\"\")","v":""},{"$f":"IFERROR(VLOOKUP(B775&C775,誕生日花!E:F,2,FALSE),IFERROR(VLOOKUP(B775,誕生日花!E:F,2,FALSE),\"\"))","v":""}]
["節分草","セツブンソウ","","光輝",{"$f":"IFERROR(MATCH(B776,誕生月花!$B$2:$B$13,0),\"\")","v":""},{"$f":"IFERROR(VLOOKUP(B776&C776,誕生日花!E:F,2,FALSE),IFERROR(VLOOKUP(B776,誕生日花!E:F,2,FALSE),\"\"))","v":""}]
["玉簾（タマスダレ）","ゼフィランサス","","汚れなき愛",{"$f":"IFERROR(MATCH(B777,誕生月花!$B$2:$B$13,0),\"\")","v":""},{"$f":"IFERROR(VLOOKUP(B777&C777,誕生日花!E:F,2,FALSE),IFERROR(VLOOKUP(B777,誕生日花!E:F,2,FALSE),\"\"))","v":""}]
["玉簾（タマスダレ）","ゼフィランサス","","期待",{"$f":"IFERROR(MATCH(B778,誕生月花!$B$2:$B$13,0),\"\")","v":""},{"$f":"IFERROR(VLOOKUP(B778&C778,誕生日花!E:F,2,FALSE),IFERROR(VLOOKUP(B778,誕生日花!E:F,2,FALSE),\"\"))","v":""}]
["玉簾（タマスダレ）","ゼフィランサス","","便りがある",{"$f":"IFERROR(MATCH(B779,誕生月花!$B$2:$B$13,0),\"\")","v":""},{"$f":"IFERROR(VLOOKUP(B779&C779,誕生日花!E:F,2,FALSE),IFERROR(VLOOKUP(B779,誕生日花!E:F,2,FALSE),\"\"))","v":""}]
["天竺葵（テンジクアオイ）","ゼラニウム","","信頼",{"$f":"IFERROR(MATCH(B780,誕生月花!$B$2:$B$13,0),\"\")","v":""},{"$f":"IFERROR(VLOOKUP(B780&C780,誕生日花!E:F,2,FALSE),IFERROR(VLOOKUP(B780,誕生日花!E:F,2,FALSE),\"\"))","v":"2016-05-16"}]
["天竺葵（テンジクアオイ）","ゼラニウム","","真の友情",{"$f":"IFERROR(MATCH(B781,誕生月花!$B$2:$B$13,0),\"\")","v":""},{"$f":"IFERROR(VLOOKUP(B781&C781,誕生日花!E:F,2,FALSE),IFERROR(VLOOKUP(B781,誕生日花!E:F,2,FALSE),\"\"))","v":"2016-05-16"}]
["天竺葵（テンジクアオイ）","ゼラニウム","","尊敬",{"$f":"IFERROR(MATCH(B782,誕生月花!$B$2:$B$13,0),\"\")","v":""},{"$f":"IFERROR(VLOOKUP(B782&C782,誕生日花!E:F,2,FALSE),IFERROR(VLOOKUP(B782,誕生日花!E:F,2,FALSE),\"\"))","v":"2016-05-16"}]
["天竺葵（テンジクアオイ）","ゼラニウム","","決心",{"$f":"IFERROR(MATCH(B783,誕生月花!$B$2:$B$13,0),\"\")","v":""},{"$f":"IFERROR(VLOOKUP(B783&C783,誕生日花!E:F,2,FALSE),IFERROR(VLOOKUP(B783,誕生日花!E:F,2,FALSE),\"\"))","v":"2016-05-16"}]
["天竺葵（テンジクアオイ）","ゼラニウム","ピンク","決意",{"$f":"IFERROR(MATCH(B784,誕生月花!$B$2:$B$13,0),\"\")","v":""},{"$f":"IFERROR(VLOOKUP(B784&C784,誕生日花!E:F,2,FALSE),IFERROR(VLOOKUP(B784,誕生日花!E:F,2,FALSE),\"\"))","v":"2016-05-16"}]
["天竺葵（テンジクアオイ）","ゼラニウム","黄","予期せぬ出会い",{"$f":"IFERROR(MATCH(B785,誕生月花!$B$2:$B$13,0),\"\")","v":""},{"$f":"IFERROR(VLOOKUP(B785&C785,誕生日花!E:F,2,FALSE),IFERROR(VLOOKUP(B785,誕生日花!E:F,2,FALSE),\"\"))","v":"2016-05-16"}]
["天竺葵（テンジクアオイ）","ゼラニウム","深紅","メランコニー（憂うつ）",{"$f":"IFERROR(MATCH(B786,誕生月花!$B$2:$B$13,0),\"\")","v":""},{"$f":"IFERROR(VLOOKUP(B786&C786,誕生日花!E:F,2,FALSE),IFERROR(VLOOKUP(B786,誕生日花!E:F,2,FALSE),\"\"))","v":"2016-05-16"}]
["天竺葵（テンジクアオイ）","ゼラニウム","赤","君ありて幸福",{"$f":"IFERROR(MATCH(B787,誕生月花!$B$2:$B$13,0),\"\")","v":""},{"$f":"IFERROR(VLOOKUP(B787&C787,誕生日花!E:F,2,FALSE),IFERROR(VLOOKUP(B787,誕生日花!E:F,2,FALSE),\"\"))","v":"2016-05-16"}]
["天竺葵（テンジクアオイ）","ゼラニウム","白","（私は）あなたの愛を信じない",{"$f":"IFERROR(MATCH(B788,誕生月花!$B$2:$B$13,0),\"\")","v":""},{"$f":"IFERROR(VLOOKUP(B788&C788,誕生日花!E:F,2,FALSE),IFERROR(VLOOKUP(B788,誕生日花!E:F,2,FALSE),\"\"))","v":"2016-05-16"}]
["天竺葵（テンジクアオイ）","ゼラニウム","白","私はあなたの愛を信じない",{"$f":"IFERROR(MATCH(B789,誕生月花!$B$2:$B$13,0),\"\")","v":""},{"$f":"IFERROR(VLOOKUP(B789&C789,誕生日花!E:F,2,FALSE),IFERROR(VLOOKUP(B789,誕生日花!E:F,2,FALSE),\"\"))","v":"2016-05-16"}]
["天竺葵（テンジクアオイ）","ゼラニウム","緋","好奇心",{"$f":"IFERROR(MATCH(B790,誕生月花!$B$2:$B$13,0),\"\")","v":""},{"$f":"IFERROR(VLOOKUP(B790&C790,誕生日花!E:F,2,FALSE),IFERROR(VLOOKUP(B790,誕生日花!E:F,2,FALSE),\"\"))","v":"2016-05-16"}]
["天竺葵（テンジクアオイ）","ゼラニウム","葉","努力家",{"$f":"IFERROR(MATCH(B791,誕生月花!$B$2:$B$13,0),\"\")","v":""},{"$f":"IFERROR(VLOOKUP(B791&C791,誕生日花!E:F,2,FALSE),IFERROR(VLOOKUP(B791,誕生日花!E:F,2,FALSE),\"\"))","v":"2016-05-16"}]
["芹","セリ","","清廉で高潔",{"$f":"IFERROR(MATCH(B792,誕生月花!$B$2:$B$13,0),\"\")","v":""},{"$f":"IFERROR(VLOOKUP(B792&C792,誕生日花!E:F,2,FALSE),IFERROR(VLOOKUP(B792,誕生日花!E:F,2,FALSE),\"\"))","v":""}]
["芹","セリ","","貧しくても高潔",{"$f":"IFERROR(MATCH(B793,誕生月花!$B$2:$B$13,0),\"\")","v":""},{"$f":"IFERROR(VLOOKUP(B793&C793,誕生日花!E:F,2,FALSE),IFERROR(VLOOKUP(B793,誕生日花!E:F,2,FALSE),\"\"))","v":""}]
["西洋弟切（セイヨウオトギリ）","セントジョーンズワート","","預言者",{"$f":"IFERROR(MATCH(B794,誕生月花!$B$2:$B$13,0),\"\")","v":""},{"$f":"IFERROR(VLOOKUP(B794&C794,誕生日花!E:F,2,FALSE),IFERROR(VLOOKUP(B794,誕生日花!E:F,2,FALSE),\"\"))","v":""}]
["アフリカ菫（アフリカスミレ）","セントポーリア","","小さな愛",{"$f":"IFERROR(MATCH(B795,誕生月花!$B$2:$B$13,0),\"\")","v":""},{"$f":"IFERROR(VLOOKUP(B795&C795,誕生日花!E:F,2,FALSE),IFERROR(VLOOKUP(B795,誕生日花!E:F,2,FALSE),\"\"))","v":"2016-05-20"}]
["千日紅","センニチコウ","","不滅の愛",{"$f":"IFERROR(MATCH(B796,誕生月花!$B$2:$B$13,0),\"\")","v":""},{"$f":"IFERROR(VLOOKUP(B796&C796,誕生日花!E:F,2,FALSE),IFERROR(VLOOKUP(B796,誕生日花!E:F,2,FALSE),\"\"))","v":"2016-10-01"}]
["千日紅","センニチコウ","","色あせぬ愛",{"$f":"IFERROR(MATCH(B797,誕生月花!$B$2:$B$13,0),\"\")","v":""},{"$f":"IFERROR(VLOOKUP(B797&C797,誕生日花!E:F,2,FALSE),IFERROR(VLOOKUP(B797,誕生日花!E:F,2,FALSE),\"\"))","v":"2016-10-01"}]
["千日紅","センニチコウ","","不朽",{"$f":"IFERROR(MATCH(B798,誕生月花!$B$2:$B$13,0),\"\")","v":""},{"$f":"IFERROR(VLOOKUP(B798&C798,誕生日花!E:F,2,FALSE),IFERROR(VLOOKUP(B798,誕生日花!E:F,2,FALSE),\"\"))","v":"2016-10-01"}]
["蕎麦","ソバ","","愛らしさ",{"$f":"IFERROR(MATCH(B799,誕生月花!$B$2:$B$13,0),\"\")","v":""},{"$f":"IFERROR(VLOOKUP(B799&C799,誕生日花!E:F,2,FALSE),IFERROR(VLOOKUP(B799,誕生日花!E:F,2,FALSE),\"\"))","v":"2016-09-07"}]
["染井吉野","ソメイヨシノ","","純潔",{"$f":"IFERROR(MATCH(B800,誕生月花!$B$2:$B$13,0),\"\")","v":""},{"$f":"IFERROR(VLOOKUP(B800&C800,誕生日花!E:F,2,FALSE),IFERROR(VLOOKUP(B800,誕生日花!E:F,2,FALSE),\"\"))","v":""}]
["染井吉野","ソメイヨシノ","","優れた美人",{"$f":"IFERROR(MATCH(B801,誕生月花!$B$2:$B$13,0),\"\")","v":""},{"$f":"IFERROR(VLOOKUP(B801&C801,誕生日花!E:F,2,FALSE),IFERROR(VLOOKUP(B801,誕生日花!E:F,2,FALSE),\"\"))","v":""}]
["泰山木","タイサンボク","","前途洋洋",{"$f":"IFERROR(MATCH(B802,誕生月花!$B$2:$B$13,0),\"\")","v":""},{"$f":"IFERROR(VLOOKUP(B802&C802,誕生日花!E:F,2,FALSE),IFERROR(VLOOKUP(B802,誕生日花!E:F,2,FALSE),\"\"))","v":""}]
["泰山木","タイサンボク","","壮麗",{"$f":"IFERROR(MATCH(B803,誕生月花!$B$2:$B$13,0),\"\")","v":""},{"$f":"IFERROR(VLOOKUP(B803&C803,誕生日花!E:F,2,FALSE),IFERROR(VLOOKUP(B803,誕生日花!E:F,2,FALSE),\"\"))","v":""}]
["立麝香草（タチジャコウソウ）","タイム","","勇気ある行動",{"$f":"IFERROR(MATCH(B804,誕生月花!$B$2:$B$13,0),\"\")","v":""},{"$f":"IFERROR(VLOOKUP(B804&C804,誕生日花!E:F,2,FALSE),IFERROR(VLOOKUP(B804,誕生日花!E:F,2,FALSE),\"\"))","v":"2016-05-23"}]
["立麝香草（タチジャコウソウ）","タイム","","活動力",{"$f":"IFERROR(MATCH(B805,誕生月花!$B$2:$B$13,0),\"\")","v":""},{"$f":"IFERROR(VLOOKUP(B805&C805,誕生日花!E:F,2,FALSE),IFERROR(VLOOKUP(B805,誕生日花!E:F,2,FALSE),\"\"))","v":"2016-05-23"}]
["大文字草","ダイモンジソウ","","自由",{"$f":"IFERROR(MATCH(B806,誕生月花!$B$2:$B$13,0),\"\")","v":""},{"$f":"IFERROR(VLOOKUP(B806&C806,誕生日花!E:F,2,FALSE),IFERROR(VLOOKUP(B806,誕生日花!E:F,2,FALSE),\"\"))","v":"2016-12-07"}]
["竹","タケ","","高い目標",{"$f":"IFERROR(MATCH(B807,誕生月花!$B$2:$B$13,0),\"\")","v":""},{"$f":"IFERROR(VLOOKUP(B807&C807,誕生日花!E:F,2,FALSE),IFERROR(VLOOKUP(B807,誕生日花!E:F,2,FALSE),\"\"))","v":""}]
["竹","タケ","","節操ある",{"$f":"IFERROR(MATCH(B808,誕生月花!$B$2:$B$13,0),\"\")","v":""},{"$f":"IFERROR(VLOOKUP(B808&C808,誕生日花!E:F,2,FALSE),IFERROR(VLOOKUP(B808,誕生日花!E:F,2,FALSE),\"\"))","v":""}]
["竹","タケ","","節度",{"$f":"IFERROR(MATCH(B809,誕生月花!$B$2:$B$13,0),\"\")","v":""},{"$f":"IFERROR(VLOOKUP(B809&C809,誕生日花!E:F,2,FALSE),IFERROR(VLOOKUP(B809,誕生日花!E:F,2,FALSE),\"\"))","v":""}]
["立葵","タチアオイ","","気高く威厳に満ちた美",{"$f":"IFERROR(MATCH(B810,誕生月花!$B$2:$B$13,0),\"\")","v":""},{"$f":"IFERROR(VLOOKUP(B810&C810,誕生日花!E:F,2,FALSE),IFERROR(VLOOKUP(B810,誕生日花!E:F,2,FALSE),\"\"))","v":""}]
["立葵","タチアオイ","","大望",{"$f":"IFERROR(MATCH(B811,誕生月花!$B$2:$B$13,0),\"\")","v":""},{"$f":"IFERROR(VLOOKUP(B811&C811,誕生日花!E:F,2,FALSE),IFERROR(VLOOKUP(B811,誕生日花!E:F,2,FALSE),\"\"))","v":""}]
["立葵","タチアオイ","","豊かな実り",{"$f":"IFERROR(MATCH(B812,誕生月花!$B$2:$B$13,0),\"\")","v":""},{"$f":"IFERROR(VLOOKUP(B812&C812,誕生日花!E:F,2,FALSE),IFERROR(VLOOKUP(B812,誕生日花!E:F,2,FALSE),\"\"))","v":""}]
["立葵","タチアオイ","","野心",{"$f":"IFERROR(MATCH(B813,誕生月花!$B$2:$B$13,0),\"\")","v":""},{"$f":"IFERROR(VLOOKUP(B813&C813,誕生日花!E:F,2,FALSE),IFERROR(VLOOKUP(B813,誕生日花!E:F,2,FALSE),\"\"))","v":""}]
["立葵","タチアオイ","","豊穣",{"$f":"IFERROR(MATCH(B814,誕生月花!$B$2:$B$13,0),\"\")","v":""},{"$f":"IFERROR(VLOOKUP(B814&C814,誕生日花!E:F,2,FALSE),IFERROR(VLOOKUP(B814,誕生日花!E:F,2,FALSE),\"\"))","v":""}]
["立葵","タチアオイ","白","女性の野心",{"$f":"IFERROR(MATCH(B815,誕生月花!$B$2:$B$13,0),\"\")","v":""},{"$f":"IFERROR(VLOOKUP(B815&C815,誕生日花!E:F,2,FALSE),IFERROR(VLOOKUP(B815,誕生日花!E:F,2,FALSE),\"\"))","v":""}]
["木立朝鮮朝顔（キダチチョウセンアサガオ）","ダチュラ","","愛嬌",{"$f":"IFERROR(MATCH(B816,誕生月花!$B$2:$B$13,0),\"\")","v":""},{"$f":"IFERROR(VLOOKUP(B816&C816,誕生日花!E:F,2,FALSE),IFERROR(VLOOKUP(B816,誕生日花!E:F,2,FALSE),\"\"))","v":""}]
["木立朝鮮朝顔（キダチチョウセンアサガオ）","ダチュラ","","偽りの魅力",{"$f":"IFERROR(MATCH(B817,誕生月花!$B$2:$B$13,0),\"\")","v":""},{"$f":"IFERROR(VLOOKUP(B817&C817,誕生日花!E:F,2,FALSE),IFERROR(VLOOKUP(B817,誕生日花!E:F,2,FALSE),\"\"))","v":""}]
["絵筆菊（エフデギク）","タッセルフラワー","","感性",{"$f":"IFERROR(MATCH(B818,誕生月花!$B$2:$B$13,0),\"\")","v":""},{"$f":"IFERROR(VLOOKUP(B818&C818,誕生日花!E:F,2,FALSE),IFERROR(VLOOKUP(B818,誕生日花!E:F,2,FALSE),\"\"))","v":"2016-08-17"}]
["玉簾","タマスダレ","","潔白",{"$f":"IFERROR(MATCH(B819,誕生月花!$B$2:$B$13,0),\"\")","v":""},{"$f":"IFERROR(VLOOKUP(B819&C819,誕生日花!E:F,2,FALSE),IFERROR(VLOOKUP(B819,誕生日花!E:F,2,FALSE),\"\"))","v":"2016-10-31"}]
["田村草","タムラソウ","","秘密",{"$f":"IFERROR(MATCH(B820,誕生月花!$B$2:$B$13,0),\"\")","v":""},{"$f":"IFERROR(VLOOKUP(B820&C820,誕生日花!E:F,2,FALSE),IFERROR(VLOOKUP(B820,誕生日花!E:F,2,FALSE),\"\"))","v":"2016-09-10"}]
["天竺牡丹（テンジクボタン）","ダリア","","栄華と移り気",{"$f":"IFERROR(MATCH(B821,誕生月花!$B$2:$B$13,0),\"\")","v":9},{"$f":"IFERROR(VLOOKUP(B821&C821,誕生日花!E:F,2,FALSE),IFERROR(VLOOKUP(B821,誕生日花!E:F,2,FALSE),\"\"))","v":"2016-10-23"}]
["天竺牡丹（テンジクボタン）","ダリア","","移り気",{"$f":"IFERROR(MATCH(B822,誕生月花!$B$2:$B$13,0),\"\")","v":9},{"$f":"IFERROR(VLOOKUP(B822&C822,誕生日花!E:F,2,FALSE),IFERROR(VLOOKUP(B822,誕生日花!E:F,2,FALSE),\"\"))","v":"2016-10-23"}]
["天竺牡丹（テンジクボタン）","ダリア","","華麗",{"$f":"IFERROR(MATCH(B823,誕生月花!$B$2:$B$13,0),\"\")","v":9},{"$f":"IFERROR(VLOOKUP(B823&C823,誕生日花!E:F,2,FALSE),IFERROR(VLOOKUP(B823,誕生日花!E:F,2,FALSE),\"\"))","v":"2016-10-23"}]
["天竺牡丹（テンジクボタン）","ダリア","","気品",{"$f":"IFERROR(MATCH(B824,誕生月花!$B$2:$B$13,0),\"\")","v":9},{"$f":"IFERROR(VLOOKUP(B824&C824,誕生日花!E:F,2,FALSE),IFERROR(VLOOKUP(B824,誕生日花!E:F,2,FALSE),\"\"))","v":"2016-10-23"}]
["天竺牡丹（テンジクボタン）","ダリア","","不安定",{"$f":"IFERROR(MATCH(B825,誕生月花!$B$2:$B$13,0),\"\")","v":9},{"$f":"IFERROR(VLOOKUP(B825&C825,誕生日花!E:F,2,FALSE),IFERROR(VLOOKUP(B825,誕生日花!E:F,2,FALSE),\"\"))","v":"2016-10-23"}]
["天竺牡丹（テンジクボタン）","ダリア","","優雅",{"$f":"IFERROR(MATCH(B826,誕生月花!$B$2:$B$13,0),\"\")","v":9},{"$f":"IFERROR(VLOOKUP(B826&C826,誕生日花!E:F,2,FALSE),IFERROR(VLOOKUP(B826,誕生日花!E:F,2,FALSE),\"\"))","v":"2016-10-23"}]
["蓬菊（ヨモギギク）","タンジー","","滅びることのない愛",{"$f":"IFERROR(MATCH(B827,誕生月花!$B$2:$B$13,0),\"\")","v":""},{"$f":"IFERROR(VLOOKUP(B827&C827,誕生日花!E:F,2,FALSE),IFERROR(VLOOKUP(B827,誕生日花!E:F,2,FALSE),\"\"))","v":"2016-08-27"}]
["蓬菊（ヨモギギク）","タンジー","","あなたとの戦いを宣言する",{"$f":"IFERROR(MATCH(B828,誕生月花!$B$2:$B$13,0),\"\")","v":""},{"$f":"IFERROR(VLOOKUP(B828&C828,誕生日花!E:F,2,FALSE),IFERROR(VLOOKUP(B828,誕生日花!E:F,2,FALSE),\"\"))","v":"2016-08-27"}]
["蓬菊（ヨモギギク）","タンジー","","抵抗",{"$f":"IFERROR(MATCH(B829,誕生月花!$B$2:$B$13,0),\"\")","v":""},{"$f":"IFERROR(VLOOKUP(B829&C829,誕生日花!E:F,2,FALSE),IFERROR(VLOOKUP(B829,誕生日花!E:F,2,FALSE),\"\"))","v":"2016-08-27"}]
["蓬菊（ヨモギギク）","タンジー","","婦人の美徳",{"$f":"IFERROR(MATCH(B830,誕生月花!$B$2:$B$13,0),\"\")","v":""},{"$f":"IFERROR(VLOOKUP(B830&C830,誕生日花!E:F,2,FALSE),IFERROR(VLOOKUP(B830,誕生日花!E:F,2,FALSE),\"\"))","v":"2016-08-27"}]
["西洋タンポポ","ダンデライオン","","思わせぶり",{"$f":"IFERROR(MATCH(B831,誕生月花!$B$2:$B$13,0),\"\")","v":""},{"$f":"IFERROR(VLOOKUP(B831&C831,誕生日花!E:F,2,FALSE),IFERROR(VLOOKUP(B831,誕生日花!E:F,2,FALSE),\"\"))","v":""}]
["蒲公英","タンポポ","","思わせぶり",{"$f":"IFERROR(MATCH(B832,誕生月花!$B$2:$B$13,0),\"\")","v":""},{"$f":"IFERROR(VLOOKUP(B832&C832,誕生日花!E:F,2,FALSE),IFERROR(VLOOKUP(B832,誕生日花!E:F,2,FALSE),\"\"))","v":"2016-04-15"}]
["蒲公英","タンポポ","","愛の神託",{"$f":"IFERROR(MATCH(B833,誕生月花!$B$2:$B$13,0),\"\")","v":""},{"$f":"IFERROR(VLOOKUP(B833&C833,誕生日花!E:F,2,FALSE),IFERROR(VLOOKUP(B833,誕生日花!E:F,2,FALSE),\"\"))","v":"2016-04-15"}]
["蒲公英","タンポポ","","真心の愛",{"$f":"IFERROR(MATCH(B834,誕生月花!$B$2:$B$13,0),\"\")","v":""},{"$f":"IFERROR(VLOOKUP(B834&C834,誕生日花!E:F,2,FALSE),IFERROR(VLOOKUP(B834,誕生日花!E:F,2,FALSE),\"\"))","v":"2016-04-15"}]
["蒲公英","タンポポ","","神託",{"$f":"IFERROR(MATCH(B835,誕生月花!$B$2:$B$13,0),\"\")","v":""},{"$f":"IFERROR(VLOOKUP(B835&C835,誕生日花!E:F,2,FALSE),IFERROR(VLOOKUP(B835,誕生日花!E:F,2,FALSE),\"\"))","v":"2016-04-15"}]
["蒲公英","タンポポ","","別離",{"$f":"IFERROR(MATCH(B836,誕生月花!$B$2:$B$13,0),\"\")","v":""},{"$f":"IFERROR(VLOOKUP(B836&C836,誕生日花!E:F,2,FALSE),IFERROR(VLOOKUP(B836,誕生日花!E:F,2,FALSE),\"\"))","v":"2016-04-15"}]
["ちこり","チコリ","","質素",{"$f":"IFERROR(MATCH(B837,誕生月花!$B$2:$B$13,0),\"\")","v":""},{"$f":"IFERROR(VLOOKUP(B837&C837,誕生日花!E:F,2,FALSE),IFERROR(VLOOKUP(B837,誕生日花!E:F,2,FALSE),\"\"))","v":""}]
["茶ノ木","チャノキ","","ユーモア",{"$f":"IFERROR(MATCH(B838,誕生月花!$B$2:$B$13,0),\"\")","v":""},{"$f":"IFERROR(VLOOKUP(B838&C838,誕生日花!E:F,2,FALSE),IFERROR(VLOOKUP(B838,誕生日花!E:F,2,FALSE),\"\"))","v":"2016-11-11"}]
["月下香（ゲッカコウ）","チューブローズ","","危険な楽しみ",{"$f":"IFERROR(MATCH(B839,誕生月花!$B$2:$B$13,0),\"\")","v":""},{"$f":"IFERROR(VLOOKUP(B839&C839,誕生日花!E:F,2,FALSE),IFERROR(VLOOKUP(B839,誕生日花!E:F,2,FALSE),\"\"))","v":""}]
["月下香（ゲッカコウ）","チューベローズ","","危険な快楽",{"$f":"IFERROR(MATCH(B840,誕生月花!$B$2:$B$13,0),\"\")","v":""},{"$f":"IFERROR(VLOOKUP(B840&C840,誕生日花!E:F,2,FALSE),IFERROR(VLOOKUP(B840,誕生日花!E:F,2,FALSE),\"\"))","v":"2016-09-17"}]
["鬱金香","チューリップ","","思いやり",{"$f":"IFERROR(MATCH(B841,誕生月花!$B$2:$B$13,0),\"\")","v":3},{"$f":"IFERROR(VLOOKUP(B841&C841,誕生日花!E:F,2,FALSE),IFERROR(VLOOKUP(B841,誕生日花!E:F,2,FALSE),\"\"))","v":""}]
["鬱金香","チューリップ","","美しい瞳",{"$f":"IFERROR(MATCH(B842,誕生月花!$B$2:$B$13,0),\"\")","v":3},{"$f":"IFERROR(VLOOKUP(B842&C842,誕生日花!E:F,2,FALSE),IFERROR(VLOOKUP(B842,誕生日花!E:F,2,FALSE),\"\"))","v":""}]
["鬱金香","チューリップ","パーロット咲","愛の表現",{"$f":"IFERROR(MATCH(B843,誕生月花!$B$2:$B$13,0),\"\")","v":3},{"$f":"IFERROR(VLOOKUP(B843&C843,誕生日花!E:F,2,FALSE),IFERROR(VLOOKUP(B843,誕生日花!E:F,2,FALSE),\"\"))","v":""}]
["鬱金香","チューリップ","ピンク","愛の芽生え",{"$f":"IFERROR(MATCH(B844,誕生月花!$B$2:$B$13,0),\"\")","v":3},{"$f":"IFERROR(VLOOKUP(B844&C844,誕生日花!E:F,2,FALSE),IFERROR(VLOOKUP(B844,誕生日花!E:F,2,FALSE),\"\"))","v":""}]
["鬱金香","チューリップ","ピンク","誠実な愛",{"$f":"IFERROR(MATCH(B845,誕生月花!$B$2:$B$13,0),\"\")","v":3},{"$f":"IFERROR(VLOOKUP(B845&C845,誕生日花!E:F,2,FALSE),IFERROR(VLOOKUP(B845,誕生日花!E:F,2,FALSE),\"\"))","v":""}]
["鬱金香","チューリップ","黄","名声",{"$f":"IFERROR(MATCH(B846,誕生月花!$B$2:$B$13,0),\"\")","v":3},{"$f":"IFERROR(VLOOKUP(B846&C846,誕生日花!E:F,2,FALSE),IFERROR(VLOOKUP(B846,誕生日花!E:F,2,FALSE),\"\"))","v":"2016-01-25"}]
["鬱金香","チューリップ","黄","望みのない恋",{"$f":"IFERROR(MATCH(B847,誕生月花!$B$2:$B$13,0),\"\")","v":3},{"$f":"IFERROR(VLOOKUP(B847&C847,誕生日花!E:F,2,FALSE),IFERROR(VLOOKUP(B847,誕生日花!E:F,2,FALSE),\"\"))","v":"2016-01-25"}]
["鬱金香","チューリップ","紫","この世の成功",{"$f":"IFERROR(MATCH(B848,誕生月花!$B$2:$B$13,0),\"\")","v":3},{"$f":"IFERROR(VLOOKUP(B848&C848,誕生日花!E:F,2,FALSE),IFERROR(VLOOKUP(B848,誕生日花!E:F,2,FALSE),\"\"))","v":""}]
["鬱金香","チューリップ","紫","不滅の愛",{"$f":"IFERROR(MATCH(B849,誕生月花!$B$2:$B$13,0),\"\")","v":3},{"$f":"IFERROR(VLOOKUP(B849&C849,誕生日花!E:F,2,FALSE),IFERROR(VLOOKUP(B849,誕生日花!E:F,2,FALSE),\"\"))","v":""}]
["鬱金香","チューリップ","赤","永遠の愛",{"$f":"IFERROR(MATCH(B850,誕生月花!$B$2:$B$13,0),\"\")","v":3},{"$f":"IFERROR(VLOOKUP(B850&C850,誕生日花!E:F,2,FALSE),IFERROR(VLOOKUP(B850,誕生日花!E:F,2,FALSE),\"\"))","v":"2016-03-21"}]
["鬱金香","チューリップ","赤","愛の告白",{"$f":"IFERROR(MATCH(B851,誕生月花!$B$2:$B$13,0),\"\")","v":3},{"$f":"IFERROR(VLOOKUP(B851&C851,誕生日花!E:F,2,FALSE),IFERROR(VLOOKUP(B851,誕生日花!E:F,2,FALSE),\"\"))","v":"2016-03-21"}]
["鬱金香","チューリップ","白","観察力",{"$f":"IFERROR(MATCH(B852,誕生月花!$B$2:$B$13,0),\"\")","v":3},{"$f":"IFERROR(VLOOKUP(B852&C852,誕生日花!E:F,2,FALSE),IFERROR(VLOOKUP(B852,誕生日花!E:F,2,FALSE),\"\"))","v":"2016-05-11"}]
["鬱金香","チューリップ","白","失われた愛",{"$f":"IFERROR(MATCH(B853,誕生月花!$B$2:$B$13,0),\"\")","v":3},{"$f":"IFERROR(VLOOKUP(B853&C853,誕生日花!E:F,2,FALSE),IFERROR(VLOOKUP(B853,誕生日花!E:F,2,FALSE),\"\"))","v":"2016-05-11"}]
["チョコレート秋桜","チョコレートコスモス","","新しい恋のはじまり",{"$f":"IFERROR(MATCH(B854,誕生月花!$B$2:$B$13,0),\"\")","v":""},{"$f":"IFERROR(VLOOKUP(B854&C854,誕生日花!E:F,2,FALSE),IFERROR(VLOOKUP(B854,誕生日花!E:F,2,FALSE),\"\"))","v":""}]
["沈丁花","チンチョウゲ","","栄光と不滅",{"$f":"IFERROR(MATCH(B855,誕生月花!$B$2:$B$13,0),\"\")","v":""},{"$f":"IFERROR(VLOOKUP(B855&C855,誕生日花!E:F,2,FALSE),IFERROR(VLOOKUP(B855,誕生日花!E:F,2,FALSE),\"\"))","v":""}]
["月見草","ツキミソウ","","移り気",{"$f":"IFERROR(MATCH(B856,誕生月花!$B$2:$B$13,0),\"\")","v":""},{"$f":"IFERROR(VLOOKUP(B856&C856,誕生日花!E:F,2,FALSE),IFERROR(VLOOKUP(B856,誕生日花!E:F,2,FALSE),\"\"))","v":""}]
["月見草","ツキミソウ","","無言の愛情",{"$f":"IFERROR(MATCH(B857,誕生月花!$B$2:$B$13,0),\"\")","v":""},{"$f":"IFERROR(VLOOKUP(B857&C857,誕生日花!E:F,2,FALSE),IFERROR(VLOOKUP(B857,誕生日花!E:F,2,FALSE),\"\"))","v":""}]
["土筆","ツクシ","","意外",{"$f":"IFERROR(MATCH(B858,誕生月花!$B$2:$B$13,0),\"\")","v":""},{"$f":"IFERROR(VLOOKUP(B858&C858,誕生日花!E:F,2,FALSE),IFERROR(VLOOKUP(B858,誕生日花!E:F,2,FALSE),\"\"))","v":""}]
["土筆","ツクシ","","驚き",{"$f":"IFERROR(MATCH(B859,誕生月花!$B$2:$B$13,0),\"\")","v":""},{"$f":"IFERROR(VLOOKUP(B859&C859,誕生日花!E:F,2,FALSE),IFERROR(VLOOKUP(B859,誕生日花!E:F,2,FALSE),\"\"))","v":""}]
["土筆","ツクシ","","向上心",{"$f":"IFERROR(MATCH(B860,誕生月花!$B$2:$B$13,0),\"\")","v":""},{"$f":"IFERROR(VLOOKUP(B860&C860,誕生日花!E:F,2,FALSE),IFERROR(VLOOKUP(B860,誕生日花!E:F,2,FALSE),\"\"))","v":""}]
["躑躅","ツツジ","","慎み",{"$f":"IFERROR(MATCH(B861,誕生月花!$B$2:$B$13,0),\"\")","v":""},{"$f":"IFERROR(VLOOKUP(B861&C861,誕生日花!E:F,2,FALSE),IFERROR(VLOOKUP(B861,誕生日花!E:F,2,FALSE),\"\"))","v":""}]
["躑躅","ツツジ","","節度",{"$f":"IFERROR(MATCH(B862,誕生月花!$B$2:$B$13,0),\"\")","v":""},{"$f":"IFERROR(VLOOKUP(B862&C862,誕生日花!E:F,2,FALSE),IFERROR(VLOOKUP(B862,誕生日花!E:F,2,FALSE),\"\"))","v":""}]
["躑躅","ツツジ","","愛で満たされる",{"$f":"IFERROR(MATCH(B863,誕生月花!$B$2:$B$13,0),\"\")","v":""},{"$f":"IFERROR(VLOOKUP(B863&C863,誕生日花!E:F,2,FALSE),IFERROR(VLOOKUP(B863,誕生日花!E:F,2,FALSE),\"\"))","v":""}]
["躑躅","ツツジ","赤","恋の喜び",{"$f":"IFERROR(MATCH(B864,誕生月花!$B$2:$B$13,0),\"\")","v":""},{"$f":"IFERROR(VLOOKUP(B864&C864,誕生日花!E:F,2,FALSE),IFERROR(VLOOKUP(B864,誕生日花!E:F,2,FALSE),\"\"))","v":""}]
["躑躅","ツツジ","白","節制",{"$f":"IFERROR(MATCH(B865,誕生月花!$B$2:$B$13,0),\"\")","v":""},{"$f":"IFERROR(VLOOKUP(B865&C865,誕生日花!E:F,2,FALSE),IFERROR(VLOOKUP(B865,誕生日花!E:F,2,FALSE),\"\"))","v":""}]
["躑躅","ツツジ","白","初恋",{"$f":"IFERROR(MATCH(B866,誕生月花!$B$2:$B$13,0),\"\")","v":""},{"$f":"IFERROR(VLOOKUP(B866&C866,誕生日花!E:F,2,FALSE),IFERROR(VLOOKUP(B866,誕生日花!E:F,2,FALSE),\"\"))","v":""}]
["椿","ツバキ","","誇り",{"$f":"IFERROR(MATCH(B867,誕生月花!$B$2:$B$13,0),\"\")","v":""},{"$f":"IFERROR(VLOOKUP(B867&C867,誕生日花!E:F,2,FALSE),IFERROR(VLOOKUP(B867,誕生日花!E:F,2,FALSE),\"\"))","v":""}]
["椿","ツバキ","","控えめな優しさ",{"$f":"IFERROR(MATCH(B868,誕生月花!$B$2:$B$13,0),\"\")","v":""},{"$f":"IFERROR(VLOOKUP(B868&C868,誕生日花!E:F,2,FALSE),IFERROR(VLOOKUP(B868,誕生日花!E:F,2,FALSE),\"\"))","v":""}]
["椿","ツバキ","ピンク","控えめな愛",{"$f":"IFERROR(MATCH(B869,誕生月花!$B$2:$B$13,0),\"\")","v":""},{"$f":"IFERROR(VLOOKUP(B869&C869,誕生日花!E:F,2,FALSE),IFERROR(VLOOKUP(B869,誕生日花!E:F,2,FALSE),\"\"))","v":""}]
["椿","ツバキ","ピンク","控えめな美",{"$f":"IFERROR(MATCH(B870,誕生月花!$B$2:$B$13,0),\"\")","v":""},{"$f":"IFERROR(VLOOKUP(B870&C870,誕生日花!E:F,2,FALSE),IFERROR(VLOOKUP(B870,誕生日花!E:F,2,FALSE),\"\"))","v":""}]
["椿","ツバキ","ピンク","慎み深い",{"$f":"IFERROR(MATCH(B871,誕生月花!$B$2:$B$13,0),\"\")","v":""},{"$f":"IFERROR(VLOOKUP(B871&C871,誕生日花!E:F,2,FALSE),IFERROR(VLOOKUP(B871,誕生日花!E:F,2,FALSE),\"\"))","v":""}]
["椿","ツバキ","寒椿","愛嬌",{"$f":"IFERROR(MATCH(B872,誕生月花!$B$2:$B$13,0),\"\")","v":""},{"$f":"IFERROR(VLOOKUP(B872&C872,誕生日花!E:F,2,FALSE),IFERROR(VLOOKUP(B872,誕生日花!E:F,2,FALSE),\"\"))","v":""}]
["椿","ツバキ","赤","生来の価値",{"$f":"IFERROR(MATCH(B873,誕生月花!$B$2:$B$13,0),\"\")","v":""},{"$f":"IFERROR(VLOOKUP(B873&C873,誕生日花!E:F,2,FALSE),IFERROR(VLOOKUP(B873,誕生日花!E:F,2,FALSE),\"\"))","v":""}]
["椿","ツバキ","赤","気取らない優美さ",{"$f":"IFERROR(MATCH(B874,誕生月花!$B$2:$B$13,0),\"\")","v":""},{"$f":"IFERROR(VLOOKUP(B874&C874,誕生日花!E:F,2,FALSE),IFERROR(VLOOKUP(B874,誕生日花!E:F,2,FALSE),\"\"))","v":""}]
["椿","ツバキ","赤","謙虚な美徳",{"$f":"IFERROR(MATCH(B875,誕生月花!$B$2:$B$13,0),\"\")","v":""},{"$f":"IFERROR(VLOOKUP(B875&C875,誕生日花!E:F,2,FALSE),IFERROR(VLOOKUP(B875,誕生日花!E:F,2,FALSE),\"\"))","v":""}]
["椿","ツバキ","赤","控えめな素晴らしさ",{"$f":"IFERROR(MATCH(B876,誕生月花!$B$2:$B$13,0),\"\")","v":""},{"$f":"IFERROR(VLOOKUP(B876&C876,誕生日花!E:F,2,FALSE),IFERROR(VLOOKUP(B876,誕生日花!E:F,2,FALSE),\"\"))","v":""}]
["椿","ツバキ","白","完全なる美しさ",{"$f":"IFERROR(MATCH(B877,誕生月花!$B$2:$B$13,0),\"\")","v":""},{"$f":"IFERROR(VLOOKUP(B877&C877,誕生日花!E:F,2,FALSE),IFERROR(VLOOKUP(B877,誕生日花!E:F,2,FALSE),\"\"))","v":""}]
["椿","ツバキ","白","至上の愛らしさ",{"$f":"IFERROR(MATCH(B878,誕生月花!$B$2:$B$13,0),\"\")","v":""},{"$f":"IFERROR(VLOOKUP(B878&C878,誕生日花!E:F,2,FALSE),IFERROR(VLOOKUP(B878,誕生日花!E:F,2,FALSE),\"\"))","v":""}]
["椿","ツバキ","白","申し分のない魅力",{"$f":"IFERROR(MATCH(B879,誕生月花!$B$2:$B$13,0),\"\")","v":""},{"$f":"IFERROR(VLOOKUP(B879&C879,誕生日花!E:F,2,FALSE),IFERROR(VLOOKUP(B879,誕生日花!E:F,2,FALSE),\"\"))","v":""}]
["椿","ツバキ","白椿","愛らしさ",{"$f":"IFERROR(MATCH(B880,誕生月花!$B$2:$B$13,0),\"\")","v":""},{"$f":"IFERROR(VLOOKUP(B880&C880,誕生日花!E:F,2,FALSE),IFERROR(VLOOKUP(B880,誕生日花!E:F,2,FALSE),\"\"))","v":""}]
["露草","ツユクサ","","波乱万丈",{"$f":"IFERROR(MATCH(B881,誕生月花!$B$2:$B$13,0),\"\")","v":""},{"$f":"IFERROR(VLOOKUP(B881&C881,誕生日花!E:F,2,FALSE),IFERROR(VLOOKUP(B881,誕生日花!E:F,2,FALSE),\"\"))","v":"2016-07-16"}]
["露草","ツユクサ","","なつかしい関係",{"$f":"IFERROR(MATCH(B882,誕生月花!$B$2:$B$13,0),\"\")","v":""},{"$f":"IFERROR(VLOOKUP(B882&C882,誕生日花!E:F,2,FALSE),IFERROR(VLOOKUP(B882,誕生日花!E:F,2,FALSE),\"\"))","v":"2016-07-16"}]
["釣鐘草","ツリガネソウ","","思い出",{"$f":"IFERROR(MATCH(B883,誕生月花!$B$2:$B$13,0),\"\")","v":""},{"$f":"IFERROR(VLOOKUP(B883&C883,誕生日花!E:F,2,FALSE),IFERROR(VLOOKUP(B883,誕生日花!E:F,2,FALSE),\"\"))","v":"2016-07-23"}]
["釣鐘柳","ツリガネヤナギ","","正義",{"$f":"IFERROR(MATCH(B884,誕生月花!$B$2:$B$13,0),\"\")","v":""},{"$f":"IFERROR(VLOOKUP(B884&C884,誕生日花!E:F,2,FALSE),IFERROR(VLOOKUP(B884,誕生日花!E:F,2,FALSE),\"\"))","v":"2016-09-06"}]
["蔓梅擬","ツルウメモドキ","","開運",{"$f":"IFERROR(MATCH(B885,誕生月花!$B$2:$B$13,0),\"\")","v":""},{"$f":"IFERROR(VLOOKUP(B885&C885,誕生日花!E:F,2,FALSE),IFERROR(VLOOKUP(B885,誕生日花!E:F,2,FALSE),\"\"))","v":"2016-12-20"}]
["蔓日々草","ツルニチニチソウ","","楽しき思い出",{"$f":"IFERROR(MATCH(B886,誕生月花!$B$2:$B$13,0),\"\")","v":""},{"$f":"IFERROR(VLOOKUP(B886&C886,誕生日花!E:F,2,FALSE),IFERROR(VLOOKUP(B886,誕生日花!E:F,2,FALSE),\"\"))","v":""}]
["蔓日々草","ツルニチニチソウ","","幼なじみ",{"$f":"IFERROR(MATCH(B887,誕生月花!$B$2:$B$13,0),\"\")","v":""},{"$f":"IFERROR(VLOOKUP(B887&C887,誕生日花!E:F,2,FALSE),IFERROR(VLOOKUP(B887,誕生日花!E:F,2,FALSE),\"\"))","v":""}]
["蔓花茄子","ツルハナナス","","ほほえみ",{"$f":"IFERROR(MATCH(B888,誕生月花!$B$2:$B$13,0),\"\")","v":""},{"$f":"IFERROR(VLOOKUP(B888&C888,誕生日花!E:F,2,FALSE),IFERROR(VLOOKUP(B888,誕生日花!E:F,2,FALSE),\"\"))","v":"2016-06-28"}]
["石蕗","ツワブキ","","謙譲",{"$f":"IFERROR(MATCH(B889,誕生月花!$B$2:$B$13,0),\"\")","v":""},{"$f":"IFERROR(VLOOKUP(B889&C889,誕生日花!E:F,2,FALSE),IFERROR(VLOOKUP(B889,誕生日花!E:F,2,FALSE),\"\"))","v":"2016-12-03"}]
["石蕗","ツワブキ","","困難に負けない",{"$f":"IFERROR(MATCH(B890,誕生月花!$B$2:$B$13,0),\"\")","v":""},{"$f":"IFERROR(VLOOKUP(B890&C890,誕生日花!E:F,2,FALSE),IFERROR(VLOOKUP(B890,誕生日花!E:F,2,FALSE),\"\"))","v":"2016-12-03"}]
["矢筈葛（ヤハズカズラ）","ツンベルギア","","黒い瞳",{"$f":"IFERROR(MATCH(B891,誕生月花!$B$2:$B$13,0),\"\")","v":""},{"$f":"IFERROR(VLOOKUP(B891&C891,誕生日花!E:F,2,FALSE),IFERROR(VLOOKUP(B891,誕生日花!E:F,2,FALSE),\"\"))","v":""}]
["矢筈葛（ヤハズカズラ）","ツンベルギア","","美しい瞳",{"$f":"IFERROR(MATCH(B892,誕生月花!$B$2:$B$13,0),\"\")","v":""},{"$f":"IFERROR(VLOOKUP(B892&C892,誕生日花!E:F,2,FALSE),IFERROR(VLOOKUP(B892,誕生日花!E:F,2,FALSE),\"\"))","v":""}]
["二角草（ニカクソウ）","ディアスキア","","私を許して",{"$f":"IFERROR(MATCH(B893,誕生月花!$B$2:$B$13,0),\"\")","v":""},{"$f":"IFERROR(VLOOKUP(B893&C893,誕生日花!E:F,2,FALSE),IFERROR(VLOOKUP(B893,誕生日花!E:F,2,FALSE),\"\"))","v":""}]
["雛菊（ヒナギク）","デイジー","","希望",{"$f":"IFERROR(MATCH(B894,誕生月花!$B$2:$B$13,0),\"\")","v":""},{"$f":"IFERROR(VLOOKUP(B894&C894,誕生日花!E:F,2,FALSE),IFERROR(VLOOKUP(B894,誕生日花!E:F,2,FALSE),\"\"))","v":"2016-04-02"}]
["雛菊（ヒナギク）","デイジー","","純潔",{"$f":"IFERROR(MATCH(B895,誕生月花!$B$2:$B$13,0),\"\")","v":""},{"$f":"IFERROR(VLOOKUP(B895&C895,誕生日花!E:F,2,FALSE),IFERROR(VLOOKUP(B895,誕生日花!E:F,2,FALSE),\"\"))","v":"2016-04-02"}]
["雛菊（ヒナギク）","デイジー","","美人",{"$f":"IFERROR(MATCH(B896,誕生月花!$B$2:$B$13,0),\"\")","v":""},{"$f":"IFERROR(VLOOKUP(B896&C896,誕生日花!E:F,2,FALSE),IFERROR(VLOOKUP(B896,誕生日花!E:F,2,FALSE),\"\"))","v":"2016-04-02"}]
["雛菊（ヒナギク）","デイジー","","平和",{"$f":"IFERROR(MATCH(B897,誕生月花!$B$2:$B$13,0),\"\")","v":""},{"$f":"IFERROR(VLOOKUP(B897&C897,誕生日花!E:F,2,FALSE),IFERROR(VLOOKUP(B897,誕生日花!E:F,2,FALSE),\"\"))","v":"2016-04-02"}]
["雛菊（ヒナギク）","デイジー","","無邪気",{"$f":"IFERROR(MATCH(B898,誕生月花!$B$2:$B$13,0),\"\")","v":""},{"$f":"IFERROR(VLOOKUP(B898&C898,誕生日花!E:F,2,FALSE),IFERROR(VLOOKUP(B898,誕生日花!E:F,2,FALSE),\"\"))","v":"2016-04-02"}]
["雛菊（ヒナギク）","デイジー","黄","ありのまま",{"$f":"IFERROR(MATCH(B899,誕生月花!$B$2:$B$13,0),\"\")","v":""},{"$f":"IFERROR(VLOOKUP(B899&C899,誕生日花!E:F,2,FALSE),IFERROR(VLOOKUP(B899,誕生日花!E:F,2,FALSE),\"\"))","v":"2016-04-02"}]
["雛菊（ヒナギク）","デイジー","赤","無意識",{"$f":"IFERROR(MATCH(B900,誕生月花!$B$2:$B$13,0),\"\")","v":""},{"$f":"IFERROR(VLOOKUP(B900&C900,誕生日花!E:F,2,FALSE),IFERROR(VLOOKUP(B900,誕生日花!E:F,2,FALSE),\"\"))","v":"2016-04-02"}]
["雛菊（ヒナギク）","デイジー","白","自由で無邪気",{"$f":"IFERROR(MATCH(B901,誕生月花!$B$2:$B$13,0),\"\")","v":""},{"$f":"IFERROR(VLOOKUP(B901&C901,誕生日花!E:F,2,FALSE),IFERROR(VLOOKUP(B901,誕生日花!E:F,2,FALSE),\"\"))","v":"2016-04-02"}]
["アフリカ金盞花（キンセンカ）","ディモルフォセカ","","富",{"$f":"IFERROR(MATCH(B902,誕生月花!$B$2:$B$13,0),\"\")","v":""},{"$f":"IFERROR(VLOOKUP(B902&C902,誕生日花!E:F,2,FALSE),IFERROR(VLOOKUP(B902,誕生日花!E:F,2,FALSE),\"\"))","v":""}]
["アフリカ金盞花（キンセンカ）","ディモルフォセカ","","豊富",{"$f":"IFERROR(MATCH(B903,誕生月花!$B$2:$B$13,0),\"\")","v":""},{"$f":"IFERROR(VLOOKUP(B903&C903,誕生日花!E:F,2,FALSE),IFERROR(VLOOKUP(B903,誕生日花!E:F,2,FALSE),\"\"))","v":""}]
["鉄砲百合","テッポウユリ","","威厳",{"$f":"IFERROR(MATCH(B904,誕生月花!$B$2:$B$13,0),\"\")","v":""},{"$f":"IFERROR(VLOOKUP(B904&C904,誕生日花!E:F,2,FALSE),IFERROR(VLOOKUP(B904,誕生日花!E:F,2,FALSE),\"\"))","v":"2016-12-12"}]
["鉄砲百合","テッポウユリ","","甘美",{"$f":"IFERROR(MATCH(B905,誕生月花!$B$2:$B$13,0),\"\")","v":""},{"$f":"IFERROR(VLOOKUP(B905&C905,誕生日花!E:F,2,FALSE),IFERROR(VLOOKUP(B905,誕生日花!E:F,2,FALSE),\"\"))","v":"2016-12-12"}]
["鉄砲百合","テッポウユリ","","純潔",{"$f":"IFERROR(MATCH(B906,誕生月花!$B$2:$B$13,0),\"\")","v":""},{"$f":"IFERROR(VLOOKUP(B906&C906,誕生日花!E:F,2,FALSE),IFERROR(VLOOKUP(B906,誕生日花!E:F,2,FALSE),\"\"))","v":"2016-12-12"}]
["手毬花","テマリバナ","","誓い",{"$f":"IFERROR(MATCH(B907,誕生月花!$B$2:$B$13,0),\"\")","v":""},{"$f":"IFERROR(VLOOKUP(B907&C907,誕生日花!E:F,2,FALSE),IFERROR(VLOOKUP(B907,誕生日花!E:F,2,FALSE),\"\"))","v":"2016-05-26"}]
["大飛燕草（オオヒエンソウ）","デルフィニウム","","変わりやすい心",{"$f":"IFERROR(MATCH(B908,誕生月花!$B$2:$B$13,0),\"\")","v":""},{"$f":"IFERROR(VLOOKUP(B908&C908,誕生日花!E:F,2,FALSE),IFERROR(VLOOKUP(B908,誕生日花!E:F,2,FALSE),\"\"))","v":"2016-05-10"}]
["大飛燕草（オオヒエンソウ）","デルフィニウム","","清明",{"$f":"IFERROR(MATCH(B909,誕生月花!$B$2:$B$13,0),\"\")","v":""},{"$f":"IFERROR(VLOOKUP(B909&C909,誕生日花!E:F,2,FALSE),IFERROR(VLOOKUP(B909,誕生日花!E:F,2,FALSE),\"\"))","v":"2016-05-10"}]
["台湾紅花石斛（タイワンベニバナセッコク）","デンドロビウム","","わがままな美人",{"$f":"IFERROR(MATCH(B910,誕生月花!$B$2:$B$13,0),\"\")","v":""},{"$f":"IFERROR(VLOOKUP(B910&C910,誕生日花!E:F,2,FALSE),IFERROR(VLOOKUP(B910,誕生日花!E:F,2,FALSE),\"\"))","v":""}]
["デンドロビウム","デンファレ","","お似合いの二人",{"$f":"IFERROR(MATCH(B911,誕生月花!$B$2:$B$13,0),\"\")","v":""},{"$f":"IFERROR(VLOOKUP(B911&C911,誕生日花!E:F,2,FALSE),IFERROR(VLOOKUP(B911,誕生日花!E:F,2,FALSE),\"\"))","v":"2016-11-05"}]
["デンドロビウム","デンファレ","","お似合いのふたり",{"$f":"IFERROR(MATCH(B912,誕生月花!$B$2:$B$13,0),\"\")","v":""},{"$f":"IFERROR(VLOOKUP(B912&C912,誕生日花!E:F,2,FALSE),IFERROR(VLOOKUP(B912,誕生日花!E:F,2,FALSE),\"\"))","v":"2016-11-05"}]
["デンドロビウム","デンファレ","","わがままな美人",{"$f":"IFERROR(MATCH(B913,誕生月花!$B$2:$B$13,0),\"\")","v":""},{"$f":"IFERROR(VLOOKUP(B913&C913,誕生日花!E:F,2,FALSE),IFERROR(VLOOKUP(B913,誕生日花!E:F,2,FALSE),\"\"))","v":"2016-11-05"}]
["デンドロビウム","デンファレ","","魅惑",{"$f":"IFERROR(MATCH(B914,誕生月花!$B$2:$B$13,0),\"\")","v":""},{"$f":"IFERROR(VLOOKUP(B914&C914,誕生日花!E:F,2,FALSE),IFERROR(VLOOKUP(B914,誕生日花!E:F,2,FALSE),\"\"))","v":"2016-11-05"}]
["デンドロビウム","デンファレ","","有能",{"$f":"IFERROR(MATCH(B915,誕生月花!$B$2:$B$13,0),\"\")","v":""},{"$f":"IFERROR(VLOOKUP(B915&C915,誕生日花!E:F,2,FALSE),IFERROR(VLOOKUP(B915,誕生日花!E:F,2,FALSE),\"\"))","v":"2016-11-05"}]
["灯台躑躅","ドウダンツツジ","","上品",{"$f":"IFERROR(MATCH(B916,誕生月花!$B$2:$B$13,0),\"\")","v":""},{"$f":"IFERROR(VLOOKUP(B916&C916,誕生日花!E:F,2,FALSE),IFERROR(VLOOKUP(B916,誕生日花!E:F,2,FALSE),\"\"))","v":""}]
["灯台躑躅","ドウダンツツジ","","節制",{"$f":"IFERROR(MATCH(B917,誕生月花!$B$2:$B$13,0),\"\")","v":""},{"$f":"IFERROR(VLOOKUP(B917&C917,誕生日花!E:F,2,FALSE),IFERROR(VLOOKUP(B917,誕生日花!E:F,2,FALSE),\"\"))","v":""}]
["唐綿","トウワタ","","私を行かせて",{"$f":"IFERROR(MATCH(B918,誕生月花!$B$2:$B$13,0),\"\")","v":""},{"$f":"IFERROR(VLOOKUP(B918&C918,誕生日花!E:F,2,FALSE),IFERROR(VLOOKUP(B918,誕生日花!E:F,2,FALSE),\"\"))","v":""}]
["唐綿","トウワタ","","心変わり",{"$f":"IFERROR(MATCH(B919,誕生月花!$B$2:$B$13,0),\"\")","v":""},{"$f":"IFERROR(VLOOKUP(B919&C919,誕生日花!E:F,2,FALSE),IFERROR(VLOOKUP(B919,誕生日花!E:F,2,FALSE),\"\"))","v":""}]
["赤熊百合（シャグマユリ）","トーチリリー","","恋の痛み",{"$f":"IFERROR(MATCH(B920,誕生月花!$B$2:$B$13,0),\"\")","v":""},{"$f":"IFERROR(VLOOKUP(B920&C920,誕生日花!E:F,2,FALSE),IFERROR(VLOOKUP(B920,誕生日花!E:F,2,FALSE),\"\"))","v":"2016-10-08"}]
["朱鷺草","トキソウ","","つつましやか",{"$f":"IFERROR(MATCH(B921,誕生月花!$B$2:$B$13,0),\"\")","v":""},{"$f":"IFERROR(VLOOKUP(B921&C921,誕生日花!E:F,2,FALSE),IFERROR(VLOOKUP(B921,誕生日花!E:F,2,FALSE),\"\"))","v":"2016-07-06"}]
["蕺草","ドクダミ","","白い追憶",{"$f":"IFERROR(MATCH(B922,誕生月花!$B$2:$B$13,0),\"\")","v":""},{"$f":"IFERROR(VLOOKUP(B922&C922,誕生日花!E:F,2,FALSE),IFERROR(VLOOKUP(B922,誕生日花!E:F,2,FALSE),\"\"))","v":""}]
["蕺草","ドクダミ","","野生",{"$f":"IFERROR(MATCH(B923,誕生月花!$B$2:$B$13,0),\"\")","v":""},{"$f":"IFERROR(VLOOKUP(B923&C923,誕生日花!E:F,2,FALSE),IFERROR(VLOOKUP(B923,誕生日花!E:F,2,FALSE),\"\"))","v":""}]
["時計草","トケイソウ","","聖なる愛",{"$f":"IFERROR(MATCH(B924,誕生月花!$B$2:$B$13,0),\"\")","v":""},{"$f":"IFERROR(VLOOKUP(B924&C924,誕生日花!E:F,2,FALSE),IFERROR(VLOOKUP(B924,誕生日花!E:F,2,FALSE),\"\"))","v":""}]
["時計草","トケイソウ","","宗教的熱情",{"$f":"IFERROR(MATCH(B925,誕生月花!$B$2:$B$13,0),\"\")","v":""},{"$f":"IFERROR(VLOOKUP(B925&C925,誕生日花!E:F,2,FALSE),IFERROR(VLOOKUP(B925,誕生日花!E:F,2,FALSE),\"\"))","v":""}]
["時計草","トケイソウ","","信仰",{"$f":"IFERROR(MATCH(B926,誕生月花!$B$2:$B$13,0),\"\")","v":""},{"$f":"IFERROR(VLOOKUP(B926&C926,誕生日花!E:F,2,FALSE),IFERROR(VLOOKUP(B926,誕生日花!E:F,2,FALSE),\"\"))","v":""}]
["土佐水木","トサミズキ","","清楚",{"$f":"IFERROR(MATCH(B927,誕生月花!$B$2:$B$13,0),\"\")","v":""},{"$f":"IFERROR(VLOOKUP(B927&C927,誕生日花!E:F,2,FALSE),IFERROR(VLOOKUP(B927,誕生日花!E:F,2,FALSE),\"\"))","v":""}]
["土佐水木","トサミズキ","","伝言",{"$f":"IFERROR(MATCH(B928,誕生月花!$B$2:$B$13,0),\"\")","v":""},{"$f":"IFERROR(VLOOKUP(B928&C928,誕生日花!E:F,2,FALSE),IFERROR(VLOOKUP(B928,誕生日花!E:F,2,FALSE),\"\"))","v":""}]
["土佐水木","トサミズキ","","優雅",{"$f":"IFERROR(MATCH(B929,誕生月花!$B$2:$B$13,0),\"\")","v":""},{"$f":"IFERROR(VLOOKUP(B929&C929,誕生日花!E:F,2,FALSE),IFERROR(VLOOKUP(B929,誕生日花!E:F,2,FALSE),\"\"))","v":""}]
["匂イ千年木（ニオイセンネンボク）","ドラセナ","コンシンネ","真実さ",{"$f":"IFERROR(MATCH(B930,誕生月花!$B$2:$B$13,0),\"\")","v":""},{"$f":"IFERROR(VLOOKUP(B930&C930,誕生日花!E:F,2,FALSE),IFERROR(VLOOKUP(B930,誕生日花!E:F,2,FALSE),\"\"))","v":""}]
["匂イ千年木（ニオイセンネンボク）","ドラセナ","サンデリアーナ","開運",{"$f":"IFERROR(MATCH(B931,誕生月花!$B$2:$B$13,0),\"\")","v":""},{"$f":"IFERROR(VLOOKUP(B931&C931,誕生日花!E:F,2,FALSE),IFERROR(VLOOKUP(B931,誕生日花!E:F,2,FALSE),\"\"))","v":""}]
["匂イ千年木（ニオイセンネンボク）","ドラセナ","サンデリアーナ","長寿",{"$f":"IFERROR(MATCH(B932,誕生月花!$B$2:$B$13,0),\"\")","v":""},{"$f":"IFERROR(VLOOKUP(B932&C932,誕生日花!E:F,2,FALSE),IFERROR(VLOOKUP(B932,誕生日花!E:F,2,FALSE),\"\"))","v":""}]
["匂イ千年木（ニオイセンネンボク）","ドラセナ","フラグランス","隠しきれない幸せ",{"$f":"IFERROR(MATCH(B933,誕生月花!$B$2:$B$13,0),\"\")","v":""},{"$f":"IFERROR(VLOOKUP(B933&C933,誕生日花!E:F,2,FALSE),IFERROR(VLOOKUP(B933,誕生日花!E:F,2,FALSE),\"\"))","v":""}]
["匂イ千年木（ニオイセンネンボク）","ドラセナ","フラグランス","幸福",{"$f":"IFERROR(MATCH(B934,誕生月花!$B$2:$B$13,0),\"\")","v":""},{"$f":"IFERROR(VLOOKUP(B934&C934,誕生日花!E:F,2,FALSE),IFERROR(VLOOKUP(B934,誕生日花!E:F,2,FALSE),\"\"))","v":""}]
["鳥兜","トリカブト","","致命的なこと",{"$f":"IFERROR(MATCH(B935,誕生月花!$B$2:$B$13,0),\"\")","v":""},{"$f":"IFERROR(VLOOKUP(B935&C935,誕生日花!E:F,2,FALSE),IFERROR(VLOOKUP(B935,誕生日花!E:F,2,FALSE),\"\"))","v":""}]
["鳥兜","トリカブト","","栄光",{"$f":"IFERROR(MATCH(B936,誕生月花!$B$2:$B$13,0),\"\")","v":""},{"$f":"IFERROR(VLOOKUP(B936&C936,誕生日花!E:F,2,FALSE),IFERROR(VLOOKUP(B936,誕生日花!E:F,2,FALSE),\"\"))","v":""}]
["鳥兜","トリカブト","","厭世家",{"$f":"IFERROR(MATCH(B937,誕生月花!$B$2:$B$13,0),\"\")","v":""},{"$f":"IFERROR(VLOOKUP(B937&C937,誕生日花!E:F,2,FALSE),IFERROR(VLOOKUP(B937,誕生日花!E:F,2,FALSE),\"\"))","v":""}]
["鳥兜","トリカブト","","騎士道",{"$f":"IFERROR(MATCH(B938,誕生月花!$B$2:$B$13,0),\"\")","v":""},{"$f":"IFERROR(VLOOKUP(B938&C938,誕生日花!E:F,2,FALSE),IFERROR(VLOOKUP(B938,誕生日花!E:F,2,FALSE),\"\"))","v":""}]
["鳥兜","トリカブト","","人嫌い",{"$f":"IFERROR(MATCH(B939,誕生月花!$B$2:$B$13,0),\"\")","v":""},{"$f":"IFERROR(VLOOKUP(B939&C939,誕生日花!E:F,2,FALSE),IFERROR(VLOOKUP(B939,誕生日花!E:F,2,FALSE),\"\"))","v":""}]
["鳥兜","トリカブト","","復讐",{"$f":"IFERROR(MATCH(B940,誕生月花!$B$2:$B$13,0),\"\")","v":""},{"$f":"IFERROR(VLOOKUP(B940&C940,誕生日花!E:F,2,FALSE),IFERROR(VLOOKUP(B940,誕生日花!E:F,2,FALSE),\"\"))","v":""}]
["ヒメアガパンサス","トリテレイア","","耐える愛",{"$f":"IFERROR(MATCH(B941,誕生月花!$B$2:$B$13,0),\"\")","v":""},{"$f":"IFERROR(VLOOKUP(B941&C941,誕生日花!E:F,2,FALSE),IFERROR(VLOOKUP(B941,誕生日花!E:F,2,FALSE),\"\"))","v":"2016-04-04"}]
["赤熊百合（シャグマユリ）","トリトマ","","あなたを思うと胸が痛む",{"$f":"IFERROR(MATCH(B942,誕生月花!$B$2:$B$13,0),\"\")","v":""},{"$f":"IFERROR(VLOOKUP(B942&C942,誕生日花!E:F,2,FALSE),IFERROR(VLOOKUP(B942,誕生日花!E:F,2,FALSE),\"\"))","v":""}]
["赤熊百合（シャグマユリ）","トリトマ","","恋するつらさ",{"$f":"IFERROR(MATCH(B943,誕生月花!$B$2:$B$13,0),\"\")","v":""},{"$f":"IFERROR(VLOOKUP(B943&C943,誕生日花!E:F,2,FALSE),IFERROR(VLOOKUP(B943,誕生日花!E:F,2,FALSE),\"\"))","v":""}]
["トルコ桔梗","トルコキキョウ","","良い語らい",{"$f":"IFERROR(MATCH(B944,誕生月花!$B$2:$B$13,0),\"\")","v":""},{"$f":"IFERROR(VLOOKUP(B944&C944,誕生日花!E:F,2,FALSE),IFERROR(VLOOKUP(B944,誕生日花!E:F,2,FALSE),\"\"))","v":""}]
["トルコ桔梗","トルコキキョウ","","すがすがしい美しさ",{"$f":"IFERROR(MATCH(B945,誕生月花!$B$2:$B$13,0),\"\")","v":""},{"$f":"IFERROR(VLOOKUP(B945&C945,誕生日花!E:F,2,FALSE),IFERROR(VLOOKUP(B945,誕生日花!E:F,2,FALSE),\"\"))","v":""}]
["トルコ桔梗","トルコキキョウ","","希望",{"$f":"IFERROR(MATCH(B946,誕生月花!$B$2:$B$13,0),\"\")","v":""},{"$f":"IFERROR(VLOOKUP(B946&C946,誕生日花!E:F,2,FALSE),IFERROR(VLOOKUP(B946,誕生日花!E:F,2,FALSE),\"\"))","v":""}]
["トルコ桔梗","トルコキキョウ","","優美",{"$f":"IFERROR(MATCH(B947,誕生月花!$B$2:$B$13,0),\"\")","v":""},{"$f":"IFERROR(VLOOKUP(B947&C947,誕生日花!E:F,2,FALSE),IFERROR(VLOOKUP(B947,誕生日花!E:F,2,FALSE),\"\"))","v":""}]
["夏菫（ナツスミレ）","トレニア","","魅力と誘惑",{"$f":"IFERROR(MATCH(B948,誕生月花!$B$2:$B$13,0),\"\")","v":""},{"$f":"IFERROR(VLOOKUP(B948&C948,誕生日花!E:F,2,FALSE),IFERROR(VLOOKUP(B948,誕生日花!E:F,2,FALSE),\"\"))","v":""}]
["夏菫（ナツスミレ）","トレニア","","ひらめき",{"$f":"IFERROR(MATCH(B949,誕生月花!$B$2:$B$13,0),\"\")","v":""},{"$f":"IFERROR(VLOOKUP(B949&C949,誕生日花!E:F,2,FALSE),IFERROR(VLOOKUP(B949,誕生日花!E:F,2,FALSE),\"\"))","v":""}]
["夏菫（ナツスミレ）","トレニア","","愛嬌",{"$f":"IFERROR(MATCH(B950,誕生月花!$B$2:$B$13,0),\"\")","v":""},{"$f":"IFERROR(VLOOKUP(B950&C950,誕生日花!E:F,2,FALSE),IFERROR(VLOOKUP(B950,誕生日花!E:F,2,FALSE),\"\"))","v":""}]
["梨","ナシ","","愛情",{"$f":"IFERROR(MATCH(B951,誕生月花!$B$2:$B$13,0),\"\")","v":""},{"$f":"IFERROR(VLOOKUP(B951&C951,誕生日花!E:F,2,FALSE),IFERROR(VLOOKUP(B951,誕生日花!E:F,2,FALSE),\"\"))","v":""}]
["梨","ナシ","木","慰め",{"$f":"IFERROR(MATCH(B952,誕生月花!$B$2:$B$13,0),\"\")","v":""},{"$f":"IFERROR(VLOOKUP(B952&C952,誕生日花!E:F,2,FALSE),IFERROR(VLOOKUP(B952,誕生日花!E:F,2,FALSE),\"\"))","v":""}]
["梨","ナシ","木","癒し",{"$f":"IFERROR(MATCH(B953,誕生月花!$B$2:$B$13,0),\"\")","v":""},{"$f":"IFERROR(VLOOKUP(B953&C953,誕生日花!E:F,2,FALSE),IFERROR(VLOOKUP(B953,誕生日花!E:F,2,FALSE),\"\"))","v":""}]
["梨ノ花","ナシノハナ","","愛の基盤",{"$f":"IFERROR(MATCH(B954,誕生月花!$B$2:$B$13,0),\"\")","v":""},{"$f":"IFERROR(VLOOKUP(B954&C954,誕生日花!E:F,2,FALSE),IFERROR(VLOOKUP(B954,誕生日花!E:F,2,FALSE),\"\"))","v":""}]
["金蓮花（キンレンカ）","ナスタチウム","","愛国心",{"$f":"IFERROR(MATCH(B955,誕生月花!$B$2:$B$13,0),\"\")","v":""},{"$f":"IFERROR(VLOOKUP(B955&C955,誕生日花!E:F,2,FALSE),IFERROR(VLOOKUP(B955,誕生日花!E:F,2,FALSE),\"\"))","v":"2016-05-07"}]
["金蓮花（キンレンカ）","ナスタチウム","","困難に打ち克つ",{"$f":"IFERROR(MATCH(B956,誕生月花!$B$2:$B$13,0),\"\")","v":""},{"$f":"IFERROR(VLOOKUP(B956&C956,誕生日花!E:F,2,FALSE),IFERROR(VLOOKUP(B956,誕生日花!E:F,2,FALSE),\"\"))","v":"2016-05-07"}]
["金蓮花（キンレンカ）","ナスタチウム","","勝利",{"$f":"IFERROR(MATCH(B957,誕生月花!$B$2:$B$13,0),\"\")","v":""},{"$f":"IFERROR(VLOOKUP(B957&C957,誕生日花!E:F,2,FALSE),IFERROR(VLOOKUP(B957,誕生日花!E:F,2,FALSE),\"\"))","v":"2016-05-07"}]
["薺","ナズナ","","私のすべてをあなたに捧げます",{"$f":"IFERROR(MATCH(B958,誕生月花!$B$2:$B$13,0),\"\")","v":""},{"$f":"IFERROR(VLOOKUP(B958&C958,誕生日花!E:F,2,FALSE),IFERROR(VLOOKUP(B958,誕生日花!E:F,2,FALSE),\"\"))","v":""}]
["薺","ナズナ","","あなたに私のすべてを捧げます",{"$f":"IFERROR(MATCH(B959,誕生月花!$B$2:$B$13,0),\"\")","v":""},{"$f":"IFERROR(VLOOKUP(B959&C959,誕生日花!E:F,2,FALSE),IFERROR(VLOOKUP(B959,誕生日花!E:F,2,FALSE),\"\"))","v":""}]
["夏菫","ナツスミレ","","秘密",{"$f":"IFERROR(MATCH(B960,誕生月花!$B$2:$B$13,0),\"\")","v":""},{"$f":"IFERROR(VLOOKUP(B960&C960,誕生日花!E:F,2,FALSE),IFERROR(VLOOKUP(B960,誕生日花!E:F,2,FALSE),\"\"))","v":"2016-08-23"}]
["夏椿","ナツツバキ","","はかない美しさ",{"$f":"IFERROR(MATCH(B961,誕生月花!$B$2:$B$13,0),\"\")","v":""},{"$f":"IFERROR(VLOOKUP(B961&C961,誕生日花!E:F,2,FALSE),IFERROR(VLOOKUP(B961,誕生日花!E:F,2,FALSE),\"\"))","v":"2016-07-22"}]
["夏椿","ナツツバキ","","愛らしさ",{"$f":"IFERROR(MATCH(B962,誕生月花!$B$2:$B$13,0),\"\")","v":""},{"$f":"IFERROR(VLOOKUP(B962&C962,誕生日花!E:F,2,FALSE),IFERROR(VLOOKUP(B962,誕生日花!E:F,2,FALSE),\"\"))","v":"2016-07-22"}]
["撫子","ナデシコ","","内気",{"$f":"IFERROR(MATCH(B963,誕生月花!$B$2:$B$13,0),\"\")","v":""},{"$f":"IFERROR(VLOOKUP(B963&C963,誕生日花!E:F,2,FALSE),IFERROR(VLOOKUP(B963,誕生日花!E:F,2,FALSE),\"\"))","v":""}]
["撫子","ナデシコ","","純愛",{"$f":"IFERROR(MATCH(B964,誕生月花!$B$2:$B$13,0),\"\")","v":""},{"$f":"IFERROR(VLOOKUP(B964&C964,誕生日花!E:F,2,FALSE),IFERROR(VLOOKUP(B964,誕生日花!E:F,2,FALSE),\"\"))","v":""}]
["撫子","ナデシコ","","大胆",{"$f":"IFERROR(MATCH(B965,誕生月花!$B$2:$B$13,0),\"\")","v":""},{"$f":"IFERROR(VLOOKUP(B965&C965,誕生日花!E:F,2,FALSE),IFERROR(VLOOKUP(B965,誕生日花!E:F,2,FALSE),\"\"))","v":""}]
["撫子","ナデシコ","","貞節",{"$f":"IFERROR(MATCH(B966,誕生月花!$B$2:$B$13,0),\"\")","v":""},{"$f":"IFERROR(VLOOKUP(B966&C966,誕生日花!E:F,2,FALSE),IFERROR(VLOOKUP(B966,誕生日花!E:F,2,FALSE),\"\"))","v":""}]
["撫子","ナデシコ","ピンク","純粋な愛",{"$f":"IFERROR(MATCH(B967,誕生月花!$B$2:$B$13,0),\"\")","v":""},{"$f":"IFERROR(VLOOKUP(B967&C967,誕生日花!E:F,2,FALSE),IFERROR(VLOOKUP(B967,誕生日花!E:F,2,FALSE),\"\"))","v":""}]
["撫子","ナデシコ","赤・八重咲き","純粋で燃えるような愛",{"$f":"IFERROR(MATCH(B968,誕生月花!$B$2:$B$13,0),\"\")","v":""},{"$f":"IFERROR(VLOOKUP(B968&C968,誕生日花!E:F,2,FALSE),IFERROR(VLOOKUP(B968,誕生日花!E:F,2,FALSE),\"\"))","v":""}]
["撫子","ナデシコ","白","器用",{"$f":"IFERROR(MATCH(B969,誕生月花!$B$2:$B$13,0),\"\")","v":""},{"$f":"IFERROR(VLOOKUP(B969&C969,誕生日花!E:F,2,FALSE),IFERROR(VLOOKUP(B969,誕生日花!E:F,2,FALSE),\"\"))","v":""}]
["撫子","ナデシコ","白","才能",{"$f":"IFERROR(MATCH(B970,誕生月花!$B$2:$B$13,0),\"\")","v":""},{"$f":"IFERROR(VLOOKUP(B970&C970,誕生日花!E:F,2,FALSE),IFERROR(VLOOKUP(B970,誕生日花!E:F,2,FALSE),\"\"))","v":""}]
["七竈","ナナカマド","","（私は）あなたを見守る",{"$f":"IFERROR(MATCH(B971,誕生月花!$B$2:$B$13,0),\"\")","v":""},{"$f":"IFERROR(VLOOKUP(B971&C971,誕生日花!E:F,2,FALSE),IFERROR(VLOOKUP(B971,誕生日花!E:F,2,FALSE),\"\"))","v":""}]
["七竈","ナナカマド","","賢明",{"$f":"IFERROR(MATCH(B972,誕生月花!$B$2:$B$13,0),\"\")","v":""},{"$f":"IFERROR(VLOOKUP(B972&C972,誕生日花!E:F,2,FALSE),IFERROR(VLOOKUP(B972,誕生日花!E:F,2,FALSE),\"\"))","v":""}]
["七竈","ナナカマド","","私はあなたを見守る",{"$f":"IFERROR(MATCH(B973,誕生月花!$B$2:$B$13,0),\"\")","v":""},{"$f":"IFERROR(VLOOKUP(B973&C973,誕生日花!E:F,2,FALSE),IFERROR(VLOOKUP(B973,誕生日花!E:F,2,FALSE),\"\"))","v":""}]
["七竈","ナナカマド","","慎重",{"$f":"IFERROR(MATCH(B974,誕生月花!$B$2:$B$13,0),\"\")","v":""},{"$f":"IFERROR(VLOOKUP(B974&C974,誕生日花!E:F,2,FALSE),IFERROR(VLOOKUP(B974,誕生日花!E:F,2,FALSE),\"\"))","v":""}]
["菜ノ花","ナノハナ","","前向き",{"$f":"IFERROR(MATCH(B975,誕生月花!$B$2:$B$13,0),\"\")","v":""},{"$f":"IFERROR(VLOOKUP(B975&C975,誕生日花!E:F,2,FALSE),IFERROR(VLOOKUP(B975,誕生日花!E:F,2,FALSE),\"\"))","v":"2016-03-03"}]
["菜ノ花","ナノハナ","","快活",{"$f":"IFERROR(MATCH(B976,誕生月花!$B$2:$B$13,0),\"\")","v":""},{"$f":"IFERROR(VLOOKUP(B976&C976,誕生日花!E:F,2,FALSE),IFERROR(VLOOKUP(B976,誕生日花!E:F,2,FALSE),\"\"))","v":"2016-03-03"}]
["菜ノ花","ナノハナ","","明るさ",{"$f":"IFERROR(MATCH(B977,誕生月花!$B$2:$B$13,0),\"\")","v":""},{"$f":"IFERROR(VLOOKUP(B977&C977,誕生日花!E:F,2,FALSE),IFERROR(VLOOKUP(B977,誕生日花!E:F,2,FALSE),\"\"))","v":"2016-03-03"}]
["苗代苺","ナワシロイチゴ","","恩恵",{"$f":"IFERROR(MATCH(B978,誕生月花!$B$2:$B$13,0),\"\")","v":""},{"$f":"IFERROR(VLOOKUP(B978&C978,誕生日花!E:F,2,FALSE),IFERROR(VLOOKUP(B978,誕生日花!E:F,2,FALSE),\"\"))","v":"2016-01-10"}]
["南天","ナンテン","","私の愛は増すばかり",{"$f":"IFERROR(MATCH(B979,誕生月花!$B$2:$B$13,0),\"\")","v":""},{"$f":"IFERROR(VLOOKUP(B979&C979,誕生日花!E:F,2,FALSE),IFERROR(VLOOKUP(B979,誕生日花!E:F,2,FALSE),\"\"))","v":"2016-12-14"}]
["南天","ナンテン","","良い家庭",{"$f":"IFERROR(MATCH(B980,誕生月花!$B$2:$B$13,0),\"\")","v":""},{"$f":"IFERROR(VLOOKUP(B980&C980,誕生日花!E:F,2,FALSE),IFERROR(VLOOKUP(B980,誕生日花!E:F,2,FALSE),\"\"))","v":"2016-12-14"}]
["匂蕃茉莉","ニオイバンマツリ","","青春の喜び",{"$f":"IFERROR(MATCH(B981,誕生月花!$B$2:$B$13,0),\"\")","v":""},{"$f":"IFERROR(VLOOKUP(B981&C981,誕生日花!E:F,2,FALSE),IFERROR(VLOOKUP(B981,誕生日花!E:F,2,FALSE),\"\"))","v":"2016-12-21"}]
["匂檜葉","ニオイヒバ","","固い友情",{"$f":"IFERROR(MATCH(B982,誕生月花!$B$2:$B$13,0),\"\")","v":""},{"$f":"IFERROR(VLOOKUP(B982&C982,誕生日花!E:F,2,FALSE),IFERROR(VLOOKUP(B982,誕生日花!E:F,2,FALSE),\"\"))","v":""}]
["黒種草（クロタネソウ）","ニゲラ","","夢の中の恋",{"$f":"IFERROR(MATCH(B983,誕生月花!$B$2:$B$13,0),\"\")","v":""},{"$f":"IFERROR(VLOOKUP(B983&C983,誕生日花!E:F,2,FALSE),IFERROR(VLOOKUP(B983,誕生日花!E:F,2,FALSE),\"\"))","v":"2016-05-25"}]
["黒種草（クロタネソウ）","ニゲラ","","ひそかな喜び",{"$f":"IFERROR(MATCH(B984,誕生月花!$B$2:$B$13,0),\"\")","v":""},{"$f":"IFERROR(VLOOKUP(B984&C984,誕生日花!E:F,2,FALSE),IFERROR(VLOOKUP(B984,誕生日花!E:F,2,FALSE),\"\"))","v":"2016-05-25"}]
["黒種草（クロタネソウ）","ニゲラ","","当惑",{"$f":"IFERROR(MATCH(B985,誕生月花!$B$2:$B$13,0),\"\")","v":""},{"$f":"IFERROR(VLOOKUP(B985&C985,誕生日花!E:F,2,FALSE),IFERROR(VLOOKUP(B985,誕生日花!E:F,2,FALSE),\"\"))","v":"2016-05-25"}]
["日々草","ニチニチソウ","","楽しい思い出",{"$f":"IFERROR(MATCH(B986,誕生月花!$B$2:$B$13,0),\"\")","v":""},{"$f":"IFERROR(VLOOKUP(B986&C986,誕生日花!E:F,2,FALSE),IFERROR(VLOOKUP(B986,誕生日花!E:F,2,FALSE),\"\"))","v":"2016-07-13"}]
["日光黄萓","ニッコウキスゲ","","心安らぐ人",{"$f":"IFERROR(MATCH(B987,誕生月花!$B$2:$B$13,0),\"\")","v":""},{"$f":"IFERROR(VLOOKUP(B987&C987,誕生日花!E:F,2,FALSE),IFERROR(VLOOKUP(B987,誕生日花!E:F,2,FALSE),\"\"))","v":"2016-02-24"}]
["日光黄萓","ニッコウキスゲ","","日々あらたに",{"$f":"IFERROR(MATCH(B988,誕生月花!$B$2:$B$13,0),\"\")","v":""},{"$f":"IFERROR(VLOOKUP(B988&C988,誕生日花!E:F,2,FALSE),IFERROR(VLOOKUP(B988,誕生日花!E:F,2,FALSE),\"\"))","v":"2016-02-24"}]
["二輪草","ニリンソウ","","ずっと離れない",{"$f":"IFERROR(MATCH(B989,誕生月花!$B$2:$B$13,0),\"\")","v":""},{"$f":"IFERROR(VLOOKUP(B989&C989,誕生日花!E:F,2,FALSE),IFERROR(VLOOKUP(B989,誕生日花!E:F,2,FALSE),\"\"))","v":""}]
["二輪草","ニリンソウ","","協力",{"$f":"IFERROR(MATCH(B990,誕生月花!$B$2:$B$13,0),\"\")","v":""},{"$f":"IFERROR(VLOOKUP(B990&C990,誕生日花!E:F,2,FALSE),IFERROR(VLOOKUP(B990,誕生日花!E:F,2,FALSE),\"\"))","v":""}]
["二輪草","ニリンソウ","","友情",{"$f":"IFERROR(MATCH(B991,誕生月花!$B$2:$B$13,0),\"\")","v":""},{"$f":"IFERROR(VLOOKUP(B991&C991,誕生日花!E:F,2,FALSE),IFERROR(VLOOKUP(B991,誕生日花!E:F,2,FALSE),\"\"))","v":""}]
["楡","ニレ","","感受性",{"$f":"IFERROR(MATCH(B992,誕生月花!$B$2:$B$13,0),\"\")","v":""},{"$f":"IFERROR(VLOOKUP(B992&C992,誕生日花!E:F,2,FALSE),IFERROR(VLOOKUP(B992,誕生日花!E:F,2,FALSE),\"\"))","v":""}]
["猫柳","ネコヤナギ","","努力が報われる",{"$f":"IFERROR(MATCH(B993,誕生月花!$B$2:$B$13,0),\"\")","v":""},{"$f":"IFERROR(VLOOKUP(B993&C993,誕生日花!E:F,2,FALSE),IFERROR(VLOOKUP(B993,誕生日花!E:F,2,FALSE),\"\"))","v":"2016-02-17"}]
["捩花","ネジバナ","","思慕",{"$f":"IFERROR(MATCH(B994,誕生月花!$B$2:$B$13,0),\"\")","v":""},{"$f":"IFERROR(VLOOKUP(B994&C994,誕生日花!E:F,2,FALSE),IFERROR(VLOOKUP(B994,誕生日花!E:F,2,FALSE),\"\"))","v":""}]
["合歓木","ネムノキ","","歓喜",{"$f":"IFERROR(MATCH(B995,誕生月花!$B$2:$B$13,0),\"\")","v":""},{"$f":"IFERROR(VLOOKUP(B995&C995,誕生日花!E:F,2,FALSE),IFERROR(VLOOKUP(B995,誕生日花!E:F,2,FALSE),\"\"))","v":""}]
["合歓木","ネムノキ","","胸のときめき",{"$f":"IFERROR(MATCH(B996,誕生月花!$B$2:$B$13,0),\"\")","v":""},{"$f":"IFERROR(VLOOKUP(B996&C996,誕生日花!E:F,2,FALSE),IFERROR(VLOOKUP(B996,誕生日花!E:F,2,FALSE),\"\"))","v":""}]
["海蘭擬キ（ウンランモドキ）","ネメシア","","偽りのない心",{"$f":"IFERROR(MATCH(B997,誕生月花!$B$2:$B$13,0),\"\")","v":""},{"$f":"IFERROR(VLOOKUP(B997&C997,誕生日花!E:F,2,FALSE),IFERROR(VLOOKUP(B997,誕生日花!E:F,2,FALSE),\"\"))","v":""}]
["瑠璃唐草（ルリカラクサ）","ネモフィラ","","愛国心",{"$f":"IFERROR(MATCH(B998,誕生月花!$B$2:$B$13,0),\"\")","v":""},{"$f":"IFERROR(VLOOKUP(B998&C998,誕生日花!E:F,2,FALSE),IFERROR(VLOOKUP(B998,誕生日花!E:F,2,FALSE),\"\"))","v":""}]
["瑠璃唐草（ルリカラクサ）","ネモフィラ","","あなたを許す",{"$f":"IFERROR(MATCH(B999,誕生月花!$B$2:$B$13,0),\"\")","v":""},{"$f":"IFERROR(VLOOKUP(B999&C999,誕生日花!E:F,2,FALSE),IFERROR(VLOOKUP(B999,誕生日花!E:F,2,FALSE),\"\"))","v":""}]
["瑠璃唐草（ルリカラクサ）","ネモフィラ","","どこでも成功",{"$f":"IFERROR(MATCH(B1000,誕生月花!$B$2:$B$13,0),\"\")","v":""},{"$f":"IFERROR(VLOOKUP(B1000&C1000,誕生日花!E:F,2,FALSE),IFERROR(VLOOKUP(B1000,誕生日花!E:F,2,FALSE),\"\"))","v":""}]
["瑠璃唐草（ルリカラクサ）","ネモフィラ","","可憐",{"$f":"IFERROR(MATCH(B1001,誕生月花!$B$2:$B$13,0),\"\")","v":""},{"$f":"IFERROR(VLOOKUP(B1001&C1001,誕生日花!E:F,2,FALSE),IFERROR(VLOOKUP(B1001,誕生日花!E:F,2,FALSE),\"\"))","v":""}]
["姫彼岸花","ネリネ","","また会う日を楽しみに",{"$f":"IFERROR(MATCH(B1002,誕生月花!$B$2:$B$13,0),\"\")","v":""},{"$f":"IFERROR(VLOOKUP(B1002&C1002,誕生日花!E:F,2,FALSE),IFERROR(VLOOKUP(B1002,誕生日花!E:F,2,FALSE),\"\"))","v":"2016-11-17"}]
["姫彼岸花","ネリネ","","忍耐",{"$f":"IFERROR(MATCH(B1003,誕生月花!$B$2:$B$13,0),\"\")","v":""},{"$f":"IFERROR(VLOOKUP(B1003&C1003,誕生日花!E:F,2,FALSE),IFERROR(VLOOKUP(B1003,誕生日花!E:F,2,FALSE),\"\"))","v":"2016-11-17"}]
["姫彼岸花","ネリネ","","箱入り娘",{"$f":"IFERROR(MATCH(B1004,誕生月花!$B$2:$B$13,0),\"\")","v":""},{"$f":"IFERROR(VLOOKUP(B1004&C1004,誕生日花!E:F,2,FALSE),IFERROR(VLOOKUP(B1004,誕生日花!E:F,2,FALSE),\"\"))","v":"2016-11-17"}]
["凌霄花","ノウゼンカズラ","","花のある人生",{"$f":"IFERROR(MATCH(B1005,誕生月花!$B$2:$B$13,0),\"\")","v":""},{"$f":"IFERROR(VLOOKUP(B1005&C1005,誕生日花!E:F,2,FALSE),IFERROR(VLOOKUP(B1005,誕生日花!E:F,2,FALSE),\"\"))","v":""}]
["凌霄花","ノウゼンカズラ","","名声",{"$f":"IFERROR(MATCH(B1006,誕生月花!$B$2:$B$13,0),\"\")","v":""},{"$f":"IFERROR(VLOOKUP(B1006&C1006,誕生日花!E:F,2,FALSE),IFERROR(VLOOKUP(B1006,誕生日花!E:F,2,FALSE),\"\"))","v":""}]
["凌霄花","ノウゼンカズラ","","名誉",{"$f":"IFERROR(MATCH(B1007,誕生月花!$B$2:$B$13,0),\"\")","v":""},{"$f":"IFERROR(VLOOKUP(B1007&C1007,誕生日花!E:F,2,FALSE),IFERROR(VLOOKUP(B1007,誕生日花!E:F,2,FALSE),\"\"))","v":""}]
["寒白菊（カンシロギク）","ノースポール","","自分に誠実",{"$f":"IFERROR(MATCH(B1008,誕生月花!$B$2:$B$13,0),\"\")","v":""},{"$f":"IFERROR(VLOOKUP(B1008&C1008,誕生日花!E:F,2,FALSE),IFERROR(VLOOKUP(B1008,誕生日花!E:F,2,FALSE),\"\"))","v":"2016-03-13"}]
["寒白菊（カンシロギク）","ノースポール","","高潔",{"$f":"IFERROR(MATCH(B1009,誕生月花!$B$2:$B$13,0),\"\")","v":""},{"$f":"IFERROR(VLOOKUP(B1009&C1009,誕生日花!E:F,2,FALSE),IFERROR(VLOOKUP(B1009,誕生日花!E:F,2,FALSE),\"\"))","v":"2016-03-13"}]
["寒白菊（カンシロギク）","ノースポール","","誠実",{"$f":"IFERROR(MATCH(B1010,誕生月花!$B$2:$B$13,0),\"\")","v":""},{"$f":"IFERROR(VLOOKUP(B1010&C1010,誕生日花!E:F,2,FALSE),IFERROR(VLOOKUP(B1010,誕生日花!E:F,2,FALSE),\"\"))","v":"2016-03-13"}]
["寒白菊（カンシロギク）","ノースポール","","冬の足音",{"$f":"IFERROR(MATCH(B1011,誕生月花!$B$2:$B$13,0),\"\")","v":""},{"$f":"IFERROR(VLOOKUP(B1011&C1011,誕生日花!E:F,2,FALSE),IFERROR(VLOOKUP(B1011,誕生日花!E:F,2,FALSE),\"\"))","v":"2016-03-13"}]
["鋸草","ノコギリソウ","","治癒",{"$f":"IFERROR(MATCH(B1012,誕生月花!$B$2:$B$13,0),\"\")","v":""},{"$f":"IFERROR(VLOOKUP(B1012&C1012,誕生日花!E:F,2,FALSE),IFERROR(VLOOKUP(B1012,誕生日花!E:F,2,FALSE),\"\"))","v":""}]
["鋸草","ノコギリソウ","","戦い",{"$f":"IFERROR(MATCH(B1013,誕生月花!$B$2:$B$13,0),\"\")","v":""},{"$f":"IFERROR(VLOOKUP(B1013&C1013,誕生日花!E:F,2,FALSE),IFERROR(VLOOKUP(B1013,誕生日花!E:F,2,FALSE),\"\"))","v":""}]
["鋸草","ノコギリソウ","","勇敢",{"$f":"IFERROR(MATCH(B1014,誕生月花!$B$2:$B$13,0),\"\")","v":""},{"$f":"IFERROR(VLOOKUP(B1014&C1014,誕生日花!E:F,2,FALSE),IFERROR(VLOOKUP(B1014,誕生日花!E:F,2,FALSE),\"\"))","v":""}]
["野紺菊","ノコンギク","","質素",{"$f":"IFERROR(MATCH(B1015,誕生月花!$B$2:$B$13,0),\"\")","v":""},{"$f":"IFERROR(VLOOKUP(B1015&C1015,誕生日花!E:F,2,FALSE),IFERROR(VLOOKUP(B1015,誕生日花!E:F,2,FALSE),\"\"))","v":"2016-09-25"}]
["野茨","ノバラ","","新しい旅立ち",{"$f":"IFERROR(MATCH(B1016,誕生月花!$B$2:$B$13,0),\"\")","v":""},{"$f":"IFERROR(VLOOKUP(B1016&C1016,誕生日花!E:F,2,FALSE),IFERROR(VLOOKUP(B1016,誕生日花!E:F,2,FALSE),\"\"))","v":"2016-05-29"}]
["野牡丹","ノボタン","","ナチュラル",{"$f":"IFERROR(MATCH(B1017,誕生月花!$B$2:$B$13,0),\"\")","v":""},{"$f":"IFERROR(VLOOKUP(B1017&C1017,誕生日花!E:F,2,FALSE),IFERROR(VLOOKUP(B1017,誕生日花!E:F,2,FALSE),\"\"))","v":"2016-10-20"}]
["美女桜（ビジョザクラ）","バーベナ","","魔力",{"$f":"IFERROR(MATCH(B1018,誕生月花!$B$2:$B$13,0),\"\")","v":""},{"$f":"IFERROR(VLOOKUP(B1018&C1018,誕生日花!E:F,2,FALSE),IFERROR(VLOOKUP(B1018,誕生日花!E:F,2,FALSE),\"\"))","v":"2016-08-12"}]
["美女桜（ビジョザクラ）","バーベナ","","魅力",{"$f":"IFERROR(MATCH(B1019,誕生月花!$B$2:$B$13,0),\"\")","v":""},{"$f":"IFERROR(VLOOKUP(B1019&C1019,誕生日花!E:F,2,FALSE),IFERROR(VLOOKUP(B1019,誕生日花!E:F,2,FALSE),\"\"))","v":"2016-08-12"}]
["美女桜（ビジョザクラ）","バーベナ","","家族の和合",{"$f":"IFERROR(MATCH(B1020,誕生月花!$B$2:$B$13,0),\"\")","v":""},{"$f":"IFERROR(VLOOKUP(B1020&C1020,誕生日花!E:F,2,FALSE),IFERROR(VLOOKUP(B1020,誕生日花!E:F,2,FALSE),\"\"))","v":"2016-08-12"}]
["美女桜（ビジョザクラ）","バーベナ","ピンク","未来",{"$f":"IFERROR(MATCH(B1021,誕生月花!$B$2:$B$13,0),\"\")","v":""},{"$f":"IFERROR(VLOOKUP(B1021&C1021,誕生日花!E:F,2,FALSE),IFERROR(VLOOKUP(B1021,誕生日花!E:F,2,FALSE),\"\"))","v":"2016-08-12"}]
["美女桜（ビジョザクラ）","バーベナ","ピンク","家族の和合",{"$f":"IFERROR(MATCH(B1022,誕生月花!$B$2:$B$13,0),\"\")","v":""},{"$f":"IFERROR(VLOOKUP(B1022&C1022,誕生日花!E:F,2,FALSE),IFERROR(VLOOKUP(B1022,誕生日花!E:F,2,FALSE),\"\"))","v":"2016-08-12"}]
["美女桜（ビジョザクラ）","バーベナ","紫","真実を守る",{"$f":"IFERROR(MATCH(B1023,誕生月花!$B$2:$B$13,0),\"\")","v":""},{"$f":"IFERROR(VLOOKUP(B1023&C1023,誕生日花!E:F,2,FALSE),IFERROR(VLOOKUP(B1023,誕生日花!E:F,2,FALSE),\"\"))","v":"2016-08-12"}]
["美女桜（ビジョザクラ）","バーベナ","紫","（私は）あなたに同情します",{"$f":"IFERROR(MATCH(B1024,誕生月花!$B$2:$B$13,0),\"\")","v":""},{"$f":"IFERROR(VLOOKUP(B1024&C1024,誕生日花!E:F,2,FALSE),IFERROR(VLOOKUP(B1024,誕生日花!E:F,2,FALSE),\"\"))","v":"2016-08-12"}]
["美女桜（ビジョザクラ）","バーベナ","紫","後悔",{"$f":"IFERROR(MATCH(B1025,誕生月花!$B$2:$B$13,0),\"\")","v":""},{"$f":"IFERROR(VLOOKUP(B1025&C1025,誕生日花!E:F,2,FALSE),IFERROR(VLOOKUP(B1025,誕生日花!E:F,2,FALSE),\"\"))","v":"2016-08-12"}]
["美女桜（ビジョザクラ）","バーベナ","紫","私はあなたに同情します",{"$f":"IFERROR(MATCH(B1026,誕生月花!$B$2:$B$13,0),\"\")","v":""},{"$f":"IFERROR(VLOOKUP(B1026&C1026,誕生日花!E:F,2,FALSE),IFERROR(VLOOKUP(B1026,誕生日花!E:F,2,FALSE),\"\"))","v":"2016-08-12"}]
["美女桜（ビジョザクラ）","バーベナ","赤","団結",{"$f":"IFERROR(MATCH(B1027,誕生月花!$B$2:$B$13,0),\"\")","v":""},{"$f":"IFERROR(VLOOKUP(B1027&C1027,誕生日花!E:F,2,FALSE),IFERROR(VLOOKUP(B1027,誕生日花!E:F,2,FALSE),\"\"))","v":"2016-08-12"}]
["美女桜（ビジョザクラ）","バーベナ","白","私のために祈ってください",{"$f":"IFERROR(MATCH(B1028,誕生月花!$B$2:$B$13,0),\"\")","v":""},{"$f":"IFERROR(VLOOKUP(B1028&C1028,誕生日花!E:F,2,FALSE),IFERROR(VLOOKUP(B1028,誕生日花!E:F,2,FALSE),\"\"))","v":"2016-08-12"}]
["菫（スミレ）","バイオレット","黄","希少価値",{"$f":"IFERROR(MATCH(B1029,誕生月花!$B$2:$B$13,0),\"\")","v":""},{"$f":"IFERROR(VLOOKUP(B1029&C1029,誕生日花!E:F,2,FALSE),IFERROR(VLOOKUP(B1029,誕生日花!E:F,2,FALSE),\"\"))","v":""}]
["菫（スミレ）","バイオレット","紫","誠実",{"$f":"IFERROR(MATCH(B1030,誕生月花!$B$2:$B$13,0),\"\")","v":""},{"$f":"IFERROR(VLOOKUP(B1030&C1030,誕生日花!E:F,2,FALSE),IFERROR(VLOOKUP(B1030,誕生日花!E:F,2,FALSE),\"\"))","v":""}]
["菫（スミレ）","バイオレット","青","直観に誠実",{"$f":"IFERROR(MATCH(B1031,誕生月花!$B$2:$B$13,0),\"\")","v":""},{"$f":"IFERROR(VLOOKUP(B1031&C1031,誕生日花!E:F,2,FALSE),IFERROR(VLOOKUP(B1031,誕生日花!E:F,2,FALSE),\"\"))","v":""}]
["菫（スミレ）","バイオレット","白","無垢",{"$f":"IFERROR(MATCH(B1032,誕生月花!$B$2:$B$13,0),\"\")","v":""},{"$f":"IFERROR(VLOOKUP(B1032&C1032,誕生日花!E:F,2,FALSE),IFERROR(VLOOKUP(B1032,誕生日花!E:F,2,FALSE),\"\"))","v":""}]
["菫（スミレ）","バイオレット","野生","つれづれの恋",{"$f":"IFERROR(MATCH(B1033,誕生月花!$B$2:$B$13,0),\"\")","v":""},{"$f":"IFERROR(VLOOKUP(B1033&C1033,誕生日花!E:F,2,FALSE),IFERROR(VLOOKUP(B1033,誕生日花!E:F,2,FALSE),\"\"))","v":""}]
["梅花空木","バイカウツギ","","回想",{"$f":"IFERROR(MATCH(B1034,誕生月花!$B$2:$B$13,0),\"\")","v":""},{"$f":"IFERROR(VLOOKUP(B1034&C1034,誕生日花!E:F,2,FALSE),IFERROR(VLOOKUP(B1034,誕生日花!E:F,2,FALSE),\"\"))","v":""}]
["梅花空木","バイカウツギ","","気品",{"$f":"IFERROR(MATCH(B1035,誕生月花!$B$2:$B$13,0),\"\")","v":""},{"$f":"IFERROR(VLOOKUP(B1035&C1035,誕生日花!E:F,2,FALSE),IFERROR(VLOOKUP(B1035,誕生日花!E:F,2,FALSE),\"\"))","v":""}]
["鳳梨","パイナップル","","あなたは完全です",{"$f":"IFERROR(MATCH(B1036,誕生月花!$B$2:$B$13,0),\"\")","v":""},{"$f":"IFERROR(VLOOKUP(B1036&C1036,誕生日花!E:F,2,FALSE),IFERROR(VLOOKUP(B1036,誕生日花!E:F,2,FALSE),\"\"))","v":""}]
["星万年青（ホシオモト）.","パイナップルリリー","","完璧",{"$f":"IFERROR(MATCH(B1037,誕生月花!$B$2:$B$13,0),\"\")","v":""},{"$f":"IFERROR(VLOOKUP(B1037&C1037,誕生日花!E:F,2,FALSE),IFERROR(VLOOKUP(B1037,誕生日花!E:F,2,FALSE),\"\"))","v":"2016-10-05"}]
["仏桑華（ブツソウゲ）","ハイビスカス","","常に新しい美",{"$f":"IFERROR(MATCH(B1038,誕生月花!$B$2:$B$13,0),\"\")","v":""},{"$f":"IFERROR(VLOOKUP(B1038&C1038,誕生日花!E:F,2,FALSE),IFERROR(VLOOKUP(B1038,誕生日花!E:F,2,FALSE),\"\"))","v":"2016-08-24"}]
["仏桑華（ブツソウゲ）","ハイビスカス","","新しい恋",{"$f":"IFERROR(MATCH(B1039,誕生月花!$B$2:$B$13,0),\"\")","v":""},{"$f":"IFERROR(VLOOKUP(B1039&C1039,誕生日花!E:F,2,FALSE),IFERROR(VLOOKUP(B1039,誕生日花!E:F,2,FALSE),\"\"))","v":"2016-08-24"}]
["仏桑華（ブツソウゲ）","ハイビスカス","","繊細な美",{"$f":"IFERROR(MATCH(B1040,誕生月花!$B$2:$B$13,0),\"\")","v":""},{"$f":"IFERROR(VLOOKUP(B1040&C1040,誕生日花!E:F,2,FALSE),IFERROR(VLOOKUP(B1040,誕生日花!E:F,2,FALSE),\"\"))","v":"2016-08-24"}]
["仏桑華（ブツソウゲ）","ハイビスカス","赤","常に新しい美",{"$f":"IFERROR(MATCH(B1041,誕生月花!$B$2:$B$13,0),\"\")","v":""},{"$f":"IFERROR(VLOOKUP(B1041&C1041,誕生日花!E:F,2,FALSE),IFERROR(VLOOKUP(B1041,誕生日花!E:F,2,FALSE),\"\"))","v":"2016-08-24"}]
["仏桑華（ブツソウゲ）","ハイビスカス","赤","勇敢",{"$f":"IFERROR(MATCH(B1042,誕生月花!$B$2:$B$13,0),\"\")","v":""},{"$f":"IFERROR(VLOOKUP(B1042&C1042,誕生日花!E:F,2,FALSE),IFERROR(VLOOKUP(B1042,誕生日花!E:F,2,FALSE),\"\"))","v":"2016-08-24"}]
["仏桑華（ブツソウゲ）","ハイビスカス","白","艶美",{"$f":"IFERROR(MATCH(B1043,誕生月花!$B$2:$B$13,0),\"\")","v":""},{"$f":"IFERROR(VLOOKUP(B1043&C1043,誕生日花!E:F,2,FALSE),IFERROR(VLOOKUP(B1043,誕生日花!E:F,2,FALSE),\"\"))","v":"2016-08-24"}]
["貝母","バイモ","","謙虚な心",{"$f":"IFERROR(MATCH(B1044,誕生月花!$B$2:$B$13,0),\"\")","v":""},{"$f":"IFERROR(VLOOKUP(B1044&C1044,誕生日花!E:F,2,FALSE),IFERROR(VLOOKUP(B1044,誕生日花!E:F,2,FALSE),\"\"))","v":"2016-02-25"}]
["貝母","バイモ","","才能",{"$f":"IFERROR(MATCH(B1045,誕生月花!$B$2:$B$13,0),\"\")","v":""},{"$f":"IFERROR(VLOOKUP(B1045&C1045,誕生日花!E:F,2,FALSE),IFERROR(VLOOKUP(B1045,誕生日花!E:F,2,FALSE),\"\"))","v":"2016-02-25"}]
["萩","ハギ","","思案",{"$f":"IFERROR(MATCH(B1046,誕生月花!$B$2:$B$13,0),\"\")","v":""},{"$f":"IFERROR(VLOOKUP(B1046&C1046,誕生日花!E:F,2,FALSE),IFERROR(VLOOKUP(B1046,誕生日花!E:F,2,FALSE),\"\"))","v":"2016-10-07"}]
["萩","ハギ","","思案",{"$f":"IFERROR(MATCH(B1047,誕生月花!$B$2:$B$13,0),\"\")","v":""},{"$f":"IFERROR(VLOOKUP(B1047&C1047,誕生日花!E:F,2,FALSE),IFERROR(VLOOKUP(B1047,誕生日花!E:F,2,FALSE),\"\"))","v":"2016-10-07"}]
["萩","ハギ","","柔軟な精神",{"$f":"IFERROR(MATCH(B1048,誕生月花!$B$2:$B$13,0),\"\")","v":""},{"$f":"IFERROR(VLOOKUP(B1048&C1048,誕生日花!E:F,2,FALSE),IFERROR(VLOOKUP(B1048,誕生日花!E:F,2,FALSE),\"\"))","v":"2016-10-07"}]
["萩","ハギ","","内気",{"$f":"IFERROR(MATCH(B1049,誕生月花!$B$2:$B$13,0),\"\")","v":""},{"$f":"IFERROR(VLOOKUP(B1049&C1049,誕生日花!E:F,2,FALSE),IFERROR(VLOOKUP(B1049,誕生日花!E:F,2,FALSE),\"\"))","v":"2016-10-07"}]
["ウコン珊瑚花（ウコンサンゴバナ）","パキスタキス・ルテア","","楽しい語らい",{"$f":"IFERROR(MATCH(B1050,誕生月花!$B$2:$B$13,0),\"\")","v":""},{"$f":"IFERROR(VLOOKUP(B1050&C1050,誕生日花!E:F,2,FALSE),IFERROR(VLOOKUP(B1050,誕生日花!E:F,2,FALSE),\"\"))","v":"2016-08-16"}]
["カイエンナット","パキラ","","幸運",{"$f":"IFERROR(MATCH(B1051,誕生月花!$B$2:$B$13,0),\"\")","v":""},{"$f":"IFERROR(VLOOKUP(B1051&C1051,誕生日花!E:F,2,FALSE),IFERROR(VLOOKUP(B1051,誕生日花!E:F,2,FALSE),\"\"))","v":""}]
["カイエンナット","パキラ","","快活",{"$f":"IFERROR(MATCH(B1052,誕生月花!$B$2:$B$13,0),\"\")","v":""},{"$f":"IFERROR(VLOOKUP(B1052&C1052,誕生日花!E:F,2,FALSE),IFERROR(VLOOKUP(B1052,誕生日花!E:F,2,FALSE),\"\"))","v":""}]
["カイエンナット","パキラ","","勝利",{"$f":"IFERROR(MATCH(B1053,誕生月花!$B$2:$B$13,0),\"\")","v":""},{"$f":"IFERROR(VLOOKUP(B1053&C1053,誕生日花!E:F,2,FALSE),IFERROR(VLOOKUP(B1053,誕生日花!E:F,2,FALSE),\"\"))","v":""}]
["白木蓮","ハクモクレン","","慈悲心",{"$f":"IFERROR(MATCH(B1054,誕生月花!$B$2:$B$13,0),\"\")","v":""},{"$f":"IFERROR(VLOOKUP(B1054&C1054,誕生日花!E:F,2,FALSE),IFERROR(VLOOKUP(B1054,誕生日花!E:F,2,FALSE),\"\"))","v":""}]
["葉鶏頭","ハゲイトウ","","不老不死",{"$f":"IFERROR(MATCH(B1055,誕生月花!$B$2:$B$13,0),\"\")","v":""},{"$f":"IFERROR(VLOOKUP(B1055&C1055,誕生日花!E:F,2,FALSE),IFERROR(VLOOKUP(B1055,誕生日花!E:F,2,FALSE),\"\"))","v":""}]
["繁縷","ハコベ","","ランデブー",{"$f":"IFERROR(MATCH(B1056,誕生月花!$B$2:$B$13,0),\"\")","v":""},{"$f":"IFERROR(VLOOKUP(B1056&C1056,誕生日花!E:F,2,FALSE),IFERROR(VLOOKUP(B1056,誕生日花!E:F,2,FALSE),\"\"))","v":""}]
["繁縷","ハコベ","","愛らしい",{"$f":"IFERROR(MATCH(B1057,誕生月花!$B$2:$B$13,0),\"\")","v":""},{"$f":"IFERROR(VLOOKUP(B1057&C1057,誕生日花!E:F,2,FALSE),IFERROR(VLOOKUP(B1057,誕生日花!E:F,2,FALSE),\"\"))","v":""}]
["榛","ハシバミ","","和解",{"$f":"IFERROR(MATCH(B1058,誕生月花!$B$2:$B$13,0),\"\")","v":""},{"$f":"IFERROR(VLOOKUP(B1058&C1058,誕生日花!E:F,2,FALSE),IFERROR(VLOOKUP(B1058,誕生日花!E:F,2,FALSE),\"\"))","v":""}]
["目箒","バジル","","忍耐力と勇気",{"$f":"IFERROR(MATCH(B1059,誕生月花!$B$2:$B$13,0),\"\")","v":""},{"$f":"IFERROR(VLOOKUP(B1059&C1059,誕生日花!E:F,2,FALSE),IFERROR(VLOOKUP(B1059,誕生日花!E:F,2,FALSE),\"\"))","v":""}]
["蓮","ハス","","動じない心",{"$f":"IFERROR(MATCH(B1060,誕生月花!$B$2:$B$13,0),\"\")","v":""},{"$f":"IFERROR(VLOOKUP(B1060&C1060,誕生日花!E:F,2,FALSE),IFERROR(VLOOKUP(B1060,誕生日花!E:F,2,FALSE),\"\"))","v":""}]
["蓮","ハス","","神聖",{"$f":"IFERROR(MATCH(B1061,誕生月花!$B$2:$B$13,0),\"\")","v":""},{"$f":"IFERROR(VLOOKUP(B1061&C1061,誕生日花!E:F,2,FALSE),IFERROR(VLOOKUP(B1061,誕生日花!E:F,2,FALSE),\"\"))","v":""}]
["蓮","ハス","","清らかな心",{"$f":"IFERROR(MATCH(B1062,誕生月花!$B$2:$B$13,0),\"\")","v":""},{"$f":"IFERROR(VLOOKUP(B1062&C1062,誕生日花!E:F,2,FALSE),IFERROR(VLOOKUP(B1062,誕生日花!E:F,2,FALSE),\"\"))","v":""}]
["蓮","ハス","","雄弁",{"$f":"IFERROR(MATCH(B1063,誕生月花!$B$2:$B$13,0),\"\")","v":""},{"$f":"IFERROR(VLOOKUP(B1063&C1063,誕生日花!E:F,2,FALSE),IFERROR(VLOOKUP(B1063,誕生日花!E:F,2,FALSE),\"\"))","v":""}]
["蓮","ハス","","離れゆく愛",{"$f":"IFERROR(MATCH(B1064,誕生月花!$B$2:$B$13,0),\"\")","v":""},{"$f":"IFERROR(VLOOKUP(B1064&C1064,誕生日花!E:F,2,FALSE),IFERROR(VLOOKUP(B1064,誕生日花!E:F,2,FALSE),\"\"))","v":""}]
["和蘭芹（オランダゼリ）","パセリ","","逆境からの勝利",{"$f":"IFERROR(MATCH(B1065,誕生月花!$B$2:$B$13,0),\"\")","v":""},{"$f":"IFERROR(VLOOKUP(B1065&C1065,誕生日花!E:F,2,FALSE),IFERROR(VLOOKUP(B1065,誕生日花!E:F,2,FALSE),\"\"))","v":""}]
["房藤空木（フサフジウツギ）","バタフライブッシュ","","魅力",{"$f":"IFERROR(MATCH(B1066,誕生月花!$B$2:$B$13,0),\"\")","v":""},{"$f":"IFERROR(VLOOKUP(B1066&C1066,誕生日花!E:F,2,FALSE),IFERROR(VLOOKUP(B1066,誕生日花!E:F,2,FALSE),\"\"))","v":"2016-09-04"}]
["浜辺ノ木（ハマベノキ）","バッカリス","","開拓",{"$f":"IFERROR(MATCH(B1067,誕生月花!$B$2:$B$13,0),\"\")","v":""},{"$f":"IFERROR(VLOOKUP(B1067&C1067,誕生日花!E:F,2,FALSE),IFERROR(VLOOKUP(B1067,誕生日花!E:F,2,FALSE),\"\"))","v":""}]
["時計草（トケイソウ）","パッションフラワー","","聖なる愛",{"$f":"IFERROR(MATCH(B1068,誕生月花!$B$2:$B$13,0),\"\")","v":""},{"$f":"IFERROR(VLOOKUP(B1068&C1068,誕生日花!E:F,2,FALSE),IFERROR(VLOOKUP(B1068,誕生日花!E:F,2,FALSE),\"\"))","v":"2016-07-12"}]
["花葵","ハナアオイ","","ゆれる心",{"$f":"IFERROR(MATCH(B1069,誕生月花!$B$2:$B$13,0),\"\")","v":""},{"$f":"IFERROR(VLOOKUP(B1069&C1069,誕生日花!E:F,2,FALSE),IFERROR(VLOOKUP(B1069,誕生日花!E:F,2,FALSE),\"\"))","v":"2016-05-28"}]
["花海棠","ハナカイドウ","","美人の眠り",{"$f":"IFERROR(MATCH(B1070,誕生月花!$B$2:$B$13,0),\"\")","v":""},{"$f":"IFERROR(VLOOKUP(B1070&C1070,誕生日花!E:F,2,FALSE),IFERROR(VLOOKUP(B1070,誕生日花!E:F,2,FALSE),\"\"))","v":"2016-03-24"}]
["花海棠","ハナカイドウ","","艶麗",{"$f":"IFERROR(MATCH(B1071,誕生月花!$B$2:$B$13,0),\"\")","v":""},{"$f":"IFERROR(VLOOKUP(B1071&C1071,誕生日花!E:F,2,FALSE),IFERROR(VLOOKUP(B1071,誕生日花!E:F,2,FALSE),\"\"))","v":"2016-03-24"}]
["花海棠","ハナカイドウ","","温和",{"$f":"IFERROR(MATCH(B1072,誕生月花!$B$2:$B$13,0),\"\")","v":""},{"$f":"IFERROR(VLOOKUP(B1072&C1072,誕生日花!E:F,2,FALSE),IFERROR(VLOOKUP(B1072,誕生日花!E:F,2,FALSE),\"\"))","v":"2016-03-24"}]
["花海棠","ハナカイドウ","","美人の眠り",{"$f":"IFERROR(MATCH(B1073,誕生月花!$B$2:$B$13,0),\"\")","v":""},{"$f":"IFERROR(VLOOKUP(B1073&C1073,誕生日花!E:F,2,FALSE),IFERROR(VLOOKUP(B1073,誕生日花!E:F,2,FALSE),\"\"))","v":"2016-03-24"}]
["花ぎぼし","ハナギボシ","","沈静",{"$f":"IFERROR(MATCH(B1074,誕生月花!$B$2:$B$13,0),\"\")","v":""},{"$f":"IFERROR(VLOOKUP(B1074&C1074,誕生日花!E:F,2,FALSE),IFERROR(VLOOKUP(B1074,誕生日花!E:F,2,FALSE),\"\"))","v":"2016-07-04"}]
["花麒麟","ハナキリン","","逆境に耐える",{"$f":"IFERROR(MATCH(B1075,誕生月花!$B$2:$B$13,0),\"\")","v":""},{"$f":"IFERROR(VLOOKUP(B1075&C1075,誕生日花!E:F,2,FALSE),IFERROR(VLOOKUP(B1075,誕生日花!E:F,2,FALSE),\"\"))","v":"2016-11-02"}]
["花麒麟","ハナキリン","","早くキスして",{"$f":"IFERROR(MATCH(B1076,誕生月花!$B$2:$B$13,0),\"\")","v":""},{"$f":"IFERROR(VLOOKUP(B1076&C1076,誕生日花!E:F,2,FALSE),IFERROR(VLOOKUP(B1076,誕生日花!E:F,2,FALSE),\"\"))","v":"2016-11-02"}]
["花忍","ハナシノブ","","野生美",{"$f":"IFERROR(MATCH(B1077,誕生月花!$B$2:$B$13,0),\"\")","v":""},{"$f":"IFERROR(VLOOKUP(B1077&C1077,誕生日花!E:F,2,FALSE),IFERROR(VLOOKUP(B1077,誕生日花!E:F,2,FALSE),\"\"))","v":"2016-02-08"}]
["花菖蒲","ハナショウブ","","優美",{"$f":"IFERROR(MATCH(B1078,誕生月花!$B$2:$B$13,0),\"\")","v":""},{"$f":"IFERROR(VLOOKUP(B1078&C1078,誕生日花!E:F,2,FALSE),IFERROR(VLOOKUP(B1078,誕生日花!E:F,2,FALSE),\"\"))","v":"2016-05-05"}]
["花菖蒲","ハナショウブ","","うれしい知らせ",{"$f":"IFERROR(MATCH(B1079,誕生月花!$B$2:$B$13,0),\"\")","v":""},{"$f":"IFERROR(VLOOKUP(B1079&C1079,誕生日花!E:F,2,FALSE),IFERROR(VLOOKUP(B1079,誕生日花!E:F,2,FALSE),\"\"))","v":"2016-05-05"}]
["花菖蒲","ハナショウブ","","優しい心",{"$f":"IFERROR(MATCH(B1080,誕生月花!$B$2:$B$13,0),\"\")","v":""},{"$f":"IFERROR(VLOOKUP(B1080&C1080,誕生日花!E:F,2,FALSE),IFERROR(VLOOKUP(B1080,誕生日花!E:F,2,FALSE),\"\"))","v":"2016-05-05"}]
["花菖蒲","ハナショウブ","","優雅",{"$f":"IFERROR(MATCH(B1081,誕生月花!$B$2:$B$13,0),\"\")","v":""},{"$f":"IFERROR(VLOOKUP(B1081&C1081,誕生日花!E:F,2,FALSE),IFERROR(VLOOKUP(B1081,誕生日花!E:F,2,FALSE),\"\"))","v":"2016-05-05"}]
["花蘇芳","ハナズオウ","","不信仰",{"$f":"IFERROR(MATCH(B1082,誕生月花!$B$2:$B$13,0),\"\")","v":""},{"$f":"IFERROR(VLOOKUP(B1082&C1082,誕生日花!E:F,2,FALSE),IFERROR(VLOOKUP(B1082,誕生日花!E:F,2,FALSE),\"\"))","v":"2016-04-06"}]
["花蘇芳","ハナズオウ","","裏切り",{"$f":"IFERROR(MATCH(B1083,誕生月花!$B$2:$B$13,0),\"\")","v":""},{"$f":"IFERROR(VLOOKUP(B1083&C1083,誕生日花!E:F,2,FALSE),IFERROR(VLOOKUP(B1083,誕生日花!E:F,2,FALSE),\"\"))","v":"2016-04-06"}]
["花虎ノ尾","ハナトラノオ","","輝かしい実績",{"$f":"IFERROR(MATCH(B1084,誕生月花!$B$2:$B$13,0),\"\")","v":""},{"$f":"IFERROR(VLOOKUP(B1084&C1084,誕生日花!E:F,2,FALSE),IFERROR(VLOOKUP(B1084,誕生日花!E:F,2,FALSE),\"\"))","v":"2016-07-14"}]
["花韮","ハナニラ","","出会い",{"$f":"IFERROR(MATCH(B1085,誕生月花!$B$2:$B$13,0),\"\")","v":""},{"$f":"IFERROR(VLOOKUP(B1085&C1085,誕生日花!E:F,2,FALSE),IFERROR(VLOOKUP(B1085,誕生日花!E:F,2,FALSE),\"\"))","v":""}]
["花韮","ハナニラ","","悲しい別れ",{"$f":"IFERROR(MATCH(B1086,誕生月花!$B$2:$B$13,0),\"\")","v":""},{"$f":"IFERROR(VLOOKUP(B1086&C1086,誕生日花!E:F,2,FALSE),IFERROR(VLOOKUP(B1086,誕生日花!E:F,2,FALSE),\"\"))","v":""}]
["花菱草","ハナビシソウ","","私を拒絶しないで",{"$f":"IFERROR(MATCH(B1087,誕生月花!$B$2:$B$13,0),\"\")","v":""},{"$f":"IFERROR(VLOOKUP(B1087&C1087,誕生日花!E:F,2,FALSE),IFERROR(VLOOKUP(B1087,誕生日花!E:F,2,FALSE),\"\"))","v":""}]
["花菱草","ハナビシソウ","","成功",{"$f":"IFERROR(MATCH(B1088,誕生月花!$B$2:$B$13,0),\"\")","v":""},{"$f":"IFERROR(VLOOKUP(B1088&C1088,誕生日花!E:F,2,FALSE),IFERROR(VLOOKUP(B1088,誕生日花!E:F,2,FALSE),\"\"))","v":""}]
["花菱草","ハナビシソウ","","富",{"$f":"IFERROR(MATCH(B1089,誕生月花!$B$2:$B$13,0),\"\")","v":""},{"$f":"IFERROR(VLOOKUP(B1089&C1089,誕生日花!E:F,2,FALSE),IFERROR(VLOOKUP(B1089,誕生日花!E:F,2,FALSE),\"\"))","v":""}]
["花水木","ハナミズキ","","私の思いを受け入れて",{"$f":"IFERROR(MATCH(B1090,誕生月花!$B$2:$B$13,0),\"\")","v":""},{"$f":"IFERROR(VLOOKUP(B1090&C1090,誕生日花!E:F,2,FALSE),IFERROR(VLOOKUP(B1090,誕生日花!E:F,2,FALSE),\"\"))","v":"2016-03-28"}]
["花水木","ハナミズキ","","永続性",{"$f":"IFERROR(MATCH(B1091,誕生月花!$B$2:$B$13,0),\"\")","v":""},{"$f":"IFERROR(VLOOKUP(B1091&C1091,誕生日花!E:F,2,FALSE),IFERROR(VLOOKUP(B1091,誕生日花!E:F,2,FALSE),\"\"))","v":"2016-03-28"}]
["花水木","ハナミズキ","","私の想いを受けてください",{"$f":"IFERROR(MATCH(B1092,誕生月花!$B$2:$B$13,0),\"\")","v":""},{"$f":"IFERROR(VLOOKUP(B1092&C1092,誕生日花!E:F,2,FALSE),IFERROR(VLOOKUP(B1092,誕生日花!E:F,2,FALSE),\"\"))","v":"2016-03-28"}]
["花水木","ハナミズキ","","返礼",{"$f":"IFERROR(MATCH(B1093,誕生月花!$B$2:$B$13,0),\"\")","v":""},{"$f":"IFERROR(VLOOKUP(B1093&C1093,誕生日花!E:F,2,FALSE),IFERROR(VLOOKUP(B1093,誕生日花!E:F,2,FALSE),\"\"))","v":"2016-03-28"}]
["匂イ忍冬（ニオイニンドウ）","ハニーサックル","","崇拝",{"$f":"IFERROR(MATCH(B1094,誕生月花!$B$2:$B$13,0),\"\")","v":""},{"$f":"IFERROR(VLOOKUP(B1094&C1094,誕生日花!E:F,2,FALSE),IFERROR(VLOOKUP(B1094,誕生日花!E:F,2,FALSE),\"\"))","v":""}]
["パフィオペディルム","パフィオペディラム","","ユニークな視点",{"$f":"IFERROR(MATCH(B1095,誕生月花!$B$2:$B$13,0),\"\")","v":""},{"$f":"IFERROR(VLOOKUP(B1095&C1095,誕生日花!E:F,2,FALSE),IFERROR(VLOOKUP(B1095,誕生日花!E:F,2,FALSE),\"\"))","v":""}]
["葉牡丹","ハボタン","","利益",{"$f":"IFERROR(MATCH(B1096,誕生月花!$B$2:$B$13,0),\"\")","v":""},{"$f":"IFERROR(VLOOKUP(B1096&C1096,誕生日花!E:F,2,FALSE),IFERROR(VLOOKUP(B1096,誕生日花!E:F,2,FALSE),\"\"))","v":""}]
["葉牡丹","ハボタン","","祝福",{"$f":"IFERROR(MATCH(B1097,誕生月花!$B$2:$B$13,0),\"\")","v":""},{"$f":"IFERROR(VLOOKUP(B1097&C1097,誕生日花!E:F,2,FALSE),IFERROR(VLOOKUP(B1097,誕生日花!E:F,2,FALSE),\"\"))","v":""}]
["葉牡丹","ハボタン","","物事に動じない",{"$f":"IFERROR(MATCH(B1098,誕生月花!$B$2:$B$13,0),\"\")","v":""},{"$f":"IFERROR(VLOOKUP(B1098&C1098,誕生日花!E:F,2,FALSE),IFERROR(VLOOKUP(B1098,誕生日花!E:F,2,FALSE),\"\"))","v":""}]
["パボニア","パボニア","","安堵",{"$f":"IFERROR(MATCH(B1099,誕生月花!$B$2:$B$13,0),\"\")","v":""},{"$f":"IFERROR(VLOOKUP(B1099&C1099,誕生日花!E:F,2,FALSE),IFERROR(VLOOKUP(B1099,誕生日花!E:F,2,FALSE),\"\"))","v":"2016-10-24"}]
["浜菊","ハマギク","","友愛",{"$f":"IFERROR(MATCH(B1100,誕生月花!$B$2:$B$13,0),\"\")","v":""},{"$f":"IFERROR(VLOOKUP(B1100&C1100,誕生日花!E:F,2,FALSE),IFERROR(VLOOKUP(B1100,誕生日花!E:F,2,FALSE),\"\"))","v":"2016-11-21"}]
["浜茄子","ハマナス","","悲しくそして美しく",{"$f":"IFERROR(MATCH(B1101,誕生月花!$B$2:$B$13,0),\"\")","v":""},{"$f":"IFERROR(VLOOKUP(B1101&C1101,誕生日花!E:F,2,FALSE),IFERROR(VLOOKUP(B1101,誕生日花!E:F,2,FALSE),\"\"))","v":""}]
["浜木綿","ハマユウ","","どこか遠くへ",{"$f":"IFERROR(MATCH(B1102,誕生月花!$B$2:$B$13,0),\"\")","v":""},{"$f":"IFERROR(VLOOKUP(B1102&C1102,誕生日花!E:F,2,FALSE),IFERROR(VLOOKUP(B1102,誕生日花!E:F,2,FALSE),\"\"))","v":""}]
["浜木綿","ハマユウ","","汚れのない",{"$f":"IFERROR(MATCH(B1103,誕生月花!$B$2:$B$13,0),\"\")","v":""},{"$f":"IFERROR(VLOOKUP(B1103&C1103,誕生日花!E:F,2,FALSE),IFERROR(VLOOKUP(B1103,誕生日花!E:F,2,FALSE),\"\"))","v":""}]
["薔薇","バラ","","美",{"$f":"IFERROR(MATCH(B1104,誕生月花!$B$2:$B$13,0),\"\")","v":6},{"$f":"IFERROR(VLOOKUP(B1104&C1104,誕生日花!E:F,2,FALSE),IFERROR(VLOOKUP(B1104,誕生日花!E:F,2,FALSE),\"\"))","v":""}]
["薔薇","バラ","ダマスクローズ","照り映える容色",{"$f":"IFERROR(MATCH(B1105,誕生月花!$B$2:$B$13,0),\"\")","v":6},{"$f":"IFERROR(VLOOKUP(B1105&C1105,誕生日花!E:F,2,FALSE),IFERROR(VLOOKUP(B1105,誕生日花!E:F,2,FALSE),\"\"))","v":""}]
["薔薇","バラ","トゲ","不幸中の幸い",{"$f":"IFERROR(MATCH(B1106,誕生月花!$B$2:$B$13,0),\"\")","v":6},{"$f":"IFERROR(VLOOKUP(B1106&C1106,誕生日花!E:F,2,FALSE),IFERROR(VLOOKUP(B1106,誕生日花!E:F,2,FALSE),\"\"))","v":""}]
["薔薇","バラ","ニコル","魅力",{"$f":"IFERROR(MATCH(B1107,誕生月花!$B$2:$B$13,0),\"\")","v":6},{"$f":"IFERROR(VLOOKUP(B1107&C1107,誕生日花!E:F,2,FALSE),IFERROR(VLOOKUP(B1107,誕生日花!E:F,2,FALSE),\"\"))","v":"2016-10-27"}]
["薔薇","バラ","バーガンディー","秘められた美",{"$f":"IFERROR(MATCH(B1108,誕生月花!$B$2:$B$13,0),\"\")","v":6},{"$f":"IFERROR(VLOOKUP(B1108&C1108,誕生日花!E:F,2,FALSE),IFERROR(VLOOKUP(B1108,誕生日花!E:F,2,FALSE),\"\"))","v":""}]
["薔薇","バラ","ピンク","愛を誓う",{"$f":"IFERROR(MATCH(B1109,誕生月花!$B$2:$B$13,0),\"\")","v":6},{"$f":"IFERROR(VLOOKUP(B1109&C1109,誕生日花!E:F,2,FALSE),IFERROR(VLOOKUP(B1109,誕生日花!E:F,2,FALSE),\"\"))","v":"2016-07-03"}]
["薔薇","バラ","ピンク","しとやか",{"$f":"IFERROR(MATCH(B1110,誕生月花!$B$2:$B$13,0),\"\")","v":6},{"$f":"IFERROR(VLOOKUP(B1110&C1110,誕生日花!E:F,2,FALSE),IFERROR(VLOOKUP(B1110,誕生日花!E:F,2,FALSE),\"\"))","v":"2016-07-03"}]
["薔薇","バラ","ピンク","感銘",{"$f":"IFERROR(MATCH(B1111,誕生月花!$B$2:$B$13,0),\"\")","v":6},{"$f":"IFERROR(VLOOKUP(B1111&C1111,誕生日花!E:F,2,FALSE),IFERROR(VLOOKUP(B1111,誕生日花!E:F,2,FALSE),\"\"))","v":"2016-07-03"}]
["薔薇","バラ","ピンク","上品",{"$f":"IFERROR(MATCH(B1112,誕生月花!$B$2:$B$13,0),\"\")","v":6},{"$f":"IFERROR(VLOOKUP(B1112&C1112,誕生日花!E:F,2,FALSE),IFERROR(VLOOKUP(B1112,誕生日花!E:F,2,FALSE),\"\"))","v":"2016-07-03"}]
["薔薇","バラ","ベージュ","成熟した愛",{"$f":"IFERROR(MATCH(B1113,誕生月花!$B$2:$B$13,0),\"\")","v":6},{"$f":"IFERROR(VLOOKUP(B1113&C1113,誕生日花!E:F,2,FALSE),IFERROR(VLOOKUP(B1113,誕生日花!E:F,2,FALSE),\"\"))","v":""}]
["薔薇","バラ","黄","君のすべてが可憐",{"$f":"IFERROR(MATCH(B1114,誕生月花!$B$2:$B$13,0),\"\")","v":6},{"$f":"IFERROR(VLOOKUP(B1114&C1114,誕生日花!E:F,2,FALSE),IFERROR(VLOOKUP(B1114,誕生日花!E:F,2,FALSE),\"\"))","v":"2016-02-10"}]
["薔薇","バラ","黄","愛情の薄らぎ",{"$f":"IFERROR(MATCH(B1115,誕生月花!$B$2:$B$13,0),\"\")","v":6},{"$f":"IFERROR(VLOOKUP(B1115&C1115,誕生日花!E:F,2,FALSE),IFERROR(VLOOKUP(B1115,誕生日花!E:F,2,FALSE),\"\"))","v":"2016-02-10"}]
["薔薇","バラ","黄","嫉妬",{"$f":"IFERROR(MATCH(B1116,誕生月花!$B$2:$B$13,0),\"\")","v":6},{"$f":"IFERROR(VLOOKUP(B1116&C1116,誕生日花!E:F,2,FALSE),IFERROR(VLOOKUP(B1116,誕生日花!E:F,2,FALSE),\"\"))","v":"2016-02-10"}]
["薔薇","バラ","黄","友情",{"$f":"IFERROR(MATCH(B1117,誕生月花!$B$2:$B$13,0),\"\")","v":6},{"$f":"IFERROR(VLOOKUP(B1117&C1117,誕生日花!E:F,2,FALSE),IFERROR(VLOOKUP(B1117,誕生日花!E:F,2,FALSE),\"\"))","v":"2016-02-10"}]
["薔薇","バラ","黒赤色","神秘",{"$f":"IFERROR(MATCH(B1118,誕生月花!$B$2:$B$13,0),\"\")","v":6},{"$f":"IFERROR(VLOOKUP(B1118&C1118,誕生日花!E:F,2,FALSE),IFERROR(VLOOKUP(B1118,誕生日花!E:F,2,FALSE),\"\"))","v":""}]
["薔薇","バラ","青","奇跡",{"$f":"IFERROR(MATCH(B1119,誕生月花!$B$2:$B$13,0),\"\")","v":6},{"$f":"IFERROR(VLOOKUP(B1119&C1119,誕生日花!E:F,2,FALSE),IFERROR(VLOOKUP(B1119,誕生日花!E:F,2,FALSE),\"\"))","v":""}]
["薔薇","バラ","青","神の祝福",{"$f":"IFERROR(MATCH(B1120,誕生月花!$B$2:$B$13,0),\"\")","v":6},{"$f":"IFERROR(VLOOKUP(B1120&C1120,誕生日花!E:F,2,FALSE),IFERROR(VLOOKUP(B1120,誕生日花!E:F,2,FALSE),\"\"))","v":""}]
["薔薇","バラ","青","不可能",{"$f":"IFERROR(MATCH(B1121,誕生月花!$B$2:$B$13,0),\"\")","v":6},{"$f":"IFERROR(VLOOKUP(B1121&C1121,誕生日花!E:F,2,FALSE),IFERROR(VLOOKUP(B1121,誕生日花!E:F,2,FALSE),\"\"))","v":""}]
["薔薇","バラ","青","夢かなう",{"$f":"IFERROR(MATCH(B1122,誕生月花!$B$2:$B$13,0),\"\")","v":6},{"$f":"IFERROR(VLOOKUP(B1122&C1122,誕生日花!E:F,2,FALSE),IFERROR(VLOOKUP(B1122,誕生日花!E:F,2,FALSE),\"\"))","v":""}]
["薔薇","バラ","赤","愛、美",{"$f":"IFERROR(MATCH(B1123,誕生月花!$B$2:$B$13,0),\"\")","v":6},{"$f":"IFERROR(VLOOKUP(B1123&C1123,誕生日花!E:F,2,FALSE),IFERROR(VLOOKUP(B1123,誕生日花!E:F,2,FALSE),\"\"))","v":"2016-06-24"}]
["薔薇","バラ","赤","あなたを愛してます",{"$f":"IFERROR(MATCH(B1124,誕生月花!$B$2:$B$13,0),\"\")","v":6},{"$f":"IFERROR(VLOOKUP(B1124&C1124,誕生日花!E:F,2,FALSE),IFERROR(VLOOKUP(B1124,誕生日花!E:F,2,FALSE),\"\"))","v":"2016-06-24"}]
["薔薇","バラ","赤","愛情",{"$f":"IFERROR(MATCH(B1125,誕生月花!$B$2:$B$13,0),\"\")","v":6},{"$f":"IFERROR(VLOOKUP(B1125&C1125,誕生日花!E:F,2,FALSE),IFERROR(VLOOKUP(B1125,誕生日花!E:F,2,FALSE),\"\"))","v":"2016-06-24"}]
["薔薇","バラ","赤","情熱",{"$f":"IFERROR(MATCH(B1126,誕生月花!$B$2:$B$13,0),\"\")","v":6},{"$f":"IFERROR(VLOOKUP(B1126&C1126,誕生日花!E:F,2,FALSE),IFERROR(VLOOKUP(B1126,誕生日花!E:F,2,FALSE),\"\"))","v":"2016-06-24"}]
["薔薇","バラ","赤","熱烈な恋",{"$f":"IFERROR(MATCH(B1127,誕生月花!$B$2:$B$13,0),\"\")","v":6},{"$f":"IFERROR(VLOOKUP(B1127&C1127,誕生日花!E:F,2,FALSE),IFERROR(VLOOKUP(B1127,誕生日花!E:F,2,FALSE),\"\"))","v":"2016-06-24"}]
["薔薇","バラ","赤いつぼみ","純粋と愛らしさ",{"$f":"IFERROR(MATCH(B1128,誕生月花!$B$2:$B$13,0),\"\")","v":6},{"$f":"IFERROR(VLOOKUP(B1128&C1128,誕生日花!E:F,2,FALSE),IFERROR(VLOOKUP(B1128,誕生日花!E:F,2,FALSE),\"\"))","v":""}]
["薔薇","バラ","赤いつぼみ","純粋な愛に染まる",{"$f":"IFERROR(MATCH(B1129,誕生月花!$B$2:$B$13,0),\"\")","v":6},{"$f":"IFERROR(VLOOKUP(B1129&C1129,誕生日花!E:F,2,FALSE),IFERROR(VLOOKUP(B1129,誕生日花!E:F,2,FALSE),\"\"))","v":""}]
["薔薇","バラ","白","私はあなたにふさわしい",{"$f":"IFERROR(MATCH(B1130,誕生月花!$B$2:$B$13,0),\"\")","v":6},{"$f":"IFERROR(VLOOKUP(B1130&C1130,誕生日花!E:F,2,FALSE),IFERROR(VLOOKUP(B1130,誕生日花!E:F,2,FALSE),\"\"))","v":"2016-11-23"}]
["薔薇","バラ","白","（私は）あなたにふさわしい",{"$f":"IFERROR(MATCH(B1131,誕生月花!$B$2:$B$13,0),\"\")","v":6},{"$f":"IFERROR(VLOOKUP(B1131&C1131,誕生日花!E:F,2,FALSE),IFERROR(VLOOKUP(B1131,誕生日花!E:F,2,FALSE),\"\"))","v":"2016-11-23"}]
["薔薇","バラ","白","純潔",{"$f":"IFERROR(MATCH(B1132,誕生月花!$B$2:$B$13,0),\"\")","v":6},{"$f":"IFERROR(VLOOKUP(B1132&C1132,誕生日花!E:F,2,FALSE),IFERROR(VLOOKUP(B1132,誕生日花!E:F,2,FALSE),\"\"))","v":"2016-11-23"}]
["薔薇","バラ","白","深い尊敬",{"$f":"IFERROR(MATCH(B1133,誕生月花!$B$2:$B$13,0),\"\")","v":6},{"$f":"IFERROR(VLOOKUP(B1133&C1133,誕生日花!E:F,2,FALSE),IFERROR(VLOOKUP(B1133,誕生日花!E:F,2,FALSE),\"\"))","v":"2016-11-23"}]
["薔薇","バラ","白いつぼみ","少女時代",{"$f":"IFERROR(MATCH(B1134,誕生月花!$B$2:$B$13,0),\"\")","v":6},{"$f":"IFERROR(VLOOKUP(B1134&C1134,誕生日花!E:F,2,FALSE),IFERROR(VLOOKUP(B1134,誕生日花!E:F,2,FALSE),\"\"))","v":""}]
["薔薇","バラ","白いつぼみ","恋をするには若すぎる",{"$f":"IFERROR(MATCH(B1135,誕生月花!$B$2:$B$13,0),\"\")","v":6},{"$f":"IFERROR(VLOOKUP(B1135&C1135,誕生日花!E:F,2,FALSE),IFERROR(VLOOKUP(B1135,誕生日花!E:F,2,FALSE),\"\"))","v":""}]
["薔薇","バラ","蕾","希望、夢",{"$f":"IFERROR(MATCH(B1136,誕生月花!$B$2:$B$13,0),\"\")","v":6},{"$f":"IFERROR(VLOOKUP(B1136&C1136,誕生日花!E:F,2,FALSE),IFERROR(VLOOKUP(B1136,誕生日花!E:F,2,FALSE),\"\"))","v":""}]
["春山茶花","ハルサザンカ","","困難に勝つ",{"$f":"IFERROR(MATCH(B1137,誕生月花!$B$2:$B$13,0),\"\")","v":""},{"$f":"IFERROR(VLOOKUP(B1137&C1137,誕生日花!E:F,2,FALSE),IFERROR(VLOOKUP(B1137,誕生日花!E:F,2,FALSE),\"\"))","v":"2016-01-02"}]
["春紫菀","ハルジオン","","追憶の愛",{"$f":"IFERROR(MATCH(B1138,誕生月花!$B$2:$B$13,0),\"\")","v":""},{"$f":"IFERROR(VLOOKUP(B1138&C1138,誕生日花!E:F,2,FALSE),IFERROR(VLOOKUP(B1138,誕生日花!E:F,2,FALSE),\"\"))","v":"2016-04-14"}]
["春紫菀","ハルジオン","","追想の愛",{"$f":"IFERROR(MATCH(B1139,誕生月花!$B$2:$B$13,0),\"\")","v":""},{"$f":"IFERROR(VLOOKUP(B1139&C1139,誕生日花!E:F,2,FALSE),IFERROR(VLOOKUP(B1139,誕生日花!E:F,2,FALSE),\"\"))","v":"2016-04-14"}]
["波斯菊","ハルシャギク","","いつも陽気",{"$f":"IFERROR(MATCH(B1140,誕生月花!$B$2:$B$13,0),\"\")","v":""},{"$f":"IFERROR(VLOOKUP(B1140&C1140,誕生日花!E:F,2,FALSE),IFERROR(VLOOKUP(B1140,誕生日花!E:F,2,FALSE),\"\"))","v":""}]
["波斯菊","ハルシャギク","","一目惚れ",{"$f":"IFERROR(MATCH(B1141,誕生月花!$B$2:$B$13,0),\"\")","v":""},{"$f":"IFERROR(VLOOKUP(B1141&C1141,誕生日花!E:F,2,FALSE),IFERROR(VLOOKUP(B1141,誕生日花!E:F,2,FALSE),\"\"))","v":""}]
["セイヨウカノコソウ","バレリアン","","善良",{"$f":"IFERROR(MATCH(B1142,誕生月花!$B$2:$B$13,0),\"\")","v":""},{"$f":"IFERROR(VLOOKUP(B1142&C1142,誕生日花!E:F,2,FALSE),IFERROR(VLOOKUP(B1142,誕生日花!E:F,2,FALSE),\"\"))","v":""}]
["三色菫（サンシキスミレ）","パンジー","","もの思い",{"$f":"IFERROR(MATCH(B1143,誕生月花!$B$2:$B$13,0),\"\")","v":""},{"$f":"IFERROR(VLOOKUP(B1143&C1143,誕生日花!E:F,2,FALSE),IFERROR(VLOOKUP(B1143,誕生日花!E:F,2,FALSE),\"\"))","v":"2016-02-29"}]
["三色菫（サンシキスミレ）","パンジー","","私を思って",{"$f":"IFERROR(MATCH(B1144,誕生月花!$B$2:$B$13,0),\"\")","v":""},{"$f":"IFERROR(VLOOKUP(B1144&C1144,誕生日花!E:F,2,FALSE),IFERROR(VLOOKUP(B1144,誕生日花!E:F,2,FALSE),\"\"))","v":"2016-02-29"}]
["三色菫（サンシキスミレ）","パンジー","","私の胸はあなたのことでいっぱいです",{"$f":"IFERROR(MATCH(B1145,誕生月花!$B$2:$B$13,0),\"\")","v":""},{"$f":"IFERROR(VLOOKUP(B1145&C1145,誕生日花!E:F,2,FALSE),IFERROR(VLOOKUP(B1145,誕生日花!E:F,2,FALSE),\"\"))","v":"2016-02-29"}]
["三色菫（サンシキスミレ）","パンジー","アプリコット","楽しい気分",{"$f":"IFERROR(MATCH(B1146,誕生月花!$B$2:$B$13,0),\"\")","v":""},{"$f":"IFERROR(VLOOKUP(B1146&C1146,誕生日花!E:F,2,FALSE),IFERROR(VLOOKUP(B1146,誕生日花!E:F,2,FALSE),\"\"))","v":"2016-02-29"}]
["三色菫（サンシキスミレ）","パンジー","オレンジ","明朗快活",{"$f":"IFERROR(MATCH(B1147,誕生月花!$B$2:$B$13,0),\"\")","v":""},{"$f":"IFERROR(VLOOKUP(B1147&C1147,誕生日花!E:F,2,FALSE),IFERROR(VLOOKUP(B1147,誕生日花!E:F,2,FALSE),\"\"))","v":"2016-02-29"}]
["三色菫（サンシキスミレ）","パンジー","黄","慎ましい幸せ",{"$f":"IFERROR(MATCH(B1148,誕生月花!$B$2:$B$13,0),\"\")","v":""},{"$f":"IFERROR(VLOOKUP(B1148&C1148,誕生日花!E:F,2,FALSE),IFERROR(VLOOKUP(B1148,誕生日花!E:F,2,FALSE),\"\"))","v":"2016-02-29"}]
["三色菫（サンシキスミレ）","パンジー","黄","つつましい幸せ",{"$f":"IFERROR(MATCH(B1149,誕生月花!$B$2:$B$13,0),\"\")","v":""},{"$f":"IFERROR(VLOOKUP(B1149&C1149,誕生日花!E:F,2,FALSE),IFERROR(VLOOKUP(B1149,誕生日花!E:F,2,FALSE),\"\"))","v":"2016-02-29"}]
["三色菫（サンシキスミレ）","パンジー","黄","田園の喜び",{"$f":"IFERROR(MATCH(B1150,誕生月花!$B$2:$B$13,0),\"\")","v":""},{"$f":"IFERROR(VLOOKUP(B1150&C1150,誕生日花!E:F,2,FALSE),IFERROR(VLOOKUP(B1150,誕生日花!E:F,2,FALSE),\"\"))","v":"2016-02-29"}]
["三色菫（サンシキスミレ）","パンジー","紫","愛の使者",{"$f":"IFERROR(MATCH(B1151,誕生月花!$B$2:$B$13,0),\"\")","v":""},{"$f":"IFERROR(VLOOKUP(B1151&C1151,誕生日花!E:F,2,FALSE),IFERROR(VLOOKUP(B1151,誕生日花!E:F,2,FALSE),\"\"))","v":"2016-02-29"}]
["三色菫（サンシキスミレ）","パンジー","紫","思慮深い",{"$f":"IFERROR(MATCH(B1152,誕生月花!$B$2:$B$13,0),\"\")","v":""},{"$f":"IFERROR(VLOOKUP(B1152&C1152,誕生日花!E:F,2,FALSE),IFERROR(VLOOKUP(B1152,誕生日花!E:F,2,FALSE),\"\"))","v":"2016-02-29"}]
["三色菫（サンシキスミレ）","パンジー","白","温順",{"$f":"IFERROR(MATCH(B1153,誕生月花!$B$2:$B$13,0),\"\")","v":""},{"$f":"IFERROR(VLOOKUP(B1153&C1153,誕生日花!E:F,2,FALSE),IFERROR(VLOOKUP(B1153,誕生日花!E:F,2,FALSE),\"\"))","v":"2016-02-29"}]
["翡翠蘭（ヒスイラン）","バンダ","","ユニーク",{"$f":"IFERROR(MATCH(B1154,誕生月花!$B$2:$B$13,0),\"\")","v":""},{"$f":"IFERROR(VLOOKUP(B1154&C1154,誕生日花!E:F,2,FALSE),IFERROR(VLOOKUP(B1154,誕生日花!E:F,2,FALSE),\"\"))","v":"2016-10-13"}]
["柊","ヒイラギ","","先見性がある",{"$f":"IFERROR(MATCH(B1155,誕生月花!$B$2:$B$13,0),\"\")","v":""},{"$f":"IFERROR(VLOOKUP(B1155&C1155,誕生日花!E:F,2,FALSE),IFERROR(VLOOKUP(B1155,誕生日花!E:F,2,FALSE),\"\"))","v":"2016-12-27"}]
["柊","ヒイラギ","","先見の明",{"$f":"IFERROR(MATCH(B1156,誕生月花!$B$2:$B$13,0),\"\")","v":""},{"$f":"IFERROR(VLOOKUP(B1156&C1156,誕生日花!E:F,2,FALSE),IFERROR(VLOOKUP(B1156,誕生日花!E:F,2,FALSE),\"\"))","v":"2016-12-27"}]
["柊","ヒイラギ","","保護",{"$f":"IFERROR(MATCH(B1157,誕生月花!$B$2:$B$13,0),\"\")","v":""},{"$f":"IFERROR(VLOOKUP(B1157&C1157,誕生日花!E:F,2,FALSE),IFERROR(VLOOKUP(B1157,誕生日花!E:F,2,FALSE),\"\"))","v":"2016-12-27"}]
["柊","ヒイラギ","","用心深さ",{"$f":"IFERROR(MATCH(B1158,誕生月花!$B$2:$B$13,0),\"\")","v":""},{"$f":"IFERROR(VLOOKUP(B1158&C1158,誕生日花!E:F,2,FALSE),IFERROR(VLOOKUP(B1158,誕生日花!E:F,2,FALSE),\"\"))","v":"2016-12-27"}]
["柊黐","ヒイラギモチ","","清廉",{"$f":"IFERROR(MATCH(B1159,誕生月花!$B$2:$B$13,0),\"\")","v":""},{"$f":"IFERROR(VLOOKUP(B1159&C1159,誕生日花!E:F,2,FALSE),IFERROR(VLOOKUP(B1159,誕生日花!E:F,2,FALSE),\"\"))","v":"2016-12-29"}]
["檜扇","ヒオウギ","","静かな愛",{"$f":"IFERROR(MATCH(B1160,誕生月花!$B$2:$B$13,0),\"\")","v":""},{"$f":"IFERROR(VLOOKUP(B1160&C1160,誕生日花!E:F,2,FALSE),IFERROR(VLOOKUP(B1160,誕生日花!E:F,2,FALSE),\"\"))","v":"2016-07-07"}]
["芍薬（シャクヤク）","ピオニー","","必ず来る幸福",{"$f":"IFERROR(MATCH(B1161,誕生月花!$B$2:$B$13,0),\"\")","v":""},{"$f":"IFERROR(VLOOKUP(B1161&C1161,誕生日花!E:F,2,FALSE),IFERROR(VLOOKUP(B1161,誕生日花!E:F,2,FALSE),\"\"))","v":""}]
["三色菫（サンシキスミレ）","ビオラ","","誠実",{"$f":"IFERROR(MATCH(B1162,誕生月花!$B$2:$B$13,0),\"\")","v":""},{"$f":"IFERROR(VLOOKUP(B1162&C1162,誕生日花!E:F,2,FALSE),IFERROR(VLOOKUP(B1162,誕生日花!E:F,2,FALSE),\"\"))","v":"2016-02-22"}]
["三色菫（サンシキスミレ）","ビオラ","紫","ゆるぎない魂",{"$f":"IFERROR(MATCH(B1163,誕生月花!$B$2:$B$13,0),\"\")","v":""},{"$f":"IFERROR(VLOOKUP(B1163&C1163,誕生日花!E:F,2,FALSE),IFERROR(VLOOKUP(B1163,誕生日花!E:F,2,FALSE),\"\"))","v":"2016-02-22"}]
["三色菫（サンシキスミレ）","ビオラ","白","真実に光を当てる",{"$f":"IFERROR(MATCH(B1164,誕生月花!$B$2:$B$13,0),\"\")","v":""},{"$f":"IFERROR(VLOOKUP(B1164&C1164,誕生日花!E:F,2,FALSE),IFERROR(VLOOKUP(B1164,誕生日花!E:F,2,FALSE),\"\"))","v":"2016-02-22"}]
["彼岸桜","ヒガンザクラ","","優れた美人",{"$f":"IFERROR(MATCH(B1165,誕生月花!$B$2:$B$13,0),\"\")","v":""},{"$f":"IFERROR(VLOOKUP(B1165&C1165,誕生日花!E:F,2,FALSE),IFERROR(VLOOKUP(B1165,誕生日花!E:F,2,FALSE),\"\"))","v":"2016-03-11"}]
["彼岸花","ヒガンバナ","","思い出",{"$f":"IFERROR(MATCH(B1166,誕生月花!$B$2:$B$13,0),\"\")","v":""},{"$f":"IFERROR(VLOOKUP(B1166&C1166,誕生日花!E:F,2,FALSE),IFERROR(VLOOKUP(B1166,誕生日花!E:F,2,FALSE),\"\"))","v":""}]
["彼岸花","ヒガンバナ","","あきらめ",{"$f":"IFERROR(MATCH(B1167,誕生月花!$B$2:$B$13,0),\"\")","v":""},{"$f":"IFERROR(VLOOKUP(B1167&C1167,誕生日花!E:F,2,FALSE),IFERROR(VLOOKUP(B1167,誕生日花!E:F,2,FALSE),\"\"))","v":""}]
["彼岸花","ヒガンバナ","","情熱",{"$f":"IFERROR(MATCH(B1168,誕生月花!$B$2:$B$13,0),\"\")","v":""},{"$f":"IFERROR(VLOOKUP(B1168&C1168,誕生日花!E:F,2,FALSE),IFERROR(VLOOKUP(B1168,誕生日花!E:F,2,FALSE),\"\"))","v":""}]
["彼岸花","ヒガンバナ","","独立",{"$f":"IFERROR(MATCH(B1169,誕生月花!$B$2:$B$13,0),\"\")","v":""},{"$f":"IFERROR(VLOOKUP(B1169&C1169,誕生日花!E:F,2,FALSE),IFERROR(VLOOKUP(B1169,誕生日花!E:F,2,FALSE),\"\"))","v":""}]
["彼岸花","ヒガンバナ","","悲しき思い出",{"$f":"IFERROR(MATCH(B1170,誕生月花!$B$2:$B$13,0),\"\")","v":""},{"$f":"IFERROR(VLOOKUP(B1170&C1170,誕生日花!E:F,2,FALSE),IFERROR(VLOOKUP(B1170,誕生日花!E:F,2,FALSE),\"\"))","v":""}]
["七変化（シチヘンゲ）","ピグミーランタン","","印象",{"$f":"IFERROR(MATCH(B1171,誕生月花!$B$2:$B$13,0),\"\")","v":""},{"$f":"IFERROR(VLOOKUP(B1171&C1171,誕生日花!E:F,2,FALSE),IFERROR(VLOOKUP(B1171,誕生日花!E:F,2,FALSE),\"\"))","v":"2016-01-26"}]
["美女撫子","ビジョナデシコ","","清い愛",{"$f":"IFERROR(MATCH(B1172,誕生月花!$B$2:$B$13,0),\"\")","v":""},{"$f":"IFERROR(VLOOKUP(B1172&C1172,誕生日花!E:F,2,FALSE),IFERROR(VLOOKUP(B1172,誕生日花!E:F,2,FALSE),\"\"))","v":"2016-03-16"}]
["翡翠蘭","ヒスイラン","","ユニーク",{"$f":"IFERROR(MATCH(B1173,誕生月花!$B$2:$B$13,0),\"\")","v":""},{"$f":"IFERROR(VLOOKUP(B1173&C1173,誕生日花!E:F,2,FALSE),IFERROR(VLOOKUP(B1173,誕生日花!E:F,2,FALSE),\"\"))","v":""}]
["柳薄荷（ヤナギハッカ）","ヒソップ","","聖性",{"$f":"IFERROR(MATCH(B1174,誕生月花!$B$2:$B$13,0),\"\")","v":""},{"$f":"IFERROR(VLOOKUP(B1174&C1174,誕生日花!E:F,2,FALSE),IFERROR(VLOOKUP(B1174,誕生日花!E:F,2,FALSE),\"\"))","v":"2016-08-20"}]
["柳薄荷（ヤナギハッカ）","ヒソップ","","浄化",{"$f":"IFERROR(MATCH(B1175,誕生月花!$B$2:$B$13,0),\"\")","v":""},{"$f":"IFERROR(VLOOKUP(B1175&C1175,誕生日花!E:F,2,FALSE),IFERROR(VLOOKUP(B1175,誕生日花!E:F,2,FALSE),\"\"))","v":"2016-08-20"}]
["柳薄荷（ヤナギハッカ）","ヒソップ","","清潔",{"$f":"IFERROR(MATCH(B1176,誕生月花!$B$2:$B$13,0),\"\")","v":""},{"$f":"IFERROR(VLOOKUP(B1176&C1176,誕生日花!E:F,2,FALSE),IFERROR(VLOOKUP(B1176,誕生日花!E:F,2,FALSE),\"\"))","v":"2016-08-20"}]
["菊咲栴檀草（キクザキセンダングサ）","ビデンス","","美しい調和",{"$f":"IFERROR(MATCH(B1177,誕生月花!$B$2:$B$13,0),\"\")","v":""},{"$f":"IFERROR(VLOOKUP(B1177&C1177,誕生日花!E:F,2,FALSE),IFERROR(VLOOKUP(B1177,誕生日花!E:F,2,FALSE),\"\"))","v":""}]
["雛菊","ヒナギク","","無邪気",{"$f":"IFERROR(MATCH(B1178,誕生月花!$B$2:$B$13,0),\"\")","v":""},{"$f":"IFERROR(VLOOKUP(B1178&C1178,誕生日花!E:F,2,FALSE),IFERROR(VLOOKUP(B1178,誕生日花!E:F,2,FALSE),\"\"))","v":""}]
["雛菊","ヒナギク","黄","ありのまま",{"$f":"IFERROR(MATCH(B1179,誕生月花!$B$2:$B$13,0),\"\")","v":""},{"$f":"IFERROR(VLOOKUP(B1179&C1179,誕生日花!E:F,2,FALSE),IFERROR(VLOOKUP(B1179,誕生日花!E:F,2,FALSE),\"\"))","v":""}]
["雛菊","ヒナギク","白","自由で無邪気",{"$f":"IFERROR(MATCH(B1180,誕生月花!$B$2:$B$13,0),\"\")","v":""},{"$f":"IFERROR(VLOOKUP(B1180&C1180,誕生日花!E:F,2,FALSE),IFERROR(VLOOKUP(B1180,誕生日花!E:F,2,FALSE),\"\"))","v":""}]
["小坊主弟切（コボウズオトギリ）","ヒペリカム","","きらめき",{"$f":"IFERROR(MATCH(B1181,誕生月花!$B$2:$B$13,0),\"\")","v":""},{"$f":"IFERROR(VLOOKUP(B1181&C1181,誕生日花!E:F,2,FALSE),IFERROR(VLOOKUP(B1181,誕生日花!E:F,2,FALSE),\"\"))","v":""}]
["小坊主弟切（コボウズオトギリ）","ヒペリカム","","悲しみは続かない",{"$f":"IFERROR(MATCH(B1182,誕生月花!$B$2:$B$13,0),\"\")","v":""},{"$f":"IFERROR(VLOOKUP(B1182&C1182,誕生日花!E:F,2,FALSE),IFERROR(VLOOKUP(B1182,誕生日花!E:F,2,FALSE),\"\"))","v":""}]
["ヒマラヤ雪ノ下","ヒマラヤユキノシタ","","順応",{"$f":"IFERROR(MATCH(B1183,誕生月花!$B$2:$B$13,0),\"\")","v":""},{"$f":"IFERROR(VLOOKUP(B1183&C1183,誕生日花!E:F,2,FALSE),IFERROR(VLOOKUP(B1183,誕生日花!E:F,2,FALSE),\"\"))","v":"2016-02-18"}]
["ヒマラヤ雪ノ下","ヒマラヤユキノシタ","","秘めた感情",{"$f":"IFERROR(MATCH(B1184,誕生月花!$B$2:$B$13,0),\"\")","v":""},{"$f":"IFERROR(VLOOKUP(B1184&C1184,誕生日花!E:F,2,FALSE),IFERROR(VLOOKUP(B1184,誕生日花!E:F,2,FALSE),\"\"))","v":"2016-02-18"}]
["向日葵","ヒマワリ","","（私は）あなただけを見つめる",{"$f":"IFERROR(MATCH(B1185,誕生月花!$B$2:$B$13,0),\"\")","v":8},{"$f":"IFERROR(VLOOKUP(B1185&C1185,誕生日花!E:F,2,FALSE),IFERROR(VLOOKUP(B1185,誕生日花!E:F,2,FALSE),\"\"))","v":"2016-08-08"}]
["向日葵","ヒマワリ","","愛慕",{"$f":"IFERROR(MATCH(B1186,誕生月花!$B$2:$B$13,0),\"\")","v":8},{"$f":"IFERROR(VLOOKUP(B1186&C1186,誕生日花!E:F,2,FALSE),IFERROR(VLOOKUP(B1186,誕生日花!E:F,2,FALSE),\"\"))","v":"2016-08-08"}]
["向日葵","ヒマワリ","","私はあなただけを見つめる",{"$f":"IFERROR(MATCH(B1187,誕生月花!$B$2:$B$13,0),\"\")","v":8},{"$f":"IFERROR(VLOOKUP(B1187&C1187,誕生日花!E:F,2,FALSE),IFERROR(VLOOKUP(B1187,誕生日花!E:F,2,FALSE),\"\"))","v":"2016-08-08"}]
["向日葵","ヒマワリ","","崇拝",{"$f":"IFERROR(MATCH(B1188,誕生月花!$B$2:$B$13,0),\"\")","v":8},{"$f":"IFERROR(VLOOKUP(B1188&C1188,誕生日花!E:F,2,FALSE),IFERROR(VLOOKUP(B1188,誕生日花!E:F,2,FALSE),\"\"))","v":"2016-08-08"}]
["向日葵","ヒマワリ","","光輝、尊敬",{"$f":"IFERROR(MATCH(B1189,誕生月花!$B$2:$B$13,0),\"\")","v":8},{"$f":"IFERROR(VLOOKUP(B1189&C1189,誕生日花!E:F,2,FALSE),IFERROR(VLOOKUP(B1189,誕生日花!E:F,2,FALSE),\"\"))","v":"2016-08-08"}]
["向日葵","ヒマワリ","イタリアンホワイト","あなたを思い続けます。",{"$f":"IFERROR(MATCH(B1190,誕生月花!$B$2:$B$13,0),\"\")","v":8},{"$f":"IFERROR(VLOOKUP(B1190&C1190,誕生日花!E:F,2,FALSE),IFERROR(VLOOKUP(B1190,誕生日花!E:F,2,FALSE),\"\"))","v":"2016-08-08"}]
["姫沙羅","ヒメシャラ","","謙譲",{"$f":"IFERROR(MATCH(B1191,誕生月花!$B$2:$B$13,0),\"\")","v":""},{"$f":"IFERROR(VLOOKUP(B1191&C1191,誕生日花!E:F,2,FALSE),IFERROR(VLOOKUP(B1191,誕生日花!E:F,2,FALSE),\"\"))","v":"2016-12-02"}]
["姫女菀","ヒメジョオン","","素朴で清楚",{"$f":"IFERROR(MATCH(B1192,誕生月花!$B$2:$B$13,0),\"\")","v":""},{"$f":"IFERROR(VLOOKUP(B1192&C1192,誕生日花!E:F,2,FALSE),IFERROR(VLOOKUP(B1192,誕生日花!E:F,2,FALSE),\"\"))","v":""}]
["姫百合","ヒメユリ","","誇り",{"$f":"IFERROR(MATCH(B1193,誕生月花!$B$2:$B$13,0),\"\")","v":""},{"$f":"IFERROR(VLOOKUP(B1193&C1193,誕生日花!E:F,2,FALSE),IFERROR(VLOOKUP(B1193,誕生日花!E:F,2,FALSE),\"\"))","v":"2016-08-01"}]
["百日草","ヒャクニチソウ","","遠く離れた友",{"$f":"IFERROR(MATCH(B1194,誕生月花!$B$2:$B$13,0),\"\")","v":""},{"$f":"IFERROR(VLOOKUP(B1194&C1194,誕生日花!E:F,2,FALSE),IFERROR(VLOOKUP(B1194,誕生日花!E:F,2,FALSE),\"\"))","v":"2016-08-21"}]
["風信子","ヒヤシンス","","ゲーム",{"$f":"IFERROR(MATCH(B1195,誕生月花!$B$2:$B$13,0),\"\")","v":""},{"$f":"IFERROR(VLOOKUP(B1195&C1195,誕生日花!E:F,2,FALSE),IFERROR(VLOOKUP(B1195,誕生日花!E:F,2,FALSE),\"\"))","v":""}]
["風信子","ヒヤシンス","","スポーツ",{"$f":"IFERROR(MATCH(B1196,誕生月花!$B$2:$B$13,0),\"\")","v":""},{"$f":"IFERROR(VLOOKUP(B1196&C1196,誕生日花!E:F,2,FALSE),IFERROR(VLOOKUP(B1196,誕生日花!E:F,2,FALSE),\"\"))","v":""}]
["風信子","ヒヤシンス","","悲しみを超えた愛",{"$f":"IFERROR(MATCH(B1197,誕生月花!$B$2:$B$13,0),\"\")","v":""},{"$f":"IFERROR(VLOOKUP(B1197&C1197,誕生日花!E:F,2,FALSE),IFERROR(VLOOKUP(B1197,誕生日花!E:F,2,FALSE),\"\"))","v":""}]
["風信子","ヒヤシンス","","遊び",{"$f":"IFERROR(MATCH(B1198,誕生月花!$B$2:$B$13,0),\"\")","v":""},{"$f":"IFERROR(VLOOKUP(B1198&C1198,誕生日花!E:F,2,FALSE),IFERROR(VLOOKUP(B1198,誕生日花!E:F,2,FALSE),\"\"))","v":""}]
["風信子","ヒヤシンス","ピンク","スポーツ、ゲーム",{"$f":"IFERROR(MATCH(B1199,誕生月花!$B$2:$B$13,0),\"\")","v":""},{"$f":"IFERROR(VLOOKUP(B1199&C1199,誕生日花!E:F,2,FALSE),IFERROR(VLOOKUP(B1199,誕生日花!E:F,2,FALSE),\"\"))","v":"2016-03-04"}]
["風信子","ヒヤシンス","ピンク","しとやかなかわいらしさ",{"$f":"IFERROR(MATCH(B1200,誕生月花!$B$2:$B$13,0),\"\")","v":""},{"$f":"IFERROR(VLOOKUP(B1200&C1200,誕生日花!E:F,2,FALSE),IFERROR(VLOOKUP(B1200,誕生日花!E:F,2,FALSE),\"\"))","v":"2016-03-04"}]
["風信子","ヒヤシンス","黄","勝負",{"$f":"IFERROR(MATCH(B1201,誕生月花!$B$2:$B$13,0),\"\")","v":""},{"$f":"IFERROR(VLOOKUP(B1201&C1201,誕生日花!E:F,2,FALSE),IFERROR(VLOOKUP(B1201,誕生日花!E:F,2,FALSE),\"\"))","v":""}]
["風信子","ヒヤシンス","黄","あなたとなら幸せ",{"$f":"IFERROR(MATCH(B1202,誕生月花!$B$2:$B$13,0),\"\")","v":""},{"$f":"IFERROR(VLOOKUP(B1202&C1202,誕生日花!E:F,2,FALSE),IFERROR(VLOOKUP(B1202,誕生日花!E:F,2,FALSE),\"\"))","v":""}]
["風信子","ヒヤシンス","紫","悲哀",{"$f":"IFERROR(MATCH(B1203,誕生月花!$B$2:$B$13,0),\"\")","v":""},{"$f":"IFERROR(VLOOKUP(B1203&C1203,誕生日花!E:F,2,FALSE),IFERROR(VLOOKUP(B1203,誕生日花!E:F,2,FALSE),\"\"))","v":"2016-01-24"}]
["風信子","ヒヤシンス","紫","初恋のひたむきさ",{"$f":"IFERROR(MATCH(B1204,誕生月花!$B$2:$B$13,0),\"\")","v":""},{"$f":"IFERROR(VLOOKUP(B1204&C1204,誕生日花!E:F,2,FALSE),IFERROR(VLOOKUP(B1204,誕生日花!E:F,2,FALSE),\"\"))","v":"2016-01-24"}]
["風信子","ヒヤシンス","紫","悲しみ",{"$f":"IFERROR(MATCH(B1205,誕生月花!$B$2:$B$13,0),\"\")","v":""},{"$f":"IFERROR(VLOOKUP(B1205&C1205,誕生日花!E:F,2,FALSE),IFERROR(VLOOKUP(B1205,誕生日花!E:F,2,FALSE),\"\"))","v":"2016-01-24"}]
["風信子","ヒヤシンス","青","想像力",{"$f":"IFERROR(MATCH(B1206,誕生月花!$B$2:$B$13,0),\"\")","v":""},{"$f":"IFERROR(VLOOKUP(B1206&C1206,誕生日花!E:F,2,FALSE),IFERROR(VLOOKUP(B1206,誕生日花!E:F,2,FALSE),\"\"))","v":""}]
["風信子","ヒヤシンス","青","変わらぬ愛",{"$f":"IFERROR(MATCH(B1207,誕生月花!$B$2:$B$13,0),\"\")","v":""},{"$f":"IFERROR(VLOOKUP(B1207&C1207,誕生日花!E:F,2,FALSE),IFERROR(VLOOKUP(B1207,誕生日花!E:F,2,FALSE),\"\"))","v":""}]
["風信子","ヒヤシンス","赤","嫉妬",{"$f":"IFERROR(MATCH(B1208,誕生月花!$B$2:$B$13,0),\"\")","v":""},{"$f":"IFERROR(VLOOKUP(B1208&C1208,誕生日花!E:F,2,FALSE),IFERROR(VLOOKUP(B1208,誕生日花!E:F,2,FALSE),\"\"))","v":""}]
["風信子","ヒヤシンス","白","心静かな愛",{"$f":"IFERROR(MATCH(B1209,誕生月花!$B$2:$B$13,0),\"\")","v":""},{"$f":"IFERROR(VLOOKUP(B1209&C1209,誕生日花!E:F,2,FALSE),IFERROR(VLOOKUP(B1209,誕生日花!E:F,2,FALSE),\"\"))","v":""}]
["風信子","ヒヤシンス","白","控えめな愛らしさ",{"$f":"IFERROR(MATCH(B1210,誕生月花!$B$2:$B$13,0),\"\")","v":""},{"$f":"IFERROR(VLOOKUP(B1210&C1210,誕生日花!E:F,2,FALSE),IFERROR(VLOOKUP(B1210,誕生日花!E:F,2,FALSE),\"\"))","v":""}]
["未央柳","ビヨウヤナギ","","気高さ",{"$f":"IFERROR(MATCH(B1211,誕生月花!$B$2:$B$13,0),\"\")","v":""},{"$f":"IFERROR(VLOOKUP(B1211&C1211,誕生日花!E:F,2,FALSE),IFERROR(VLOOKUP(B1211,誕生日花!E:F,2,FALSE),\"\"))","v":"2016-07-31"}]
["未央柳","ビヨウヤナギ","","多感",{"$f":"IFERROR(MATCH(B1212,誕生月花!$B$2:$B$13,0),\"\")","v":""},{"$f":"IFERROR(VLOOKUP(B1212&C1212,誕生日花!E:F,2,FALSE),IFERROR(VLOOKUP(B1212,誕生日花!E:F,2,FALSE),\"\"))","v":"2016-07-31"}]
["常盤山査子（トキワサンザシ）","ピラカンサ","","陽気",{"$f":"IFERROR(MATCH(B1213,誕生月花!$B$2:$B$13,0),\"\")","v":""},{"$f":"IFERROR(VLOOKUP(B1213&C1213,誕生日花!E:F,2,FALSE),IFERROR(VLOOKUP(B1213,誕生日花!E:F,2,FALSE),\"\"))","v":"2016-11-04"}]
["昼顔","ヒルガオ","","優しい愛情",{"$f":"IFERROR(MATCH(B1214,誕生月花!$B$2:$B$13,0),\"\")","v":""},{"$f":"IFERROR(VLOOKUP(B1214&C1214,誕生日花!E:F,2,FALSE),IFERROR(VLOOKUP(B1214,誕生日花!E:F,2,FALSE),\"\"))","v":""}]
["昼顔","ヒルガオ","","情事",{"$f":"IFERROR(MATCH(B1215,誕生月花!$B$2:$B$13,0),\"\")","v":""},{"$f":"IFERROR(VLOOKUP(B1215&C1215,誕生日花!E:F,2,FALSE),IFERROR(VLOOKUP(B1215,誕生日花!E:F,2,FALSE),\"\"))","v":""}]
["昼顔","ヒルガオ","","友達のよしみ",{"$f":"IFERROR(MATCH(B1216,誕生月花!$B$2:$B$13,0),\"\")","v":""},{"$f":"IFERROR(VLOOKUP(B1216&C1216,誕生日花!E:F,2,FALSE),IFERROR(VLOOKUP(B1216,誕生日花!E:F,2,FALSE),\"\"))","v":""}]
["昼顔","ヒルガオ","","絆",{"$f":"IFERROR(MATCH(B1217,誕生月花!$B$2:$B$13,0),\"\")","v":""},{"$f":"IFERROR(VLOOKUP(B1217&C1217,誕生日花!E:F,2,FALSE),IFERROR(VLOOKUP(B1217,誕生日花!E:F,2,FALSE),\"\"))","v":""}]
["枇杷","ビワ","","愛の記憶",{"$f":"IFERROR(MATCH(B1218,誕生月花!$B$2:$B$13,0),\"\")","v":""},{"$f":"IFERROR(VLOOKUP(B1218&C1218,誕生日花!E:F,2,FALSE),IFERROR(VLOOKUP(B1218,誕生日花!E:F,2,FALSE),\"\"))","v":"2016-02-06"}]
["夏白菊（ナツシロギク）","フィーバーフュー","","不死",{"$f":"IFERROR(MATCH(B1219,誕生月花!$B$2:$B$13,0),\"\")","v":""},{"$f":"IFERROR(VLOOKUP(B1219&C1219,誕生日花!E:F,2,FALSE),IFERROR(VLOOKUP(B1219,誕生日花!E:F,2,FALSE),\"\"))","v":""}]
["筏葛（イカダカズラ）","ブーゲンビリア","","ドラマチックな恋",{"$f":"IFERROR(MATCH(B1220,誕生月花!$B$2:$B$13,0),\"\")","v":""},{"$f":"IFERROR(VLOOKUP(B1220&C1220,誕生日花!E:F,2,FALSE),IFERROR(VLOOKUP(B1220,誕生日花!E:F,2,FALSE),\"\"))","v":"2016-06-14"}]
["筏葛（イカダカズラ）","ブーゲンビリア","","あなたしか見えない",{"$f":"IFERROR(MATCH(B1221,誕生月花!$B$2:$B$13,0),\"\")","v":""},{"$f":"IFERROR(VLOOKUP(B1221&C1221,誕生日花!E:F,2,FALSE),IFERROR(VLOOKUP(B1221,誕生日花!E:F,2,FALSE),\"\"))","v":"2016-06-14"}]
["筏葛（イカダカズラ）","ブーゲンビリア","","あなたは魅力に満ちている",{"$f":"IFERROR(MATCH(B1222,誕生月花!$B$2:$B$13,0),\"\")","v":""},{"$f":"IFERROR(VLOOKUP(B1222&C1222,誕生日花!E:F,2,FALSE),IFERROR(VLOOKUP(B1222,誕生日花!E:F,2,FALSE),\"\"))","v":"2016-06-14"}]
["筏葛（イカダカズラ）","ブーゲンビリア","","情熱",{"$f":"IFERROR(MATCH(B1223,誕生月花!$B$2:$B$13,0),\"\")","v":""},{"$f":"IFERROR(VLOOKUP(B1223&C1223,誕生日花!E:F,2,FALSE),IFERROR(VLOOKUP(B1223,誕生日花!E:F,2,FALSE),\"\"))","v":"2016-06-14"}]
["風船葛","フウセンカズラ","","一緒に飛びたい",{"$f":"IFERROR(MATCH(B1224,誕生月花!$B$2:$B$13,0),\"\")","v":""},{"$f":"IFERROR(VLOOKUP(B1224&C1224,誕生日花!E:F,2,FALSE),IFERROR(VLOOKUP(B1224,誕生日花!E:F,2,FALSE),\"\"))","v":"2016-09-27"}]
["風船唐綿","フウセンダマノキ","","繁栄",{"$f":"IFERROR(MATCH(B1225,誕生月花!$B$2:$B$13,0),\"\")","v":""},{"$f":"IFERROR(VLOOKUP(B1225&C1225,誕生日花!E:F,2,FALSE),IFERROR(VLOOKUP(B1225,誕生日花!E:F,2,FALSE),\"\"))","v":"2016-11-01"}]
["茴香（ウイキョウ）","フェンネル","","称賛",{"$f":"IFERROR(MATCH(B1226,誕生月花!$B$2:$B$13,0),\"\")","v":""},{"$f":"IFERROR(VLOOKUP(B1226&C1226,誕生日花!E:F,2,FALSE),IFERROR(VLOOKUP(B1226,誕生日花!E:F,2,FALSE),\"\"))","v":""}]
["釣浮草（ツリウキソウ）","フクシア","","趣味",{"$f":"IFERROR(MATCH(B1227,誕生月花!$B$2:$B$13,0),\"\")","v":""},{"$f":"IFERROR(VLOOKUP(B1227&C1227,誕生日花!E:F,2,FALSE),IFERROR(VLOOKUP(B1227,誕生日花!E:F,2,FALSE),\"\"))","v":"2016-05-14"}]
["釣浮草（ツリウキソウ）","フクシア","","つつましい愛",{"$f":"IFERROR(MATCH(B1228,誕生月花!$B$2:$B$13,0),\"\")","v":""},{"$f":"IFERROR(VLOOKUP(B1228&C1228,誕生日花!E:F,2,FALSE),IFERROR(VLOOKUP(B1228,誕生日花!E:F,2,FALSE),\"\"))","v":"2016-05-14"}]
["釣浮草（ツリウキソウ）","フクシア","","信じる愛",{"$f":"IFERROR(MATCH(B1229,誕生月花!$B$2:$B$13,0),\"\")","v":""},{"$f":"IFERROR(VLOOKUP(B1229&C1229,誕生日花!E:F,2,FALSE),IFERROR(VLOOKUP(B1229,誕生日花!E:F,2,FALSE),\"\"))","v":"2016-05-14"}]
["釣浮草（ツリウキソウ）","フクシア","深紅","好み",{"$f":"IFERROR(MATCH(B1230,誕生月花!$B$2:$B$13,0),\"\")","v":""},{"$f":"IFERROR(VLOOKUP(B1230&C1230,誕生日花!E:F,2,FALSE),IFERROR(VLOOKUP(B1230,誕生日花!E:F,2,FALSE),\"\"))","v":"2016-05-14"}]
["福寿草","フクジュソウ","","幸福をつかむ",{"$f":"IFERROR(MATCH(B1231,誕生月花!$B$2:$B$13,0),\"\")","v":""},{"$f":"IFERROR(VLOOKUP(B1231&C1231,誕生日花!E:F,2,FALSE),IFERROR(VLOOKUP(B1231,誕生日花!E:F,2,FALSE),\"\"))","v":"2016-01-01"}]
["福寿草","フクジュソウ","","永久の幸福",{"$f":"IFERROR(MATCH(B1232,誕生月花!$B$2:$B$13,0),\"\")","v":""},{"$f":"IFERROR(VLOOKUP(B1232&C1232,誕生日花!E:F,2,FALSE),IFERROR(VLOOKUP(B1232,誕生日花!E:F,2,FALSE),\"\"))","v":"2016-01-01"}]
["福寿草","フクジュソウ","","幸せを招く",{"$f":"IFERROR(MATCH(B1233,誕生月花!$B$2:$B$13,0),\"\")","v":""},{"$f":"IFERROR(VLOOKUP(B1233&C1233,誕生日花!E:F,2,FALSE),IFERROR(VLOOKUP(B1233,誕生日花!E:F,2,FALSE),\"\"))","v":"2016-01-01"}]
["福寿草","フクジュソウ","","悲しき思い出",{"$f":"IFERROR(MATCH(B1234,誕生月花!$B$2:$B$13,0),\"\")","v":""},{"$f":"IFERROR(VLOOKUP(B1234&C1234,誕生日花!E:F,2,FALSE),IFERROR(VLOOKUP(B1234,誕生日花!E:F,2,FALSE),\"\"))","v":"2016-01-01"}]
["藤","フジ","","歓迎",{"$f":"IFERROR(MATCH(B1235,誕生月花!$B$2:$B$13,0),\"\")","v":""},{"$f":"IFERROR(VLOOKUP(B1235&C1235,誕生日花!E:F,2,FALSE),IFERROR(VLOOKUP(B1235,誕生日花!E:F,2,FALSE),\"\"))","v":"2016-04-08"}]
["藤","フジ","","決して離れない",{"$f":"IFERROR(MATCH(B1236,誕生月花!$B$2:$B$13,0),\"\")","v":""},{"$f":"IFERROR(VLOOKUP(B1236&C1236,誕生日花!E:F,2,FALSE),IFERROR(VLOOKUP(B1236,誕生日花!E:F,2,FALSE),\"\"))","v":"2016-04-08"}]
["藤","フジ","","優しさ",{"$f":"IFERROR(MATCH(B1237,誕生月花!$B$2:$B$13,0),\"\")","v":""},{"$f":"IFERROR(VLOOKUP(B1237&C1237,誕生日花!E:F,2,FALSE),IFERROR(VLOOKUP(B1237,誕生日花!E:F,2,FALSE),\"\"))","v":"2016-04-08"}]
["藤","フジ","","恋に酔う",{"$f":"IFERROR(MATCH(B1238,誕生月花!$B$2:$B$13,0),\"\")","v":""},{"$f":"IFERROR(VLOOKUP(B1238&C1238,誕生日花!E:F,2,FALSE),IFERROR(VLOOKUP(B1238,誕生日花!E:F,2,FALSE),\"\"))","v":"2016-04-08"}]
["藤の花","フジノハナ","","あなたに夢中",{"$f":"IFERROR(MATCH(B1239,誕生月花!$B$2:$B$13,0),\"\")","v":""},{"$f":"IFERROR(VLOOKUP(B1239&C1239,誕生日花!E:F,2,FALSE),IFERROR(VLOOKUP(B1239,誕生日花!E:F,2,FALSE),\"\"))","v":""}]
["藤袴","フジバカマ","","ためらい",{"$f":"IFERROR(MATCH(B1240,誕生月花!$B$2:$B$13,0),\"\")","v":""},{"$f":"IFERROR(VLOOKUP(B1240&C1240,誕生日花!E:F,2,FALSE),IFERROR(VLOOKUP(B1240,誕生日花!E:F,2,FALSE),\"\"))","v":"2016-10-15"}]
["藤袴","フジバカマ","","遅れ",{"$f":"IFERROR(MATCH(B1241,誕生月花!$B$2:$B$13,0),\"\")","v":""},{"$f":"IFERROR(VLOOKUP(B1241&C1241,誕生日花!E:F,2,FALSE),IFERROR(VLOOKUP(B1241,誕生日花!E:F,2,FALSE),\"\"))","v":"2016-10-15"}]
["藤空木（フジウツギ）","ブッドレア","","信仰心",{"$f":"IFERROR(MATCH(B1242,誕生月花!$B$2:$B$13,0),\"\")","v":""},{"$f":"IFERROR(VLOOKUP(B1242&C1242,誕生日花!E:F,2,FALSE),IFERROR(VLOOKUP(B1242,誕生日花!E:F,2,FALSE),\"\"))","v":""}]
["藤空木（フジウツギ）","ブッドレア","","あなたを慕う",{"$f":"IFERROR(MATCH(B1243,誕生月花!$B$2:$B$13,0),\"\")","v":""},{"$f":"IFERROR(VLOOKUP(B1243&C1243,誕生日花!E:F,2,FALSE),IFERROR(VLOOKUP(B1243,誕生日花!E:F,2,FALSE),\"\"))","v":""}]
["藤空木（フジウツギ）","ブッドレア","","恋の予感",{"$f":"IFERROR(MATCH(B1244,誕生月花!$B$2:$B$13,0),\"\")","v":""},{"$f":"IFERROR(VLOOKUP(B1244&C1244,誕生日花!E:F,2,FALSE),IFERROR(VLOOKUP(B1244,誕生日花!E:F,2,FALSE),\"\"))","v":""}]
["葡萄","ブドウ","","元気",{"$f":"IFERROR(MATCH(B1245,誕生月花!$B$2:$B$13,0),\"\")","v":""},{"$f":"IFERROR(VLOOKUP(B1245&C1245,誕生日花!E:F,2,FALSE),IFERROR(VLOOKUP(B1245,誕生日花!E:F,2,FALSE),\"\"))","v":""}]
["葡萄","ブドウ","","思いやり",{"$f":"IFERROR(MATCH(B1246,誕生月花!$B$2:$B$13,0),\"\")","v":""},{"$f":"IFERROR(VLOOKUP(B1246&C1246,誕生日花!E:F,2,FALSE),IFERROR(VLOOKUP(B1246,誕生日花!E:F,2,FALSE),\"\"))","v":""}]
["葡萄","ブドウ","","慈善",{"$f":"IFERROR(MATCH(B1247,誕生月花!$B$2:$B$13,0),\"\")","v":""},{"$f":"IFERROR(VLOOKUP(B1247&C1247,誕生日花!E:F,2,FALSE),IFERROR(VLOOKUP(B1247,誕生日花!E:F,2,FALSE),\"\"))","v":""}]
["葡萄","ブドウ","","陶酔",{"$f":"IFERROR(MATCH(B1248,誕生月花!$B$2:$B$13,0),\"\")","v":""},{"$f":"IFERROR(VLOOKUP(B1248&C1248,誕生日花!E:F,2,FALSE),IFERROR(VLOOKUP(B1248,誕生日花!E:F,2,FALSE),\"\"))","v":""}]
["葡萄","ブドウ","","忘却",{"$f":"IFERROR(MATCH(B1249,誕生月花!$B$2:$B$13,0),\"\")","v":""},{"$f":"IFERROR(VLOOKUP(B1249&C1249,誕生日花!E:F,2,FALSE),IFERROR(VLOOKUP(B1249,誕生日花!E:F,2,FALSE),\"\"))","v":""}]
["管丁字（カンチョウジ）","ブバルディア","","交流",{"$f":"IFERROR(MATCH(B1250,誕生月花!$B$2:$B$13,0),\"\")","v":""},{"$f":"IFERROR(VLOOKUP(B1250&C1250,誕生日花!E:F,2,FALSE),IFERROR(VLOOKUP(B1250,誕生日花!E:F,2,FALSE),\"\"))","v":"2016-12-06"}]
["管丁字（カンチョウジ）","ブバルディア","","情熱",{"$f":"IFERROR(MATCH(B1251,誕生月花!$B$2:$B$13,0),\"\")","v":""},{"$f":"IFERROR(VLOOKUP(B1251&C1251,誕生日花!E:F,2,FALSE),IFERROR(VLOOKUP(B1251,誕生日花!E:F,2,FALSE),\"\"))","v":"2016-12-06"}]
["管丁字（カンチョウジ）","ブバルディア","","親交",{"$f":"IFERROR(MATCH(B1252,誕生月花!$B$2:$B$13,0),\"\")","v":""},{"$f":"IFERROR(VLOOKUP(B1252&C1252,誕生日花!E:F,2,FALSE),IFERROR(VLOOKUP(B1252,誕生日花!E:F,2,FALSE),\"\"))","v":"2016-12-06"}]
["冬桜","フユザクラ","","冷静",{"$f":"IFERROR(MATCH(B1253,誕生月花!$B$2:$B$13,0),\"\")","v":""},{"$f":"IFERROR(VLOOKUP(B1253&C1253,誕生日花!E:F,2,FALSE),IFERROR(VLOOKUP(B1253,誕生日花!E:F,2,FALSE),\"\"))","v":""}]
["冬牡丹","フユボタン","","高貴",{"$f":"IFERROR(MATCH(B1254,誕生月花!$B$2:$B$13,0),\"\")","v":""},{"$f":"IFERROR(VLOOKUP(B1254&C1254,誕生日花!E:F,2,FALSE),IFERROR(VLOOKUP(B1254,誕生日花!E:F,2,FALSE),\"\"))","v":"2016-11-24"}]
["芙蓉","フヨウ","","繊細な美",{"$f":"IFERROR(MATCH(B1255,誕生月花!$B$2:$B$13,0),\"\")","v":""},{"$f":"IFERROR(VLOOKUP(B1255&C1255,誕生日花!E:F,2,FALSE),IFERROR(VLOOKUP(B1255,誕生日花!E:F,2,FALSE),\"\"))","v":""}]
["芙蓉","フヨウ","","しとやかな恋人",{"$f":"IFERROR(MATCH(B1256,誕生月花!$B$2:$B$13,0),\"\")","v":""},{"$f":"IFERROR(VLOOKUP(B1256&C1256,誕生日花!E:F,2,FALSE),IFERROR(VLOOKUP(B1256,誕生日花!E:F,2,FALSE),\"\"))","v":""}]
["ブライダルベール","ブライダルベール","","願い続ける",{"$f":"IFERROR(MATCH(B1257,誕生月花!$B$2:$B$13,0),\"\")","v":""},{"$f":"IFERROR(VLOOKUP(B1257&C1257,誕生日花!E:F,2,FALSE),IFERROR(VLOOKUP(B1257,誕生日花!E:F,2,FALSE),\"\"))","v":"2016-05-19"}]
["ブライダルベール","ブライダルベール","","幸福",{"$f":"IFERROR(MATCH(B1258,誕生月花!$B$2:$B$13,0),\"\")","v":""},{"$f":"IFERROR(VLOOKUP(B1258&C1258,誕生日花!E:F,2,FALSE),IFERROR(VLOOKUP(B1258,誕生日花!E:F,2,FALSE),\"\"))","v":"2016-05-19"}]
["姫秋桜（ヒメコスモス）","ブラキカム","","自由な美",{"$f":"IFERROR(MATCH(B1259,誕生月花!$B$2:$B$13,0),\"\")","v":""},{"$f":"IFERROR(VLOOKUP(B1259&C1259,誕生日花!E:F,2,FALSE),IFERROR(VLOOKUP(B1259,誕生日花!E:F,2,FALSE),\"\"))","v":""}]
["篠懸の木（スズカケノキ）","プラタナス","","好奇心",{"$f":"IFERROR(MATCH(B1260,誕生月花!$B$2:$B$13,0),\"\")","v":""},{"$f":"IFERROR(VLOOKUP(B1260&C1260,誕生日花!E:F,2,FALSE),IFERROR(VLOOKUP(B1260,誕生日花!E:F,2,FALSE),\"\"))","v":""}]
["篠懸の木（スズカケノキ）","プラタナス","","天才",{"$f":"IFERROR(MATCH(B1261,誕生月花!$B$2:$B$13,0),\"\")","v":""},{"$f":"IFERROR(VLOOKUP(B1261&C1261,誕生日花!E:F,2,FALSE),IFERROR(VLOOKUP(B1261,誕生日花!E:F,2,FALSE),\"\"))","v":""}]
["浅黄水仙（アサギスイセン）","フリージア","","純潔",{"$f":"IFERROR(MATCH(B1262,誕生月花!$B$2:$B$13,0),\"\")","v":2},{"$f":"IFERROR(VLOOKUP(B1262&C1262,誕生日花!E:F,2,FALSE),IFERROR(VLOOKUP(B1262,誕生日花!E:F,2,FALSE),\"\"))","v":""}]
["浅黄水仙（アサギスイセン）","フリージア","","親愛の情",{"$f":"IFERROR(MATCH(B1263,誕生月花!$B$2:$B$13,0),\"\")","v":2},{"$f":"IFERROR(VLOOKUP(B1263&C1263,誕生日花!E:F,2,FALSE),IFERROR(VLOOKUP(B1263,誕生日花!E:F,2,FALSE),\"\"))","v":""}]
["浅黄水仙（アサギスイセン）","フリージア","","あどけなさ",{"$f":"IFERROR(MATCH(B1264,誕生月花!$B$2:$B$13,0),\"\")","v":2},{"$f":"IFERROR(VLOOKUP(B1264&C1264,誕生日花!E:F,2,FALSE),IFERROR(VLOOKUP(B1264,誕生日花!E:F,2,FALSE),\"\"))","v":""}]
["浅黄水仙（アサギスイセン）","フリージア","黄","澄んだ心",{"$f":"IFERROR(MATCH(B1265,誕生月花!$B$2:$B$13,0),\"\")","v":2},{"$f":"IFERROR(VLOOKUP(B1265&C1265,誕生日花!E:F,2,FALSE),IFERROR(VLOOKUP(B1265,誕生日花!E:F,2,FALSE),\"\"))","v":"2016-02-01"}]
["浅黄水仙（アサギスイセン）","フリージア","紫","憧れ",{"$f":"IFERROR(MATCH(B1266,誕生月花!$B$2:$B$13,0),\"\")","v":2},{"$f":"IFERROR(VLOOKUP(B1266&C1266,誕生日花!E:F,2,FALSE),IFERROR(VLOOKUP(B1266,誕生日花!E:F,2,FALSE),\"\"))","v":""}]
["浅黄水仙（アサギスイセン）","フリージア","白","無邪気",{"$f":"IFERROR(MATCH(B1267,誕生月花!$B$2:$B$13,0),\"\")","v":2},{"$f":"IFERROR(VLOOKUP(B1267&C1267,誕生日花!E:F,2,FALSE),IFERROR(VLOOKUP(B1267,誕生日花!E:F,2,FALSE),\"\"))","v":"2016-02-16"}]
["蔦瓜（ツタウリ）","ブリオニア","","幸せの選択",{"$f":"IFERROR(MATCH(B1268,誕生月花!$B$2:$B$13,0),\"\")","v":""},{"$f":"IFERROR(VLOOKUP(B1268&C1268,誕生日花!E:F,2,FALSE),IFERROR(VLOOKUP(B1268,誕生日花!E:F,2,FALSE),\"\"))","v":""}]
["乙女桜（オトメザクラ）","プリムラ","","青春のはじまりと悲しみ",{"$f":"IFERROR(MATCH(B1269,誕生月花!$B$2:$B$13,0),\"\")","v":""},{"$f":"IFERROR(VLOOKUP(B1269&C1269,誕生日花!E:F,2,FALSE),IFERROR(VLOOKUP(B1269,誕生日花!E:F,2,FALSE),\"\"))","v":""}]
["乙女桜（オトメザクラ）","プリムラ","","青春の恋",{"$f":"IFERROR(MATCH(B1270,誕生月花!$B$2:$B$13,0),\"\")","v":""},{"$f":"IFERROR(VLOOKUP(B1270&C1270,誕生日花!E:F,2,FALSE),IFERROR(VLOOKUP(B1270,誕生日花!E:F,2,FALSE),\"\"))","v":""}]
["乙女桜（オトメザクラ）","プリムラ","","初恋",{"$f":"IFERROR(MATCH(B1271,誕生月花!$B$2:$B$13,0),\"\")","v":""},{"$f":"IFERROR(VLOOKUP(B1271&C1271,誕生日花!E:F,2,FALSE),IFERROR(VLOOKUP(B1271,誕生日花!E:F,2,FALSE),\"\"))","v":""}]
["乙女桜（オトメザクラ）","プリムラ","オブコニカ","少年時代の希望",{"$f":"IFERROR(MATCH(B1272,誕生月花!$B$2:$B$13,0),\"\")","v":""},{"$f":"IFERROR(VLOOKUP(B1272&C1272,誕生日花!E:F,2,FALSE),IFERROR(VLOOKUP(B1272,誕生日花!E:F,2,FALSE),\"\"))","v":"2016-03-26"}]
["乙女桜（オトメザクラ）","プリムラ","オブコニカ","しとやかな人",{"$f":"IFERROR(MATCH(B1273,誕生月花!$B$2:$B$13,0),\"\")","v":""},{"$f":"IFERROR(VLOOKUP(B1273&C1273,誕生日花!E:F,2,FALSE),IFERROR(VLOOKUP(B1273,誕生日花!E:F,2,FALSE),\"\"))","v":"2016-03-26"}]
["乙女桜（オトメザクラ）","プリムラ","オブコニカ","青春の美しさ",{"$f":"IFERROR(MATCH(B1274,誕生月花!$B$2:$B$13,0),\"\")","v":""},{"$f":"IFERROR(VLOOKUP(B1274&C1274,誕生日花!E:F,2,FALSE),IFERROR(VLOOKUP(B1274,誕生日花!E:F,2,FALSE),\"\"))","v":"2016-03-26"}]
["乙女桜（オトメザクラ）","プリムラ","シネンシス","永遠の愛情",{"$f":"IFERROR(MATCH(B1275,誕生月花!$B$2:$B$13,0),\"\")","v":""},{"$f":"IFERROR(VLOOKUP(B1275&C1275,誕生日花!E:F,2,FALSE),IFERROR(VLOOKUP(B1275,誕生日花!E:F,2,FALSE),\"\"))","v":""}]
["乙女桜（オトメザクラ）","プリムラ","ジュリアン","神秘的な心",{"$f":"IFERROR(MATCH(B1276,誕生月花!$B$2:$B$13,0),\"\")","v":""},{"$f":"IFERROR(VLOOKUP(B1276&C1276,誕生日花!E:F,2,FALSE),IFERROR(VLOOKUP(B1276,誕生日花!E:F,2,FALSE),\"\"))","v":"2016-02-19"}]
["乙女桜（オトメザクラ）","プリムラ","ジュリアン","青春の喜びと悲しみ",{"$f":"IFERROR(MATCH(B1277,誕生月花!$B$2:$B$13,0),\"\")","v":""},{"$f":"IFERROR(VLOOKUP(B1277&C1277,誕生日花!E:F,2,FALSE),IFERROR(VLOOKUP(B1277,誕生日花!E:F,2,FALSE),\"\"))","v":"2016-02-19"}]
["乙女桜（オトメザクラ）","プリムラ","ポリアンサ","運命を切り開く",{"$f":"IFERROR(MATCH(B1278,誕生月花!$B$2:$B$13,0),\"\")","v":""},{"$f":"IFERROR(VLOOKUP(B1278&C1278,誕生日花!E:F,2,FALSE),IFERROR(VLOOKUP(B1278,誕生日花!E:F,2,FALSE),\"\"))","v":"2016-02-04"}]
["乙女桜（オトメザクラ）","プリムラ","ポリアンサ","富の誇り",{"$f":"IFERROR(MATCH(B1279,誕生月花!$B$2:$B$13,0),\"\")","v":""},{"$f":"IFERROR(VLOOKUP(B1279&C1279,誕生日花!E:F,2,FALSE),IFERROR(VLOOKUP(B1279,誕生日花!E:F,2,FALSE),\"\"))","v":"2016-02-04"}]
["乙女桜（オトメザクラ）","プリムラ","ポリアンサ","無言の愛",{"$f":"IFERROR(MATCH(B1280,誕生月花!$B$2:$B$13,0),\"\")","v":""},{"$f":"IFERROR(VLOOKUP(B1280&C1280,誕生日花!E:F,2,FALSE),IFERROR(VLOOKUP(B1280,誕生日花!E:F,2,FALSE),\"\"))","v":"2016-02-04"}]
["乙女桜（オトメザクラ）","プリムラ","マラコイデス","気取らない愛",{"$f":"IFERROR(MATCH(B1281,誕生月花!$B$2:$B$13,0),\"\")","v":""},{"$f":"IFERROR(VLOOKUP(B1281&C1281,誕生日花!E:F,2,FALSE),IFERROR(VLOOKUP(B1281,誕生日花!E:F,2,FALSE),\"\"))","v":""}]
["乙女桜（オトメザクラ）","プリムラ","マラコイデス","素朴",{"$f":"IFERROR(MATCH(B1282,誕生月花!$B$2:$B$13,0),\"\")","v":""},{"$f":"IFERROR(VLOOKUP(B1282&C1282,誕生日花!E:F,2,FALSE),IFERROR(VLOOKUP(B1282,誕生日花!E:F,2,FALSE),\"\"))","v":""}]
["乙女桜（オトメザクラ）","プリムラ","桜草","若い時代と苦悩",{"$f":"IFERROR(MATCH(B1283,誕生月花!$B$2:$B$13,0),\"\")","v":""},{"$f":"IFERROR(VLOOKUP(B1283&C1283,誕生日花!E:F,2,FALSE),IFERROR(VLOOKUP(B1283,誕生日花!E:F,2,FALSE),\"\"))","v":""}]
["乙女桜（オトメザクラ）","プリムラ","紫","信頼",{"$f":"IFERROR(MATCH(B1284,誕生月花!$B$2:$B$13,0),\"\")","v":""},{"$f":"IFERROR(VLOOKUP(B1284&C1284,誕生日花!E:F,2,FALSE),IFERROR(VLOOKUP(B1284,誕生日花!E:F,2,FALSE),\"\"))","v":""}]
["乙女桜（オトメザクラ）","プリムラ","赤","美の秘密",{"$f":"IFERROR(MATCH(B1285,誕生月花!$B$2:$B$13,0),\"\")","v":""},{"$f":"IFERROR(VLOOKUP(B1285&C1285,誕生日花!E:F,2,FALSE),IFERROR(VLOOKUP(B1285,誕生日花!E:F,2,FALSE),\"\"))","v":""}]
["乙女桜（オトメザクラ）","プリムラ","赤","後援のない功績",{"$f":"IFERROR(MATCH(B1286,誕生月花!$B$2:$B$13,0),\"\")","v":""},{"$f":"IFERROR(VLOOKUP(B1286&C1286,誕生日花!E:F,2,FALSE),IFERROR(VLOOKUP(B1286,誕生日花!E:F,2,FALSE),\"\"))","v":""}]
["乙女桜（オトメザクラ）","プリムラ","白","正当",{"$f":"IFERROR(MATCH(B1287,誕生月花!$B$2:$B$13,0),\"\")","v":""},{"$f":"IFERROR(VLOOKUP(B1287&C1287,誕生日花!E:F,2,FALSE),IFERROR(VLOOKUP(B1287,誕生日花!E:F,2,FALSE),\"\"))","v":""}]
["瑠璃唐綿（ルリトウワタ）","ブルースター","","幸福な愛",{"$f":"IFERROR(MATCH(B1288,誕生月花!$B$2:$B$13,0),\"\")","v":""},{"$f":"IFERROR(VLOOKUP(B1288&C1288,誕生日花!E:F,2,FALSE),IFERROR(VLOOKUP(B1288,誕生日花!E:F,2,FALSE),\"\"))","v":"2016-01-04"}]
["瑠璃唐綿（ルリトウワタ）","ブルースター","","信じあう心",{"$f":"IFERROR(MATCH(B1289,誕生月花!$B$2:$B$13,0),\"\")","v":""},{"$f":"IFERROR(VLOOKUP(B1289&C1289,誕生日花!E:F,2,FALSE),IFERROR(VLOOKUP(B1289,誕生日花!E:F,2,FALSE),\"\"))","v":"2016-01-04"}]
["瑠璃雛菊（ルリヒナギク）","ブルーデイジー","","協力的",{"$f":"IFERROR(MATCH(B1290,誕生月花!$B$2:$B$13,0),\"\")","v":""},{"$f":"IFERROR(VLOOKUP(B1290&C1290,誕生日花!E:F,2,FALSE),IFERROR(VLOOKUP(B1290,誕生日花!E:F,2,FALSE),\"\"))","v":"2016-01-14"}]
["瑠璃雛菊（ルリヒナギク）","ブルーデイジー","","協力",{"$f":"IFERROR(MATCH(B1291,誕生月花!$B$2:$B$13,0),\"\")","v":""},{"$f":"IFERROR(VLOOKUP(B1291&C1291,誕生日花!E:F,2,FALSE),IFERROR(VLOOKUP(B1291,誕生日花!E:F,2,FALSE),\"\"))","v":"2016-01-14"}]
["瑠璃雛菊（ルリヒナギク）","ブルーデイジー","","恵まれている",{"$f":"IFERROR(MATCH(B1292,誕生月花!$B$2:$B$13,0),\"\")","v":""},{"$f":"IFERROR(VLOOKUP(B1292&C1292,誕生日花!E:F,2,FALSE),IFERROR(VLOOKUP(B1292,誕生日花!E:F,2,FALSE),\"\"))","v":"2016-01-14"}]
["瑠璃雛菊（ルリヒナギク）","ブルーデイジー","","幸福",{"$f":"IFERROR(MATCH(B1293,誕生月花!$B$2:$B$13,0),\"\")","v":""},{"$f":"IFERROR(VLOOKUP(B1293&C1293,誕生日花!E:F,2,FALSE),IFERROR(VLOOKUP(B1293,誕生日花!E:F,2,FALSE),\"\"))","v":"2016-01-14"}]
["沼酸塊（ヌマスグリ）","ブルーベリー","","実りのある人生",{"$f":"IFERROR(MATCH(B1294,誕生月花!$B$2:$B$13,0),\"\")","v":""},{"$f":"IFERROR(VLOOKUP(B1294&C1294,誕生日花!E:F,2,FALSE),IFERROR(VLOOKUP(B1294,誕生日花!E:F,2,FALSE),\"\"))","v":""}]
["沼酸塊（ヌマスグリ）","ブルーベリー","","知性",{"$f":"IFERROR(MATCH(B1295,誕生月花!$B$2:$B$13,0),\"\")","v":""},{"$f":"IFERROR(VLOOKUP(B1295&C1295,誕生日花!E:F,2,FALSE),IFERROR(VLOOKUP(B1295,誕生日花!E:F,2,FALSE),\"\"))","v":""}]
["沼酸塊（ヌマスグリ）","ブルーベル","","謙遜",{"$f":"IFERROR(MATCH(B1296,誕生月花!$B$2:$B$13,0),\"\")","v":""},{"$f":"IFERROR(VLOOKUP(B1296&C1296,誕生日花!E:F,2,FALSE),IFERROR(VLOOKUP(B1296,誕生日花!E:F,2,FALSE),\"\"))","v":""}]
["沼酸塊（ヌマスグリ）","ブルーベル","","変わらぬ心",{"$f":"IFERROR(MATCH(B1297,誕生月花!$B$2:$B$13,0),\"\")","v":""},{"$f":"IFERROR(VLOOKUP(B1297&C1297,誕生日花!E:F,2,FALSE),IFERROR(VLOOKUP(B1297,誕生日花!E:F,2,FALSE),\"\"))","v":""}]
["空色（ソライロ）","ブルーレースフラワー","","無言の愛",{"$f":"IFERROR(MATCH(B1298,誕生月花!$B$2:$B$13,0),\"\")","v":""},{"$f":"IFERROR(VLOOKUP(B1298&C1298,誕生日花!E:F,2,FALSE),IFERROR(VLOOKUP(B1298,誕生日花!E:F,2,FALSE),\"\"))","v":"2016-03-17"}]
["インド素馨（インドソケイ）","プルメリア","","恵まれた人",{"$f":"IFERROR(MATCH(B1299,誕生月花!$B$2:$B$13,0),\"\")","v":""},{"$f":"IFERROR(VLOOKUP(B1299&C1299,誕生日花!E:F,2,FALSE),IFERROR(VLOOKUP(B1299,誕生日花!E:F,2,FALSE),\"\"))","v":""}]
["インド素馨（インドソケイ）","プルメリア","","気品",{"$f":"IFERROR(MATCH(B1300,誕生月花!$B$2:$B$13,0),\"\")","v":""},{"$f":"IFERROR(VLOOKUP(B1300&C1300,誕生日花!E:F,2,FALSE),IFERROR(VLOOKUP(B1300,誕生日花!E:F,2,FALSE),\"\"))","v":""}]
["インド素馨（インドソケイ）","プルメリア","","内気な乙女",{"$f":"IFERROR(MATCH(B1301,誕生月花!$B$2:$B$13,0),\"\")","v":""},{"$f":"IFERROR(VLOOKUP(B1301&C1301,誕生日花!E:F,2,FALSE),IFERROR(VLOOKUP(B1301,誕生日花!E:F,2,FALSE),\"\"))","v":""}]
["インド素馨（インドソケイ）","プルメリア","","日だまり",{"$f":"IFERROR(MATCH(B1302,誕生月花!$B$2:$B$13,0),\"\")","v":""},{"$f":"IFERROR(VLOOKUP(B1302&C1302,誕生日花!E:F,2,FALSE),IFERROR(VLOOKUP(B1302,誕生日花!E:F,2,FALSE),\"\"))","v":""}]
["瑠璃茉莉（ルリマツリ）","プルンバゴ","","美意識",{"$f":"IFERROR(MATCH(B1303,誕生月花!$B$2:$B$13,0),\"\")","v":""},{"$f":"IFERROR(VLOOKUP(B1303&C1303,誕生日花!E:F,2,FALSE),IFERROR(VLOOKUP(B1303,誕生日花!E:F,2,FALSE),\"\"))","v":""}]
["霍香薊（カッコウアザミ）","フロスフラワー","","安楽",{"$f":"IFERROR(MATCH(B1304,誕生月花!$B$2:$B$13,0),\"\")","v":""},{"$f":"IFERROR(VLOOKUP(B1304&C1304,誕生日花!E:F,2,FALSE),IFERROR(VLOOKUP(B1304,誕生日花!E:F,2,FALSE),\"\"))","v":"2016-06-21"}]
["花魁草（オイランソウ）","フロックス","","温和",{"$f":"IFERROR(MATCH(B1305,誕生月花!$B$2:$B$13,0),\"\")","v":""},{"$f":"IFERROR(VLOOKUP(B1305&C1305,誕生日花!E:F,2,FALSE),IFERROR(VLOOKUP(B1305,誕生日花!E:F,2,FALSE),\"\"))","v":"2016-05-03"}]
["花魁草（オイランソウ）","フロックス","","一致",{"$f":"IFERROR(MATCH(B1306,誕生月花!$B$2:$B$13,0),\"\")","v":""},{"$f":"IFERROR(VLOOKUP(B1306&C1306,誕生日花!E:F,2,FALSE),IFERROR(VLOOKUP(B1306,誕生日花!E:F,2,FALSE),\"\"))","v":"2016-05-03"}]
["花魁草（オイランソウ）","フロックス","","合意",{"$f":"IFERROR(MATCH(B1307,誕生月花!$B$2:$B$13,0),\"\")","v":""},{"$f":"IFERROR(VLOOKUP(B1307&C1307,誕生日花!E:F,2,FALSE),IFERROR(VLOOKUP(B1307,誕生日花!E:F,2,FALSE),\"\"))","v":"2016-05-03"}]
["榛（ハシバミ）","ヘーゼル","","和解",{"$f":"IFERROR(MATCH(B1308,誕生月花!$B$2:$B$13,0),\"\")","v":""},{"$f":"IFERROR(VLOOKUP(B1308&C1308,誕生日花!E:F,2,FALSE),IFERROR(VLOOKUP(B1308,誕生日花!E:F,2,FALSE),\"\"))","v":""}]
["屁糞葛","ヘクソカズラ","","意外性のある",{"$f":"IFERROR(MATCH(B1309,誕生月花!$B$2:$B$13,0),\"\")","v":""},{"$f":"IFERROR(VLOOKUP(B1309&C1309,誕生日花!E:F,2,FALSE),IFERROR(VLOOKUP(B1309,誕生日花!E:F,2,FALSE),\"\"))","v":""}]
["屁糞葛","ヘクソカズラ","","誤解を解きたい",{"$f":"IFERROR(MATCH(B1310,誕生月花!$B$2:$B$13,0),\"\")","v":""},{"$f":"IFERROR(VLOOKUP(B1310&C1310,誕生日花!E:F,2,FALSE),IFERROR(VLOOKUP(B1310,誕生日花!E:F,2,FALSE),\"\"))","v":""}]
["屁糞葛","ヘクソカズラ","","人嫌い",{"$f":"IFERROR(MATCH(B1311,誕生月花!$B$2:$B$13,0),\"\")","v":""},{"$f":"IFERROR(VLOOKUP(B1311&C1311,誕生日花!E:F,2,FALSE),IFERROR(VLOOKUP(B1311,誕生日花!E:F,2,FALSE),\"\"))","v":""}]
["ベゴニア","ベゴニア","","好きな人",{"$f":"IFERROR(MATCH(B1312,誕生月花!$B$2:$B$13,0),\"\")","v":""},{"$f":"IFERROR(VLOOKUP(B1312&C1312,誕生日花!E:F,2,FALSE),IFERROR(VLOOKUP(B1312,誕生日花!E:F,2,FALSE),\"\"))","v":""}]
["ベゴニア","ベゴニア","","愛の告白",{"$f":"IFERROR(MATCH(B1313,誕生月花!$B$2:$B$13,0),\"\")","v":""},{"$f":"IFERROR(VLOOKUP(B1313&C1313,誕生日花!E:F,2,FALSE),IFERROR(VLOOKUP(B1313,誕生日花!E:F,2,FALSE),\"\"))","v":""}]
["ベゴニア","ベゴニア","","幸福な日々",{"$f":"IFERROR(MATCH(B1314,誕生月花!$B$2:$B$13,0),\"\")","v":""},{"$f":"IFERROR(VLOOKUP(B1314&C1314,誕生日花!E:F,2,FALSE),IFERROR(VLOOKUP(B1314,誕生日花!E:F,2,FALSE),\"\"))","v":""}]
["ベゴニア","ベゴニア","","片想い",{"$f":"IFERROR(MATCH(B1315,誕生月花!$B$2:$B$13,0),\"\")","v":""},{"$f":"IFERROR(VLOOKUP(B1315&C1315,誕生日花!E:F,2,FALSE),IFERROR(VLOOKUP(B1315,誕生日花!E:F,2,FALSE),\"\"))","v":""}]
["ベゴニア","ベゴニア","ピンク","愛の告白",{"$f":"IFERROR(MATCH(B1316,誕生月花!$B$2:$B$13,0),\"\")","v":""},{"$f":"IFERROR(VLOOKUP(B1316&C1316,誕生日花!E:F,2,FALSE),IFERROR(VLOOKUP(B1316,誕生日花!E:F,2,FALSE),\"\"))","v":"2016-12-19"}]
["ベゴニア","ベゴニア","赤","公平",{"$f":"IFERROR(MATCH(B1317,誕生月花!$B$2:$B$13,0),\"\")","v":""},{"$f":"IFERROR(VLOOKUP(B1317&C1317,誕生日花!E:F,2,FALSE),IFERROR(VLOOKUP(B1317,誕生日花!E:F,2,FALSE),\"\"))","v":"2016-07-01"}]
["ベゴニア","ベゴニア","白","親切",{"$f":"IFERROR(MATCH(B1318,誕生月花!$B$2:$B$13,0),\"\")","v":""},{"$f":"IFERROR(VLOOKUP(B1318&C1318,誕生日花!E:F,2,FALSE),IFERROR(VLOOKUP(B1318,誕生日花!E:F,2,FALSE),\"\"))","v":"2016-09-09"}]
["御柳擬キ（ギョウリュウモドキ）","ヘザー","赤","頼もしい",{"$f":"IFERROR(MATCH(B1319,誕生月花!$B$2:$B$13,0),\"\")","v":""},{"$f":"IFERROR(VLOOKUP(B1319&C1319,誕生日花!E:F,2,FALSE),IFERROR(VLOOKUP(B1319,誕生日花!E:F,2,FALSE),\"\"))","v":""}]
["御柳擬キ（ギョウリュウモドキ）","ヘザー","白","追求者",{"$f":"IFERROR(MATCH(B1320,誕生月花!$B$2:$B$13,0),\"\")","v":""},{"$f":"IFERROR(VLOOKUP(B1320&C1320,誕生日花!E:F,2,FALSE),IFERROR(VLOOKUP(B1320,誕生日花!E:F,2,FALSE),\"\"))","v":""}]
["衝羽根朝顔（ツクバネアサガオ）","ペチュニア","","君といると心和む",{"$f":"IFERROR(MATCH(B1321,誕生月花!$B$2:$B$13,0),\"\")","v":""},{"$f":"IFERROR(VLOOKUP(B1321&C1321,誕生日花!E:F,2,FALSE),IFERROR(VLOOKUP(B1321,誕生日花!E:F,2,FALSE),\"\"))","v":"2016-08-02"}]
["衝羽根朝顔（ツクバネアサガオ）","ペチュニア","","あなたと一緒なら心がやわらぐ",{"$f":"IFERROR(MATCH(B1322,誕生月花!$B$2:$B$13,0),\"\")","v":""},{"$f":"IFERROR(VLOOKUP(B1322&C1322,誕生日花!E:F,2,FALSE),IFERROR(VLOOKUP(B1322,誕生日花!E:F,2,FALSE),\"\"))","v":"2016-08-02"}]
["衝羽根朝顔（ツクバネアサガオ）","ペチュニア","","心のやすらぎ",{"$f":"IFERROR(MATCH(B1323,誕生月花!$B$2:$B$13,0),\"\")","v":""},{"$f":"IFERROR(VLOOKUP(B1323&C1323,誕生日花!E:F,2,FALSE),IFERROR(VLOOKUP(B1323,誕生日花!E:F,2,FALSE),\"\"))","v":"2016-08-02"}]
["紅花","ベニバナ","","化粧",{"$f":"IFERROR(MATCH(B1324,誕生月花!$B$2:$B$13,0),\"\")","v":""},{"$f":"IFERROR(VLOOKUP(B1324&C1324,誕生日花!E:F,2,FALSE),IFERROR(VLOOKUP(B1324,誕生日花!E:F,2,FALSE),\"\"))","v":"2016-06-17"}]
["紅花","ベニバナ","","装い",{"$f":"IFERROR(MATCH(B1325,誕生月花!$B$2:$B$13,0),\"\")","v":""},{"$f":"IFERROR(VLOOKUP(B1325&C1325,誕生日花!E:F,2,FALSE),IFERROR(VLOOKUP(B1325,誕生日花!E:F,2,FALSE),\"\"))","v":"2016-06-17"}]
["紅花","ベニバナ","","包容力",{"$f":"IFERROR(MATCH(B1326,誕生月花!$B$2:$B$13,0),\"\")","v":""},{"$f":"IFERROR(VLOOKUP(B1326&C1326,誕生日花!E:F,2,FALSE),IFERROR(VLOOKUP(B1326,誕生日花!E:F,2,FALSE),\"\"))","v":"2016-06-17"}]
["紅花馬酔木","ベニバナアセビ","","静かな主張",{"$f":"IFERROR(MATCH(B1327,誕生月花!$B$2:$B$13,0),\"\")","v":""},{"$f":"IFERROR(VLOOKUP(B1327&C1327,誕生日花!E:F,2,FALSE),IFERROR(VLOOKUP(B1327,誕生日花!E:F,2,FALSE),\"\"))","v":"2016-04-10"}]
["本アマリリス（ホンアマリリス） ","ベラドンナリリー","","美しさ",{"$f":"IFERROR(MATCH(B1328,誕生月花!$B$2:$B$13,0),\"\")","v":""},{"$f":"IFERROR(VLOOKUP(B1328&C1328,誕生日花!E:F,2,FALSE),IFERROR(VLOOKUP(B1328,誕生日花!E:F,2,FALSE),\"\"))","v":""}]
["夏咲キ天竺葵（ナツザキテンジクアオイ）","ペラルゴニウム","","あでやかな装い",{"$f":"IFERROR(MATCH(B1329,誕生月花!$B$2:$B$13,0),\"\")","v":""},{"$f":"IFERROR(VLOOKUP(B1329&C1329,誕生日花!E:F,2,FALSE),IFERROR(VLOOKUP(B1329,誕生日花!E:F,2,FALSE),\"\"))","v":"2016-06-29"}]
["夏咲キ天竺葵（ナツザキテンジクアオイ）","ペラルゴニウム","","篤い信仰",{"$f":"IFERROR(MATCH(B1330,誕生月花!$B$2:$B$13,0),\"\")","v":""},{"$f":"IFERROR(VLOOKUP(B1330&C1330,誕生日花!E:F,2,FALSE),IFERROR(VLOOKUP(B1330,誕生日花!E:F,2,FALSE),\"\"))","v":"2016-06-29"}]
["香水草（コウスイソウ）","ヘリオトロープ","","献身",{"$f":"IFERROR(MATCH(B1331,誕生月花!$B$2:$B$13,0),\"\")","v":""},{"$f":"IFERROR(VLOOKUP(B1331&C1331,誕生日花!E:F,2,FALSE),IFERROR(VLOOKUP(B1331,誕生日花!E:F,2,FALSE),\"\"))","v":"2016-06-30"}]
["香水草（コウスイソウ）","ヘリオトロープ","","献身的な愛",{"$f":"IFERROR(MATCH(B1332,誕生月花!$B$2:$B$13,0),\"\")","v":""},{"$f":"IFERROR(VLOOKUP(B1332&C1332,誕生日花!E:F,2,FALSE),IFERROR(VLOOKUP(B1332,誕生日花!E:F,2,FALSE),\"\"))","v":"2016-06-30"}]
["香水草（コウスイソウ）","ヘリオトロープ","","熱望",{"$f":"IFERROR(MATCH(B1333,誕生月花!$B$2:$B$13,0),\"\")","v":""},{"$f":"IFERROR(VLOOKUP(B1333&C1333,誕生日花!E:F,2,FALSE),IFERROR(VLOOKUP(B1333,誕生日花!E:F,2,FALSE),\"\"))","v":"2016-06-30"}]
["香水草（コウスイソウ）","ヘリオトロープ","","夢中",{"$f":"IFERROR(MATCH(B1334,誕生月花!$B$2:$B$13,0),\"\")","v":""},{"$f":"IFERROR(VLOOKUP(B1334&C1334,誕生日花!E:F,2,FALSE),IFERROR(VLOOKUP(B1334,誕生日花!E:F,2,FALSE),\"\"))","v":"2016-06-30"}]
["麦藁菊（ムギワラギク）","ヘリクリサム","","いつまでも続く喜び",{"$f":"IFERROR(MATCH(B1335,誕生月花!$B$2:$B$13,0),\"\")","v":""},{"$f":"IFERROR(VLOOKUP(B1335&C1335,誕生日花!E:F,2,FALSE),IFERROR(VLOOKUP(B1335,誕生日花!E:F,2,FALSE),\"\"))","v":""}]
["麦藁菊（ムギワラギク）","ヘリクリサム","","永遠の思い出",{"$f":"IFERROR(MATCH(B1336,誕生月花!$B$2:$B$13,0),\"\")","v":""},{"$f":"IFERROR(VLOOKUP(B1336&C1336,誕生日花!E:F,2,FALSE),IFERROR(VLOOKUP(B1336,誕生日花!E:F,2,FALSE),\"\"))","v":""}]
["鸚鵡花（オウムバナ）","ヘリコニア","","注目",{"$f":"IFERROR(MATCH(B1337,誕生月花!$B$2:$B$13,0),\"\")","v":""},{"$f":"IFERROR(VLOOKUP(B1337&C1337,誕生日花!E:F,2,FALSE),IFERROR(VLOOKUP(B1337,誕生日花!E:F,2,FALSE),\"\"))","v":"2016-12-18"}]
["鸚鵡花（オウムバナ）","ヘリコニア","","風変わりな人",{"$f":"IFERROR(MATCH(B1338,誕生月花!$B$2:$B$13,0),\"\")","v":""},{"$f":"IFERROR(VLOOKUP(B1338&C1338,誕生日花!E:F,2,FALSE),IFERROR(VLOOKUP(B1338,誕生日花!E:F,2,FALSE),\"\"))","v":"2016-12-18"}]
["葉黒草（ハグロソウ）","ペリストロフェ","","不思議",{"$f":"IFERROR(MATCH(B1339,誕生月花!$B$2:$B$13,0),\"\")","v":""},{"$f":"IFERROR(VLOOKUP(B1339&C1339,誕生日花!E:F,2,FALSE),IFERROR(VLOOKUP(B1339,誕生日花!E:F,2,FALSE),\"\"))","v":"2016-11-19"}]
["松明花（タイマツバナ）","ベルガモット","","柔らかな心",{"$f":"IFERROR(MATCH(B1340,誕生月花!$B$2:$B$13,0),\"\")","v":""},{"$f":"IFERROR(VLOOKUP(B1340&C1340,誕生日花!E:F,2,FALSE),IFERROR(VLOOKUP(B1340,誕生日花!E:F,2,FALSE),\"\"))","v":"2016-08-09"}]
["乙女桔梗（オトメギキョウ）","ベルフラワー","","楽しいおしゃべり",{"$f":"IFERROR(MATCH(B1341,誕生月花!$B$2:$B$13,0),\"\")","v":""},{"$f":"IFERROR(VLOOKUP(B1341&C1341,誕生日花!E:F,2,FALSE),IFERROR(VLOOKUP(B1341,誕生日花!E:F,2,FALSE),\"\"))","v":""}]
["乙女桔梗（オトメギキョウ）","ベルフラワー","","感謝",{"$f":"IFERROR(MATCH(B1342,誕生月花!$B$2:$B$13,0),\"\")","v":""},{"$f":"IFERROR(VLOOKUP(B1342&C1342,誕生日花!E:F,2,FALSE),IFERROR(VLOOKUP(B1342,誕生日花!E:F,2,FALSE),\"\"))","v":""}]
["乙女桔梗（オトメギキョウ）","ベルフラワー","","誠実",{"$f":"IFERROR(MATCH(B1343,誕生月花!$B$2:$B$13,0),\"\")","v":""},{"$f":"IFERROR(VLOOKUP(B1343&C1343,誕生日花!E:F,2,FALSE),IFERROR(VLOOKUP(B1343,誕生日花!E:F,2,FALSE),\"\"))","v":""}]
["団子菊（ダンゴギク）","ヘレニウム","","寛容",{"$f":"IFERROR(MATCH(B1344,誕生月花!$B$2:$B$13,0),\"\")","v":""},{"$f":"IFERROR(VLOOKUP(B1344&C1344,誕生日花!E:F,2,FALSE),IFERROR(VLOOKUP(B1344,誕生日花!E:F,2,FALSE),\"\"))","v":"2016-10-25"}]
["瑠璃虎ノ尾（ルリトラノオ）","ベロニカ","","忠実",{"$f":"IFERROR(MATCH(B1345,誕生月花!$B$2:$B$13,0),\"\")","v":""},{"$f":"IFERROR(VLOOKUP(B1345&C1345,誕生日花!E:F,2,FALSE),IFERROR(VLOOKUP(B1345,誕生日花!E:F,2,FALSE),\"\"))","v":"2016-05-17"}]
["瑠璃虎ノ尾（ルリトラノオ）","ベロニカ","","名誉",{"$f":"IFERROR(MATCH(B1346,誕生月花!$B$2:$B$13,0),\"\")","v":""},{"$f":"IFERROR(VLOOKUP(B1346&C1346,誕生日花!E:F,2,FALSE),IFERROR(VLOOKUP(B1346,誕生日花!E:F,2,FALSE),\"\"))","v":"2016-05-17"}]
["小海老草（コエビソウ）","ベロペロネ","","究極の美",{"$f":"IFERROR(MATCH(B1347,誕生月花!$B$2:$B$13,0),\"\")","v":""},{"$f":"IFERROR(VLOOKUP(B1347&C1347,誕生日花!E:F,2,FALSE),IFERROR(VLOOKUP(B1347,誕生日花!E:F,2,FALSE),\"\"))","v":"2016-06-12"}]
["枝垂レ榕樹（シダレガジュマル）","ベンジャミン","","信頼",{"$f":"IFERROR(MATCH(B1348,誕生月花!$B$2:$B$13,0),\"\")","v":""},{"$f":"IFERROR(VLOOKUP(B1348&C1348,誕生日花!E:F,2,FALSE),IFERROR(VLOOKUP(B1348,誕生日花!E:F,2,FALSE),\"\"))","v":""}]
["枝垂レ榕樹（シダレガジュマル）","ベンジャミン","","融通のきく仲間",{"$f":"IFERROR(MATCH(B1349,誕生月花!$B$2:$B$13,0),\"\")","v":""},{"$f":"IFERROR(VLOOKUP(B1349&C1349,誕生日花!E:F,2,FALSE),IFERROR(VLOOKUP(B1349,誕生日花!E:F,2,FALSE),\"\"))","v":""}]
["釣鐘柳（ツリガネヤナギ）","ペンステモン","","あなたに見とれています",{"$f":"IFERROR(MATCH(B1350,誕生月花!$B$2:$B$13,0),\"\")","v":""},{"$f":"IFERROR(VLOOKUP(B1350&C1350,誕生日花!E:F,2,FALSE),IFERROR(VLOOKUP(B1350,誕生日花!E:F,2,FALSE),\"\"))","v":""}]
["草山丹花（クササンタンカ）","ペンタス","","希望の実現",{"$f":"IFERROR(MATCH(B1351,誕生月花!$B$2:$B$13,0),\"\")","v":""},{"$f":"IFERROR(VLOOKUP(B1351&C1351,誕生日花!E:F,2,FALSE),IFERROR(VLOOKUP(B1351,誕生日花!E:F,2,FALSE),\"\"))","v":""}]
["草山丹花（クササンタンカ）","ペンタス","","願い事",{"$f":"IFERROR(MATCH(B1352,誕生月花!$B$2:$B$13,0),\"\")","v":""},{"$f":"IFERROR(VLOOKUP(B1352&C1352,誕生日花!E:F,2,FALSE),IFERROR(VLOOKUP(B1352,誕生日花!E:F,2,FALSE),\"\"))","v":""}]
["猩々木（ショウジョウボク）","ポインセチア","","幸運を祈る",{"$f":"IFERROR(MATCH(B1353,誕生月花!$B$2:$B$13,0),\"\")","v":12},{"$f":"IFERROR(VLOOKUP(B1353&C1353,誕生日花!E:F,2,FALSE),IFERROR(VLOOKUP(B1353,誕生日花!E:F,2,FALSE),\"\"))","v":"2016-12-04"}]
["猩々木（ショウジョウボク）","ポインセチア","","祝福",{"$f":"IFERROR(MATCH(B1354,誕生月花!$B$2:$B$13,0),\"\")","v":12},{"$f":"IFERROR(VLOOKUP(B1354&C1354,誕生日花!E:F,2,FALSE),IFERROR(VLOOKUP(B1354,誕生日花!E:F,2,FALSE),\"\"))","v":"2016-12-04"}]
["猩々木（ショウジョウボク）","ポインセチア","","清純",{"$f":"IFERROR(MATCH(B1355,誕生月花!$B$2:$B$13,0),\"\")","v":12},{"$f":"IFERROR(VLOOKUP(B1355&C1355,誕生日花!E:F,2,FALSE),IFERROR(VLOOKUP(B1355,誕生日花!E:F,2,FALSE),\"\"))","v":"2016-12-04"}]
["猩々木（ショウジョウボク）","ポインセチア","","私の心は燃えている",{"$f":"IFERROR(MATCH(B1356,誕生月花!$B$2:$B$13,0),\"\")","v":12},{"$f":"IFERROR(VLOOKUP(B1356&C1356,誕生日花!E:F,2,FALSE),IFERROR(VLOOKUP(B1356,誕生日花!E:F,2,FALSE),\"\"))","v":"2016-12-04"}]
["猩々木（ショウジョウボク）","ポインセチア","赤","祝福する",{"$f":"IFERROR(MATCH(B1357,誕生月花!$B$2:$B$13,0),\"\")","v":12},{"$f":"IFERROR(VLOOKUP(B1357&C1357,誕生日花!E:F,2,FALSE),IFERROR(VLOOKUP(B1357,誕生日花!E:F,2,FALSE),\"\"))","v":"2016-12-04"}]
["猩々木（ショウジョウボク）","ポインセチア","白","洞察力",{"$f":"IFERROR(MATCH(B1358,誕生月花!$B$2:$B$13,0),\"\")","v":12},{"$f":"IFERROR(VLOOKUP(B1358&C1358,誕生日花!E:F,2,FALSE),IFERROR(VLOOKUP(B1358,誕生日花!E:F,2,FALSE),\"\"))","v":"2016-12-04"}]
["鳳仙花","ホウセンカ","","エネルギッシュ",{"$f":"IFERROR(MATCH(B1359,誕生月花!$B$2:$B$13,0),\"\")","v":""},{"$f":"IFERROR(VLOOKUP(B1359&C1359,誕生日花!E:F,2,FALSE),IFERROR(VLOOKUP(B1359,誕生日花!E:F,2,FALSE),\"\"))","v":"2016-07-30"}]
["鳳仙花","ホウセンカ","","私に触れないで",{"$f":"IFERROR(MATCH(B1360,誕生月花!$B$2:$B$13,0),\"\")","v":""},{"$f":"IFERROR(VLOOKUP(B1360&C1360,誕生日花!E:F,2,FALSE),IFERROR(VLOOKUP(B1360,誕生日花!E:F,2,FALSE),\"\"))","v":"2016-07-30"}]
["鳳仙花","ホウセンカ","","短気",{"$f":"IFERROR(MATCH(B1361,誕生月花!$B$2:$B$13,0),\"\")","v":""},{"$f":"IFERROR(VLOOKUP(B1361&C1361,誕生日花!E:F,2,FALSE),IFERROR(VLOOKUP(B1361,誕生日花!E:F,2,FALSE),\"\"))","v":"2016-07-30"}]
["鬼灯","ホオズキ","","自然美",{"$f":"IFERROR(MATCH(B1362,誕生月花!$B$2:$B$13,0),\"\")","v":""},{"$f":"IFERROR(VLOOKUP(B1362&C1362,誕生日花!E:F,2,FALSE),IFERROR(VLOOKUP(B1362,誕生日花!E:F,2,FALSE),\"\"))","v":"2016-07-27"}]
["鬼灯","ホオズキ","","ごまかし",{"$f":"IFERROR(MATCH(B1363,誕生月花!$B$2:$B$13,0),\"\")","v":""},{"$f":"IFERROR(VLOOKUP(B1363&C1363,誕生日花!E:F,2,FALSE),IFERROR(VLOOKUP(B1363,誕生日花!E:F,2,FALSE),\"\"))","v":"2016-07-27"}]
["鬼灯","ホオズキ","","偽り",{"$f":"IFERROR(MATCH(B1364,誕生月花!$B$2:$B$13,0),\"\")","v":""},{"$f":"IFERROR(VLOOKUP(B1364&C1364,誕生日花!E:F,2,FALSE),IFERROR(VLOOKUP(B1364,誕生日花!E:F,2,FALSE),\"\"))","v":"2016-07-27"}]
["花滑りひゆ（ハナスベリヒユ）","ポーチュラカ","","チャーミング",{"$f":"IFERROR(MATCH(B1365,誕生月花!$B$2:$B$13,0),\"\")","v":""},{"$f":"IFERROR(VLOOKUP(B1365&C1365,誕生日花!E:F,2,FALSE),IFERROR(VLOOKUP(B1365,誕生日花!E:F,2,FALSE),\"\"))","v":""}]
["花滑りひゆ（ハナスベリヒユ）","ポーチュラカ","","いつも元気",{"$f":"IFERROR(MATCH(B1366,誕生月花!$B$2:$B$13,0),\"\")","v":""},{"$f":"IFERROR(VLOOKUP(B1366&C1366,誕生日花!E:F,2,FALSE),IFERROR(VLOOKUP(B1366,誕生日花!E:F,2,FALSE),\"\"))","v":""}]
["木瓜","ボケ","","日々の幸せ",{"$f":"IFERROR(MATCH(B1367,誕生月花!$B$2:$B$13,0),\"\")","v":""},{"$f":"IFERROR(VLOOKUP(B1367&C1367,誕生日花!E:F,2,FALSE),IFERROR(VLOOKUP(B1367,誕生日花!E:F,2,FALSE),\"\"))","v":"2016-03-01"}]
["木瓜","ボケ","","先駆者",{"$f":"IFERROR(MATCH(B1368,誕生月花!$B$2:$B$13,0),\"\")","v":""},{"$f":"IFERROR(VLOOKUP(B1368&C1368,誕生日花!E:F,2,FALSE),IFERROR(VLOOKUP(B1368,誕生日花!E:F,2,FALSE),\"\"))","v":"2016-03-01"}]
["木瓜","ボケ","","早熟",{"$f":"IFERROR(MATCH(B1369,誕生月花!$B$2:$B$13,0),\"\")","v":""},{"$f":"IFERROR(VLOOKUP(B1369&C1369,誕生日花!E:F,2,FALSE),IFERROR(VLOOKUP(B1369,誕生日花!E:F,2,FALSE),\"\"))","v":"2016-03-01"}]
["木瓜","ボケ","","平凡",{"$f":"IFERROR(MATCH(B1370,誕生月花!$B$2:$B$13,0),\"\")","v":""},{"$f":"IFERROR(VLOOKUP(B1370&C1370,誕生日花!E:F,2,FALSE),IFERROR(VLOOKUP(B1370,誕生日花!E:F,2,FALSE),\"\"))","v":"2016-03-01"}]
["星孔雀","ホシクジャク","","恋の年頃",{"$f":"IFERROR(MATCH(B1371,誕生月花!$B$2:$B$13,0),\"\")","v":""},{"$f":"IFERROR(VLOOKUP(B1371&C1371,誕生日花!E:F,2,FALSE),IFERROR(VLOOKUP(B1371,誕生日花!E:F,2,FALSE),\"\"))","v":"2016-04-22"}]
["菩提樹","ボダイジュ","","結婚",{"$f":"IFERROR(MATCH(B1372,誕生月花!$B$2:$B$13,0),\"\")","v":""},{"$f":"IFERROR(VLOOKUP(B1372&C1372,誕生日花!E:F,2,FALSE),IFERROR(VLOOKUP(B1372,誕生日花!E:F,2,FALSE),\"\"))","v":""}]
["菩提樹","ボダイジュ","","夫婦愛",{"$f":"IFERROR(MATCH(B1373,誕生月花!$B$2:$B$13,0),\"\")","v":""},{"$f":"IFERROR(VLOOKUP(B1373&C1373,誕生日花!E:F,2,FALSE),IFERROR(VLOOKUP(B1373,誕生日花!E:F,2,FALSE),\"\"))","v":""}]
["蛍袋","ホタルブクロ","","正義",{"$f":"IFERROR(MATCH(B1374,誕生月花!$B$2:$B$13,0),\"\")","v":""},{"$f":"IFERROR(VLOOKUP(B1374&C1374,誕生日花!E:F,2,FALSE),IFERROR(VLOOKUP(B1374,誕生日花!E:F,2,FALSE),\"\"))","v":""}]
["蛍袋","ホタルブクロ","","忠実",{"$f":"IFERROR(MATCH(B1375,誕生月花!$B$2:$B$13,0),\"\")","v":""},{"$f":"IFERROR(VLOOKUP(B1375&C1375,誕生日花!E:F,2,FALSE),IFERROR(VLOOKUP(B1375,誕生日花!E:F,2,FALSE),\"\"))","v":""}]
["牡丹","ボタン","","富貴",{"$f":"IFERROR(MATCH(B1376,誕生月花!$B$2:$B$13,0),\"\")","v":""},{"$f":"IFERROR(VLOOKUP(B1376&C1376,誕生日花!E:F,2,FALSE),IFERROR(VLOOKUP(B1376,誕生日花!E:F,2,FALSE),\"\"))","v":"2016-04-23"}]
["牡丹","ボタン","","人見知り",{"$f":"IFERROR(MATCH(B1377,誕生月花!$B$2:$B$13,0),\"\")","v":""},{"$f":"IFERROR(VLOOKUP(B1377&C1377,誕生日花!E:F,2,FALSE),IFERROR(VLOOKUP(B1377,誕生日花!E:F,2,FALSE),\"\"))","v":"2016-04-23"}]
["牡丹","ボタン","","恥じらい",{"$f":"IFERROR(MATCH(B1378,誕生月花!$B$2:$B$13,0),\"\")","v":""},{"$f":"IFERROR(VLOOKUP(B1378&C1378,誕生日花!E:F,2,FALSE),IFERROR(VLOOKUP(B1378,誕生日花!E:F,2,FALSE),\"\"))","v":"2016-04-23"}]
["牡丹","ボタン","","風格",{"$f":"IFERROR(MATCH(B1379,誕生月花!$B$2:$B$13,0),\"\")","v":""},{"$f":"IFERROR(VLOOKUP(B1379&C1379,誕生日花!E:F,2,FALSE),IFERROR(VLOOKUP(B1379,誕生日花!E:F,2,FALSE),\"\"))","v":"2016-04-23"}]
["牡丹蔓","ボタンヅル","","休息",{"$f":"IFERROR(MATCH(B1380,誕生月花!$B$2:$B$13,0),\"\")","v":""},{"$f":"IFERROR(VLOOKUP(B1380&C1380,誕生日花!E:F,2,FALSE),IFERROR(VLOOKUP(B1380,誕生日花!E:F,2,FALSE),\"\"))","v":"2016-10-26"}]
["家菊（イエギク）","ポットマム","","高潔",{"$f":"IFERROR(MATCH(B1381,誕生月花!$B$2:$B$13,0),\"\")","v":""},{"$f":"IFERROR(VLOOKUP(B1381&C1381,誕生日花!E:F,2,FALSE),IFERROR(VLOOKUP(B1381,誕生日花!E:F,2,FALSE),\"\"))","v":"2016-10-04"}]
["布袋葵","ホテイアオイ","","揺れる心",{"$f":"IFERROR(MATCH(B1382,誕生月花!$B$2:$B$13,0),\"\")","v":""},{"$f":"IFERROR(VLOOKUP(B1382&C1382,誕生日花!E:F,2,FALSE),IFERROR(VLOOKUP(B1382,誕生日花!E:F,2,FALSE),\"\"))","v":"2016-10-06"}]
["布袋葵","ホテイアオイ","","恋の悲しみ",{"$f":"IFERROR(MATCH(B1383,誕生月花!$B$2:$B$13,0),\"\")","v":""},{"$f":"IFERROR(VLOOKUP(B1383&C1383,誕生日花!E:F,2,FALSE),IFERROR(VLOOKUP(B1383,誕生日花!E:F,2,FALSE),\"\"))","v":"2016-10-06"}]
["仏ノ座","ホトケノザ","","輝く心",{"$f":"IFERROR(MATCH(B1384,誕生月花!$B$2:$B$13,0),\"\")","v":""},{"$f":"IFERROR(VLOOKUP(B1384&C1384,誕生日花!E:F,2,FALSE),IFERROR(VLOOKUP(B1384,誕生日花!E:F,2,FALSE),\"\"))","v":""}]
["仏ノ座","ホトケノザ","","調和",{"$f":"IFERROR(MATCH(B1385,誕生月花!$B$2:$B$13,0),\"\")","v":""},{"$f":"IFERROR(VLOOKUP(B1385&C1385,誕生日花!E:F,2,FALSE),IFERROR(VLOOKUP(B1385,誕生日花!E:F,2,FALSE),\"\"))","v":""}]
["黄金葛（オウゴンカズラ）","ポトス","","永遠の富",{"$f":"IFERROR(MATCH(B1386,誕生月花!$B$2:$B$13,0),\"\")","v":""},{"$f":"IFERROR(VLOOKUP(B1386&C1386,誕生日花!E:F,2,FALSE),IFERROR(VLOOKUP(B1386,誕生日花!E:F,2,FALSE),\"\"))","v":""}]
["黄金葛（オウゴンカズラ）","ポトス","","華やかな明るさ",{"$f":"IFERROR(MATCH(B1387,誕生月花!$B$2:$B$13,0),\"\")","v":""},{"$f":"IFERROR(VLOOKUP(B1387&C1387,誕生日花!E:F,2,FALSE),IFERROR(VLOOKUP(B1387,誕生日花!E:F,2,FALSE),\"\"))","v":""}]
["黄金葛（オウゴンカズラ）","ポトス","","長い幸",{"$f":"IFERROR(MATCH(B1388,誕生月花!$B$2:$B$13,0),\"\")","v":""},{"$f":"IFERROR(VLOOKUP(B1388&C1388,誕生日花!E:F,2,FALSE),IFERROR(VLOOKUP(B1388,誕生日花!E:F,2,FALSE),\"\"))","v":""}]
["杜鵑草","ホトトギス","","永遠にあなたのもの",{"$f":"IFERROR(MATCH(B1389,誕生月花!$B$2:$B$13,0),\"\")","v":""},{"$f":"IFERROR(VLOOKUP(B1389&C1389,誕生日花!E:F,2,FALSE),IFERROR(VLOOKUP(B1389,誕生日花!E:F,2,FALSE),\"\"))","v":"2016-09-14"}]
["杜鵑草","ホトトギス","","秘めた意志",{"$f":"IFERROR(MATCH(B1390,誕生月花!$B$2:$B$13,0),\"\")","v":""},{"$f":"IFERROR(VLOOKUP(B1390&C1390,誕生日花!E:F,2,FALSE),IFERROR(VLOOKUP(B1390,誕生日花!E:F,2,FALSE),\"\"))","v":"2016-09-14"}]
["雛芥子（ヒナゲシ）","ポピー","","デリケートな美",{"$f":"IFERROR(MATCH(B1391,誕生月花!$B$2:$B$13,0),\"\")","v":""},{"$f":"IFERROR(VLOOKUP(B1391&C1391,誕生日花!E:F,2,FALSE),IFERROR(VLOOKUP(B1391,誕生日花!E:F,2,FALSE),\"\"))","v":"2016-01-15"}]
["雛芥子（ヒナゲシ）","ポピー","","いたわり",{"$f":"IFERROR(MATCH(B1392,誕生月花!$B$2:$B$13,0),\"\")","v":""},{"$f":"IFERROR(VLOOKUP(B1392&C1392,誕生日花!E:F,2,FALSE),IFERROR(VLOOKUP(B1392,誕生日花!E:F,2,FALSE),\"\"))","v":"2016-01-15"}]
["雛芥子（ヒナゲシ）","ポピー","","思いやり",{"$f":"IFERROR(MATCH(B1393,誕生月花!$B$2:$B$13,0),\"\")","v":""},{"$f":"IFERROR(VLOOKUP(B1393&C1393,誕生日花!E:F,2,FALSE),IFERROR(VLOOKUP(B1393,誕生日花!E:F,2,FALSE),\"\"))","v":"2016-01-15"}]
["雛芥子（ヒナゲシ）","ポピー","","陽気で優しい",{"$f":"IFERROR(MATCH(B1394,誕生月花!$B$2:$B$13,0),\"\")","v":""},{"$f":"IFERROR(VLOOKUP(B1394&C1394,誕生日花!E:F,2,FALSE),IFERROR(VLOOKUP(B1394,誕生日花!E:F,2,FALSE),\"\"))","v":"2016-01-15"}]
["雛芥子（ヒナゲシ）","ポピー","","恋の予感",{"$f":"IFERROR(MATCH(B1395,誕生月花!$B$2:$B$13,0),\"\")","v":""},{"$f":"IFERROR(VLOOKUP(B1395&C1395,誕生日花!E:F,2,FALSE),IFERROR(VLOOKUP(B1395,誕生日花!E:F,2,FALSE),\"\"))","v":"2016-01-15"}]
["雛芥子（ヒナゲシ）","ポピー","赤","慰め",{"$f":"IFERROR(MATCH(B1396,誕生月花!$B$2:$B$13,0),\"\")","v":""},{"$f":"IFERROR(VLOOKUP(B1396&C1396,誕生日花!E:F,2,FALSE),IFERROR(VLOOKUP(B1396,誕生日花!E:F,2,FALSE),\"\"))","v":"2016-01-15"}]
["雛芥子（ヒナゲシ）","ポピー","赤","感謝",{"$f":"IFERROR(MATCH(B1397,誕生月花!$B$2:$B$13,0),\"\")","v":""},{"$f":"IFERROR(VLOOKUP(B1397&C1397,誕生日花!E:F,2,FALSE),IFERROR(VLOOKUP(B1397,誕生日花!E:F,2,FALSE),\"\"))","v":"2016-01-15"}]
["雛芥子（ヒナゲシ）","ポピー","白","忘却",{"$f":"IFERROR(MATCH(B1398,誕生月花!$B$2:$B$13,0),\"\")","v":""},{"$f":"IFERROR(VLOOKUP(B1398&C1398,誕生日花!E:F,2,FALSE),IFERROR(VLOOKUP(B1398,誕生日花!E:F,2,FALSE),\"\"))","v":"2016-01-15"}]
["雛芥子（ヒナゲシ）","ポピー","白","眠り",{"$f":"IFERROR(MATCH(B1399,誕生月花!$B$2:$B$13,0),\"\")","v":""},{"$f":"IFERROR(VLOOKUP(B1399&C1399,誕生日花!E:F,2,FALSE),IFERROR(VLOOKUP(B1399,誕生日花!E:F,2,FALSE),\"\"))","v":"2016-01-15"}]
["瑠璃苣（ルリジサ）","ボリジ","","才能",{"$f":"IFERROR(MATCH(B1400,誕生月花!$B$2:$B$13,0),\"\")","v":""},{"$f":"IFERROR(VLOOKUP(B1400&C1400,誕生日花!E:F,2,FALSE),IFERROR(VLOOKUP(B1400,誕生日花!E:F,2,FALSE),\"\"))","v":""}]
["毒芹擬キ（ドクゼリモドキ）","ホワイトレースフラワー","","可憐な心",{"$f":"IFERROR(MATCH(B1401,誕生月花!$B$2:$B$13,0),\"\")","v":""},{"$f":"IFERROR(VLOOKUP(B1401&C1401,誕生日花!E:F,2,FALSE),IFERROR(VLOOKUP(B1401,誕生日花!E:F,2,FALSE),\"\"))","v":""}]
["毒芹擬キ（ドクゼリモドキ）","ホワイトレースフラワー","","感謝",{"$f":"IFERROR(MATCH(B1402,誕生月花!$B$2:$B$13,0),\"\")","v":""},{"$f":"IFERROR(VLOOKUP(B1402&C1402,誕生日花!E:F,2,FALSE),IFERROR(VLOOKUP(B1402,誕生日花!E:F,2,FALSE),\"\"))","v":""}]
["毒芹擬キ（ドクゼリモドキ）","ホワイトレースフラワー","","細やかな愛情",{"$f":"IFERROR(MATCH(B1403,誕生月花!$B$2:$B$13,0),\"\")","v":""},{"$f":"IFERROR(VLOOKUP(B1403&C1403,誕生日花!E:F,2,FALSE),IFERROR(VLOOKUP(B1403,誕生日花!E:F,2,FALSE),\"\"))","v":""}]
["木春菊（モクシュンギク）","マーガレット","","信頼",{"$f":"IFERROR(MATCH(B1404,誕生月花!$B$2:$B$13,0),\"\")","v":""},{"$f":"IFERROR(VLOOKUP(B1404&C1404,誕生日花!E:F,2,FALSE),IFERROR(VLOOKUP(B1404,誕生日花!E:F,2,FALSE),\"\"))","v":"2016-05-01"}]
["木春菊（モクシュンギク）","マーガレット","","恋占い",{"$f":"IFERROR(MATCH(B1405,誕生月花!$B$2:$B$13,0),\"\")","v":""},{"$f":"IFERROR(VLOOKUP(B1405&C1405,誕生日花!E:F,2,FALSE),IFERROR(VLOOKUP(B1405,誕生日花!E:F,2,FALSE),\"\"))","v":"2016-05-01"}]
["木春菊（モクシュンギク）","マーガレット","","恋の予言",{"$f":"IFERROR(MATCH(B1406,誕生月花!$B$2:$B$13,0),\"\")","v":""},{"$f":"IFERROR(VLOOKUP(B1406&C1406,誕生日花!E:F,2,FALSE),IFERROR(VLOOKUP(B1406,誕生日花!E:F,2,FALSE),\"\"))","v":"2016-05-01"}]
["木春菊（モクシュンギク）","マーガレット","ピンク","真実の愛",{"$f":"IFERROR(MATCH(B1407,誕生月花!$B$2:$B$13,0),\"\")","v":""},{"$f":"IFERROR(VLOOKUP(B1407&C1407,誕生日花!E:F,2,FALSE),IFERROR(VLOOKUP(B1407,誕生日花!E:F,2,FALSE),\"\"))","v":"2016-05-01"}]
["木春菊（モクシュンギク）","マーガレット","黄","美しい容姿",{"$f":"IFERROR(MATCH(B1408,誕生月花!$B$2:$B$13,0),\"\")","v":""},{"$f":"IFERROR(VLOOKUP(B1408&C1408,誕生日花!E:F,2,FALSE),IFERROR(VLOOKUP(B1408,誕生日花!E:F,2,FALSE),\"\"))","v":"2016-05-01"}]
["木春菊（モクシュンギク）","マーガレット","白","恋の行方",{"$f":"IFERROR(MATCH(B1409,誕生月花!$B$2:$B$13,0),\"\")","v":""},{"$f":"IFERROR(VLOOKUP(B1409&C1409,誕生日花!E:F,2,FALSE),IFERROR(VLOOKUP(B1409,誕生日花!E:F,2,FALSE),\"\"))","v":"2016-05-01"}]
["木蓮（モクレン）","マグノリア","","崇高",{"$f":"IFERROR(MATCH(B1410,誕生月花!$B$2:$B$13,0),\"\")","v":""},{"$f":"IFERROR(VLOOKUP(B1410&C1410,誕生日花!E:F,2,FALSE),IFERROR(VLOOKUP(B1410,誕生日花!E:F,2,FALSE),\"\"))","v":""}]
["茉夭刺那（マヨラナ）","マジョラム","","恥じらい",{"$f":"IFERROR(MATCH(B1411,誕生月花!$B$2:$B$13,0),\"\")","v":""},{"$f":"IFERROR(VLOOKUP(B1411&C1411,誕生日花!E:F,2,FALSE),IFERROR(VLOOKUP(B1411,誕生日花!E:F,2,FALSE),\"\"))","v":""}]
["芥子菜（カラシナ）","マスタード","","チャレンジと成長",{"$f":"IFERROR(MATCH(B1412,誕生月花!$B$2:$B$13,0),\"\")","v":""},{"$f":"IFERROR(VLOOKUP(B1412&C1412,誕生日花!E:F,2,FALSE),IFERROR(VLOOKUP(B1412,誕生日花!E:F,2,FALSE),\"\"))","v":""}]
["マダガスカル舌切草（マダガスカルシタキソウ） ","マダガスカルジャスミン","","自意識",{"$f":"IFERROR(MATCH(B1413,誕生月花!$B$2:$B$13,0),\"\")","v":""},{"$f":"IFERROR(VLOOKUP(B1413&C1413,誕生日花!E:F,2,FALSE),IFERROR(VLOOKUP(B1413,誕生日花!E:F,2,FALSE),\"\"))","v":"2016-01-27"}]
["松","マツ","","不老長寿",{"$f":"IFERROR(MATCH(B1414,誕生月花!$B$2:$B$13,0),\"\")","v":""},{"$f":"IFERROR(VLOOKUP(B1414&C1414,誕生日花!E:F,2,FALSE),IFERROR(VLOOKUP(B1414,誕生日花!E:F,2,FALSE),\"\"))","v":""}]
["松","マツ","","哀れみ",{"$f":"IFERROR(MATCH(B1415,誕生月花!$B$2:$B$13,0),\"\")","v":""},{"$f":"IFERROR(VLOOKUP(B1415&C1415,誕生日花!E:F,2,FALSE),IFERROR(VLOOKUP(B1415,誕生日花!E:F,2,FALSE),\"\"))","v":""}]
["松","マツ","","同情",{"$f":"IFERROR(MATCH(B1416,誕生月花!$B$2:$B$13,0),\"\")","v":""},{"$f":"IFERROR(VLOOKUP(B1416&C1416,誕生日花!E:F,2,FALSE),IFERROR(VLOOKUP(B1416,誕生日花!E:F,2,FALSE),\"\"))","v":""}]
["松葉菊","マツバギク","","勲功",{"$f":"IFERROR(MATCH(B1417,誕生月花!$B$2:$B$13,0),\"\")","v":""},{"$f":"IFERROR(VLOOKUP(B1417&C1417,誕生日花!E:F,2,FALSE),IFERROR(VLOOKUP(B1417,誕生日花!E:F,2,FALSE),\"\"))","v":"2016-06-04"}]
["松葉菊","マツバギク","","怠惰",{"$f":"IFERROR(MATCH(B1418,誕生月花!$B$2:$B$13,0),\"\")","v":""},{"$f":"IFERROR(VLOOKUP(B1418&C1418,誕生日花!E:F,2,FALSE),IFERROR(VLOOKUP(B1418,誕生日花!E:F,2,FALSE),\"\"))","v":"2016-06-04"}]
["松葉牡丹","マツバボタン","","可憐",{"$f":"IFERROR(MATCH(B1419,誕生月花!$B$2:$B$13,0),\"\")","v":""},{"$f":"IFERROR(VLOOKUP(B1419&C1419,誕生日花!E:F,2,FALSE),IFERROR(VLOOKUP(B1419,誕生日花!E:F,2,FALSE),\"\"))","v":"2016-07-10"}]
["松葉牡丹","マツバボタン","","無邪気",{"$f":"IFERROR(MATCH(B1420,誕生月花!$B$2:$B$13,0),\"\")","v":""},{"$f":"IFERROR(VLOOKUP(B1420&C1420,誕生日花!E:F,2,FALSE),IFERROR(VLOOKUP(B1420,誕生日花!E:F,2,FALSE),\"\"))","v":"2016-07-10"}]
["待宵草","マツヨイグサ","","気まぐれ",{"$f":"IFERROR(MATCH(B1421,誕生月花!$B$2:$B$13,0),\"\")","v":""},{"$f":"IFERROR(VLOOKUP(B1421&C1421,誕生日花!E:F,2,FALSE),IFERROR(VLOOKUP(B1421,誕生日花!E:F,2,FALSE),\"\"))","v":""}]
["待宵草","マツヨイグサ","","浴後の美人",{"$f":"IFERROR(MATCH(B1422,誕生月花!$B$2:$B$13,0),\"\")","v":""},{"$f":"IFERROR(VLOOKUP(B1422&C1422,誕生日花!E:F,2,FALSE),IFERROR(VLOOKUP(B1422,誕生日花!E:F,2,FALSE),\"\"))","v":""}]
["茉莉花","マツリカ","","愛想の良さ",{"$f":"IFERROR(MATCH(B1423,誕生月花!$B$2:$B$13,0),\"\")","v":""},{"$f":"IFERROR(VLOOKUP(B1423&C1423,誕生日花!E:F,2,FALSE),IFERROR(VLOOKUP(B1423,誕生日花!E:F,2,FALSE),\"\"))","v":"2016-09-19"}]
["茉莉花","マツリカ","アラビアンジャスミン・茉莉花","清浄無垢",{"$f":"IFERROR(MATCH(B1424,誕生月花!$B$2:$B$13,0),\"\")","v":""},{"$f":"IFERROR(VLOOKUP(B1424&C1424,誕生日花!E:F,2,FALSE),IFERROR(VLOOKUP(B1424,誕生日花!E:F,2,FALSE),\"\"))","v":"2016-09-19"}]
["茉莉花","マツリカ","シルクジャスミン・ゲッキツ","正当な道",{"$f":"IFERROR(MATCH(B1425,誕生月花!$B$2:$B$13,0),\"\")","v":""},{"$f":"IFERROR(VLOOKUP(B1425&C1425,誕生日花!E:F,2,FALSE),IFERROR(VLOOKUP(B1425,誕生日花!E:F,2,FALSE),\"\"))","v":"2016-09-19"}]
["茉莉花","マツリカ","マダガスカルジャスミン","私はあなたについていく",{"$f":"IFERROR(MATCH(B1426,誕生月花!$B$2:$B$13,0),\"\")","v":""},{"$f":"IFERROR(VLOOKUP(B1426&C1426,誕生日花!E:F,2,FALSE),IFERROR(VLOOKUP(B1426,誕生日花!E:F,2,FALSE),\"\"))","v":"2016-09-19"}]
["夏白菊（ナツシロギク）","マトリカリア","","集う喜び",{"$f":"IFERROR(MATCH(B1427,誕生月花!$B$2:$B$13,0),\"\")","v":""},{"$f":"IFERROR(VLOOKUP(B1427&C1427,誕生日花!E:F,2,FALSE),IFERROR(VLOOKUP(B1427,誕生日花!E:F,2,FALSE),\"\"))","v":""}]
["夏白菊（ナツシロギク）","マトリカリア","","鎮静",{"$f":"IFERROR(MATCH(B1428,誕生月花!$B$2:$B$13,0),\"\")","v":""},{"$f":"IFERROR(VLOOKUP(B1428&C1428,誕生日花!E:F,2,FALSE),IFERROR(VLOOKUP(B1428,誕生日花!E:F,2,FALSE),\"\"))","v":""}]
["夏白菊（ナツシロギク）","マドンナリリー","","天界の美",{"$f":"IFERROR(MATCH(B1429,誕生月花!$B$2:$B$13,0),\"\")","v":""},{"$f":"IFERROR(VLOOKUP(B1429&C1429,誕生日花!E:F,2,FALSE),IFERROR(VLOOKUP(B1429,誕生日花!E:F,2,FALSE),\"\"))","v":""}]
["粗毛火焔草（アラゲカエンソウ）","マネッチア","","沢山の話",{"$f":"IFERROR(MATCH(B1430,誕生月花!$B$2:$B$13,0),\"\")","v":""},{"$f":"IFERROR(VLOOKUP(B1430&C1430,誕生日花!E:F,2,FALSE),IFERROR(VLOOKUP(B1430,誕生日花!E:F,2,FALSE),\"\"))","v":"2016-12-30"}]
["粗毛火焔草（アラゲカエンソウ）","マネッチア","","たくさん話しましょう",{"$f":"IFERROR(MATCH(B1431,誕生月花!$B$2:$B$13,0),\"\")","v":""},{"$f":"IFERROR(VLOOKUP(B1431&C1431,誕生日花!E:F,2,FALSE),IFERROR(VLOOKUP(B1431,誕生日花!E:F,2,FALSE),\"\"))","v":"2016-12-30"}]
["千寿菊（センジュギク）","マリーゴールド","","太陽",{"$f":"IFERROR(MATCH(B1432,誕生月花!$B$2:$B$13,0),\"\")","v":""},{"$f":"IFERROR(VLOOKUP(B1432&C1432,誕生日花!E:F,2,FALSE),IFERROR(VLOOKUP(B1432,誕生日花!E:F,2,FALSE),\"\"))","v":"2016-11-29"}]
["千寿菊（センジュギク）","マリーゴールド","","嫉妬",{"$f":"IFERROR(MATCH(B1433,誕生月花!$B$2:$B$13,0),\"\")","v":""},{"$f":"IFERROR(VLOOKUP(B1433&C1433,誕生日花!E:F,2,FALSE),IFERROR(VLOOKUP(B1433,誕生日花!E:F,2,FALSE),\"\"))","v":"2016-11-29"}]
["千寿菊（センジュギク）","マリーゴールド","","絶望",{"$f":"IFERROR(MATCH(B1434,誕生月花!$B$2:$B$13,0),\"\")","v":""},{"$f":"IFERROR(VLOOKUP(B1434&C1434,誕生日花!E:F,2,FALSE),IFERROR(VLOOKUP(B1434,誕生日花!E:F,2,FALSE),\"\"))","v":"2016-11-29"}]
["千寿菊（センジュギク）","マリーゴールド","","悲しみ",{"$f":"IFERROR(MATCH(B1435,誕生月花!$B$2:$B$13,0),\"\")","v":""},{"$f":"IFERROR(VLOOKUP(B1435&C1435,誕生日花!E:F,2,FALSE),IFERROR(VLOOKUP(B1435,誕生日花!E:F,2,FALSE),\"\"))","v":"2016-11-29"}]
["千寿菊（センジュギク）","マリーゴールド","オレンジ","予言",{"$f":"IFERROR(MATCH(B1436,誕生月花!$B$2:$B$13,0),\"\")","v":""},{"$f":"IFERROR(VLOOKUP(B1436&C1436,誕生日花!E:F,2,FALSE),IFERROR(VLOOKUP(B1436,誕生日花!E:F,2,FALSE),\"\"))","v":"2016-11-29"}]
["千寿菊（センジュギク）","マリーゴールド","黄","健康",{"$f":"IFERROR(MATCH(B1437,誕生月花!$B$2:$B$13,0),\"\")","v":""},{"$f":"IFERROR(VLOOKUP(B1437&C1437,誕生日花!E:F,2,FALSE),IFERROR(VLOOKUP(B1437,誕生日花!E:F,2,FALSE),\"\"))","v":"2016-11-29"}]
["薄紅葵（ウスベニアオイ）","マロウ","","柔和な心",{"$f":"IFERROR(MATCH(B1438,誕生月花!$B$2:$B$13,0),\"\")","v":""},{"$f":"IFERROR(VLOOKUP(B1438&C1438,誕生日花!E:F,2,FALSE),IFERROR(VLOOKUP(B1438,誕生日花!E:F,2,FALSE),\"\"))","v":""}]
["万作","マンサク","","ひらめき",{"$f":"IFERROR(MATCH(B1439,誕生月花!$B$2:$B$13,0),\"\")","v":""},{"$f":"IFERROR(VLOOKUP(B1439&C1439,誕生日花!E:F,2,FALSE),IFERROR(VLOOKUP(B1439,誕生日花!E:F,2,FALSE),\"\"))","v":"2016-01-13"}]
["万作","マンサク","","呪文",{"$f":"IFERROR(MATCH(B1440,誕生月花!$B$2:$B$13,0),\"\")","v":""},{"$f":"IFERROR(VLOOKUP(B1440&C1440,誕生日花!E:F,2,FALSE),IFERROR(VLOOKUP(B1440,誕生日花!E:F,2,FALSE),\"\"))","v":"2016-01-13"}]
["万作","マンサク","","魔力",{"$f":"IFERROR(MATCH(B1441,誕生月花!$B$2:$B$13,0),\"\")","v":""},{"$f":"IFERROR(VLOOKUP(B1441&C1441,誕生日花!E:F,2,FALSE),IFERROR(VLOOKUP(B1441,誕生日花!E:F,2,FALSE),\"\"))","v":"2016-01-13"}]
["万作","マンサク","","霊感",{"$f":"IFERROR(MATCH(B1442,誕生月花!$B$2:$B$13,0),\"\")","v":""},{"$f":"IFERROR(VLOOKUP(B1442&C1442,誕生日花!E:F,2,FALSE),IFERROR(VLOOKUP(B1442,誕生日花!E:F,2,FALSE),\"\"))","v":"2016-01-13"}]
["曼珠沙華","マンジュシャゲ","","思い出",{"$f":"IFERROR(MATCH(B1443,誕生月花!$B$2:$B$13,0),\"\")","v":""},{"$f":"IFERROR(VLOOKUP(B1443&C1443,誕生日花!E:F,2,FALSE),IFERROR(VLOOKUP(B1443,誕生日花!E:F,2,FALSE),\"\"))","v":"2016-09-26"}]
["万両","マンリョウ","","予言",{"$f":"IFERROR(MATCH(B1444,誕生月花!$B$2:$B$13,0),\"\")","v":""},{"$f":"IFERROR(VLOOKUP(B1444&C1444,誕生日花!E:F,2,FALSE),IFERROR(VLOOKUP(B1444,誕生日花!E:F,2,FALSE),\"\"))","v":"2016-01-08"}]
["水芭蕉","ミズバショウ","","美しい思い出",{"$f":"IFERROR(MATCH(B1445,誕生月花!$B$2:$B$13,0),\"\")","v":""},{"$f":"IFERROR(VLOOKUP(B1445&C1445,誕生日花!E:F,2,FALSE),IFERROR(VLOOKUP(B1445,誕生日花!E:F,2,FALSE),\"\"))","v":"2016-02-26"}]
["雪割草","ミスミソウ","","信頼",{"$f":"IFERROR(MATCH(B1446,誕生月花!$B$2:$B$13,0),\"\")","v":""},{"$f":"IFERROR(VLOOKUP(B1446&C1446,誕生日花!E:F,2,FALSE),IFERROR(VLOOKUP(B1446,誕生日花!E:F,2,FALSE),\"\"))","v":""}]
["雪割草","ミスミソウ","","はにかみ屋",{"$f":"IFERROR(MATCH(B1447,誕生月花!$B$2:$B$13,0),\"\")","v":""},{"$f":"IFERROR(VLOOKUP(B1447&C1447,誕生日花!E:F,2,FALSE),IFERROR(VLOOKUP(B1447,誕生日花!E:F,2,FALSE),\"\"))","v":""}]
["雪割草","ミスミソウ","","自信",{"$f":"IFERROR(MATCH(B1448,誕生月花!$B$2:$B$13,0),\"\")","v":""},{"$f":"IFERROR(VLOOKUP(B1448&C1448,誕生日花!E:F,2,FALSE),IFERROR(VLOOKUP(B1448,誕生日花!E:F,2,FALSE),\"\"))","v":""}]
["見せばや","ミセバヤ","","つつましさ",{"$f":"IFERROR(MATCH(B1449,誕生月花!$B$2:$B$13,0),\"\")","v":""},{"$f":"IFERROR(VLOOKUP(B1449&C1449,誕生日花!E:F,2,FALSE),IFERROR(VLOOKUP(B1449,誕生日花!E:F,2,FALSE),\"\"))","v":"2016-10-03"}]
["見せばや","ミセバヤ","","大切なあなた",{"$f":"IFERROR(MATCH(B1450,誕生月花!$B$2:$B$13,0),\"\")","v":""},{"$f":"IFERROR(VLOOKUP(B1450&C1450,誕生日花!E:F,2,FALSE),IFERROR(VLOOKUP(B1450,誕生日花!E:F,2,FALSE),\"\"))","v":"2016-10-03"}]
["三葉躑躅","ミツバツツジ","","節制",{"$f":"IFERROR(MATCH(B1451,誕生月花!$B$2:$B$13,0),\"\")","v":""},{"$f":"IFERROR(VLOOKUP(B1451&C1451,誕生日花!E:F,2,FALSE),IFERROR(VLOOKUP(B1451,誕生日花!E:F,2,FALSE),\"\"))","v":""}]
["三葉躑躅","ミツバツツジ","","抑制のきいた生活",{"$f":"IFERROR(MATCH(B1452,誕生月花!$B$2:$B$13,0),\"\")","v":""},{"$f":"IFERROR(VLOOKUP(B1452&C1452,誕生日花!E:F,2,FALSE),IFERROR(VLOOKUP(B1452,誕生日花!E:F,2,FALSE),\"\"))","v":""}]
["三椏","ミツマタ","","強靱",{"$f":"IFERROR(MATCH(B1453,誕生月花!$B$2:$B$13,0),\"\")","v":""},{"$f":"IFERROR(VLOOKUP(B1453&C1453,誕生日花!E:F,2,FALSE),IFERROR(VLOOKUP(B1453,誕生日花!E:F,2,FALSE),\"\"))","v":""}]
["三椏","ミツマタ","","肉親の絆",{"$f":"IFERROR(MATCH(B1454,誕生月花!$B$2:$B$13,0),\"\")","v":""},{"$f":"IFERROR(VLOOKUP(B1454&C1454,誕生日花!E:F,2,FALSE),IFERROR(VLOOKUP(B1454,誕生日花!E:F,2,FALSE),\"\"))","v":""}]
["姫バラ（ヒメバラ）","ミニバラ","赤","特別な功績",{"$f":"IFERROR(MATCH(B1455,誕生月花!$B$2:$B$13,0),\"\")","v":""},{"$f":"IFERROR(VLOOKUP(B1455&C1455,誕生日花!E:F,2,FALSE),IFERROR(VLOOKUP(B1455,誕生日花!E:F,2,FALSE),\"\"))","v":"2016-11-07"}]
["溝酸漿（ミゾホウズキ）","ミムラス","","援助の申し出",{"$f":"IFERROR(MATCH(B1456,誕生月花!$B$2:$B$13,0),\"\")","v":""},{"$f":"IFERROR(VLOOKUP(B1456&C1456,誕生日花!E:F,2,FALSE),IFERROR(VLOOKUP(B1456,誕生日花!E:F,2,FALSE),\"\"))","v":""}]
["ミモザ","ミモザ","アカシア","秘密の恋",{"$f":"IFERROR(MATCH(B1457,誕生月花!$B$2:$B$13,0),\"\")","v":""},{"$f":"IFERROR(VLOOKUP(B1457&C1457,誕生日花!E:F,2,FALSE),IFERROR(VLOOKUP(B1457,誕生日花!E:F,2,FALSE),\"\"))","v":""}]
["ミモザ","ミモザ","アカシア","友情",{"$f":"IFERROR(MATCH(B1458,誕生月花!$B$2:$B$13,0),\"\")","v":""},{"$f":"IFERROR(VLOOKUP(B1458&C1458,誕生日花!E:F,2,FALSE),IFERROR(VLOOKUP(B1458,誕生日花!E:F,2,FALSE),\"\"))","v":""}]
["ミモザ","ミモザ","アカシア","秘密の愛",{"$f":"IFERROR(MATCH(B1459,誕生月花!$B$2:$B$13,0),\"\")","v":""},{"$f":"IFERROR(VLOOKUP(B1459&C1459,誕生日花!E:F,2,FALSE),IFERROR(VLOOKUP(B1459,誕生日花!E:F,2,FALSE),\"\"))","v":""}]
["都草","ミヤコグサ","","きまぐれな心",{"$f":"IFERROR(MATCH(B1460,誕生月花!$B$2:$B$13,0),\"\")","v":""},{"$f":"IFERROR(VLOOKUP(B1460&C1460,誕生日花!E:F,2,FALSE),IFERROR(VLOOKUP(B1460,誕生日花!E:F,2,FALSE),\"\"))","v":"2016-04-29"}]
["都忘れ","ミヤコワスレ","","しばしの慰め",{"$f":"IFERROR(MATCH(B1461,誕生月花!$B$2:$B$13,0),\"\")","v":""},{"$f":"IFERROR(VLOOKUP(B1461&C1461,誕生日花!E:F,2,FALSE),IFERROR(VLOOKUP(B1461,誕生日花!E:F,2,FALSE),\"\"))","v":"2016-04-26"}]
["都忘れ","ミヤコワスレ","","別れ",{"$f":"IFERROR(MATCH(B1462,誕生月花!$B$2:$B$13,0),\"\")","v":""},{"$f":"IFERROR(VLOOKUP(B1462&C1462,誕生日花!E:F,2,FALSE),IFERROR(VLOOKUP(B1462,誕生日花!E:F,2,FALSE),\"\"))","v":"2016-04-26"}]
["ミルトニア","ミルトニア","","愛の訪れ",{"$f":"IFERROR(MATCH(B1463,誕生月花!$B$2:$B$13,0),\"\")","v":""},{"$f":"IFERROR(VLOOKUP(B1463&C1463,誕生日花!E:F,2,FALSE),IFERROR(VLOOKUP(B1463,誕生日花!E:F,2,FALSE),\"\"))","v":"2016-02-27"}]
["薄荷（ハッカ）","ミント","","有徳の人",{"$f":"IFERROR(MATCH(B1464,誕生月花!$B$2:$B$13,0),\"\")","v":""},{"$f":"IFERROR(VLOOKUP(B1464&C1464,誕生日花!E:F,2,FALSE),IFERROR(VLOOKUP(B1464,誕生日花!E:F,2,FALSE),\"\"))","v":"2016-08-15"}]
["薄荷（ハッカ）","ミント","","効能",{"$f":"IFERROR(MATCH(B1465,誕生月花!$B$2:$B$13,0),\"\")","v":""},{"$f":"IFERROR(VLOOKUP(B1465&C1465,誕生日花!E:F,2,FALSE),IFERROR(VLOOKUP(B1465,誕生日花!E:F,2,FALSE),\"\"))","v":"2016-08-15"}]
["薄荷（ハッカ）","ミント","","美徳",{"$f":"IFERROR(MATCH(B1466,誕生月花!$B$2:$B$13,0),\"\")","v":""},{"$f":"IFERROR(VLOOKUP(B1466&C1466,誕生日花!E:F,2,FALSE),IFERROR(VLOOKUP(B1466,誕生日花!E:F,2,FALSE),\"\"))","v":"2016-08-15"}]
["麦藁菊","ムギワラギク","","不滅の愛",{"$f":"IFERROR(MATCH(B1467,誕生月花!$B$2:$B$13,0),\"\")","v":""},{"$f":"IFERROR(VLOOKUP(B1467&C1467,誕生日花!E:F,2,FALSE),IFERROR(VLOOKUP(B1467,誕生日花!E:F,2,FALSE),\"\"))","v":"2016-07-19"}]
["木槿","ムクゲ","","信念",{"$f":"IFERROR(MATCH(B1468,誕生月花!$B$2:$B$13,0),\"\")","v":""},{"$f":"IFERROR(VLOOKUP(B1468&C1468,誕生日花!E:F,2,FALSE),IFERROR(VLOOKUP(B1468,誕生日花!E:F,2,FALSE),\"\"))","v":""}]
["木槿","ムクゲ","","新しい美",{"$f":"IFERROR(MATCH(B1469,誕生月花!$B$2:$B$13,0),\"\")","v":""},{"$f":"IFERROR(VLOOKUP(B1469&C1469,誕生日花!E:F,2,FALSE),IFERROR(VLOOKUP(B1469,誕生日花!E:F,2,FALSE),\"\"))","v":""}]
["虫取り撫子","ムシトリナデシコ","","未練",{"$f":"IFERROR(MATCH(B1470,誕生月花!$B$2:$B$13,0),\"\")","v":""},{"$f":"IFERROR(VLOOKUP(B1470&C1470,誕生日花!E:F,2,FALSE),IFERROR(VLOOKUP(B1470,誕生日花!E:F,2,FALSE),\"\"))","v":""}]
["虫取り撫子","ムシトリナデシコ","","罠",{"$f":"IFERROR(MATCH(B1471,誕生月花!$B$2:$B$13,0),\"\")","v":""},{"$f":"IFERROR(VLOOKUP(B1471&C1471,誕生日花!E:F,2,FALSE),IFERROR(VLOOKUP(B1471,誕生日花!E:F,2,FALSE),\"\"))","v":""}]
["虫取り撫子","ムシトリナデシコ","赤","青春の恋",{"$f":"IFERROR(MATCH(B1472,誕生月花!$B$2:$B$13,0),\"\")","v":""},{"$f":"IFERROR(VLOOKUP(B1472&C1472,誕生日花!E:F,2,FALSE),IFERROR(VLOOKUP(B1472,誕生日花!E:F,2,FALSE),\"\"))","v":""}]
["虫取り撫子","ムシトリナデシコ","白","裏切り",{"$f":"IFERROR(MATCH(B1473,誕生月花!$B$2:$B$13,0),\"\")","v":""},{"$f":"IFERROR(VLOOKUP(B1473&C1473,誕生日花!E:F,2,FALSE),IFERROR(VLOOKUP(B1473,誕生日花!E:F,2,FALSE),\"\"))","v":""}]
["葡萄風信子（ブドウフシンシ）","ムスカリ","","黙っていても通じる私の心",{"$f":"IFERROR(MATCH(B1474,誕生月花!$B$2:$B$13,0),\"\")","v":""},{"$f":"IFERROR(VLOOKUP(B1474&C1474,誕生日花!E:F,2,FALSE),IFERROR(VLOOKUP(B1474,誕生日花!E:F,2,FALSE),\"\"))","v":"2016-03-27"}]
["葡萄風信子（ブドウフシンシ）","ムスカリ","","失意",{"$f":"IFERROR(MATCH(B1475,誕生月花!$B$2:$B$13,0),\"\")","v":""},{"$f":"IFERROR(VLOOKUP(B1475&C1475,誕生日花!E:F,2,FALSE),IFERROR(VLOOKUP(B1475,誕生日花!E:F,2,FALSE),\"\"))","v":"2016-03-27"}]
["葡萄風信子（ブドウフシンシ）","ムスカリ","","失望",{"$f":"IFERROR(MATCH(B1476,誕生月花!$B$2:$B$13,0),\"\")","v":""},{"$f":"IFERROR(VLOOKUP(B1476&C1476,誕生日花!E:F,2,FALSE),IFERROR(VLOOKUP(B1476,誕生日花!E:F,2,FALSE),\"\"))","v":"2016-03-27"}]
["紫華鬘","ムラサキケマン","","あなたの助けになる",{"$f":"IFERROR(MATCH(B1477,誕生月花!$B$2:$B$13,0),\"\")","v":""},{"$f":"IFERROR(VLOOKUP(B1477&C1477,誕生日花!E:F,2,FALSE),IFERROR(VLOOKUP(B1477,誕生日花!E:F,2,FALSE),\"\"))","v":""}]
["紫華鬘","ムラサキケマン","","喜び",{"$f":"IFERROR(MATCH(B1478,誕生月花!$B$2:$B$13,0),\"\")","v":""},{"$f":"IFERROR(VLOOKUP(B1478&C1478,誕生日花!E:F,2,FALSE),IFERROR(VLOOKUP(B1478,誕生日花!E:F,2,FALSE),\"\"))","v":""}]
["紫式部","ムラサキシキブ","","才媛",{"$f":"IFERROR(MATCH(B1479,誕生月花!$B$2:$B$13,0),\"\")","v":""},{"$f":"IFERROR(VLOOKUP(B1479&C1479,誕生日花!E:F,2,FALSE),IFERROR(VLOOKUP(B1479,誕生日花!E:F,2,FALSE),\"\"))","v":"2016-11-09"}]
["紫式部","ムラサキシキブ","","愛され上手",{"$f":"IFERROR(MATCH(B1480,誕生月花!$B$2:$B$13,0),\"\")","v":""},{"$f":"IFERROR(VLOOKUP(B1480&C1480,誕生日花!E:F,2,FALSE),IFERROR(VLOOKUP(B1480,誕生日花!E:F,2,FALSE),\"\"))","v":"2016-11-09"}]
["紫式部","ムラサキシキブ","","上品",{"$f":"IFERROR(MATCH(B1481,誕生月花!$B$2:$B$13,0),\"\")","v":""},{"$f":"IFERROR(VLOOKUP(B1481&C1481,誕生日花!E:F,2,FALSE),IFERROR(VLOOKUP(B1481,誕生日花!E:F,2,FALSE),\"\"))","v":"2016-11-09"}]
["紫式部","ムラサキシキブ","","聡明",{"$f":"IFERROR(MATCH(B1482,誕生月花!$B$2:$B$13,0),\"\")","v":""},{"$f":"IFERROR(VLOOKUP(B1482&C1482,誕生日花!E:F,2,FALSE),IFERROR(VLOOKUP(B1482,誕生日花!E:F,2,FALSE),\"\"))","v":"2016-11-09"}]
["紫詰草","ムラサキツメクサ","赤","勤勉",{"$f":"IFERROR(MATCH(B1483,誕生月花!$B$2:$B$13,0),\"\")","v":""},{"$f":"IFERROR(VLOOKUP(B1483&C1483,誕生日花!E:F,2,FALSE),IFERROR(VLOOKUP(B1483,誕生日花!E:F,2,FALSE),\"\"))","v":""}]
["紫露草","ムラサキツユクサ","","尊敬しているが恋愛ではない",{"$f":"IFERROR(MATCH(B1484,誕生月花!$B$2:$B$13,0),\"\")","v":""},{"$f":"IFERROR(VLOOKUP(B1484&C1484,誕生日花!E:F,2,FALSE),IFERROR(VLOOKUP(B1484,誕生日花!E:F,2,FALSE),\"\"))","v":"2016-09-01"}]
["紫花菜","ムラサキハナナ","","恵まれた未来",{"$f":"IFERROR(MATCH(B1485,誕生月花!$B$2:$B$13,0),\"\")","v":""},{"$f":"IFERROR(VLOOKUP(B1485&C1485,誕生日花!E:F,2,FALSE),IFERROR(VLOOKUP(B1485,誕生日花!E:F,2,FALSE),\"\"))","v":"2016-04-30"}]
["黄花雛菊（キバナヒナギク） ","ムルチコーレ","","高潔",{"$f":"IFERROR(MATCH(B1486,誕生月花!$B$2:$B$13,0),\"\")","v":""},{"$f":"IFERROR(VLOOKUP(B1486&C1486,誕生日花!E:F,2,FALSE),IFERROR(VLOOKUP(B1486,誕生日花!E:F,2,FALSE),\"\"))","v":"2016-04-21"}]
["西洋夏雪草（セイヨウナツユキソウ）","メドウスイート","","心の支え",{"$f":"IFERROR(MATCH(B1487,誕生月花!$B$2:$B$13,0),\"\")","v":""},{"$f":"IFERROR(VLOOKUP(B1487&C1487,誕生日花!E:F,2,FALSE),IFERROR(VLOOKUP(B1487,誕生日花!E:F,2,FALSE),\"\"))","v":""}]
["木犀","モクセイ","","気高い人",{"$f":"IFERROR(MATCH(B1488,誕生月花!$B$2:$B$13,0),\"\")","v":""},{"$f":"IFERROR(VLOOKUP(B1488&C1488,誕生日花!E:F,2,FALSE),IFERROR(VLOOKUP(B1488,誕生日花!E:F,2,FALSE),\"\"))","v":""}]
["木蓮","モクレン","","崇高",{"$f":"IFERROR(MATCH(B1489,誕生月花!$B$2:$B$13,0),\"\")","v":""},{"$f":"IFERROR(VLOOKUP(B1489&C1489,誕生日花!E:F,2,FALSE),IFERROR(VLOOKUP(B1489,誕生日花!E:F,2,FALSE),\"\"))","v":""}]
["木蓮","モクレン","","持続性",{"$f":"IFERROR(MATCH(B1490,誕生月花!$B$2:$B$13,0),\"\")","v":""},{"$f":"IFERROR(VLOOKUP(B1490&C1490,誕生日花!E:F,2,FALSE),IFERROR(VLOOKUP(B1490,誕生日花!E:F,2,FALSE),\"\"))","v":""}]
["木蓮","モクレン","","自然への愛",{"$f":"IFERROR(MATCH(B1491,誕生月花!$B$2:$B$13,0),\"\")","v":""},{"$f":"IFERROR(VLOOKUP(B1491&C1491,誕生日花!E:F,2,FALSE),IFERROR(VLOOKUP(B1491,誕生日花!E:F,2,FALSE),\"\"))","v":""}]
["木香茨","モッコウバラ","","初恋",{"$f":"IFERROR(MATCH(B1492,誕生月花!$B$2:$B$13,0),\"\")","v":""},{"$f":"IFERROR(VLOOKUP(B1492&C1492,誕生日花!E:F,2,FALSE),IFERROR(VLOOKUP(B1492,誕生日花!E:F,2,FALSE),\"\"))","v":"2016-04-25"}]
["樅","モミ","","高尚",{"$f":"IFERROR(MATCH(B1493,誕生月花!$B$2:$B$13,0),\"\")","v":""},{"$f":"IFERROR(VLOOKUP(B1493&C1493,誕生日花!E:F,2,FALSE),IFERROR(VLOOKUP(B1493,誕生日花!E:F,2,FALSE),\"\"))","v":""}]
["紅葉","モミジ","","寡黙",{"$f":"IFERROR(MATCH(B1494,誕生月花!$B$2:$B$13,0),\"\")","v":""},{"$f":"IFERROR(VLOOKUP(B1494&C1494,誕生日花!E:F,2,FALSE),IFERROR(VLOOKUP(B1494,誕生日花!E:F,2,FALSE),\"\"))","v":""}]
["紅葉葵","モミジアオイ","","温和",{"$f":"IFERROR(MATCH(B1495,誕生月花!$B$2:$B$13,0),\"\")","v":""},{"$f":"IFERROR(VLOOKUP(B1495&C1495,誕生日花!E:F,2,FALSE),IFERROR(VLOOKUP(B1495,誕生日花!E:F,2,FALSE),\"\"))","v":"2016-10-21"}]
["紅葉葵","モミジアオイ","","穏やかさ",{"$f":"IFERROR(MATCH(B1496,誕生月花!$B$2:$B$13,0),\"\")","v":""},{"$f":"IFERROR(VLOOKUP(B1496&C1496,誕生日花!E:F,2,FALSE),IFERROR(VLOOKUP(B1496,誕生日花!E:F,2,FALSE),\"\"))","v":"2016-10-21"}]
["桃","モモ","","恋のとりこ",{"$f":"IFERROR(MATCH(B1497,誕生月花!$B$2:$B$13,0),\"\")","v":""},{"$f":"IFERROR(VLOOKUP(B1497&C1497,誕生日花!E:F,2,FALSE),IFERROR(VLOOKUP(B1497,誕生日花!E:F,2,FALSE),\"\"))","v":"2016-03-14"}]
["桃","モモ","","（私は）あなたのとりこ",{"$f":"IFERROR(MATCH(B1498,誕生月花!$B$2:$B$13,0),\"\")","v":""},{"$f":"IFERROR(VLOOKUP(B1498&C1498,誕生日花!E:F,2,FALSE),IFERROR(VLOOKUP(B1498,誕生日花!E:F,2,FALSE),\"\"))","v":"2016-03-14"}]
["桃","モモ","","気立ての良さ",{"$f":"IFERROR(MATCH(B1499,誕生月花!$B$2:$B$13,0),\"\")","v":""},{"$f":"IFERROR(VLOOKUP(B1499&C1499,誕生日花!E:F,2,FALSE),IFERROR(VLOOKUP(B1499,誕生日花!E:F,2,FALSE),\"\"))","v":"2016-03-14"}]
["桃","モモ","","私はあなたのとりこ",{"$f":"IFERROR(MATCH(B1500,誕生月花!$B$2:$B$13,0),\"\")","v":""},{"$f":"IFERROR(VLOOKUP(B1500&C1500,誕生日花!E:F,2,FALSE),IFERROR(VLOOKUP(B1500,誕生日花!E:F,2,FALSE),\"\"))","v":"2016-03-14"}]
["桃","モモ","","天下無敵",{"$f":"IFERROR(MATCH(B1501,誕生月花!$B$2:$B$13,0),\"\")","v":""},{"$f":"IFERROR(VLOOKUP(B1501&C1501,誕生日花!E:F,2,FALSE),IFERROR(VLOOKUP(B1501,誕生日花!E:F,2,FALSE),\"\"))","v":"2016-03-14"}]
["モレア","モレア","","豊かな感性",{"$f":"IFERROR(MATCH(B1502,誕生月花!$B$2:$B$13,0),\"\")","v":""},{"$f":"IFERROR(VLOOKUP(B1502&C1502,誕生日花!E:F,2,FALSE),IFERROR(VLOOKUP(B1502,誕生日花!E:F,2,FALSE),\"\"))","v":"2016-11-15"}]
["鳳莱蕉（ホウライショウ）","モンステラ","","一途な幸せ",{"$f":"IFERROR(MATCH(B1503,誕生月花!$B$2:$B$13,0),\"\")","v":""},{"$f":"IFERROR(VLOOKUP(B1503&C1503,誕生日花!E:F,2,FALSE),IFERROR(VLOOKUP(B1503,誕生日花!E:F,2,FALSE),\"\"))","v":""}]
["鳳莱蕉（ホウライショウ）","モンステラ","","うれしい便り",{"$f":"IFERROR(MATCH(B1504,誕生月花!$B$2:$B$13,0),\"\")","v":""},{"$f":"IFERROR(VLOOKUP(B1504&C1504,誕生日花!E:F,2,FALSE),IFERROR(VLOOKUP(B1504,誕生日花!E:F,2,FALSE),\"\"))","v":""}]
["鳳莱蕉（ホウライショウ）","モンステラ","","深い関係",{"$f":"IFERROR(MATCH(B1505,誕生月花!$B$2:$B$13,0),\"\")","v":""},{"$f":"IFERROR(VLOOKUP(B1505&C1505,誕生日花!E:F,2,FALSE),IFERROR(VLOOKUP(B1505,誕生日花!E:F,2,FALSE),\"\"))","v":""}]
["鳳莱蕉（ホウライショウ）","モンステラ","","壮大な計画",{"$f":"IFERROR(MATCH(B1506,誕生月花!$B$2:$B$13,0),\"\")","v":""},{"$f":"IFERROR(VLOOKUP(B1506&C1506,誕生日花!E:F,2,FALSE),IFERROR(VLOOKUP(B1506,誕生日花!E:F,2,FALSE),\"\"))","v":""}]
["姫檜扇水仙（ヒメヒオウギズイセン）","モントブレチア","","謙譲の美",{"$f":"IFERROR(MATCH(B1507,誕生月花!$B$2:$B$13,0),\"\")","v":""},{"$f":"IFERROR(VLOOKUP(B1507&C1507,誕生日花!E:F,2,FALSE),IFERROR(VLOOKUP(B1507,誕生日花!E:F,2,FALSE),\"\"))","v":"2016-08-03"}]
["姫檜扇水仙（ヒメヒオウギズイセン）","モントブレチア","","陽気",{"$f":"IFERROR(MATCH(B1508,誕生月花!$B$2:$B$13,0),\"\")","v":""},{"$f":"IFERROR(VLOOKUP(B1508&C1508,誕生日花!E:F,2,FALSE),IFERROR(VLOOKUP(B1508,誕生日花!E:F,2,FALSE),\"\"))","v":"2016-08-03"}]
["八重桜","ヤエザクラ","","豊かな教養",{"$f":"IFERROR(MATCH(B1509,誕生月花!$B$2:$B$13,0),\"\")","v":""},{"$f":"IFERROR(VLOOKUP(B1509&C1509,誕生日花!E:F,2,FALSE),IFERROR(VLOOKUP(B1509,誕生日花!E:F,2,FALSE),\"\"))","v":""}]
["矢車菊","ヤグルマギク","","天上の人",{"$f":"IFERROR(MATCH(B1510,誕生月花!$B$2:$B$13,0),\"\")","v":""},{"$f":"IFERROR(VLOOKUP(B1510&C1510,誕生日花!E:F,2,FALSE),IFERROR(VLOOKUP(B1510,誕生日花!E:F,2,FALSE),\"\"))","v":""}]
["矢車菊","ヤグルマギク","","教育",{"$f":"IFERROR(MATCH(B1511,誕生月花!$B$2:$B$13,0),\"\")","v":""},{"$f":"IFERROR(VLOOKUP(B1511&C1511,誕生日花!E:F,2,FALSE),IFERROR(VLOOKUP(B1511,誕生日花!E:F,2,FALSE),\"\"))","v":""}]
["矢車菊","ヤグルマギク","","信頼",{"$f":"IFERROR(MATCH(B1512,誕生月花!$B$2:$B$13,0),\"\")","v":""},{"$f":"IFERROR(VLOOKUP(B1512&C1512,誕生日花!E:F,2,FALSE),IFERROR(VLOOKUP(B1512,誕生日花!E:F,2,FALSE),\"\"))","v":""}]
["矢車菊","ヤグルマギク","","繊細",{"$f":"IFERROR(MATCH(B1513,誕生月花!$B$2:$B$13,0),\"\")","v":""},{"$f":"IFERROR(VLOOKUP(B1513&C1513,誕生日花!E:F,2,FALSE),IFERROR(VLOOKUP(B1513,誕生日花!E:F,2,FALSE),\"\"))","v":""}]
["矢車菊","ヤグルマギク","","優美",{"$f":"IFERROR(MATCH(B1514,誕生月花!$B$2:$B$13,0),\"\")","v":""},{"$f":"IFERROR(VLOOKUP(B1514&C1514,誕生日花!E:F,2,FALSE),IFERROR(VLOOKUP(B1514,誕生日花!E:F,2,FALSE),\"\"))","v":""}]
["矢車草","ヤグルマソウ","","繊細",{"$f":"IFERROR(MATCH(B1515,誕生月花!$B$2:$B$13,0),\"\")","v":""},{"$f":"IFERROR(VLOOKUP(B1515&C1515,誕生日花!E:F,2,FALSE),IFERROR(VLOOKUP(B1515,誕生日花!E:F,2,FALSE),\"\"))","v":"2016-03-15"}]
["矢車薄荷","ヤグルマハッカ","","柔らかな心",{"$f":"IFERROR(MATCH(B1516,誕生月花!$B$2:$B$13,0),\"\")","v":""},{"$f":"IFERROR(VLOOKUP(B1516&C1516,誕生日花!E:F,2,FALSE),IFERROR(VLOOKUP(B1516,誕生日花!E:F,2,FALSE),\"\"))","v":""}]
["八代草","ヤツシロソウ","","従順",{"$f":"IFERROR(MATCH(B1517,誕生月花!$B$2:$B$13,0),\"\")","v":""},{"$f":"IFERROR(VLOOKUP(B1517&C1517,誕生日花!E:F,2,FALSE),IFERROR(VLOOKUP(B1517,誕生日花!E:F,2,FALSE),\"\"))","v":"2016-09-08"}]
["宿り木","ヤドリギ","","困難に打ち克つ",{"$f":"IFERROR(MATCH(B1518,誕生月花!$B$2:$B$13,0),\"\")","v":""},{"$f":"IFERROR(VLOOKUP(B1518&C1518,誕生日花!E:F,2,FALSE),IFERROR(VLOOKUP(B1518,誕生日花!E:F,2,FALSE),\"\"))","v":""}]
["宿り木","ヤドリギ","","私にキスして",{"$f":"IFERROR(MATCH(B1519,誕生月花!$B$2:$B$13,0),\"\")","v":""},{"$f":"IFERROR(VLOOKUP(B1519&C1519,誕生日花!E:F,2,FALSE),IFERROR(VLOOKUP(B1519,誕生日花!E:F,2,FALSE),\"\"))","v":""}]
["柳","ヤナギ","","自由",{"$f":"IFERROR(MATCH(B1520,誕生月花!$B$2:$B$13,0),\"\")","v":""},{"$f":"IFERROR(VLOOKUP(B1520&C1520,誕生日花!E:F,2,FALSE),IFERROR(VLOOKUP(B1520,誕生日花!E:F,2,FALSE),\"\"))","v":""}]
["柳","ヤナギ","","従順",{"$f":"IFERROR(MATCH(B1521,誕生月花!$B$2:$B$13,0),\"\")","v":""},{"$f":"IFERROR(VLOOKUP(B1521&C1521,誕生日花!E:F,2,FALSE),IFERROR(VLOOKUP(B1521,誕生日花!E:F,2,FALSE),\"\"))","v":""}]
["柳","ヤナギ","シダレヤナギ","嘆き",{"$f":"IFERROR(MATCH(B1522,誕生月花!$B$2:$B$13,0),\"\")","v":""},{"$f":"IFERROR(VLOOKUP(B1522&C1522,誕生日花!E:F,2,FALSE),IFERROR(VLOOKUP(B1522,誕生日花!E:F,2,FALSE),\"\"))","v":""}]
["矢筈葛","ヤハズカヅラ","","美しい瞳",{"$f":"IFERROR(MATCH(B1523,誕生月花!$B$2:$B$13,0),\"\")","v":""},{"$f":"IFERROR(VLOOKUP(B1523&C1523,誕生日花!E:F,2,FALSE),IFERROR(VLOOKUP(B1523,誕生日花!E:F,2,FALSE),\"\"))","v":"2016-10-28"}]
["藪蘭","ヤブラン","","隠された心",{"$f":"IFERROR(MATCH(B1524,誕生月花!$B$2:$B$13,0),\"\")","v":""},{"$f":"IFERROR(VLOOKUP(B1524&C1524,誕生日花!E:F,2,FALSE),IFERROR(VLOOKUP(B1524,誕生日花!E:F,2,FALSE),\"\"))","v":""}]
["藪蘭","ヤブラン","","忍耐",{"$f":"IFERROR(MATCH(B1525,誕生月花!$B$2:$B$13,0),\"\")","v":""},{"$f":"IFERROR(VLOOKUP(B1525&C1525,誕生日花!E:F,2,FALSE),IFERROR(VLOOKUP(B1525,誕生日花!E:F,2,FALSE),\"\"))","v":""}]
["山桜","ヤマザクラ","","あなたに微笑む",{"$f":"IFERROR(MATCH(B1526,誕生月花!$B$2:$B$13,0),\"\")","v":""},{"$f":"IFERROR(VLOOKUP(B1526&C1526,誕生日花!E:F,2,FALSE),IFERROR(VLOOKUP(B1526,誕生日花!E:F,2,FALSE),\"\"))","v":""}]
["山桜","ヤマザクラ","","高尚",{"$f":"IFERROR(MATCH(B1527,誕生月花!$B$2:$B$13,0),\"\")","v":""},{"$f":"IFERROR(VLOOKUP(B1527&C1527,誕生日花!E:F,2,FALSE),IFERROR(VLOOKUP(B1527,誕生日花!E:F,2,FALSE),\"\"))","v":""}]
["山桜","ヤマザクラ","","純潔",{"$f":"IFERROR(MATCH(B1528,誕生月花!$B$2:$B$13,0),\"\")","v":""},{"$f":"IFERROR(VLOOKUP(B1528&C1528,誕生日花!E:F,2,FALSE),IFERROR(VLOOKUP(B1528,誕生日花!E:F,2,FALSE),\"\"))","v":""}]
["山桜","ヤマザクラ","","淡白",{"$f":"IFERROR(MATCH(B1529,誕生月花!$B$2:$B$13,0),\"\")","v":""},{"$f":"IFERROR(VLOOKUP(B1529&C1529,誕生日花!E:F,2,FALSE),IFERROR(VLOOKUP(B1529,誕生日花!E:F,2,FALSE),\"\"))","v":""}]
["山桜","ヤマザクラ","","美麗",{"$f":"IFERROR(MATCH(B1530,誕生月花!$B$2:$B$13,0),\"\")","v":""},{"$f":"IFERROR(VLOOKUP(B1530&C1530,誕生日花!E:F,2,FALSE),IFERROR(VLOOKUP(B1530,誕生日花!E:F,2,FALSE),\"\"))","v":""}]
["山菅","ヤマスゲ","","忍耐",{"$f":"IFERROR(MATCH(B1531,誕生月花!$B$2:$B$13,0),\"\")","v":""},{"$f":"IFERROR(VLOOKUP(B1531&C1531,誕生日花!E:F,2,FALSE),IFERROR(VLOOKUP(B1531,誕生日花!E:F,2,FALSE),\"\"))","v":"2016-10-16"}]
["大和撫子","ヤマトナデシコ","","すてきな予感",{"$f":"IFERROR(MATCH(B1532,誕生月花!$B$2:$B$13,0),\"\")","v":""},{"$f":"IFERROR(VLOOKUP(B1532&C1532,誕生日花!E:F,2,FALSE),IFERROR(VLOOKUP(B1532,誕生日花!E:F,2,FALSE),\"\"))","v":"2016-07-26"}]
["山吹","ヤマブキ","","ずっと待っていました",{"$f":"IFERROR(MATCH(B1533,誕生月花!$B$2:$B$13,0),\"\")","v":""},{"$f":"IFERROR(VLOOKUP(B1533&C1533,誕生日花!E:F,2,FALSE),IFERROR(VLOOKUP(B1533,誕生日花!E:F,2,FALSE),\"\"))","v":"2016-03-23"}]
["山吹","ヤマブキ","","気品",{"$f":"IFERROR(MATCH(B1534,誕生月花!$B$2:$B$13,0),\"\")","v":""},{"$f":"IFERROR(VLOOKUP(B1534&C1534,誕生日花!E:F,2,FALSE),IFERROR(VLOOKUP(B1534,誕生日花!E:F,2,FALSE),\"\"))","v":"2016-03-23"}]
["山吹","ヤマブキ","","金運",{"$f":"IFERROR(MATCH(B1535,誕生月花!$B$2:$B$13,0),\"\")","v":""},{"$f":"IFERROR(VLOOKUP(B1535&C1535,誕生日花!E:F,2,FALSE),IFERROR(VLOOKUP(B1535,誕生日花!E:F,2,FALSE),\"\"))","v":"2016-03-23"}]
["山吹","ヤマブキ","","崇高",{"$f":"IFERROR(MATCH(B1536,誕生月花!$B$2:$B$13,0),\"\")","v":""},{"$f":"IFERROR(VLOOKUP(B1536&C1536,誕生日花!E:F,2,FALSE),IFERROR(VLOOKUP(B1536,誕生日花!E:F,2,FALSE),\"\"))","v":"2016-03-23"}]
["山法師","ヤマボウシ","","友情",{"$f":"IFERROR(MATCH(B1537,誕生月花!$B$2:$B$13,0),\"\")","v":""},{"$f":"IFERROR(VLOOKUP(B1537&C1537,誕生日花!E:F,2,FALSE),IFERROR(VLOOKUP(B1537,誕生日花!E:F,2,FALSE),\"\"))","v":""}]
["山百合","ヤマユリ","","荘厳",{"$f":"IFERROR(MATCH(B1538,誕生月花!$B$2:$B$13,0),\"\")","v":""},{"$f":"IFERROR(VLOOKUP(B1538&C1538,誕生日花!E:F,2,FALSE),IFERROR(VLOOKUP(B1538,誕生日花!E:F,2,FALSE),\"\"))","v":"2016-08-06"}]
["西洋鋸草（セイヨウノコギリソウ）","ヤロウ","","治癒",{"$f":"IFERROR(MATCH(B1539,誕生月花!$B$2:$B$13,0),\"\")","v":""},{"$f":"IFERROR(VLOOKUP(B1539&C1539,誕生日花!E:F,2,FALSE),IFERROR(VLOOKUP(B1539,誕生日花!E:F,2,FALSE),\"\"))","v":""}]
["夕顔","ユウガオ","","はかない恋",{"$f":"IFERROR(MATCH(B1540,誕生月花!$B$2:$B$13,0),\"\")","v":""},{"$f":"IFERROR(VLOOKUP(B1540&C1540,誕生日花!E:F,2,FALSE),IFERROR(VLOOKUP(B1540,誕生日花!E:F,2,FALSE),\"\"))","v":""}]
["夕顔","ユウガオ","","罪",{"$f":"IFERROR(MATCH(B1541,誕生月花!$B$2:$B$13,0),\"\")","v":""},{"$f":"IFERROR(VLOOKUP(B1541&C1541,誕生日花!E:F,2,FALSE),IFERROR(VLOOKUP(B1541,誕生日花!E:F,2,FALSE),\"\"))","v":""}]
["夕顔","ユウガオ","","夜",{"$f":"IFERROR(MATCH(B1542,誕生月花!$B$2:$B$13,0),\"\")","v":""},{"$f":"IFERROR(VLOOKUP(B1542&C1542,誕生日花!E:F,2,FALSE),IFERROR(VLOOKUP(B1542,誕生日花!E:F,2,FALSE),\"\"))","v":""}]
["有加利","ユーカリ","","記憶",{"$f":"IFERROR(MATCH(B1543,誕生月花!$B$2:$B$13,0),\"\")","v":""},{"$f":"IFERROR(VLOOKUP(B1543&C1543,誕生日花!E:F,2,FALSE),IFERROR(VLOOKUP(B1543,誕生日花!E:F,2,FALSE),\"\"))","v":""}]
["有加利","ユーカリ","","思い出",{"$f":"IFERROR(MATCH(B1544,誕生月花!$B$2:$B$13,0),\"\")","v":""},{"$f":"IFERROR(VLOOKUP(B1544&C1544,誕生日花!E:F,2,FALSE),IFERROR(VLOOKUP(B1544,誕生日花!E:F,2,FALSE),\"\"))","v":""}]
["有加利","ユーカリ","","新生",{"$f":"IFERROR(MATCH(B1545,誕生月花!$B$2:$B$13,0),\"\")","v":""},{"$f":"IFERROR(VLOOKUP(B1545&C1545,誕生日花!E:F,2,FALSE),IFERROR(VLOOKUP(B1545,誕生日花!E:F,2,FALSE),\"\"))","v":""}]
["有加利","ユーカリ","","生",{"$f":"IFERROR(MATCH(B1546,誕生月花!$B$2:$B$13,0),\"\")","v":""},{"$f":"IFERROR(VLOOKUP(B1546&C1546,誕生日花!E:F,2,FALSE),IFERROR(VLOOKUP(B1546,誕生日花!E:F,2,FALSE),\"\"))","v":""}]
["友禅菊","ユウゼンギク","","後知恵",{"$f":"IFERROR(MATCH(B1547,誕生月花!$B$2:$B$13,0),\"\")","v":""},{"$f":"IFERROR(VLOOKUP(B1547&C1547,誕生日花!E:F,2,FALSE),IFERROR(VLOOKUP(B1547,誕生日花!E:F,2,FALSE),\"\"))","v":"2016-09-24"}]
["友禅菊","ユウゼンギク","","老いても元気で",{"$f":"IFERROR(MATCH(B1548,誕生月花!$B$2:$B$13,0),\"\")","v":""},{"$f":"IFERROR(VLOOKUP(B1548&C1548,誕生日花!E:F,2,FALSE),IFERROR(VLOOKUP(B1548,誕生日花!E:F,2,FALSE),\"\"))","v":"2016-09-24"}]
["擬宝珠水仙（ギボウシズイセン）","ユーチャリス","","清い心",{"$f":"IFERROR(MATCH(B1549,誕生月花!$B$2:$B$13,0),\"\")","v":""},{"$f":"IFERROR(VLOOKUP(B1549&C1549,誕生日花!E:F,2,FALSE),IFERROR(VLOOKUP(B1549,誕生日花!E:F,2,FALSE),\"\"))","v":"2016-10-09"}]
["噴火竜","ユーフォルビア","","協力を得る",{"$f":"IFERROR(MATCH(B1550,誕生月花!$B$2:$B$13,0),\"\")","v":""},{"$f":"IFERROR(VLOOKUP(B1550&C1550,誕生日花!E:F,2,FALSE),IFERROR(VLOOKUP(B1550,誕生日花!E:F,2,FALSE),\"\"))","v":""}]
["雪の下","ユキノシタ","","深い愛情",{"$f":"IFERROR(MATCH(B1551,誕生月花!$B$2:$B$13,0),\"\")","v":""},{"$f":"IFERROR(VLOOKUP(B1551&C1551,誕生日花!E:F,2,FALSE),IFERROR(VLOOKUP(B1551,誕生日花!E:F,2,FALSE),\"\"))","v":""}]
["雪柳","ユキヤナギ","","愛らしさ",{"$f":"IFERROR(MATCH(B1552,誕生月花!$B$2:$B$13,0),\"\")","v":""},{"$f":"IFERROR(VLOOKUP(B1552&C1552,誕生日花!E:F,2,FALSE),IFERROR(VLOOKUP(B1552,誕生日花!E:F,2,FALSE),\"\"))","v":"2016-03-22"}]
["雪柳","ユキヤナギ","","気まま",{"$f":"IFERROR(MATCH(B1553,誕生月花!$B$2:$B$13,0),\"\")","v":""},{"$f":"IFERROR(VLOOKUP(B1553&C1553,誕生日花!E:F,2,FALSE),IFERROR(VLOOKUP(B1553,誕生日花!E:F,2,FALSE),\"\"))","v":"2016-03-22"}]
["雪柳","ユキヤナギ","","殊勝",{"$f":"IFERROR(MATCH(B1554,誕生月花!$B$2:$B$13,0),\"\")","v":""},{"$f":"IFERROR(VLOOKUP(B1554&C1554,誕生日花!E:F,2,FALSE),IFERROR(VLOOKUP(B1554,誕生日花!E:F,2,FALSE),\"\"))","v":"2016-03-22"}]
["雪割草","ユキワリソウ","","信頼",{"$f":"IFERROR(MATCH(B1555,誕生月花!$B$2:$B$13,0),\"\")","v":""},{"$f":"IFERROR(VLOOKUP(B1555&C1555,誕生日花!E:F,2,FALSE),IFERROR(VLOOKUP(B1555,誕生日花!E:F,2,FALSE),\"\"))","v":"2016-01-09"}]
["柚子","ユズ","","汚れなき人",{"$f":"IFERROR(MATCH(B1556,誕生月花!$B$2:$B$13,0),\"\")","v":""},{"$f":"IFERROR(VLOOKUP(B1556&C1556,誕生日花!E:F,2,FALSE),IFERROR(VLOOKUP(B1556,誕生日花!E:F,2,FALSE),\"\"))","v":"2016-05-06"}]
["柚子","ユズ","","健康美",{"$f":"IFERROR(MATCH(B1557,誕生月花!$B$2:$B$13,0),\"\")","v":""},{"$f":"IFERROR(VLOOKUP(B1557&C1557,誕生日花!E:F,2,FALSE),IFERROR(VLOOKUP(B1557,誕生日花!E:F,2,FALSE),\"\"))","v":"2016-05-06"}]
["柚子","ユズ","","恋のため息",{"$f":"IFERROR(MATCH(B1558,誕生月花!$B$2:$B$13,0),\"\")","v":""},{"$f":"IFERROR(VLOOKUP(B1558&C1558,誕生日花!E:F,2,FALSE),IFERROR(VLOOKUP(B1558,誕生日花!E:F,2,FALSE),\"\"))","v":"2016-05-06"}]
["梅桃","ユスラウメ","","ノスタルジー",{"$f":"IFERROR(MATCH(B1559,誕生月花!$B$2:$B$13,0),\"\")","v":""},{"$f":"IFERROR(VLOOKUP(B1559&C1559,誕生日花!E:F,2,FALSE),IFERROR(VLOOKUP(B1559,誕生日花!E:F,2,FALSE),\"\"))","v":"2016-04-17"}]
["百合","ユリ","","純粋さ",{"$f":"IFERROR(MATCH(B1560,誕生月花!$B$2:$B$13,0),\"\")","v":7},{"$f":"IFERROR(VLOOKUP(B1560&C1560,誕生日花!E:F,2,FALSE),IFERROR(VLOOKUP(B1560,誕生日花!E:F,2,FALSE),\"\"))","v":""}]
["百合","ユリ","","威厳",{"$f":"IFERROR(MATCH(B1561,誕生月花!$B$2:$B$13,0),\"\")","v":7},{"$f":"IFERROR(VLOOKUP(B1561&C1561,誕生日花!E:F,2,FALSE),IFERROR(VLOOKUP(B1561,誕生日花!E:F,2,FALSE),\"\"))","v":""}]
["百合","ユリ","","無垢",{"$f":"IFERROR(MATCH(B1562,誕生月花!$B$2:$B$13,0),\"\")","v":7},{"$f":"IFERROR(VLOOKUP(B1562&C1562,誕生日花!E:F,2,FALSE),IFERROR(VLOOKUP(B1562,誕生日花!E:F,2,FALSE),\"\"))","v":""}]
["百合","ユリ","オレンジ","華麗",{"$f":"IFERROR(MATCH(B1563,誕生月花!$B$2:$B$13,0),\"\")","v":7},{"$f":"IFERROR(VLOOKUP(B1563&C1563,誕生日花!E:F,2,FALSE),IFERROR(VLOOKUP(B1563,誕生日花!E:F,2,FALSE),\"\"))","v":""}]
["百合","ユリ","オレンジ","軽率",{"$f":"IFERROR(MATCH(B1564,誕生月花!$B$2:$B$13,0),\"\")","v":7},{"$f":"IFERROR(VLOOKUP(B1564&C1564,誕生日花!E:F,2,FALSE),IFERROR(VLOOKUP(B1564,誕生日花!E:F,2,FALSE),\"\"))","v":""}]
["百合","ユリ","オレンジ","愉快",{"$f":"IFERROR(MATCH(B1565,誕生月花!$B$2:$B$13,0),\"\")","v":7},{"$f":"IFERROR(VLOOKUP(B1565&C1565,誕生日花!E:F,2,FALSE),IFERROR(VLOOKUP(B1565,誕生日花!E:F,2,FALSE),\"\"))","v":""}]
["百合","ユリ","黄","偽り",{"$f":"IFERROR(MATCH(B1566,誕生月花!$B$2:$B$13,0),\"\")","v":7},{"$f":"IFERROR(VLOOKUP(B1566&C1566,誕生日花!E:F,2,FALSE),IFERROR(VLOOKUP(B1566,誕生日花!E:F,2,FALSE),\"\"))","v":""}]
["百合","ユリ","黄","陽気",{"$f":"IFERROR(MATCH(B1567,誕生月花!$B$2:$B$13,0),\"\")","v":7},{"$f":"IFERROR(VLOOKUP(B1567&C1567,誕生日花!E:F,2,FALSE),IFERROR(VLOOKUP(B1567,誕生日花!E:F,2,FALSE),\"\"))","v":""}]
["百合","ユリ","赤・ピンク","虚栄心",{"$f":"IFERROR(MATCH(B1568,誕生月花!$B$2:$B$13,0),\"\")","v":7},{"$f":"IFERROR(VLOOKUP(B1568&C1568,誕生日花!E:F,2,FALSE),IFERROR(VLOOKUP(B1568,誕生日花!E:F,2,FALSE),\"\"))","v":""}]
["百合","ユリ","白","純潔",{"$f":"IFERROR(MATCH(B1569,誕生月花!$B$2:$B$13,0),\"\")","v":7},{"$f":"IFERROR(VLOOKUP(B1569&C1569,誕生日花!E:F,2,FALSE),IFERROR(VLOOKUP(B1569,誕生日花!E:F,2,FALSE),\"\"))","v":""}]
["ユリオプスデージー","ユリオプスデージー","","円満",{"$f":"IFERROR(MATCH(B1570,誕生月花!$B$2:$B$13,0),\"\")","v":""},{"$f":"IFERROR(VLOOKUP(B1570&C1570,誕生日花!E:F,2,FALSE),IFERROR(VLOOKUP(B1570,誕生日花!E:F,2,FALSE),\"\"))","v":"2016-12-23"}]
["ユリオプスデージー","ユリオプスデージー","","円満な関係",{"$f":"IFERROR(MATCH(B1571,誕生月花!$B$2:$B$13,0),\"\")","v":""},{"$f":"IFERROR(VLOOKUP(B1571&C1571,誕生日花!E:F,2,FALSE),IFERROR(VLOOKUP(B1571,誕生日花!E:F,2,FALSE),\"\"))","v":"2016-12-23"}]
["ユリオプスデージー","ユリオプスデージー","","夫婦円満",{"$f":"IFERROR(MATCH(B1572,誕生月花!$B$2:$B$13,0),\"\")","v":""},{"$f":"IFERROR(VLOOKUP(B1572&C1572,誕生日花!E:F,2,FALSE),IFERROR(VLOOKUP(B1572,誕生日花!E:F,2,FALSE),\"\"))","v":"2016-12-23"}]
["ユリオプスデージー","ユリオプスデージー","","明るい愛",{"$f":"IFERROR(MATCH(B1573,誕生月花!$B$2:$B$13,0),\"\")","v":""},{"$f":"IFERROR(VLOOKUP(B1573&C1573,誕生日花!E:F,2,FALSE),IFERROR(VLOOKUP(B1573,誕生日花!E:F,2,FALSE),\"\"))","v":"2016-12-23"}]
["瓔珞草","ヨウラクソウ","","片想い",{"$f":"IFERROR(MATCH(B1574,誕生月花!$B$2:$B$13,0),\"\")","v":""},{"$f":"IFERROR(VLOOKUP(B1574&C1574,誕生日花!E:F,2,FALSE),IFERROR(VLOOKUP(B1574,誕生日花!E:F,2,FALSE),\"\"))","v":"2016-10-17"}]
["四つ葉のクローバー","ヨツバノクローバー","","私のものになって",{"$f":"IFERROR(MATCH(B1575,誕生月花!$B$2:$B$13,0),\"\")","v":""},{"$f":"IFERROR(VLOOKUP(B1575&C1575,誕生日花!E:F,2,FALSE),IFERROR(VLOOKUP(B1575,誕生日花!E:F,2,FALSE),\"\"))","v":""}]
["嫁菜","ヨメナ","","秘めた美しさ",{"$f":"IFERROR(MATCH(B1576,誕生月花!$B$2:$B$13,0),\"\")","v":""},{"$f":"IFERROR(VLOOKUP(B1576&C1576,誕生日花!E:F,2,FALSE),IFERROR(VLOOKUP(B1576,誕生日花!E:F,2,FALSE),\"\"))","v":"2016-09-15"}]
["夜顔","ヨルガオ","","夕暮れの思い出",{"$f":"IFERROR(MATCH(B1577,誕生月花!$B$2:$B$13,0),\"\")","v":""},{"$f":"IFERROR(VLOOKUP(B1577&C1577,誕生日花!E:F,2,FALSE),IFERROR(VLOOKUP(B1577,誕生日花!E:F,2,FALSE),\"\"))","v":""}]
["千鳥草（チドリソウ）","ラークスパー","","快活",{"$f":"IFERROR(MATCH(B1578,誕生月花!$B$2:$B$13,0),\"\")","v":""},{"$f":"IFERROR(VLOOKUP(B1578&C1578,誕生日花!E:F,2,FALSE),IFERROR(VLOOKUP(B1578,誕生日花!E:F,2,FALSE),\"\"))","v":""}]
["千鳥草（チドリソウ）","ラークスパー","","陽気",{"$f":"IFERROR(MATCH(B1579,誕生月花!$B$2:$B$13,0),\"\")","v":""},{"$f":"IFERROR(VLOOKUP(B1579&C1579,誕生日花!E:F,2,FALSE),IFERROR(VLOOKUP(B1579,誕生日花!E:F,2,FALSE),\"\"))","v":""}]
["ライム","ライム","","刺激",{"$f":"IFERROR(MATCH(B1580,誕生月花!$B$2:$B$13,0),\"\")","v":""},{"$f":"IFERROR(VLOOKUP(B1580&C1580,誕生日花!E:F,2,FALSE),IFERROR(VLOOKUP(B1580,誕生日花!E:F,2,FALSE),\"\"))","v":""}]
["紫丁香花（ムラサキハシドイ）","ライラック","","謙虚",{"$f":"IFERROR(MATCH(B1581,誕生月花!$B$2:$B$13,0),\"\")","v":""},{"$f":"IFERROR(VLOOKUP(B1581&C1581,誕生日花!E:F,2,FALSE),IFERROR(VLOOKUP(B1581,誕生日花!E:F,2,FALSE),\"\"))","v":"2016-04-16"}]
["紫丁香花（ムラサキハシドイ）","ライラック","","思い出",{"$f":"IFERROR(MATCH(B1582,誕生月花!$B$2:$B$13,0),\"\")","v":""},{"$f":"IFERROR(VLOOKUP(B1582&C1582,誕生日花!E:F,2,FALSE),IFERROR(VLOOKUP(B1582,誕生日花!E:F,2,FALSE),\"\"))","v":"2016-04-16"}]
["紫丁香花（ムラサキハシドイ）","ライラック","","友情",{"$f":"IFERROR(MATCH(B1583,誕生月花!$B$2:$B$13,0),\"\")","v":""},{"$f":"IFERROR(VLOOKUP(B1583&C1583,誕生日花!E:F,2,FALSE),IFERROR(VLOOKUP(B1583,誕生日花!E:F,2,FALSE),\"\"))","v":"2016-04-16"}]
["紫丁香花（ムラサキハシドイ）","ライラック","","私をまだ愛してますか",{"$f":"IFERROR(MATCH(B1584,誕生月花!$B$2:$B$13,0),\"\")","v":""},{"$f":"IFERROR(VLOOKUP(B1584&C1584,誕生日花!E:F,2,FALSE),IFERROR(VLOOKUP(B1584,誕生日花!E:F,2,FALSE),\"\"))","v":"2016-04-16"}]
["紫丁香花（ムラサキハシドイ）","ライラック","紫","初恋",{"$f":"IFERROR(MATCH(B1585,誕生月花!$B$2:$B$13,0),\"\")","v":""},{"$f":"IFERROR(VLOOKUP(B1585&C1585,誕生日花!E:F,2,FALSE),IFERROR(VLOOKUP(B1585,誕生日花!E:F,2,FALSE),\"\"))","v":"2016-04-16"}]
["紫丁香花（ムラサキハシドイ）","ライラック","紫","恋の芽生え",{"$f":"IFERROR(MATCH(B1586,誕生月花!$B$2:$B$13,0),\"\")","v":""},{"$f":"IFERROR(VLOOKUP(B1586&C1586,誕生日花!E:F,2,FALSE),IFERROR(VLOOKUP(B1586,誕生日花!E:F,2,FALSE),\"\"))","v":"2016-04-16"}]
["紫丁香花（ムラサキハシドイ）","ライラック","白","美しい契り",{"$f":"IFERROR(MATCH(B1587,誕生月花!$B$2:$B$13,0),\"\")","v":""},{"$f":"IFERROR(VLOOKUP(B1587&C1587,誕生日花!E:F,2,FALSE),IFERROR(VLOOKUP(B1587,誕生日花!E:F,2,FALSE),\"\"))","v":"2016-04-16"}]
["紫丁香花（ムラサキハシドイ）","ライラック","白","青春の喜び",{"$f":"IFERROR(MATCH(B1588,誕生月花!$B$2:$B$13,0),\"\")","v":""},{"$f":"IFERROR(VLOOKUP(B1588&C1588,誕生日花!E:F,2,FALSE),IFERROR(VLOOKUP(B1588,誕生日花!E:F,2,FALSE),\"\"))","v":"2016-04-16"}]
["紫丁香花（ムラサキハシドイ）","ライラック","白","無邪気",{"$f":"IFERROR(MATCH(B1589,誕生月花!$B$2:$B$13,0),\"\")","v":""},{"$f":"IFERROR(VLOOKUP(B1589&C1589,誕生日花!E:F,2,FALSE),IFERROR(VLOOKUP(B1589,誕生日花!E:F,2,FALSE),\"\"))","v":"2016-04-16"}]
["アフリカンヒヤシンス","ラケナリア","","継続",{"$f":"IFERROR(MATCH(B1590,誕生月花!$B$2:$B$13,0),\"\")","v":""},{"$f":"IFERROR(VLOOKUP(B1590&C1590,誕生日花!E:F,2,FALSE),IFERROR(VLOOKUP(B1590,誕生日花!E:F,2,FALSE),\"\"))","v":"2016-12-16"}]
["喇叭水仙","ラッパスイセン","","尊敬",{"$f":"IFERROR(MATCH(B1591,誕生月花!$B$2:$B$13,0),\"\")","v":""},{"$f":"IFERROR(VLOOKUP(B1591&C1591,誕生日花!E:F,2,FALSE),IFERROR(VLOOKUP(B1591,誕生日花!E:F,2,FALSE),\"\"))","v":"2016-01-05"}]
["喇叭水仙","ラッパスイセン","","報われぬ恋",{"$f":"IFERROR(MATCH(B1592,誕生月花!$B$2:$B$13,0),\"\")","v":""},{"$f":"IFERROR(VLOOKUP(B1592&C1592,誕生日花!E:F,2,FALSE),IFERROR(VLOOKUP(B1592,誕生日花!E:F,2,FALSE),\"\"))","v":"2016-01-05"}]
["花金鳳花（ハナキンポウゲ）","ラナンキュラス","","輝く魅力",{"$f":"IFERROR(MATCH(B1593,誕生月花!$B$2:$B$13,0),\"\")","v":""},{"$f":"IFERROR(VLOOKUP(B1593&C1593,誕生日花!E:F,2,FALSE),IFERROR(VLOOKUP(B1593,誕生日花!E:F,2,FALSE),\"\"))","v":"2016-04-03"}]
["花金鳳花（ハナキンポウゲ）","ラナンキュラス","","とても魅力的",{"$f":"IFERROR(MATCH(B1594,誕生月花!$B$2:$B$13,0),\"\")","v":""},{"$f":"IFERROR(VLOOKUP(B1594&C1594,誕生日花!E:F,2,FALSE),IFERROR(VLOOKUP(B1594,誕生日花!E:F,2,FALSE),\"\"))","v":"2016-04-03"}]
["花金鳳花（ハナキンポウゲ）","ラナンキュラス","","光輝を放つ",{"$f":"IFERROR(MATCH(B1595,誕生月花!$B$2:$B$13,0),\"\")","v":""},{"$f":"IFERROR(VLOOKUP(B1595&C1595,誕生日花!E:F,2,FALSE),IFERROR(VLOOKUP(B1595,誕生日花!E:F,2,FALSE),\"\"))","v":"2016-04-03"}]
["花金鳳花（ハナキンポウゲ）","ラナンキュラス","","晴れやかな魅力",{"$f":"IFERROR(MATCH(B1596,誕生月花!$B$2:$B$13,0),\"\")","v":""},{"$f":"IFERROR(VLOOKUP(B1596&C1596,誕生日花!E:F,2,FALSE),IFERROR(VLOOKUP(B1596,誕生日花!E:F,2,FALSE),\"\"))","v":"2016-04-03"}]
["薫衣草（クンイソウ）","ラベンダー","","期待",{"$f":"IFERROR(MATCH(B1597,誕生月花!$B$2:$B$13,0),\"\")","v":""},{"$f":"IFERROR(VLOOKUP(B1597&C1597,誕生日花!E:F,2,FALSE),IFERROR(VLOOKUP(B1597,誕生日花!E:F,2,FALSE),\"\"))","v":"2016-06-10"}]
["薫衣草（クンイソウ）","ラベンダー","","疑惑",{"$f":"IFERROR(MATCH(B1598,誕生月花!$B$2:$B$13,0),\"\")","v":""},{"$f":"IFERROR(VLOOKUP(B1598&C1598,誕生日花!E:F,2,FALSE),IFERROR(VLOOKUP(B1598,誕生日花!E:F,2,FALSE),\"\"))","v":"2016-06-10"}]
["薫衣草（クンイソウ）","ラベンダー","","私に答えてください",{"$f":"IFERROR(MATCH(B1599,誕生月花!$B$2:$B$13,0),\"\")","v":""},{"$f":"IFERROR(VLOOKUP(B1599&C1599,誕生日花!E:F,2,FALSE),IFERROR(VLOOKUP(B1599,誕生日花!E:F,2,FALSE),\"\"))","v":"2016-06-10"}]
["薫衣草（クンイソウ）","ラベンダー","","沈黙",{"$f":"IFERROR(MATCH(B1600,誕生月花!$B$2:$B$13,0),\"\")","v":""},{"$f":"IFERROR(VLOOKUP(B1600&C1600,誕生日花!E:F,2,FALSE),IFERROR(VLOOKUP(B1600,誕生日花!E:F,2,FALSE),\"\"))","v":"2016-06-10"}]
["薫衣草（クンイソウ）","ラベンダー","","不信感",{"$f":"IFERROR(MATCH(B1601,誕生月花!$B$2:$B$13,0),\"\")","v":""},{"$f":"IFERROR(VLOOKUP(B1601&C1601,誕生日花!E:F,2,FALSE),IFERROR(VLOOKUP(B1601,誕生日花!E:F,2,FALSE),\"\"))","v":"2016-06-10"}]
["蘭","ラン","","勤勉",{"$f":"IFERROR(MATCH(B1602,誕生月花!$B$2:$B$13,0),\"\")","v":""},{"$f":"IFERROR(VLOOKUP(B1602&C1602,誕生日花!E:F,2,FALSE),IFERROR(VLOOKUP(B1602,誕生日花!E:F,2,FALSE),\"\"))","v":""}]
["蘭","ラン","","美しい淑女",{"$f":"IFERROR(MATCH(B1603,誕生月花!$B$2:$B$13,0),\"\")","v":""},{"$f":"IFERROR(VLOOKUP(B1603&C1603,誕生日花!E:F,2,FALSE),IFERROR(VLOOKUP(B1603,誕生日花!E:F,2,FALSE),\"\"))","v":""}]
["蘭","ラン","","優雅",{"$f":"IFERROR(MATCH(B1604,誕生月花!$B$2:$B$13,0),\"\")","v":""},{"$f":"IFERROR(VLOOKUP(B1604&C1604,誕生日花!E:F,2,FALSE),IFERROR(VLOOKUP(B1604,誕生日花!E:F,2,FALSE),\"\"))","v":""}]
["七変化（シチヘンゲ）","ランタナ","","心変わり",{"$f":"IFERROR(MATCH(B1605,誕生月花!$B$2:$B$13,0),\"\")","v":""},{"$f":"IFERROR(VLOOKUP(B1605&C1605,誕生日花!E:F,2,FALSE),IFERROR(VLOOKUP(B1605,誕生日花!E:F,2,FALSE),\"\"))","v":"2016-09-13"}]
["七変化（シチヘンゲ）","ランタナ","","協力",{"$f":"IFERROR(MATCH(B1606,誕生月花!$B$2:$B$13,0),\"\")","v":""},{"$f":"IFERROR(VLOOKUP(B1606&C1606,誕生日花!E:F,2,FALSE),IFERROR(VLOOKUP(B1606,誕生日花!E:F,2,FALSE),\"\"))","v":"2016-09-13"}]
["七変化（シチヘンゲ）","ランタナ","","厳格",{"$f":"IFERROR(MATCH(B1607,誕生月花!$B$2:$B$13,0),\"\")","v":""},{"$f":"IFERROR(VLOOKUP(B1607&C1607,誕生日花!E:F,2,FALSE),IFERROR(VLOOKUP(B1607,誕生日花!E:F,2,FALSE),\"\"))","v":"2016-09-13"}]
["七変化（シチヘンゲ）","ランタナ","","合意",{"$f":"IFERROR(MATCH(B1608,誕生月花!$B$2:$B$13,0),\"\")","v":""},{"$f":"IFERROR(VLOOKUP(B1608&C1608,誕生日花!E:F,2,FALSE),IFERROR(VLOOKUP(B1608,誕生日花!E:F,2,FALSE),\"\"))","v":"2016-09-13"}]
["麒麟菊（キリンギク）","リアトリス","","向上心",{"$f":"IFERROR(MATCH(B1609,誕生月花!$B$2:$B$13,0),\"\")","v":""},{"$f":"IFERROR(VLOOKUP(B1609&C1609,誕生日花!E:F,2,FALSE),IFERROR(VLOOKUP(B1609,誕生日花!E:F,2,FALSE),\"\"))","v":""}]
["麒麟菊（キリンギク）","リアトリス","","長すぎた恋愛",{"$f":"IFERROR(MATCH(B1610,誕生月花!$B$2:$B$13,0),\"\")","v":""},{"$f":"IFERROR(VLOOKUP(B1610&C1610,誕生日花!E:F,2,FALSE),IFERROR(VLOOKUP(B1610,誕生日花!E:F,2,FALSE),\"\"))","v":""}]
["麒麟菊（キリンギク）","リアトリス","","燃える思い",{"$f":"IFERROR(MATCH(B1611,誕生月花!$B$2:$B$13,0),\"\")","v":""},{"$f":"IFERROR(VLOOKUP(B1611&C1611,誕生日花!E:F,2,FALSE),IFERROR(VLOOKUP(B1611,誕生日花!E:F,2,FALSE),\"\"))","v":""}]
["リカステ","リカステ","","汚れなき人",{"$f":"IFERROR(MATCH(B1612,誕生月花!$B$2:$B$13,0),\"\")","v":""},{"$f":"IFERROR(VLOOKUP(B1612&C1612,誕生日花!E:F,2,FALSE),IFERROR(VLOOKUP(B1612,誕生日花!E:F,2,FALSE),\"\"))","v":"2016-01-22"}]
["彼岸花（ヒガンバナ）","リコリス","","思い出",{"$f":"IFERROR(MATCH(B1613,誕生月花!$B$2:$B$13,0),\"\")","v":""},{"$f":"IFERROR(VLOOKUP(B1613&C1613,誕生日花!E:F,2,FALSE),IFERROR(VLOOKUP(B1613,誕生日花!E:F,2,FALSE),\"\"))","v":""}]
["トルコ桔梗（トルコギキョウ）","リシアンサス","","優美",{"$f":"IFERROR(MATCH(B1614,誕生月花!$B$2:$B$13,0),\"\")","v":""},{"$f":"IFERROR(VLOOKUP(B1614&C1614,誕生日花!E:F,2,FALSE),IFERROR(VLOOKUP(B1614,誕生日花!E:F,2,FALSE),\"\"))","v":"2016-08-25"}]
["姫金魚草（ヒメキンギョソウ）","リナリア","","私の恋を知って",{"$f":"IFERROR(MATCH(B1615,誕生月花!$B$2:$B$13,0),\"\")","v":""},{"$f":"IFERROR(VLOOKUP(B1615&C1615,誕生日花!E:F,2,FALSE),IFERROR(VLOOKUP(B1615,誕生日花!E:F,2,FALSE),\"\"))","v":""}]
["姫金魚草（ヒメキンギョソウ）","リナリア","","この恋に気づいて",{"$f":"IFERROR(MATCH(B1616,誕生月花!$B$2:$B$13,0),\"\")","v":""},{"$f":"IFERROR(VLOOKUP(B1616&C1616,誕生日花!E:F,2,FALSE),IFERROR(VLOOKUP(B1616,誕生日花!E:F,2,FALSE),\"\"))","v":""}]
["化粧桜（ケショウザクラ）","リムラ・マラコイデス","","運命を開く",{"$f":"IFERROR(MATCH(B1617,誕生月花!$B$2:$B$13,0),\"\")","v":""},{"$f":"IFERROR(VLOOKUP(B1617&C1617,誕生日花!E:F,2,FALSE),IFERROR(VLOOKUP(B1617,誕生日花!E:F,2,FALSE),\"\"))","v":""}]
["竜の髯","リュウノヒゲ","","天才的",{"$f":"IFERROR(MATCH(B1618,誕生月花!$B$2:$B$13,0),\"\")","v":""},{"$f":"IFERROR(VLOOKUP(B1618&C1618,誕生日花!E:F,2,FALSE),IFERROR(VLOOKUP(B1618,誕生日花!E:F,2,FALSE),\"\"))","v":"2016-12-26"}]
["百合（ユリ）","リリー","","純粋さ",{"$f":"IFERROR(MATCH(B1619,誕生月花!$B$2:$B$13,0),\"\")","v":""},{"$f":"IFERROR(VLOOKUP(B1619&C1619,誕生日花!E:F,2,FALSE),IFERROR(VLOOKUP(B1619,誕生日花!E:F,2,FALSE),\"\"))","v":""}]
["林檎","リンゴ","","偉大",{"$f":"IFERROR(MATCH(B1620,誕生月花!$B$2:$B$13,0),\"\")","v":""},{"$f":"IFERROR(VLOOKUP(B1620&C1620,誕生日花!E:F,2,FALSE),IFERROR(VLOOKUP(B1620,誕生日花!E:F,2,FALSE),\"\"))","v":""}]
["林檎","リンゴ","","好み",{"$f":"IFERROR(MATCH(B1621,誕生月花!$B$2:$B$13,0),\"\")","v":""},{"$f":"IFERROR(VLOOKUP(B1621&C1621,誕生日花!E:F,2,FALSE),IFERROR(VLOOKUP(B1621,誕生日花!E:F,2,FALSE),\"\"))","v":""}]
["林檎","リンゴ","","選択",{"$f":"IFERROR(MATCH(B1622,誕生月花!$B$2:$B$13,0),\"\")","v":""},{"$f":"IFERROR(VLOOKUP(B1622&C1622,誕生日花!E:F,2,FALSE),IFERROR(VLOOKUP(B1622,誕生日花!E:F,2,FALSE),\"\"))","v":""}]
["林檎","リンゴ","","優先",{"$f":"IFERROR(MATCH(B1623,誕生月花!$B$2:$B$13,0),\"\")","v":""},{"$f":"IFERROR(VLOOKUP(B1623&C1623,誕生日花!E:F,2,FALSE),IFERROR(VLOOKUP(B1623,誕生日花!E:F,2,FALSE),\"\"))","v":""}]
["林檎","リンゴ","実","後悔",{"$f":"IFERROR(MATCH(B1624,誕生月花!$B$2:$B$13,0),\"\")","v":""},{"$f":"IFERROR(VLOOKUP(B1624&C1624,誕生日花!E:F,2,FALSE),IFERROR(VLOOKUP(B1624,誕生日花!E:F,2,FALSE),\"\"))","v":""}]
["林檎","リンゴ","実","誘惑",{"$f":"IFERROR(MATCH(B1625,誕生月花!$B$2:$B$13,0),\"\")","v":""},{"$f":"IFERROR(VLOOKUP(B1625&C1625,誕生日花!E:F,2,FALSE),IFERROR(VLOOKUP(B1625,誕生日花!E:F,2,FALSE),\"\"))","v":""}]
["林檎","リンゴ","木","名誉",{"$f":"IFERROR(MATCH(B1626,誕生月花!$B$2:$B$13,0),\"\")","v":""},{"$f":"IFERROR(VLOOKUP(B1626&C1626,誕生日花!E:F,2,FALSE),IFERROR(VLOOKUP(B1626,誕生日花!E:F,2,FALSE),\"\"))","v":""}]
["大穂咲松蘭（オオホザキマツラン）","リンコスティリス","","大胆",{"$f":"IFERROR(MATCH(B1627,誕生月花!$B$2:$B$13,0),\"\")","v":""},{"$f":"IFERROR(VLOOKUP(B1627&C1627,誕生日花!E:F,2,FALSE),IFERROR(VLOOKUP(B1627,誕生日花!E:F,2,FALSE),\"\"))","v":""}]
["竜胆","リンドウ","","甘い夢",{"$f":"IFERROR(MATCH(B1628,誕生月花!$B$2:$B$13,0),\"\")","v":""},{"$f":"IFERROR(VLOOKUP(B1628&C1628,誕生日花!E:F,2,FALSE),IFERROR(VLOOKUP(B1628,誕生日花!E:F,2,FALSE),\"\"))","v":"2016-09-28"}]
["竜胆","リンドウ","","正義",{"$f":"IFERROR(MATCH(B1629,誕生月花!$B$2:$B$13,0),\"\")","v":""},{"$f":"IFERROR(VLOOKUP(B1629&C1629,誕生日花!E:F,2,FALSE),IFERROR(VLOOKUP(B1629,誕生日花!E:F,2,FALSE),\"\"))","v":"2016-09-28"}]
["竜胆","リンドウ","","誠実",{"$f":"IFERROR(MATCH(B1630,誕生月花!$B$2:$B$13,0),\"\")","v":""},{"$f":"IFERROR(VLOOKUP(B1630&C1630,誕生日花!E:F,2,FALSE),IFERROR(VLOOKUP(B1630,誕生日花!E:F,2,FALSE),\"\"))","v":"2016-09-28"}]
["竜胆","リンドウ","","悲しんでいるあなたを愛する",{"$f":"IFERROR(MATCH(B1631,誕生月花!$B$2:$B$13,0),\"\")","v":""},{"$f":"IFERROR(VLOOKUP(B1631&C1631,誕生日花!E:F,2,FALSE),IFERROR(VLOOKUP(B1631,誕生日花!E:F,2,FALSE),\"\"))","v":"2016-09-28"}]
["アッサム匂い桜（アッサムニオイザクラ）","ルクリア","","優美な人",{"$f":"IFERROR(MATCH(B1632,誕生月花!$B$2:$B$13,0),\"\")","v":""},{"$f":"IFERROR(VLOOKUP(B1632&C1632,誕生日花!E:F,2,FALSE),IFERROR(VLOOKUP(B1632,誕生日花!E:F,2,FALSE),\"\"))","v":"2016-11-20"}]
["縷紅草","ルコウソウ","","おせっかい",{"$f":"IFERROR(MATCH(B1633,誕生月花!$B$2:$B$13,0),\"\")","v":""},{"$f":"IFERROR(VLOOKUP(B1633&C1633,誕生日花!E:F,2,FALSE),IFERROR(VLOOKUP(B1633,誕生日花!E:F,2,FALSE),\"\"))","v":"2016-07-20"}]
["縷紅草","ルコウソウ","","でしゃばり",{"$f":"IFERROR(MATCH(B1634,誕生月花!$B$2:$B$13,0),\"\")","v":""},{"$f":"IFERROR(VLOOKUP(B1634&C1634,誕生日花!E:F,2,FALSE),IFERROR(VLOOKUP(B1634,誕生日花!E:F,2,FALSE),\"\"))","v":"2016-07-20"}]
["縷紅草","ルコウソウ","","繊細な愛",{"$f":"IFERROR(MATCH(B1635,誕生月花!$B$2:$B$13,0),\"\")","v":""},{"$f":"IFERROR(VLOOKUP(B1635&C1635,誕生日花!E:F,2,FALSE),IFERROR(VLOOKUP(B1635,誕生日花!E:F,2,FALSE),\"\"))","v":"2016-07-20"}]
["松笠菊（マツカサギク）","ルドベキア","","公平",{"$f":"IFERROR(MATCH(B1636,誕生月花!$B$2:$B$13,0),\"\")","v":""},{"$f":"IFERROR(VLOOKUP(B1636&C1636,誕生日花!E:F,2,FALSE),IFERROR(VLOOKUP(B1636,誕生日花!E:F,2,FALSE),\"\"))","v":"2016-08-13"}]
["松笠菊（マツカサギク）","ルドベキア","","あなたを見つめる",{"$f":"IFERROR(MATCH(B1637,誕生月花!$B$2:$B$13,0),\"\")","v":""},{"$f":"IFERROR(VLOOKUP(B1637&C1637,誕生日花!E:F,2,FALSE),IFERROR(VLOOKUP(B1637,誕生日花!E:F,2,FALSE),\"\"))","v":"2016-08-13"}]
["松笠菊（マツカサギク）","ルドベキア","","正義",{"$f":"IFERROR(MATCH(B1638,誕生月花!$B$2:$B$13,0),\"\")","v":""},{"$f":"IFERROR(VLOOKUP(B1638&C1638,誕生日花!E:F,2,FALSE),IFERROR(VLOOKUP(B1638,誕生日花!E:F,2,FALSE),\"\"))","v":"2016-08-13"}]
["食用大黄（ショクヨウダイオウ）","ルバーブ","","忠告",{"$f":"IFERROR(MATCH(B1639,誕生月花!$B$2:$B$13,0),\"\")","v":""},{"$f":"IFERROR(VLOOKUP(B1639&C1639,誕生日花!E:F,2,FALSE),IFERROR(VLOOKUP(B1639,誕生日花!E:F,2,FALSE),\"\"))","v":""}]
["昇リ藤（ノボリフジ）","ルピナス","","多くの仲間",{"$f":"IFERROR(MATCH(B1640,誕生月花!$B$2:$B$13,0),\"\")","v":""},{"$f":"IFERROR(VLOOKUP(B1640&C1640,誕生日花!E:F,2,FALSE),IFERROR(VLOOKUP(B1640,誕生日花!E:F,2,FALSE),\"\"))","v":"2016-04-20"}]
["昇リ藤（ノボリフジ）","ルピナス","","あなたは私の安らぎ",{"$f":"IFERROR(MATCH(B1641,誕生月花!$B$2:$B$13,0),\"\")","v":""},{"$f":"IFERROR(VLOOKUP(B1641&C1641,誕生日花!E:F,2,FALSE),IFERROR(VLOOKUP(B1641,誕生日花!E:F,2,FALSE),\"\"))","v":"2016-04-20"}]
["昇リ藤（ノボリフジ）","ルピナス","","いつも幸せ",{"$f":"IFERROR(MATCH(B1642,誕生月花!$B$2:$B$13,0),\"\")","v":""},{"$f":"IFERROR(VLOOKUP(B1642&C1642,誕生日花!E:F,2,FALSE),IFERROR(VLOOKUP(B1642,誕生日花!E:F,2,FALSE),\"\"))","v":"2016-04-20"}]
["昇リ藤（ノボリフジ）","ルピナス","","想像力",{"$f":"IFERROR(MATCH(B1643,誕生月花!$B$2:$B$13,0),\"\")","v":""},{"$f":"IFERROR(VLOOKUP(B1643&C1643,誕生日花!E:F,2,FALSE),IFERROR(VLOOKUP(B1643,誕生日花!E:F,2,FALSE),\"\"))","v":"2016-04-20"}]
["昇リ藤（ノボリフジ）","ルピナス","","貪欲",{"$f":"IFERROR(MATCH(B1644,誕生月花!$B$2:$B$13,0),\"\")","v":""},{"$f":"IFERROR(VLOOKUP(B1644&C1644,誕生日花!E:F,2,FALSE),IFERROR(VLOOKUP(B1644,誕生日花!E:F,2,FALSE),\"\"))","v":"2016-04-20"}]
["瑠璃玉薊","ルリタマアザミ","","鋭敏",{"$f":"IFERROR(MATCH(B1645,誕生月花!$B$2:$B$13,0),\"\")","v":""},{"$f":"IFERROR(VLOOKUP(B1645&C1645,誕生日花!E:F,2,FALSE),IFERROR(VLOOKUP(B1645,誕生日花!E:F,2,FALSE),\"\"))","v":"2016-08-05"}]
["瑠璃玉薊","ルリタマアザミ","","傷つく心",{"$f":"IFERROR(MATCH(B1646,誕生月花!$B$2:$B$13,0),\"\")","v":""},{"$f":"IFERROR(VLOOKUP(B1646&C1646,誕生日花!E:F,2,FALSE),IFERROR(VLOOKUP(B1646,誕生日花!E:F,2,FALSE),\"\"))","v":"2016-08-05"}]
["毒芹擬キ（ドクゼリモドキ）","レースフラワー","","優雅なたしなみ",{"$f":"IFERROR(MATCH(B1647,誕生月花!$B$2:$B$13,0),\"\")","v":""},{"$f":"IFERROR(VLOOKUP(B1647&C1647,誕生日花!E:F,2,FALSE),IFERROR(VLOOKUP(B1647,誕生日花!E:F,2,FALSE),\"\"))","v":"2016-06-08"}]
["紫詰草（ムラサキツメクサ）","レッドクローバー","","勤勉",{"$f":"IFERROR(MATCH(B1648,誕生月花!$B$2:$B$13,0),\"\")","v":""},{"$f":"IFERROR(VLOOKUP(B1648&C1648,誕生日花!E:F,2,FALSE),IFERROR(VLOOKUP(B1648,誕生日花!E:F,2,FALSE),\"\"))","v":"2016-06-26"}]
["大紅合歓（オオベニゴウカン）","レッドパウダーパフ","","思慮深い",{"$f":"IFERROR(MATCH(B1649,誕生月花!$B$2:$B$13,0),\"\")","v":""},{"$f":"IFERROR(VLOOKUP(B1649&C1649,誕生日花!E:F,2,FALSE),IFERROR(VLOOKUP(B1649,誕生日花!E:F,2,FALSE),\"\"))","v":"2016-11-03"}]
["羽衣草（ハゴロモグサ）","レディースマントル","","ファッション",{"$f":"IFERROR(MATCH(B1650,誕生月花!$B$2:$B$13,0),\"\")","v":""},{"$f":"IFERROR(VLOOKUP(B1650&C1650,誕生日花!E:F,2,FALSE),IFERROR(VLOOKUP(B1650,誕生日花!E:F,2,FALSE),\"\"))","v":""}]
["腎葯蘭（ジンヤクラン）","レナンセナ","","熱望",{"$f":"IFERROR(MATCH(B1651,誕生月花!$B$2:$B$13,0),\"\")","v":""},{"$f":"IFERROR(VLOOKUP(B1651&C1651,誕生日花!E:F,2,FALSE),IFERROR(VLOOKUP(B1651,誕生日花!E:F,2,FALSE),\"\"))","v":"2016-12-10"}]
["檸檬","レモン","","愛の忠誠",{"$f":"IFERROR(MATCH(B1652,誕生月花!$B$2:$B$13,0),\"\")","v":""},{"$f":"IFERROR(VLOOKUP(B1652&C1652,誕生日花!E:F,2,FALSE),IFERROR(VLOOKUP(B1652,誕生日花!E:F,2,FALSE),\"\"))","v":""}]
["檸檬","レモン","花","思慮分別",{"$f":"IFERROR(MATCH(B1653,誕生月花!$B$2:$B$13,0),\"\")","v":""},{"$f":"IFERROR(VLOOKUP(B1653&C1653,誕生日花!E:F,2,FALSE),IFERROR(VLOOKUP(B1653,誕生日花!E:F,2,FALSE),\"\"))","v":""}]
["檸檬","レモン","花","誠実な愛",{"$f":"IFERROR(MATCH(B1654,誕生月花!$B$2:$B$13,0),\"\")","v":""},{"$f":"IFERROR(VLOOKUP(B1654&C1654,誕生日花!E:F,2,FALSE),IFERROR(VLOOKUP(B1654,誕生日花!E:F,2,FALSE),\"\"))","v":""}]
["檸檬","レモン","実","熱情",{"$f":"IFERROR(MATCH(B1655,誕生月花!$B$2:$B$13,0),\"\")","v":""},{"$f":"IFERROR(VLOOKUP(B1655&C1655,誕生日花!E:F,2,FALSE),IFERROR(VLOOKUP(B1655,誕生日花!E:F,2,FALSE),\"\"))","v":""}]
["香水木（コウスイボク）","レモンバーベナ","","神聖",{"$f":"IFERROR(MATCH(B1656,誕生月花!$B$2:$B$13,0),\"\")","v":""},{"$f":"IFERROR(VLOOKUP(B1656&C1656,誕生日花!E:F,2,FALSE),IFERROR(VLOOKUP(B1656,誕生日花!E:F,2,FALSE),\"\"))","v":"2016-10-19"}]
["連翹","レンギョウ","","希望",{"$f":"IFERROR(MATCH(B1657,誕生月花!$B$2:$B$13,0),\"\")","v":""},{"$f":"IFERROR(VLOOKUP(B1657&C1657,誕生日花!E:F,2,FALSE),IFERROR(VLOOKUP(B1657,誕生日花!E:F,2,FALSE),\"\"))","v":"2016-03-10"}]
["連翹","レンギョウ","","期待",{"$f":"IFERROR(MATCH(B1658,誕生月花!$B$2:$B$13,0),\"\")","v":""},{"$f":"IFERROR(VLOOKUP(B1658&C1658,誕生日花!E:F,2,FALSE),IFERROR(VLOOKUP(B1658,誕生日花!E:F,2,FALSE),\"\"))","v":"2016-03-10"}]
["連翹","レンギョウ","","集中力",{"$f":"IFERROR(MATCH(B1659,誕生月花!$B$2:$B$13,0),\"\")","v":""},{"$f":"IFERROR(VLOOKUP(B1659&C1659,誕生日花!E:F,2,FALSE),IFERROR(VLOOKUP(B1659,誕生日花!E:F,2,FALSE),\"\"))","v":"2016-03-10"}]
["蓮華","レンゲ","","動じない心",{"$f":"IFERROR(MATCH(B1660,誕生月花!$B$2:$B$13,0),\"\")","v":""},{"$f":"IFERROR(VLOOKUP(B1660&C1660,誕生日花!E:F,2,FALSE),IFERROR(VLOOKUP(B1660,誕生日花!E:F,2,FALSE),\"\"))","v":""}]
["蓮華草","レンゲソウ","","動じない心",{"$f":"IFERROR(MATCH(B1661,誕生月花!$B$2:$B$13,0),\"\")","v":""},{"$f":"IFERROR(VLOOKUP(B1661&C1661,誕生日花!E:F,2,FALSE),IFERROR(VLOOKUP(B1661,誕生日花!E:F,2,FALSE),\"\"))","v":"2016-03-19"}]
["蓮華草","レンゲソウ","","あなたと一緒なら苦痛がやわらぐ",{"$f":"IFERROR(MATCH(B1662,誕生月花!$B$2:$B$13,0),\"\")","v":""},{"$f":"IFERROR(VLOOKUP(B1662&C1662,誕生日花!E:F,2,FALSE),IFERROR(VLOOKUP(B1662,誕生日花!E:F,2,FALSE),\"\"))","v":"2016-03-19"}]
["蓮華草","レンゲソウ","","心がやわらぐ",{"$f":"IFERROR(MATCH(B1663,誕生月花!$B$2:$B$13,0),\"\")","v":""},{"$f":"IFERROR(VLOOKUP(B1663&C1663,誕生日花!E:F,2,FALSE),IFERROR(VLOOKUP(B1663,誕生日花!E:F,2,FALSE),\"\"))","v":"2016-03-19"}]
["蓮華躑躅","レンゲツツジ","","堅実",{"$f":"IFERROR(MATCH(B1664,誕生月花!$B$2:$B$13,0),\"\")","v":""},{"$f":"IFERROR(VLOOKUP(B1664&C1664,誕生日花!E:F,2,FALSE),IFERROR(VLOOKUP(B1664,誕生日花!E:F,2,FALSE),\"\"))","v":""}]
["蓮華躑躅","レンゲツツジ","","情熱",{"$f":"IFERROR(MATCH(B1665,誕生月花!$B$2:$B$13,0),\"\")","v":""},{"$f":"IFERROR(VLOOKUP(B1665&C1665,誕生日花!E:F,2,FALSE),IFERROR(VLOOKUP(B1665,誕生日花!E:F,2,FALSE),\"\"))","v":""}]
["蝋梅","ロウバイ","","慈愛",{"$f":"IFERROR(MATCH(B1666,誕生月花!$B$2:$B$13,0),\"\")","v":""},{"$f":"IFERROR(VLOOKUP(B1666&C1666,誕生日花!E:F,2,FALSE),IFERROR(VLOOKUP(B1666,誕生日花!E:F,2,FALSE),\"\"))","v":"2016-02-28"}]
["蝋梅","ロウバイ","","ゆかしさ",{"$f":"IFERROR(MATCH(B1667,誕生月花!$B$2:$B$13,0),\"\")","v":""},{"$f":"IFERROR(VLOOKUP(B1667&C1667,誕生日花!E:F,2,FALSE),IFERROR(VLOOKUP(B1667,誕生日花!E:F,2,FALSE),\"\"))","v":"2016-02-28"}]
["蝋梅","ロウバイ","","先見",{"$f":"IFERROR(MATCH(B1668,誕生月花!$B$2:$B$13,0),\"\")","v":""},{"$f":"IFERROR(VLOOKUP(B1668&C1668,誕生日花!E:F,2,FALSE),IFERROR(VLOOKUP(B1668,誕生日花!E:F,2,FALSE),\"\"))","v":"2016-02-28"}]
["蝋梅","ロウバイ","","先導",{"$f":"IFERROR(MATCH(B1669,誕生月花!$B$2:$B$13,0),\"\")","v":""},{"$f":"IFERROR(VLOOKUP(B1669&C1669,誕生日花!E:F,2,FALSE),IFERROR(VLOOKUP(B1669,誕生日花!E:F,2,FALSE),\"\"))","v":"2016-02-28"}]
["薔薇","ローズ","ダマスクローズ","照り映える容色",{"$f":"IFERROR(MATCH(B1670,誕生月花!$B$2:$B$13,0),\"\")","v":""},{"$f":"IFERROR(VLOOKUP(B1670&C1670,誕生日花!E:F,2,FALSE),IFERROR(VLOOKUP(B1670,誕生日花!E:F,2,FALSE),\"\"))","v":""}]
["薔薇","ローズ","バーガンディー","秘められた美",{"$f":"IFERROR(MATCH(B1671,誕生月花!$B$2:$B$13,0),\"\")","v":""},{"$f":"IFERROR(VLOOKUP(B1671&C1671,誕生日花!E:F,2,FALSE),IFERROR(VLOOKUP(B1671,誕生日花!E:F,2,FALSE),\"\"))","v":""}]
["薔薇","ローズ","ピンク","愛を誓う",{"$f":"IFERROR(MATCH(B1672,誕生月花!$B$2:$B$13,0),\"\")","v":""},{"$f":"IFERROR(VLOOKUP(B1672&C1672,誕生日花!E:F,2,FALSE),IFERROR(VLOOKUP(B1672,誕生日花!E:F,2,FALSE),\"\"))","v":""}]
["薔薇","ローズ","ベージュ","成熟した愛",{"$f":"IFERROR(MATCH(B1673,誕生月花!$B$2:$B$13,0),\"\")","v":""},{"$f":"IFERROR(VLOOKUP(B1673&C1673,誕生日花!E:F,2,FALSE),IFERROR(VLOOKUP(B1673,誕生日花!E:F,2,FALSE),\"\"))","v":""}]
["薔薇","ローズ","黄","君のすべてが可憐",{"$f":"IFERROR(MATCH(B1674,誕生月花!$B$2:$B$13,0),\"\")","v":""},{"$f":"IFERROR(VLOOKUP(B1674&C1674,誕生日花!E:F,2,FALSE),IFERROR(VLOOKUP(B1674,誕生日花!E:F,2,FALSE),\"\"))","v":""}]
["薔薇","ローズ","黒赤色","神秘",{"$f":"IFERROR(MATCH(B1675,誕生月花!$B$2:$B$13,0),\"\")","v":""},{"$f":"IFERROR(VLOOKUP(B1675&C1675,誕生日花!E:F,2,FALSE),IFERROR(VLOOKUP(B1675,誕生日花!E:F,2,FALSE),\"\"))","v":""}]
["薔薇","ローズ","赤","愛、美",{"$f":"IFERROR(MATCH(B1676,誕生月花!$B$2:$B$13,0),\"\")","v":""},{"$f":"IFERROR(VLOOKUP(B1676&C1676,誕生日花!E:F,2,FALSE),IFERROR(VLOOKUP(B1676,誕生日花!E:F,2,FALSE),\"\"))","v":""}]
["薔薇","ローズ","白","私はあなたにふさわしい",{"$f":"IFERROR(MATCH(B1677,誕生月花!$B$2:$B$13,0),\"\")","v":""},{"$f":"IFERROR(VLOOKUP(B1677&C1677,誕生日花!E:F,2,FALSE),IFERROR(VLOOKUP(B1677,誕生日花!E:F,2,FALSE),\"\"))","v":""}]
["薔薇","ローズ","蕾","希望、夢",{"$f":"IFERROR(MATCH(B1678,誕生月花!$B$2:$B$13,0),\"\")","v":""},{"$f":"IFERROR(VLOOKUP(B1678&C1678,誕生日花!E:F,2,FALSE),IFERROR(VLOOKUP(B1678,誕生日花!E:F,2,FALSE),\"\"))","v":""}]
["迷迭香（マンネンロウ）","ローズマリー","","あなたは私を蘇らせる",{"$f":"IFERROR(MATCH(B1679,誕生月花!$B$2:$B$13,0),\"\")","v":""},{"$f":"IFERROR(VLOOKUP(B1679&C1679,誕生日花!E:F,2,FALSE),IFERROR(VLOOKUP(B1679,誕生日花!E:F,2,FALSE),\"\"))","v":"2016-04-28"}]
["蓮（ハス）","ロータス","","動じない心",{"$f":"IFERROR(MATCH(B1680,誕生月花!$B$2:$B$13,0),\"\")","v":""},{"$f":"IFERROR(VLOOKUP(B1680&C1680,誕生日花!E:F,2,FALSE),IFERROR(VLOOKUP(B1680,誕生日花!E:F,2,FALSE),\"\"))","v":""}]
["広葉ノ花簪（ヒロハノハナカンザシ）","ローダンセ","","ロマンチックな愛",{"$f":"IFERROR(MATCH(B1681,誕生月花!$B$2:$B$13,0),\"\")","v":""},{"$f":"IFERROR(VLOOKUP(B1681&C1681,誕生日花!E:F,2,FALSE),IFERROR(VLOOKUP(B1681,誕生日花!E:F,2,FALSE),\"\"))","v":""}]
["広葉ノ花簪（ヒロハノハナカンザシ）","ローダンセ","","終わりのない友情",{"$f":"IFERROR(MATCH(B1682,誕生月花!$B$2:$B$13,0),\"\")","v":""},{"$f":"IFERROR(VLOOKUP(B1682&C1682,誕生日花!E:F,2,FALSE),IFERROR(VLOOKUP(B1682,誕生日花!E:F,2,FALSE),\"\"))","v":""}]
["広葉ノ花簪（ヒロハノハナカンザシ）","ローダンセ","","変わらぬ思い",{"$f":"IFERROR(MATCH(B1683,誕生月花!$B$2:$B$13,0),\"\")","v":""},{"$f":"IFERROR(VLOOKUP(B1683&C1683,誕生日花!E:F,2,FALSE),IFERROR(VLOOKUP(B1683,誕生日花!E:F,2,FALSE),\"\"))","v":""}]
["半日花（ハンニチバナ）","ロックローズ","","注目",{"$f":"IFERROR(MATCH(B1684,誕生月花!$B$2:$B$13,0),\"\")","v":""},{"$f":"IFERROR(VLOOKUP(B1684&C1684,誕生日花!E:F,2,FALSE),IFERROR(VLOOKUP(B1684,誕生日花!E:F,2,FALSE),\"\"))","v":""}]
["瑠璃蝶草（ルリチョウソウ）","ロベリア","","いつも可愛らしい",{"$f":"IFERROR(MATCH(B1685,誕生月花!$B$2:$B$13,0),\"\")","v":""},{"$f":"IFERROR(VLOOKUP(B1685&C1685,誕生日花!E:F,2,FALSE),IFERROR(VLOOKUP(B1685,誕生日花!E:F,2,FALSE),\"\"))","v":""}]
["瑠璃蝶草（ルリチョウソウ）","ロベリア","","悪意",{"$f":"IFERROR(MATCH(B1686,誕生月花!$B$2:$B$13,0),\"\")","v":""},{"$f":"IFERROR(VLOOKUP(B1686&C1686,誕生日花!E:F,2,FALSE),IFERROR(VLOOKUP(B1686,誕生日花!E:F,2,FALSE),\"\"))","v":""}]
["瑠璃蝶草（ルリチョウソウ）","ロベリア","","謙遜",{"$f":"IFERROR(MATCH(B1687,誕生月花!$B$2:$B$13,0),\"\")","v":""},{"$f":"IFERROR(VLOOKUP(B1687&C1687,誕生日花!E:F,2,FALSE),IFERROR(VLOOKUP(B1687,誕生日花!E:F,2,FALSE),\"\"))","v":""}]
["瑠璃溝隠（ルリミゾカクシ）","ロベリア・カーディナリス","","卓越",{"$f":"IFERROR(MATCH(B1688,誕生月花!$B$2:$B$13,0),\"\")","v":""},{"$f":"IFERROR(VLOOKUP(B1688&C1688,誕生日花!E:F,2,FALSE),IFERROR(VLOOKUP(B1688,誕生日花!E:F,2,FALSE),\"\"))","v":""}]
["瑠璃溝隠（ルリミゾカクシ）","ロベリア・カーディナリス","","優秀さ",{"$f":"IFERROR(MATCH(B1689,誕生月花!$B$2:$B$13,0),\"\")","v":""},{"$f":"IFERROR(VLOOKUP(B1689&C1689,誕生日花!E:F,2,FALSE),IFERROR(VLOOKUP(B1689,誕生日花!E:F,2,FALSE),\"\"))","v":""}]
["蝦夷蛇苺（エゾヘビイチゴ）","ワイルドストロベリー","","徳の成果",{"$f":"IFERROR(MATCH(B1690,誕生月花!$B$2:$B$13,0),\"\")","v":""},{"$f":"IFERROR(VLOOKUP(B1690&C1690,誕生日花!E:F,2,FALSE),IFERROR(VLOOKUP(B1690,誕生日花!E:F,2,FALSE),\"\"))","v":""}]
["蝦夷蛇苺（エゾヘビイチゴ）","ワイルドストロベリー","","幸福な家庭",{"$f":"IFERROR(MATCH(B1691,誕生月花!$B$2:$B$13,0),\"\")","v":""},{"$f":"IFERROR(VLOOKUP(B1691&C1691,誕生日花!E:F,2,FALSE),IFERROR(VLOOKUP(B1691,誕生日花!E:F,2,FALSE),\"\"))","v":""}]
["蝦夷蛇苺（エゾヘビイチゴ）","ワイルドストロベリー","","尊重と愛情",{"$f":"IFERROR(MATCH(B1692,誕生月花!$B$2:$B$13,0),\"\")","v":""},{"$f":"IFERROR(VLOOKUP(B1692&C1692,誕生日花!E:F,2,FALSE),IFERROR(VLOOKUP(B1692,誕生日花!E:F,2,FALSE),\"\"))","v":""}]
["蝦夷蛇苺（エゾヘビイチゴ）","ワイルドストロベリー","","無邪気",{"$f":"IFERROR(MATCH(B1693,誕生月花!$B$2:$B$13,0),\"\")","v":""},{"$f":"IFERROR(VLOOKUP(B1693&C1693,誕生日花!E:F,2,FALSE),IFERROR(VLOOKUP(B1693,誕生日花!E:F,2,FALSE),\"\"))","v":""}]
["勿忘草","ワスレナグサ","","私を忘れないで",{"$f":"IFERROR(MATCH(B1694,誕生月花!$B$2:$B$13,0),\"\")","v":""},{"$f":"IFERROR(VLOOKUP(B1694&C1694,誕生日花!E:F,2,FALSE),IFERROR(VLOOKUP(B1694,誕生日花!E:F,2,FALSE),\"\"))","v":"2016-04-18"}]
["勿忘草","ワスレナグサ","","真実の愛",{"$f":"IFERROR(MATCH(B1695,誕生月花!$B$2:$B$13,0),\"\")","v":""},{"$f":"IFERROR(VLOOKUP(B1695&C1695,誕生日花!E:F,2,FALSE),IFERROR(VLOOKUP(B1695,誕生日花!E:F,2,FALSE),\"\"))","v":"2016-04-18"}]
["ワックスフラワー","ワックスフラワー","","思いのたけ",{"$f":"IFERROR(MATCH(B1696,誕生月花!$B$2:$B$13,0),\"\")","v":""},{"$f":"IFERROR(VLOOKUP(B1696&C1696,誕生日花!E:F,2,FALSE),IFERROR(VLOOKUP(B1696,誕生日花!E:F,2,FALSE),\"\"))","v":"2016-03-08"}]
["侘助","ワビスケ","","簡素",{"$f":"IFERROR(MATCH(B1697,誕生月花!$B$2:$B$13,0),\"\")","v":""},{"$f":"IFERROR(VLOOKUP(B1697&C1697,誕生日花!E:F,2,FALSE),IFERROR(VLOOKUP(B1697,誕生日花!E:F,2,FALSE),\"\"))","v":"2016-11-22"}]
["吾亦紅","ワレモコウ","","移り行く日々",{"$f":"IFERROR(MATCH(B1698,誕生月花!$B$2:$B$13,0),\"\")","v":""},{"$f":"IFERROR(VLOOKUP(B1698&C1698,誕生日花!E:F,2,FALSE),IFERROR(VLOOKUP(B1698,誕生日花!E:F,2,FALSE),\"\"))","v":"2016-11-16"}]
["吾亦紅","ワレモコウ","","もの思い",{"$f":"IFERROR(MATCH(B1699,誕生月花!$B$2:$B$13,0),\"\")","v":""},{"$f":"IFERROR(VLOOKUP(B1699&C1699,誕生日花!E:F,2,FALSE),IFERROR(VLOOKUP(B1699,誕生日花!E:F,2,FALSE),\"\"))","v":"2016-11-16"}]
["吾亦紅","ワレモコウ","","愛慕",{"$f":"IFERROR(MATCH(B1700,誕生月花!$B$2:$B$13,0),\"\")","v":""},{"$f":"IFERROR(VLOOKUP(B1700&C1700,誕生日花!E:F,2,FALSE),IFERROR(VLOOKUP(B1700,誕生日花!E:F,2,FALSE),\"\"))","v":"2016-11-16"}]
["吾亦紅","ワレモコウ","","変化",{"$f":"IFERROR(MATCH(B1701,誕生月花!$B$2:$B$13,0),\"\")","v":""},{"$f":"IFERROR(VLOOKUP(B1701&C1701,誕生日花!E:F,2,FALSE),IFERROR(VLOOKUP(B1701,誕生日花!E:F,2,FALSE),\"\"))","v":"2016-11-16"}]

{"sheet":"誕生月花","index":2,"n_rows":13,"n_cols":3,"rows_kept":13,"cut":false,"hidden":true,"merged":[]}
["誕生月","誕生月花","花言葉"]
[1,"シンビジウム","飾らない心"]
[2,"フリージア","純愛"]
[3,"チューリップ","正直"]
[4,"サクラ","高潔"]
[5,"スズラン","幸福の再来"]
[6,"バラ","ジェラシー"]
[7,"ユリ","純潔"]
[8,"ヒマワリ","栄光"]
[9,"ダリア","エレガント"]
[10,"ガーベラ","神秘"]
[11,"シクラメン","はずかしがり"]
[12,"ポインセチア","祝福"]

{"sheet":"誕生日花","index":3,"n_rows":367,"n_cols":6,"rows_kept":367,"cut":false,"hidden":true,"merged":[[0,1,0,2]]}
["誕生日","誕生日花",null,"花言葉","検索","誕生日"]
["2016-01-01","フクジュソウ","","幸せを招く",{"$f":"B2&C2","v":"フクジュソウ"},{"$f":"A2","v":"2016-01-01"}]
["2016-01-02","ハルサザンカ","","困難に勝つ",{"$f":"B3&C3","v":"ハルサザンカ"},{"$f":"A3","v":"2016-01-02"}]
["2016-01-03","ストレリチア","","ひとり占め","ストレリチア","2016-01-03"]
["2016-01-04","ブルースター","","幸せな愛","ブルースター","2016-01-04"]
["2016-01-05","ラッパスイセン","","再生","ラッパスイセン","2016-01-05"]
["2016-01-06","カーネーション","ピンク","熱愛","カーネーションピンク","2016-01-06"]
["2016-01-07","アッツザクラ","","愛を待つ","アッツザクラ","2016-01-07"]
["2016-01-08","マンリョウ","","予言","マンリョウ","2016-01-08"]
["2016-01-09","ユキワリソウ","","期待","ユキワリソウ","2016-01-09"]
["2016-01-10","ナワシロイチゴ","","恩恵","ナワシロイチゴ","2016-01-10"]
["2016-01-11","コチョウラン","白","愛をあなたへ","コチョウラン白","2016-01-11"]
["2016-01-12","カンツバキ","","謙譲","カンツバキ","2016-01-12"]
["2016-01-13","マンサク","","新鮮","マンサク","2016-01-13"]
["2016-01-14","ブルーデイジー","","恵まれて","ブルーデイジー","2016-01-14"]
["2016-01-15","ポピー","","やすらぎ","ポピー","2016-01-15"]
["2016-01-16","オキザリス","","ひたむきな愛","オキザリス","2016-01-16"]
["2016-01-17","スイカズラ","","愛の絆","スイカズラ","2016-01-17"]
["2016-01-18","グズマニア","","完璧","グズマニア","2016-01-18"]
["2016-01-19","ストック","八重","永遠の美","ストック八重","2016-01-19"]
["2016-01-20","スイートピー","","永遠の喜び","スイートピー","2016-01-20"]
["2016-01-21","スイセン","","自己愛","スイセン","2016-01-21"]
["2016-01-22","リカステ","","快活","リカステ","2016-01-22"]
["2016-01-23","オウバイ","","高貴","オウバイ","2016-01-23"]
["2016-01-24","ヒヤシンス","紫","優しくかわいい","ヒヤシンス紫","2016-01-24"]
["2016-01-25","チューリップ","黄","正直","チューリップ黄","2016-01-25"]
["2016-01-26","ピグミーランタン","","印象","ピグミーランタン","2016-01-26"]
["2016-01-27","マダガスカルジャスミン","","自意識","マダガスカルジャスミン","2016-01-27"]
["2016-01-28","キンギョソウ","","欲望","キンギョソウ","2016-01-28"]
["2016-01-29","スミレ","","誠実な愛","スミレ","2016-01-29"]
["2016-01-30","サクラソウ","","忠実","サクラソウ","2016-01-30"]
["2016-01-31","ウメ","白","澄んだ心","ウメ白","2016-01-31"]
["2016-02-01","フリージア","黄","純愛","フリージア黄","2016-02-01"]
["2016-02-02","シラー","","冷静","シラー","2016-02-02"]
["2016-02-03","シクラメン","ピンク","はずかしがり","シクラメンピンク","2016-02-03"]
["2016-02-04","プリムラ","ポリアンサ","ひたむきな愛","プリムラポリアンサ","2016-02-04"]
["2016-02-05","スイレン","","信仰","スイレン","2016-02-05"]
["2016-02-06","ビワ","","愛の記憶","ビワ","2016-02-06"]
["2016-02-07","スノードロップ","","初恋のため息","スノードロップ","2016-02-07"]
["2016-02-08","ハナシノブ","","野生美","ハナシノブ","2016-02-08"]
["2016-02-09","クリスマスローズ","","大切な人","クリスマスローズ","2016-02-09"]
["2016-02-10","バラ","黄","ジェラシー","バラ黄","2016-02-10"]
["2016-02-11","アフリカンキンセンカ","","元気","アフリカンキンセンカ","2016-02-11"]
["2016-02-12","スプレーギク","","寛大","スプレーギク","2016-02-12"]
["2016-02-13","アザレア","","愛される喜び","アザレア","2016-02-13"]
["2016-02-14","サクシフラガ","","自信","サクシフラガ","2016-02-14"]
["2016-02-15","サンシュユ","","永遠","サンシュユ","2016-02-15"]
["2016-02-16","フリージア","白","無邪気","フリージア白","2016-02-16"]
["2016-02-17","ネコヤナギ","","素直","ネコヤナギ","2016-02-17"]
["2016-02-18","ヒマラヤユキノシタ","","順応","ヒマラヤユキノシタ","2016-02-18"]
["2016-02-19","プリムラ","ジュリアン","永続する愛","プリムラジュリアン","2016-02-19"]
["2016-02-20","コブシ","","友情","コブシ","2016-02-20"]
["2016-02-21","ウメ","紅","忠実","ウメ紅","2016-02-21"]
["2016-02-22","ビオラ","","誠実","ビオラ","2016-02-22"]
["2016-02-23","ストック","一重","不変の愛","ストック一重","2016-02-23"]
["2016-02-24","ニッコウキスゲ","","勤勉","ニッコウキスゲ","2016-02-24"]
["2016-02-25","バイモ","","飾らない心","バイモ","2016-02-25"]
["2016-02-26","ミズバショウ","","決心","ミズバショウ","2016-02-26"]
["2016-02-27","ミルトニア","","愛の訪れ","ミルトニア","2016-02-27"]
["2016-02-28","ロウバイ","","温かみ","ロウバイ","2016-02-28"]
["2016-02-29","パンジー","","もの思い","パンジー","2016-02-29"]
["2016-03-01","ボケ","","知恵","ボケ","2016-03-01"]
["2016-03-02","アリッサム","","仲直り","アリッサム","2016-03-02"]
["2016-03-03","ナノハナ","","予期せぬ出会い","ナノハナ","2016-03-03"]
["2016-03-04","ヒヤシンス","ピンク","勝負","ヒヤシンスピンク","2016-03-04"]
["2016-03-05","オランダアヤメ","","メッセージ","オランダアヤメ","2016-03-05"]
["2016-03-06","アネモネ","","はかない恋",{"$f":"B67&C67","v":"アネモネ"},{"$f":"A67","v":"2016-03-06"}]
["2016-03-07","アスター","","甘い夢","アスター","2016-03-07"]
["2016-03-08","ワックスフラワー","","思いのたけ","ワックスフラワー","2016-03-08"]
["2016-03-09","アルメリア","","共感","アルメリア","2016-03-09"]
["2016-03-10","レンギョウ","","集中力","レンギョウ","2016-03-10"]
["2016-03-11","ヒガンザクラ","","優れた美人","ヒガンザクラ","2016-03-11"]
["2016-03-12","キャンディタフト","","復活","キャンディタフト","2016-03-12"]
["2016-03-13","ノースポール","","誠実","ノースポール","2016-03-13"]
["2016-03-14","モモ","","あなたのとりこ","モモ","2016-03-14"]
["2016-03-15","ヤグルマソウ","","繊細","ヤグルマソウ","2016-03-15"]
["2016-03-16","ビジョナデシコ","","清い愛","ビジョナデシコ","2016-03-16"]
["2016-03-17","ブルーレースフラワー","","無言の愛","ブルーレースフラワー","2016-03-17"]
["2016-03-18","ジンチョウゲ","","不老長寿","ジンチョウゲ","2016-03-18"]
["2016-03-19","レンゲソウ","","実り多き幸せ","レンゲソウ","2016-03-19"]
["2016-03-20","アカシア","","秘めた愛","アカシア","2016-03-20"]
["2016-03-21","チューリップ","赤","恋の告白","チューリップ赤","2016-03-21"]
["2016-03-22","ユキヤナギ","","殊勝","ユキヤナギ","2016-03-22"]
["2016-03-23","ヤマブキ","","富裕","ヤマブキ","2016-03-23"]
["2016-03-24","ハナカイドウ","","美人の眠り","ハナカイドウ","2016-03-24"]
["2016-03-25","カキツバタ","","幸せの誓い","カキツバタ","2016-03-25"]
["2016-03-26","プリムラ","オブコニカ","神秘な心","プリムラオブコニカ","2016-03-26"]
["2016-03-27","ムスカリ","","明るい未来","ムスカリ","2016-03-27"]
["2016-03-28","ハナミズキ","","おだやかな心","ハナミズキ","2016-03-28"]
["2016-03-29","イカリソウ","","束縛","イカリソウ","2016-03-29"]
["2016-03-30","ゲッケイジュ","","栄誉と勝利","ゲッケイジュ","2016-03-30"]
["2016-03-31","キンセンカ","","変身、再生","キンセンカ","2016-03-31"]
["2016-04-01","クロッカス","黄","切望","クロッカス黄","2016-04-01"]
["2016-04-02","デイジー","","無垢","デイジー","2016-04-02"]
["2016-04-03","ラナンキュラス","","華やかな魅力","ラナンキュラス","2016-04-03"]
["2016-04-04","トリテレイア","","耐える愛","トリテレイア","2016-04-04"]
["2016-04-05","コデマリ","","優雅","コデマリ","2016-04-05"]
["2016-04-06","ハナズオウ","","豊かな生活","ハナズオウ","2016-04-06"]
["2016-04-07","サクラ","","高潔","サクラ","2016-04-07"]
["2016-04-08","フジ","","恋に酔う","フジ","2016-04-08"]
["2016-04-09","ウォールフラワー","","熱愛","ウォールフラワー","2016-04-09"]
["2016-04-10","ベニバナアセビ","","静かな主張","ベニバナアセビ","2016-04-10"]
["2016-04-11","クンシラン","","情け深い","クンシラン","2016-04-11"]
["2016-04-12","カタクリ","","初恋","カタクリ","2016-04-12"]
["2016-04-13","エビネ","","気品","エビネ","2016-04-13"]
["2016-04-14","ハルジオン","","さりげない愛","ハルジオン","2016-04-14"]
["2016-04-15","タンポポ","","再会の夢","タンポポ","2016-04-15"]
["2016-04-16","ライラック","","淡い恋心","ライラック","2016-04-16"]
["2016-04-17","ユスラウメ","","ノスタルジー","ユスラウメ","2016-04-17"]
["2016-04-18","ワスレナグサ","","忘れないで","ワスレナグサ","2016-04-18"]
["2016-04-19","カリフォルニアポピー","","友情","カリフォルニアポピー","2016-04-19"]
["2016-04-20","ルピナス","","想像力","ルピナス","2016-04-20"]
["2016-04-21","ムルチコーレ","","高潔","ムルチコーレ","2016-04-21"]
["2016-04-22","ホシクジャク","","恋の年頃","ホシクジャク","2016-04-22"]
["2016-04-23","ボタン","","王者の風格","ボタン","2016-04-23"]
["2016-04-24","シャガ","","自己主張","シャガ","2016-04-24"]
["2016-04-25","モッコウバラ","","初恋","モッコウバラ","2016-04-25"]
["2016-04-26","ミヤコワスレ","","しばしの思い","ミヤコワスレ","2016-04-26"]
["2016-04-27","カルミヤ","","賞賛","カルミヤ","2016-04-27"]
["2016-04-28","ローズマリー","","思い出","ローズマリー","2016-04-28"]
["2016-04-29","ミヤコグサ","","きまぐれな心","ミヤコグサ","2016-04-29"]
["2016-04-30","ムラサキハナナ","","恵まれた未来","ムラサキハナナ","2016-04-30"]
["2016-05-01","マーガレット","","秘めた愛","マーガレット","2016-05-01"]
["2016-05-02","シバザクラ","","合意","シバザクラ","2016-05-02"]
["2016-05-03","フロックス","","温和","フロックス","2016-05-03"]
["2016-05-04","シャクヤク","","恥じらい","シャクヤク","2016-05-04"]
["2016-05-05","ハナショウブ","","情熱","ハナショウブ","2016-05-05"]
["2016-05-06","ユズ","","健康美","ユズ","2016-05-06"]
["2016-05-07","ナスタチウム","","勝利","ナスタチウム","2016-05-07"]
["2016-05-08","カーネーション","赤","純愛","カーネーション赤","2016-05-08"]
["2016-05-09","カスミソウ","","清楚",{"$f":"B131&C131","v":"カスミソウ"},{"$f":"A131","v":"2016-05-09"}]
["2016-05-10","デルフィニウム","","陽気","デルフィニウム","2016-05-10"]
["2016-05-11","チューリップ","白","待ちわびて","チューリップ白","2016-05-11"]
["2016-05-12","アザミ","","独立","アザミ","2016-05-12"]
["2016-05-13","サツキ","","几帳面","サツキ","2016-05-13"]
["2016-05-14","フクシア","","趣味の良さ","フクシア","2016-05-14"]
["2016-05-15","アヤメ","","気まぐれ","アヤメ","2016-05-15"]
["2016-05-16","ゼラニウム","","真の友情","ゼラニウム","2016-05-16"]
["2016-05-17","ベロニカ","","忠実","ベロニカ","2016-05-17"]
["2016-05-18","ジギタリス","","純愛","ジギタリス","2016-05-18"]
["2016-05-19","ブライダルベール","","幸福","ブライダルベール","2016-05-19"]
["2016-05-20","セントポーリア","","はぐくむ愛","セントポーリア","2016-05-20"]
["2016-05-21","スノーフレーク","","記憶","スノーフレーク","2016-05-21"]
["2016-05-22","カモミール","","癒し","カモミール","2016-05-22"]
["2016-05-23","タイム","","活発","タイム","2016-05-23"]
["2016-05-24","スズラン","","幸福の再来","スズラン","2016-05-24"]
["2016-05-25","ニゲラ","","とまどい","ニゲラ","2016-05-25"]
["2016-05-26","テマリバナ","","誓い","テマリバナ","2016-05-26"]
["2016-05-27","オダマキ","","はずむ心","オダマキ","2016-05-27"]
["2016-05-28","ハナアオイ","","ゆれる心","ハナアオイ","2016-05-28"]
["2016-05-29","ノバラ","","新しい旅立ち","ノバラ","2016-05-29"]
["2016-05-30","スカビオサ","","決心","スカビオサ","2016-05-30"]
["2016-05-31","キショウブ","","消息","キショウブ","2016-05-31"]
["2016-06-01","クレマチス","","策略","クレマチス","2016-06-01"]
["2016-06-02","シャクナゲ","","警戒心","シャクナゲ","2016-06-02"]
["2016-06-03","クローバー","","約束","クローバー","2016-06-03"]
["2016-06-04","マツバギク","","順応性","マツバギク","2016-06-04"]
["2016-06-05","シラン","","希望","シラン","2016-06-05"]
["2016-06-06","スターチス","","知識","スターチス","2016-06-06"]
["2016-06-07","カルセオラリア","","私の伴侶","カルセオラリア","2016-06-07"]
["2016-06-08","レースフラワー","","優雅なたしなみ","レースフラワー","2016-06-08"]
["2016-06-09","ゴデチア","","不変の愛","ゴデチア","2016-06-09"]
["2016-06-10","ラベンダー","","疑問、鎮静","ラベンダー","2016-06-10"]
["2016-06-11","ガクアジサイ","","素直","ガクアジサイ","2016-06-11"]
["2016-06-12","ベロペロネ","","究極の美","ベロペロネ","2016-06-12"]
["2016-06-13","クチナシ","","洗練","クチナシ","2016-06-13"]
["2016-06-14","ブーゲンビリア","","情熱","ブーゲンビリア","2016-06-14"]
["2016-06-15","アジサイ","","はにかみ","アジサイ","2016-06-15"]
["2016-06-16","カンパニュラ","","望み","カンパニュラ","2016-06-16"]
["2016-06-17","ベニバナ","","化粧","ベニバナ","2016-06-17"]
["2016-06-18","サギソウ","","夢想","サギソウ","2016-06-18"]
["2016-06-19","アリウム","","正しい主張","アリウム","2016-06-19"]
["2016-06-20","オトメギキョウ","","大切な人","オトメギキョウ","2016-06-20"]
["2016-06-21","フロスフラワー","","安楽","フロスフラワー","2016-06-21"]
["2016-06-22","アマリリス","","プライド","アマリリス","2016-06-22"]
["2016-06-23","ササユリ","","上品","ササユリ","2016-06-23"]
["2016-06-24","バラ","赤","愛","バラ赤","2016-06-24"]
["2016-06-25","アガパンサス","","愛の始まり","アガパンサス","2016-06-25"]
["2016-06-26","レッドクローバー","","勤勉","レッドクローバー","2016-06-26"]
["2016-06-27","サンダーソニア","","祈り","サンダーソニア","2016-06-27"]
["2016-06-28","ツルハナナス","","ほほえみ","ツルハナナス","2016-06-28"]
["2016-06-29","ペラルゴニウム","","あでやか","ペラルゴニウム","2016-06-29"]
["2016-06-30","ヘリオトロープ","","献身的な愛","ヘリオトロープ","2016-06-30"]
["2016-07-01","ベゴニア","赤","大切な思い出","ベゴニア赤","2016-07-01"]
["2016-07-02","カラー","白","歓喜","カラー白","2016-07-02"]
["2016-07-03","バラ","ピンク","感銘","バラピンク","2016-07-03"]
["2016-07-04","ハナギボシ","","沈静","ハナギボシ","2016-07-04"]
["2016-07-05","アンスリウム","","情熱","アンスリウム","2016-07-05"]
["2016-07-06","トキソウ","","つつましやか","トキソウ","2016-07-06"]
["2016-07-07","ヒオウギ","","静かな愛","ヒオウギ","2016-07-07"]
["2016-07-08","クロユリ","","恋の魔術","クロユリ","2016-07-08"]
["2016-07-09","ストケシア","","追想","ストケシア","2016-07-09"]
["2016-07-10","マツバボタン","","可憐","マツバボタン","2016-07-10"]
["2016-07-11","インパチェンス","","鮮やかな人","インパチェンス","2016-07-11"]
["2016-07-12","パッションフラワー","","聖なる愛",{"$f":"B195&C195","v":"パッションフラワー"},{"$f":"A195","v":"2016-07-12"}]
["2016-07-13","ニチニチソウ","","甘い思い出","ニチニチソウ","2016-07-13"]
["2016-07-14","ハナトラノオ","","素直さ","ハナトラノオ","2016-07-14"]
["2016-07-15","カンナ","","尊敬","カンナ","2016-07-15"]
["2016-07-16","ツユクサ","","尊敬","ツユクサ","2016-07-16"]
["2016-07-17","アメリカデイコ","","夢の力","アメリカデイコ","2016-07-17"]
["2016-07-18","ゲッカビジン","","ただ一度の恋","ゲッカビジン","2016-07-18"]
["2016-07-19","ムギワラギク","","不滅の愛","ムギワラギク","2016-07-19"]
["2016-07-20","ルコウソウ","","繊細な愛","ルコウソウ","2016-07-20"]
["2016-07-21","アサガオ","","淡い恋","アサガオ","2016-07-21"]
["2016-07-22","ナツツバキ","","気品","ナツツバキ","2016-07-22"]
["2016-07-23","ツリガネソウ","","思い出","ツリガネソウ","2016-07-23"]
["2016-07-24","オシロイバナ","","内気","オシロイバナ","2016-07-24"]
["2016-07-25","スイセンノウ","","ウィット","スイセンノウ","2016-07-25"]
["2016-07-26","ヤマトナデシコ","","すてきな予感","ヤマトナデシコ","2016-07-26"]
["2016-07-27","ホオズキ","","笑顔","ホオズキ","2016-07-27"]
["2016-07-28","グロリオサ","","光栄","グロリオサ","2016-07-28"]
["2016-07-29","エキザカム","","愛の告白","エキザカム","2016-07-29"]
["2016-07-30","ホウセンカ","","激しい愛","ホウセンカ","2016-07-30"]
["2016-07-31","ビヨウヤナギ","","気高さ","ビヨウヤナギ","2016-07-31"]
["2016-08-01","ヒメユリ","","甘美","ヒメユリ","2016-08-01"]
["2016-08-02","ペチュニア","","心和らぐ","ペチュニア","2016-08-02"]
["2016-08-03","モントブレチア","","楽しい思い出","モントブレチア","2016-08-03"]
["2016-08-04","カノコユリ","","格調","カノコユリ","2016-08-04"]
["2016-08-05","ルリタマアザミ","","権威","ルリタマアザミ","2016-08-05"]
["2016-08-06","ヤマユリ","","威厳","ヤマユリ","2016-08-06"]
["2016-08-07","オクラ","","初恋","オクラ","2016-08-07"]
["2016-08-08","ヒマワリ","","栄光","ヒマワリ","2016-08-08"]
["2016-08-09","ベルガモット","","いちずな愛","ベルガモット","2016-08-09"]
["2016-08-10","アマリネ","","魅惑的","アマリネ","2016-08-10"]
["2016-08-11","グラジオラス","","たゆまぬ努力","グラジオラス","2016-08-11"]
["2016-08-12","バーベナ","","魔力","バーベナ","2016-08-12"]
["2016-08-13","ルドベキア","","正義","ルドベキア","2016-08-13"]
["2016-08-14","サルビア","赤","燃ゆる想い","サルビア赤","2016-08-14"]
["2016-08-15","ミント","","誘惑","ミント","2016-08-15"]
["2016-08-16","パキスタキス・ルテア","","楽しい語らい","パキスタキス・ルテア","2016-08-16"]
["2016-08-17","タッセルフラワー","","感性","タッセルフラワー","2016-08-17"]
["2016-08-18","クレオメ","","うれしい誤算","クレオメ","2016-08-18"]
["2016-08-19","ガーベラ","ピンク","神秘","ガーベラピンク","2016-08-19"]
["2016-08-20","ヒソップ","","きれい好き","ヒソップ","2016-08-20"]
["2016-08-21","ヒャクニチソウ","","深い友情","ヒャクニチソウ","2016-08-21"]
["2016-08-22","ジャノメギク","","せつない喜び","ジャノメギク","2016-08-22"]
["2016-08-23","ナツスミレ","","秘密","ナツスミレ","2016-08-23"]
["2016-08-24","ハイビスカス","","繊細な美","ハイビスカス","2016-08-24"]
["2016-08-25","リシアンサス","","優美","リシアンサス","2016-08-25"]
["2016-08-26","アンモビウム","","固い約束","アンモビウム","2016-08-26"]
["2016-08-27","タンジー","","不滅","タンジー","2016-08-27"]
["2016-08-28","オイランソウ","","同意","オイランソウ","2016-08-28"]
["2016-08-29","クルクマ","","縁","クルクマ","2016-08-29"]
["2016-08-30","オジギソウ","","愛の記憶","オジギソウ","2016-08-30"]
["2016-08-31","スパティフィラム","","清らかな心","スパティフィラム","2016-08-31"]
["2016-09-01","ムラサキツユクサ","","貴ぶ","ムラサキツユクサ","2016-09-01"]
["2016-09-02","キク","","信頼","キク","2016-09-02"]
["2016-09-03","ケイトウ","","色あせぬ恋","ケイトウ","2016-09-03"]
["2016-09-04","バタフライブッシュ","","魅力","バタフライブッシュ","2016-09-04"]
["2016-09-05","オミナエシ","","美人","オミナエシ","2016-09-05"]
["2016-09-06","ツリガネヤナギ","","正義","ツリガネヤナギ","2016-09-06"]
["2016-09-07","ソバ","","愛らしさ","ソバ","2016-09-07"]
["2016-09-08","ヤツシロソウ","","従順","ヤツシロソウ","2016-09-08"]
["2016-09-09","ベゴニア","白","親切","ベゴニア白","2016-09-09"]
["2016-09-10","タムラソウ","","秘密","タムラソウ","2016-09-10"]
["2016-09-11","サルスベリ","","雄弁","サルスベリ","2016-09-11"]
["2016-09-12","コスモス","","乙女のまごころ","コスモス","2016-09-12"]
["2016-09-13","ランタナ","","協力","ランタナ","2016-09-13"]
["2016-09-14","ホトトギス","","熟練",{"$f":"B259&C259","v":"ホトトギス"},{"$f":"A259","v":"2016-09-14"}]
["2016-09-15","ヨメナ","","秘めた美しさ","ヨメナ","2016-09-15"]
["2016-09-16","アスクレピアス","","移り気","アスクレピアス","2016-09-16"]
["2016-09-17","チューベローズ","","危険な楽しみ","チューベローズ","2016-09-17"]
["2016-09-18","サルビア","紫","尊敬","サルビア紫","2016-09-18"]
["2016-09-19","マツリカ","","純情無垢","マツリカ","2016-09-19"]
["2016-09-20","ケーププリムローズ","","真実","ケーププリムローズ","2016-09-20"]
["2016-09-21","キキョウ","","変わらぬ恋","キキョウ","2016-09-21"]
["2016-09-22","クジャクソウ","","一目惚れ","クジャクソウ","2016-09-22"]
["2016-09-23","サガギク","","フェミニン","サガギク","2016-09-23"]
["2016-09-24","ユウゼンギク","","元気","ユウゼンギク","2016-09-24"]
["2016-09-25","ノコンギク","","質素","ノコンギク","2016-09-25"]
["2016-09-26","マンジュシャゲ","","感謝","マンジュシャゲ","2016-09-26"]
["2016-09-27","フウセンカズラ","","自由な心","フウセンカズラ","2016-09-27"]
["2016-09-28","リンドウ","","正義","リンドウ","2016-09-28"]
["2016-09-29","アキノノゲシ","","クールな恋","アキノノゲシ","2016-09-29"]
["2016-09-30","コルチカム","","永遠","コルチカム","2016-09-30"]
["2016-10-01","センニチコウ","","不朽","センニチコウ","2016-10-01"]
["2016-10-02","オレンジコスモス","","野生美","オレンジコスモス","2016-10-02"]
["2016-10-03","ミセバヤ","","憧れ","ミセバヤ","2016-10-03"]
["2016-10-04","ポットマム","","高潔","ポットマム","2016-10-04"]
["2016-10-05","パイナップルリリー","","完璧","パイナップルリリー","2016-10-05"]
["2016-10-06","ホテイアオイ","","好意","ホテイアオイ","2016-10-06"]
["2016-10-07","ハギ","","前向きな恋","ハギ","2016-10-07"]
["2016-10-08","トーチリリー","","恋の痛み","トーチリリー","2016-10-08"]
["2016-10-09","ユーチャリス","","清い心","ユーチャリス","2016-10-09"]
["2016-10-10","シオン","","追想","シオン","2016-10-10"]
["2016-10-11","クッションマム","","自立心","クッションマム","2016-10-11"]
["2016-10-12","キブネギク","","多感なとき","キブネギク","2016-10-12"]
["2016-10-13","バンダ","","軽快","バンダ","2016-10-13"]
["2016-10-14","オンシジウム","","気だての良さ","オンシジウム","2016-10-14"]
["2016-10-15","フジバカマ","","用心深い","フジバカマ","2016-10-15"]
["2016-10-16","ヤマスゲ","","忍耐","ヤマスゲ","2016-10-16"]
["2016-10-17","ヨウラクソウ","","片想い","ヨウラクソウ","2016-10-17"]
["2016-10-18","キンモクセイ","","変わらぬ魅力","キンモクセイ","2016-10-18"]
["2016-10-19","レモンバーベナ","","魅惑","レモンバーベナ","2016-10-19"]
["2016-10-20","ノボタン","","ナチュラル","ノボタン","2016-10-20"]
["2016-10-21","モミジアオイ","","思いやり","モミジアオイ","2016-10-21"]
["2016-10-22","ジニア・リネアリス","","友情","ジニア・リネアリス","2016-10-22"]
["2016-10-23","ダリア","","エレガント","ダリア","2016-10-23"]
["2016-10-24","パボニア","","安堵","パボニア","2016-10-24"]
["2016-10-25","ヘレニウム","","寛容","ヘレニウム","2016-10-25"]
["2016-10-26","ボタンヅル","","休息","ボタンヅル","2016-10-26"]
["2016-10-27","バラ","ニコル","魅力","バラニコル","2016-10-27"]
["2016-10-28","ヤハズカヅラ","","美しい瞳","ヤハズカヅラ","2016-10-28"]
["2016-10-29","アングレカム","","清純","アングレカム","2016-10-29"]
["2016-10-30","クロッカス","紫","エネルギー","クロッカス紫","2016-10-30"]
["2016-10-31","タマスダレ","","潔白","タマスダレ","2016-10-31"]
["2016-11-01","フウセンダマノキ","","繁栄","フウセンダマノキ","2016-11-01"]
["2016-11-02","ハナキリン","","独立","ハナキリン","2016-11-02"]
["2016-11-03","レッドパウダーパフ","","思慮深い","レッドパウダーパフ","2016-11-03"]
["2016-11-04","ピラカンサ","","陽気","ピラカンサ","2016-11-04"]
["2016-11-05","デンファレ","","お似合い","デンファレ","2016-11-05"]
["2016-11-06","カーネーション","白","清らかな愛","カーネーション白","2016-11-06"]
["2016-11-07","ミニバラ","赤","特別な功績","ミニバラ赤","2016-11-07"]
["2016-11-08","ステルンベルギア","","期待","ステルンベルギア","2016-11-08"]
["2016-11-09","ムラサキシキブ","","才媛","ムラサキシキブ","2016-11-09"]
["2016-11-10","コダチベゴニア","","無邪気","コダチベゴニア","2016-11-10"]
["2016-11-11","チャノキ","","向上心","チャノキ","2016-11-11"]
["2016-11-12","グミ","","心の純潔","グミ","2016-11-12"]
["2016-11-13","サザンカ","","なごむ心","サザンカ","2016-11-13"]
["2016-11-14","シクラメン","赤","はにかみ","シクラメン赤","2016-11-14"]
["2016-11-15","モレア","","豊かな感性","モレア","2016-11-15"]
["2016-11-16","ワレモコウ","","変化","ワレモコウ","2016-11-16"]
["2016-11-17","ネリネ","","再生",{"$f":"B323&C323","v":"ネリネ"},{"$f":"A323","v":"2016-11-17"}]
["2016-11-18","カラー","黄","熱意","カラー黄","2016-11-18"]
["2016-11-19","ペリストロフェ","","不思議","ペリストロフェ","2016-11-19"]
["2016-11-20","ルクリア","","優美な人","ルクリア","2016-11-20"]
["2016-11-21","ハマギク","","友愛","ハマギク","2016-11-21"]
["2016-11-22","ワビスケ","","簡素","ワビスケ","2016-11-22"]
["2016-11-23","バラ","白","よみがえる愛","バラ白","2016-11-23"]
["2016-11-24","フユボタン","","高貴","フユボタン","2016-11-24"]
["2016-11-25","コチョウラン","","永久の愛","コチョウラン","2016-11-25"]
["2016-11-26","シーマニア","","栄華","シーマニア","2016-11-26"]
["2016-11-27","クロッサンドラ","","内面の美","クロッサンドラ","2016-11-27"]
["2016-11-28","クリ","","約束","クリ","2016-11-28"]
["2016-11-29","マリーゴールド","","信頼","マリーゴールド","2016-11-29"]
["2016-11-30","シネラリア","","いつも陽気","シネラリア","2016-11-30"]
["2016-12-01","サフラン","","節度の美","サフラン","2016-12-01"]
["2016-12-02","ヒメシャラ","","謙譲","ヒメシャラ","2016-12-02"]
["2016-12-03","ツワブキ","","心づかい","ツワブキ","2016-12-03"]
["2016-12-04","ポインセチア","","祝福","ポインセチア","2016-12-04"]
["2016-12-05","アザレア","赤","自制心","アザレア赤","2016-12-05"]
["2016-12-06","ブバルディア","","予感","ブバルディア","2016-12-06"]
["2016-12-07","ダイモンジソウ","","自由","ダイモンジソウ","2016-12-07"]
["2016-12-08","シャコバサボテン","","美しい眺め","シャコバサボテン","2016-12-08"]
["2016-12-09","カンガルーポー","","不思議","カンガルーポー","2016-12-09"]
["2016-12-10","レナンセナ","","熱望","レナンセナ","2016-12-10"]
["2016-12-11","イソカンギク","","教養","イソカンギク","2016-12-11"]
["2016-12-12","テッポウユリ","","純潔","テッポウユリ","2016-12-12"]
["2016-12-13","カトレア","","優雅な女性","カトレア","2016-12-13"]
["2016-12-14","ナンテン","","ますます幸せ","ナンテン","2016-12-14"]
["2016-12-15","オドントグロッサム","","特別","オドントグロッサム","2016-12-15"]
["2016-12-16","ラケナリア","","継続","ラケナリア","2016-12-16"]
["2016-12-17","キルタンサス","","ロマンティック","キルタンサス","2016-12-17"]
["2016-12-18","ヘリコニア","","注目","ヘリコニア","2016-12-18"]
["2016-12-19","ベゴニア","ピンク","愛の告白","ベゴニアピンク","2016-12-19"]
["2016-12-20","ツルウメモドキ","","開運","ツルウメモドキ","2016-12-20"]
["2016-12-21","ニオイバンマツリ","","青春の喜び","ニオイバンマツリ","2016-12-21"]
["2016-12-22","クチベニスイセン","","詩人","クチベニスイセン","2016-12-22"]
["2016-12-23","ユリオプスデージー","","円満","ユリオプスデージー","2016-12-23"]
["2016-12-24","シンビジウム","","飾らない心","シンビジウム","2016-12-24"]
["2016-12-25","クリスマスパレード","","博愛","クリスマスパレード","2016-12-25"]
["2016-12-26","リュウノヒゲ","","天才的","リュウノヒゲ","2016-12-26"]
["2016-12-27","ヒイラギ","","先見性","ヒイラギ","2016-12-27"]
["2016-12-28","ストロベリーキャンドル","","善良","ストロベリーキャンドル","2016-12-28"]
["2016-12-29","ヒイラギモチ","","清廉","ヒイラギモチ","2016-12-29"]
["2016-12-30","マネッチア","","楽しい語らい","マネッチア","2016-12-30"]
["2016-12-31","カンギク","","真の強さ","カンギク","2016-12-31"]

{"sheet":"国花","index":4,"n_rows":228,"n_cols":2,"rows_kept":228,"cut":false,"hidden":true,"merged":[]}
["アフガニスタン","赤いチューリップ"]
["イエメン","アラビカコーヒーノキ"]
["イスラエル","オリーブ"]
["イスラエル","シクラメン"]
["イラク","赤いバラ"]
["イラン","黄色いつる性のバラ"]
["イラン","チューリップ"]
["インド","蓮"]
["インド","印度菩提樹"]
["インドネシア","メラティ(マツリカ)"]
["インドネシア","コチョウラン"]
["インドネシア","ラフレシア"]
["インドネシア","スマトラオオコンニャク"]
["オマーン","赤いバラ"]
["カザフスタン","チューリップ"]
["カタール","ナツメヤシ"]
["韓国","ムクゲ"]
["カンボジア","ラムドゥアン"]
["カンボジア","稲"]
["北朝鮮","李"]
["北朝鮮","木蘭(オオヤマレンゲ)"]
["キルギス","ワタ"]
["キルギス","バラ"]
["キルギス","チューリップ"]
["クウェート","アル・アルファジ"]
["ジョージア","ヨーロッパブドウ"]
["シリア","ダマスクローズ"]
["シンガポール","バンダ・ミスジョアキム"]
["スリランカ","ニル・マーネル"]
["タイ","ナンバンサイカチ"]
["タイ","スイレン"]
["香港","バウヒニア"]
["マカオ","蓮"]
["トルコ","チューリップ"]
["日本","桜"]
["日本","菊"]
["中華民国","梅"]
["ネパール","ラリグラス"]
["パキスタン","ソケイ"]
["パレスチナ","オリーブ"]
["バングラデシュ","シャープラ (ネッタイスイレン)"]
["フィリピン","サンパギータ(マツリカ)"]
["フィリピン","メコノプシス・ホリデュラ"]
["ブルネイ","カンボクビワモドキ"]
["ベトナム","紅い蓮"]
["ベトナム","竹"]
["マレーシア","ブンガラヤ(ブッソウゲ)"]
["ミャンマー","サラノキ"]
["ミャンマー","カリン (マメ科)"]
["ミャンマー","アカバナサンタンカ"]
["モンゴル","セイヨウマツムシソウ"]
["ヨルダン","ブラックアイリス"]
["ラオス","インドソケイ"]
["レバノン","レバノンスギ"]
["アルジェリア","バラ"]
["エチオピア","カラー(オランダカイウ)"]
["エジプト","ロータス(ヨザキスイレン)"]
["ガーナ","ナツメヤシ"]
["ガボン","カエンボク"]
["コートジボワール","ヤシ"]
["コートジボワール","ニオイマホガニー"]
["シエラレオネ","ギネアアブラヤシ"]
["ジンバブエ","グロリオサ・ロスチャイルディアナ"]
["スーダン","ブッソウゲ"]
["赤道ギニア","カポック(パンヤ)"]
["セネガル","バオバブ"]
["チュニジア","ミモザ"]
["チュニジア","オオバナソケイ"]
["ナイジェリア","コスタス・スペクタビリス"]
["ナミビア","ウェルウィッチア"]
["ボツワナ","モロコシ"]
["マダガスカル","ポインセチア"]
["マダガスカル","タビビトノキ"]
["南アフリカ共和国","キングプロテア"]
["モーリシャス","トロチェティア"]
["モロッコ","バラ"]
["モロッコ","ザクロ"]
["リベリア","コショウ"]
["アイスランド","チョウノスケソウ"]
["アイルランド","シャムロック"]
["アルバニア","赤と黒のケシ"]
["アルバニア","ヨーロッパナラ"]
["アンドラ","エーデルワイス"]
["イギリス","テューダー・ローズ"]
["イギリス","ラッパスイセン"]
["イギリス","リーキ"]
["イギリス","シャムロック"]
["イギリス","アザミ"]
["イギリス","バラ"]
["イタリア","デージー"]
["ウクライナ","セイヨウカンボク"]
["ウクライナ","スミミザクラ"]
["ウクライナ","ヤグルマギク"]
["ウクライナ","エーデルワイス"]
["オランダ","チューリップ"]
["キプロス","キプロスシクラメン"]
["キプロス","オリーブ"]
["ギリシャ","アカンサス(葉アザミ)"]
["ギリシャ","ニオイスミレ"]
["ギリシャ","オリーブ"]
["クロアチア","ペルニカ"]
["クロアチア","デゲニア・ヴェルビティカ"]
["サンマリノ","アキザキシクラメン"]
["スイス","エーデルワイス"]
["スイス","アルペンローゼ"]
["スイス","アルペンエンツィアン"]
["スウェーデン","セイヨウトネリコ"]
["スウェーデン","ドイツスズラン"]
["スペイン","カーネーション"]
["スペイン","ザクロ"]
["スペイン","オレンジ"]
["スロバキア","ジャガイモ"]
["スロベニア","コムギ"]
["セルビア","セイヨウスモモ"]
["チェコ","菩提樹"]
["デンマーク","ムラサキツメクサ"]
["デンマーク","マーガレット"]
["ドイツ","ヤグルマギク"]
["ドイツ","オウシュウナラ"]
["ノルウェー","ギョリュウモドキ"]
["ノルウェー","サキフラガ・コティレドン"]
["バチカン","マドンナリリー(ニワシロユリ)"]
["ハンガリー","ゼラニウム"]
["ハンガリー","チューリップ"]
["フィンランド","スズラン"]
["ブルガリア","バラ"]
["フランス","アイリス（または百合）"]
["フランス","ヤグルマギク"]
["フランス","Cyanus segetum"]
["フランス","マーガレット"]
["フランス","Argyranthemum frutescens"]
["フランス","ヒナゲシ"]
["フランス","Papaver rhoeas"]
["ベラルーシ","アマ"]
["ベルギー","チューリップ"]
["ベルギー","赤いヒナゲシ"]
["ボスニア・ヘルツェゴビナ","ボスニアゴールデンリリー"]
["ポーランド","パンジー"]
["ポーランド","赤いヒナゲシ"]
["ポルトガル","ラベンダー"]
["ポルトガル","カーネーション"]
["ポルトガル","コルクガシ"]
["北マケドニア","ケシ"]
["マルタ","マルタヤグルマギク"]
["モナコ","カーネーション"]
["モンテネグロ","ミモザ"]
["ラトビア","フランスギク"]
["リトアニア","ヘンルーダ"]
["リヒテンシュタイン","オレンジリリー"]
["ルクセンブルク","バラ"]
["ルーマニア","ドッグローズ"]
["ロシア","ヒマワリ"]
["ロシア","カミツレ"]
["アメリカ合衆国","バラ"]
["アメリカ合衆国","セイヨウオダマキ"]
["アメリカ領ヴァージン諸島","キンレイジュ"]
["アンティグア・バーブーダ","アグレイヴ・カラット"]
["エルサルバドル","メキシコチモラン"]
["エルサルバドル","アラビカコーヒーノキ"]
["カナダ","サトウカエデ"]
["キューバ","ホワイトジンジャー"]
["グアテマラ","モンハ・ブランカ"]
["グリーンランド","ニヴィアルシアク"]
["グレナダ","ブーゲンビリア"]
["ケイマン諸島","ワイルドバナナオーキッド"]
["コスタリカ","グアリアンセ・スキネリ"]
["セントクリストファー・ネイビス","ホウオウボク"]
["セントクリストファー・ネイビス","オオゴチョウ"]
["セントビンセント・グレナディーン","スーフリツリー"]
["セントルシア","バラ"]
["セントルシア","マルグリット"]
["ジャマイカ","ユソウボク"]
["ドミニカ国","カリブウッド"]
["ドミニカ共和国","マホガニー"]
["ドミニカ共和国","バヤイベ・ローズ"]
["トリニダード・トバゴ","ヘリコニア(チャコニア)"]
["ニカラグア","サクアンホーチェ"]
["ニカラグア","デガメ、レモンウッド、ランスウッド"]
["ハイチ","ダイオウヤシ"]
["パナマ","ペリステリア・エラタ"]
["バハマ","キンレイジュ"]
["バミューダ諸島","シシリンチウム・バミューディアナ"]
["バルバドス","オオゴチョウ"]
["プエルトリコ","セスペシア・グランディフローラ"]
["ベリーズ","プロステケア・コクレアタ"]
["ホンジュラス","リンコレリア・ディグビアナ"]
["メキシコ","ダリア"]
["アルゼンチン","セイボ"]
["エクアドル","バラ"]
["エクアドル","チュキラグア"]
["エクアドル","リカステ・スキンネリ"]
["エクアドル","アカキナノキ"]
["ガイアナ","オオオニバス"]
["コロンビア","カトレヤ・トリアナエ"]
["コロンビア","アラビカコーヒーノキ"]
["スリナム","ファヤロビ"]
["チリ","コピウエ(ラパゲリア"]
["チリ","セイボ(アメリカデイゴ)"]
["パラグアイ","バンマツリ"]
["パラグアイ","タベブイア・アルゲンテア"]
["パラグアイ","トケイソウ"]
["ブラジル","ブラジルボク"]
["ブラジル","イペー・アマレーロ"]
["ブラジル","イペー"]
["ブラジル","カトレヤ"]
["フランス領ギアナ","セイヨウスイレン"]
["ベネズエラ","イエロー・トランペットツリー"]
["ベネズエラ","タベブイア・パリダ"]
["ベネズエラ","フロール・デ・マヨ"]
["ベネズエラ","カタセツム・ピレアヌム"]
["ペルー","ヒマワリ"]
["ペルー","カンツータ"]
["オーストラリア","ゴールデン・ワトル"]
["クック諸島","タヒチアン・ガーデニア"]
["サモア","レッドジンジャー"]
["トンガ","ヘイララ"]
["ニュージーランド","コーファイ"]
["ニュージーランド","シルバー・ファーン"]
["ニュージーランド","レプトスペルマム"]
["ニュージーランド","コル"]
["パプアニューギニア","ラン"]
["パプアニューギニア","スイレン"]
["パプアニューギニア","ハイビスカス"]
["パラオ","ルー"]
["フィジー","タンギモウジア"]
["フィジー","カトレア"]
["フランス領ポリネシア","ティアレ"]
["マーシャル諸島","ハテルマギリ"]

{"sheet":"県花","index":5,"n_rows":49,"n_cols":2,"rows_kept":49,"cut":false,"hidden":true,"merged":[]}
["北海道","ハマナス"]
["青森県","りんごの花"]
["岩手県","キリ"]
["宮城県","ミヤギノハギ"]
["秋田県","フキのとう"]
["山形県","べにばな（紅花）"]
["福島県","ネモトシャクナゲ"]
["茨城県","バラ"]
["栃木県","やしおつつじ"]
["群馬県","レンゲツツジ"]
["埼玉県","サクラソウ"]
["千葉県","なのはな"]
["東京都","ソメイヨシノ"]
["神奈川県","ヤマユリ"]
["新潟県","チューリップ"]
["新潟県","雪割草"]
["富山県","チューリップ"]
["石川県","クロユリ"]
["福井県","スイセン"]
["山梨県","ふじさくら"]
["長野県","りんどう"]
["岐阜県","れんげ"]
["静岡県","つつじ"]
["愛知県","カキツバタ"]
["三重県","ハナショウブ"]
["滋賀県","石楠花"]
["京都府","しだれ桜"]
["京都府","嵯峨ぎく・なでしこ"]
["大阪府","うめ・さくらそう"]
["兵庫県","ノジギク"]
["奈良県","奈良八重桜"]
["和歌山県","ウメ"]
["鳥取県","二十世紀梨の花"]
["島根県","ボタン"]
["岡山県","ももの花"]
["広島県","モミジ"]
["山口県","夏みかんの花"]
["徳島県","すだちの花"]
["香川県","オリーブ"]
["愛媛県","みかんの花"]
["高知県","ヤマモモ"]
["福岡県","うめ"]
["佐賀県","クスの花"]
["長崎県","雲仙ツツジ"]
["熊本県","リンドウ"]
["大分県","豊後梅"]
["宮崎県","はまゆう"]
["鹿児島県","ミヤマキリシマ"]
["沖縄県","デイゴ"]