{"text_format":"1","workbook":"xlsx","n_sheets":3,"sheets":["挑戦","選択","一覧"],"not_rendered":{"charts":0,"images":2,"macros":1,"external_links":0,"defined_names":0,"comments":0,"pivot_tables":0},"unopened":[],"bounds":{"document_bytes":16777216,"sheet_cells":100000,"rows_first":2000,"rows_last":500,"rows_between":2000,"halvings":0,"cell_chars":16384,"cell_head_chars":4096},"cells_cut":0,"cells_raw":0,"read":"whole","date_system":"1900"}

{"sheet":"挑戦","index":0,"n_rows":23,"n_cols":31,"rows_kept":23,"cut":false,"hidden":false,"merged":[[0,29,0,31],[3,30,4,30],[3,31,4,31],[5,5,11,5],[5,6,11,6],[5,9,11,9],[5,10,11,10],[5,11,11,11],[5,12,11,12],[0,8,1,23],[6,3,12,3],[6,4,12,4],[6,7,12,7],[6,8,12,8],[14,13,14,15],[17,19,17,27],[21,9,21,23],[22,9,22,23],[5,14,12,14],[5,15,12,15],[5,20,14,25]]}
[null,null,null,null,null,null,null,null,"挑戦　TIT_百人一首",null,null,null,null,null,null,null,null,null,null,null,null,null,null,null,null,null,null,null,null,{"$f":"TODAY()","v":"2021-02-25"}]
[]
[]
[null,null,null,null,null,null,null,null,null,null,null,null,null,null,null,null,null,null,null,null,null,null,null,null,null,null,null,null,null,null,"枚 目"]
[]
[]
[null,null,null,null,null,null,null,null,null,null,null,null,null,null,null,null,null,null,null,null,null,null,null,null,null,null,null,null,null,null,"正 解"]
[]
[null,null,null,null,null,null,null,null,null,null,null,null,null,null,null,null,null,null,null,null,null,null,null,null,null,null,null,null,null,null,"お手付き"]
[]
[]
[]
[]
[]
[]
[]
[]
[]
[]
[]
[]
[null,null,null,null,null,null,null,null,null,"株式会社つくばＩＴパートナー"]
[null,null,null,null,null,null,null,null,null,"Copyright © 2017 Tsukuba IT Partner Co., Ltd. All Rights Reserved."]

{"sheet":"選択","index":1,"n_rows":12,"n_cols":78,"rows_kept":12,"cut":false,"hidden":true,"merged":[[0,29,0,51],[1,1,1,19],[1,21,1,39],[1,46,1,59],[2,1,2,3],[2,5,2,7],[2,9,2,11],[2,13,2,15],[2,17,2,19],[2,21,2,23],[2,73,2,75],[2,77,2,79],[3,1,3,3],[3,5,3,7],[3,9,3,11],[3,13,3,15],[3,17,3,19],[3,21,3,23],[3,25,3,27],[3,29,3,31],[2,49,2,51],[2,53,2,55],[2,57,2,59],[2,61,2,63],[2,65,2,67],[2,69,2,71],[2,25,2,27],[2,29,2,31],[2,33,2,35],[2,37,2,39],[2,41,2,43],[2,45,2,47],[3,57,3,59],[3,61,3,63],[3,65,3,67],[3,69,3,71],[3,73,3,75],[3,77,3,79],[3,33,3,35],[3,37,3,39],[3,41,3,43],[3,45,3,47],[3,49,3,51],[3,53,3,55],[5,1,5,3],[5,5,5,7],[5,9,5,11],[5,13,5,15],[5,17,5,19],[5,21,5,23],[5,25,5,27],[5,29,5,31],[4,49,4,51],[4,25,4,27],[4,29,4,31],[4,33,4,35],[4,37,4,39],[4,41,4,43],[4,45,4,47],[4,1,4,3],[4,5,4,7],[4,9,4,11],[4,13,4,15],[4,17,4,19],[4,21,4,23],[5,77,5,79],[5,33,5,35],[5,37,5,39],[5,41,5,43],[5,45,5,47],[5,49,5,51],[5,53,5,55],[4,73,4,75],[4,77,4,79],[4,53,4,55],[4,57,4,59],[4,61,4,63],[4,65,4,67],[4,69,4,71],[6,9,6,11],[6,13,6,15],[6,17,6,19],[6,21,6,23],[5,57,5,59],[5,61,5,63],[5,65,5,67],[5,69,5,71],[5,73,5,75],[6,73,6,75],[6,77,6,79],[7,1,7,3],[7,5,7,7],[7,9,7,11],[7,13,7,15],[7,17,7,19],[7,21,7,23],[7,25,7,27],[7,29,7,31],[6,49,6,51],[6,53,6,55],[6,57,6,59],[6,61,6,63],[6,65,6,67],[6,69,6,71],[6,25,6,27],[6,29,6,31],[6,33,6,35],[6,37,6,39],[6,41,6,43],[6,45,6,47],[6,1,6,3],[6,5,6,7],[7,57,7,59],[7,61,7,63],[7,65,7,67],[7,69,7,71],[7,73,7,75],[7,77,7,79],[7,33,7,35],[7,37,7,39],[7,41,7,43],[7,45,7,47],[7,49,7,51],[7,53,7,55],[9,1,9,3],[9,5,9,7],[9,9,9,11],[9,13,9,15],[9,17,9,19],[9,21,9,23],[9,25,9,27],[9,29,9,31],[8,49,8,51],[8,25,8,27],[8,29,8,31],[8,33,8,35],[8,37,8,39],[8,41,8,43],[8,45,8,47],[8,1,8,3],[8,5,8,7],[8,9,8,11],[8,13,8,15],[8,17,8,19],[8,21,8,23],[9,77,9,79],[9,33,9,35],[9,37,9,39],[9,41,9,43],[9,45,9,47],[9,49,9,51],[9,53,9,55],[8,73,8,75],[8,77,8,79],[8,53,8,55],[8,57,8,59],[8,61,8,63],[8,65,8,67],[8,69,8,71],[10,9,10,11],[10,13,10,15],[10,17,10,19],[10,21,10,23],[9,57,9,59],[9,61,9,63],[9,65,9,67],[9,69,9,71],[9,73,9,75],[10,73,10,75],[10,77,10,79],[11,1,11,3],[11,5,11,7],[11,9,11,11],[11,13,11,15],[11,17,11,19],[11,21,11,23],[11,25,11,27],[11,29,11,31],[10,49,10,51],[10,53,10,55],[10,57,10,59],[10,61,10,63],[10,65,10,67],[10,69,10,71],[10,25,10,27],[10,29,10,31],[10,33,10,35],[10,37,10,39],[10,41,10,43],[10,45,10,47],[10,1,10,3],[10,5,10,7],[11,57,11,59],[11,61,11,63],[11,65,11,67],[11,69,11,71],[11,73,11,75],[11,77,11,79],[11,33,11,35],[11,37,11,39],[11,41,11,43],[11,45,11,47],[11,49,11,51],[11,53,11,55]]}
[null,null,null,null,null,null,null,null,null,null,null,null,null,null,null,null,null,null,null,null,null,null,null,null,null,null,null,null,null,"《↓下の句の札を選んで下さい。》"]
[null,{"$f":"挑戦!L6&\" \"&挑戦!J6&\" \"&挑戦!H7","v":"  "}]
[null,1,null,null,null,{"$f":"B3+1","v":2},null,null,null,{"$f":"F3+1","v":3},null,null,null,{"$f":"J3+1","v":4},null,null,null,{"$f":"N3+1","v":5},null,null,null,{"$f":"R3+1","v":6},null,null,null,{"$f":"V3+1","v":7},null,null,null,{"$f":"Z3+1","v":8},null,null,null,{"$f":"AD3+1","v":9},null,null,null,{"$f":"AH3+1","v":10},null,null,null,{"$f":"AL3+1","v":11},null,null,null,{"$f":"AP3+1","v":12},null,null,null,{"$f":"AT3+1","v":13},null,null,null,{"$f":"AX3+1","v":14},null,null,null,{"$f":"BB3+1","v":15},null,null,null,{"$f":"BF3+1","v":16},null,null,null,{"$f":"BJ3+1","v":17},null,null,null,{"$f":"BN3+1","v":18},null,null,null,{"$f":"BR3+1","v":19},null,null,null,{"$f":"BV3+1","v":20}]
[null,{"$f":"IF(一覧!C1<>\"\",\"\",一覧!R1)","v":"しのぶることのよわりもぞする　"},null,null,null,{"$f":"IF(一覧!C2<>\"\",\"\",一覧!R2)","v":"もれいづるつきのかげのさやけさ　"},null,null,null,{"$f":"IF(一覧!C3<>\"\",\"\",一覧!R3)","v":"こゑきくときぞあきはかなしき　"},null,null,null,{"$f":"IF(一覧!C4<>\"\",\"\",一覧!R4)","v":"むかしはものをおもはざりけり　"},null,null,null,{"$f":"IF(一覧!C5<>\"\",\"\",一覧!R5)","v":"やまのおくにもしかぞなくなる　"},null,null,null,{"$f":"IF(一覧!C6<>\"\",\"\",一覧!R6)","v":"かけじやそでのぬれもこそすれ　"},null,null,null,{"$f":"IF(一覧!C7<>\"\",\"\",一覧!R7)","v":"うきにたへぬはなみだなりけり　"},null,null,null,{"$f":"IF(一覧!C8<>\"\",\"\",一覧!R8)","v":"みそぎぞなつのしるしなりける　"},null,null,null,{"$f":"IF(一覧!C9<>\"\",\"\",一覧!R9)","v":"いくよねざめぬすまのせきもり　"},null,null,null,{"$f":"IF(一覧!C10<>\"\",\"\",一覧!R10)","v":"ふじのたかねにゆきはふりつつ　"},null,null,null,{"$f":"IF(一覧!C11<>\"\",\"\",一覧!R11)","v":"ころもかたしきひとりかもねむ　"},null,null,null,{"$f":"IF(一覧!C12<>\"\",\"\",一覧!R12)","v":"いつみきとてかこひしかるらむ　"},null,null,null,{"$f":"IF(一覧!C13<>\"\",\"\",一覧!R13)","v":"あまのをぶねのつなでかなしも　"},null,null,null,{"$f":"IF(一覧!C14<>\"\",\"\",一覧!R14)","v":"ころもほすてふあまのかぐやま　"},null,null,null,{"$f":"IF(一覧!C15<>\"\",\"\",一覧!R15)","v":"ひとにしられでくるよしもがな　"},null,null,null,{"$f":"IF(一覧!C16<>\"\",\"\",一覧!R16)","v":"まつもむかしのともならなくに　"},null,null,null,{"$f":"IF(一覧!C17<>\"\",\"\",一覧!R17)","v":"くものいづこにつきやどるらむ　"},null,null,null,{"$f":"IF(一覧!C18<>\"\",\"\",一覧!R18)","v":"ふるさとさむくころもうつなり　"},null,null,null,{"$f":"IF(一覧!C19<>\"\",\"\",一覧!R19)","v":"けふをかぎりのいのちともがな　"},null,null,null,{"$f":"IF(一覧!C20<>\"\",\"\",一覧!R20)","v":"あかつきばかりうきものはなし　"}]
[null,{"$f":"BZ3+1","v":21},null,null,null,{"$f":"B5+1","v":22},null,null,null,{"$f":"F5+1","v":23},null,null,null,{"$f":"J5+1","v":24},null,null,null,{"$f":"N5+1","v":25},null,null,null,{"$f":"R5+1","v":26},null,null,null,{"$f":"V5+1","v":27},null,null,null,{"$f":"Z5+1","v":28},null,null,null,{"$f":"AD5+1","v":29},null,null,null,{"$f":"AH5+1","v":30},null,null,null,{"$f":"AL5+1","v":31},null,null,null,{"$f":"AP5+1","v":32},null,null,null,{"$f":"AT5+1","v":33},null,null,null,{"$f":"AX5+1","v":34},null,null,null,{"$f":"BB5+1","v":35},null,null,null,{"$f":"BF5+1","v":36},null,null,null,{"$f":"BJ5+1","v":37},null,null,null,{"$f":"BN5+1","v":38},null,null,null,{"$f":"BR5+1","v":39},null,null,null,{"$f":"BV5+1","v":40}]
[null,{"$f":"IF(一覧!C21<>\"\",\"\",一覧!R21)","v":"みだれそめにしわれならなくに　"},null,null,null,{"$f":"IF(一覧!C22<>\"\",\"\",一覧!R22)","v":"みをつくしてやこひわたるべき　"},null,null,null,{"$f":"IF(一覧!C23<>\"\",\"\",一覧!R23)","v":"よしののさとにふれるしらゆき　"},null,null,null,{"$f":"IF(一覧!C24<>\"\",\"\",一覧!R24)","v":"ひとこそしらねかわくまもなし　"},null,null,null,{"$f":"IF(一覧!C25<>\"\",\"\",一覧!R25)","v":"いづこもおなじあきのゆふぐれ　"},null,null,null,{"$f":"IF(一覧!C26<>\"\",\"\",一覧!R26)","v":"あしのまろやにあきかぜぞふく　"},null,null,null,{"$f":"IF(一覧!C27<>\"\",\"\",一覧!R27)","v":"われてもすゑにあはむとぞおもふ　"},null,null,null,{"$f":"IF(一覧!C28<>\"\",\"\",一覧!R28)","v":"なこそながれてなほきこえけれ"},null,null,null,{"$f":"IF(一覧!C29<>\"\",\"\",一覧!R29)","v":"うしとみしよぞいまはこひしき　"},null,null,null,{"$f":"IF(一覧!C30<>\"\",\"\",一覧!R30)","v":"くだけてものをおもふころかな　"},null,null,null,{"$f":"IF(一覧!C31<>\"\",\"\",一覧!R31)","v":"わがころもでにゆきはふりつつ　"},null,null,null,{"$f":"IF(一覧!C32<>\"\",\"\",一覧!R32)","v":"きりたちのぼるあきのゆふぐれ　"},null,null,null,{"$f":"IF(一覧!C33<>\"\",\"\",一覧!R33)","v":"ながくもがなとおもひけるかな　"},null,null,null,{"$f":"IF(一覧!C34<>\"\",\"\",一覧!R34)","v":"ひるはきえつつものをこそおもへ　"},null,null,null,{"$f":"IF(一覧!C35<>\"\",\"\",一覧!R35)","v":"けふここのへににほひぬるかな　"},null,null,null,{"$f":"IF(一覧!C36<>\"\",\"\",一覧!R36)","v":"いかにひさしきものとかはしる　"},null,null,null,{"$f":"IF(一覧!C37<>\"\",\"\",一覧!R37)","v":"ゆくへもしらぬこひのみちかな　"},null,null,null,{"$f":"IF(一覧!C38<>\"\",\"\",一覧!R38)","v":"よをうぢやまとひとはいふなり　"},null,null,null,{"$f":"IF(一覧!C39<>\"\",\"\",一覧!R39)","v":"かたぶくまでのつきをみしかな　"},null,null,null,{"$f":"IF(一覧!C40<>\"\",\"\",一覧!R40)","v":"あらはれわたるせぜのあじろぎ　"}]
[null,{"$f":"BZ5+1","v":41},null,null,null,{"$f":"B7+1","v":42},null,null,null,{"$f":"F7+1","v":43},null,null,null,{"$f":"J7+1","v":44},null,null,null,{"$f":"N7+1","v":45},null,null,null,{"$f":"R7+1","v":46},null,null,null,{"$f":"V7+1","v":47},null,null,null,{"$f":"Z7+1","v":48},null,null,null,{"$f":"AD7+1","v":49},null,null,null,{"$f":"AH7+1","v":50},null,null,null,{"$f":"AL7+1","v":51},null,null,null,{"$f":"AP7+1","v":52},null,null,null,{"$f":"AT7+1","v":53},null,null,null,{"$f":"AX7+1","v":54},null,null,null,{"$f":"BB7+1","v":55},null,null,null,{"$f":"BF7+1","v":56},null,null,null,{"$f":"BJ7+1","v":57},null,null,null,{"$f":"BN7+1","v":58},null,null,null,{"$f":"BR7+1","v":59},null,null,null,{"$f":"BV7+1","v":60}]
[null,{"$f":"IF(一覧!C41<>\"\",\"\",一覧!R41)","v":"ながれもあへぬもみぢなりけり　"},null,null,null,{"$f":"IF(一覧!C42<>\"\",\"\",一覧!R42)","v":"こひぞつもりてふちとなりぬる"},null,null,null,{"$f":"IF(一覧!C43<>\"\",\"\",一覧!R43)","v":"をとめのすがたしばしとどめむ"},null,null,null,{"$f":"IF(一覧!C44<>\"\",\"\",一覧!R44)","v":"すゑのまつやまなみこさじとは　"},null,null,null,{"$f":"IF(一覧!C45<>\"\",\"\",一覧!R45)","v":"むべやまかぜをあらしといふらむ　"},null,null,null,{"$f":"IF(一覧!C46<>\"\",\"\",一覧!R46)","v":"ものやおもふとひとのとふまで　"},null,null,null,{"$f":"IF(一覧!C47<>\"\",\"\",一覧!R47)","v":"よにあふさかのせきはゆるさじ　"},null,null,null,{"$f":"IF(一覧!C48<>\"\",\"\",一覧!R48)","v":"なほうらめしきあさぼらけかな　"},null,null,null,{"$f":"IF(一覧!C49<>\"\",\"\",一覧!R49)","v":"はなよりほかにしるひともなし　"},null,null,null,{"$f":"IF(一覧!C50<>\"\",\"\",一覧!R50)","v":"ひとめもくさもかれぬとおもへば　"},null,null,null,{"$f":"IF(一覧!C51<>\"\",\"\",一覧!R51)","v":"あまりてなどかひとのこひしき　"},null,null,null,{"$f":"IF(一覧!C52<>\"\",\"\",一覧!R52)","v":"くもゐにまがふおきつしらなみ　"},null,null,null,{"$f":"IF(一覧!C53<>\"\",\"\",一覧!R53)","v":"とやまのかすみたたずもあらなむ"},null,null,null,{"$f":"IF(一覧!C54<>\"\",\"\",一覧!R54)","v":"ひとにはつげよあまのつりぶね　"},null,null,null,{"$f":"IF(一覧!C55<>\"\",\"\",一覧!R55)","v":"たつたのかはのにしきなりけり　"},null,null,null,{"$f":"IF(一覧!C56<>\"\",\"\",一覧!R56)","v":"ぬれにぞぬれしいろはかはらず　"},null,null,null,{"$f":"IF(一覧!C57<>\"\",\"\",一覧!R57)","v":"わがころもではつゆにぬれつつ　"},null,null,null,{"$f":"IF(一覧!C58<>\"\",\"\",一覧!R58)","v":"おきまどはせるしらぎくのはな　"},null,null,null,{"$f":"IF(一覧!C59<>\"\",\"\",一覧!R59)","v":"くもがくれにしよはのつきかな　"},null,null,null,{"$f":"IF(一覧!C60<>\"\",\"\",一覧!R60)","v":"こひにくちなむなこそをしけれ"}]
[null,{"$f":"BZ7+1","v":61},null,null,null,{"$f":"B9+1","v":62},null,null,null,{"$f":"F9+1","v":63},null,null,null,{"$f":"J9+1","v":64},null,null,null,{"$f":"N9+1","v":65},null,null,null,{"$f":"R9+1","v":66},null,null,null,{"$f":"V9+1","v":67},null,null,null,{"$f":"Z9+1","v":68},null,null,null,{"$f":"AD9+1","v":69},null,null,null,{"$f":"AH9+1","v":70},null,null,null,{"$f":"AL9+1","v":71},null,null,null,{"$f":"AP9+1","v":72},null,null,null,{"$f":"AT9+1","v":73},null,null,null,{"$f":"AX9+1","v":74},null,null,null,{"$f":"BB9+1","v":75},null,null,null,{"$f":"BF9+1","v":76},null,null,null,{"$f":"BJ9+1","v":77},null,null,null,{"$f":"BN9+1","v":78},null,null,null,{"$f":"BR9+1","v":79},null,null,null,{"$f":"BV9+1","v":80}]
[null,{"$f":"IF(一覧!C61<>\"\",\"\",一覧!R61)","v":"ゆめのかよひぢひとめよくらむ　"},null,null,null,{"$f":"IF(一覧!C62<>\"\",\"\",一覧!R62)","v":"みだれてけさはものをこそおもへ　"},null,null,null,{"$f":"IF(一覧!C63<>\"\",\"\",一覧!R63)","v":"みのいたづらになりぬべきかな　"},null,null,null,{"$f":"IF(一覧!C64<>\"\",\"\",一覧!R64)","v":"あはでこのよをすぐしてよとや　"},null,null,null,{"$f":"IF(一覧!C65<>\"\",\"\",一覧!R65)","v":"あはれことしのあきもいぬめり　"},null,null,null,{"$f":"IF(一覧!C66<>\"\",\"\",一覧!R66)","v":"よをおもふゆゑにものおもふみは"},null,null,null,{"$f":"IF(一覧!C67<>\"\",\"\",一覧!R67)","v":"ねやのひまさへつれなかりけり　"},null,null,null,{"$f":"IF(一覧!C68<>\"\",\"\",一覧!R68)","v":"ひとをもみをもうらみざらまし　"},null,null,null,{"$f":"IF(一覧!C69<>\"\",\"\",一覧!R69)","v":"いまひとたびのみゆきまたなむ　"},null,null,null,{"$f":"IF(一覧!C70<>\"\",\"\",一覧!R70)","v":"しろきをみればよぞふけにける　"},null,null,null,{"$f":"IF(一覧!C71<>\"\",\"\",一覧!R71)","v":"いまひとたびのあふこともがな"},null,null,null,{"$f":"IF(一覧!C72<>\"\",\"\",一覧!R72)","v":"はげしかれとはいのらぬものを　"},null,null,null,{"$f":"IF(一覧!C73<>\"\",\"\",一覧!R73)","v":"わがみよにふるながめせしまに　"},null,null,null,{"$f":"IF(一覧!C74<>\"\",\"\",一覧!R74)","v":"いでそよひとをわすれやはする　"},null,null,null,{"$f":"IF(一覧!C75<>\"\",\"\",一覧!R75)","v":"ふりゆくものはわがみなりけり　"},null,null,null,{"$f":"IF(一覧!C76<>\"\",\"\",一覧!R76)","v":"こひしかるべきよはのつきかな　"},null,null,null,{"$f":"IF(一覧!C77<>\"\",\"\",一覧!R77)","v":"ながながしよをひとりかもねむ　"},null,null,null,{"$f":"IF(一覧!C78<>\"\",\"\",一覧!R78)","v":"なほあまりあるむかしなりけり　"},null,null,null,{"$f":"IF(一覧!C79<>\"\",\"\",一覧!R79)","v":"みかさのやまにいでしつきかも　"},null,null,null,{"$f":"IF(一覧!C80<>\"\",\"\",一覧!R80)","v":"かひなくたたむなこそをしけれ　"}]
[null,{"$f":"BZ9+1","v":81},null,null,null,{"$f":"B11+1","v":82},null,null,null,{"$f":"F11+1","v":83},null,null,null,{"$f":"J11+1","v":84},null,null,null,{"$f":"N11+1","v":85},null,null,null,{"$f":"R11+1","v":86},null,null,null,{"$f":"V11+1","v":87},null,null,null,{"$f":"Z11+1","v":88},null,null,null,{"$f":"AD11+1","v":89},null,null,null,{"$f":"AH11+1","v":90},null,null,null,{"$f":"AL11+1","v":91},null,null,null,{"$f":"AP11+1","v":92},null,null,null,{"$f":"AT11+1","v":93},null,null,null,{"$f":"AX11+1","v":94},null,null,null,{"$f":"BB11+1","v":95},null,null,null,{"$f":"BF11+1","v":96},null,null,null,{"$f":"BJ11+1","v":97},null,null,null,{"$f":"BN11+1","v":98},null,null,null,{"$f":"BR11+1","v":99},null,null,null,{"$f":"BV11+1","v":100}]
[null,{"$f":"IF(一覧!C81<>\"\",\"\",一覧!R81)","v":"ひとこそみえねあきはきにけり　"},null,null,null,{"$f":"IF(一覧!C82<>\"\",\"\",一覧!R82)","v":"つらぬきとめぬたまぞちりける　"},null,null,null,{"$f":"IF(一覧!C83<>\"\",\"\",一覧!R83)","v":"ひとづてならでいふよしもがな　"},null,null,null,{"$f":"IF(一覧!C84<>\"\",\"\",一覧!R84)","v":"ひとしれずこそおもひそめしか　"},null,null,null,{"$f":"IF(一覧!C85<>\"\",\"\",一覧!R85)","v":"はなぞむかしのかににほひける　"},null,null,null,{"$f":"IF(一覧!C86<>\"\",\"\",一覧!R86)","v":"さしもしらじなもゆるおもひを　"},null,null,null,{"$f":"IF(一覧!C87<>\"\",\"\",一覧!R87)","v":"ありあけのつきをまちいでつるかな　"},null,null,null,{"$f":"IF(一覧!C88<>\"\",\"\",一覧!R88)","v":"やくやもしほのみもこがれつつ　"},null,null,null,{"$f":"IF(一覧!C89<>\"\",\"\",一覧!R89)","v":"まだふみもみずあまのはしだて　"},null,null,null,{"$f":"IF(一覧!C90<>\"\",\"\",一覧!R90)","v":"からくれなゐにみづくくるとは　"},null,null,null,{"$f":"IF(一覧!C91<>\"\",\"\",一覧!R91)","v":"まつとしきかばいまかへりこむ　"},null,null,null,{"$f":"IF(一覧!C92<>\"\",\"\",一覧!R92)","v":"しるもしらぬもあふさかのせき　"},null,null,null,{"$f":"IF(一覧!C93<>\"\",\"\",一覧!R93)","v":"かこちがほなるわがなみだかな　"},null,null,null,{"$f":"IF(一覧!C94<>\"\",\"\",一覧!R94)","v":"ひとのいのちのをしくもあるかな　"},null,null,null,{"$f":"IF(一覧!C95<>\"\",\"\",一覧!R95)","v":"もみぢのにしきかみのまにまに　"},null,null,null,{"$f":"IF(一覧!C96<>\"\",\"\",一覧!R96)","v":"みをつくしてもあはむとぞおもふ　"},null,null,null,{"$f":"IF(一覧!C97<>\"\",\"\",一覧!R97)","v":"わがみひとつのあきにはあらねど　"},null,null,null,{"$f":"IF(一覧!C98<>\"\",\"\",一覧!R98)","v":"わがたつそまにすみぞめのそで　"},null,null,null,{"$f":"IF(一覧!C99<>\"\",\"\",一覧!R99)","v":"しづこころなくはなのちるらむ　"},null,null,null,{"$f":"IF(一覧!C100<>\"\",\"\",一覧!R100)","v":"ただありあけのつきぞのこれる　"}]

{"sheet":"一覧","index":2,"n_rows":110,"n_cols":20,"rows_kept":110,"cut":false,"hidden":true,"merged":[]}
[null,null,null,1,89,"式子内親王","しきしないしんのう","玉の緒よ","絶えなば絶えね","ながらへば","忍ぶることの","弱りもぞする","たまのをよ","たえなばたえね","ながらへば","しのぶることの","よわりもぞする　",{"$f":"P1&Q1","v":"しのぶることのよわりもぞする　"},4,2]
[null,null,null,2,79,"左京大夫顯輔","さきょうのだいぶあきすけ","秋風に","たなびく雲の","絶え間より","もれ出づる月の","影のさやけさ","あきかぜに","たなびくくもの","たえまより","もれいづるつきの","かげのさやけさ　",{"$f":"P2&Q2","v":"もれいづるつきのかげのさやけさ　"},4,{"$f":"T1+4","v":6}]
[null,null,null,3,5,"猿丸大夫","さるまるだゆう","奥山に","紅葉踏み分け","鳴く鹿の","声聞くときぞ","秋は悲しき","おくやまに","もみぢふみわけ","なくしかの","こゑきくときぞ","あきはかなしき　",{"$f":"P3&Q3","v":"こゑきくときぞあきはかなしき　"},4,{"$f":"T2+4","v":10}]
[null,null,null,4,43,"權中納言敦忠","ごんちゅうなごんあつただ","逢ひ見ての","後の心に","くらぶれば","昔は物を","思はざりけり","あひみての","のちのこころに","くらぶれば","むかしはものを","おもはざりけり　",{"$f":"P4&Q4","v":"むかしはものをおもはざりけり　"},4,14]
[null,null,null,5,83,"皇太后宮大夫俊成","こうたいごうぐうのだいぶとしなり","世の中よ","道こそなけれ","思ひ入る","山の奥にも","鹿ぞ鳴くなる","よのなかよ","みちこそなけれ","おもひいる","やまのおくにも","しかぞなくなる　",{"$f":"P5&Q5","v":"やまのおくにもしかぞなくなる　"},4,18]
[null,null,null,6,72,"祐子内親王家紀伊","ゆうしないしんのうけのきい","音に聞く","高師の浜の","あだ波は","かけじや袖の","ぬれもこそすれ","おとにきく","たかしのはまの","あだなみは","かけじやそでの","ぬれもこそすれ　",{"$f":"P6&Q6","v":"かけじやそでのぬれもこそすれ　"},4,22]
[null,null,null,7,82,"道因法師","どういんほうし","思ひわび","さても命は","あるものを","憂きに堪へぬは","涙なりけり","おもひわび","さてもいのちは","あるものを","うきにたへぬは","なみだなりけり　",{"$f":"P7&Q7","v":"うきにたへぬはなみだなりけり　"},4,26]
[null,null,null,8,98,"従二位家隆","じゅうにいいえたか","風そよぐ","ならの小川の","夕暮は","みそぎぞ夏の","しるしなりける","かぜそよぐ","ならのをがはの","ゆふぐれは","みそぎぞなつの","しるしなりける　",{"$f":"P8&Q8","v":"みそぎぞなつのしるしなりける　"},4,30]
[null,null,null,9,78,"源兼昌","みなもとのかねまさ","淡路島","かよふ千鳥の","鳴く声に","幾夜寝覚めぬ","須磨の関守","あはぢしま","かよふちどりの","なくこゑに","いくよねざめぬ","すまのせきもり　",{"$f":"P9&Q9","v":"いくよねざめぬすまのせきもり　"},4,34]
[null,null,null,10,4,"山邊赤人","やまべのあかひと","田子の浦に","うち出でみれば","白妙の","富士のたかねに","雪は降りつつ","たごのうらに","うちいでてみれば","しろたへの","ふじのたかねに","ゆきはふりつつ　",{"$f":"P10&Q10","v":"ふじのたかねにゆきはふりつつ　"},4,38]
[null,null,null,11,91,"後京極攝政前太政大臣","ごきょうごくせっしょうのさきのだじょうだいじん","きりぎりす","鳴くや霜夜の","さむしろに","衣片敷き","ひとりかも寝む","きりぎりす","なくやしもよの","さむしろに","ころもかたしき","ひとりかもねむ　",{"$f":"P11&Q11","v":"ころもかたしきひとりかもねむ　"},4,42]
[null,null,null,12,27,"中納言兼輔","ちゅうなごんかねすけ","みかの原","わきて流るる","いづみ川","いつ見きとてか","恋しかるらむ","みかのはら","わきてながるる","いづみがは","いつみきとてか","こひしかるらむ　",{"$f":"P12&Q12","v":"いつみきとてかこひしかるらむ　"},4,46]
[null,null,null,13,93,"鎌倉右大臣","かまくらうだいじん","世の中は","常にもがもな","渚漕ぐ","あまの小舟の","綱手かなしも","よのなかは","つねにもがもな","なぎさこぐ","あまのをぶねの","つなでかなしも　",{"$f":"P13&Q13","v":"あまのをぶねのつなでかなしも　"},4,50]
[null,null,null,14,2,"持統天皇","じとうてんのう","春すぎて","夏来にけらし","白妙の","衣ほすてふ","天の香具山","はるすぎて","なつきにけら","しろたへの","ころもほすてふ","あまのかぐやま　",{"$f":"P14&Q14","v":"ころもほすてふあまのかぐやま　"},4,54]
[null,null,null,15,25,"三條右大臣","さんじょうのうだいじん","名にし負はば","逢坂山の","さねかづら","人に知られで","くるよしもがな","なにしおはば","あふさかやまの","さねかづら","ひとにしられで","くるよしもがな　",{"$f":"P15&Q15","v":"ひとにしられでくるよしもがな　"},4,58]
[null,null,null,16,34,"藤原興風","ふじわらのおきかぜ","誰をかも","知る人にせむ","高砂の","松も昔の","友ならなくに","たれをかも","しるひとにせむ","たかさごの","まつもむかしの","ともならなくに　",{"$f":"P16&Q16","v":"まつもむかしのともならなくに　"},4,62]
[null,null,null,17,36,"清原深養父","きよはらのふかやぶ","夏の夜は","まだ宵ながら","明けぬるを","雲のいづこに","月宿るらむ","なつのよは","まだよひながら","あけぬるを","くものいづこに","つきやどるらむ　",{"$f":"P17&Q17","v":"くものいづこにつきやどるらむ　"},4,66]
[null,null,null,18,94,"参議雅經","さんぎのまさつね","み吉野の","山の秋風","小夜ふけて","ふるさと寒く","衣うつなり","みよしのの","やまのあきかぜ","さよふけて","ふるさとさむく","ころもうつなり　",{"$f":"P18&Q18","v":"ふるさとさむくころもうつなり　"},4,70]
[null,null,null,19,54,"儀同三司母","ぎどうさんしのはは","忘れじの","行末までは","かたければ","今日を限りの","命ともがな","わすれじの","ゆくすゑまでは","かたければ","けふをかぎりの","いのちともがな　",{"$f":"P19&Q19","v":"けふをかぎりのいのちともがな　"},4,74]
[null,null,null,20,30,"壬生忠岑","みぶのただみね","有明の","つれなく見えし","別れより","暁ばかり","憂きものはなし","ありあけの","つれなくみえし","わかれより","あかつきばかり","うきものはなし　",{"$f":"P20&Q20","v":"あかつきばかりうきものはなし　"},4,78]
[null,null,null,21,14,"河原左大臣","かわらのさだいじん","陸奥の","しのぶもぢずり","誰ゆゑに","乱れそめにし","我ならなくに","みちのくの","しのぶもぢずり","たれゆゑに","みだれそめにし","われならなくに　",{"$f":"P21&Q21","v":"みだれそめにしわれならなくに　"},{"$f":"S1+2","v":6},2]
[null,null,null,22,88,"皇嘉門院別當","こうかもんいんのべっとう","難波江の","蘆のかりねの","ひとよゆゑ","みをつくしてや","恋ひわたるべき","なにはえの","あしのかりねの","ひとよゆゑ","みをつくしてや","こひわたるべき　",{"$f":"P22&Q22","v":"みをつくしてやこひわたるべき　"},6,{"$f":"T21+4","v":6}]
[null,null,null,23,31,"坂上是則","さかのうえのこれのり","朝ぼらけ","有明の月と","見るまでに","吉野の里に","降れる白雪","あさぼらけ","ありあけのつきと","みるまでに","よしののさとに","ふれるしらゆき　",{"$f":"P23&Q23","v":"よしののさとにふれるしらゆき　"},6,{"$f":"T22+4","v":10}]
[null,null,null,24,92,"二條院讃岐","にじょういんのさぬき","わが袖は","潮干に見えぬ","沖の石の","人こそ知らね","乾く間もな","わがそでは","しほひにみえぬ","おきのいしの","ひとこそしらね","かわくまもなし　",{"$f":"P24&Q24","v":"ひとこそしらねかわくまもなし　"},6,14]
[null,null,null,25,70,"良暹法師","りょうぜんほうし","さびしさに","宿を立ち出でて","ながむれば","いづくも同じ","秋の夕暮","さびしさに","やどをたちいでて","ながむれば","いづこもおなじ","あきのゆふぐれ　",{"$f":"P25&Q25","v":"いづこもおなじあきのゆふぐれ　"},6,18]
[null,null,null,26,71,"大納言經信","だいなごんつねのぶ","夕されば","門田の稲葉","おとづれて","蘆のまろやに","秋風ぞ吹く","ゆふされば","かどたのいなば","おとづれて","あしのまろやに","あきかぜぞふく　",{"$f":"P26&Q26","v":"あしのまろやにあきかぜぞふく　"},6,22]
[null,null,null,27,77,"崇徳院","すとくいん","瀬を早み","岩にせかるる","滝川の","われても末に","逢はむとぞ思ふ","せをはやみ","いはにせかるる","たきがはの","われてもすゑに","あはむとぞおもふ　",{"$f":"P27&Q27","v":"われてもすゑにあはむとぞおもふ　"},6,26]
[null,null,null,28,55,"大納言公任","だいなごんきんとう","滝の音は","絶えて久しく","なりぬれど","名こそ流れて","なほ聞えけれ","たきのおとは","たえてひさしく","なりぬれど","なこそながれて","なほきこえけれ",{"$f":"P28&Q28","v":"なこそながれてなほきこえけれ"},6,30]
[null,null,null,29,84,"藤原清輔朝臣","ふじわらのきよすけあそん","長らへば","またこのごろや","しのばれむ","憂しと見し世ぞ","今は恋しき","ながらへば","またこのごろや","しのばれむ","うしとみしよぞ","いまはこひしき　",{"$f":"P29&Q29","v":"うしとみしよぞいまはこひしき　"},6,34]
[null,null,null,30,48,"源重之","みなもとのしげゆき","風をいたみ","岩うつ波の","おのれのみ","くだけて物を","思ふころかな","かぜをいたみ","いはうつなみ","おのれのみ","くだけてものを","おもふころかな　",{"$f":"P30&Q30","v":"くだけてものをおもふころかな　"},6,38]
[null,null,null,31,15,"光孝天皇","こうこうてんのう","君がため","春の野にいでて","若菜摘む","わが衣手に","雪は降りつつ","きみがため","はるののにいでて","わかなつむ","わがころもでに","ゆきはふりつつ　",{"$f":"P31&Q31","v":"わがころもでにゆきはふりつつ　"},6,42]
[null,null,null,32,87,"寂蓮法師","じゃくれんほうし","村雨の","露もまだひぬ","槇の葉に","霧たちのぼる","秋の夕ぐれ","むらさめの","つゆもまだひぬ","まきのはに","きりたちのぼる","あきのゆふぐれ　",{"$f":"P32&Q32","v":"きりたちのぼるあきのゆふぐれ　"},6,46]
[null,null,null,33,50,"藤原義孝","ふじわらのよしたか","君がため","惜しからざりし","命さへ","長くもがなと","思ひけるかな","きみがため","をしからざりし","いのちさへ","ながくもがなと","おもひけるかな　",{"$f":"P33&Q33","v":"ながくもがなとおもひけるかな　"},6,50]
[null,null,null,34,49,"大中臣能宣朝臣","おおなかとみのよしのぶあそん","みかきもり","衛士のたく火の","夜はもえ","昼は消えつつ","物をこそ思へ","みかきもり","ゑじのたくひの","よるはもえ","ひるはきえつつ","ものをこそおもへ　",{"$f":"P34&Q34","v":"ひるはきえつつものをこそおもへ　"},6,54]
[null,null,null,35,61,"伊勢大輔","いせのだいすけ","いにしへの","奈良の都の","八重桜","けふ九重に","にほひぬるかな","いにしへの","ならのみやこの","やへざくら","けふここのへに","にほひぬるかな　",{"$f":"P35&Q35","v":"けふここのへににほひぬるかな　"},6,58]
[null,null,null,36,53,"右大將道綱母","うだいしょうみちつなのはは","嘆きつつ","ひとり寝る夜の","明くる間は","いかに久しき","ものとかは知る","なげきつつ","ひとりぬるよの","あくるまは","いかにひさしき","ものとかはしる　",{"$f":"P36&Q36","v":"いかにひさしきものとかはしる　"},6,62]
[null,null,null,37,46,"曾禰好忠","そねのよしただ","由良の門を","渡る舟人","かぢを絶え","ゆくへも知らぬ","恋の道かな","ゆらのとを","わたるふなびと","かぢをたえ","ゆくへもしらぬ","こひのみちかな　",{"$f":"P37&Q37","v":"ゆくへもしらぬこひのみちかな　"},6,66]
[null,null,null,38,8,"喜撰法師","きせんほうし","わが庵は","都のたつみ","しかぞすむ","世をうぢ山と","人はいふなり","わがいほは","みやこのたつみ","しかぞすむ","よをうぢやまと","ひとはいふなり　",{"$f":"P38&Q38","v":"よをうぢやまとひとはいふなり　"},6,70]
[null,null,null,39,59,"赤染衛門","あかぞめえもん","やすらはで","寝なましものを","小夜更けて","かたぶくまでの","月を見しかな","やすらはで","ねなましものを","さよふけて","かたぶくまでの","つきをみしかな　",{"$f":"P39&Q39","v":"かたぶくまでのつきをみしかな　"},6,74]
[null,null,null,40,64,"權中納言定頼","ごんちゅうなごんさだより","朝ぼらけ","宇治の川霧","たえだえに","あらはれわたる","瀬々の網代木","あさぼらけ","うぢのかはぎり","たえだえに","あらはれわたる","せぜのあじろぎ　",{"$f":"P40&Q40","v":"あらはれわたるせぜのあじろぎ　"},6,78]
[null,null,null,41,32,"春道列樹","はるみちのつらき","山川に","風のかけたる","しがらみは","流れもあへぬ","紅葉なりけり","やまがはに","かぜのかけたる","しがらみは","ながれもあへぬ","もみぢなりけり　",{"$f":"P41&Q41","v":"ながれもあへぬもみぢなりけり　"},8,2]
[null,null,null,42,13,"陽成院","ようせいいん","筑波嶺の","みねより落つる","みなの川","恋ぞつもりて","淵となりぬる","つくばねの","みねよりおつる","みなのがは","こひぞつもりて","ふちとなりぬる",{"$f":"P42&Q42","v":"こひぞつもりてふちとなりぬる"},8,{"$f":"T41+4","v":6}]
[null,null,null,43,12,"僧正遍昭","そうじょうへんじょう","天つ風","雲のかよひ路","吹きとぢよ","乙女の姿","しばしとどめむ","あまつかぜ","くものかよひじ","ふきとぢよ","をとめのすがた","しばしとどめむ",{"$f":"P43&Q43","v":"をとめのすがたしばしとどめむ"},8,{"$f":"T42+4","v":10}]
[null,null,null,44,42,"清原元輔","きよはらのもとすけ","契りきな","かたみに袖を","しぼりつつ","末の松山","波こさじとは","ちぎりきな","かたみにそでを","しぼりつつ","すゑのまつやま","なみこさじとは　",{"$f":"P44&Q44","v":"すゑのまつやまなみこさじとは　"},8,14]
[null,null,null,45,22,"文屋康秀","ふんやのやすひで","吹くからに","秋の草木の","しをるれば","むべ山風を","あらしといふらむ","ふくからに","あきのくさきの","しをるれば","むべやまかぜを","あらしといふらむ　",{"$f":"P45&Q45","v":"むべやまかぜをあらしといふらむ　"},8,18]
[null,null,null,46,40,"平兼盛","たひらのかねもり","忍ぶれど","色に出でにけり","わが恋は","物や思ふと","人の問ふまで","しのぶれど","いろにいでにけり","わがこひは","ものやおもふと","ひとのとふまで　",{"$f":"P46&Q46","v":"ものやおもふとひとのとふまで　"},8,22]
[null,null,null,47,62,"清少納言","せいしょうなごん","夜をこめて","鳥の空音は","はかるとも","よに逢坂の","関はゆるさじ","よをこめて","とりのそらねは","はかるとも","よにあふさかの","せきはゆるさじ　",{"$f":"P47&Q47","v":"よにあふさかのせきはゆるさじ　"},8,26]
[null,null,null,48,52,"藤原道信朝臣","ふじわらのみちのぶあそん","明けぬれば","暮るるものとは","知りながら","なほ恨めしき","朝ぼらけかな","あけぬれば","くるるものとは","しりながら","なほうらめしき","あさぼらけかな　",{"$f":"P48&Q48","v":"なほうらめしきあさぼらけかな　"},8,30]
[null,null,null,49,66,"前大僧正行尊","さきのだいそうじょうぎょうそん","もろともに","あはれと思へ","山桜","花よりほかに","知る人もなし","もろともに","あはれとおもへ","やまざくら","はなよりほかに","しるひともなし　",{"$f":"P49&Q49","v":"はなよりほかにしるひともなし　"},8,34]
[null,null,null,50,28,"源宗于朝臣","みなもとのむねゆきあそん","山里は","冬ぞさびしさ","まさりける","人目も草も","かれぬと思へば","やまざとは","ふゆぞさびし","まさりける","ひとめもくさも","かれぬとおもへば　",{"$f":"P50&Q50","v":"ひとめもくさもかれぬとおもへば　"},8,38]
[null,null,null,51,39,"参議等","さんぎひとし","浅茅生の","小野の篠原","しのぶれど","あまりてなどか","人の恋しき","あさぢふの","をののしのはら","しのぶれど","あまりてなどか","ひとのこひしき　",{"$f":"P51&Q51","v":"あまりてなどかひとのこひしき　"},8,42]
[null,null,null,52,76,"法性寺入道前關白太政大臣","ほっしょうじにゅうどうさきのかんぱくだじょうだいじん","わたの原","漕ぎ出でて見れば","ひさかたの","雲居にまがふ","沖つ白波","わたのはら","こぎいでてみれば","ひさかたの","くもゐにまがふ","おきつしらなみ　",{"$f":"P52&Q52","v":"くもゐにまがふおきつしらなみ　"},8,46]
[null,null,null,53,73,"前中納言匡房","さきのちゅうなごんまさふさ","高砂の","尾上の桜","咲きにけり","外山の霞","立たずもあらなむ","たかさごの","をのへのさくら","さきにけり","とやまのかすみ","たたずもあらなむ",{"$f":"P53&Q53","v":"とやまのかすみたたずもあらなむ"},{"$f":"S33+2","v":8},50]
[null,null,null,54,11,"参議篁","さんぎたかむら","わたの原","八十島かけて","漕き出でぬと","人には告げよ","あまのつりぶね","わたのはら","やそしまかけて","こぎいでぬと","ひとにはつげよ","あまのつりぶね　",{"$f":"P54&Q54","v":"ひとにはつげよあまのつりぶね　"},8,54]
[null,null,null,55,69,"能因法師","のういんほうし","嵐吹く","三室の山の","もみぢ葉は","竜田の川の","錦なりけり","あらしふく","みむろのやまの","もみぢばは","たつたのかはの","にしきなりけり　",{"$f":"P55&Q55","v":"たつたのかはのにしきなりけり　"},8,58]
[null,null,null,56,90,"殷富門院大輔","いんぶもんいんのだいふ","見せばやな","雄島のあまの","袖だにも","濡れにぞ濡れし","色はかはらず","みせばやな","をじまのあまの","そでだにも","ぬれにぞぬれし","いろはかはらず　",{"$f":"P56&Q56","v":"ぬれにぞぬれしいろはかはらず　"},8,62]
[null,null,null,57,1,"天智天皇","てんちてんのう","秋の田の","かりほの庵の","苫をあらみ","わが衣手は","露にぬれつつ","あきのたの","かりほのいほの","とまをあらみ","わがころもでは","つゆにぬれつつ　",{"$f":"P57&Q57","v":"わがころもではつゆにぬれつつ　"},8,66]
[null,null,null,58,29,"凡河内躬恒","おおしこうちのみつね","心あてに","折らばや折らむ","初霜の","置きまどはせる","白菊の花","こころあてに","をらばやをらむ","はつしもの","おきまどはせる","しらぎくのはな　",{"$f":"P58&Q58","v":"おきまどはせるしらぎくのはな　"},8,70]
[null,null,null,59,57,"紫式部","むらさきしきぶ","めぐり逢ひて","見しやそれとも","わかぬ間に","雲隠れにし","夜半の月かな","めぐりあひて","みしやそれとも","わかぬまに","くもがくれにし","よはのつきかな　",{"$f":"P59&Q59","v":"くもがくれにしよはのつきかな　"},8,74]
[null,null,null,60,65,"相模","さがみ","恨みわび","ほさぬ袖だに","あるものを","恋に朽ちなむ","名こそ惜しけれ","うらみわび","ほさぬそでだに","あるものを","こひにくちなむ","なこそをしけれ",{"$f":"P60&Q60","v":"こひにくちなむなこそをしけれ"},8,78]
[null,null,null,61,18,"藤原敏行朝臣","ふじわらのとしゆきあそん","住の江の","岸に寄る波","よるさへや","夢のかよひ路","人目よくらむ","すみのえの","きしによるなみ","よるさへや","ゆめのかよひぢ","ひとめよくらむ　",{"$f":"P61&Q61","v":"ゆめのかよひぢひとめよくらむ　"},10,2]
[null,null,null,62,80,"待賢門院堀河","たいけんもんいんのほりかは","長からむ","心も知らず","黒髪の","乱れて今朝は","物をこそ思へ","ながからむ","こころもしらず","くろかみの","みだれてけさは","ものをこそおもへ　",{"$f":"P62&Q62","v":"みだれてけさはものをこそおもへ　"},10,{"$f":"T61+4","v":6}]
[null,null,null,63,45,"謙徳公","けんとくこう","哀れとも","いふべき人は","思ほえで","身のいたづらに","なりぬべきかな","あはれとも","いふべきひとは","おもほえで","みのいたづらに","なりぬべきかな　",{"$f":"P63&Q63","v":"みのいたづらになりぬべきかな　"},10,{"$f":"T62+4","v":10}]
[null,null,null,64,19,"伊勢","いせ","難波潟","短かき蘆の","節の間も","逢はでこの世を","過ぐしてよとや","なにはがた","みじかきあしの","ふしのまも","あはでこのよを","すぐしてよとや　",{"$f":"P64&Q64","v":"あはでこのよをすぐしてよとや　"},10,14]
[null,null,null,65,75,"藤原基俊","ふじわらのもととし","契りおきし","させもが露を","命にて","あはれ今年の","秋もいぬめり","ちぎりおきし","させもがつゆを","いのちにて","あはれことしの","あきもいぬめり　",{"$f":"P65&Q65","v":"あはれことしのあきもいぬめり　"},10,18]
[null,null,null,66,99,"後鳥羽院","ごとばいん","人もをし","人もうらめし","あぢきなく","世を思ふゆゑに","物思ふ身は","ひともをし","ひともうらめし","あぢきなく","よをおもふゆゑに","ものおもふみは",{"$f":"P66&Q66","v":"よをおもふゆゑにものおもふみは"},10,22]
[null,null,null,67,85,"俊惠法師","しゅんえほうし","夜もすがら","物思ふころは","明けやらで","閨のひまさへ","つれなかりけり","よもすがら","ものおもふころは","あけやらで","ねやのひまさへ","つれなかりけり　",{"$f":"P67&Q67","v":"ねやのひまさへつれなかりけり　"},10,26]
[null,null,null,68,44,"中納言朝忠","ちゅうなごんあさただ","逢ふことの","絶えてしなくば","なかなかに","人をも身をも","恨みざらまし","あふことの","たえてしなくば","なかなかに","ひとをもみをも","うらみざらまし　",{"$f":"P68&Q68","v":"ひとをもみをもうらみざらまし　"},10,30]
[null,null,null,69,26,"貞信公","ていしんこう","小倉山","峰の紅葉ば","心あらば","今ひとたびの","みゆき待たなむ","をぐらやま","みねのもみぢば","こころあらば","いまひとたびの","みゆきまたなむ　",{"$f":"P69&Q69","v":"いまひとたびのみゆきまたなむ　"},10,34]
[null,null,null,70,6,"中納言家持","ちゅうなごんやかもち","鵲の","渡せる橋に","置く霜の","白きを見れば","夜ぞふけにける","かささぎの","わたせるはしに","おくしもの","しろきをみれば","よぞふけにける　",{"$f":"P70&Q70","v":"しろきをみればよぞふけにける　"},10,38]
[null,null,null,71,56,"和泉式部","いずみしきぶ","あらざらむ","この世のほかの","思ひ出に","いまひとたびの","逢ふこともがな","あらざらむ","このよのほかの","おもひでに","いまひとたびの","あふこともがな",{"$f":"P71&Q71","v":"いまひとたびのあふこともがな"},10,42]
[null,null,null,72,74,"源俊頼朝臣","みなもとのとしよりあそん","憂かりける","人を初瀬の","山おろしよ","はげしかれとは","祈らぬものを","うかりける","ひとをはつせの","やまおろしよ","はげしかれとは","いのらぬものを　",{"$f":"P72&Q72","v":"はげしかれとはいのらぬものを　"},10,46]
[null,null,null,73,9,"小野小町","おののこまち","花の色は","移りにけりな","いたづらに","我身世にふる","ながめせしまに","はなのいろは","うつりにけりな","いたづらに","わがみよにふる","ながめせしまに　",{"$f":"P73&Q73","v":"わがみよにふるながめせしまに　"},10,50]
[null,null,null,74,58,"大貳三位","たいにのさんみ","有馬山","猪名の笹原","風吹けば","いでそよ人を","忘れやはする","ありまやま","ゐなのささはら","かぜふけば","いでそよひとを","わすれやはする　",{"$f":"P74&Q74","v":"いでそよひとをわすれやはする　"},10,54]
[null,null,null,75,96,"入道前太政大臣","にゅうどうさきのだじょういん","花さそふ","嵐の庭の","雪ならで","ふりゆくものは","わが身なりけり","はなさそふ","あらしのにはの","ゆきならで","ふりゆくものは","わがみなりけり　",{"$f":"P75&Q75","v":"ふりゆくものはわがみなりけり　"},10,58]
[null,null,null,76,68,"三條院","さんじょういん","心にも","あらでうき世に","ながらへば","恋しかるべき","夜半の月かな","こころにも","あらでうきよに","ながらへば","こひしかるべき","よはのつきかな　",{"$f":"P76&Q76","v":"こひしかるべきよはのつきかな　"},10,62]
[null,null,null,77,3,"柿本人麻呂","かきのもとのひとまろ","あしびきの","山鳥の尾の","しだり尾の","ながながし夜を","ひとりかも寝む","あしびきの","やまどりのをの","しだりをの","ながながしよを","ひとりかもねむ　",{"$f":"P77&Q77","v":"ながながしよをひとりかもねむ　"},10,66]
[null,null,null,78,100,"順徳院","じゅんとくいん","ももしきや","古き軒端の","しのぶにも","なほあまりある","昔なりけり","ももしきや","ふるきのきばの","しのぶにも","なほあまりある","むかしなりけり　",{"$f":"P78&Q78","v":"なほあまりあるむかしなりけり　"},10,70]
[null,null,null,79,7,"阿倍仲麻呂","あべのなかまろ","天の原","ふりさけ見れば","春日なる","三笠の山に","出でし月かも","あまのはら","ふりさけみれば","かすがなる","みかさのやまに","いでしつきかも　",{"$f":"P79&Q79","v":"みかさのやまにいでしつきかも　"},10,74]
[null,null,null,80,67,"周防内侍","すほうのないし","春の夜の","夢ばかりなる","手枕に","かひなく立たむ","名こそをしけれ","はるのよの","ゆめばかりなる","たまくらに","かひなくたたむ","なこそをしけれ　",{"$f":"P80&Q80","v":"かひなくたたむなこそをしけれ　"},10,78]
[null,null,null,81,47,"惠慶法師","えぎょうほうし","八重むぐら","しげれる宿の","さびしきに","人こそ見えね","秋は来にけり","やへむぐら","しげれるやどの","さびしきに","ひとこそみえね","あきはきにけり　",{"$f":"P81&Q81","v":"ひとこそみえねあきはきにけり　"},12,2]
[null,null,null,82,37,"文屋朝康","ぶんやのあさやす","白露に","風の吹きしく","秋の野は","つらぬきとめぬ","玉ぞ散りける","しらつゆに","かぜのふきしく","あきののは","つらぬきとめぬ","たまぞちりける　",{"$f":"P82&Q82","v":"つらぬきとめぬたまぞちりける　"},12,{"$f":"T81+4","v":6}]
[null,null,null,83,63,"左京大夫道雅","さきょうのたいぶみちまさ","今はただ","思ひ絶えなむ","とばかりを","人づてならで","いふよしもがな","いまはただ","おもひたえなむ","とばかりを","ひとづてならで","いふよしもがな　",{"$f":"P83&Q83","v":"ひとづてならでいふよしもがな　"},12,{"$f":"T82+4","v":10}]
[null,null,null,84,41,"壬生忠見","みぶのただみ","恋すてふ","わが名はまだき","立ちにけり","人知れずこそ","思ひそめしか","こひすてふ","わがなはまだき","たちにけり","ひとしれずこそ","おもひそめしか　",{"$f":"P84&Q84","v":"ひとしれずこそおもひそめしか　"},12,14]
[null,null,null,85,35,"紀貫之","きのつらゆき","人はいさ","心も知らず","ふるさとは","花ぞ昔の","香ににほひける","ひとはいさ","こころもしらず","ふるさとは","はなぞむかしの","かににほひける　",{"$f":"P85&Q85","v":"はなぞむかしのかににほひける　"},{"$f":"S65+2","v":12},18]
[null,null,null,86,51,"藤原實方朝臣","ふじわらのさねかたあそん","かくとだに","えやはいぶきの","さしも草","さしもしらじな","燃ゆる思ひを","かくとだに","えやはいぶきの","さしもぐさ","さしもしらじな","もゆるおもひを　",{"$f":"P86&Q86","v":"さしもしらじなもゆるおもひを　"},12,22]
[null,null,null,87,21,"素性法師","そせいほうし","今来むと","いひしばかりに","長月の","有明の月を","待ち出でつるかな","いまこむと","いひしばかりに","ながつきの","ありあけのつきを","まちいでつるかな　",{"$f":"P87&Q87","v":"ありあけのつきをまちいでつるかな　"},12,26]
[null,null,null,88,97,"權中納言定家","ごんちゅうなごんさだいえ","来ぬ人を","まつほの浦の","夕なぎに","焼くや藻塩の","身もこがれつつ","こぬひとを","まつほのうらの","ゆふなぎに","やくやもしほの","みもこがれつつ　",{"$f":"P88&Q88","v":"やくやもしほのみもこがれつつ　"},12,30]
[null,null,null,89,60,"小式部内侍","こしきぶのないし","大江山","いく野の道の","遠ければ","まだふみも見ず","天の橋立","おほえやま","いくののみちの","とほければ","まだふみもみず","あまのはしだて　",{"$f":"P89&Q89","v":"まだふみもみずあまのはしだて　"},12,34]
[null,null,null,90,17,"在原業平朝臣","ありわらのなりひらあそん","ちはやぶる","神代もきかず","竜田川","からくれなゐに","水くくるとは","ちはやぶる","かみよもきかず","たつたがは","からくれなゐに","みづくくるとは　",{"$f":"P90&Q90","v":"からくれなゐにみづくくるとは　"},12,38]
[null,null,null,91,16,"中納言行平","ちゅうなごんゆきひら","立ち別れ","いなばの山の","峰に生ふる","まつとし聞かば","今帰り来む","たちわかれ","いなぱのやまの","みねにおふる","まつとしきかば","いまかへりこむ　",{"$f":"P91&Q91","v":"まつとしきかばいまかへりこむ　"},12,42]
[null,null,null,92,10,"蝉丸","せみまる","これやこの","行くも帰るも","別れては","知るも知らぬも","あふ坂の関","これやこの","ゆくもかへるも","わかれては","しるもしらぬも","あふさかのせき　",{"$f":"P92&Q92","v":"しるもしらぬもあふさかのせき　"},12,46]
[null,null,null,93,86,"西行法師","さいぎょうほうし","嘆けとて","月やは物を","思はする","かこち顔なる","わが涙かな","なげけとて","つきやはものを","おもはする","かこちがほなる","わがなみだかな　",{"$f":"P93&Q93","v":"かこちがほなるわがなみだかな　"},12,50]
[null,null,null,94,38,"右近","うこん","忘らるる","身をば思はず","誓ひてし","人の命の","惜しくもあるかな","わすらるる","みをばおもはず","ちかひてし","ひとのいのちの","をしくもあるかな　",{"$f":"P94&Q94","v":"ひとのいのちのをしくもあるかな　"},12,54]
[null,null,null,95,24,"菅家","かんけ","このたびは","ぬさもとりあへず","手向山","紅葉のにしき","神のまにまに","このたびは","ぬさもとりあへず","たむけやま","もみぢのにしき","かみのまにまに　",{"$f":"P95&Q95","v":"もみぢのにしきかみのまにまに　"},12,58]
[null,null,null,96,20,"元良親王","もとよししんのう","わびぬれば","今はた同じ","難波なる","身をつくしても","逢はむとぞ思ふ","わびぬれば","いまはたおなじ","なにはなる","みをつくしても","あはむとぞおもふ　",{"$f":"P96&Q96","v":"みをつくしてもあはむとぞおもふ　"},12,62]
[null,null,null,97,23,"大江千里","おおえのちさと","月見れば","ちぢに物こそ","悲しけれ","わが身ひとつの","秋にはあらねど","つきみれば","ちぢにものこそ","かなしけれ","わがみひとつの","あきにはあらねど　",{"$f":"P97&Q97","v":"わがみひとつのあきにはあらねど　"},12,66]
[null,null,null,98,95,"前大僧正慈圓","まえのだいそうじょうじえん","おほけなく","うき世の民に","おほふかな","わがたつ杣に","墨染の袖","おほけなく","うきよのたみに","おほふかな","わがたつそまに","すみぞめのそで　",{"$f":"P98&Q98","v":"わがたつそまにすみぞめのそで　"},12,70]
[null,null,null,99,33,"紀友則","きのとものり","久方の","光のどけき","春の日に","しづ心なく","花の散るらむ","ひさかたの","ひかりのどけき","はるのひに","しづこころなく","はなのちるらむ　",{"$f":"P99&Q99","v":"しづこころなくはなのちるらむ　"},12,74]
[null,null,null,100,81,"後徳大寺左大臣","ごとくだいじのさだいじん","ほととぎす","鳴きつる方を","ながむれば","ただ有明の","月ぞ残れ","ほととぎす","なきつるかたを","ながむれば","ただありあけの","つきぞのこれる　",{"$f":"P100&Q100","v":"ただありあけのつきぞのこれる　"},12,78]
[]
[]
[]
[]
[]
[]
[]
[]
[{"$f":"COUNTA(A1:A100)","v":0},{"$f":"COUNTA(B1:B100)","v":0},{"$f":"COUNTA(C1:C100)","v":0}]
["〇",null,null,74,34,"藤原興風","ふじわらのおきかぜ","誰をかも","知る人にせむ","高砂の","松も昔の","友ならなくに","たれをかも","しるひとにせむ","たかさごの","まつもむかしの","ともならなくに　","まつもむかしのともならなくに　",10,54]