{"text_format":"1","workbook":"xlsx","n_sheets":4,"sheets":["疑似モールス信号","欧文","和文","打電時間設定"],"not_rendered":{"charts":0,"images":2,"macros":1,"external_links":0,"defined_names":0,"comments":0,"pivot_tables":0},"unopened":[],"bounds":{"document_bytes":16777216,"sheet_cells":100000,"rows_first":2000,"rows_last":500,"rows_between":2000,"halvings":0,"cell_chars":16384,"cell_head_chars":4096},"cells_cut":0,"cells_raw":0,"read":"whole","date_system":"1900"}

{"sheet":"疑似モールス信号","index":0,"n_rows":68,"n_cols":142,"rows_kept":68,"cut":false,"hidden":false,"merged":[[0,123,0,141],[1,2,1,20],[1,22,1,41],[2,93,2,110],[2,1,2,68],[2,72,2,89],[1,43,1,62],[0,45,0,86],[31,1,35,1],[45,1,49,1],[5,2,5,16],[5,18,5,32],[5,34,5,48],[5,50,5,64],[3,1,3,68],[4,1,4,68],[67,121,67,132],[65,133,65,144],[3,142,3,144],[17,1,21,1],[8,65,8,68],[59,1,63,1],[65,121,65,126],[65,115,65,120],[65,127,65,132],[66,115,66,120],[66,121,66,126],[66,127,66,132],[67,87,69,114]]}
[null,null,null,null,null,null,null,null,null,null,null,null,null,null,null,null,null,null,null,null,null,null,null,null,null,null,null,null,null,null,null,null,null,null,null,null,null,null,null,null,null,null,null,null,null,"《疑似モールス信号体験》",null,null,null,null,null,null,null,null,null,null,null,null,null,null,null,null,null,null,null,null,null,null,null,null,null,null,null,null,null,null,null,null,null,null,null,null,null,null,null,null,null,null,null,null,null,null,null,null,null,null,null,null,null,null,null,null,null,null,null,null,null,null,null,null,null,null,null,null,null,null,null,null,null,null,null,null,null,{"$f":"TODAY()","v":"2021-02-25"}]
[null,null,{"$f":"IF(LEN(B4)-LEN(SUBSTITUTE(B4,\" \",\"\"))>3,\"文節は４個までです。\",\"\")","v":""},null,null,null,null,null,null,null,null,null,null,null,null,null,null,null,null,null,null,null,{"$f":"IF(B3=\"\",\"\",IF(OR(B9>140,R9>140,AH9>140,AX9>140),\"文節内文字数オーバーあり\",\"\"))","v":""},null,null,null,null,null,null,null,null,null,null,null,null,null,null,null,null,null,null,null,null,{"$f":"IF(BN9<>0,\"変換不可文字あり！\",\"\")","v":""}]
[null,"",null,null,null,null,null,null,null,null,null,null,null,null,null,null,null,null,null,null,null,null,null,null,null,null,null,null,null,null,null,null,null,null,null,null,null,null,null,null,null,null,null,null,null,null,null,null,null,null,null,null,null,null,null,null,null,null,null,null,null,null,null,null,null,null,null,null,null,null,null,null,"符号選択",null,null,null,null,null,null,null,null,null,null,null,null,null,null,null,null,null,null,null,null,"参考打電表示"]
[]
[null,{"$f":"ASC(UPPER(PHONETIC(B3)))","v":""}]
[null,1,{"$f":"MID(B4,B6,B7)","v":""},null,null,null,null,null,null,null,null,null,null,null,null,null,null,{"$f":"IF(B6=\"\",\"\",IF(B6+B7>LEN($B$4),\"\",B6+B7+1))","v":""},{"$f":"IF(R7=\"\",\"\",MID($B$4,R6,R7))","v":""},null,null,null,null,null,null,null,null,null,null,null,null,null,null,{"$f":"IF(R6=\"\",\"\",IF(R6+R7>LEN($B$4),\"\",R6+R7+1))","v":""},{"$f":"IF(AH7=\"\",\"\",MID($B$4,AH6,AH7))","v":""},null,null,null,null,null,null,null,null,null,null,null,null,null,null,{"$f":"IF(AH6=\"\",\"\",IF(AH6+AH7>LEN($B$4),\"\",AH6+AH7+1))","v":""},{"$f":"IF(AX7=\"\",\"\",MID($B$4,AX6,AX7))","v":""}]
[null,{"$f":"IFERROR(FIND(\" \",$B$4)-1,LEN(B4))","v":0},{"$f":"DBCS(MID(C6,1,1))","v":""},{"$f":"DBCS(MID(C6,2,1))","v":""},{"$f":"DBCS(MID(C6,3,1))","v":""},{"$f":"DBCS(MID(C6,4,1))","v":""},{"$f":"DBCS(MID(C6,5,1))","v":""},{"$f":"DBCS(MID(C6,6,1))","v":""},{"$f":"DBCS(MID(C6,7,1))","v":""},{"$f":"DBCS(MID(C6,8,1))","v":""},{"$f":"DBCS(MID(C6,9,1))","v":""},{"$f":"DBCS(MID(C6,10,1))","v":""},{"$f":"DBCS(MID(C6,11,1))","v":""},{"$f":"DBCS(MID(C6,12,1))","v":""},{"$f":"DBCS(MID(C6,13,1))","v":""},{"$f":"DBCS(MID(C6,14,1))","v":""},{"$f":"DBCS(MID(C6,15,1))","v":""},{"$f":"IF(R6=\"\",\"\",IFERROR(FIND(\" \",$B$4,R6)-R6,LEN($B$4)-R6+1))","v":""},{"$f":"DBCS(MID(S6,1,1))","v":""},{"$f":"DBCS(MID(S6,2,1))","v":""},{"$f":"DBCS(MID(S6,3,1))","v":""},{"$f":"DBCS(MID(S6,4,1))","v":""},{"$f":"DBCS(MID(S6,5,1))","v":""},{"$f":"DBCS(MID(S6,6,1))","v":""},{"$f":"DBCS(MID(S6,7,1))","v":""},{"$f":"DBCS(MID(S6,8,1))","v":""},{"$f":"DBCS(MID(S6,9,1))","v":""},{"$f":"DBCS(MID(S6,10,1))","v":""},{"$f":"DBCS(MID(S6,11,1))","v":""},{"$f":"DBCS(MID(S6,12,1))","v":""},{"$f":"DBCS(MID(S6,13,1))","v":""},{"$f":"DBCS(MID(S6,14,1))","v":""},{"$f":"DBCS(MID(S6,15,1))","v":""},{"$f":"IF(AH6=\"\",\"\",IFERROR(FIND(\" \",$B$4,AH6)-AH6,LEN($B$4)-AH6+1))","v":""},{"$f":"DBCS(MID(AI6,1,1))","v":""},{"$f":"DBCS(MID(AI6,2,1))","v":""},{"$f":"DBCS(MID(AI6,3,1))","v":""},{"$f":"DBCS(MID(AI6,4,1))","v":""},{"$f":"DBCS(MID(AI6,5,1))","v":""},{"$f":"DBCS(MID(AI6,6,1))","v":""},{"$f":"DBCS(MID(AI6,7,1))","v":""},{"$f":"DBCS(MID(AI6,8,1))","v":""},{"$f":"DBCS(MID(AI6,9,1))","v":""},{"$f":"DBCS(MID(AI6,10,1))","v":""},{"$f":"DBCS(MID(AI6,11,1))","v":""},{"$f":"DBCS(MID(AI6,12,1))","v":""},{"$f":"DBCS(MID(AI6,13,1))","v":""},{"$f":"DBCS(MID(AI6,14,1))","v":""},{"$f":"DBCS(MID(AI6,15,1))","v":""},{"$f":"IF(AX6=\"\",\"\",IFERROR(FIND(\" \",$B$4,AX6)-AX6,LEN($B$4)-AX6+1))","v":""},{"$f":"DBCS(MID(AY6,1,1))","v":""},{"$f":"DBCS(MID(AY6,2,1))","v":""},{"$f":"DBCS(MID(AY6,3,1))","v":""},{"$f":"DBCS(MID(AY6,4,1))","v":""},{"$f":"DBCS(MID(AY6,5,1))","v":""},{"$f":"DBCS(MID(AY6,6,1))","v":""},{"$f":"DBCS(MID(AY6,7,1))","v":""},{"$f":"DBCS(MID(AY6,8,1))","v":""},{"$f":"DBCS(MID(AY6,9,1))","v":""},{"$f":"DBCS(MID(AY6,10,1))","v":""},{"$f":"DBCS(MID(AY6,11,1))","v":""},{"$f":"DBCS(MID(AY6,12,1))","v":""},{"$f":"DBCS(MID(AY6,13,1))","v":""},{"$f":"DBCS(MID(AY6,14,1))","v":""},{"$f":"DBCS(MID(AY6,15,1))","v":""}]
[null,null,{"$f":"IF(打電時間設定!$E$2=TRUE,IFERROR(VLOOKUP(C7,和文!$E:$F,2,FALSE),IFERROR(VLOOKUP(C7,欧文!$E:$F,2,FALSE),\"\")),IFERROR(VLOOKUP(C7,欧文!$E:$F,2,FALSE),\"\"))","v":""},{"$f":"IF(打電時間設定!$E$2=TRUE,IFERROR(VLOOKUP(D7,和文!$E:$F,2,FALSE),IFERROR(VLOOKUP(D7,欧文!$E:$F,2,FALSE),\"\")),IFERROR(VLOOKUP(D7,欧文!$E:$F,2,FALSE),\"\"))","v":""},{"$f":"IF(打電時間設定!$E$2=TRUE,IFERROR(VLOOKUP(E7,和文!$E:$F,2,FALSE),IFERROR(VLOOKUP(E7,欧文!$E:$F,2,FALSE),\"\")),IFERROR(VLOOKUP(E7,欧文!$E:$F,2,FALSE),\"\"))","v":""},{"$f":"IF(打電時間設定!$E$2=TRUE,IFERROR(VLOOKUP(F7,和文!$E:$F,2,FALSE),IFERROR(VLOOKUP(F7,欧文!$E:$F,2,FALSE),\"\")),IFERROR(VLOOKUP(F7,欧文!$E:$F,2,FALSE),\"\"))","v":""},{"$f":"IF(打電時間設定!$E$2=TRUE,IFERROR(VLOOKUP(G7,和文!$E:$F,2,FALSE),IFERROR(VLOOKUP(G7,欧文!$E:$F,2,FALSE),\"\")),IFERROR(VLOOKUP(G7,欧文!$E:$F,2,FALSE),\"\"))","v":""},{"$f":"IF(打電時間設定!$E$2=TRUE,IFERROR(VLOOKUP(H7,和文!$E:$F,2,FALSE),IFERROR(VLOOKUP(H7,欧文!$E:$F,2,FALSE),\"\")),IFERROR(VLOOKUP(H7,欧文!$E:$F,2,FALSE),\"\"))","v":""},{"$f":"IF(打電時間設定!$E$2=TRUE,IFERROR(VLOOKUP(I7,和文!$E:$F,2,FALSE),IFERROR(VLOOKUP(I7,欧文!$E:$F,2,FALSE),\"\")),IFERROR(VLOOKUP(I7,欧文!$E:$F,2,FALSE),\"\"))","v":""},{"$f":"IF(打電時間設定!$E$2=TRUE,IFERROR(VLOOKUP(J7,和文!$E:$F,2,FALSE),IFERROR(VLOOKUP(J7,欧文!$E:$F,2,FALSE),\"\")),IFERROR(VLOOKUP(J7,欧文!$E:$F,2,FALSE),\"\"))","v":""},{"$f":"IF(打電時間設定!$E$2=TRUE,IFERROR(VLOOKUP(K7,和文!$E:$F,2,FALSE),IFERROR(VLOOKUP(K7,欧文!$E:$F,2,FALSE),\"\")),IFERROR(VLOOKUP(K7,欧文!$E:$F,2,FALSE),\"\"))","v":""},{"$f":"IF(打電時間設定!$E$2=TRUE,IFERROR(VLOOKUP(L7,和文!$E:$F,2,FALSE),IFERROR(VLOOKUP(L7,欧文!$E:$F,2,FALSE),\"\")),IFERROR(VLOOKUP(L7,欧文!$E:$F,2,FALSE),\"\"))","v":""},{"$f":"IF(打電時間設定!$E$2=TRUE,IFERROR(VLOOKUP(M7,和文!$E:$F,2,FALSE),IFERROR(VLOOKUP(M7,欧文!$E:$F,2,FALSE),\"\")),IFERROR(VLOOKUP(M7,欧文!$E:$F,2,FALSE),\"\"))","v":""},{"$f":"IF(打電時間設定!$E$2=TRUE,IFERROR(VLOOKUP(N7,和文!$E:$F,2,FALSE),IFERROR(VLOOKUP(N7,欧文!$E:$F,2,FALSE),\"\")),IFERROR(VLOOKUP(N7,欧文!$E:$F,2,FALSE),\"\"))","v":""},{"$f":"IF(打電時間設定!$E$2=TRUE,IFERROR(VLOOKUP(O7,和文!$E:$F,2,FALSE),IFERROR(VLOOKUP(O7,欧文!$E:$F,2,FALSE),\"\")),IFERROR(VLOOKUP(O7,欧文!$E:$F,2,FALSE),\"\"))","v":""},{"$f":"IF(打電時間設定!$E$2=TRUE,IFERROR(VLOOKUP(P7,和文!$E:$F,2,FALSE),IFERROR(VLOOKUP(P7,欧文!$E:$F,2,FALSE),\"\")),IFERROR(VLOOKUP(P7,欧文!$E:$F,2,FALSE),\"\"))","v":""},{"$f":"IF(打電時間設定!$E$2=TRUE,IFERROR(VLOOKUP(Q7,和文!$E:$F,2,FALSE),IFERROR(VLOOKUP(Q7,欧文!$E:$F,2,FALSE),\"\")),IFERROR(VLOOKUP(Q7,欧文!$E:$F,2,FALSE),\"\"))","v":""},null,{"$f":"IF(打電時間設定!$E$2=TRUE,IFERROR(VLOOKUP(S7,和文!$E:$F,2,FALSE),IFERROR(VLOOKUP(S7,欧文!$E:$F,2,FALSE),\"\")),IFERROR(VLOOKUP(S7,欧文!$E:$F,2,FALSE),\"\"))","v":""},{"$f":"IF(打電時間設定!$E$2=TRUE,IFERROR(VLOOKUP(T7,和文!$E:$F,2,FALSE),IFERROR(VLOOKUP(T7,欧文!$E:$F,2,FALSE),\"\")),IFERROR(VLOOKUP(T7,欧文!$E:$F,2,FALSE),\"\"))","v":""},{"$f":"IF(打電時間設定!$E$2=TRUE,IFERROR(VLOOKUP(U7,和文!$E:$F,2,FALSE),IFERROR(VLOOKUP(U7,欧文!$E:$F,2,FALSE),\"\")),IFERROR(VLOOKUP(U7,欧文!$E:$F,2,FALSE),\"\"))","v":""},{"$f":"IF(打電時間設定!$E$2=TRUE,IFERROR(VLOOKUP(V7,和文!$E:$F,2,FALSE),IFERROR(VLOOKUP(V7,欧文!$E:$F,2,FALSE),\"\")),IFERROR(VLOOKUP(V7,欧文!$E:$F,2,FALSE),\"\"))","v":""},{"$f":"IF(打電時間設定!$E$2=TRUE,IFERROR(VLOOKUP(W7,和文!$E:$F,2,FALSE),IFERROR(VLOOKUP(W7,欧文!$E:$F,2,FALSE),\"\")),IFERROR(VLOOKUP(W7,欧文!$E:$F,2,FALSE),\"\"))","v":""},{"$f":"IF(打電時間設定!$E$2=TRUE,IFERROR(VLOOKUP(X7,和文!$E:$F,2,FALSE),IFERROR(VLOOKUP(X7,欧文!$E:$F,2,FALSE),\"\")),IFERROR(VLOOKUP(X7,欧文!$E:$F,2,FALSE),\"\"))","v":""},{"$f":"IF(打電時間設定!$E$2=TRUE,IFERROR(VLOOKUP(Y7,和文!$E:$F,2,FALSE),IFERROR(VLOOKUP(Y7,欧文!$E:$F,2,FALSE),\"\")),IFERROR(VLOOKUP(Y7,欧文!$E:$F,2,FALSE),\"\"))","v":""},{"$f":"IF(打電時間設定!$E$2=TRUE,IFERROR(VLOOKUP(Z7,和文!$E:$F,2,FALSE),IFERROR(VLOOKUP(Z7,欧文!$E:$F,2,FALSE),\"\")),IFERROR(VLOOKUP(Z7,欧文!$E:$F,2,FALSE),\"\"))","v":""},{"$f":"IF(打電時間設定!$E$2=TRUE,IFERROR(VLOOKUP(AA7,和文!$E:$F,2,FALSE),IFERROR(VLOOKUP(AA7,欧文!$E:$F,2,FALSE),\"\")),IFERROR(VLOOKUP(AA7,欧文!$E:$F,2,FALSE),\"\"))","v":""},{"$f":"IF(打電時間設定!$E$2=TRUE,IFERROR(VLOOKUP(AB7,和文!$E:$F,2,FALSE),IFERROR(VLOOKUP(AB7,欧文!$E:$F,2,FALSE),\"\")),IFERROR(VLOOKUP(AB7,欧文!$E:$F,2,FALSE),\"\"))","v":""},{"$f":"IF(打電時間設定!$E$2=TRUE,IFERROR(VLOOKUP(AC7,和文!$E:$F,2,FALSE),IFERROR(VLOOKUP(AC7,欧文!$E:$F,2,FALSE),\"\")),IFERROR(VLOOKUP(AC7,欧文!$E:$F,2,FALSE),\"\"))","v":""},{"$f":"IF(打電時間設定!$E$2=TRUE,IFERROR(VLOOKUP(AD7,和文!$E:$F,2,FALSE),IFERROR(VLOOKUP(AD7,欧文!$E:$F,2,FALSE),\"\")),IFERROR(VLOOKUP(AD7,欧文!$E:$F,2,FALSE),\"\"))","v":""},{"$f":"IF(打電時間設定!$E$2=TRUE,IFERROR(VLOOKUP(AE7,和文!$E:$F,2,FALSE),IFERROR(VLOOKUP(AE7,欧文!$E:$F,2,FALSE),\"\")),IFERROR(VLOOKUP(AE7,欧文!$E:$F,2,FALSE),\"\"))","v":""},{"$f":"IF(打電時間設定!$E$2=TRUE,IFERROR(VLOOKUP(AF7,和文!$E:$F,2,FALSE),IFERROR(VLOOKUP(AF7,欧文!$E:$F,2,FALSE),\"\")),IFERROR(VLOOKUP(AF7,欧文!$E:$F,2,FALSE),\"\"))","v":""},{"$f":"IF(打電時間設定!$E$2=TRUE,IFERROR(VLOOKUP(AG7,和文!$E:$F,2,FALSE),IFERROR(VLOOKUP(AG7,欧文!$E:$F,2,FALSE),\"\")),IFERROR(VLOOKUP(AG7,欧文!$E:$F,2,FALSE),\"\"))","v":""},null,{"$f":"IF(打電時間設定!$E$2=TRUE,IFERROR(VLOOKUP(AI7,和文!$E:$F,2,FALSE),IFERROR(VLOOKUP(AI7,欧文!$E:$F,2,FALSE),\"\")),IFERROR(VLOOKUP(AI7,欧文!$E:$F,2,FALSE),\"\"))","v":""},{"$f":"IF(打電時間設定!$E$2=TRUE,IFERROR(VLOOKUP(AJ7,和文!$E:$F,2,FALSE),IFERROR(VLOOKUP(AJ7,欧文!$E:$F,2,FALSE),\"\")),IFERROR(VLOOKUP(AJ7,欧文!$E:$F,2,FALSE),\"\"))","v":""},{"$f":"IF(打電時間設定!$E$2=TRUE,IFERROR(VLOOKUP(AK7,和文!$E:$F,2,FALSE),IFERROR(VLOOKUP(AK7,欧文!$E:$F,2,FALSE),\"\")),IFERROR(VLOOKUP(AK7,欧文!$E:$F,2,FALSE),\"\"))","v":""},{"$f":"IF(打電時間設定!$E$2=TRUE,IFERROR(VLOOKUP(AL7,和文!$E:$F,2,FALSE),IFERROR(VLOOKUP(AL7,欧文!$E:$F,2,FALSE),\"\")),IFERROR(VLOOKUP(AL7,欧文!$E:$F,2,FALSE),\"\"))","v":""},{"$f":"IF(打電時間設定!$E$2=TRUE,IFERROR(VLOOKUP(AM7,和文!$E:$F,2,FALSE),IFERROR(VLOOKUP(AM7,欧文!$E:$F,2,FALSE),\"\")),IFERROR(VLOOKUP(AM7,欧文!$E:$F,2,FALSE),\"\"))","v":""},{"$f":"IF(打電時間設定!$E$2=TRUE,IFERROR(VLOOKUP(AN7,和文!$E:$F,2,FALSE),IFERROR(VLOOKUP(AN7,欧文!$E:$F,2,FALSE),\"\")),IFERROR(VLOOKUP(AN7,欧文!$E:$F,2,FALSE),\"\"))","v":""},{"$f":"IF(打電時間設定!$E$2=TRUE,IFERROR(VLOOKUP(AO7,和文!$E:$F,2,FALSE),IFERROR(VLOOKUP(AO7,欧文!$E:$F,2,FALSE),\"\")),IFERROR(VLOOKUP(AO7,欧文!$E:$F,2,FALSE),\"\"))","v":""},{"$f":"IF(打電時間設定!$E$2=TRUE,IFERROR(VLOOKUP(AP7,和文!$E:$F,2,FALSE),IFERROR(VLOOKUP(AP7,欧文!$E:$F,2,FALSE),\"\")),IFERROR(VLOOKUP(AP7,欧文!$E:$F,2,FALSE),\"\"))","v":""},{"$f":"IF(打電時間設定!$E$2=TRUE,IFERROR(VLOOKUP(AQ7,和文!$E:$F,2,FALSE),IFERROR(VLOOKUP(AQ7,欧文!$E:$F,2,FALSE),\"\")),IFERROR(VLOOKUP(AQ7,欧文!$E:$F,2,FALSE),\"\"))","v":""},{"$f":"IF(打電時間設定!$E$2=TRUE,IFERROR(VLOOKUP(AR7,和文!$E:$F,2,FALSE),IFERROR(VLOOKUP(AR7,欧文!$E:$F,2,FALSE),\"\")),IFERROR(VLOOKUP(AR7,欧文!$E:$F,2,FALSE),\"\"))","v":""},{"$f":"IF(打電時間設定!$E$2=TRUE,IFERROR(VLOOKUP(AS7,和文!$E:$F,2,FALSE),IFERROR(VLOOKUP(AS7,欧文!$E:$F,2,FALSE),\"\")),IFERROR(VLOOKUP(AS7,欧文!$E:$F,2,FALSE),\"\"))","v":""},{"$f":"IF(打電時間設定!$E$2=TRUE,IFERROR(VLOOKUP(AT7,和文!$E:$F,2,FALSE),IFERROR(VLOOKUP(AT7,欧文!$E:$F,2,FALSE),\"\")),IFERROR(VLOOKUP(AT7,欧文!$E:$F,2,FALSE),\"\"))","v":""},{"$f":"IF(打電時間設定!$E$2=TRUE,IFERROR(VLOOKUP(AU7,和文!$E:$F,2,FALSE),IFERROR(VLOOKUP(AU7,欧文!$E:$F,2,FALSE),\"\")),IFERROR(VLOOKUP(AU7,欧文!$E:$F,2,FALSE),\"\"))","v":""},{"$f":"IF(打電時間設定!$E$2=TRUE,IFERROR(VLOOKUP(AV7,和文!$E:$F,2,FALSE),IFERROR(VLOOKUP(AV7,欧文!$E:$F,2,FALSE),\"\")),IFERROR(VLOOKUP(AV7,欧文!$E:$F,2,FALSE),\"\"))","v":""},{"$f":"IF(打電時間設定!$E$2=TRUE,IFERROR(VLOOKUP(AW7,和文!$E:$F,2,FALSE),IFERROR(VLOOKUP(AW7,欧文!$E:$F,2,FALSE),\"\")),IFERROR(VLOOKUP(AW7,欧文!$E:$F,2,FALSE),\"\"))","v":""},null,{"$f":"IF(打電時間設定!$E$2=TRUE,IFERROR(VLOOKUP(AY7,和文!$E:$F,2,FALSE),IFERROR(VLOOKUP(AY7,欧文!$E:$F,2,FALSE),\"\")),IFERROR(VLOOKUP(AY7,欧文!$E:$F,2,FALSE),\"\"))","v":""},{"$f":"IF(打電時間設定!$E$2=TRUE,IFERROR(VLOOKUP(AZ7,和文!$E:$F,2,FALSE),IFERROR(VLOOKUP(AZ7,欧文!$E:$F,2,FALSE),\"\")),IFERROR(VLOOKUP(AZ7,欧文!$E:$F,2,FALSE),\"\"))","v":""},{"$f":"IF(打電時間設定!$E$2=TRUE,IFERROR(VLOOKUP(BA7,和文!$E:$F,2,FALSE),IFERROR(VLOOKUP(BA7,欧文!$E:$F,2,FALSE),\"\")),IFERROR(VLOOKUP(BA7,欧文!$E:$F,2,FALSE),\"\"))","v":""},{"$f":"IF(打電時間設定!$E$2=TRUE,IFERROR(VLOOKUP(BB7,和文!$E:$F,2,FALSE),IFERROR(VLOOKUP(BB7,欧文!$E:$F,2,FALSE),\"\")),IFERROR(VLOOKUP(BB7,欧文!$E:$F,2,FALSE),\"\"))","v":""},{"$f":"IF(打電時間設定!$E$2=TRUE,IFERROR(VLOOKUP(BC7,和文!$E:$F,2,FALSE),IFERROR(VLOOKUP(BC7,欧文!$E:$F,2,FALSE),\"\")),IFERROR(VLOOKUP(BC7,欧文!$E:$F,2,FALSE),\"\"))","v":""},{"$f":"IF(打電時間設定!$E$2=TRUE,IFERROR(VLOOKUP(BD7,和文!$E:$F,2,FALSE),IFERROR(VLOOKUP(BD7,欧文!$E:$F,2,FALSE),\"\")),IFERROR(VLOOKUP(BD7,欧文!$E:$F,2,FALSE),\"\"))","v":""},{"$f":"IF(打電時間設定!$E$2=TRUE,IFERROR(VLOOKUP(BE7,和文!$E:$F,2,FALSE),IFERROR(VLOOKUP(BE7,欧文!$E:$F,2,FALSE),\"\")),IFERROR(VLOOKUP(BE7,欧文!$E:$F,2,FALSE),\"\"))","v":""},{"$f":"IF(打電時間設定!$E$2=TRUE,IFERROR(VLOOKUP(BF7,和文!$E:$F,2,FALSE),IFERROR(VLOOKUP(BF7,欧文!$E:$F,2,FALSE),\"\")),IFERROR(VLOOKUP(BF7,欧文!$E:$F,2,FALSE),\"\"))","v":""},{"$f":"IF(打電時間設定!$E$2=TRUE,IFERROR(VLOOKUP(BG7,和文!$E:$F,2,FALSE),IFERROR(VLOOKUP(BG7,欧文!$E:$F,2,FALSE),\"\")),IFERROR(VLOOKUP(BG7,欧文!$E:$F,2,FALSE),\"\"))","v":""},{"$f":"IF(打電時間設定!$E$2=TRUE,IFERROR(VLOOKUP(BH7,和文!$E:$F,2,FALSE),IFERROR(VLOOKUP(BH7,欧文!$E:$F,2,FALSE),\"\")),IFERROR(VLOOKUP(BH7,欧文!$E:$F,2,FALSE),\"\"))","v":""},{"$f":"IF(打電時間設定!$E$2=TRUE,IFERROR(VLOOKUP(BI7,和文!$E:$F,2,FALSE),IFERROR(VLOOKUP(BI7,欧文!$E:$F,2,FALSE),\"\")),IFERROR(VLOOKUP(BI7,欧文!$E:$F,2,FALSE),\"\"))","v":""},{"$f":"IF(打電時間設定!$E$2=TRUE,IFERROR(VLOOKUP(BJ7,和文!$E:$F,2,FALSE),IFERROR(VLOOKUP(BJ7,欧文!$E:$F,2,FALSE),\"\")),IFERROR(VLOOKUP(BJ7,欧文!$E:$F,2,FALSE),\"\"))","v":""},{"$f":"IF(打電時間設定!$E$2=TRUE,IFERROR(VLOOKUP(BK7,和文!$E:$F,2,FALSE),IFERROR(VLOOKUP(BK7,欧文!$E:$F,2,FALSE),\"\")),IFERROR(VLOOKUP(BK7,欧文!$E:$F,2,FALSE),\"\"))","v":""},{"$f":"IF(打電時間設定!$E$2=TRUE,IFERROR(VLOOKUP(BL7,和文!$E:$F,2,FALSE),IFERROR(VLOOKUP(BL7,欧文!$E:$F,2,FALSE),\"\")),IFERROR(VLOOKUP(BL7,欧文!$E:$F,2,FALSE),\"\"))","v":""},{"$f":"IF(打電時間設定!$E$2=TRUE,IFERROR(VLOOKUP(BM7,和文!$E:$F,2,FALSE),IFERROR(VLOOKUP(BM7,欧文!$E:$F,2,FALSE),\"\")),IFERROR(VLOOKUP(BM7,欧文!$E:$F,2,FALSE),\"\"))","v":""}]
[null,{"$f":"SUM(C9:Q9)","v":0},{"$f":"IF(C7=\"\",\"\",IF(打電時間設定!$E$2=TRUE,IFERROR(VLOOKUP(C7,和文!$E:$AC,25,FALSE)+3,IFERROR(VLOOKUP(C7,欧文!$E:$AC,25,FALSE)+3,\"×\")),IFERROR(VLOOKUP(C7,欧文!$E:$AC,25,FALSE)+3,\"×\")))","v":""},{"$f":"IF(D7=\"\",\"\",IF(打電時間設定!$E$2=TRUE,IFERROR(VLOOKUP(D7,和文!$E:$AC,25,FALSE)+3,IFERROR(VLOOKUP(D7,欧文!$E:$AC,25,FALSE)+3,\"×\")),IFERROR(VLOOKUP(D7,欧文!$E:$AC,25,FALSE)+3,\"×\")))","v":""},{"$f":"IF(E7=\"\",\"\",IF(打電時間設定!$E$2=TRUE,IFERROR(VLOOKUP(E7,和文!$E:$AC,25,FALSE)+3,IFERROR(VLOOKUP(E7,欧文!$E:$AC,25,FALSE)+3,\"×\")),IFERROR(VLOOKUP(E7,欧文!$E:$AC,25,FALSE)+3,\"×\")))","v":""},{"$f":"IF(F7=\"\",\"\",IF(打電時間設定!$E$2=TRUE,IFERROR(VLOOKUP(F7,和文!$E:$AC,25,FALSE)+3,IFERROR(VLOOKUP(F7,欧文!$E:$AC,25,FALSE)+3,\"×\")),IFERROR(VLOOKUP(F7,欧文!$E:$AC,25,FALSE)+3,\"×\")))","v":""},{"$f":"IF(G7=\"\",\"\",IF(打電時間設定!$E$2=TRUE,IFERROR(VLOOKUP(G7,和文!$E:$AC,25,FALSE)+3,IFERROR(VLOOKUP(G7,欧文!$E:$AC,25,FALSE)+3,\"×\")),IFERROR(VLOOKUP(G7,欧文!$E:$AC,25,FALSE)+3,\"×\")))","v":""},{"$f":"IF(H7=\"\",\"\",IF(打電時間設定!$E$2=TRUE,IFERROR(VLOOKUP(H7,和文!$E:$AC,25,FALSE)+3,IFERROR(VLOOKUP(H7,欧文!$E:$AC,25,FALSE)+3,\"×\")),IFERROR(VLOOKUP(H7,欧文!$E:$AC,25,FALSE)+3,\"×\")))","v":""},{"$f":"IF(I7=\"\",\"\",IF(打電時間設定!$E$2=TRUE,IFERROR(VLOOKUP(I7,和文!$E:$AC,25,FALSE)+3,IFERROR(VLOOKUP(I7,欧文!$E:$AC,25,FALSE)+3,\"×\")),IFERROR(VLOOKUP(I7,欧文!$E:$AC,25,FALSE)+3,\"×\")))","v":""},{"$f":"IF(J7=\"\",\"\",IF(打電時間設定!$E$2=TRUE,IFERROR(VLOOKUP(J7,和文!$E:$AC,25,FALSE)+3,IFERROR(VLOOKUP(J7,欧文!$E:$AC,25,FALSE)+3,\"×\")),IFERROR(VLOOKUP(J7,欧文!$E:$AC,25,FALSE)+3,\"×\")))","v":""},{"$f":"IF(K7=\"\",\"\",IF(打電時間設定!$E$2=TRUE,IFERROR(VLOOKUP(K7,和文!$E:$AC,25,FALSE)+3,IFERROR(VLOOKUP(K7,欧文!$E:$AC,25,FALSE)+3,\"×\")),IFERROR(VLOOKUP(K7,欧文!$E:$AC,25,FALSE)+3,\"×\")))","v":""},{"$f":"IF(L7=\"\",\"\",IF(打電時間設定!$E$2=TRUE,IFERROR(VLOOKUP(L7,和文!$E:$AC,25,FALSE)+3,IFERROR(VLOOKUP(L7,欧文!$E:$AC,25,FALSE)+3,\"×\")),IFERROR(VLOOKUP(L7,欧文!$E:$AC,25,FALSE)+3,\"×\")))","v":""},{"$f":"IF(M7=\"\",\"\",IF(打電時間設定!$E$2=TRUE,IFERROR(VLOOKUP(M7,和文!$E:$AC,25,FALSE)+3,IFERROR(VLOOKUP(M7,欧文!$E:$AC,25,FALSE)+3,\"×\")),IFERROR(VLOOKUP(M7,欧文!$E:$AC,25,FALSE)+3,\"×\")))","v":""},{"$f":"IF(N7=\"\",\"\",IF(打電時間設定!$E$2=TRUE,IFERROR(VLOOKUP(N7,和文!$E:$AC,25,FALSE)+3,IFERROR(VLOOKUP(N7,欧文!$E:$AC,25,FALSE)+3,\"×\")),IFERROR(VLOOKUP(N7,欧文!$E:$AC,25,FALSE)+3,\"×\")))","v":""},{"$f":"IF(O7=\"\",\"\",IF(打電時間設定!$E$2=TRUE,IFERROR(VLOOKUP(O7,和文!$E:$AC,25,FALSE)+3,IFERROR(VLOOKUP(O7,欧文!$E:$AC,25,FALSE)+3,\"×\")),IFERROR(VLOOKUP(O7,欧文!$E:$AC,25,FALSE)+3,\"×\")))","v":""},{"$f":"IF(P7=\"\",\"\",IF(打電時間設定!$E$2=TRUE,IFERROR(VLOOKUP(P7,和文!$E:$AC,25,FALSE)+3,IFERROR(VLOOKUP(P7,欧文!$E:$AC,25,FALSE)+3,\"×\")),IFERROR(VLOOKUP(P7,欧文!$E:$AC,25,FALSE)+3,\"×\")))","v":""},{"$f":"IF(Q7=\"\",\"\",IF(打電時間設定!$E$2=TRUE,IFERROR(VLOOKUP(Q7,和文!$E:$AC,25,FALSE)+3,IFERROR(VLOOKUP(Q7,欧文!$E:$AC,25,FALSE)+3,\"×\")),IFERROR(VLOOKUP(Q7,欧文!$E:$AC,25,FALSE)+3,\"×\")))","v":""},{"$f":"SUM(S9:AG9)","v":0},{"$f":"IF(S7=\"\",\"\",IF(打電時間設定!$E$2=TRUE,IFERROR(VLOOKUP(S7,和文!$E:$AC,25,FALSE)+3,IFERROR(VLOOKUP(S7,欧文!$E:$AC,25,FALSE)+3,\"×\")),IFERROR(VLOOKUP(S7,欧文!$E:$AC,25,FALSE)+3,\"×\")))","v":""},{"$f":"IF(T7=\"\",\"\",IF(打電時間設定!$E$2=TRUE,IFERROR(VLOOKUP(T7,和文!$E:$AC,25,FALSE)+3,IFERROR(VLOOKUP(T7,欧文!$E:$AC,25,FALSE)+3,\"×\")),IFERROR(VLOOKUP(T7,欧文!$E:$AC,25,FALSE)+3,\"×\")))","v":""},{"$f":"IF(U7=\"\",\"\",IF(打電時間設定!$E$2=TRUE,IFERROR(VLOOKUP(U7,和文!$E:$AC,25,FALSE)+3,IFERROR(VLOOKUP(U7,欧文!$E:$AC,25,FALSE)+3,\"×\")),IFERROR(VLOOKUP(U7,欧文!$E:$AC,25,FALSE)+3,\"×\")))","v":""},{"$f":"IF(V7=\"\",\"\",IF(打電時間設定!$E$2=TRUE,IFERROR(VLOOKUP(V7,和文!$E:$AC,25,FALSE)+3,IFERROR(VLOOKUP(V7,欧文!$E:$AC,25,FALSE)+3,\"×\")),IFERROR(VLOOKUP(V7,欧文!$E:$AC,25,FALSE)+3,\"×\")))","v":""},{"$f":"IF(W7=\"\",\"\",IF(打電時間設定!$E$2=TRUE,IFERROR(VLOOKUP(W7,和文!$E:$AC,25,FALSE)+3,IFERROR(VLOOKUP(W7,欧文!$E:$AC,25,FALSE)+3,\"×\")),IFERROR(VLOOKUP(W7,欧文!$E:$AC,25,FALSE)+3,\"×\")))","v":""},{"$f":"IF(X7=\"\",\"\",IF(打電時間設定!$E$2=TRUE,IFERROR(VLOOKUP(X7,和文!$E:$AC,25,FALSE)+3,IFERROR(VLOOKUP(X7,欧文!$E:$AC,25,FALSE)+3,\"×\")),IFERROR(VLOOKUP(X7,欧文!$E:$AC,25,FALSE)+3,\"×\")))","v":""},{"$f":"IF(Y7=\"\",\"\",IF(打電時間設定!$E$2=TRUE,IFERROR(VLOOKUP(Y7,和文!$E:$AC,25,FALSE)+3,IFERROR(VLOOKUP(Y7,欧文!$E:$AC,25,FALSE)+3,\"×\")),IFERROR(VLOOKUP(Y7,欧文!$E:$AC,25,FALSE)+3,\"×\")))","v":""},{"$f":"IF(Z7=\"\",\"\",IF(打電時間設定!$E$2=TRUE,IFERROR(VLOOKUP(Z7,和文!$E:$AC,25,FALSE)+3,IFERROR(VLOOKUP(Z7,欧文!$E:$AC,25,FALSE)+3,\"×\")),IFERROR(VLOOKUP(Z7,欧文!$E:$AC,25,FALSE)+3,\"×\")))","v":""},{"$f":"IF(AA7=\"\",\"\",IF(打電時間設定!$E$2=TRUE,IFERROR(VLOOKUP(AA7,和文!$E:$AC,25,FALSE)+3,IFERROR(VLOOKUP(AA7,欧文!$E:$AC,25,FALSE)+3,\"×\")),IFERROR(VLOOKUP(AA7,欧文!$E:$AC,25,FALSE)+3,\"×\")))","v":""},{"$f":"IF(AB7=\"\",\"\",IF(打電時間設定!$E$2=TRUE,IFERROR(VLOOKUP(AB7,和文!$E:$AC,25,FALSE)+3,IFERROR(VLOOKUP(AB7,欧文!$E:$AC,25,FALSE)+3,\"×\")),IFERROR(VLOOKUP(AB7,欧文!$E:$AC,25,FALSE)+3,\"×\")))","v":""},{"$f":"IF(AC7=\"\",\"\",IF(打電時間設定!$E$2=TRUE,IFERROR(VLOOKUP(AC7,和文!$E:$AC,25,FALSE)+3,IFERROR(VLOOKUP(AC7,欧文!$E:$AC,25,FALSE)+3,\"×\")),IFERROR(VLOOKUP(AC7,欧文!$E:$AC,25,FALSE)+3,\"×\")))","v":""},{"$f":"IF(AD7=\"\",\"\",IF(打電時間設定!$E$2=TRUE,IFERROR(VLOOKUP(AD7,和文!$E:$AC,25,FALSE)+3,IFERROR(VLOOKUP(AD7,欧文!$E:$AC,25,FALSE)+3,\"×\")),IFERROR(VLOOKUP(AD7,欧文!$E:$AC,25,FALSE)+3,\"×\")))","v":""},{"$f":"IF(AE7=\"\",\"\",IF(打電時間設定!$E$2=TRUE,IFERROR(VLOOKUP(AE7,和文!$E:$AC,25,FALSE)+3,IFERROR(VLOOKUP(AE7,欧文!$E:$AC,25,FALSE)+3,\"×\")),IFERROR(VLOOKUP(AE7,欧文!$E:$AC,25,FALSE)+3,\"×\")))","v":""},{"$f":"IF(AF7=\"\",\"\",IF(打電時間設定!$E$2=TRUE,IFERROR(VLOOKUP(AF7,和文!$E:$AC,25,FALSE)+3,IFERROR(VLOOKUP(AF7,欧文!$E:$AC,25,FALSE)+3,\"×\")),IFERROR(VLOOKUP(AF7,欧文!$E:$AC,25,FALSE)+3,\"×\")))","v":""},{"$f":"IF(AG7=\"\",\"\",IF(打電時間設定!$E$2=TRUE,IFERROR(VLOOKUP(AG7,和文!$E:$AC,25,FALSE)+3,IFERROR(VLOOKUP(AG7,欧文!$E:$AC,25,FALSE)+3,\"×\")),IFERROR(VLOOKUP(AG7,欧文!$E:$AC,25,FALSE)+3,\"×\")))","v":""},{"$f":"SUM(AI9:AW9)","v":0},{"$f":"IF(AI7=\"\",\"\",IF(打電時間設定!$E$2=TRUE,IFERROR(VLOOKUP(AI7,和文!$E:$AC,25,FALSE)+3,IFERROR(VLOOKUP(AI7,欧文!$E:$AC,25,FALSE)+3,\"×\")),IFERROR(VLOOKUP(AI7,欧文!$E:$AC,25,FALSE)+3,\"×\")))","v":""},{"$f":"IF(AJ7=\"\",\"\",IF(打電時間設定!$E$2=TRUE,IFERROR(VLOOKUP(AJ7,和文!$E:$AC,25,FALSE)+3,IFERROR(VLOOKUP(AJ7,欧文!$E:$AC,25,FALSE)+3,\"×\")),IFERROR(VLOOKUP(AJ7,欧文!$E:$AC,25,FALSE)+3,\"×\")))","v":""},{"$f":"IF(AK7=\"\",\"\",IF(打電時間設定!$E$2=TRUE,IFERROR(VLOOKUP(AK7,和文!$E:$AC,25,FALSE)+3,IFERROR(VLOOKUP(AK7,欧文!$E:$AC,25,FALSE)+3,\"×\")),IFERROR(VLOOKUP(AK7,欧文!$E:$AC,25,FALSE)+3,\"×\")))","v":""},{"$f":"IF(AL7=\"\",\"\",IF(打電時間設定!$E$2=TRUE,IFERROR(VLOOKUP(AL7,和文!$E:$AC,25,FALSE)+3,IFERROR(VLOOKUP(AL7,欧文!$E:$AC,25,FALSE)+3,\"×\")),IFERROR(VLOOKUP(AL7,欧文!$E:$AC,25,FALSE)+3,\"×\")))","v":""},{"$f":"IF(AM7=\"\",\"\",IF(打電時間設定!$E$2=TRUE,IFERROR(VLOOKUP(AM7,和文!$E:$AC,25,FALSE)+3,IFERROR(VLOOKUP(AM7,欧文!$E:$AC,25,FALSE)+3,\"×\")),IFERROR(VLOOKUP(AM7,欧文!$E:$AC,25,FALSE)+3,\"×\")))","v":""},{"$f":"IF(AN7=\"\",\"\",IF(打電時間設定!$E$2=TRUE,IFERROR(VLOOKUP(AN7,和文!$E:$AC,25,FALSE)+3,IFERROR(VLOOKUP(AN7,欧文!$E:$AC,25,FALSE)+3,\"×\")),IFERROR(VLOOKUP(AN7,欧文!$E:$AC,25,FALSE)+3,\"×\")))","v":""},{"$f":"IF(AO7=\"\",\"\",IF(打電時間設定!$E$2=TRUE,IFERROR(VLOOKUP(AO7,和文!$E:$AC,25,FALSE)+3,IFERROR(VLOOKUP(AO7,欧文!$E:$AC,25,FALSE)+3,\"×\")),IFERROR(VLOOKUP(AO7,欧文!$E:$AC,25,FALSE)+3,\"×\")))","v":""},{"$f":"IF(AP7=\"\",\"\",IF(打電時間設定!$E$2=TRUE,IFERROR(VLOOKUP(AP7,和文!$E:$AC,25,FALSE)+3,IFERROR(VLOOKUP(AP7,欧文!$E:$AC,25,FALSE)+3,\"×\")),IFERROR(VLOOKUP(AP7,欧文!$E:$AC,25,FALSE)+3,\"×\")))","v":""},{"$f":"IF(AQ7=\"\",\"\",IF(打電時間設定!$E$2=TRUE,IFERROR(VLOOKUP(AQ7,和文!$E:$AC,25,FALSE)+3,IFERROR(VLOOKUP(AQ7,欧文!$E:$AC,25,FALSE)+3,\"×\")),IFERROR(VLOOKUP(AQ7,欧文!$E:$AC,25,FALSE)+3,\"×\")))","v":""},{"$f":"IF(AR7=\"\",\"\",IF(打電時間設定!$E$2=TRUE,IFERROR(VLOOKUP(AR7,和文!$E:$AC,25,FALSE)+3,IFERROR(VLOOKUP(AR7,欧文!$E:$AC,25,FALSE)+3,\"×\")),IFERROR(VLOOKUP(AR7,欧文!$E:$AC,25,FALSE)+3,\"×\")))","v":""},{"$f":"IF(AS7=\"\",\"\",IF(打電時間設定!$E$2=TRUE,IFERROR(VLOOKUP(AS7,和文!$E:$AC,25,FALSE)+3,IFERROR(VLOOKUP(AS7,欧文!$E:$AC,25,FALSE)+3,\"×\")),IFERROR(VLOOKUP(AS7,欧文!$E:$AC,25,FALSE)+3,\"×\")))","v":""},{"$f":"IF(AT7=\"\",\"\",IF(打電時間設定!$E$2=TRUE,IFERROR(VLOOKUP(AT7,和文!$E:$AC,25,FALSE)+3,IFERROR(VLOOKUP(AT7,欧文!$E:$AC,25,FALSE)+3,\"×\")),IFERROR(VLOOKUP(AT7,欧文!$E:$AC,25,FALSE)+3,\"×\")))","v":""},{"$f":"IF(AU7=\"\",\"\",IF(打電時間設定!$E$2=TRUE,IFERROR(VLOOKUP(AU7,和文!$E:$AC,25,FALSE)+3,IFERROR(VLOOKUP(AU7,欧文!$E:$AC,25,FALSE)+3,\"×\")),IFERROR(VLOOKUP(AU7,欧文!$E:$AC,25,FALSE)+3,\"×\")))","v":""},{"$f":"IF(AV7=\"\",\"\",IF(打電時間設定!$E$2=TRUE,IFERROR(VLOOKUP(AV7,和文!$E:$AC,25,FALSE)+3,IFERROR(VLOOKUP(AV7,欧文!$E:$AC,25,FALSE)+3,\"×\")),IFERROR(VLOOKUP(AV7,欧文!$E:$AC,25,FALSE)+3,\"×\")))","v":""},{"$f":"IF(AW7=\"\",\"\",IF(打電時間設定!$E$2=TRUE,IFERROR(VLOOKUP(AW7,和文!$E:$AC,25,FALSE)+3,IFERROR(VLOOKUP(AW7,欧文!$E:$AC,25,FALSE)+3,\"×\")),IFERROR(VLOOKUP(AW7,欧文!$E:$AC,25,FALSE)+3,\"×\")))","v":""},{"$f":"SUM(AY9:BM9)","v":0},{"$f":"IF(AY7=\"\",\"\",IF(打電時間設定!$E$2=TRUE,IFERROR(VLOOKUP(AY7,和文!$E:$AC,25,FALSE)+3,IFERROR(VLOOKUP(AY7,欧文!$E:$AC,25,FALSE)+3,\"×\")),IFERROR(VLOOKUP(AY7,欧文!$E:$AC,25,FALSE)+3,\"×\")))","v":""},{"$f":"IF(AZ7=\"\",\"\",IF(打電時間設定!$E$2=TRUE,IFERROR(VLOOKUP(AZ7,和文!$E:$AC,25,FALSE)+3,IFERROR(VLOOKUP(AZ7,欧文!$E:$AC,25,FALSE)+3,\"×\")),IFERROR(VLOOKUP(AZ7,欧文!$E:$AC,25,FALSE)+3,\"×\")))","v":""},{"$f":"IF(BA7=\"\",\"\",IF(打電時間設定!$E$2=TRUE,IFERROR(VLOOKUP(BA7,和文!$E:$AC,25,FALSE)+3,IFERROR(VLOOKUP(BA7,欧文!$E:$AC,25,FALSE)+3,\"×\")),IFERROR(VLOOKUP(BA7,欧文!$E:$AC,25,FALSE)+3,\"×\")))","v":""},{"$f":"IF(BB7=\"\",\"\",IF(打電時間設定!$E$2=TRUE,IFERROR(VLOOKUP(BB7,和文!$E:$AC,25,FALSE)+3,IFERROR(VLOOKUP(BB7,欧文!$E:$AC,25,FALSE)+3,\"×\")),IFERROR(VLOOKUP(BB7,欧文!$E:$AC,25,FALSE)+3,\"×\")))","v":""},{"$f":"IF(BC7=\"\",\"\",IF(打電時間設定!$E$2=TRUE,IFERROR(VLOOKUP(BC7,和文!$E:$AC,25,FALSE)+3,IFERROR(VLOOKUP(BC7,欧文!$E:$AC,25,FALSE)+3,\"×\")),IFERROR(VLOOKUP(BC7,欧文!$E:$AC,25,FALSE)+3,\"×\")))","v":""},{"$f":"IF(BD7=\"\",\"\",IF(打電時間設定!$E$2=TRUE,IFERROR(VLOOKUP(BD7,和文!$E:$AC,25,FALSE)+3,IFERROR(VLOOKUP(BD7,欧文!$E:$AC,25,FALSE)+3,\"×\")),IFERROR(VLOOKUP(BD7,欧文!$E:$AC,25,FALSE)+3,\"×\")))","v":""},{"$f":"IF(BE7=\"\",\"\",IF(打電時間設定!$E$2=TRUE,IFERROR(VLOOKUP(BE7,和文!$E:$AC,25,FALSE)+3,IFERROR(VLOOKUP(BE7,欧文!$E:$AC,25,FALSE)+3,\"×\")),IFERROR(VLOOKUP(BE7,欧文!$E:$AC,25,FALSE)+3,\"×\")))","v":""},{"$f":"IF(BF7=\"\",\"\",IF(打電時間設定!$E$2=TRUE,IFERROR(VLOOKUP(BF7,和文!$E:$AC,25,FALSE)+3,IFERROR(VLOOKUP(BF7,欧文!$E:$AC,25,FALSE)+3,\"×\")),IFERROR(VLOOKUP(BF7,欧文!$E:$AC,25,FALSE)+3,\"×\")))","v":""},{"$f":"IF(BG7=\"\",\"\",IF(打電時間設定!$E$2=TRUE,IFERROR(VLOOKUP(BG7,和文!$E:$AC,25,FALSE)+3,IFERROR(VLOOKUP(BG7,欧文!$E:$AC,25,FALSE)+3,\"×\")),IFERROR(VLOOKUP(BG7,欧文!$E:$AC,25,FALSE)+3,\"×\")))","v":""},{"$f":"IF(BH7=\"\",\"\",IF(打電時間設定!$E$2=TRUE,IFERROR(VLOOKUP(BH7,和文!$E:$AC,25,FALSE)+3,IFERROR(VLOOKUP(BH7,欧文!$E:$AC,25,FALSE)+3,\"×\")),IFERROR(VLOOKUP(BH7,欧文!$E:$AC,25,FALSE)+3,\"×\")))","v":""},{"$f":"IF(BI7=\"\",\"\",IF(打電時間設定!$E$2=TRUE,IFERROR(VLOOKUP(BI7,和文!$E:$AC,25,FALSE)+3,IFERROR(VLOOKUP(BI7,欧文!$E:$AC,25,FALSE)+3,\"×\")),IFERROR(VLOOKUP(BI7,欧文!$E:$AC,25,FALSE)+3,\"×\")))","v":""},{"$f":"IF(BJ7=\"\",\"\",IF(打電時間設定!$E$2=TRUE,IFERROR(VLOOKUP(BJ7,和文!$E:$AC,25,FALSE)+3,IFERROR(VLOOKUP(BJ7,欧文!$E:$AC,25,FALSE)+3,\"×\")),IFERROR(VLOOKUP(BJ7,欧文!$E:$AC,25,FALSE)+3,\"×\")))","v":""},{"$f":"IF(BK7=\"\",\"\",IF(打電時間設定!$E$2=TRUE,IFERROR(VLOOKUP(BK7,和文!$E:$AC,25,FALSE)+3,IFERROR(VLOOKUP(BK7,欧文!$E:$AC,25,FALSE)+3,\"×\")),IFERROR(VLOOKUP(BK7,欧文!$E:$AC,25,FALSE)+3,\"×\")))","v":""},{"$f":"IF(BL7=\"\",\"\",IF(打電時間設定!$E$2=TRUE,IFERROR(VLOOKUP(BL7,和文!$E:$AC,25,FALSE)+3,IFERROR(VLOOKUP(BL7,欧文!$E:$AC,25,FALSE)+3,\"×\")),IFERROR(VLOOKUP(BL7,欧文!$E:$AC,25,FALSE)+3,\"×\")))","v":""},{"$f":"IF(BM7=\"\",\"\",IF(打電時間設定!$E$2=TRUE,IFERROR(VLOOKUP(BM7,和文!$E:$AC,25,FALSE)+3,IFERROR(VLOOKUP(BM7,欧文!$E:$AC,25,FALSE)+3,\"×\")),IFERROR(VLOOKUP(BM7,欧文!$E:$AC,25,FALSE)+3,\"×\")))","v":""},{"$f":"COUNTIF(C9:BM9,\"×\")","v":0}]
[]
[]
[{"$f":"COUNTA(11:11)","v":0}]
[]
[]
[]
[]
[]
[{"$f":"COUNTA(17:17)","v":0}]
[45]
[]
[]
[]
[{"$f":"COUNTIF(B23:EM23,\"●\")","v":0},null,{"$f":"IF(C17<>\"\",IF(C17=C11,\"●\",\"×\"),\"\")","v":""},{"$f":"IF(D17<>\"\",IF(D17=D11,\"●\",\"×\"),\"\")","v":""},"","","","","","","","","","","","","","","","","","","","","","","","","","","","","","","","","","","","","","","","","","","","","","","","","","","","","","","","","","","","","","","",{"$f":"IF(BP17<>\"\",IF(BP17=BP11,\"●\",\"×\"),\"\")","v":""},"","","","","","","","","","","","","","","","","","","","","","","","","","","","","","","","","","","","","","","","","","","","","","","","","","","","","","","","","","","","","","","",{"$f":"IF(EB17<>\"\",IF(EB17=EB11,\"●\",\"×\"),\"\")","v":""},"","","","","","","","","",""]
[]
[]
[{"$f":"COUNTA(25:25)","v":0}]
[]
[]
[]
[]
[]
[{"$f":"COUNTA(31:31)","v":0}]
[77]
[]
[]
[]
[{"$f":"COUNTIF(B37:EM37,\"●\")","v":0},null,{"$f":"IF(C31<>\"\",IF(C31=C25,\"●\",\"×\"),\"\")","v":""},{"$f":"IF(D31<>\"\",IF(D31=D25,\"●\",\"×\"),\"\")","v":""},"","","","","","","","","","","","","","","","","","","","","","","","","","","","","","","","","","","","","","","","","","","","","","","","","","","","","","","","","","","","","","","",{"$f":"IF(BP31<>\"\",IF(BP31=BP25,\"●\",\"×\"),\"\")","v":""},"","","","","","","","","","","","","","","","","","","","","","","","","","","","","","","","","","","","","","","","","","","","","","","","","","","","","","","","","","","","","","","",{"$f":"IF(EB31<>\"\",IF(EB31=EB25,\"●\",\"×\"),\"\")","v":""},"","","","","","","","","",""]
[]
[]
[{"$f":"COUNTA(39:39)","v":0}]
[]
[]
[]
[]
[]
[{"$f":"COUNTA(45:45)","v":0}]
[111]
[]
[]
[]
[{"$f":"COUNTIF(B51:EM51,\"●\")","v":0},null,{"$f":"IF(C45<>\"\",IF(C45=C39,\"●\",\"×\"),\"\")","v":""},{"$f":"IF(D45<>\"\",IF(D45=D39,\"●\",\"×\"),\"\")","v":""},"","","","","","","","","","","","","","","","","","","","","","","","","","","","","","","","","","","","","","","","","","","","","","","","","","","","","","","","","","","","","","","",{"$f":"IF(BP45<>\"\",IF(BP45=BP39,\"●\",\"×\"),\"\")","v":""},"","","","","","","","","","","","","","","","","","","","","","","","","","","","","","","","","","","","","","","","","","","","","","","","","","","","","","","","","","","","","","","",{"$f":"IF(EB45<>\"\",IF(EB45=EB39,\"●\",\"×\"),\"\")","v":""},"","","","","","","","","",""]
[]
[]
[{"$f":"COUNTA(53:53)","v":0}]
[]
[]
[]
[]
[]
[{"$f":"COUNTA(59:59)","v":0}]
[]
[]
[]
[]
[{"$f":"COUNTIF(B65:EM65,\"●\")","v":0},null,{"$f":"IF(C59<>\"\",IF(C59=C53,\"●\",\"×\"),\"\")","v":""},{"$f":"IF(D59<>\"\",IF(D59=D53,\"●\",\"×\"),\"\")","v":""},"","","","","","","","","","","","","","","","","","","","","","","","","","","","","","","","","","","","","","","","","","","","","","","","","","","","","","","","","","","","","","","",{"$f":"IF(BP59<>\"\",IF(BP59=BP53,\"●\",\"×\"),\"\")","v":""},"","","","","","","","","","","","","","","","","","","","","","","","","","","","","","","","","","","","","","","","","","","","","","","","","","","","","","","","","","","","","","","",{"$f":"IF(EB59<>\"\",IF(EB59=EB53,\"●\",\"×\"),\"\")","v":""},"","","","","","","","","",""]
[null,null,null,null,null,null,null,null,null,null,null,null,null,null,null,null,null,null,null,null,null,null,null,null,null,null,null,null,null,null,null,null,null,null,null,null,null,null,null,null,null,null,null,null,null,null,null,null,null,null,null,null,null,null,null,null,null,null,null,null,null,null,null,null,null,null,null,null,null,null,null,null,null,null,null,null,null,null,null,null,null,null,null,null,null,null,null,null,null,null,null,null,null,null,null,null,null,null,null,null,null,null,null,null,null,null,null,null,null,null,null,null,null,null,null,"打電",null,null,null,null,null,"訂正",null,null,null,null,null,"改行",null,null,null,null,null,"正常打電なら\n自動改行します。"]
[]
[null,null,null,null,null,null,null,null,null,null,null,null,null,null,null,null,null,null,null,null,null,null,null,null,null,null,null,null,null,null,null,null,null,null,null,null,null,null,null,null,null,null,null,null,null,null,null,null,null,null,null,null,null,null,null,null,null,null,null,null,null,null,null,null,null,null,null,null,null,null,null,null,null,null,null,null,null,null,null,null,null,null,null,null,null,null,null,"短点（トン）・・シングルクリック\n長点（ツー）・・・ダブルクリック\n※１秒以上の無打電で次文字扱いと\nします。",null,null,null,null,null,null,null,null,null,null,null,null,null,null,null,null,null,null,null,null,null,null,null,null,null,null,null,null,null,null,null,null,null,"１文字戻します"]

{"sheet":"欧文","index":1,"n_rows":154,"n_cols":67,"rows_kept":154,"cut":false,"hidden":false,"merged":[[2,38,2,58],[3,4,5,4],[3,5,5,5],[3,6,5,6],[3,7,5,7],[3,9,5,9],[3,10,5,10],[3,11,5,11],[3,12,5,12],[3,13,5,13],[3,26,5,26],[3,27,5,27],[3,39,5,39],[6,4,8,4],[6,5,8,5],[6,6,8,6],[6,7,8,7],[6,9,8,9],[6,10,8,10],[6,11,8,11],[3,20,5,20],[3,21,5,21],[3,22,5,22],[3,23,5,23],[3,24,5,24],[3,25,5,25],[3,14,5,14],[3,15,5,15],[3,16,5,16],[3,17,5,17],[3,18,5,18],[3,19,5,19],[6,47,8,47],[9,4,11,4],[9,5,11,5],[9,6,11,6],[9,7,11,7],[9,9,11,9],[9,10,11,10],[9,11,11,11],[9,12,11,12],[9,13,11,13],[6,24,8,24],[6,25,8,25],[6,26,8,26],[6,27,8,27],[6,43,8,43],[6,45,8,45],[6,18,8,18],[6,19,8,19],[6,20,8,20],[6,21,8,21],[6,22,8,22],[6,23,8,23],[6,12,8,12],[6,13,8,13],[6,14,8,14],[6,15,8,15],[6,16,8,16],[6,17,8,17],[9,26,11,26],[9,27,11,27],[9,43,11,43],[9,49,11,49],[12,4,14,4],[12,5,14,5],[12,6,14,6],[12,7,14,7],[12,9,14,9],[12,10,14,10],[9,20,11,20],[9,21,11,21],[9,22,11,22],[9,23,11,23],[9,24,11,24],[9,25,11,25],[9,14,11,14],[9,15,11,15],[9,16,11,16],[9,17,11,17],[9,18,11,18],[9,19,11,19],[12,45,14,45],[15,4,17,4],[15,5,17,5],[15,6,17,6],[15,7,17,7],[15,9,17,9],[15,10,17,10],[15,11,17,11],[15,12,17,12],[15,13,17,13],[12,23,14,23],[12,24,14,24],[12,25,14,25],[12,26,14,26],[12,27,14,27],[12,43,14,43],[12,17,14,17],[12,18,14,18],[12,19,14,19],[12,20,14,20],[12,21,14,21],[12,22,14,22],[12,11,14,11],[12,12,14,12],[12,13,14,13],[12,14,14,14],[12,15,14,15],[12,16,14,16],[15,26,17,26],[15,27,17,27],[15,39,17,39],[18,5,20,5],[18,6,20,6],[18,7,20,7],[18,9,20,9],[18,10,20,10],[18,11,20,11],[15,20,17,20],[15,21,17,21],[15,22,17,22],[15,23,17,23],[15,24,17,24],[15,25,17,25],[15,14,17,14],[15,15,17,15],[15,16,17,16],[15,17,17,17],[15,18,17,18],[15,19,17,19],[18,47,20,47],[21,4,23,4],[21,5,23,5],[21,6,23,6],[21,7,23,7],[21,9,23,9],[21,10,23,10],[21,11,23,11],[21,12,23,12],[21,13,23,13],[18,24,20,24],[18,25,20,25],[18,26,20,26],[18,27,20,27],[18,39,20,39],[18,41,20,41],[18,18,20,18],[18,19,20,19],[18,20,20,20],[18,21,20,21],[18,22,20,22],[18,23,20,23],[18,12,20,12],[18,13,20,13],[18,14,20,14],[18,15,20,15],[18,16,20,16],[18,17,20,17],[21,26,23,26],[21,27,23,27],[21,47,23,47],[18,4,20,4],[24,4,26,4],[24,5,26,5],[24,6,26,6],[24,7,26,7],[24,9,26,9],[24,10,26,10],[24,11,26,11],[21,20,23,20],[21,21,23,21],[21,22,23,22],[21,23,23,23],[21,24,23,24],[21,25,23,25],[21,14,23,14],[21,15,23,15],[21,16,23,16],[21,17,23,17],[21,18,23,18],[21,19,23,19],[24,43,26,43],[24,45,26,45],[27,4,29,4],[27,5,29,5],[27,6,29,6],[27,7,29,7],[27,9,29,9],[27,10,29,10],[27,11,29,11],[27,12,29,12],[24,24,26,24],[24,25,26,25],[24,26,26,26],[24,27,26,27],[24,39,26,39],[24,41,26,41],[24,18,26,18],[24,19,26,19],[24,20,26,20],[24,21,26,21],[24,22,26,22],[24,23,26,23],[24,12,26,12],[24,13,26,13],[24,14,26,14],[24,15,26,15],[24,16,26,16],[24,17,26,17],[27,25,29,25],[27,26,29,26],[27,27,29,27],[27,39,29,39],[27,41,29,41],[30,4,32,4],[30,5,32,5],[30,6,32,6],[30,7,32,7],[30,9,32,9],[27,19,29,19],[27,20,29,20],[27,21,29,21],[27,22,29,22],[27,23,29,23],[27,24,29,24],[27,13,29,13],[27,14,29,14],[27,15,29,15],[27,16,29,16],[27,17,29,17],[27,18,29,18],[30,39,32,39],[33,19,35,19],[33,4,35,4],[33,5,35,5],[33,6,35,6],[33,7,35,7],[33,9,35,9],[33,10,35,10],[33,11,35,11],[33,12,35,12],[33,13,35,13],[30,22,32,22],[30,23,32,23],[30,24,32,24],[30,25,32,25],[30,26,32,26],[30,27,32,27],[30,16,32,16],[30,17,32,17],[30,18,32,18],[30,19,32,19],[30,20,32,20],[30,21,32,21],[30,10,32,10],[30,11,32,11],[30,12,32,12],[30,13,32,13],[30,14,32,14],[30,15,32,15],[33,26,35,26],[33,27,35,27],[36,19,38,19],[36,20,38,20],[36,21,38,21],[36,22,38,22],[36,23,38,23],[36,12,38,12],[36,13,38,13],[36,14,38,14],[36,15,38,15],[36,16,38,16],[36,17,38,17],[39,26,41,26],[39,27,41,27],[33,43,35,43],[36,4,38,4],[36,5,38,5],[36,6,38,6],[36,7,38,7],[36,9,38,9],[36,10,38,10],[36,11,38,11],[33,20,35,20],[33,21,35,21],[33,22,35,22],[33,23,35,23],[33,24,35,24],[33,25,35,25],[33,14,35,14],[33,15,35,15],[33,16,35,16],[33,17,35,17],[33,18,35,18],[42,11,44,11],[42,12,44,12],[39,20,41,20],[39,21,41,21],[39,22,41,22],[39,23,41,23],[39,24,41,24],[39,25,41,25],[39,14,41,14],[39,15,41,15],[39,16,41,16],[39,17,41,17],[39,18,41,18],[39,19,41,19],[42,25,44,25],[36,47,38,47],[39,4,41,4],[39,5,41,5],[39,6,41,6],[39,7,41,7],[39,9,41,9],[39,10,41,10],[39,11,41,11],[39,12,41,12],[39,13,41,13],[36,24,38,24],[36,25,38,25],[36,26,38,26],[36,27,38,27],[36,39,38,39],[36,45,38,45],[36,18,38,18],[42,26,44,26],[42,27,44,27],[42,43,44,43],[45,4,47,4],[45,5,47,5],[45,6,47,6],[45,7,47,7],[45,9,47,9],[45,10,47,10],[42,19,44,19],[42,20,44,20],[42,21,44,21],[42,22,44,22],[42,23,44,23],[42,24,44,24],[42,13,44,13],[42,14,44,14],[42,15,44,15],[42,16,44,16],[42,17,44,17],[42,18,44,18],[45,23,47,23],[45,24,47,24],[45,25,47,25],[45,26,47,26],[45,27,47,27],[42,4,44,4],[42,5,44,5],[42,6,44,6],[42,7,44,7],[42,9,44,9],[42,10,44,10],[48,4,50,4],[48,5,50,5],[48,6,50,6],[48,7,50,7],[48,9,50,9],[45,17,47,17],[45,18,47,18],[45,19,47,19],[45,20,47,20],[45,21,47,21],[45,22,47,22],[45,11,47,11],[45,12,47,12],[45,13,47,13],[45,14,47,14],[45,15,47,15],[45,16,47,16],[48,39,50,39],[48,49,50,49],[51,4,53,4],[51,5,53,5],[51,6,53,6],[51,7,53,7],[51,9,53,9],[51,10,53,10],[51,11,53,11],[51,12,53,12],[48,22,50,22],[48,23,50,23],[48,24,50,24],[48,25,50,25],[48,26,50,26],[48,27,50,27],[48,16,50,16],[48,17,50,17],[48,18,50,18],[48,19,50,19],[48,20,50,20],[48,21,50,21],[48,10,50,10],[48,11,50,11],[48,12,50,12],[48,13,50,13],[48,14,50,14],[48,15,50,15],[51,25,53,25],[51,26,53,26],[51,27,53,27],[51,47,53,47],[54,4,56,4],[54,5,56,5],[54,6,56,6],[54,7,56,7],[54,9,56,9],[54,10,56,10],[51,19,53,19],[51,20,53,20],[51,21,53,21],[51,22,53,22],[51,23,53,23],[51,24,53,24],[51,13,53,13],[51,14,53,14],[51,15,53,15],[51,16,53,16],[51,17,53,17],[51,18,53,18],[54,45,56,45],[57,4,59,4],[57,5,59,5],[57,6,59,6],[57,7,59,7],[57,9,59,9],[57,10,59,10],[57,11,59,11],[57,12,59,12],[57,13,59,13],[54,23,56,23],[54,24,56,24],[54,25,56,25],[54,26,56,26],[54,27,56,27],[54,39,56,39],[54,17,56,17],[54,18,56,18],[54,19,56,19],[54,20,56,20],[54,21,56,21],[54,22,56,22],[54,11,56,11],[54,12,56,12],[54,13,56,13],[54,14,56,14],[54,15,56,15],[54,16,56,16],[57,26,59,26],[57,27,59,27],[57,39,59,39],[57,41,59,41],[57,43,59,43],[60,4,62,4],[60,5,62,5],[60,6,62,6],[60,7,62,7],[60,9,62,9],[57,20,59,20],[57,21,59,21],[57,22,59,22],[57,23,59,23],[57,24,59,24],[57,25,59,25],[57,14,59,14],[57,15,59,15],[57,16,59,16],[57,17,59,17],[57,18,59,18],[57,19,59,19],[57,28,59,28],[60,28,62,28],[63,9,65,9],[63,10,65,10],[60,22,62,22],[60,23,62,23],[60,24,62,24],[60,25,62,25],[60,26,62,26],[60,27,62,27],[60,16,62,16],[60,17,62,17],[60,18,62,18],[60,19,62,19],[60,20,62,20],[60,21,62,21],[60,10,62,10],[60,11,62,11],[60,12,62,12],[60,13,62,13],[60,14,62,14],[60,15,62,15],[63,41,65,41],[66,4,68,4],[66,5,68,5],[66,6,68,6],[66,7,68,7],[66,9,68,9],[66,10,68,10],[66,11,68,11],[66,12,68,12],[66,13,68,13],[63,23,65,23],[63,24,65,24],[63,25,65,25],[63,26,65,26],[63,27,65,27],[63,39,65,39],[63,17,65,17],[63,18,65,18],[63,19,65,19],[63,20,65,20],[63,21,65,21],[63,22,65,22],[63,11,65,11],[63,12,65,12],[63,13,65,13],[63,14,65,14],[63,15,65,15],[63,16,65,16],[63,4,65,4],[63,5,65,5],[63,6,65,6],[63,7,65,7],[66,26,68,26],[66,27,68,27],[66,39,68,39],[66,41,68,41],[66,43,68,43],[69,4,71,4],[69,5,71,5],[69,6,71,6],[69,7,71,7],[69,9,71,9],[66,20,68,20],[66,21,68,21],[66,22,68,22],[66,23,68,23],[66,24,68,24],[66,25,68,25],[66,14,68,14],[66,15,68,15],[66,16,68,16],[66,17,68,17],[66,18,68,18],[66,19,68,19],[69,39,71,39],[69,22,71,22],[69,23,71,23],[69,24,71,24],[69,25,71,25],[69,26,71,26],[69,27,71,27],[69,16,71,16],[69,17,71,17],[69,18,71,18],[69,19,71,19],[69,20,71,20],[69,21,71,21],[69,10,71,10],[69,11,71,11],[69,12,71,12],[69,13,71,13],[69,14,71,14],[69,15,71,15],[72,43,74,43],[72,45,74,45],[75,4,77,4],[75,5,77,5],[75,6,77,6],[75,7,77,7],[75,9,77,9],[75,10,77,10],[72,20,74,20],[72,21,74,21],[72,22,74,22],[72,23,74,23],[72,24,74,24],[72,25,74,25],[72,14,74,14],[72,15,74,15],[72,16,74,16],[72,17,74,17],[72,18,74,18],[72,19,74,19],[72,4,74,4],[72,5,74,5],[72,6,74,6],[72,7,74,7],[72,9,74,9],[72,10,74,10],[72,11,74,11],[72,12,74,12],[72,13,74,13],[72,26,74,26],[72,27,74,27],[78,7,80,7],[78,9,80,9],[78,10,80,10],[75,23,77,23],[75,24,77,24],[75,25,77,25],[75,26,77,26],[75,27,77,27],[75,43,77,43],[75,28,77,28],[75,17,77,17],[75,18,77,18],[75,19,77,19],[75,20,77,20],[75,21,77,21],[75,22,77,22],[75,11,77,11],[75,12,77,12],[75,13,77,13],[75,14,77,14],[75,15,77,15],[75,16,77,16],[78,49,80,49],[81,4,83,4],[81,5,83,5],[81,6,83,6],[81,7,83,7],[81,9,83,9],[81,10,83,10],[81,11,83,11],[81,12,83,12],[81,13,83,13],[78,23,80,23],[78,24,80,24],[78,25,80,25],[78,26,80,26],[78,27,80,27],[78,47,80,47],[78,28,80,28],[78,17,80,17],[78,18,80,18],[78,19,80,19],[78,20,80,20],[78,21,80,21],[78,22,80,22],[78,11,80,11],[78,12,80,12],[78,13,80,13],[78,14,80,14],[78,15,80,15],[78,16,80,16],[78,4,80,4],[78,5,80,5],[78,6,80,6],[81,26,83,26],[81,27,83,27],[81,39,83,39],[84,4,86,4],[84,5,86,5],[84,6,86,6],[84,7,86,7],[84,9,86,9],[84,10,86,10],[84,11,86,11],[81,20,83,20],[81,21,83,21],[81,22,83,22],[81,23,83,23],[81,24,83,24],[81,25,83,25],[81,14,83,14],[81,15,83,15],[81,16,83,16],[81,17,83,17],[81,18,83,18],[81,19,83,19],[87,10,89,10],[84,24,86,24],[84,25,86,25],[84,26,86,26],[84,27,86,27],[84,39,86,39],[84,41,86,41],[84,18,86,18],[84,19,86,19],[84,20,86,20],[84,21,86,21],[84,22,86,22],[84,23,86,23],[84,12,86,12],[84,13,86,13],[84,14,86,14],[84,15,86,15],[84,16,86,16],[84,17,86,17],[87,41,89,41],[87,43,89,43],[90,4,92,4],[90,5,92,5],[90,6,92,6],[90,7,92,7],[90,9,92,9],[90,10,92,10],[90,11,92,11],[90,12,92,12],[87,23,89,23],[87,24,89,24],[87,25,89,25],[87,26,89,26],[87,27,89,27],[87,39,89,39],[87,17,89,17],[87,18,89,18],[87,19,89,19],[87,20,89,20],[87,21,89,21],[87,22,89,22],[87,11,89,11],[87,12,89,12],[87,13,89,13],[87,14,89,14],[87,15,89,15],[87,16,89,16],[87,4,89,4],[87,5,89,5],[87,6,89,6],[87,7,89,7],[87,9,89,9],[90,45,92,45],[93,4,95,4],[93,5,95,5],[93,6,95,6],[93,7,95,7],[93,9,95,9],[93,10,95,10],[93,11,95,11],[93,12,95,12],[93,13,95,13],[90,25,92,25],[90,26,92,26],[90,27,92,27],[90,39,92,39],[90,41,92,41],[90,43,92,43],[90,19,92,19],[90,20,92,20],[90,21,92,21],[90,22,92,22],[90,23,92,23],[90,24,92,24],[90,13,92,13],[90,14,92,14],[90,15,92,15],[90,16,92,16],[90,17,92,17],[90,18,92,18],[93,47,95,47],[96,4,98,4],[96,5,98,5],[96,6,98,6],[96,7,98,7],[96,9,98,9],[96,10,98,10],[96,11,98,11],[96,12,98,12],[96,13,98,13],[93,26,95,26],[93,27,95,27],[93,39,95,39],[93,41,95,41],[93,43,95,43],[93,45,95,45],[93,20,95,20],[93,21,95,21],[93,22,95,22],[93,23,95,23],[93,24,95,24],[93,25,95,25],[93,14,95,14],[93,15,95,15],[93,16,95,16],[93,17,95,17],[93,18,95,18],[93,19,95,19],[99,7,101,7],[99,9,101,9],[99,10,101,10],[96,26,98,26],[96,27,98,27],[96,43,98,43],[96,45,98,45],[96,47,98,47],[96,49,98,49],[96,20,98,20],[96,21,98,21],[96,22,98,22],[96,23,98,23],[96,24,98,24],[96,25,98,25],[96,14,98,14],[96,15,98,15],[96,16,98,16],[96,17,98,17],[96,18,98,18],[96,19,98,19],[99,49,101,49],[99,51,101,51],[102,4,104,4],[102,5,104,5],[102,6,104,6],[102,7,104,7],[102,9,104,9],[102,10,104,10],[102,11,104,11],[102,12,104,12],[99,23,101,23],[99,24,101,24],[99,25,101,25],[99,26,101,26],[99,27,101,27],[99,47,101,47],[99,28,101,28],[99,17,101,17],[99,18,101,18],[99,19,101,19],[99,20,101,20],[99,21,101,21],[99,22,101,22],[99,11,101,11],[99,12,101,12],[99,13,101,13],[99,14,101,14],[99,15,101,15],[99,16,101,16],[99,4,101,4],[99,5,101,5],[99,6,101,6],[102,25,104,25],[102,26,104,26],[102,27,104,27],[102,51,104,51],[102,53,104,53],[105,4,107,4],[105,5,107,5],[105,6,107,6],[105,7,107,7],[105,9,107,9],[102,19,104,19],[102,20,104,20],[102,21,104,21],[102,22,104,22],[102,23,104,23],[102,24,104,24],[102,13,104,13],[102,14,104,14],[102,15,104,15],[102,16,104,16],[102,17,104,17],[102,18,104,18],[105,55,107,55],[108,4,110,4],[108,5,110,5],[108,6,110,6],[108,7,110,7],[108,9,110,9],[108,10,110,10],[108,11,110,11],[108,12,110,12],[108,13,110,13],[105,22,107,22],[105,23,107,23],[105,24,107,24],[105,25,107,25],[105,26,107,26],[105,27,107,27],[105,16,107,16],[105,17,107,17],[105,18,107,18],[105,19,107,19],[105,20,107,20],[105,21,107,21],[105,10,107,10],[105,11,107,11],[105,12,107,12],[105,13,107,13],[105,14,107,14],[105,15,107,15],[108,26,110,26],[108,27,110,27],[114,47,116,47],[114,49,116,49],[111,4,113,4],[111,5,113,5],[111,6,113,6],[111,7,113,7],[111,9,113,9],[111,10,113,10],[111,11,113,11],[111,12,113,12],[108,20,110,20],[108,21,110,21],[108,22,110,22],[108,23,110,23],[108,24,110,24],[108,25,110,25],[108,14,110,14],[108,15,110,15],[108,16,110,16],[108,17,110,17],[108,18,110,18],[108,19,110,19],[111,25,113,25],[111,26,113,26],[111,27,113,27],[111,39,113,39],[111,45,113,45],[114,11,116,11],[114,12,116,12],[114,13,116,13],[114,14,116,14],[114,15,116,15],[111,51,113,51],[111,19,113,19],[111,20,113,20],[111,21,113,21],[111,22,113,22],[111,23,113,23],[111,24,113,24],[111,13,113,13],[111,14,113,14],[111,15,113,15],[111,16,113,16],[111,17,113,17],[111,18,113,18],[117,4,119,4],[117,5,119,5],[117,6,119,6],[117,7,119,7],[117,9,119,9],[117,10,119,10],[117,11,119,11],[114,23,116,23],[114,24,116,24],[114,25,116,25],[114,26,116,26],[114,27,116,27],[114,43,116,43],[114,17,116,17],[114,18,116,18],[114,19,116,19],[114,20,116,20],[114,21,116,21],[114,22,116,22],[114,16,116,16],[114,4,116,4],[114,5,116,5],[114,6,116,6],[114,7,116,7],[114,9,116,9],[114,10,116,10],[120,9,122,9],[120,10,122,10],[117,24,119,24],[117,25,119,25],[117,26,119,26],[117,27,119,27],[117,43,119,43],[117,45,119,45],[117,18,119,18],[117,19,119,19],[117,20,119,20],[117,21,119,21],[117,22,119,22],[117,23,119,23],[117,12,119,12],[117,13,119,13],[117,14,119,14],[117,15,119,15],[117,16,119,16],[117,17,119,17],[120,45,122,45],[114,45,116,45],[120,51,122,51],[123,4,125,4],[123,5,125,5],[123,6,125,6],[123,7,125,7],[123,9,125,9],[123,10,125,10],[123,11,125,11],[123,12,125,12],[120,23,122,23],[120,24,122,24],[120,25,122,25],[120,26,122,26],[120,27,122,27],[120,43,122,43],[120,28,122,28]],"merged_total":1341,"flags":["merged_cut"]}
[]
[null,null,null,null,"欧文"]
[null,null,null,null,"文字","入力","音","覚え方",null,null,null,null,null,null,null,null,null,null,null,null,null,null,null,null,null,null,null,null,null,null,null,null,null,null,null,null,null,null,"モールス信号"]
[null,null,null,null,"Ａ",13,"トツー","アホー",null,1,null,3,3,3,null,null,null,null,null,null,null,null,null,null,null,null,null,null,{"$f":"COUNTA(J4:AB6)+LEN(F4)-1","v":5},null,null,null,null,null,null,null,null,null,{"$f":"IF(I4=1,\"●\",\"\")","v":""},{"$f":"IF(J4=1,\"●\",\"\")","v":"●"},"","","","","","","","","","","","","","","","","","",null,null,{"$f":"IF(AC4=1,\"●\",\"\")","v":""},{"$f":"IF(AD4=1,\"●\",\"\")","v":""},{"$f":"IF(AE4=1,\"●\",\"\")","v":""},{"$f":"IF(AF4=1,\"●\",\"\")","v":""},{"$f":"IF(AG4=1,\"●\",\"\")","v":""},null,{"$f":"IF(AM4=1,\"●\",\"\")","v":""}]
[]
[]
[null,null,null,null,"Ｂ",3111,"ツートトト","ビートルズ",null,3,3,3,null,1,null,1,null,1,null,null,null,null,null,null,null,null,null,null,{"$f":"COUNTA(J7:AB9)+LEN(F7)-1","v":9},null,null,null,null,null,null,null,null,null,{"$f":"IF(I7=1,\"●\",\"\")","v":""},"","","","","●","","●","","●","","","","","","","","","",""]
[]
[]
[null,null,null,null,"Ｃ",3131,"ツートツート","シーブリーズ",null,3,3,3,null,1,null,3,3,3,null,1,null,null,null,null,null,null,null,null,{"$f":"COUNTA(J10:AB12)+LEN(F10)-1","v":11},null,null,null,null,null,null,null,null,null,{"$f":"IF(I10=1,\"●\",\"\")","v":""},"","","","","●","","","","","","●","","","","","","","",""]
[]
[]
[null,null,null,null,"Ｄ",311,"ツートト","どーとく（道徳）",null,3,3,3,null,1,null,1,null,null,null,null,null,null,null,null,null,null,null,null,{"$f":"COUNTA(J13:AB15)+LEN(F13)-1","v":7},null,null,null,null,null,null,null,null,null,{"$f":"IF(I13=1,\"●\",\"\")","v":""},"","","","","●","","●","","","","","","","","","","","",""]
[]
[]
[null,null,null,null,"Ｅ",1,"ト","え（絵）",null,1,null,null,null,null,null,null,null,null,null,null,null,null,null,null,null,null,null,null,{"$f":"COUNTA(J16:AB18)+LEN(F16)-1","v":1},null,null,null,null,null,null,null,null,null,{"$f":"IF(I16=1,\"●\",\"\")","v":""},"●","","","","","","","","","","","","","","","","","",""]
[]
[]
[null,null,null,null,"Ｆ",1131,"トトツート","フルオート",null,1,null,1,null,3,3,3,null,1,null,null,null,null,null,null,null,null,null,null,{"$f":"COUNTA(J19:AB21)+LEN(F19)-1","v":9},null,null,null,null,null,null,null,null,null,{"$f":"IF(I19=1,\"●\",\"\")","v":""},"●","","●","","","","","","●","","","","","","","","","",""]
[]
[]
[null,null,null,null,"Ｇ",331,"ツーツート","ゴーカート",null,3,3,3,null,3,3,3,null,1,null,null,null,null,null,null,null,null,null,null,{"$f":"COUNTA(J22:AB24)+LEN(F22)-1","v":9},null,null,null,null,null,null,null,null,null,{"$f":"IF(I22=1,\"●\",\"\")","v":""},"","","","","","","","","●","","","","","","","","","",""]
[]
[]
[null,null,null,null,"Ｈ",1111,"トトトト","ハンカチ",null,1,null,1,null,1,null,1,null,null,null,null,null,null,null,null,null,null,null,null,{"$f":"COUNTA(J25:AB27)+LEN(F25)-1","v":7},null,null,null,null,null,null,null,null,null,{"$f":"IF(I25=1,\"●\",\"\")","v":""},"●","","●","","●","","●","","","","","","","","","","","",""]
[]
[]
[null,null,null,null,"Ｉ",11,"トト","アイ",null,1,null,1,null,null,null,null,null,null,null,null,null,null,null,null,null,null,null,null,{"$f":"COUNTA(J28:AB30)+LEN(F28)-1","v":3},null,null,null,null,null,null,null,null,null,{"$f":"IF(I28=1,\"●\",\"\")","v":""},"●","","●","","","","","","","","","","","","","","","",""]
[]
[]
[null,null,null,null,"Ｊ",1333,"トツーツーツー","じえーほーほー（自衛方法）",null,1,null,3,3,3,null,3,3,3,null,3,3,3,null,null,null,null,null,null,{"$f":"COUNTA(J31:AB33)+LEN(F31)-1","v":13},null,null,null,null,null,null,null,null,null,{"$f":"IF(I31=1,\"●\",\"\")","v":""},"●","","","","","","","","","","","","","","","","","",""]
[]
[]
[null,null,null,null,"Ｋ",313,"ツートツー","けーしちょー（警視庁）",null,3,3,3,null,1,null,3,3,3,null,null,null,null,null,null,null,null,null,null,{"$f":"COUNTA(J34:AB36)+LEN(F34)-1","v":9},null,null,null,null,null,null,null,null,null,{"$f":"IF(I34=1,\"●\",\"\")","v":""},"","","","","●","","","","","","","","","","","","","",""]
[]
[]
[null,null,null,null,"Ｌ",1311,"トツートト","レディーガガ",null,1,null,3,3,3,null,1,null,1,null,null,null,null,null,null,null,null,null,null,{"$f":"COUNTA(J37:AB39)+LEN(F37)-1","v":9},null,null,null,null,null,null,null,null,null,{"$f":"IF(I37=1,\"●\",\"\")","v":""},"●","","","","","","●","","●","","","","","","","","","",""]
[]
[]
[null,null,null,null,"Ｍ",33,"ツーツー","メーター",null,3,3,3,null,3,3,3,null,null,null,null,null,null,null,null,null,null,null,null,{"$f":"COUNTA(J40:AB42)+LEN(F40)-1","v":7},null,null,null,null,null,null,null,null,null,{"$f":"IF(I40=1,\"●\",\"\")","v":""},"","","","","","","","","","","","","","","","","","",""]
[]
[]
[null,null,null,null,"Ｎ",31,"ツート","ノート",null,3,3,3,null,1,null,null,null,null,null,null,null,null,null,null,null,null,null,null,{"$f":"COUNTA(J43:AB45)+LEN(F43)-1","v":5},null,null,null,null,null,null,null,null,null,{"$f":"IF(I43=1,\"●\",\"\")","v":""},"","","","","●","","","","","","","","","","","","","",""]
[]
[]
[null,null,null,null,"Ｏ",333,"ツーツーツー","おーよーほー（応用法）",null,3,3,3,null,3,3,3,null,3,3,3,null,null,null,null,null,null,null,null,11,null,null,null,null,null,null,null,null,null,{"$f":"IF(I46=1,\"●\",\"\")","v":""},"","","","","","","","","","","","","","","","","","",""]
[]
[]
[null,null,null,null,"Ｐ",1331,"トツーツート","プレーボール",null,1,null,3,3,3,null,3,3,3,null,1,null,null,null,null,null,null,null,null,11,null,null,null,null,null,null,null,null,null,{"$f":"IF(I49=1,\"●\",\"\")","v":""},"●","","","","","","","","","","●","","","","","","","",""]
[]
[]
[null,null,null,null,"Ｑ",3313,"ツーツートツー","きゅーきゅーしきゅー（救急至急）",null,3,3,3,null,3,3,3,null,1,null,3,3,3,null,null,null,null,null,null,13,null,null,null,null,null,null,null,null,null,{"$f":"IF(I52=1,\"●\",\"\")","v":""},"","","","","","","","","●","","","","","","","","","",""]
[]
[]
[null,null,null,null,"Ｒ",131,"トツート","りすーか（理数科）",null,1,null,3,3,3,null,1,null,null,null,null,null,null,null,null,null,null,null,null,7,null,null,null,null,null,null,null,null,null,{"$f":"IF(I55=1,\"●\",\"\")","v":""},"●","","","","","","●","","","","","","","","","","","",""]
[]
[]
[null,null,null,null,"Ｓ",111,"トトト","スミレ",null,1,null,1,null,1,null,null,null,null,null,null,null,null,null,null,null,null,null,null,5,null,null,null,null,null,null,null,null,null,{"$f":"IF(I58=1,\"●\",\"\")","v":""},"●","","●","","●","","","","","","","","","","","","","",""]
[]
[]
[null,null,null,null,"Ｔ",3,"ツー","ティー",null,3,3,3,null,null,null,null,null,null,null,null,null,null,null,null,null,null,null,null,3,null,null,null,null,null,null,null,null,null,{"$f":"IF(I61=1,\"●\",\"\")","v":""},"","","","","","","","","","","","","","","","","","",""]
[]
[]
[null,null,null,null,"Ｕ",113,"トトツー","うるせー",null,1,null,1,null,3,3,3,null,null,null,null,null,null,null,null,null,null,null,null,7,null,null,null,null,null,null,null,null,null,{"$f":"IF(I64=1,\"●\",\"\")","v":""},"●","","●","","","","","","","","","","","","","","","",""]
[]
[]
[null,null,null,null,"Ｖ",1113,"トトトツー","ビクトリー",null,1,null,1,null,1,null,3,3,3,null,null,null,null,null,null,null,null,null,null,9,null,null,null,null,null,null,null,null,null,{"$f":"IF(I67=1,\"●\",\"\")","v":""},"●","","●","","●","","","","","","","","","","","","","",""]
[]
[]
[null,null,null,null,"Ｗ",133,"トツーツー","わよーふー（和洋風）",null,1,null,3,3,3,null,3,3,3,null,null,null,null,null,null,null,null,null,null,9,null,null,null,null,null,null,null,null,null,{"$f":"IF(I70=1,\"●\",\"\")","v":""},"●","","","","","","","","","","","","","","","","","",""]
[]
[]
[null,null,null,null,"Ｘ",3113,"ツートトツー","エークスレー",null,3,3,3,null,1,null,1,null,3,3,3,null,null,null,null,null,null,null,null,11,null,null,null,null,null,null,null,null,null,{"$f":"IF(I73=1,\"●\",\"\")","v":""},"","","","","●","","●","","","","","","","","","","","",""]
[]
[]
[null,null,null,null,"Ｙ",3133,"ツートツーツー","わーいわーわー",null,3,3,3,null,1,null,3,3,3,null,3,3,3,null,null,null,null,null,null,13,null,null,null,null,null,null,null,null,null,{"$f":"IF(I76=1,\"●\",\"\")","v":""},"","","","","●","","","","","","","","","","","","","",""]
[]
[]
[null,null,null,null,"Ｚ",3311,"ツーツートト","ざーざーあめ（ざあざあ雨）",null,3,3,3,null,3,3,3,null,1,null,1,null,null,null,null,null,null,null,null,11,null,null,null,null,null,null,null,null,null,{"$f":"IF(I79=1,\"●\",\"\")","v":""},"","","","","","","","","●","","●","","","","","","","",""]
[]
[]
[null,null,null,null,"１",13333,"トツーツーツーツー",null,null,1,null,3,3,3,null,3,3,3,null,3,3,3,null,3,3,3,null,null,17,null,null,null,null,null,null,null,null,null,{"$f":"IF(I82=1,\"●\",\"\")","v":""},"●","","","","","","","","","","","","","","","","","",""]
[]
[]
[null,null,null,null,"２",11333,"トトツーツーツー",null,null,1,null,1,null,3,3,3,null,3,3,3,null,3,3,3,null,null,null,null,15,null,null,null,null,null,null,null,null,null,{"$f":"IF(I85=1,\"●\",\"\")","v":""},"●","","●","","","","","","","","","","","","","","","",""]
[]
[]
[null,null,null,null,"３",11133,"トトトツーツー",null,null,1,null,1,null,1,null,3,3,3,null,3,3,3,null,null,null,null,null,null,13,null,null,null,null,null,null,null,null,null,{"$f":"IF(I88=1,\"●\",\"\")","v":""},"●","","●","","●","","","","","","","","","","","","","",""]
[]
[]
[null,null,null,null,"４",11113,"トトトトツー",null,null,1,null,1,null,1,null,1,null,3,3,3,null,null,null,null,null,null,null,null,11,null,null,null,null,null,null,null,null,null,{"$f":"IF(I91=1,\"●\",\"\")","v":""},"●","","●","","●","","●","","","","","","","","","","","",""]
[]
[]
[null,null,null,null,"５",11111,"トトトトト",null,null,1,null,1,null,1,null,1,null,1,null,null,null,null,null,null,null,null,null,null,9,null,null,null,null,null,null,null,null,null,{"$f":"IF(I94=1,\"●\",\"\")","v":""},"●","","●","","●","","●","","●","","","","","","","","","",""]
[]
[]
[null,null,null,null,"６",31111,"ツートトトト",null,null,3,3,3,null,1,null,1,null,1,null,1,null,null,null,null,null,null,null,null,11,null,null,null,null,null,null,null,null,null,{"$f":"IF(I97=1,\"●\",\"\")","v":""},"","","","","●","","●","","●","","●","","","","","","","",""]
[]
[]
[null,null,null,null,"７",33111,"ツーツートトト",null,null,3,3,3,null,3,3,3,null,1,null,1,null,1,null,null,null,null,null,null,13,null,null,null,null,null,null,null,null,null,{"$f":"IF(I100=1,\"●\",\"\")","v":""},"","","","","","","","","●","","●","","●","","","","","",""]
[]
[]
[null,null,null,null,"８",33311,"ツーツーツートト",null,null,3,3,3,null,3,3,3,null,3,3,3,null,1,null,1,null,null,null,null,15,null,null,null,null,null,null,null,null,null,{"$f":"IF(I103=1,\"●\",\"\")","v":""},"","","","","","","","","","","","","●","","●","","","",""]
[]
[]
[null,null,null,null,"９",33331,"ツーツーツーツート",null,null,3,3,3,null,3,3,3,null,3,3,3,null,3,3,3,null,1,null,null,17,null,null,null,null,null,null,null,null,null,{"$f":"IF(I106=1,\"●\",\"\")","v":""},"","","","","","","","","","","","","","","","","●","",""]
[]
[]
[null,null,null,null,"０",33333,"ツーツーツーツーツー",null,null,3,3,3,null,3,3,3,null,3,3,3,null,3,3,3,null,3,3,3,{"$f":"COUNTA(J109:AB111)+LEN(F109)-1","v":19},null,null,null,null,null,null,null,null,null,{"$f":"IF(I109=1,\"●\",\"\")","v":""},"","","","","","","","","","","","","","","","","","",""]
[]
[]
[null,null,null,null,"＋",13131,"トツートツート",null,null,1,null,3,3,3,null,1,null,3,3,3,null,1,null,null,null,null,null,null,13,null,null,null,null,null,null,null,null,null,{"$f":"IF(I112=1,\"●\",\"\")","v":""},"●","","","","","","●","","","","","","●","","","","","",""]
[]
[]
[null,null,null,null,"－",311113,"ツートトトトツー",null,null,3,3,3,null,1,null,1,null,1,null,1,null,3,3,3,null,null,null,null,15,null,null,null,null,null,null,null,null,null,{"$f":"IF(I115=1,\"●\",\"\")","v":""},"","","","","●","","●","","●","","●","","","","","","","",""]
[]
[]
[null,null,null,null,"＊",3113,"ツートトツー",null,null,3,3,3,null,1,null,1,null,3,3,3,null,null,null,null,null,null,null,null,11,null,null,null,null,null,null,null,null,null,{"$f":"IF(I118=1,\"●\",\"\")","v":""},"","","","","●","","●","","","","","","","","","","","",""]
[]
[]
[null,null,null,null,"／",31131,"ツートトツート",null,null,3,3,3,null,1,null,1,null,3,3,3,null,1,null,null,null,null,null,null,13,null,null,null,null,null,null,null,null,null,{"$f":"IF(I121=1,\"●\",\"\")","v":""},"","","","","●","","●","","","","","","●","","","","","",""]
[]
[]
[null,null,null,null,"＝",31113,"ツートトトツー",null,null,3,3,3,null,1,null,1,null,1,null,3,3,3,null,null,null,null,null,null,13,null,null,null,null,null,null,null,null,null,{"$f":"IF(I124=1,\"●\",\"\")","v":""},"","","","","●","","●","","●","","","","","","","","","",""]
[]
[]
[null,null,null,null,"（",31331,"ツートツーツート",null,null,3,3,3,null,1,null,3,3,3,null,3,3,3,null,1,null,null,null,null,15,null,null,null,null,null,null,null,null,null,{"$f":"IF(I127=1,\"●\",\"\")","v":""},"","","","","●","","","","","","","","","","●","","","",""]
[]
[]
[null,null,null,null,"）",313313,"ツートツーツートツー",null,null,3,3,3,null,1,null,3,3,3,null,3,3,3,null,1,null,3,3,3,19,null,null,null,null,null,null,null,null,null,{"$f":"IF(I130=1,\"●\",\"\")","v":""},"","","","","●","","","","","","","","","","●","","","",""]
[]
[]
[null,null,null,null,",",133331,"トツーツーツーツート",null,null,1,null,3,3,3,null,3,3,3,null,3,3,3,null,3,3,3,null,1,19,null,null,null,null,null,null,null,null,null,{"$f":"IF(I133=1,\"●\",\"\")","v":""},"●","","","","","","","","","","","","","","","","","","●"]
[]
[]
[null,null,null,null,"”",131131,"トツートトツート",null,null,1,null,3,3,3,null,1,null,1,null,3,3,3,null,1,null,null,null,null,15,null,null,null,null,null,null,null,null,null,{"$f":"IF(I136=1,\"●\",\"\")","v":""},"●","","","","","","●","","●","","","","","","●","","","",""]
[]
[]
[null,null,null,null,"；",133331,"トツーツーツーツート",null,null,1,null,3,3,3,null,3,3,3,null,3,3,3,null,3,3,3,null,1,19,null,null,null,null,null,null,null,null,null,{"$f":"IF(I139=1,\"●\",\"\")","v":""},"●","","","","","","","","","","","","","","","","","","●"]
[]
[]
[null,null,null,null,"：",333111,"ツーツーツートトト",null,null,3,3,3,null,3,3,3,null,3,3,3,null,1,null,1,null,1,null,null,17,null,null,null,null,null,null,null,null,null,{"$f":"IF(I142=1,\"●\",\"\")","v":""},"","","","","","","","","","","","","●","","●","","●","",""]
[]
[]
[null,null,null,null,",",331133,"ツーツートトツーツー",null,null,3,3,3,null,3,3,3,null,1,null,1,null,3,3,3,null,3,3,3,19,null,null,null,null,null,null,null,null,null,{"$f":"IF(I145=1,\"●\",\"\")","v":""},"","","","","","","","","●","","●","","","","","","","",""]
[]
[]
[null,null,null,null,"．",131313,"トツートツートツー",null,null,1,null,3,3,3,null,1,null,3,3,3,null,1,null,3,3,3,null,null,17,null,null,null,null,null,null,null,null,null,{"$f":"IF(I148=1,\"●\",\"\")","v":""},"●","","","","","","●","","","","","","●","","","","","",""]
[]
[]
[null,null,null,null,"？",113311,"トトツーツートト",null,null,1,null,1,null,3,3,3,null,3,3,3,null,1,null,1,null,null,null,null,15,null,null,null,null,null,null,null,null,null,{"$f":"IF(I151=1,\"●\",\"\")","v":""},"●","","●","","","","","","","","","","●","","●","","","",""]
[]
[]
[null,null,null,null,"訂正",11111111,"トトトトトトトト",null,null,1,null,1,null,1,null,1,null,1,null,1,null,1,null,1,null,null,null,null,15,null,null,null,null,null,null,null,null,null,{"$f":"IF(I154=1,\"●\",\"\")","v":""},"●","","●","","●","","●","","●","","●","","●","","●","","","",""]

{"sheet":"和文","index":2,"n_rows":233,"n_cols":64,"rows_kept":233,"cut":false,"hidden":false,"merged":[[63,43,65,43],[84,43,86,43],[39,41,41,41],[222,53,224,53],[228,41,230,41],[228,43,230,43],[174,41,176,41],[177,39,179,39],[177,41,179,41],[177,51,179,51],[210,49,212,49],[213,39,215,39],[213,45,215,45],[213,51,215,51],[162,45,164,45],[165,39,167,39],[171,45,173,45],[171,51,173,51],[156,39,158,39],[144,43,146,43],[75,45,77,45],[78,39,80,39],[78,41,80,41],[78,49,80,49],[84,49,86,49],[87,39,89,39],[87,41,89,41],[87,43,89,43],[87,45,89,45],[90,47,92,47],[114,47,116,47],[108,45,110,45],[177,26,179,26],[177,27,179,27],[177,20,179,20],[177,21,179,21],[177,22,179,22],[177,23,179,23],[177,24,179,24],[177,25,179,25],[174,39,176,39],[171,26,173,26],[171,27,173,27],[171,39,173,39],[171,20,173,20],[171,21,173,21],[171,22,173,22],[129,43,131,43],[120,43,122,43],[156,25,158,25],[156,26,158,26],[156,27,158,27],[159,25,161,25],[159,26,161,26],[159,27,161,27],[153,23,155,23],[153,24,155,24],[153,25,155,25],[153,26,155,26],[153,27,155,27],[150,22,152,22],[153,22,155,22],[147,26,149,26],[147,27,149,27],[78,47,80,47],[81,45,83,45],[93,39,95,39],[174,23,176,23],[174,24,176,24],[174,25,176,25],[174,26,176,26],[174,27,176,27],[174,16,176,16],[174,17,176,17],[174,18,176,18],[174,19,176,19],[174,20,176,20],[174,21,176,21],[174,10,176,10],[174,11,176,11],[174,12,176,12],[174,13,176,13],[174,14,176,14],[174,15,176,15],[168,26,170,26],[168,27,170,27],[168,17,170,17],[168,18,170,18],[168,19,170,19],[168,20,170,20],[168,21,170,21],[168,22,170,22],[168,11,170,11],[168,12,170,12],[168,13,170,13],[168,14,170,14],[177,4,179,4],[177,5,179,5],[177,6,179,6],[177,9,179,9],[177,10,179,10],[177,11,179,11],[177,12,179,12],[177,13,179,13],[174,22,176,22],[174,4,176,4],[174,5,176,5],[174,6,176,6],[174,9,176,9],[177,14,179,14],[177,15,179,15],[177,16,179,16],[177,17,179,17],[177,18,179,18],[177,19,179,19],[177,7,179,7],[171,4,173,4],[171,5,173,5],[171,6,173,6],[171,9,173,9],[171,10,173,10],[171,11,173,11],[171,12,173,12],[171,13,173,13],[168,4,170,4],[168,5,170,5],[168,6,170,6],[168,9,170,9],[168,10,170,10],[165,22,167,22],[165,23,167,23],[165,24,167,24],[165,25,167,25],[168,23,170,23],[168,24,170,24],[168,25,170,25],[168,15,170,15],[168,16,170,16],[171,23,173,23],[171,24,173,24],[171,25,173,25],[171,14,173,14],[171,15,173,15],[171,16,173,16],[171,17,173,17],[171,18,173,18],[171,19,173,19],[165,4,167,4],[159,23,161,23],[165,26,167,26],[165,27,167,27],[165,16,167,16],[165,17,167,17],[165,18,167,18],[165,19,167,19],[165,20,167,20],[165,21,167,21],[165,10,167,10],[165,11,167,11],[165,12,167,12],[165,13,167,13],[165,14,167,14],[165,15,167,15],[159,24,161,24],[159,17,161,17],[159,18,161,18],[159,19,161,19],[159,20,161,20],[159,21,161,21],[159,22,161,22],[159,11,161,11],[159,12,161,12],[159,13,161,13],[159,14,161,14],[159,15,161,15],[159,16,161,16],[162,26,164,26],[162,27,164,27],[165,5,167,5],[165,6,167,6],[165,9,167,9],[162,20,164,20],[162,21,164,21],[162,22,164,22],[162,23,164,23],[162,24,164,24],[162,25,164,25],[162,14,164,14],[162,15,164,15],[162,16,164,16],[162,17,164,17],[162,18,164,18],[162,19,164,19],[162,4,164,4],[162,5,164,5],[162,6,164,6],[162,9,164,9],[162,10,164,10],[162,11,164,11],[162,12,164,12],[162,13,164,13],[159,4,161,4],[159,5,161,5],[159,6,161,6],[159,9,161,9],[159,10,161,10],[153,10,155,10],[153,11,155,11],[153,12,155,12],[153,13,155,13],[153,14,155,14],[153,15,155,15],[153,4,155,4],[153,5,155,5],[153,6,155,6],[153,9,155,9],[156,19,158,19],[156,20,158,20],[156,21,158,21],[156,22,158,22],[156,23,158,23],[156,24,158,24],[156,13,158,13],[156,14,158,14],[156,15,158,15],[156,16,158,16],[156,17,158,17],[156,18,158,18],[156,4,158,4],[156,5,158,5],[156,6,158,6],[156,9,158,9],[156,10,158,10],[156,11,158,11],[156,12,158,12],[150,25,152,25],[150,26,152,26],[150,27,152,27],[153,16,155,16],[153,17,155,17],[153,18,155,18],[153,19,155,19],[153,20,155,20],[153,21,155,21],[147,25,149,25],[147,19,149,19],[147,20,149,20],[147,21,149,21],[147,22,149,22],[150,17,152,17],[150,18,152,18],[150,19,152,19],[150,20,152,20],[150,21,152,21],[150,16,152,16],[147,23,149,23],[147,24,149,24],[150,23,152,23],[150,24,152,24],[150,11,152,11],[150,12,152,12],[150,13,152,13],[150,14,152,14],[150,15,152,15],[150,4,152,4],[150,5,152,5],[150,6,152,6],[150,9,152,9],[150,10,152,10],[147,4,149,4],[147,5,149,5],[147,6,149,6],[147,9,149,9],[147,10,149,10],[147,11,149,11],[147,12,149,12],[144,4,146,4],[144,5,146,5],[144,6,146,6],[144,9,146,9],[144,10,146,10],[144,11,146,11],[144,12,146,12],[144,13,146,13],[141,23,143,23],[141,24,143,24],[141,25,143,25],[138,4,140,4],[138,5,140,5],[138,6,140,6],[138,9,140,9],[138,10,140,10],[147,13,149,13],[147,14,149,14],[147,15,149,15],[147,16,149,16],[147,17,149,17],[147,18,149,18],[132,27,134,27],[132,18,134,18],[132,19,134,19],[132,20,134,20],[132,21,134,21],[132,22,134,22],[132,23,134,23],[132,12,134,12],[132,13,134,13],[132,14,134,14],[132,15,134,15],[132,16,134,16],[132,17,134,17],[129,26,131,26],[129,27,131,27],[144,26,146,26],[144,27,146,27],[144,20,146,20],[144,21,146,21],[144,22,146,22],[144,23,146,23],[144,24,146,24],[144,25,146,25],[144,14,146,14],[144,15,146,15],[144,16,146,16],[144,17,146,17],[144,18,146,18],[144,19,146,19],[135,22,137,22],[135,23,137,23],[138,21,140,21],[126,10,128,10],[126,11,128,11],[126,12,128,12],[126,13,128,13],[126,14,128,14],[126,15,128,15],[132,4,134,4],[132,5,134,5],[132,6,134,6],[132,9,134,9],[132,10,134,10],[132,11,134,11],[129,20,131,20],[129,21,131,21],[129,22,131,22],[129,23,131,23],[129,24,131,24],[129,14,131,14],[129,15,131,15],[129,16,131,16],[129,17,131,17],[129,18,131,18],[129,19,131,19],[129,4,131,4],[129,5,131,5],[129,6,131,6],[129,9,131,9],[129,10,131,10],[129,11,131,11],[129,12,131,12],[129,13,131,13],[132,24,134,24],[126,4,128,4],[126,5,128,5],[126,6,128,6],[126,9,128,9],[123,19,125,19],[123,20,125,20],[123,21,125,21],[123,22,125,22],[123,23,125,23],[123,24,125,24],[123,13,125,13],[123,14,125,14],[123,15,125,15],[123,16,125,16],[123,17,125,17],[123,18,125,18],[123,4,125,4],[123,5,125,5],[123,6,125,6],[123,9,125,9],[123,10,125,10],[123,11,125,11],[123,12,125,12],[126,22,128,22],[126,23,128,23],[126,24,128,24],[126,16,128,16],[126,17,128,17],[126,18,128,18],[126,19,128,19],[126,20,128,20],[126,21,128,21],[117,5,119,5],[117,6,119,6],[117,9,119,9],[117,10,119,10],[117,11,119,11],[117,12,119,12],[117,13,119,13],[120,24,122,24],[120,25,122,25],[120,18,122,18],[120,19,122,19],[120,22,122,22],[120,23,122,23],[120,15,122,15],[120,16,122,16],[120,17,122,17],[117,26,119,26],[120,12,122,12],[120,13,122,13],[120,14,122,14],[111,9,113,9],[111,10,113,10],[111,11,113,11],[111,12,113,12],[111,13,113,13],[114,24,116,24],[114,25,116,25],[114,18,116,18],[114,19,116,19],[114,20,116,20],[114,21,116,21],[114,22,116,22],[114,23,116,23],[120,4,122,4],[120,5,122,5],[120,6,122,6],[120,9,122,9],[120,10,122,10],[120,11,122,11],[117,20,119,20],[117,21,119,21],[117,22,119,22],[117,23,119,23],[117,24,119,24],[117,25,119,25],[117,14,119,14],[117,15,119,15],[117,16,119,16],[117,17,119,17],[117,18,119,18],[117,19,119,19],[117,4,119,4],[108,43,110,43],[108,17,110,17],[108,18,110,18],[108,19,110,19],[108,20,110,20],[108,21,110,21],[108,22,110,22],[108,11,110,11],[108,12,110,12],[108,13,110,13],[108,14,110,14],[108,15,110,15],[108,16,110,16],[114,4,116,4],[114,5,116,5],[114,6,116,6],[114,9,116,9],[114,10,116,10],[114,11,116,11],[111,20,113,20],[111,21,113,21],[111,22,113,22],[111,23,113,23],[111,24,113,24],[111,25,113,25],[111,14,113,14],[111,15,113,15],[111,16,113,16],[111,17,113,17],[111,4,113,4],[111,5,113,5],[111,6,113,6],[108,6,110,6],[108,9,110,9],[108,10,110,10],[105,20,107,20],[105,21,107,21],[105,22,107,22],[105,23,107,23],[105,24,107,24],[105,25,107,25],[105,14,107,14],[105,15,107,15],[105,16,107,16],[105,17,107,17],[105,18,107,18],[105,19,107,19],[105,4,107,4],[105,5,107,5],[105,6,107,6],[105,9,107,9],[105,10,107,10],[105,11,107,11],[105,12,107,12],[105,13,107,13],[108,23,110,23],[108,24,110,24],[108,25,110,25],[228,39,230,39],[228,49,230,49],[228,19,230,19],[228,20,230,20],[228,21,230,21],[228,22,230,22],[228,23,230,23],[228,24,230,24],[228,13,230,13],[228,14,230,14],[228,15,230,15],[228,16,230,16],[228,17,230,17],[228,18,230,18],[99,26,101,26],[99,27,101,27],[99,20,101,20],[99,21,101,21],[99,22,101,22],[99,23,101,23],[99,24,101,24],[99,25,101,25],[99,14,101,14],[99,15,101,15],[99,16,101,16],[99,17,101,17],[99,18,101,18],[99,19,101,19],[105,26,107,26],[105,27,107,27],[99,13,101,13],[102,24,104,24],[228,4,230,4],[228,5,230,5],[228,6,230,6],[228,9,230,9],[228,10,230,10],[228,11,230,11],[228,12,230,12],[225,23,227,23],[225,24,227,24],[225,25,227,25],[225,26,227,26],[225,27,227,27],[225,43,227,43],[225,17,227,17],[225,18,227,18],[225,19,227,19],[225,20,227,20],[225,21,227,21],[225,22,227,22],[225,11,227,11],[225,12,227,12],[225,13,227,13],[225,14,227,14],[225,15,227,15],[225,16,227,16],[225,4,227,4],[225,5,227,5],[225,6,227,6],[225,9,227,9],[228,25,230,25],[228,26,230,26],[228,27,230,27],[225,10,227,10],[222,26,224,26],[222,27,224,27],[222,45,224,45],[222,47,224,47],[222,20,224,20],[222,21,224,21],[222,22,224,22],[222,23,224,23],[222,24,224,24],[222,25,224,25],[222,14,224,14],[222,15,224,15],[222,16,224,16],[222,17,224,17],[222,18,224,18],[222,19,224,19],[225,45,227,45],[222,39,224,39],[222,4,224,4],[222,5,224,5],[222,6,224,6],[222,9,224,9],[222,10,224,10],[222,11,224,11],[222,12,224,12],[222,13,224,13],[219,24,221,24],[219,25,221,25],[219,26,221,26],[219,27,221,27],[219,43,221,43],[219,18,221,18],[219,19,221,19],[219,20,221,20],[219,21,221,21],[219,22,221,22],[219,23,221,23],[219,12,221,12],[219,13,221,13],[219,14,221,14],[219,15,221,15],[219,16,221,16],[219,17,221,17],[216,51,218,51],[216,53,218,53],[219,4,221,4],[219,5,221,5],[219,6,221,6],[219,9,221,9],[219,10,221,10],[219,11,221,11],[216,23,218,23],[216,24,218,24],[216,25,218,25],[216,26,218,26],[216,27,218,27],[216,39,218,39],[216,17,218,17],[216,18,218,18],[216,19,218,19],[216,20,218,20],[216,21,218,21],[216,22,218,22],[216,11,218,11],[216,12,218,12],[216,13,218,13],[216,14,218,14],[216,15,218,15],[216,16,218,16],[216,4,218,4],[216,5,218,5],[216,6,218,6],[216,9,218,9],[216,45,218,45],[219,53,221,53],[210,6,212,6],[210,9,212,9],[216,10,218,10],[213,24,215,24],[213,25,215,25],[213,26,215,26],[213,27,215,27],[213,18,215,18],[213,19,215,19],[213,20,215,20],[213,21,215,21],[213,22,215,22],[213,23,215,23],[213,12,215,12],[213,13,215,13],[213,14,215,14],[213,15,215,15],[213,16,215,16],[213,17,215,17],[207,4,209,4],[207,5,209,5],[207,6,209,6],[207,9,209,9],[207,10,209,10],[210,39,212,39],[213,4,215,4],[213,5,215,5],[213,6,215,6],[213,9,215,9],[213,10,215,10],[213,11,215,11],[210,22,212,22],[210,23,212,23],[210,24,212,24],[210,25,212,25],[210,26,212,26],[210,27,212,27],[210,16,212,16],[210,17,212,17],[210,18,212,18],[210,19,212,19],[210,20,212,20],[210,21,212,21],[210,10,212,10],[210,11,212,11],[210,12,212,12],[210,13,212,13],[210,14,212,14],[210,15,212,15],[210,4,212,4],[210,5,212,5],[204,55,206,55],[204,17,206,17],[204,18,206,18],[204,19,206,19],[204,20,206,20],[204,21,206,21],[204,22,206,22],[204,11,206,11],[204,12,206,12],[204,13,206,13],[204,14,206,14],[204,15,206,15],[204,16,206,16],[207,23,209,23],[207,24,209,24],[207,25,209,25],[207,26,209,26],[207,27,209,27],[207,17,209,17],[207,18,209,18],[207,19,209,19],[207,20,209,20],[207,21,209,21],[207,22,209,22],[207,11,209,11],[207,12,209,12],[207,13,209,13],[207,14,209,14],[207,15,209,15],[207,16,209,16],[201,53,203,53],[204,4,206,4],[204,5,206,5],[204,6,206,6],[204,9,206,9],[204,10,206,10],[201,20,203,20],[201,21,203,21],[201,22,203,22],[201,23,203,23],[201,24,203,24],[201,25,203,25],[201,14,203,14],[201,15,203,15],[201,16,203,16],[201,17,203,17],[201,18,203,18],[201,19,203,19],[204,28,206,28],[204,23,206,23],[204,24,206,24],[204,25,206,25],[204,26,206,26],[204,27,206,27],[198,51,200,51],[201,4,203,4],[201,5,203,5],[201,6,203,6],[201,9,203,9],[201,10,203,10],[201,11,203,11],[201,12,203,12],[201,13,203,13],[198,24,200,24],[198,25,200,25],[198,26,200,26],[198,27,200,27],[198,47,200,47],[198,49,200,49],[198,18,200,18],[198,19,200,19],[198,20,200,20],[198,21,200,21],[198,22,200,22],[198,23,200,23],[198,12,200,12],[198,13,200,13],[198,14,200,14],[198,15,200,15],[198,16,200,16],[198,17,200,17],[201,28,203,28],[201,26,203,26],[201,27,203,27],[201,51,203,51],[195,49,197,49],[198,4,200,4],[198,5,200,5],[198,6,200,6],[198,9,200,9],[198,10,200,10],[198,11,200,11],[195,23,197,23],[195,24,197,24],[195,25,197,25],[195,26,197,26],[195,27,197,27],[195,43,197,43],[195,17,197,17],[195,18,197,18],[195,19,197,19],[195,20,197,20],[195,21,197,21],[195,22,197,22],[195,11,197,11],[195,12,197,12],[195,13,197,13],[195,14,197,14],[195,15,197,15],[195,16,197,16],[198,28,200,28],[192,47,194,47],[195,4,197,4],[195,5,197,5],[195,6,197,6],[195,9,197,9],[195,10,197,10],[192,23,194,23],[192,24,194,24],[192,25,194,25],[192,26,194,26],[192,27,194,27],[192,39,194,39],[192,17,194,17],[192,18,194,18],[192,19,194,19],[192,20,194,20],[192,21,194,21],[192,22,194,22],[192,11,194,11],[192,12,194,12],[192,13,194,13],[192,14,194,14],[192,15,194,15],[192,16,194,16],[195,28,197,28],[195,45,197,45],[195,47,197,47],[189,45,191,45],[192,4,194,4],[192,5,194,5],[192,6,194,6],[192,9,194,9],[192,10,194,10],[189,22,191,22],[189,23,191,23],[189,24,191,24],[189,25,191,25],[189,26,191,26],[189,27,191,27],[189,16,191,16],[189,17,191,17],[189,18,191,18],[189,19,191,19],[189,20,191,20],[189,21,191,21],[189,10,191,10],[189,11,191,11],[189,12,191,12],[189,13,191,13],[189,14,191,14],[189,15,191,15],[192,28,194,28],[192,41,194,41],[192,43,194,43],[192,45,194,45],[183,9,185,9],[186,26,188,26],[186,27,188,27],[186,39,188,39],[186,41,188,41],[186,43,188,43],[189,4,191,4],[189,5,191,5],[189,6,191,6],[189,9,191,9],[186,20,188,20],[186,21,188,21],[186,22,188,22],[186,23,188,23],[186,24,188,24],[186,25,188,25],[186,14,188,14],[186,15,188,15],[186,16,188,16],[186,17,188,17],[186,18,188,18],[186,19,188,19],[189,39,191,39],[189,41,191,41],[189,43,191,43],[183,41,185,41],[186,4,188,4],[186,5,188,5],[186,6,188,6],[186,9,188,9],[186,10,188,10],[186,11,188,11],[186,12,188,12],[186,13,188,13],[183,23,185,23],[183,24,185,24],[183,25,185,25],[183,26,185,26],[183,27,185,27],[183,39,185,39],[183,17,185,17],[183,18,185,18],[183,19,185,19],[183,20,185,20],[183,21,185,21],[183,22,185,22],[183,11,185,11],[183,12,185,12],[183,13,185,13],[183,14,185,14],[183,15,185,15],[183,16,185,16],[183,5,185,5],[102,15,104,15],[102,16,104,16],[102,17,104,17],[180,39,182,39],[180,17,182,17],[180,18,182,18],[180,19,182,19],[180,20,182,20],[180,21,182,21],[180,22,182,22],[180,11,182,11],[180,12,182,12],[180,13,182,13],[180,14,182,14],[180,15,182,15],[180,16,182,16],[111,18,113,18],[111,19,113,19],[120,26,122,26],[120,27,122,27],[120,20,122,20],[120,21,122,21],[114,26,116,26],[114,27,116,27],[114,12,116,12],[114,13,116,13],[114,14,116,14],[114,15,116,15],[114,16,116,16],[114,17,116,17],[183,6,185,6],[111,27,113,27],[99,6,101,6],[108,4,110,4],[108,5,110,5],[111,28,113,28],[114,28,116,28],[117,28,119,28],[120,28,122,28],[123,28,125,28],[126,28,128,28],[129,28,131,28],[183,10,185,10],[180,23,182,23],[180,24,182,24],[180,25,182,25],[180,26,182,26],[180,27,182,27],[99,9,101,9],[99,10,101,10],[99,11,101,11],[99,12,101,12],[102,25,104,25],[102,26,104,26],[102,27,104,27],[102,18,104,18],[102,19,104,19],[102,20,104,20],[102,21,104,21],[102,22,104,22],[102,23,104,23],[102,12,104,12],[183,4,185,4],[102,13,104,13],[102,14,104,14],[93,11,95,11],[93,12,95,12],[93,13,95,13],[180,4,182,4],[180,5,182,5],[180,6,182,6],[180,9,182,9],[180,10,182,10],[96,24,98,24],[96,25,98,25],[96,26,98,26],[96,27,98,27],[96,18,98,18],[96,19,98,19],[96,20,98,20],[96,21,98,21],[96,22,98,22],[96,23,98,23],[96,12,98,12],[96,13,98,13],[96,14,98,14]],"merged_total":1983,"flags":["merged_cut"]}
[]
[null,null,null,null,"和文"]
[null,null,null,null,"文字","入力","音","覚え方",null,null,null,null,null,null,null,null,null,null,null,null,null,null,null,null,null,null,null,null,null,null,null,null,null,null,null,null,null,null,"モールス信号"]
[null,null,null,null,"ア",33133,"ツーツートツーツー","あー言うとこう言う（あーゆーとこーゆー）",null,3,3,3,null,3,3,3,null,1,null,3,3,3,null,3,3,3,null,null,{"$f":"COUNTA(J4:AB6)+LEN(F4)-1","v":17},null,null,null,null,null,null,null,null,null,{"$f":"IF(I4=1,\"●\",\"\")","v":""},{"$f":"IF(J4=1,\"●\",\"\")","v":""},"","","","","","","","●","","","","","","","","","","",{"$f":"IF(AC4=1,\"●\",\"\")","v":""},null,{"$f":"IF(AC4=1,\"●\",\"\")","v":""},{"$f":"IF(AD4=1,\"●\",\"\")","v":""},{"$f":"IF(AE4=1,\"●\",\"\")","v":""},{"$f":"IF(AG4=1,\"●\",\"\")","v":""}]
[]
[]
[null,null,null,null,"イ",13,"トツー","伊藤（いとー）",null,1,null,3,3,3,null,null,null,null,null,null,null,null,null,null,null,null,null,null,{"$f":"COUNTA(J7:AB9)+LEN(F7)-1","v":5},null,null,null,null,null,null,null,null,null,{"$f":"IF(I7=1,\"●\",\"\")","v":""},{"$f":"IF(J7=1,\"●\",\"\")","v":"●"},{"$f":"IF(K7=1,\"●\",\"\")","v":""},{"$f":"IF(L7=1,\"●\",\"\")","v":""},{"$f":"IF(M7=1,\"●\",\"\")","v":""},{"$f":"IF(N7=1,\"●\",\"\")","v":""},{"$f":"IF(O7=1,\"●\",\"\")","v":""},{"$f":"IF(P7=1,\"●\",\"\")","v":""},{"$f":"IF(Q7=1,\"●\",\"\")","v":""},{"$f":"IF(R7=1,\"●\",\"\")","v":""},{"$f":"IF(S7=1,\"●\",\"\")","v":""},{"$f":"IF(T7=1,\"●\",\"\")","v":""},{"$f":"IF(U7=1,\"●\",\"\")","v":""},{"$f":"IF(V7=1,\"●\",\"\")","v":""},{"$f":"IF(W7=1,\"●\",\"\")","v":""},{"$f":"IF(X7=1,\"●\",\"\")","v":""},{"$f":"IF(Y7=1,\"●\",\"\")","v":""},{"$f":"IF(Z7=1,\"●\",\"\")","v":""},{"$f":"IF(AA7=1,\"●\",\"\")","v":""},{"$f":"IF(AB7=1,\"●\",\"\")","v":""},{"$f":"IF(AC7=1,\"●\",\"\")","v":""}]
[]
[]
[null,null,null,null,"ウ",113,"トトツー","運命（うんめー）",null,1,null,1,null,3,3,3,null,null,null,null,null,null,null,null,null,null,null,null,{"$f":"COUNTA(J10:AB12)+LEN(F10)-1","v":7},null,null,null,null,null,null,null,null,null,{"$f":"IF(I10=1,\"●\",\"\")","v":""},{"$f":"IF(J10=1,\"●\",\"\")","v":"●"},{"$f":"IF(K10=1,\"●\",\"\")","v":""},{"$f":"IF(L10=1,\"●\",\"\")","v":"●"},{"$f":"IF(M10=1,\"●\",\"\")","v":""},{"$f":"IF(N10=1,\"●\",\"\")","v":""},{"$f":"IF(O10=1,\"●\",\"\")","v":""},{"$f":"IF(P10=1,\"●\",\"\")","v":""},{"$f":"IF(Q10=1,\"●\",\"\")","v":""},{"$f":"IF(R10=1,\"●\",\"\")","v":""},{"$f":"IF(S10=1,\"●\",\"\")","v":""},{"$f":"IF(T10=1,\"●\",\"\")","v":""},{"$f":"IF(U10=1,\"●\",\"\")","v":""},{"$f":"IF(V10=1,\"●\",\"\")","v":""},{"$f":"IF(W10=1,\"●\",\"\")","v":""},{"$f":"IF(X10=1,\"●\",\"\")","v":""},{"$f":"IF(Y10=1,\"●\",\"\")","v":""},{"$f":"IF(Z10=1,\"●\",\"\")","v":""},{"$f":"IF(AA10=1,\"●\",\"\")","v":""},{"$f":"IF(AB10=1,\"●\",\"\")","v":""},{"$f":"IF(AC10=1,\"●\",\"\")","v":""}]
[]
[]
[null,null,null,null,"エ",31333,"ツートツーツーツー","英語ABC(えーごえーびーしー)",null,3,3,3,null,1,null,3,3,3,null,3,3,3,null,3,3,3,null,null,{"$f":"COUNTA(J13:AB15)+LEN(F13)-1","v":17},null,null,null,null,null,null,null,null,null,{"$f":"IF(I13=1,\"●\",\"\")","v":""},{"$f":"IF(J13=1,\"●\",\"\")","v":""},{"$f":"IF(K13=1,\"●\",\"\")","v":""},{"$f":"IF(L13=1,\"●\",\"\")","v":""},{"$f":"IF(M13=1,\"●\",\"\")","v":""},{"$f":"IF(N13=1,\"●\",\"\")","v":"●"},{"$f":"IF(O13=1,\"●\",\"\")","v":""},{"$f":"IF(P13=1,\"●\",\"\")","v":""},{"$f":"IF(Q13=1,\"●\",\"\")","v":""},{"$f":"IF(R13=1,\"●\",\"\")","v":""},{"$f":"IF(S13=1,\"●\",\"\")","v":""},{"$f":"IF(T13=1,\"●\",\"\")","v":""},{"$f":"IF(U13=1,\"●\",\"\")","v":""},{"$f":"IF(V13=1,\"●\",\"\")","v":""},{"$f":"IF(W13=1,\"●\",\"\")","v":""},{"$f":"IF(X13=1,\"●\",\"\")","v":""},{"$f":"IF(Y13=1,\"●\",\"\")","v":""},{"$f":"IF(Z13=1,\"●\",\"\")","v":""},{"$f":"IF(AA13=1,\"●\",\"\")","v":""},{"$f":"IF(AB13=1,\"●\",\"\")","v":""}]
[]
[]
[null,null,null,null,"オ",13111,"トツートトト","思う心(おもーこころ)",null,1,null,3,3,3,null,1,null,1,null,1,null,null,null,null,null,null,null,null,{"$f":"COUNTA(J16:AB18)+LEN(F16)-1","v":11},null,null,null,null,null,null,null,null,null,{"$f":"IF(I16=1,\"●\",\"\")","v":""},{"$f":"IF(J16=1,\"●\",\"\")","v":"●"},{"$f":"IF(K16=1,\"●\",\"\")","v":""},{"$f":"IF(L16=1,\"●\",\"\")","v":""},{"$f":"IF(M16=1,\"●\",\"\")","v":""},{"$f":"IF(N16=1,\"●\",\"\")","v":""},{"$f":"IF(O16=1,\"●\",\"\")","v":""},{"$f":"IF(P16=1,\"●\",\"\")","v":"●"},{"$f":"IF(Q16=1,\"●\",\"\")","v":""},{"$f":"IF(R16=1,\"●\",\"\")","v":"●"},{"$f":"IF(S16=1,\"●\",\"\")","v":""},{"$f":"IF(T16=1,\"●\",\"\")","v":"●"},{"$f":"IF(U16=1,\"●\",\"\")","v":""},{"$f":"IF(V16=1,\"●\",\"\")","v":""},{"$f":"IF(W16=1,\"●\",\"\")","v":""},{"$f":"IF(X16=1,\"●\",\"\")","v":""},{"$f":"IF(Y16=1,\"●\",\"\")","v":""},{"$f":"IF(Z16=1,\"●\",\"\")","v":""},{"$f":"IF(AA16=1,\"●\",\"\")","v":""},{"$f":"IF(AB16=1,\"●\",\"\")","v":""}]
[]
[]
[null,null,null,null,"ァ",33133,"ツーツートツーツー","あー言うとこう言う（あーゆーとこーゆー）",null,3,3,3,null,3,3,3,null,1,null,3,3,3,null,3,3,3,null,null,{"$f":"COUNTA(J19:AB21)+LEN(F19)-1","v":17},null,null,null,null,null,null,null,null,null,{"$f":"IF(I19=1,\"●\",\"\")","v":""},{"$f":"IF(J19=1,\"●\",\"\")","v":""},{"$f":"IF(K19=1,\"●\",\"\")","v":""},{"$f":"IF(L19=1,\"●\",\"\")","v":""},{"$f":"IF(M19=1,\"●\",\"\")","v":""},{"$f":"IF(N19=1,\"●\",\"\")","v":""},{"$f":"IF(O19=1,\"●\",\"\")","v":""},{"$f":"IF(P19=1,\"●\",\"\")","v":""},{"$f":"IF(Q19=1,\"●\",\"\")","v":""},{"$f":"IF(R19=1,\"●\",\"\")","v":"●"},{"$f":"IF(S19=1,\"●\",\"\")","v":""},{"$f":"IF(T19=1,\"●\",\"\")","v":""},{"$f":"IF(U19=1,\"●\",\"\")","v":""},{"$f":"IF(V19=1,\"●\",\"\")","v":""},{"$f":"IF(W19=1,\"●\",\"\")","v":""},{"$f":"IF(X19=1,\"●\",\"\")","v":""},{"$f":"IF(Y19=1,\"●\",\"\")","v":""},{"$f":"IF(Z19=1,\"●\",\"\")","v":""},{"$f":"IF(AA19=1,\"●\",\"\")","v":""},{"$f":"IF(AB19=1,\"●\",\"\")","v":""},{"$f":"IF(AC19=1,\"●\",\"\")","v":""},null,{"$f":"IF(AC19=1,\"●\",\"\")","v":""},{"$f":"IF(AD19=1,\"●\",\"\")","v":""},{"$f":"IF(AE19=1,\"●\",\"\")","v":""},{"$f":"IF(AG19=1,\"●\",\"\")","v":""}]
[]
[]
[null,null,null,null,"ィ",13,"トツー","伊藤（いとー）",null,1,null,3,3,3,null,null,null,null,null,null,null,null,null,null,null,null,null,null,{"$f":"COUNTA(J22:AB24)+LEN(F22)-1","v":5},null,null,null,null,null,null,null,null,null,{"$f":"IF(I22=1,\"●\",\"\")","v":""},{"$f":"IF(J22=1,\"●\",\"\")","v":"●"},{"$f":"IF(K22=1,\"●\",\"\")","v":""},{"$f":"IF(L22=1,\"●\",\"\")","v":""},{"$f":"IF(M22=1,\"●\",\"\")","v":""},{"$f":"IF(N22=1,\"●\",\"\")","v":""},{"$f":"IF(O22=1,\"●\",\"\")","v":""},{"$f":"IF(P22=1,\"●\",\"\")","v":""},{"$f":"IF(Q22=1,\"●\",\"\")","v":""},{"$f":"IF(R22=1,\"●\",\"\")","v":""},{"$f":"IF(S22=1,\"●\",\"\")","v":""},{"$f":"IF(T22=1,\"●\",\"\")","v":""},{"$f":"IF(U22=1,\"●\",\"\")","v":""},{"$f":"IF(V22=1,\"●\",\"\")","v":""},{"$f":"IF(W22=1,\"●\",\"\")","v":""},{"$f":"IF(X22=1,\"●\",\"\")","v":""},{"$f":"IF(Y22=1,\"●\",\"\")","v":""},{"$f":"IF(Z22=1,\"●\",\"\")","v":""},{"$f":"IF(AA22=1,\"●\",\"\")","v":""},{"$f":"IF(AB22=1,\"●\",\"\")","v":""},{"$f":"IF(AC22=1,\"●\",\"\")","v":""}]
[]
[]
[null,null,null,null,"ゥ",113,"トトツー","運命（うんめー）",null,1,null,1,null,3,3,3,null,null,null,null,null,null,null,null,null,null,null,null,{"$f":"COUNTA(J25:AB27)+LEN(F25)-1","v":7},null,null,null,null,null,null,null,null,null,{"$f":"IF(I25=1,\"●\",\"\")","v":""},{"$f":"IF(J25=1,\"●\",\"\")","v":"●"},{"$f":"IF(K25=1,\"●\",\"\")","v":""},{"$f":"IF(L25=1,\"●\",\"\")","v":"●"},{"$f":"IF(M25=1,\"●\",\"\")","v":""},{"$f":"IF(N25=1,\"●\",\"\")","v":""},{"$f":"IF(O25=1,\"●\",\"\")","v":""},{"$f":"IF(P25=1,\"●\",\"\")","v":""},{"$f":"IF(Q25=1,\"●\",\"\")","v":""},{"$f":"IF(R25=1,\"●\",\"\")","v":""},{"$f":"IF(S25=1,\"●\",\"\")","v":""},{"$f":"IF(T25=1,\"●\",\"\")","v":""},{"$f":"IF(U25=1,\"●\",\"\")","v":""},{"$f":"IF(V25=1,\"●\",\"\")","v":""},{"$f":"IF(W25=1,\"●\",\"\")","v":""},{"$f":"IF(X25=1,\"●\",\"\")","v":""},{"$f":"IF(Y25=1,\"●\",\"\")","v":""},{"$f":"IF(Z25=1,\"●\",\"\")","v":""},{"$f":"IF(AA25=1,\"●\",\"\")","v":""},{"$f":"IF(AB25=1,\"●\",\"\")","v":""},{"$f":"IF(AC25=1,\"●\",\"\")","v":""}]
[]
[]
[null,null,null,null,"ェ",31333,"ツートツーツーツー","英語ABC(えーごえーびーしー)",null,3,3,3,null,1,null,3,3,3,null,3,3,3,null,3,3,3,null,null,{"$f":"COUNTA(J28:AB30)+LEN(F28)-1","v":17},null,null,null,null,null,null,null,null,null,{"$f":"IF(I28=1,\"●\",\"\")","v":""},{"$f":"IF(J28=1,\"●\",\"\")","v":""},{"$f":"IF(K28=1,\"●\",\"\")","v":""},{"$f":"IF(L28=1,\"●\",\"\")","v":""},{"$f":"IF(M28=1,\"●\",\"\")","v":""},{"$f":"IF(N28=1,\"●\",\"\")","v":"●"},{"$f":"IF(O28=1,\"●\",\"\")","v":""},{"$f":"IF(P28=1,\"●\",\"\")","v":""},{"$f":"IF(Q28=1,\"●\",\"\")","v":""},{"$f":"IF(R28=1,\"●\",\"\")","v":""},{"$f":"IF(S28=1,\"●\",\"\")","v":""},{"$f":"IF(T28=1,\"●\",\"\")","v":""},{"$f":"IF(U28=1,\"●\",\"\")","v":""},{"$f":"IF(V28=1,\"●\",\"\")","v":""},{"$f":"IF(W28=1,\"●\",\"\")","v":""},{"$f":"IF(X28=1,\"●\",\"\")","v":""},{"$f":"IF(Y28=1,\"●\",\"\")","v":""},{"$f":"IF(Z28=1,\"●\",\"\")","v":""},{"$f":"IF(AA28=1,\"●\",\"\")","v":""},{"$f":"IF(AB28=1,\"●\",\"\")","v":""}]
[]
[]
[null,null,null,null,"ォ",13111,"トツートトト","思う心(おもーこころ)",null,1,null,3,3,3,null,1,null,1,null,1,null,null,null,null,null,null,null,null,{"$f":"COUNTA(J31:AB33)+LEN(F31)-1","v":11},null,null,null,null,null,null,null,null,null,{"$f":"IF(I31=1,\"●\",\"\")","v":""},{"$f":"IF(J31=1,\"●\",\"\")","v":"●"},{"$f":"IF(K31=1,\"●\",\"\")","v":""},{"$f":"IF(L31=1,\"●\",\"\")","v":""},{"$f":"IF(M31=1,\"●\",\"\")","v":""},{"$f":"IF(N31=1,\"●\",\"\")","v":""},{"$f":"IF(O31=1,\"●\",\"\")","v":""},{"$f":"IF(P31=1,\"●\",\"\")","v":"●"},{"$f":"IF(Q31=1,\"●\",\"\")","v":""},{"$f":"IF(R31=1,\"●\",\"\")","v":"●"},{"$f":"IF(S31=1,\"●\",\"\")","v":""},{"$f":"IF(T31=1,\"●\",\"\")","v":"●"},{"$f":"IF(U31=1,\"●\",\"\")","v":""},{"$f":"IF(V31=1,\"●\",\"\")","v":""},{"$f":"IF(W31=1,\"●\",\"\")","v":""},{"$f":"IF(X31=1,\"●\",\"\")","v":""},{"$f":"IF(Y31=1,\"●\",\"\")","v":""},{"$f":"IF(Z31=1,\"●\",\"\")","v":""},{"$f":"IF(AA31=1,\"●\",\"\")","v":""},{"$f":"IF(AB31=1,\"●\",\"\")","v":""}]
[]
[]
[null,null,null,null,"カ",1311,"トツートト","加盟する（かめーする）",null,1,null,3,3,3,null,1,null,1,null,null,null,null,null,null,null,null,null,null,{"$f":"COUNTA(J34:AB36)+LEN(F34)-1","v":9},null,null,null,null,null,null,null,null,null,{"$f":"IF(I34=1,\"●\",\"\")","v":""},{"$f":"IF(J34=1,\"●\",\"\")","v":"●"},{"$f":"IF(K34=1,\"●\",\"\")","v":""},{"$f":"IF(L34=1,\"●\",\"\")","v":""},{"$f":"IF(M34=1,\"●\",\"\")","v":""},{"$f":"IF(N34=1,\"●\",\"\")","v":""},{"$f":"IF(O34=1,\"●\",\"\")","v":""},{"$f":"IF(P34=1,\"●\",\"\")","v":"●"},{"$f":"IF(Q34=1,\"●\",\"\")","v":""},{"$f":"IF(R34=1,\"●\",\"\")","v":"●"},{"$f":"IF(S34=1,\"●\",\"\")","v":""},{"$f":"IF(T34=1,\"●\",\"\")","v":""},{"$f":"IF(U34=1,\"●\",\"\")","v":""},{"$f":"IF(V34=1,\"●\",\"\")","v":""},{"$f":"IF(W34=1,\"●\",\"\")","v":""},{"$f":"IF(X34=1,\"●\",\"\")","v":""},{"$f":"IF(Y34=1,\"●\",\"\")","v":""},{"$f":"IF(Z34=1,\"●\",\"\")","v":""},{"$f":"IF(AA34=1,\"●\",\"\")","v":""},{"$f":"IF(AB34=1,\"●\",\"\")","v":""}]
[]
[]
[null,null,null,null,"キ",31311,"ツートツートト","聞いて報告（きーてほーこく）",null,3,3,3,null,1,null,3,3,3,null,1,null,1,null,null,null,null,null,null,{"$f":"COUNTA(J37:AB39)+LEN(F37)-1","v":13},null,null,null,null,null,null,null,null,null,{"$f":"IF(I37=1,\"●\",\"\")","v":""},{"$f":"IF(J37=1,\"●\",\"\")","v":""},{"$f":"IF(K37=1,\"●\",\"\")","v":""},{"$f":"IF(L37=1,\"●\",\"\")","v":""},{"$f":"IF(M37=1,\"●\",\"\")","v":""},{"$f":"IF(N37=1,\"●\",\"\")","v":"●"},{"$f":"IF(O37=1,\"●\",\"\")","v":""},{"$f":"IF(P37=1,\"●\",\"\")","v":""},{"$f":"IF(Q37=1,\"●\",\"\")","v":""},{"$f":"IF(R37=1,\"●\",\"\")","v":""},{"$f":"IF(S37=1,\"●\",\"\")","v":""},{"$f":"IF(T37=1,\"●\",\"\")","v":"●"},{"$f":"IF(U37=1,\"●\",\"\")","v":""},{"$f":"IF(V37=1,\"●\",\"\")","v":"●"},{"$f":"IF(W37=1,\"●\",\"\")","v":""},{"$f":"IF(X37=1,\"●\",\"\")","v":""},{"$f":"IF(Y37=1,\"●\",\"\")","v":""},{"$f":"IF(Z37=1,\"●\",\"\")","v":""},{"$f":"IF(AA37=1,\"●\",\"\")","v":""},{"$f":"IF(AB37=1,\"●\",\"\")","v":""}]
[]
[]
[null,null,null,null,"ク",1113,"トトトツー","苦しそう（くるしそー）",null,1,null,1,null,1,null,3,3,3,null,null,null,null,null,null,null,null,null,null,{"$f":"COUNTA(J40:AB42)+LEN(F40)-1","v":9},null,null,null,null,null,null,null,null,null,{"$f":"IF(I40=1,\"●\",\"\")","v":""},{"$f":"IF(J40=1,\"●\",\"\")","v":"●"},{"$f":"IF(K40=1,\"●\",\"\")","v":""},{"$f":"IF(L40=1,\"●\",\"\")","v":"●"},{"$f":"IF(M40=1,\"●\",\"\")","v":""},{"$f":"IF(N40=1,\"●\",\"\")","v":"●"},{"$f":"IF(O40=1,\"●\",\"\")","v":""},{"$f":"IF(P40=1,\"●\",\"\")","v":""},{"$f":"IF(Q40=1,\"●\",\"\")","v":""},{"$f":"IF(R40=1,\"●\",\"\")","v":""},{"$f":"IF(S40=1,\"●\",\"\")","v":""},{"$f":"IF(T40=1,\"●\",\"\")","v":""},{"$f":"IF(U40=1,\"●\",\"\")","v":""},{"$f":"IF(V40=1,\"●\",\"\")","v":""},{"$f":"IF(W40=1,\"●\",\"\")","v":""},{"$f":"IF(X40=1,\"●\",\"\")","v":""},{"$f":"IF(Y40=1,\"●\",\"\")","v":""},{"$f":"IF(Z40=1,\"●\",\"\")","v":""},{"$f":"IF(AA40=1,\"●\",\"\")","v":""},{"$f":"IF(AB40=1,\"●\",\"\")","v":""}]
[]
[]
[null,null,null,null,"ケ",3133,"ツートツーツー","経過良好（けーかりょーこー）",null,3,3,3,null,1,null,3,3,3,null,3,3,3,null,null,null,null,null,null,{"$f":"COUNTA(J43:AB45)+LEN(F43)-1","v":13},null,null,null,null,null,null,null,null,null,{"$f":"IF(I43=1,\"●\",\"\")","v":""},{"$f":"IF(J43=1,\"●\",\"\")","v":""},{"$f":"IF(K43=1,\"●\",\"\")","v":""},{"$f":"IF(L43=1,\"●\",\"\")","v":""},{"$f":"IF(M43=1,\"●\",\"\")","v":""},{"$f":"IF(N43=1,\"●\",\"\")","v":"●"},{"$f":"IF(O43=1,\"●\",\"\")","v":""},{"$f":"IF(P43=1,\"●\",\"\")","v":""},{"$f":"IF(Q43=1,\"●\",\"\")","v":""},{"$f":"IF(R43=1,\"●\",\"\")","v":""},{"$f":"IF(S43=1,\"●\",\"\")","v":""},{"$f":"IF(T43=1,\"●\",\"\")","v":""},{"$f":"IF(U43=1,\"●\",\"\")","v":""},{"$f":"IF(V43=1,\"●\",\"\")","v":""},{"$f":"IF(W43=1,\"●\",\"\")","v":""},{"$f":"IF(X43=1,\"●\",\"\")","v":""},{"$f":"IF(Y43=1,\"●\",\"\")","v":""},{"$f":"IF(Z43=1,\"●\",\"\")","v":""},{"$f":"IF(AA43=1,\"●\",\"\")","v":""},{"$f":"IF(AB43=1,\"●\",\"\")","v":""}]
[]
[]
[null,null,null,null,"コ",3333,"ツーツーツーツー","工業高校（こーぎょーこーこー）",null,3,3,3,null,3,3,3,null,3,3,3,null,3,3,3,null,null,null,null,{"$f":"COUNTA(J46:AB48)+LEN(F46)-1","v":15},null,null,null,null,null,null,null,null,null,{"$f":"IF(I46=1,\"●\",\"\")","v":""},{"$f":"IF(J46=1,\"●\",\"\")","v":""},{"$f":"IF(K46=1,\"●\",\"\")","v":""},{"$f":"IF(L46=1,\"●\",\"\")","v":""},{"$f":"IF(M46=1,\"●\",\"\")","v":""},{"$f":"IF(N46=1,\"●\",\"\")","v":""},{"$f":"IF(O46=1,\"●\",\"\")","v":""},{"$f":"IF(P46=1,\"●\",\"\")","v":""},{"$f":"IF(Q46=1,\"●\",\"\")","v":""},{"$f":"IF(R46=1,\"●\",\"\")","v":""},{"$f":"IF(S46=1,\"●\",\"\")","v":""},{"$f":"IF(T46=1,\"●\",\"\")","v":""},{"$f":"IF(U46=1,\"●\",\"\")","v":""},{"$f":"IF(V46=1,\"●\",\"\")","v":""},{"$f":"IF(W46=1,\"●\",\"\")","v":""},{"$f":"IF(X46=1,\"●\",\"\")","v":""},{"$f":"IF(Y46=1,\"●\",\"\")","v":""},{"$f":"IF(Z46=1,\"●\",\"\")","v":""},{"$f":"IF(AA46=1,\"●\",\"\")","v":""},{"$f":"IF(AB46=1,\"●\",\"\")","v":""}]
[]
[]
[null,null,null,null,"サ",31313,"ツートツートツー","さー行こう行こう（さーいこーいこー）",null,3,3,3,null,1,null,3,3,3,null,1,null,3,3,3,null,null,null,null,{"$f":"COUNTA(J49:AB51)+LEN(F49)-1","v":15},null,null,null,null,null,null,null,null,null,{"$f":"IF(I49=1,\"●\",\"\")","v":""},{"$f":"IF(J49=1,\"●\",\"\")","v":""},{"$f":"IF(K49=1,\"●\",\"\")","v":""},{"$f":"IF(L49=1,\"●\",\"\")","v":""},{"$f":"IF(M49=1,\"●\",\"\")","v":""},{"$f":"IF(N49=1,\"●\",\"\")","v":"●"},{"$f":"IF(O49=1,\"●\",\"\")","v":""},{"$f":"IF(P49=1,\"●\",\"\")","v":""},{"$f":"IF(Q49=1,\"●\",\"\")","v":""},{"$f":"IF(R49=1,\"●\",\"\")","v":""},{"$f":"IF(S49=1,\"●\",\"\")","v":""},{"$f":"IF(T49=1,\"●\",\"\")","v":"●"},{"$f":"IF(U49=1,\"●\",\"\")","v":""},{"$f":"IF(V49=1,\"●\",\"\")","v":""},{"$f":"IF(W49=1,\"●\",\"\")","v":""},{"$f":"IF(X49=1,\"●\",\"\")","v":""},{"$f":"IF(Y49=1,\"●\",\"\")","v":""},{"$f":"IF(Z49=1,\"●\",\"\")","v":""},{"$f":"IF(AA49=1,\"●\",\"\")","v":""},{"$f":"IF(AB49=1,\"●\",\"\")","v":""}]
[]
[]
[null,null,null,null,"シ",33131,"ツーツートツート","少々不名誉（しょーしょーふめーよ）",null,3,3,3,null,3,3,3,null,1,null,3,3,3,null,1,null,null,null,null,{"$f":"COUNTA(J52:AB54)+LEN(F52)-1","v":15},null,null,null,null,null,null,null,null,null,{"$f":"IF(I52=1,\"●\",\"\")","v":""},{"$f":"IF(J52=1,\"●\",\"\")","v":""},{"$f":"IF(K52=1,\"●\",\"\")","v":""},{"$f":"IF(L52=1,\"●\",\"\")","v":""},{"$f":"IF(M52=1,\"●\",\"\")","v":""},{"$f":"IF(N52=1,\"●\",\"\")","v":""},{"$f":"IF(O52=1,\"●\",\"\")","v":""},{"$f":"IF(P52=1,\"●\",\"\")","v":""},{"$f":"IF(Q52=1,\"●\",\"\")","v":""},{"$f":"IF(R52=1,\"●\",\"\")","v":"●"},{"$f":"IF(S52=1,\"●\",\"\")","v":""},{"$f":"IF(T52=1,\"●\",\"\")","v":""},{"$f":"IF(U52=1,\"●\",\"\")","v":""},{"$f":"IF(V52=1,\"●\",\"\")","v":""},{"$f":"IF(W52=1,\"●\",\"\")","v":""},{"$f":"IF(X52=1,\"●\",\"\")","v":"●"},{"$f":"IF(Y52=1,\"●\",\"\")","v":""},{"$f":"IF(Z52=1,\"●\",\"\")","v":""},{"$f":"IF(AA52=1,\"●\",\"\")","v":""},{"$f":"IF(AB52=1,\"●\",\"\")","v":""}]
[]
[]
[null,null,null,null,"ス",33313,"ツーツーツートツー","数量調査中（すーりょーちょーさちゅー）",null,3,3,3,null,3,3,3,null,3,3,3,null,1,null,3,3,3,null,null,{"$f":"COUNTA(J55:AB57)+LEN(F55)-1","v":17},null,null,null,null,null,null,null,null,null,{"$f":"IF(I55=1,\"●\",\"\")","v":""},{"$f":"IF(J55=1,\"●\",\"\")","v":""},{"$f":"IF(K55=1,\"●\",\"\")","v":""},{"$f":"IF(L55=1,\"●\",\"\")","v":""},{"$f":"IF(M55=1,\"●\",\"\")","v":""},{"$f":"IF(N55=1,\"●\",\"\")","v":""},{"$f":"IF(O55=1,\"●\",\"\")","v":""},{"$f":"IF(P55=1,\"●\",\"\")","v":""},{"$f":"IF(Q55=1,\"●\",\"\")","v":""},{"$f":"IF(R55=1,\"●\",\"\")","v":""},{"$f":"IF(S55=1,\"●\",\"\")","v":""},{"$f":"IF(T55=1,\"●\",\"\")","v":""},{"$f":"IF(U55=1,\"●\",\"\")","v":""},{"$f":"IF(V55=1,\"●\",\"\")","v":"●"},{"$f":"IF(W55=1,\"●\",\"\")","v":""},{"$f":"IF(X55=1,\"●\",\"\")","v":""},{"$f":"IF(Y55=1,\"●\",\"\")","v":""},{"$f":"IF(Z55=1,\"●\",\"\")","v":""},{"$f":"IF(AA55=1,\"●\",\"\")","v":""},{"$f":"IF(AB55=1,\"●\",\"\")","v":""}]
[]
[]
[null,null,null,null,"セ",13331,"トツーツーツート","世評良好だ（せひょーりょーこーだ）",null,1,null,3,3,3,null,3,3,3,null,3,3,3,null,1,null,null,null,null,{"$f":"COUNTA(J58:AB60)+LEN(F58)-1","v":15},null,null,null,null,null,null,null,null,null,{"$f":"IF(I58=1,\"●\",\"\")","v":""},{"$f":"IF(J58=1,\"●\",\"\")","v":"●"},{"$f":"IF(K58=1,\"●\",\"\")","v":""},{"$f":"IF(L58=1,\"●\",\"\")","v":""},{"$f":"IF(M58=1,\"●\",\"\")","v":""},{"$f":"IF(N58=1,\"●\",\"\")","v":""},{"$f":"IF(O58=1,\"●\",\"\")","v":""},{"$f":"IF(P58=1,\"●\",\"\")","v":""},{"$f":"IF(Q58=1,\"●\",\"\")","v":""},{"$f":"IF(R58=1,\"●\",\"\")","v":""},{"$f":"IF(S58=1,\"●\",\"\")","v":""},{"$f":"IF(T58=1,\"●\",\"\")","v":""},{"$f":"IF(U58=1,\"●\",\"\")","v":""},{"$f":"IF(V58=1,\"●\",\"\")","v":""},{"$f":"IF(W58=1,\"●\",\"\")","v":""},{"$f":"IF(X58=1,\"●\",\"\")","v":"●"},{"$f":"IF(Y58=1,\"●\",\"\")","v":""},{"$f":"IF(Z58=1,\"●\",\"\")","v":""},{"$f":"IF(AA58=1,\"●\",\"\")","v":""},{"$f":"IF(AB58=1,\"●\",\"\")","v":""}]
[]
[]
[null,null,null,null,"ソ",3331,"ツーツーツート","相当高価（そーとーこーか）",null,3,3,3,null,3,3,3,null,3,3,3,null,1,null,null,null,null,null,null,{"$f":"COUNTA(J61:AB63)+LEN(F61)-1","v":13},null,null,null,null,null,null,null,null,null,{"$f":"IF(I61=1,\"●\",\"\")","v":""},{"$f":"IF(J61=1,\"●\",\"\")","v":""},{"$f":"IF(K61=1,\"●\",\"\")","v":""},{"$f":"IF(L61=1,\"●\",\"\")","v":""},{"$f":"IF(M61=1,\"●\",\"\")","v":""},{"$f":"IF(N61=1,\"●\",\"\")","v":""},{"$f":"IF(O61=1,\"●\",\"\")","v":""},{"$f":"IF(P61=1,\"●\",\"\")","v":""},{"$f":"IF(Q61=1,\"●\",\"\")","v":""},{"$f":"IF(R61=1,\"●\",\"\")","v":""},{"$f":"IF(S61=1,\"●\",\"\")","v":""},{"$f":"IF(T61=1,\"●\",\"\")","v":""},{"$f":"IF(U61=1,\"●\",\"\")","v":""},{"$f":"IF(V61=1,\"●\",\"\")","v":"●"},{"$f":"IF(W61=1,\"●\",\"\")","v":""},{"$f":"IF(X61=1,\"●\",\"\")","v":""},{"$f":"IF(Y61=1,\"●\",\"\")","v":""},{"$f":"IF(Z61=1,\"●\",\"\")","v":""},{"$f":"IF(AA61=1,\"●\",\"\")","v":""},{"$f":"IF(AB61=1,\"●\",\"\")","v":""}]
[]
[]
[null,null,null,null,"タ",31,"ツート","タール（たーる）",null,3,3,3,null,1,null,null,null,null,null,null,null,null,null,null,null,null,null,null,{"$f":"COUNTA(J64:AB66)+LEN(F64)-1","v":5},null,null,null,null,null,null,null,null,null,{"$f":"IF(I64=1,\"●\",\"\")","v":""},{"$f":"IF(J64=1,\"●\",\"\")","v":""},{"$f":"IF(K64=1,\"●\",\"\")","v":""},{"$f":"IF(L64=1,\"●\",\"\")","v":""},{"$f":"IF(M64=1,\"●\",\"\")","v":""},{"$f":"IF(N64=1,\"●\",\"\")","v":"●"},{"$f":"IF(O64=1,\"●\",\"\")","v":""},{"$f":"IF(P64=1,\"●\",\"\")","v":""},{"$f":"IF(Q64=1,\"●\",\"\")","v":""},{"$f":"IF(R64=1,\"●\",\"\")","v":""},{"$f":"IF(S64=1,\"●\",\"\")","v":""},{"$f":"IF(T64=1,\"●\",\"\")","v":""},{"$f":"IF(U64=1,\"●\",\"\")","v":""},{"$f":"IF(V64=1,\"●\",\"\")","v":""},{"$f":"IF(W64=1,\"●\",\"\")","v":""},{"$f":"IF(X64=1,\"●\",\"\")","v":""},{"$f":"IF(Y64=1,\"●\",\"\")","v":""},{"$f":"IF(Z64=1,\"●\",\"\")","v":""},{"$f":"IF(AA64=1,\"●\",\"\")","v":""},{"$f":"IF(AB64=1,\"●\",\"\")","v":""}]
[]
[]
[null,null,null,null,"チ",1131,"トトツート","塵多し（ちりおーし）",null,1,null,1,null,3,3,3,null,1,null,null,null,null,null,null,null,null,null,null,{"$f":"COUNTA(J67:AB69)+LEN(F67)-1","v":9},null,null,null,null,null,null,null,null,null,{"$f":"IF(I67=1,\"●\",\"\")","v":""},{"$f":"IF(J67=1,\"●\",\"\")","v":"●"},{"$f":"IF(K67=1,\"●\",\"\")","v":""},{"$f":"IF(L67=1,\"●\",\"\")","v":"●"},{"$f":"IF(M67=1,\"●\",\"\")","v":""},{"$f":"IF(N67=1,\"●\",\"\")","v":""},{"$f":"IF(O67=1,\"●\",\"\")","v":""},{"$f":"IF(P67=1,\"●\",\"\")","v":""},{"$f":"IF(Q67=1,\"●\",\"\")","v":""},{"$f":"IF(R67=1,\"●\",\"\")","v":"●"},{"$f":"IF(S67=1,\"●\",\"\")","v":""},{"$f":"IF(T67=1,\"●\",\"\")","v":""},{"$f":"IF(U67=1,\"●\",\"\")","v":""},{"$f":"IF(V67=1,\"●\",\"\")","v":""},{"$f":"IF(W67=1,\"●\",\"\")","v":""},{"$f":"IF(X67=1,\"●\",\"\")","v":""},{"$f":"IF(Y67=1,\"●\",\"\")","v":""},{"$f":"IF(Z67=1,\"●\",\"\")","v":""},{"$f":"IF(AA67=1,\"●\",\"\")","v":""},{"$f":"IF(AB67=1,\"●\",\"\")","v":""}]
[]
[]
[null,null,null,null,"ツ",1331,"トツーツート","都合通知（つごーつーち）",null,1,null,3,3,3,null,3,3,3,null,1,null,null,null,null,null,null,null,null,{"$f":"COUNTA(J70:AB72)+LEN(F70)-1","v":11},null,null,null,null,null,null,null,null,null,{"$f":"IF(I70=1,\"●\",\"\")","v":""},{"$f":"IF(J70=1,\"●\",\"\")","v":"●"},{"$f":"IF(K70=1,\"●\",\"\")","v":""},{"$f":"IF(L70=1,\"●\",\"\")","v":""},{"$f":"IF(M70=1,\"●\",\"\")","v":""},{"$f":"IF(N70=1,\"●\",\"\")","v":""},{"$f":"IF(O70=1,\"●\",\"\")","v":""},{"$f":"IF(P70=1,\"●\",\"\")","v":""},{"$f":"IF(Q70=1,\"●\",\"\")","v":""},{"$f":"IF(R70=1,\"●\",\"\")","v":""},{"$f":"IF(S70=1,\"●\",\"\")","v":""},{"$f":"IF(T70=1,\"●\",\"\")","v":"●"},{"$f":"IF(U70=1,\"●\",\"\")","v":""},{"$f":"IF(V70=1,\"●\",\"\")","v":""},{"$f":"IF(W70=1,\"●\",\"\")","v":""},{"$f":"IF(X70=1,\"●\",\"\")","v":""},{"$f":"IF(Y70=1,\"●\",\"\")","v":""},{"$f":"IF(Z70=1,\"●\",\"\")","v":""},{"$f":"IF(AA70=1,\"●\",\"\")","v":""},{"$f":"IF(AB70=1,\"●\",\"\")","v":""}]
[]
[]
[null,null,null,null,"ッ",1331,"トツーツート","都合通知（つごーつーち）",null,1,null,3,3,3,null,3,3,3,null,1,null,null,null,null,null,null,null,null,{"$f":"COUNTA(J73:AB75)+LEN(F73)-1","v":11},null,null,null,null,null,null,null,null,null,{"$f":"IF(I73=1,\"●\",\"\")","v":""},{"$f":"IF(J73=1,\"●\",\"\")","v":"●"},{"$f":"IF(K73=1,\"●\",\"\")","v":""},{"$f":"IF(L73=1,\"●\",\"\")","v":""},{"$f":"IF(M73=1,\"●\",\"\")","v":""},{"$f":"IF(N73=1,\"●\",\"\")","v":""},{"$f":"IF(O73=1,\"●\",\"\")","v":""},{"$f":"IF(P73=1,\"●\",\"\")","v":""},{"$f":"IF(Q73=1,\"●\",\"\")","v":""},{"$f":"IF(R73=1,\"●\",\"\")","v":""},{"$f":"IF(S73=1,\"●\",\"\")","v":""},{"$f":"IF(T73=1,\"●\",\"\")","v":"●"},{"$f":"IF(U73=1,\"●\",\"\")","v":""},{"$f":"IF(V73=1,\"●\",\"\")","v":""},{"$f":"IF(W73=1,\"●\",\"\")","v":""},{"$f":"IF(X73=1,\"●\",\"\")","v":""},{"$f":"IF(Y73=1,\"●\",\"\")","v":""},{"$f":"IF(Z73=1,\"●\",\"\")","v":""},{"$f":"IF(AA73=1,\"●\",\"\")","v":""},{"$f":"IF(AB73=1,\"●\",\"\")","v":""}]
[]
[]
[null,null,null,null,"テ",13133,"トツートツーツー","手数な方法（てすーなほーほー）",null,1,null,3,3,3,null,1,null,3,3,3,null,3,3,3,null,null,null,null,{"$f":"COUNTA(J76:AB78)+LEN(F76)-1","v":15},null,null,null,null,null,null,null,null,null,{"$f":"IF(I76=1,\"●\",\"\")","v":""},{"$f":"IF(J76=1,\"●\",\"\")","v":"●"},{"$f":"IF(K76=1,\"●\",\"\")","v":""},{"$f":"IF(L76=1,\"●\",\"\")","v":""},{"$f":"IF(M76=1,\"●\",\"\")","v":""},{"$f":"IF(N76=1,\"●\",\"\")","v":""},{"$f":"IF(O76=1,\"●\",\"\")","v":""},{"$f":"IF(P76=1,\"●\",\"\")","v":"●"},{"$f":"IF(Q76=1,\"●\",\"\")","v":""},{"$f":"IF(R76=1,\"●\",\"\")","v":""},{"$f":"IF(S76=1,\"●\",\"\")","v":""},{"$f":"IF(T76=1,\"●\",\"\")","v":""},{"$f":"IF(U76=1,\"●\",\"\")","v":""},{"$f":"IF(V76=1,\"●\",\"\")","v":""},{"$f":"IF(W76=1,\"●\",\"\")","v":""},{"$f":"IF(X76=1,\"●\",\"\")","v":""},{"$f":"IF(Y76=1,\"●\",\"\")","v":""},{"$f":"IF(Z76=1,\"●\",\"\")","v":""},{"$f":"IF(AA76=1,\"●\",\"\")","v":""},{"$f":"IF(AB76=1,\"●\",\"\")","v":""}]
[]
[]
[null,null,null,null,"ト",11311,"トトツートト","特等席（とくとーせき）",null,1,null,1,null,3,3,3,null,1,null,1,null,null,null,null,null,null,null,null,{"$f":"COUNTA(J79:AB81)+LEN(F79)-1","v":11},null,null,null,null,null,null,null,null,null,{"$f":"IF(I79=1,\"●\",\"\")","v":""},{"$f":"IF(J79=1,\"●\",\"\")","v":"●"},{"$f":"IF(K79=1,\"●\",\"\")","v":""},{"$f":"IF(L79=1,\"●\",\"\")","v":"●"},{"$f":"IF(M79=1,\"●\",\"\")","v":""},{"$f":"IF(N79=1,\"●\",\"\")","v":""},{"$f":"IF(O79=1,\"●\",\"\")","v":""},{"$f":"IF(P79=1,\"●\",\"\")","v":""},{"$f":"IF(Q79=1,\"●\",\"\")","v":""},{"$f":"IF(R79=1,\"●\",\"\")","v":"●"},{"$f":"IF(S79=1,\"●\",\"\")","v":""},{"$f":"IF(T79=1,\"●\",\"\")","v":"●"},{"$f":"IF(U79=1,\"●\",\"\")","v":""},{"$f":"IF(V79=1,\"●\",\"\")","v":""},{"$f":"IF(W79=1,\"●\",\"\")","v":""},{"$f":"IF(X79=1,\"●\",\"\")","v":""},{"$f":"IF(Y79=1,\"●\",\"\")","v":""},{"$f":"IF(Z79=1,\"●\",\"\")","v":""},{"$f":"IF(AA79=1,\"●\",\"\")","v":""},{"$f":"IF(AB79=1,\"●\",\"\")","v":""}]
[]
[]
[null,null,null,null,"ナ",131,"トツート","仲人（なこーど）",null,1,null,3,3,3,null,1,null,null,null,null,null,null,null,null,null,null,null,null,{"$f":"COUNTA(J82:AB84)+LEN(F82)-1","v":7},null,null,null,null,null,null,null,null,null,{"$f":"IF(I82=1,\"●\",\"\")","v":""},{"$f":"IF(J82=1,\"●\",\"\")","v":"●"},{"$f":"IF(K82=1,\"●\",\"\")","v":""},{"$f":"IF(L82=1,\"●\",\"\")","v":""},{"$f":"IF(M82=1,\"●\",\"\")","v":""},{"$f":"IF(N82=1,\"●\",\"\")","v":""},{"$f":"IF(O82=1,\"●\",\"\")","v":""},{"$f":"IF(P82=1,\"●\",\"\")","v":"●"},{"$f":"IF(Q82=1,\"●\",\"\")","v":""},{"$f":"IF(R82=1,\"●\",\"\")","v":""},{"$f":"IF(S82=1,\"●\",\"\")","v":""},{"$f":"IF(T82=1,\"●\",\"\")","v":""},{"$f":"IF(U82=1,\"●\",\"\")","v":""},{"$f":"IF(V82=1,\"●\",\"\")","v":""},{"$f":"IF(W82=1,\"●\",\"\")","v":""},{"$f":"IF(X82=1,\"●\",\"\")","v":""},{"$f":"IF(Y82=1,\"●\",\"\")","v":""},{"$f":"IF(Z82=1,\"●\",\"\")","v":""},{"$f":"IF(AA82=1,\"●\",\"\")","v":""},{"$f":"IF(AB82=1,\"●\",\"\")","v":""}]
[]
[]
[null,null,null,null,"ニ",3131,"ツートツート","入費超過（にゅーひちょーか）",null,3,3,3,null,1,null,3,3,3,null,1,null,null,null,null,null,null,null,null,{"$f":"COUNTA(J85:AB87)+LEN(F85)-1","v":11},null,null,null,null,null,null,null,null,null,{"$f":"IF(I85=1,\"●\",\"\")","v":""},{"$f":"IF(J85=1,\"●\",\"\")","v":""},{"$f":"IF(K85=1,\"●\",\"\")","v":""},{"$f":"IF(L85=1,\"●\",\"\")","v":""},{"$f":"IF(M85=1,\"●\",\"\")","v":""},{"$f":"IF(N85=1,\"●\",\"\")","v":"●"},{"$f":"IF(O85=1,\"●\",\"\")","v":""},{"$f":"IF(P85=1,\"●\",\"\")","v":""},{"$f":"IF(Q85=1,\"●\",\"\")","v":""},{"$f":"IF(R85=1,\"●\",\"\")","v":""},{"$f":"IF(S85=1,\"●\",\"\")","v":""},{"$f":"IF(T85=1,\"●\",\"\")","v":"●"},{"$f":"IF(U85=1,\"●\",\"\")","v":""},{"$f":"IF(V85=1,\"●\",\"\")","v":""},{"$f":"IF(W85=1,\"●\",\"\")","v":""},{"$f":"IF(X85=1,\"●\",\"\")","v":""},{"$f":"IF(Y85=1,\"●\",\"\")","v":""},{"$f":"IF(Z85=1,\"●\",\"\")","v":""},{"$f":"IF(AA85=1,\"●\",\"\")","v":""},{"$f":"IF(AB85=1,\"●\",\"\")","v":""}]
[]
[]
[null,null,null,null,"ヌ",1111,"トトトト","塗り物（ぬりもの）",null,1,null,1,null,1,null,1,null,null,null,null,null,null,null,null,null,null,null,null,{"$f":"COUNTA(J88:AB90)+LEN(F88)-1","v":7},null,null,null,null,null,null,null,null,null,{"$f":"IF(I88=1,\"●\",\"\")","v":""},{"$f":"IF(J88=1,\"●\",\"\")","v":"●"},{"$f":"IF(K88=1,\"●\",\"\")","v":""},{"$f":"IF(L88=1,\"●\",\"\")","v":"●"},{"$f":"IF(M88=1,\"●\",\"\")","v":""},{"$f":"IF(N88=1,\"●\",\"\")","v":"●"},{"$f":"IF(O88=1,\"●\",\"\")","v":""},{"$f":"IF(P88=1,\"●\",\"\")","v":"●"},{"$f":"IF(Q88=1,\"●\",\"\")","v":""},{"$f":"IF(R88=1,\"●\",\"\")","v":""},{"$f":"IF(S88=1,\"●\",\"\")","v":""},{"$f":"IF(T88=1,\"●\",\"\")","v":""},{"$f":"IF(U88=1,\"●\",\"\")","v":""},{"$f":"IF(V88=1,\"●\",\"\")","v":""},{"$f":"IF(W88=1,\"●\",\"\")","v":""},{"$f":"IF(X88=1,\"●\",\"\")","v":""},{"$f":"IF(Y88=1,\"●\",\"\")","v":""},{"$f":"IF(Z88=1,\"●\",\"\")","v":""},{"$f":"IF(AA88=1,\"●\",\"\")","v":""},{"$f":"IF(AB88=1,\"●\",\"\")","v":""}]
[]
[]
[null,null,null,null,"ネ",3313,"ツーツートツー","ネーネー行こう（ねーねーいこー）",null,3,3,3,null,3,3,3,null,1,null,3,3,3,null,null,null,null,null,null,{"$f":"COUNTA(J91:AB93)+LEN(F91)-1","v":13},null,null,null,null,null,null,null,null,null,{"$f":"IF(I91=1,\"●\",\"\")","v":""},{"$f":"IF(J91=1,\"●\",\"\")","v":""},{"$f":"IF(K91=1,\"●\",\"\")","v":""},{"$f":"IF(L91=1,\"●\",\"\")","v":""},{"$f":"IF(M91=1,\"●\",\"\")","v":""},{"$f":"IF(N91=1,\"●\",\"\")","v":""},{"$f":"IF(O91=1,\"●\",\"\")","v":""},{"$f":"IF(P91=1,\"●\",\"\")","v":""},{"$f":"IF(Q91=1,\"●\",\"\")","v":""},{"$f":"IF(R91=1,\"●\",\"\")","v":"●"},{"$f":"IF(S91=1,\"●\",\"\")","v":""},{"$f":"IF(T91=1,\"●\",\"\")","v":""},{"$f":"IF(U91=1,\"●\",\"\")","v":""},{"$f":"IF(V91=1,\"●\",\"\")","v":""},{"$f":"IF(W91=1,\"●\",\"\")","v":""},{"$f":"IF(X91=1,\"●\",\"\")","v":""},{"$f":"IF(Y91=1,\"●\",\"\")","v":""},{"$f":"IF(Z91=1,\"●\",\"\")","v":""},{"$f":"IF(AA91=1,\"●\",\"\")","v":""},{"$f":"IF(AB91=1,\"●\",\"\")","v":""}]
[]
[]
[null,null,null,null,"ノ",1133,"トトツーツー","乃木東郷（のぎとーごー）",null,1,null,1,null,3,3,3,null,3,3,3,null,null,null,null,null,null,null,null,{"$f":"COUNTA(J94:AB96)+LEN(F94)-1","v":11},null,null,null,null,null,null,null,null,null,{"$f":"IF(I94=1,\"●\",\"\")","v":""},{"$f":"IF(J94=1,\"●\",\"\")","v":"●"},{"$f":"IF(K94=1,\"●\",\"\")","v":""},{"$f":"IF(L94=1,\"●\",\"\")","v":"●"},{"$f":"IF(M94=1,\"●\",\"\")","v":""},{"$f":"IF(N94=1,\"●\",\"\")","v":""},{"$f":"IF(O94=1,\"●\",\"\")","v":""},{"$f":"IF(P94=1,\"●\",\"\")","v":""},{"$f":"IF(Q94=1,\"●\",\"\")","v":""},{"$f":"IF(R94=1,\"●\",\"\")","v":""},{"$f":"IF(S94=1,\"●\",\"\")","v":""},{"$f":"IF(T94=1,\"●\",\"\")","v":""},{"$f":"IF(U94=1,\"●\",\"\")","v":""},{"$f":"IF(V94=1,\"●\",\"\")","v":""},{"$f":"IF(W94=1,\"●\",\"\")","v":""},{"$f":"IF(X94=1,\"●\",\"\")","v":""},{"$f":"IF(Y94=1,\"●\",\"\")","v":""},{"$f":"IF(Z94=1,\"●\",\"\")","v":""},{"$f":"IF(AA94=1,\"●\",\"\")","v":""},{"$f":"IF(AB94=1,\"●\",\"\")","v":""}]
[]
[]
[null,null,null,null,"ハ",3111,"ツートトト","ハーモニカ（はーもにか）",null,3,3,3,null,1,null,1,null,1,null,null,null,null,null,null,null,null,null,null,{"$f":"COUNTA(J97:AB99)+LEN(F97)-1","v":9},null,null,null,null,null,null,null,null,null,{"$f":"IF(I97=1,\"●\",\"\")","v":""},{"$f":"IF(J97=1,\"●\",\"\")","v":""},{"$f":"IF(K97=1,\"●\",\"\")","v":""},{"$f":"IF(L97=1,\"●\",\"\")","v":""},{"$f":"IF(M97=1,\"●\",\"\")","v":""},{"$f":"IF(N97=1,\"●\",\"\")","v":"●"},{"$f":"IF(O97=1,\"●\",\"\")","v":""},{"$f":"IF(P97=1,\"●\",\"\")","v":"●"},{"$f":"IF(Q97=1,\"●\",\"\")","v":""},{"$f":"IF(R97=1,\"●\",\"\")","v":"●"},{"$f":"IF(S97=1,\"●\",\"\")","v":""},{"$f":"IF(T97=1,\"●\",\"\")","v":""},{"$f":"IF(U97=1,\"●\",\"\")","v":""},{"$f":"IF(V97=1,\"●\",\"\")","v":""},{"$f":"IF(W97=1,\"●\",\"\")","v":""},{"$f":"IF(X97=1,\"●\",\"\")","v":""},{"$f":"IF(Y97=1,\"●\",\"\")","v":""},{"$f":"IF(Z97=1,\"●\",\"\")","v":""},{"$f":"IF(AA97=1,\"●\",\"\")","v":""},{"$f":"IF(AB97=1,\"●\",\"\")","v":""}]
[]
[]
[null,null,null,null,"ヒ",33113,"ツーツートトツー","兵糧欠乏（ひょーろーけつぼー）",null,3,3,3,null,3,3,3,null,1,null,1,null,3,3,3,null,null,null,null,{"$f":"COUNTA(J100:AB102)+LEN(F100)-1","v":15},null,null,null,null,null,null,null,null,null,{"$f":"IF(I100=1,\"●\",\"\")","v":""},{"$f":"IF(J100=1,\"●\",\"\")","v":""},"","","","","","","","●","","●","","","","","","","","",null,null,{"$f":"IF(AC100=1,\"●\",\"\")","v":""},{"$f":"IF(AD100=1,\"●\",\"\")","v":""},{"$f":"IF(AE100=1,\"●\",\"\")","v":""},{"$f":"IF(AG100=1,\"●\",\"\")","v":""}]
[]
[]
[null,null,null,null,"フ",3311,"ツーツートト","封筒貼り（ふーとーはり）",null,3,3,3,null,3,3,3,null,1,null,1,null,null,null,null,null,null,null,null,{"$f":"COUNTA(J103:AB105)+LEN(F103)-1","v":11},null,null,null,null,null,null,null,null,null,{"$f":"IF(I103=1,\"●\",\"\")","v":""},{"$f":"IF(J103=1,\"●\",\"\")","v":""},{"$f":"IF(K103=1,\"●\",\"\")","v":""},{"$f":"IF(L103=1,\"●\",\"\")","v":""},{"$f":"IF(M103=1,\"●\",\"\")","v":""},{"$f":"IF(N103=1,\"●\",\"\")","v":""},{"$f":"IF(O103=1,\"●\",\"\")","v":""},{"$f":"IF(P103=1,\"●\",\"\")","v":""},{"$f":"IF(Q103=1,\"●\",\"\")","v":""},{"$f":"IF(R103=1,\"●\",\"\")","v":"●"},{"$f":"IF(S103=1,\"●\",\"\")","v":""},{"$f":"IF(T103=1,\"●\",\"\")","v":"●"},{"$f":"IF(U103=1,\"●\",\"\")","v":""},{"$f":"IF(V103=1,\"●\",\"\")","v":""},{"$f":"IF(W103=1,\"●\",\"\")","v":""},{"$f":"IF(X103=1,\"●\",\"\")","v":""},{"$f":"IF(Y103=1,\"●\",\"\")","v":""},{"$f":"IF(Z103=1,\"●\",\"\")","v":""},{"$f":"IF(AA103=1,\"●\",\"\")","v":""},{"$f":"IF(AB103=1,\"●\",\"\")","v":""}]
[]
[]
[null,null,null,null,"ヘ",1,"ト","屁（へ）",null,1,null,null,null,null,null,null,null,null,null,null,null,null,null,null,null,null,null,null,{"$f":"COUNTA(J106:AB108)+LEN(F106)-1","v":1},null,null,null,null,null,null,null,null,null,{"$f":"IF(I106=1,\"●\",\"\")","v":""},{"$f":"IF(J106=1,\"●\",\"\")","v":"●"},{"$f":"IF(K106=1,\"●\",\"\")","v":""},{"$f":"IF(L106=1,\"●\",\"\")","v":""},{"$f":"IF(M106=1,\"●\",\"\")","v":""},{"$f":"IF(N106=1,\"●\",\"\")","v":""},{"$f":"IF(O106=1,\"●\",\"\")","v":""},{"$f":"IF(P106=1,\"●\",\"\")","v":""},{"$f":"IF(Q106=1,\"●\",\"\")","v":""},{"$f":"IF(R106=1,\"●\",\"\")","v":""},{"$f":"IF(S106=1,\"●\",\"\")","v":""},{"$f":"IF(T106=1,\"●\",\"\")","v":""},{"$f":"IF(U106=1,\"●\",\"\")","v":""},{"$f":"IF(V106=1,\"●\",\"\")","v":""},{"$f":"IF(W106=1,\"●\",\"\")","v":""},{"$f":"IF(X106=1,\"●\",\"\")","v":""},{"$f":"IF(Y106=1,\"●\",\"\")","v":""},{"$f":"IF(Z106=1,\"●\",\"\")","v":""},{"$f":"IF(AA106=1,\"●\",\"\")","v":""},{"$f":"IF(AB106=1,\"●\",\"\")","v":""}]
[]
[]
[null,null,null,null,"ホ",311,"ツートト","報告（ほーこく）",null,3,3,3,null,1,null,1,null,null,null,null,null,null,null,null,null,null,null,null,{"$f":"COUNTA(J109:AB111)+LEN(F109)-1","v":7},null,null,null,null,null,null,null,null,null,{"$f":"IF(I109=1,\"●\",\"\")","v":""},{"$f":"IF(J109=1,\"●\",\"\")","v":""},{"$f":"IF(K109=1,\"●\",\"\")","v":""},{"$f":"IF(L109=1,\"●\",\"\")","v":""},{"$f":"IF(M109=1,\"●\",\"\")","v":""},{"$f":"IF(N109=1,\"●\",\"\")","v":"●"},{"$f":"IF(O109=1,\"●\",\"\")","v":""},{"$f":"IF(P109=1,\"●\",\"\")","v":"●"},{"$f":"IF(Q109=1,\"●\",\"\")","v":""},{"$f":"IF(R109=1,\"●\",\"\")","v":""},{"$f":"IF(S109=1,\"●\",\"\")","v":""},{"$f":"IF(T109=1,\"●\",\"\")","v":""},{"$f":"IF(U109=1,\"●\",\"\")","v":""},{"$f":"IF(V109=1,\"●\",\"\")","v":""},{"$f":"IF(W109=1,\"●\",\"\")","v":""},{"$f":"IF(X109=1,\"●\",\"\")","v":""},{"$f":"IF(Y109=1,\"●\",\"\")","v":""},{"$f":"IF(Z109=1,\"●\",\"\")","v":""},{"$f":"IF(AA109=1,\"●\",\"\")","v":""},{"$f":"IF(AB109=1,\"●\",\"\")","v":""}]
[]
[]
[null,null,null,null,"マ",3113,"ツートトツー","まぁ負かそう（まーまかそー）",null,3,3,3,null,1,null,1,null,3,3,3,null,null,null,null,null,null,null,null,{"$f":"COUNTA(J112:AB114)+LEN(F112)-1","v":11},null,null,null,null,null,null,null,null,null,{"$f":"IF(I112=1,\"●\",\"\")","v":""},{"$f":"IF(J112=1,\"●\",\"\")","v":""},{"$f":"IF(K112=1,\"●\",\"\")","v":""},{"$f":"IF(L112=1,\"●\",\"\")","v":""},{"$f":"IF(M112=1,\"●\",\"\")","v":""},{"$f":"IF(N112=1,\"●\",\"\")","v":"●"},{"$f":"IF(O112=1,\"●\",\"\")","v":""},{"$f":"IF(P112=1,\"●\",\"\")","v":"●"},{"$f":"IF(Q112=1,\"●\",\"\")","v":""},{"$f":"IF(R112=1,\"●\",\"\")","v":""},{"$f":"IF(S112=1,\"●\",\"\")","v":""},{"$f":"IF(T112=1,\"●\",\"\")","v":""},{"$f":"IF(U112=1,\"●\",\"\")","v":""},{"$f":"IF(V112=1,\"●\",\"\")","v":""},{"$f":"IF(W112=1,\"●\",\"\")","v":""},{"$f":"IF(X112=1,\"●\",\"\")","v":""},{"$f":"IF(Y112=1,\"●\",\"\")","v":""},{"$f":"IF(Z112=1,\"●\",\"\")","v":""},{"$f":"IF(AA112=1,\"●\",\"\")","v":""},{"$f":"IF(AB112=1,\"●\",\"\")","v":""}]
[]
[]
[null,null,null,null,"ミ",11313,"トトツートツー","見せよー見よー（みせよーみよー）",null,1,null,1,null,3,3,3,null,1,null,3,3,3,null,null,null,null,null,null,{"$f":"COUNTA(J115:AB117)+LEN(F115)-1","v":13},null,null,null,null,null,null,null,null,null,{"$f":"IF(I115=1,\"●\",\"\")","v":""},{"$f":"IF(J115=1,\"●\",\"\")","v":"●"},{"$f":"IF(K115=1,\"●\",\"\")","v":""},{"$f":"IF(L115=1,\"●\",\"\")","v":"●"},{"$f":"IF(M115=1,\"●\",\"\")","v":""},{"$f":"IF(N115=1,\"●\",\"\")","v":""},{"$f":"IF(O115=1,\"●\",\"\")","v":""},{"$f":"IF(P115=1,\"●\",\"\")","v":""},{"$f":"IF(Q115=1,\"●\",\"\")","v":""},{"$f":"IF(R115=1,\"●\",\"\")","v":"●"},{"$f":"IF(S115=1,\"●\",\"\")","v":""},{"$f":"IF(T115=1,\"●\",\"\")","v":""},{"$f":"IF(U115=1,\"●\",\"\")","v":""},{"$f":"IF(V115=1,\"●\",\"\")","v":""},{"$f":"IF(W115=1,\"●\",\"\")","v":""},{"$f":"IF(X115=1,\"●\",\"\")","v":""},{"$f":"IF(Y115=1,\"●\",\"\")","v":""},{"$f":"IF(Z115=1,\"●\",\"\")","v":""},{"$f":"IF(AA115=1,\"●\",\"\")","v":""},{"$f":"IF(AB115=1,\"●\",\"\")","v":""}]
[]
[]
[null,null,null,null,"ム",3,"ツー","ムー（むー）",null,3,3,3,null,null,null,null,null,null,null,null,null,null,null,null,null,null,null,null,{"$f":"COUNTA(J118:AB120)+LEN(F118)-1","v":3},null,null,null,null,null,null,null,null,null,{"$f":"IF(I118=1,\"●\",\"\")","v":""},{"$f":"IF(J118=1,\"●\",\"\")","v":""},{"$f":"IF(K118=1,\"●\",\"\")","v":""},{"$f":"IF(L118=1,\"●\",\"\")","v":""},{"$f":"IF(M118=1,\"●\",\"\")","v":""},{"$f":"IF(N118=1,\"●\",\"\")","v":""},{"$f":"IF(O118=1,\"●\",\"\")","v":""},{"$f":"IF(P118=1,\"●\",\"\")","v":""},{"$f":"IF(Q118=1,\"●\",\"\")","v":""},{"$f":"IF(R118=1,\"●\",\"\")","v":""},{"$f":"IF(S118=1,\"●\",\"\")","v":""},{"$f":"IF(T118=1,\"●\",\"\")","v":""},{"$f":"IF(U118=1,\"●\",\"\")","v":""},{"$f":"IF(V118=1,\"●\",\"\")","v":""},{"$f":"IF(W118=1,\"●\",\"\")","v":""},{"$f":"IF(X118=1,\"●\",\"\")","v":""},{"$f":"IF(Y118=1,\"●\",\"\")","v":""},{"$f":"IF(Z118=1,\"●\",\"\")","v":""},{"$f":"IF(AA118=1,\"●\",\"\")","v":""},{"$f":"IF(AB118=1,\"●\",\"\")","v":""}]
[]
[]
[null,null,null,null,"メ",31113,"ツートトトツー","名月だろー（めーげつだろー）",null,3,3,3,null,1,null,1,null,1,null,3,3,3,null,null,null,null,null,null,{"$f":"COUNTA(J121:AB123)+LEN(F121)-1","v":13},null,null,null,null,null,null,null,null,null,{"$f":"IF(I121=1,\"●\",\"\")","v":""},{"$f":"IF(J121=1,\"●\",\"\")","v":""},{"$f":"IF(K121=1,\"●\",\"\")","v":""},{"$f":"IF(L121=1,\"●\",\"\")","v":""},{"$f":"IF(M121=1,\"●\",\"\")","v":""},{"$f":"IF(N121=1,\"●\",\"\")","v":"●"},{"$f":"IF(O121=1,\"●\",\"\")","v":""},{"$f":"IF(P121=1,\"●\",\"\")","v":"●"},{"$f":"IF(Q121=1,\"●\",\"\")","v":""},{"$f":"IF(R121=1,\"●\",\"\")","v":"●"},{"$f":"IF(S121=1,\"●\",\"\")","v":""},{"$f":"IF(T121=1,\"●\",\"\")","v":""},{"$f":"IF(U121=1,\"●\",\"\")","v":""},{"$f":"IF(V121=1,\"●\",\"\")","v":""},{"$f":"IF(W121=1,\"●\",\"\")","v":""},{"$f":"IF(X121=1,\"●\",\"\")","v":""},{"$f":"IF(Y121=1,\"●\",\"\")","v":""},{"$f":"IF(Z121=1,\"●\",\"\")","v":""},{"$f":"IF(AA121=1,\"●\",\"\")","v":""},{"$f":"IF(AB121=1,\"●\",\"\")","v":""}]
[]
[]
[null,null,null,null,"モ",31131,"ツートトツート","モールスコード（もーるすこーど）",null,3,3,3,null,1,null,1,null,3,3,3,null,1,null,null,null,null,null,null,{"$f":"COUNTA(J124:AB126)+LEN(F124)-1","v":13},null,null,null,null,null,null,null,null,null,{"$f":"IF(I124=1,\"●\",\"\")","v":""},{"$f":"IF(J124=1,\"●\",\"\")","v":""},{"$f":"IF(K124=1,\"●\",\"\")","v":""},{"$f":"IF(L124=1,\"●\",\"\")","v":""},{"$f":"IF(M124=1,\"●\",\"\")","v":""},{"$f":"IF(N124=1,\"●\",\"\")","v":"●"},{"$f":"IF(O124=1,\"●\",\"\")","v":""},{"$f":"IF(P124=1,\"●\",\"\")","v":"●"},{"$f":"IF(Q124=1,\"●\",\"\")","v":""},{"$f":"IF(R124=1,\"●\",\"\")","v":""},{"$f":"IF(S124=1,\"●\",\"\")","v":""},{"$f":"IF(T124=1,\"●\",\"\")","v":""},{"$f":"IF(U124=1,\"●\",\"\")","v":""},{"$f":"IF(V124=1,\"●\",\"\")","v":"●"},{"$f":"IF(W124=1,\"●\",\"\")","v":""},{"$f":"IF(X124=1,\"●\",\"\")","v":""},{"$f":"IF(Y124=1,\"●\",\"\")","v":""},{"$f":"IF(Z124=1,\"●\",\"\")","v":""},{"$f":"IF(AA124=1,\"●\",\"\")","v":""},{"$f":"IF(AB124=1,\"●\",\"\")","v":""}]
[]
[]
[null,null,null,null,"ヤ",133,"トツーツー","野球場（やきゅーじょー）",null,1,null,3,3,3,null,3,3,3,null,null,null,null,null,null,null,null,null,null,{"$f":"COUNTA(J127:AB129)+LEN(F127)-1","v":9},null,null,null,null,null,null,null,null,null,{"$f":"IF(I127=1,\"●\",\"\")","v":""},{"$f":"IF(J127=1,\"●\",\"\")","v":"●"},{"$f":"IF(K127=1,\"●\",\"\")","v":""},{"$f":"IF(L127=1,\"●\",\"\")","v":""},{"$f":"IF(M127=1,\"●\",\"\")","v":""},{"$f":"IF(N127=1,\"●\",\"\")","v":""},{"$f":"IF(O127=1,\"●\",\"\")","v":""},{"$f":"IF(P127=1,\"●\",\"\")","v":""},{"$f":"IF(Q127=1,\"●\",\"\")","v":""},{"$f":"IF(R127=1,\"●\",\"\")","v":""},{"$f":"IF(S127=1,\"●\",\"\")","v":""},{"$f":"IF(T127=1,\"●\",\"\")","v":""},{"$f":"IF(U127=1,\"●\",\"\")","v":""},{"$f":"IF(V127=1,\"●\",\"\")","v":""},{"$f":"IF(W127=1,\"●\",\"\")","v":""},{"$f":"IF(X127=1,\"●\",\"\")","v":""},{"$f":"IF(Y127=1,\"●\",\"\")","v":""},{"$f":"IF(Z127=1,\"●\",\"\")","v":""},{"$f":"IF(AA127=1,\"●\",\"\")","v":""},{"$f":"IF(AB127=1,\"●\",\"\")","v":""}]
[]
[]
[null,null,null,null,"ユ",31133,"ツートトツーツー","遊撃優秀（ゆーげきゆーしゅー）",null,3,3,3,null,1,null,1,null,3,3,3,null,3,3,3,null,null,null,null,{"$f":"COUNTA(J130:AB132)+LEN(F130)-1","v":15},null,null,null,null,null,null,null,null,null,{"$f":"IF(I130=1,\"●\",\"\")","v":""},{"$f":"IF(J130=1,\"●\",\"\")","v":""},{"$f":"IF(K130=1,\"●\",\"\")","v":""},{"$f":"IF(L130=1,\"●\",\"\")","v":""},{"$f":"IF(M130=1,\"●\",\"\")","v":""},{"$f":"IF(N130=1,\"●\",\"\")","v":"●"},{"$f":"IF(O130=1,\"●\",\"\")","v":""},{"$f":"IF(P130=1,\"●\",\"\")","v":"●"},{"$f":"IF(Q130=1,\"●\",\"\")","v":""},{"$f":"IF(R130=1,\"●\",\"\")","v":""},{"$f":"IF(S130=1,\"●\",\"\")","v":""},{"$f":"IF(T130=1,\"●\",\"\")","v":""},{"$f":"IF(U130=1,\"●\",\"\")","v":""},{"$f":"IF(V130=1,\"●\",\"\")","v":""},{"$f":"IF(W130=1,\"●\",\"\")","v":""},{"$f":"IF(X130=1,\"●\",\"\")","v":""},{"$f":"IF(Y130=1,\"●\",\"\")","v":""},{"$f":"IF(Z130=1,\"●\",\"\")","v":""},{"$f":"IF(AA130=1,\"●\",\"\")","v":""},{"$f":"IF(AB130=1,\"●\",\"\")","v":""}]
[]
[]
[null,null,null,null,"ヨ",33,"ツーツー","ヨーヨー（よーよー）",null,3,3,3,null,3,3,3,null,null,null,null,null,null,null,null,null,null,null,null,{"$f":"COUNTA(J133:AB135)+LEN(F133)-1","v":7},null,null,null,null,null,null,null,null,null,{"$f":"IF(I133=1,\"●\",\"\")","v":""},{"$f":"IF(J133=1,\"●\",\"\")","v":""},{"$f":"IF(K133=1,\"●\",\"\")","v":""},{"$f":"IF(L133=1,\"●\",\"\")","v":""},{"$f":"IF(M133=1,\"●\",\"\")","v":""},{"$f":"IF(N133=1,\"●\",\"\")","v":""},{"$f":"IF(O133=1,\"●\",\"\")","v":""},{"$f":"IF(P133=1,\"●\",\"\")","v":""},{"$f":"IF(Q133=1,\"●\",\"\")","v":""},{"$f":"IF(R133=1,\"●\",\"\")","v":""},{"$f":"IF(S133=1,\"●\",\"\")","v":""},{"$f":"IF(T133=1,\"●\",\"\")","v":""},{"$f":"IF(U133=1,\"●\",\"\")","v":""},{"$f":"IF(V133=1,\"●\",\"\")","v":""},{"$f":"IF(W133=1,\"●\",\"\")","v":""},{"$f":"IF(X133=1,\"●\",\"\")","v":""},{"$f":"IF(Y133=1,\"●\",\"\")","v":""},{"$f":"IF(Z133=1,\"●\",\"\")","v":""},{"$f":"IF(AA133=1,\"●\",\"\")","v":""},{"$f":"IF(AB133=1,\"●\",\"\")","v":""}]
[]
[]
[null,null,null,null,"ャ",133,"トツーツー","野球場（やきゅーじょー）",null,1,null,3,3,3,null,3,3,3,null,null,null,null,null,null,null,null,null,null,{"$f":"COUNTA(J136:AB138)+LEN(F136)-1","v":9},null,null,null,null,null,null,null,null,null,{"$f":"IF(I136=1,\"●\",\"\")","v":""},{"$f":"IF(J136=1,\"●\",\"\")","v":"●"},{"$f":"IF(K136=1,\"●\",\"\")","v":""},{"$f":"IF(L136=1,\"●\",\"\")","v":""},{"$f":"IF(M136=1,\"●\",\"\")","v":""},{"$f":"IF(N136=1,\"●\",\"\")","v":""},{"$f":"IF(O136=1,\"●\",\"\")","v":""},{"$f":"IF(P136=1,\"●\",\"\")","v":""},{"$f":"IF(Q136=1,\"●\",\"\")","v":""},{"$f":"IF(R136=1,\"●\",\"\")","v":""},{"$f":"IF(S136=1,\"●\",\"\")","v":""},{"$f":"IF(T136=1,\"●\",\"\")","v":""},{"$f":"IF(U136=1,\"●\",\"\")","v":""},{"$f":"IF(V136=1,\"●\",\"\")","v":""},{"$f":"IF(W136=1,\"●\",\"\")","v":""},{"$f":"IF(X136=1,\"●\",\"\")","v":""},{"$f":"IF(Y136=1,\"●\",\"\")","v":""},{"$f":"IF(Z136=1,\"●\",\"\")","v":""},{"$f":"IF(AA136=1,\"●\",\"\")","v":""},{"$f":"IF(AB136=1,\"●\",\"\")","v":""}]
[]
[]
[null,null,null,null,"ュ",31133,"ツートトツーツー","遊撃優秀（ゆーげきゆーしゅー）",null,3,3,3,null,1,null,1,null,3,3,3,null,3,3,3,null,null,null,null,{"$f":"COUNTA(J139:AB141)+LEN(F139)-1","v":15},null,null,null,null,null,null,null,null,null,{"$f":"IF(I139=1,\"●\",\"\")","v":""},{"$f":"IF(J139=1,\"●\",\"\")","v":""},{"$f":"IF(K139=1,\"●\",\"\")","v":""},{"$f":"IF(L139=1,\"●\",\"\")","v":""},{"$f":"IF(M139=1,\"●\",\"\")","v":""},{"$f":"IF(N139=1,\"●\",\"\")","v":"●"},{"$f":"IF(O139=1,\"●\",\"\")","v":""},{"$f":"IF(P139=1,\"●\",\"\")","v":"●"},{"$f":"IF(Q139=1,\"●\",\"\")","v":""},{"$f":"IF(R139=1,\"●\",\"\")","v":""},{"$f":"IF(S139=1,\"●\",\"\")","v":""},{"$f":"IF(T139=1,\"●\",\"\")","v":""},{"$f":"IF(U139=1,\"●\",\"\")","v":""},{"$f":"IF(V139=1,\"●\",\"\")","v":""},{"$f":"IF(W139=1,\"●\",\"\")","v":""},{"$f":"IF(X139=1,\"●\",\"\")","v":""},{"$f":"IF(Y139=1,\"●\",\"\")","v":""},{"$f":"IF(Z139=1,\"●\",\"\")","v":""},{"$f":"IF(AA139=1,\"●\",\"\")","v":""},{"$f":"IF(AB139=1,\"●\",\"\")","v":""}]
[]
[]
[null,null,null,null,"ョ",33,"ツーツー","ヨーヨー（よーよー）",null,3,3,3,null,3,3,3,null,null,null,null,null,null,null,null,null,null,null,null,{"$f":"COUNTA(J142:AB144)+LEN(F142)-1","v":7},null,null,null,null,null,null,null,null,null,{"$f":"IF(I142=1,\"●\",\"\")","v":""},{"$f":"IF(J142=1,\"●\",\"\")","v":""},{"$f":"IF(K142=1,\"●\",\"\")","v":""},{"$f":"IF(L142=1,\"●\",\"\")","v":""},{"$f":"IF(M142=1,\"●\",\"\")","v":""},{"$f":"IF(N142=1,\"●\",\"\")","v":""},{"$f":"IF(O142=1,\"●\",\"\")","v":""},{"$f":"IF(P142=1,\"●\",\"\")","v":""},{"$f":"IF(Q142=1,\"●\",\"\")","v":""},{"$f":"IF(R142=1,\"●\",\"\")","v":""},{"$f":"IF(S142=1,\"●\",\"\")","v":""},{"$f":"IF(T142=1,\"●\",\"\")","v":""},{"$f":"IF(U142=1,\"●\",\"\")","v":""},{"$f":"IF(V142=1,\"●\",\"\")","v":""},{"$f":"IF(W142=1,\"●\",\"\")","v":""},{"$f":"IF(X142=1,\"●\",\"\")","v":""},{"$f":"IF(Y142=1,\"●\",\"\")","v":""},{"$f":"IF(Z142=1,\"●\",\"\")","v":""},{"$f":"IF(AA142=1,\"●\",\"\")","v":""},{"$f":"IF(AB142=1,\"●\",\"\")","v":""}]
[]
[]
[null,null,null,null,"ラ",111,"トトト","ラムネ（らむね）",null,1,null,1,null,1,null,null,null,null,null,null,null,null,null,null,null,null,null,null,{"$f":"COUNTA(J145:AB147)+LEN(F145)-1","v":5},null,null,null,null,null,null,null,null,null,{"$f":"IF(I145=1,\"●\",\"\")","v":""},{"$f":"IF(J145=1,\"●\",\"\")","v":"●"},{"$f":"IF(K145=1,\"●\",\"\")","v":""},{"$f":"IF(L145=1,\"●\",\"\")","v":"●"},{"$f":"IF(M145=1,\"●\",\"\")","v":""},{"$f":"IF(N145=1,\"●\",\"\")","v":"●"},{"$f":"IF(O145=1,\"●\",\"\")","v":""},{"$f":"IF(P145=1,\"●\",\"\")","v":""},{"$f":"IF(Q145=1,\"●\",\"\")","v":""},{"$f":"IF(R145=1,\"●\",\"\")","v":""},{"$f":"IF(S145=1,\"●\",\"\")","v":""},{"$f":"IF(T145=1,\"●\",\"\")","v":""},{"$f":"IF(U145=1,\"●\",\"\")","v":""},{"$f":"IF(V145=1,\"●\",\"\")","v":""},{"$f":"IF(W145=1,\"●\",\"\")","v":""},{"$f":"IF(X145=1,\"●\",\"\")","v":""},{"$f":"IF(Y145=1,\"●\",\"\")","v":""},{"$f":"IF(Z145=1,\"●\",\"\")","v":""},{"$f":"IF(AA145=1,\"●\",\"\")","v":""},{"$f":"IF(AB145=1,\"●\",\"\")","v":""}]
[]
[]
[null,null,null,null,"リ",331,"ツーツート","流行地（りゅーこーち）",null,3,3,3,null,3,3,3,null,1,null,null,null,null,null,null,null,null,null,null,{"$f":"COUNTA(J148:AB150)+LEN(F148)-1","v":9},null,null,null,null,null,null,null,null,null,{"$f":"IF(I148=1,\"●\",\"\")","v":""},{"$f":"IF(J148=1,\"●\",\"\")","v":""},{"$f":"IF(K148=1,\"●\",\"\")","v":""},{"$f":"IF(L148=1,\"●\",\"\")","v":""},{"$f":"IF(M148=1,\"●\",\"\")","v":""},{"$f":"IF(N148=1,\"●\",\"\")","v":""},{"$f":"IF(O148=1,\"●\",\"\")","v":""},{"$f":"IF(P148=1,\"●\",\"\")","v":""},{"$f":"IF(Q148=1,\"●\",\"\")","v":""},{"$f":"IF(R148=1,\"●\",\"\")","v":"●"},{"$f":"IF(S148=1,\"●\",\"\")","v":""},{"$f":"IF(T148=1,\"●\",\"\")","v":""},{"$f":"IF(U148=1,\"●\",\"\")","v":""},{"$f":"IF(V148=1,\"●\",\"\")","v":""},{"$f":"IF(W148=1,\"●\",\"\")","v":""},{"$f":"IF(X148=1,\"●\",\"\")","v":""},{"$f":"IF(Y148=1,\"●\",\"\")","v":""},{"$f":"IF(Z148=1,\"●\",\"\")","v":""},{"$f":"IF(AA148=1,\"●\",\"\")","v":""},{"$f":"IF(AB148=1,\"●\",\"\")","v":""}]
[]
[]
[null,null,null,null,"ル",31331,"ツートツーツート","ルール修正ス（るーるしゅーせーす）",null,3,3,3,null,1,null,3,3,3,null,3,3,3,null,1,null,null,null,null,{"$f":"COUNTA(J151:AB153)+LEN(F151)-1","v":15},null,null,null,null,null,null,null,null,null,{"$f":"IF(I151=1,\"●\",\"\")","v":""},{"$f":"IF(J151=1,\"●\",\"\")","v":""},{"$f":"IF(K151=1,\"●\",\"\")","v":""},{"$f":"IF(L151=1,\"●\",\"\")","v":""},{"$f":"IF(M151=1,\"●\",\"\")","v":""},{"$f":"IF(N151=1,\"●\",\"\")","v":"●"},{"$f":"IF(O151=1,\"●\",\"\")","v":""},{"$f":"IF(P151=1,\"●\",\"\")","v":""},{"$f":"IF(Q151=1,\"●\",\"\")","v":""},{"$f":"IF(R151=1,\"●\",\"\")","v":""},{"$f":"IF(S151=1,\"●\",\"\")","v":""},{"$f":"IF(T151=1,\"●\",\"\")","v":""},{"$f":"IF(U151=1,\"●\",\"\")","v":""},{"$f":"IF(V151=1,\"●\",\"\")","v":""},{"$f":"IF(W151=1,\"●\",\"\")","v":""},{"$f":"IF(X151=1,\"●\",\"\")","v":"●"},{"$f":"IF(Y151=1,\"●\",\"\")","v":""},{"$f":"IF(Z151=1,\"●\",\"\")","v":""},{"$f":"IF(AA151=1,\"●\",\"\")","v":""},{"$f":"IF(AB151=1,\"●\",\"\")","v":""}]
[]
[]
[null,null,null,null,"レ",333,"ツーツーツー","礼装用（れーそーよー）",null,3,3,3,null,3,3,3,null,3,3,3,null,null,null,null,null,null,null,null,{"$f":"COUNTA(J154:AB156)+LEN(F154)-1","v":11},null,null,null,null,null,null,null,null,null,{"$f":"IF(I154=1,\"●\",\"\")","v":""},{"$f":"IF(J154=1,\"●\",\"\")","v":""},{"$f":"IF(K154=1,\"●\",\"\")","v":""},{"$f":"IF(L154=1,\"●\",\"\")","v":""},{"$f":"IF(M154=1,\"●\",\"\")","v":""},{"$f":"IF(N154=1,\"●\",\"\")","v":""},{"$f":"IF(O154=1,\"●\",\"\")","v":""},{"$f":"IF(P154=1,\"●\",\"\")","v":""},{"$f":"IF(Q154=1,\"●\",\"\")","v":""},{"$f":"IF(R154=1,\"●\",\"\")","v":""},{"$f":"IF(S154=1,\"●\",\"\")","v":""},{"$f":"IF(T154=1,\"●\",\"\")","v":""},{"$f":"IF(U154=1,\"●\",\"\")","v":""},{"$f":"IF(V154=1,\"●\",\"\")","v":""},{"$f":"IF(W154=1,\"●\",\"\")","v":""},{"$f":"IF(X154=1,\"●\",\"\")","v":""},{"$f":"IF(Y154=1,\"●\",\"\")","v":""},{"$f":"IF(Z154=1,\"●\",\"\")","v":""},{"$f":"IF(AA154=1,\"●\",\"\")","v":""},{"$f":"IF(AB154=1,\"●\",\"\")","v":""}]
[]
[]
[null,null,null,null,"ロ",1313,"トツートツー","路上歩行（ろじょーほこー）",null,1,null,3,3,3,null,1,null,3,3,3,null,null,null,null,null,null,null,null,{"$f":"COUNTA(J157:AB159)+LEN(F157)-1","v":11},null,null,null,null,null,null,null,null,null,{"$f":"IF(I157=1,\"●\",\"\")","v":""},{"$f":"IF(J157=1,\"●\",\"\")","v":"●"},{"$f":"IF(K157=1,\"●\",\"\")","v":""},{"$f":"IF(L157=1,\"●\",\"\")","v":""},{"$f":"IF(M157=1,\"●\",\"\")","v":""},{"$f":"IF(N157=1,\"●\",\"\")","v":""},{"$f":"IF(O157=1,\"●\",\"\")","v":""},{"$f":"IF(P157=1,\"●\",\"\")","v":"●"},{"$f":"IF(Q157=1,\"●\",\"\")","v":""},{"$f":"IF(R157=1,\"●\",\"\")","v":""},{"$f":"IF(S157=1,\"●\",\"\")","v":""},{"$f":"IF(T157=1,\"●\",\"\")","v":""},{"$f":"IF(U157=1,\"●\",\"\")","v":""},{"$f":"IF(V157=1,\"●\",\"\")","v":""},{"$f":"IF(W157=1,\"●\",\"\")","v":""},{"$f":"IF(X157=1,\"●\",\"\")","v":""},{"$f":"IF(Y157=1,\"●\",\"\")","v":""},{"$f":"IF(Z157=1,\"●\",\"\")","v":""},{"$f":"IF(AA157=1,\"●\",\"\")","v":""},{"$f":"IF(AB157=1,\"●\",\"\")","v":""}]
[]
[]
[null,null,null,null,"ワ",313,"ツートツー","ワーと言う（わーとゆー）",null,3,3,3,null,1,null,3,3,3,null,null,null,null,null,null,null,null,null,null,{"$f":"COUNTA(J160:AB162)+LEN(F160)-1","v":9},null,null,null,null,null,null,null,null,null,{"$f":"IF(I160=1,\"●\",\"\")","v":""},{"$f":"IF(J160=1,\"●\",\"\")","v":""},{"$f":"IF(K160=1,\"●\",\"\")","v":""},{"$f":"IF(L160=1,\"●\",\"\")","v":""},{"$f":"IF(M160=1,\"●\",\"\")","v":""},{"$f":"IF(N160=1,\"●\",\"\")","v":"●"},{"$f":"IF(O160=1,\"●\",\"\")","v":""},{"$f":"IF(P160=1,\"●\",\"\")","v":""},{"$f":"IF(Q160=1,\"●\",\"\")","v":""},{"$f":"IF(R160=1,\"●\",\"\")","v":""},{"$f":"IF(S160=1,\"●\",\"\")","v":""},{"$f":"IF(T160=1,\"●\",\"\")","v":""},{"$f":"IF(U160=1,\"●\",\"\")","v":""},{"$f":"IF(V160=1,\"●\",\"\")","v":""},{"$f":"IF(W160=1,\"●\",\"\")","v":""},{"$f":"IF(X160=1,\"●\",\"\")","v":""},{"$f":"IF(Y160=1,\"●\",\"\")","v":""},{"$f":"IF(Z160=1,\"●\",\"\")","v":""},{"$f":"IF(AA160=1,\"●\",\"\")","v":""},{"$f":"IF(AB160=1,\"●\",\"\")","v":""}]
[]
[]
[null,null,null,null,"ヰ",13113,"トツートトツー",null,null,1,null,3,3,3,null,1,null,1,null,3,3,3,null,null,null,null,null,null,{"$f":"COUNTA(J163:AB165)+LEN(F163)-1","v":13},null,null,null,null,null,null,null,null,null,{"$f":"IF(I163=1,\"●\",\"\")","v":""},{"$f":"IF(J163=1,\"●\",\"\")","v":"●"},{"$f":"IF(K163=1,\"●\",\"\")","v":""},{"$f":"IF(L163=1,\"●\",\"\")","v":""},{"$f":"IF(M163=1,\"●\",\"\")","v":""},{"$f":"IF(N163=1,\"●\",\"\")","v":""},{"$f":"IF(O163=1,\"●\",\"\")","v":""},{"$f":"IF(P163=1,\"●\",\"\")","v":"●"},{"$f":"IF(Q163=1,\"●\",\"\")","v":""},{"$f":"IF(R163=1,\"●\",\"\")","v":"●"},{"$f":"IF(S163=1,\"●\",\"\")","v":""},{"$f":"IF(T163=1,\"●\",\"\")","v":""},{"$f":"IF(U163=1,\"●\",\"\")","v":""},{"$f":"IF(V163=1,\"●\",\"\")","v":""},{"$f":"IF(W163=1,\"●\",\"\")","v":""},{"$f":"IF(X163=1,\"●\",\"\")","v":""},{"$f":"IF(Y163=1,\"●\",\"\")","v":""},{"$f":"IF(Z163=1,\"●\",\"\")","v":""},{"$f":"IF(AA163=1,\"●\",\"\")","v":""},{"$f":"IF(AB163=1,\"●\",\"\")","v":""}]
[]
[]
[null,null,null,null,"ヱ",13311,"トツーツートト",null,null,1,null,3,3,3,null,3,3,3,null,1,null,1,null,null,null,null,null,null,{"$f":"COUNTA(J166:AB168)+LEN(F166)-1","v":13},null,null,null,null,null,null,null,null,null,{"$f":"IF(I166=1,\"●\",\"\")","v":""},{"$f":"IF(J166=1,\"●\",\"\")","v":"●"},{"$f":"IF(K166=1,\"●\",\"\")","v":""},{"$f":"IF(L166=1,\"●\",\"\")","v":""},{"$f":"IF(M166=1,\"●\",\"\")","v":""},{"$f":"IF(N166=1,\"●\",\"\")","v":""},{"$f":"IF(O166=1,\"●\",\"\")","v":""},{"$f":"IF(P166=1,\"●\",\"\")","v":""},{"$f":"IF(Q166=1,\"●\",\"\")","v":""},{"$f":"IF(R166=1,\"●\",\"\")","v":""},{"$f":"IF(S166=1,\"●\",\"\")","v":""},{"$f":"IF(T166=1,\"●\",\"\")","v":"●"},{"$f":"IF(U166=1,\"●\",\"\")","v":""},{"$f":"IF(V166=1,\"●\",\"\")","v":"●"},{"$f":"IF(W166=1,\"●\",\"\")","v":""},{"$f":"IF(X166=1,\"●\",\"\")","v":""},{"$f":"IF(Y166=1,\"●\",\"\")","v":""},{"$f":"IF(Z166=1,\"●\",\"\")","v":""},{"$f":"IF(AA166=1,\"●\",\"\")","v":""},{"$f":"IF(AB166=1,\"●\",\"\")","v":""}]
[]
[]
[null,null,null,null,"ヲ",1333,"トツーツーツー","和尚焼香（おしょーしょーこー）",null,1,null,3,3,3,null,3,3,3,null,3,3,3,null,null,null,null,null,null,13,null,null,null,null,null,null,null,null,null,{"$f":"IF(I169=1,\"●\",\"\")","v":""},{"$f":"IF(J169=1,\"●\",\"\")","v":"●"},{"$f":"IF(K169=1,\"●\",\"\")","v":""},{"$f":"IF(L169=1,\"●\",\"\")","v":""},{"$f":"IF(M169=1,\"●\",\"\")","v":""},{"$f":"IF(N169=1,\"●\",\"\")","v":""},{"$f":"IF(O169=1,\"●\",\"\")","v":""},{"$f":"IF(P169=1,\"●\",\"\")","v":""},{"$f":"IF(Q169=1,\"●\",\"\")","v":""},{"$f":"IF(R169=1,\"●\",\"\")","v":""},{"$f":"IF(S169=1,\"●\",\"\")","v":""},{"$f":"IF(T169=1,\"●\",\"\")","v":""},{"$f":"IF(U169=1,\"●\",\"\")","v":""},{"$f":"IF(V169=1,\"●\",\"\")","v":""},{"$f":"IF(W169=1,\"●\",\"\")","v":""},{"$f":"IF(X169=1,\"●\",\"\")","v":""},{"$f":"IF(Y169=1,\"●\",\"\")","v":""},{"$f":"IF(Z169=1,\"●\",\"\")","v":""},{"$f":"IF(AA169=1,\"●\",\"\")","v":""},{"$f":"IF(AB169=1,\"●\",\"\")","v":""}]
[]
[]
[null,null,null,null,"ン",13131,"トツートツート","運動の教師（うんどーのきょーし）",null,1,null,3,3,3,null,1,null,3,3,3,null,1,null,null,null,null,null,null,13,null,null,null,null,null,null,null,null,null,{"$f":"IF(I172=1,\"●\",\"\")","v":""},{"$f":"IF(J172=1,\"●\",\"\")","v":"●"},{"$f":"IF(K172=1,\"●\",\"\")","v":""},{"$f":"IF(L172=1,\"●\",\"\")","v":""},{"$f":"IF(M172=1,\"●\",\"\")","v":""},{"$f":"IF(N172=1,\"●\",\"\")","v":""},{"$f":"IF(O172=1,\"●\",\"\")","v":""},{"$f":"IF(P172=1,\"●\",\"\")","v":"●"},{"$f":"IF(Q172=1,\"●\",\"\")","v":""},{"$f":"IF(R172=1,\"●\",\"\")","v":""},{"$f":"IF(S172=1,\"●\",\"\")","v":""},{"$f":"IF(T172=1,\"●\",\"\")","v":""},{"$f":"IF(U172=1,\"●\",\"\")","v":""},{"$f":"IF(V172=1,\"●\",\"\")","v":"●"},{"$f":"IF(W172=1,\"●\",\"\")","v":""},{"$f":"IF(X172=1,\"●\",\"\")","v":""},{"$f":"IF(Y172=1,\"●\",\"\")","v":""},{"$f":"IF(Z172=1,\"●\",\"\")","v":""},{"$f":"IF(AA172=1,\"●\",\"\")","v":""},{"$f":"IF(AB172=1,\"●\",\"\")","v":""}]
[]
[]
[null,null,null,null,"゛",11,"トト","ダク（だく）",null,1,null,1,null,null,null,null,null,null,null,null,null,null,null,null,null,null,null,null,3,null,null,null,null,null,null,null,null,null,{"$f":"IF(I175=1,\"●\",\"\")","v":""},{"$f":"IF(J175=1,\"●\",\"\")","v":"●"},{"$f":"IF(K175=1,\"●\",\"\")","v":""},{"$f":"IF(L175=1,\"●\",\"\")","v":"●"},{"$f":"IF(M175=1,\"●\",\"\")","v":""},{"$f":"IF(N175=1,\"●\",\"\")","v":""},{"$f":"IF(O175=1,\"●\",\"\")","v":""},{"$f":"IF(P175=1,\"●\",\"\")","v":""},{"$f":"IF(Q175=1,\"●\",\"\")","v":""},{"$f":"IF(R175=1,\"●\",\"\")","v":""},{"$f":"IF(S175=1,\"●\",\"\")","v":""},{"$f":"IF(T175=1,\"●\",\"\")","v":""},{"$f":"IF(U175=1,\"●\",\"\")","v":""},{"$f":"IF(V175=1,\"●\",\"\")","v":""},{"$f":"IF(W175=1,\"●\",\"\")","v":""},{"$f":"IF(X175=1,\"●\",\"\")","v":""},{"$f":"IF(Y175=1,\"●\",\"\")","v":""},{"$f":"IF(Z175=1,\"●\",\"\")","v":""},{"$f":"IF(AA175=1,\"●\",\"\")","v":""},{"$f":"IF(AB175=1,\"●\",\"\")","v":""}]
[]
[]
[null,null,null,null,"゜",11331,"トトツーツート","ポスター標語(ぽすたーひょーご)",null,1,null,1,null,3,3,3,null,3,3,3,null,1,null,null,null,null,null,null,13,null,null,null,null,null,null,null,null,null,{"$f":"IF(I178=1,\"●\",\"\")","v":""},{"$f":"IF(J178=1,\"●\",\"\")","v":"●"},{"$f":"IF(K178=1,\"●\",\"\")","v":""},{"$f":"IF(L178=1,\"●\",\"\")","v":"●"},{"$f":"IF(M178=1,\"●\",\"\")","v":""},{"$f":"IF(N178=1,\"●\",\"\")","v":""},{"$f":"IF(O178=1,\"●\",\"\")","v":""},{"$f":"IF(P178=1,\"●\",\"\")","v":""},{"$f":"IF(Q178=1,\"●\",\"\")","v":""},{"$f":"IF(R178=1,\"●\",\"\")","v":""},{"$f":"IF(S178=1,\"●\",\"\")","v":""},{"$f":"IF(T178=1,\"●\",\"\")","v":""},{"$f":"IF(U178=1,\"●\",\"\")","v":""},{"$f":"IF(V178=1,\"●\",\"\")","v":"●"},{"$f":"IF(W178=1,\"●\",\"\")","v":""},{"$f":"IF(X178=1,\"●\",\"\")","v":""},{"$f":"IF(Y178=1,\"●\",\"\")","v":""},{"$f":"IF(Z178=1,\"●\",\"\")","v":""},{"$f":"IF(AA178=1,\"●\",\"\")","v":""},{"$f":"IF(AB178=1,\"●\",\"\")","v":""}]
[]
[]
[null,null,null,null,"１",13333,"トツーツーツーツー",null,null,1,null,3,3,3,null,3,3,3,null,3,3,3,null,3,3,3,null,null,17,null,null,null,null,null,null,null,null,null,{"$f":"IF(I181=1,\"●\",\"\")","v":""},{"$f":"IF(J181=1,\"●\",\"\")","v":"●"},{"$f":"IF(K181=1,\"●\",\"\")","v":""},{"$f":"IF(L181=1,\"●\",\"\")","v":""},{"$f":"IF(M181=1,\"●\",\"\")","v":""},{"$f":"IF(N181=1,\"●\",\"\")","v":""},{"$f":"IF(O181=1,\"●\",\"\")","v":""},{"$f":"IF(P181=1,\"●\",\"\")","v":""},{"$f":"IF(Q181=1,\"●\",\"\")","v":""},{"$f":"IF(R181=1,\"●\",\"\")","v":""},{"$f":"IF(S181=1,\"●\",\"\")","v":""},{"$f":"IF(T181=1,\"●\",\"\")","v":""},{"$f":"IF(U181=1,\"●\",\"\")","v":""},{"$f":"IF(V181=1,\"●\",\"\")","v":""},{"$f":"IF(W181=1,\"●\",\"\")","v":""},{"$f":"IF(X181=1,\"●\",\"\")","v":""},{"$f":"IF(Y181=1,\"●\",\"\")","v":""},{"$f":"IF(Z181=1,\"●\",\"\")","v":""},{"$f":"IF(AA181=1,\"●\",\"\")","v":""},{"$f":"IF(AB181=1,\"●\",\"\")","v":""}]
[]
[]
[null,null,null,null,"２",11333,"トトツーツーツー",null,null,1,null,1,null,3,3,3,null,3,3,3,null,3,3,3,null,null,null,null,15,null,null,null,null,null,null,null,null,null,{"$f":"IF(I184=1,\"●\",\"\")","v":""},{"$f":"IF(J184=1,\"●\",\"\")","v":"●"},{"$f":"IF(K184=1,\"●\",\"\")","v":""},{"$f":"IF(L184=1,\"●\",\"\")","v":"●"},{"$f":"IF(M184=1,\"●\",\"\")","v":""},{"$f":"IF(N184=1,\"●\",\"\")","v":""},{"$f":"IF(O184=1,\"●\",\"\")","v":""},{"$f":"IF(P184=1,\"●\",\"\")","v":""},{"$f":"IF(Q184=1,\"●\",\"\")","v":""},{"$f":"IF(R184=1,\"●\",\"\")","v":""},{"$f":"IF(S184=1,\"●\",\"\")","v":""},{"$f":"IF(T184=1,\"●\",\"\")","v":""},{"$f":"IF(U184=1,\"●\",\"\")","v":""},{"$f":"IF(V184=1,\"●\",\"\")","v":""},{"$f":"IF(W184=1,\"●\",\"\")","v":""},{"$f":"IF(X184=1,\"●\",\"\")","v":""},{"$f":"IF(Y184=1,\"●\",\"\")","v":""},{"$f":"IF(Z184=1,\"●\",\"\")","v":""},{"$f":"IF(AA184=1,\"●\",\"\")","v":""},{"$f":"IF(AB184=1,\"●\",\"\")","v":""}]
[]
[]
[null,null,null,null,"３",11133,"トトトツーツー",null,null,1,null,1,null,1,null,3,3,3,null,3,3,3,null,null,null,null,null,null,13,null,null,null,null,null,null,null,null,null,{"$f":"IF(I187=1,\"●\",\"\")","v":""},{"$f":"IF(J187=1,\"●\",\"\")","v":"●"},{"$f":"IF(K187=1,\"●\",\"\")","v":""},{"$f":"IF(L187=1,\"●\",\"\")","v":"●"},{"$f":"IF(M187=1,\"●\",\"\")","v":""},{"$f":"IF(N187=1,\"●\",\"\")","v":"●"},{"$f":"IF(O187=1,\"●\",\"\")","v":""},{"$f":"IF(P187=1,\"●\",\"\")","v":""},{"$f":"IF(Q187=1,\"●\",\"\")","v":""},{"$f":"IF(R187=1,\"●\",\"\")","v":""},{"$f":"IF(S187=1,\"●\",\"\")","v":""},{"$f":"IF(T187=1,\"●\",\"\")","v":""},{"$f":"IF(U187=1,\"●\",\"\")","v":""},{"$f":"IF(V187=1,\"●\",\"\")","v":""},{"$f":"IF(W187=1,\"●\",\"\")","v":""},{"$f":"IF(X187=1,\"●\",\"\")","v":""},{"$f":"IF(Y187=1,\"●\",\"\")","v":""},{"$f":"IF(Z187=1,\"●\",\"\")","v":""},{"$f":"IF(AA187=1,\"●\",\"\")","v":""},{"$f":"IF(AB187=1,\"●\",\"\")","v":""}]
[]
[]
[null,null,null,null,"４",11113,"トトトトツー",null,null,1,null,1,null,1,null,1,null,3,3,3,null,null,null,null,null,null,null,null,11,null,null,null,null,null,null,null,null,null,{"$f":"IF(I190=1,\"●\",\"\")","v":""},{"$f":"IF(J190=1,\"●\",\"\")","v":"●"},{"$f":"IF(K190=1,\"●\",\"\")","v":""},{"$f":"IF(L190=1,\"●\",\"\")","v":"●"},{"$f":"IF(M190=1,\"●\",\"\")","v":""},{"$f":"IF(N190=1,\"●\",\"\")","v":"●"},{"$f":"IF(O190=1,\"●\",\"\")","v":""},{"$f":"IF(P190=1,\"●\",\"\")","v":"●"},{"$f":"IF(Q190=1,\"●\",\"\")","v":""},{"$f":"IF(R190=1,\"●\",\"\")","v":""},{"$f":"IF(S190=1,\"●\",\"\")","v":""},{"$f":"IF(T190=1,\"●\",\"\")","v":""},{"$f":"IF(U190=1,\"●\",\"\")","v":""},{"$f":"IF(V190=1,\"●\",\"\")","v":""},{"$f":"IF(W190=1,\"●\",\"\")","v":""},{"$f":"IF(X190=1,\"●\",\"\")","v":""},{"$f":"IF(Y190=1,\"●\",\"\")","v":""},{"$f":"IF(Z190=1,\"●\",\"\")","v":""},{"$f":"IF(AA190=1,\"●\",\"\")","v":""},{"$f":"IF(AB190=1,\"●\",\"\")","v":""}]
[]
[]
[null,null,null,null,"５",11111,"トトトトト",null,null,1,null,1,null,1,null,1,null,1,null,null,null,null,null,null,null,null,null,null,9,null,null,null,null,null,null,null,null,null,{"$f":"IF(I193=1,\"●\",\"\")","v":""},{"$f":"IF(J193=1,\"●\",\"\")","v":"●"},{"$f":"IF(K193=1,\"●\",\"\")","v":""},{"$f":"IF(L193=1,\"●\",\"\")","v":"●"},{"$f":"IF(M193=1,\"●\",\"\")","v":""},{"$f":"IF(N193=1,\"●\",\"\")","v":"●"},{"$f":"IF(O193=1,\"●\",\"\")","v":""},{"$f":"IF(P193=1,\"●\",\"\")","v":"●"},{"$f":"IF(Q193=1,\"●\",\"\")","v":""},{"$f":"IF(R193=1,\"●\",\"\")","v":"●"},{"$f":"IF(S193=1,\"●\",\"\")","v":""},{"$f":"IF(T193=1,\"●\",\"\")","v":""},{"$f":"IF(U193=1,\"●\",\"\")","v":""},{"$f":"IF(V193=1,\"●\",\"\")","v":""},{"$f":"IF(W193=1,\"●\",\"\")","v":""},{"$f":"IF(X193=1,\"●\",\"\")","v":""},{"$f":"IF(Y193=1,\"●\",\"\")","v":""},{"$f":"IF(Z193=1,\"●\",\"\")","v":""},{"$f":"IF(AA193=1,\"●\",\"\")","v":""},{"$f":"IF(AB193=1,\"●\",\"\")","v":""}]
[]
[]
[null,null,null,null,"６",31111,"ツートトトト",null,null,3,3,3,null,1,null,1,null,1,null,1,null,null,null,null,null,null,null,null,11,null,null,null,null,null,null,null,null,null,{"$f":"IF(I196=1,\"●\",\"\")","v":""},{"$f":"IF(J196=1,\"●\",\"\")","v":""},{"$f":"IF(K196=1,\"●\",\"\")","v":""},{"$f":"IF(L196=1,\"●\",\"\")","v":""},{"$f":"IF(M196=1,\"●\",\"\")","v":""},{"$f":"IF(N196=1,\"●\",\"\")","v":"●"},{"$f":"IF(O196=1,\"●\",\"\")","v":""},{"$f":"IF(P196=1,\"●\",\"\")","v":"●"},{"$f":"IF(Q196=1,\"●\",\"\")","v":""},{"$f":"IF(R196=1,\"●\",\"\")","v":"●"},{"$f":"IF(S196=1,\"●\",\"\")","v":""},{"$f":"IF(T196=1,\"●\",\"\")","v":"●"},{"$f":"IF(U196=1,\"●\",\"\")","v":""},{"$f":"IF(V196=1,\"●\",\"\")","v":""},{"$f":"IF(W196=1,\"●\",\"\")","v":""},{"$f":"IF(X196=1,\"●\",\"\")","v":""},{"$f":"IF(Y196=1,\"●\",\"\")","v":""},{"$f":"IF(Z196=1,\"●\",\"\")","v":""},{"$f":"IF(AA196=1,\"●\",\"\")","v":""},{"$f":"IF(AB196=1,\"●\",\"\")","v":""}]
[]
[]
[null,null,null,null,"７",33111,"ツーツートトト",null,null,3,3,3,null,3,3,3,null,1,null,1,null,1,null,null,null,null,null,null,13,null,null,null,null,null,null,null,null,null,{"$f":"IF(I199=1,\"●\",\"\")","v":""},{"$f":"IF(J199=1,\"●\",\"\")","v":""},{"$f":"IF(K199=1,\"●\",\"\")","v":""},{"$f":"IF(L199=1,\"●\",\"\")","v":""},{"$f":"IF(M199=1,\"●\",\"\")","v":""},{"$f":"IF(N199=1,\"●\",\"\")","v":""},{"$f":"IF(O199=1,\"●\",\"\")","v":""},{"$f":"IF(P199=1,\"●\",\"\")","v":""},{"$f":"IF(Q199=1,\"●\",\"\")","v":""},{"$f":"IF(R199=1,\"●\",\"\")","v":"●"},{"$f":"IF(S199=1,\"●\",\"\")","v":""},{"$f":"IF(T199=1,\"●\",\"\")","v":"●"},{"$f":"IF(U199=1,\"●\",\"\")","v":""},{"$f":"IF(V199=1,\"●\",\"\")","v":"●"},{"$f":"IF(W199=1,\"●\",\"\")","v":""},{"$f":"IF(X199=1,\"●\",\"\")","v":""},{"$f":"IF(Y199=1,\"●\",\"\")","v":""},{"$f":"IF(Z199=1,\"●\",\"\")","v":""},{"$f":"IF(AA199=1,\"●\",\"\")","v":""},{"$f":"IF(AB199=1,\"●\",\"\")","v":""}]
[]
[]
[null,null,null,null,"８",33311,"ツーツーツートト",null,null,3,3,3,null,3,3,3,null,3,3,3,null,1,null,1,null,null,null,null,15,null,null,null,null,null,null,null,null,null,{"$f":"IF(I202=1,\"●\",\"\")","v":""},{"$f":"IF(J202=1,\"●\",\"\")","v":""},{"$f":"IF(K202=1,\"●\",\"\")","v":""},{"$f":"IF(L202=1,\"●\",\"\")","v":""},{"$f":"IF(M202=1,\"●\",\"\")","v":""},{"$f":"IF(N202=1,\"●\",\"\")","v":""},{"$f":"IF(O202=1,\"●\",\"\")","v":""},{"$f":"IF(P202=1,\"●\",\"\")","v":""},{"$f":"IF(Q202=1,\"●\",\"\")","v":""},{"$f":"IF(R202=1,\"●\",\"\")","v":""},{"$f":"IF(S202=1,\"●\",\"\")","v":""},{"$f":"IF(T202=1,\"●\",\"\")","v":""},{"$f":"IF(U202=1,\"●\",\"\")","v":""},{"$f":"IF(V202=1,\"●\",\"\")","v":"●"},{"$f":"IF(W202=1,\"●\",\"\")","v":""},{"$f":"IF(X202=1,\"●\",\"\")","v":"●"},{"$f":"IF(Y202=1,\"●\",\"\")","v":""},{"$f":"IF(Z202=1,\"●\",\"\")","v":""},{"$f":"IF(AA202=1,\"●\",\"\")","v":""},{"$f":"IF(AB202=1,\"●\",\"\")","v":""}]
[]
[]
[null,null,null,null,"９",33331,"ツーツーツーツート",null,null,3,3,3,null,3,3,3,null,3,3,3,null,3,3,3,null,1,null,null,17,null,null,null,null,null,null,null,null,null,{"$f":"IF(I205=1,\"●\",\"\")","v":""},{"$f":"IF(J205=1,\"●\",\"\")","v":""},{"$f":"IF(K205=1,\"●\",\"\")","v":""},{"$f":"IF(L205=1,\"●\",\"\")","v":""},{"$f":"IF(M205=1,\"●\",\"\")","v":""},{"$f":"IF(N205=1,\"●\",\"\")","v":""},{"$f":"IF(O205=1,\"●\",\"\")","v":""},{"$f":"IF(P205=1,\"●\",\"\")","v":""},{"$f":"IF(Q205=1,\"●\",\"\")","v":""},{"$f":"IF(R205=1,\"●\",\"\")","v":""},{"$f":"IF(S205=1,\"●\",\"\")","v":""},{"$f":"IF(T205=1,\"●\",\"\")","v":""},{"$f":"IF(U205=1,\"●\",\"\")","v":""},{"$f":"IF(V205=1,\"●\",\"\")","v":""},{"$f":"IF(W205=1,\"●\",\"\")","v":""},{"$f":"IF(X205=1,\"●\",\"\")","v":""},{"$f":"IF(Y205=1,\"●\",\"\")","v":""},{"$f":"IF(Z205=1,\"●\",\"\")","v":"●"},{"$f":"IF(AA205=1,\"●\",\"\")","v":""},{"$f":"IF(AB205=1,\"●\",\"\")","v":""}]
[]
[]
[null,null,null,null,"０",33333,"ツーツーツーツーツー",null,null,3,3,3,null,3,3,3,null,3,3,3,null,3,3,3,null,3,3,3,null,null,null,null,null,null,null,null,null,null,{"$f":"IF(I208=1,\"●\",\"\")","v":""},{"$f":"IF(J208=1,\"●\",\"\")","v":""},{"$f":"IF(K208=1,\"●\",\"\")","v":""},{"$f":"IF(L208=1,\"●\",\"\")","v":""},{"$f":"IF(M208=1,\"●\",\"\")","v":""},{"$f":"IF(N208=1,\"●\",\"\")","v":""},{"$f":"IF(O208=1,\"●\",\"\")","v":""},{"$f":"IF(P208=1,\"●\",\"\")","v":""},{"$f":"IF(Q208=1,\"●\",\"\")","v":""},{"$f":"IF(R208=1,\"●\",\"\")","v":""},{"$f":"IF(S208=1,\"●\",\"\")","v":""},{"$f":"IF(T208=1,\"●\",\"\")","v":""},{"$f":"IF(U208=1,\"●\",\"\")","v":""},{"$f":"IF(V208=1,\"●\",\"\")","v":""},{"$f":"IF(W208=1,\"●\",\"\")","v":""},{"$f":"IF(X208=1,\"●\",\"\")","v":""},{"$f":"IF(Y208=1,\"●\",\"\")","v":""},{"$f":"IF(Z208=1,\"●\",\"\")","v":""},{"$f":"IF(AA208=1,\"●\",\"\")","v":""},{"$f":"IF(AB208=1,\"●\",\"\")","v":""}]
[]
[]
[null,null,null,null,"ー",13313,"トツーツートツー",null,null,1,null,3,3,3,null,3,3,3,null,1,null,3,3,3,null,null,null,null,15,null,null,null,null,null,null,null,null,null,{"$f":"IF(I211=1,\"●\",\"\")","v":""},{"$f":"IF(J211=1,\"●\",\"\")","v":"●"},{"$f":"IF(K211=1,\"●\",\"\")","v":""},{"$f":"IF(L211=1,\"●\",\"\")","v":""},{"$f":"IF(M211=1,\"●\",\"\")","v":""},{"$f":"IF(N211=1,\"●\",\"\")","v":""},{"$f":"IF(O211=1,\"●\",\"\")","v":""},{"$f":"IF(P211=1,\"●\",\"\")","v":""},{"$f":"IF(Q211=1,\"●\",\"\")","v":""},{"$f":"IF(R211=1,\"●\",\"\")","v":""},{"$f":"IF(S211=1,\"●\",\"\")","v":""},{"$f":"IF(T211=1,\"●\",\"\")","v":"●"},{"$f":"IF(U211=1,\"●\",\"\")","v":""},{"$f":"IF(V211=1,\"●\",\"\")","v":""},{"$f":"IF(W211=1,\"●\",\"\")","v":""},{"$f":"IF(X211=1,\"●\",\"\")","v":""},{"$f":"IF(Y211=1,\"●\",\"\")","v":""},{"$f":"IF(Z211=1,\"●\",\"\")","v":""},{"$f":"IF(AA211=1,\"●\",\"\")","v":""},{"$f":"IF(AB211=1,\"●\",\"\")","v":""}]
[]
[]
[null,null,null,null,"、",131313,"トツートツートツー",null,null,1,null,3,3,3,null,1,null,3,3,3,null,1,null,3,3,3,null,null,17,null,null,null,null,null,null,null,null,null,{"$f":"IF(I214=1,\"●\",\"\")","v":""},{"$f":"IF(J214=1,\"●\",\"\")","v":"●"},{"$f":"IF(K214=1,\"●\",\"\")","v":""},{"$f":"IF(L214=1,\"●\",\"\")","v":""},{"$f":"IF(M214=1,\"●\",\"\")","v":""},{"$f":"IF(N214=1,\"●\",\"\")","v":""},{"$f":"IF(O214=1,\"●\",\"\")","v":""},{"$f":"IF(P214=1,\"●\",\"\")","v":"●"},{"$f":"IF(Q214=1,\"●\",\"\")","v":""},{"$f":"IF(R214=1,\"●\",\"\")","v":""},{"$f":"IF(S214=1,\"●\",\"\")","v":""},{"$f":"IF(T214=1,\"●\",\"\")","v":""},{"$f":"IF(U214=1,\"●\",\"\")","v":""},{"$f":"IF(V214=1,\"●\",\"\")","v":"●"},{"$f":"IF(W214=1,\"●\",\"\")","v":""},{"$f":"IF(X214=1,\"●\",\"\")","v":""},{"$f":"IF(Y214=1,\"●\",\"\")","v":""},{"$f":"IF(Z214=1,\"●\",\"\")","v":""},{"$f":"IF(AA214=1,\"●\",\"\")","v":""},{"$f":"IF(AB214=1,\"●\",\"\")","v":""}]
[]
[]
[null,null,null,null,"段落",131311,"トツートツートト",null,null,1,null,3,3,3,null,1,null,3,3,3,null,1,null,1,null,null,null,null,15,null,null,null,null,null,null,null,null,null,{"$f":"IF(I217=1,\"●\",\"\")","v":""},{"$f":"IF(J217=1,\"●\",\"\")","v":"●"},{"$f":"IF(K217=1,\"●\",\"\")","v":""},{"$f":"IF(L217=1,\"●\",\"\")","v":""},{"$f":"IF(M217=1,\"●\",\"\")","v":""},{"$f":"IF(N217=1,\"●\",\"\")","v":""},{"$f":"IF(O217=1,\"●\",\"\")","v":""},{"$f":"IF(P217=1,\"●\",\"\")","v":"●"},{"$f":"IF(Q217=1,\"●\",\"\")","v":""},{"$f":"IF(R217=1,\"●\",\"\")","v":""},{"$f":"IF(S217=1,\"●\",\"\")","v":""},{"$f":"IF(T217=1,\"●\",\"\")","v":""},{"$f":"IF(U217=1,\"●\",\"\")","v":""},{"$f":"IF(V217=1,\"●\",\"\")","v":"●"},{"$f":"IF(W217=1,\"●\",\"\")","v":""},{"$f":"IF(X217=1,\"●\",\"\")","v":"●"},{"$f":"IF(Y217=1,\"●\",\"\")","v":""},{"$f":"IF(Z217=1,\"●\",\"\")","v":""},{"$f":"IF(AA217=1,\"●\",\"\")","v":""},{"$f":"IF(AB217=1,\"●\",\"\")","v":""}]
[]
[]
[null,null,null,null,"（",313313,"ツートツーツートツー",null,null,3,3,3,null,1,null,3,3,3,null,3,3,3,null,1,null,3,3,3,null,null,null,null,null,null,null,null,null,null,{"$f":"IF(I220=1,\"●\",\"\")","v":""},{"$f":"IF(J220=1,\"●\",\"\")","v":""},{"$f":"IF(K220=1,\"●\",\"\")","v":""},{"$f":"IF(L220=1,\"●\",\"\")","v":""},{"$f":"IF(M220=1,\"●\",\"\")","v":""},{"$f":"IF(N220=1,\"●\",\"\")","v":"●"},{"$f":"IF(O220=1,\"●\",\"\")","v":""},{"$f":"IF(P220=1,\"●\",\"\")","v":""},{"$f":"IF(Q220=1,\"●\",\"\")","v":""},{"$f":"IF(R220=1,\"●\",\"\")","v":""},{"$f":"IF(S220=1,\"●\",\"\")","v":""},{"$f":"IF(T220=1,\"●\",\"\")","v":""},{"$f":"IF(U220=1,\"●\",\"\")","v":""},{"$f":"IF(V220=1,\"●\",\"\")","v":""},{"$f":"IF(W220=1,\"●\",\"\")","v":""},{"$f":"IF(X220=1,\"●\",\"\")","v":"●"},{"$f":"IF(Y220=1,\"●\",\"\")","v":""},{"$f":"IF(Z220=1,\"●\",\"\")","v":""},{"$f":"IF(AA220=1,\"●\",\"\")","v":""},{"$f":"IF(AB220=1,\"●\",\"\")","v":""}]
[]
[]
[null,null,null,null,"）",131131,"トツートトツート",null,null,1,null,3,3,3,null,1,null,1,null,3,3,3,null,1,null,null,null,null,15,null,null,null,null,null,null,null,null,null,{"$f":"IF(I223=1,\"●\",\"\")","v":""},{"$f":"IF(J223=1,\"●\",\"\")","v":"●"},{"$f":"IF(K223=1,\"●\",\"\")","v":""},{"$f":"IF(L223=1,\"●\",\"\")","v":""},{"$f":"IF(M223=1,\"●\",\"\")","v":""},{"$f":"IF(N223=1,\"●\",\"\")","v":""},{"$f":"IF(O223=1,\"●\",\"\")","v":""},{"$f":"IF(P223=1,\"●\",\"\")","v":"●"},{"$f":"IF(Q223=1,\"●\",\"\")","v":""},{"$f":"IF(R223=1,\"●\",\"\")","v":"●"},{"$f":"IF(S223=1,\"●\",\"\")","v":""},{"$f":"IF(T223=1,\"●\",\"\")","v":""},{"$f":"IF(U223=1,\"●\",\"\")","v":""},{"$f":"IF(V223=1,\"●\",\"\")","v":""},{"$f":"IF(W223=1,\"●\",\"\")","v":""},{"$f":"IF(X223=1,\"●\",\"\")","v":"●"},{"$f":"IF(Y223=1,\"●\",\"\")","v":""},{"$f":"IF(Z223=1,\"●\",\"\")","v":""},{"$f":"IF(AA223=1,\"●\",\"\")","v":""},{"$f":"IF(AB223=1,\"●\",\"\")","v":""}]
[]
[]
[null,null,null,null,"本文",311333,"ツートトツーツーツー",null,null,3,3,3,null,1,null,1,null,3,3,3,null,3,3,3,null,3,3,3,null,null,null,null,null,null,null,null,null,null,{"$f":"IF(I226=1,\"●\",\"\")","v":""},{"$f":"IF(J226=1,\"●\",\"\")","v":""},{"$f":"IF(K226=1,\"●\",\"\")","v":""},{"$f":"IF(L226=1,\"●\",\"\")","v":""},{"$f":"IF(M226=1,\"●\",\"\")","v":""},{"$f":"IF(N226=1,\"●\",\"\")","v":"●"},{"$f":"IF(O226=1,\"●\",\"\")","v":""},{"$f":"IF(P226=1,\"●\",\"\")","v":"●"},{"$f":"IF(Q226=1,\"●\",\"\")","v":""},{"$f":"IF(R226=1,\"●\",\"\")","v":""},{"$f":"IF(S226=1,\"●\",\"\")","v":""},{"$f":"IF(T226=1,\"●\",\"\")","v":""},{"$f":"IF(U226=1,\"●\",\"\")","v":""},{"$f":"IF(V226=1,\"●\",\"\")","v":""},{"$f":"IF(W226=1,\"●\",\"\")","v":""},{"$f":"IF(X226=1,\"●\",\"\")","v":""},{"$f":"IF(Y226=1,\"●\",\"\")","v":""},{"$f":"IF(Z226=1,\"●\",\"\")","v":""},{"$f":"IF(AA226=1,\"●\",\"\")","v":""},{"$f":"IF(AB226=1,\"●\",\"\")","v":""}]
[]
[]
[null,null,null,null,"訂正終了",11131,"トトトツート",null,null,1,null,1,null,1,null,3,3,3,null,1,null,null,null,null,null,null,null,null,11,null,null,null,null,null,null,null,null,null,{"$f":"IF(I229=1,\"●\",\"\")","v":""},{"$f":"IF(J229=1,\"●\",\"\")","v":"●"},{"$f":"IF(K229=1,\"●\",\"\")","v":""},{"$f":"IF(L229=1,\"●\",\"\")","v":"●"},{"$f":"IF(M229=1,\"●\",\"\")","v":""},{"$f":"IF(N229=1,\"●\",\"\")","v":"●"},{"$f":"IF(O229=1,\"●\",\"\")","v":""},{"$f":"IF(P229=1,\"●\",\"\")","v":""},{"$f":"IF(Q229=1,\"●\",\"\")","v":""},{"$f":"IF(R229=1,\"●\",\"\")","v":""},{"$f":"IF(S229=1,\"●\",\"\")","v":""},{"$f":"IF(T229=1,\"●\",\"\")","v":"●"},{"$f":"IF(U229=1,\"●\",\"\")","v":""},{"$f":"IF(V229=1,\"●\",\"\")","v":""},{"$f":"IF(W229=1,\"●\",\"\")","v":""},{"$f":"IF(X229=1,\"●\",\"\")","v":""},{"$f":"IF(Y229=1,\"●\",\"\")","v":""},{"$f":"IF(Z229=1,\"●\",\"\")","v":""},{"$f":"IF(AA229=1,\"●\",\"\")","v":""},{"$f":"IF(AB229=1,\"●\",\"\")","v":""}]
[]
[]
[]
[null,null,null,null,"アルファベットは前後を(　)で囲む"]

{"sheet":"打電時間設定","index":3,"n_rows":21,"n_cols":7,"rows_kept":21,"cut":false,"hidden":true,"merged":[]}
[{"$f":"NOW()","v":"2021-02-25T13:47:57.680"},{"$f":"TEXT(IF(DATE(YEAR(A1),MONTH(A1),DAY(A1))+TIME(HOUR(A1),MINUTE(A1),SECOND(A1))>A1,1000-ROUND(((DATE(YEAR(A1),MONTH(A1),DAY(A1))+TIME(HOUR(A1),MINUTE(A1),SECOND(A1)))-A1)*86400*1000,0),ROUND((A1-(DATE(YEAR(A1),MONTH(A1),DAY(A1))+TIME(HOUR(A1),MINUTE(A1),SECOND(A1))))*86400*1000,0)),\"000\")","v":"680"},"mm秒",null,false,null,true]
["2021-02-18T12:19:27.530",{"$f":"TEXT(IF(DATE(YEAR(A2),MONTH(A2),DAY(A2))+TIME(HOUR(A2),MINUTE(A2),SECOND(A2))>A2,1000-ROUND(((DATE(YEAR(A2),MONTH(A2),DAY(A2))+TIME(HOUR(A2),MINUTE(A2),SECOND(A2)))-A2)*86400*1000,0),ROUND((A2-(DATE(YEAR(A2),MONTH(A2),DAY(A2))+TIME(HOUR(A2),MINUTE(A2),SECOND(A2))))*86400*1000,0)),\"000\")","v":"530"},"mm秒",null,true,null,false]
["2021-02-18T12:19:27.530","530","mm秒"]
[{"$f":"A2-A3","v":"00:00:00"}]
["00:00:01",null,"クリック間隔秒数（これ以下ならば1語内打電と判断し、超えれば次語と判断する）"]
[null,null,"※入力時mm秒は表示されないが、秒以下に「.999」を強制入力する"]
[]
[]
["ダブルクリックの速度調整は、「コントロールパネル」→「デバイスとプリンター」→「マウス」のプロパティにて行う。"]
[]
[]
[]
[]
[]
[]
[]
[]
[]
[]
[]
[null,null,null,null,null,{"$f":"IF(D21<E21,\"●\",\"\")","v":""}]