{"text_format":"1","workbook":"xlsx","n_sheets":2,"sheets":["Game","補助"],"not_rendered":{"charts":0,"images":2,"macros":1,"external_links":0,"defined_names":0,"comments":0,"pivot_tables":0},"unopened":[],"bounds":{"document_bytes":16777216,"sheet_cells":100000,"rows_first":2000,"rows_last":500,"rows_between":2000,"halvings":0,"cell_chars":16384,"cell_head_chars":4096},"cells_cut":0,"cells_raw":0,"read":"whole","date_system":"1900"}

{"sheet":"Game","index":0,"n_rows":12,"n_cols":19,"rows_kept":12,"cut":false,"hidden":false,"merged":[[0,5,0,10],[0,16,0,18],[7,15,7,18],[11,4,11,11],[10,5,10,10],[8,15,8,16],[4,7,4,8],[1,2,1,4],[2,7,2,8],[2,12,2,13],[6,15,6,20]]}
[null,null,null,null,null,"【TIT_数字合わせ】\n（記憶力強化トレーニング）",null,null,null,null,null,null,null,null,null,null,{"$f":"TODAY()","v":"2021-02-25"}]
[null,null,"選択(2～5)",null,null,"表示","※条件を決めて「問題」を押して下さい。(A…1マスのみ表示,B…全マス表示)"]
[null,null,3,"×",{"$f":"C3","v":3},"B",null,"問　題",null,null,"再表示",null,"取　消"]
[null,null,1,{"$f":"C4+1","v":2},{"$f":"D4+1","v":3},4,5,null,null,1,{"$f":"J4+1","v":2},{"$f":"K4+1","v":3},4,5,null,"全数","正解","減点","点数"]
[null,1,null,null,null,null,null,null,null,null,null,null,null,null,null,{"$f":"C3*C3","v":9},0,0,{"$f":"SUM(Q5,R5)","v":0}]
[null,{"$f":"B5+1","v":2}]
[null,{"$f":"B6+1","v":3}]
[null,4,null,null,null,null,null,null,null,null,null,null,null,null,null,3]
[null,5,null,null,null,null,null,null,null,null,null,null,null,null,null,"終　了"]
[]
[null,null,null,null,null,"株式会社つくばＩＴパートナー"]
[null,null,null,null,"Copyright © 2017 Tsukuba IT Partner Co., Ltd. All Rights Reserved."]

{"sheet":"補助","index":1,"n_rows":10,"n_cols":30,"rows_kept":10,"cut":false,"hidden":true,"merged":[[9,26,9,27]]}
[1,{"$f":"A1+1","v":2},{"$f":"B1+1","v":3},4,5,6,7,8,9,10,11,12,13,14,15,16,17,{"$f":"Q1+1","v":18},19,20,21,22,{"$f":"V1+1","v":23},24,25]
[]
[{"$f":"ROUNDUP(A1/Game!$C$3,0)+4","v":5},{"$f":"ROUNDUP(B1/Game!$C$3,0)+4","v":5},{"$f":"ROUNDUP(C1/Game!$C$3,0)+4","v":5},{"$f":"ROUNDUP(D1/Game!$C$3,0)+4","v":6},{"$f":"ROUNDUP(E1/Game!$C$3,0)+4","v":6},{"$f":"ROUNDUP(F1/Game!$C$3,0)+4","v":6},{"$f":"ROUNDUP(G1/Game!$C$3,0)+4","v":7},{"$f":"ROUNDUP(H1/Game!$C$3,0)+4","v":7},{"$f":"ROUNDUP(I1/Game!$C$3,0)+4","v":7},{"$f":"ROUNDUP(J1/Game!$C$3,0)+4","v":8},{"$f":"ROUNDUP(K1/Game!$C$3,0)+4","v":8},{"$f":"ROUNDUP(L1/Game!$C$3,0)+4","v":8},{"$f":"ROUNDUP(M1/Game!$C$3,0)+4","v":9},{"$f":"ROUNDUP(N1/Game!$C$3,0)+4","v":9},{"$f":"ROUNDUP(O1/Game!$C$3,0)+4","v":9},{"$f":"ROUNDUP(P1/Game!$C$3,0)+4","v":10},{"$f":"ROUNDUP(Q1/Game!$C$3,0)+4","v":10},{"$f":"ROUNDUP(R1/Game!$C$3,0)+4","v":10},{"$f":"ROUNDUP(S1/Game!$C$3,0)+4","v":11},{"$f":"ROUNDUP(T1/Game!$C$3,0)+4","v":11},{"$f":"ROUNDUP(U1/Game!$C$3,0)+4","v":11},{"$f":"ROUNDUP(V1/Game!$C$3,0)+4","v":12},{"$f":"ROUNDUP(W1/Game!$C$3,0)+4","v":12},{"$f":"ROUNDUP(X1/Game!$C$3,0)+4","v":12},{"$f":"ROUNDUP(Y1/Game!$C$3,0)+4","v":13}]
[3,{"$f":"IF(A3<>B3,3,A4+1)","v":4},5,{"$f":"IF(C3<>D3,3,C4+1)","v":3},{"$f":"IF(D3<>E3,3,D4+1)","v":4},5,3,4,5,3,4,5,3,4,5,3,4,5,3,4,5,3,4,5,3]
[]
[{"$f":"IF(A$5=\"\",\"\",HLOOKUP(A$5,$A$1:$Y$4,3,FALSE))","v":""},{"$f":"IF(B$5=\"\",\"\",HLOOKUP(B$5,$A$1:$Y$4,3,FALSE))","v":""},"","","","","","","","","","","","","","","","","","","","","","",""]
[{"$f":"IF(A$5=\"\",\"\",HLOOKUP(A$5,$A$1:$Y$4,4,FALSE))","v":""},{"$f":"IF(B$5=\"\",\"\",HLOOKUP(B$5,$A$1:$Y$4,4,FALSE))","v":""},"","","","","","","","","","","","","","","","","","","","","","",""]
[]
[{"$f":"A6&A7+7","v":{"$error":"#VALUE!"}},{"$f":"B6&B7+7","v":{"$error":"#VALUE!"}},{"$error":"#VALUE!"},{"$error":"#VALUE!"},{"$error":"#VALUE!"},{"$error":"#VALUE!"},{"$error":"#VALUE!"},{"$error":"#VALUE!"},{"$error":"#VALUE!"},{"$error":"#VALUE!"},{"$error":"#VALUE!"},{"$error":"#VALUE!"},{"$error":"#VALUE!"},{"$error":"#VALUE!"},{"$error":"#VALUE!"},{"$error":"#VALUE!"},{"$error":"#VALUE!"},{"$error":"#VALUE!"},{"$error":"#VALUE!"},{"$error":"#VALUE!"},{"$error":"#VALUE!"},{"$error":"#VALUE!"},{"$error":"#VALUE!"},{"$error":"#VALUE!"},{"$error":"#VALUE!"},null,9,16]
[1,{"$f":"A10+1","v":2},{"$f":"B10+1","v":3},{"$f":"C10+1","v":4},{"$f":"D10+1","v":5},{"$f":"E10+1","v":6},{"$f":"F10+1","v":7},{"$f":"G10+1","v":8},{"$f":"H10+1","v":9},{"$f":"I10+1","v":10},{"$f":"J10+1","v":11},{"$f":"K10+1","v":12},{"$f":"L10+1","v":13},{"$f":"M10+1","v":14},{"$f":"N10+1","v":15},{"$f":"O10+1","v":16},{"$f":"P10+1","v":17},{"$f":"Q10+1","v":18},{"$f":"R10+1","v":19},{"$f":"S10+1","v":20},{"$f":"T10+1","v":21},{"$f":"U10+1","v":22},{"$f":"V10+1","v":23},{"$f":"W10+1","v":24},{"$f":"X10+1","v":25},null,{"$f":"AA9&AB9","v":"916"},null,null,0]