{"text_format":"1","workbook":"xlsx","n_sheets":2,"sheets":["Play","予備"],"not_rendered":{"charts":0,"images":6,"macros":1,"external_links":0,"defined_names":0,"comments":0,"pivot_tables":0},"unopened":[],"bounds":{"document_bytes":16777216,"sheet_cells":100000,"rows_first":2000,"rows_last":500,"rows_between":2000,"halvings":0,"cell_chars":16384,"cell_head_chars":4096},"cells_cut":0,"cells_raw":0,"read":"whole","date_system":"1900"}

{"sheet":"Play","index":0,"n_rows":60,"n_cols":40,"rows_kept":60,"cut":false,"hidden":false,"merged":[[16,27,17,51],[23,5,24,6],[23,7,24,8],[23,9,24,10],[23,11,24,12],[23,13,24,14],[23,15,24,16],[23,17,24,18],[23,19,24,20],[21,5,22,6],[21,7,22,8],[21,9,22,10],[21,11,22,12],[21,13,22,14],[21,15,22,16],[21,17,22,18],[21,19,22,20],[19,15,20,16],[19,17,20,18],[19,5,20,6],[19,7,20,8],[19,9,20,10],[19,11,20,12],[19,13,20,14],[59,33,59,36],[59,37,59,40],[19,21,20,22],[19,23,20,24],[59,29,59,32],[23,21,24,22],[23,23,24,24],[18,27,19,51],[26,21,26,32],[21,21,22,22],[21,23,22,24],[56,38,57,39],[22,37,23,40],[27,18,27,35],[19,19,20,20],[56,30,57,31],[56,34,57,35],[13,23,14,24],[54,37,54,40],[17,5,18,6],[17,7,18,8],[17,9,18,10],[17,11,18,12],[17,13,18,14],[17,15,18,16],[17,17,18,18],[17,19,18,20],[17,21,18,22],[15,17,16,18],[15,19,16,20],[15,21,16,22],[15,23,16,24],[54,29,54,32],[54,33,54,36],[15,5,16,6],[15,7,16,8],[15,9,16,10],[15,11,16,12],[15,13,16,14],[15,15,16,16],[17,23,18,24],[9,23,10,24],[9,29,10,36],[9,37,10,40],[11,5,12,6],[11,7,12,8],[11,9,12,10],[11,11,12,12],[11,13,12,14],[12,37,13,40],[13,5,14,6],[13,7,14,8],[13,9,14,10],[13,11,14,12],[13,13,14,14],[13,15,14,16],[13,17,14,18],[13,19,14,20],[13,21,14,22],[11,15,12,16],[11,17,12,18],[11,19,12,20],[11,21,12,22],[11,23,12,24],[12,29,13,36],[9,5,10,6],[9,7,10,8],[9,9,10,10],[9,11,10,12],[9,13,10,14],[9,15,10,16],[9,17,10,18],[9,19,10,20],[9,21,10,22],[1,39,2,46],[5,5,6,6],[5,7,6,8],[5,9,6,10],[5,11,6,12],[5,13,6,14],[5,15,6,16],[5,17,6,18],[5,19,6,20],[5,21,6,22],[5,23,6,24],[5,29,7,40],[7,5,8,6],[7,7,8,8],[7,9,8,10],[7,11,8,12],[7,13,8,14],[7,15,8,16],[7,17,8,18],[7,19,8,20],[7,21,8,22],[7,23,8,24],[1,14,2,37]]}
[]
[null,null,null,null,null,null,null,null,null,null,null,null,null,null,"【ゴールを目指せ！（今日の運だめし）】",null,null,null,null,null,null,null,null,null,null,null,null,null,null,null,null,null,null,null,null,null,null,null,null,{"$f":"TODAY()","v":"2021-02-25"}]
[]
[]
[null,null,null,null,null,"↑↓←→でGまでたどり着け。（落とし穴に注意！）"]
[null,null,null,null,null,{"$f":"IF(予備!AJ6=\"Ｇ\",\"Ｇ\",\"\")","v":""},null,{"$f":"IF(予備!AL6=\"Ｇ\",\"Ｇ\",\"\")","v":""},null,{"$f":"IF(予備!AN6=\"Ｇ\",\"Ｇ\",\"\")","v":""},null,{"$f":"IF(予備!AP6=\"Ｇ\",\"Ｇ\",\"\")","v":""},null,{"$f":"IF(予備!AR6=\"Ｇ\",\"Ｇ\",\"\")","v":""},null,{"$f":"IF(予備!BD6=\"Ｇ\",\"Ｇ\",\"\")","v":""},null,{"$f":"IF(予備!BF6=\"Ｇ\",\"Ｇ\",\"\")","v":""},null,{"$f":"IF(予備!BH6=\"Ｇ\",\"Ｇ\",\"\")","v":""},null,{"$f":"IF(予備!BJ6=\"Ｇ\",\"Ｇ\",\"\")","v":""},null,{"$f":"IF(予備!BB6=\"Ｇ\",\"Ｇ\",\"\")","v":"Ｇ"},null,null,null,null,null,"Reset(Enter)"]
[]
[null,null,null,null,null,{"$f":"IF(予備!AJ10=\"Ｇ\",\"Ｇ\",\"\")","v":""},null,{"$f":"IF(予備!AL10=\"Ｇ\",\"Ｇ\",\"\")","v":""},null,{"$f":"IF(予備!AN10=\"Ｇ\",\"Ｇ\",\"\")","v":""},null,{"$f":"IF(予備!AP10=\"Ｇ\",\"Ｇ\",\"\")","v":""},null,{"$f":"IF(予備!AR10=\"Ｇ\",\"Ｇ\",\"\")","v":""},null,{"$f":"IF(予備!BD10=\"Ｇ\",\"Ｇ\",\"\")","v":""},null,{"$f":"IF(予備!BF10=\"Ｇ\",\"Ｇ\",\"\")","v":""},null,{"$f":"IF(予備!BH10=\"Ｇ\",\"Ｇ\",\"\")","v":""},null,{"$f":"IF(予備!BJ10=\"Ｇ\",\"Ｇ\",\"\")","v":""},null,{"$f":"IF(予備!BL10=\"Ｇ\",\"Ｇ\",\"\")","v":""}]
[]
[null,null,null,null,null,{"$f":"IF(予備!AJ13=\"Ｇ\",\"Ｇ\",\"\")","v":""},null,{"$f":"IF(予備!AL13=\"Ｇ\",\"Ｇ\",\"\")","v":""},null,{"$f":"IF(予備!AN13=\"Ｇ\",\"Ｇ\",\"\")","v":""},null,{"$f":"IF(予備!AP13=\"Ｇ\",\"Ｇ\",\"\")","v":""},null,{"$f":"IF(予備!AR13=\"Ｇ\",\"Ｇ\",\"\")","v":""},null,{"$f":"IF(予備!BD13=\"Ｇ\",\"Ｇ\",\"\")","v":""},null,{"$f":"IF(予備!BF13=\"Ｇ\",\"Ｇ\",\"\")","v":""},null,{"$f":"IF(予備!BH13=\"Ｇ\",\"Ｇ\",\"\")","v":""},null,{"$f":"IF(予備!BJ13=\"Ｇ\",\"Ｇ\",\"\")","v":""},null,{"$f":"IF(予備!BL13=\"Ｇ\",\"Ｇ\",\"\")","v":""},null,null,null,null,null,"落とし穴の数",null,null,null,null,null,null,null,40]
[]
[null,null,null,null,null,{"$f":"IF(予備!AJ16=\"Ｇ\",\"Ｇ\",\"\")","v":""},null,{"$f":"IF(予備!AL16=\"Ｇ\",\"Ｇ\",\"\")","v":""},null,{"$f":"IF(予備!AN16=\"Ｇ\",\"Ｇ\",\"\")","v":""},null,{"$f":"IF(予備!AP16=\"Ｇ\",\"Ｇ\",\"\")","v":""},null,{"$f":"IF(予備!AR16=\"Ｇ\",\"Ｇ\",\"\")","v":""},null,{"$f":"IF(予備!BD16=\"Ｇ\",\"Ｇ\",\"\")","v":""},null,{"$f":"IF(予備!BF16=\"Ｇ\",\"Ｇ\",\"\")","v":""},null,{"$f":"IF(予備!BH16=\"Ｇ\",\"Ｇ\",\"\")","v":""},null,{"$f":"IF(予備!BJ16=\"Ｇ\",\"Ｇ\",\"\")","v":""},null,{"$f":"IF(予備!BL16=\"Ｇ\",\"Ｇ\",\"\")","v":""}]
[null,null,null,null,null,null,null,null,null,null,null,null,null,null,null,null,null,null,null,null,null,null,null,null,null,null,null,null,null,"残念落下回数！",null,null,null,null,null,null,null,0]
[null,null,null,null,null,{"$f":"IF(予備!AJ19=\"Ｇ\",\"Ｇ\",\"\")","v":""},null,{"$f":"IF(予備!AL19=\"Ｇ\",\"Ｇ\",\"\")","v":""},null,{"$f":"IF(予備!AN19=\"Ｇ\",\"Ｇ\",\"\")","v":""},null,{"$f":"IF(予備!AP19=\"Ｇ\",\"Ｇ\",\"\")","v":""},null,{"$f":"IF(予備!AR19=\"Ｇ\",\"Ｇ\",\"\")","v":""},null,{"$f":"IF(予備!BD19=\"Ｇ\",\"Ｇ\",\"\")","v":""},null,{"$f":"IF(予備!BF19=\"Ｇ\",\"Ｇ\",\"\")","v":""},null,{"$f":"IF(予備!BH19=\"Ｇ\",\"Ｇ\",\"\")","v":""},null,{"$f":"IF(予備!BJ19=\"Ｇ\",\"Ｇ\",\"\")","v":""},null,{"$f":"IF(予備!BL19=\"Ｇ\",\"Ｇ\",\"\")","v":""}]
[]
[null,null,null,null,null,{"$f":"IF(予備!AJ26=\"Ｇ\",\"Ｇ\",\"\")","v":""},null,{"$f":"IF(予備!AL26=\"Ｇ\",\"Ｇ\",\"\")","v":""},null,{"$f":"IF(予備!AN26=\"Ｇ\",\"Ｇ\",\"\")","v":""},null,{"$f":"IF(予備!AP26=\"Ｇ\",\"Ｇ\",\"\")","v":""},null,{"$f":"IF(予備!AR26=\"Ｇ\",\"Ｇ\",\"\")","v":""},null,{"$f":"IF(予備!BD26=\"Ｇ\",\"Ｇ\",\"\")","v":""},null,null,null,{"$f":"IF(予備!BH26=\"Ｇ\",\"Ｇ\",\"\")","v":""},null,{"$f":"IF(予備!BJ26=\"Ｇ\",\"Ｇ\",\"\")","v":""},null,{"$f":"IF(予備!BL26=\"Ｇ\",\"Ｇ\",\"\")","v":""}]
[]
[null,null,null,null,null,null,null,null,null,null,null,null,null,{"$f":"IF(予備!AR28=\"Ｇ\",\"Ｇ\",\"\")","v":""},null,{"$f":"IF(予備!BD28=\"Ｇ\",\"Ｇ\",\"\")","v":""},null,{"$f":"IF(予備!BF28=\"Ｇ\",\"Ｇ\",\"\")","v":""},null,{"$f":"IF(予備!BH28=\"Ｇ\",\"Ｇ\",\"\")","v":""},null,{"$f":"IF(予備!BJ28=\"Ｇ\",\"Ｇ\",\"\")","v":""},null,{"$f":"IF(予備!BL28=\"Ｇ\",\"Ｇ\",\"\")","v":""}]
[]
[null,null,null,null,null,null,null,null,null,null,null,null,null,{"$f":"IF(予備!AR30=\"Ｇ\",\"Ｇ\",\"\")","v":""},null,{"$f":"IF(予備!BD30=\"Ｇ\",\"Ｇ\",\"\")","v":""},null,{"$f":"IF(予備!BF30=\"Ｇ\",\"Ｇ\",\"\")","v":""},null,{"$f":"IF(予備!BH30=\"Ｇ\",\"Ｇ\",\"\")","v":""},null,{"$f":"IF(予備!BJ30=\"Ｇ\",\"Ｇ\",\"\")","v":""},null,{"$f":"IF(予備!BL30=\"Ｇ\",\"Ｇ\",\"\")","v":""}]
[]
[null,null,null,null,null,null,null,null,null,null,null,null,null,{"$f":"IF(予備!AR32=\"Ｇ\",\"Ｇ\",\"\")","v":""},null,{"$f":"IF(予備!BD32=\"Ｇ\",\"Ｇ\",\"\")","v":""},null,{"$f":"IF(予備!BF32=\"Ｇ\",\"Ｇ\",\"\")","v":""},null,{"$f":"IF(予備!BH32=\"Ｇ\",\"Ｇ\",\"\")","v":""},null,{"$f":"IF(予備!BJ32=\"Ｇ\",\"Ｇ\",\"\")","v":""},null,{"$f":"IF(予備!BL32=\"Ｇ\",\"Ｇ\",\"\")","v":""}]
[null,null,null,null,null,null,null,null,null,null,null,null,null,null,null,null,null,null,null,null,null,null,null,null,null,null,null,null,null,null,null,null,null,null,null,null,null,"終了"]
[null,null,null,null,null,{"$f":"IF(予備!AJ24=\"Ｇ\",\"Ｇ\",\"\")","v":""},null,null,null,null,null,null,null,{"$f":"IF(予備!AR34=\"Ｇ\",\"Ｇ\",\"\")","v":""},null,{"$f":"IF(予備!BD34=\"Ｇ\",\"Ｇ\",\"\")","v":""},null,{"$f":"IF(予備!BF34=\"Ｇ\",\"Ｇ\",\"\")","v":""},null,{"$f":"IF(予備!BH34=\"Ｇ\",\"Ｇ\",\"\")","v":""},null,{"$f":"IF(予備!BJ34=\"Ｇ\",\"Ｇ\",\"\")","v":""},null,{"$f":"IF(予備!BB24=\"Ｇ\",\"Ｇ\",\"\")","v":""}]
[]
[]
[null,null,null,null,null,null,null,null,null,null,null,null,null,null,null,null,null,null,null,null,null,"株式会社つくばＩＴパートナー"]
[null,null,null,null,null,null,null,null,null,null,null,null,null,null,null,null,null,null,"Copyright © 2017 Tsukuba IT Partner Co., Ltd. All Rights Reserved."]
[]
[]
[]
[]
[]
[]
[]
[]
[]
[]
[]
[]
[]
[]
[]
[]
[]
[]
[]
[]
[]
[]
[]
[]
[]
[]
[null,null,null,null,null,null,null,null,null,null,null,null,null,null,null,null,null,null,null,null,null,null,null,null,null,null,null,null,null,"通常キャラ",null,null,null,"落下キャラ",null,null,null,"ゴールキャラ"]
[]
[]
[]
[]
[null,null,null,null,null,null,null,null,null,null,null,null,null,null,null,null,null,null,null,null,null,null,null,null,null,null,null,null,null,"chara1",null,null,null,"chara2",null,null,null,"chara3"]

{"sheet":"予備","index":1,"n_rows":40,"n_cols":54,"rows_kept":40,"cut":false,"hidden":true,"merged":[[36,14,36,16],[37,14,37,16],[38,14,38,16],[39,14,39,16],[26,14,26,16],[27,14,27,16],[28,14,28,16],[29,14,29,16],[30,14,30,16],[31,14,31,16],[32,14,32,16],[33,14,33,16],[34,14,34,16],[35,14,35,16],[23,75,24,76],[23,77,24,78],[23,79,24,80],[23,81,24,82],[23,83,24,84],[23,65,24,66],[23,67,24,68],[23,69,24,70],[23,71,24,72],[23,73,24,74],[21,75,22,76],[21,77,22,78],[21,79,22,80],[21,81,22,82],[21,83,22,84],[21,65,22,66],[21,67,22,68],[21,69,22,70],[21,71,22,72],[21,73,22,74],[19,75,20,76],[19,77,20,78],[19,79,20,80],[19,81,20,82],[19,83,20,84],[19,65,20,66],[19,67,20,68],[19,69,20,70],[19,71,20,72],[19,73,20,74],[17,75,18,76],[17,77,18,78],[17,79,18,80],[17,81,18,82],[17,83,18,84],[17,65,18,66],[17,67,18,68],[17,69,18,70],[17,71,18,72],[17,73,18,74],[15,75,16,76],[15,77,16,78],[15,79,16,80],[15,81,16,82],[15,83,16,84],[15,65,16,66],[15,67,16,68],[15,69,16,70],[15,71,16,72],[15,73,16,74],[13,75,14,76],[13,77,14,78],[13,79,14,80],[13,81,14,82],[13,83,14,84],[13,65,14,66],[13,67,14,68],[13,69,14,70],[13,71,14,72],[13,73,14,74],[11,75,12,76],[11,77,12,78],[11,79,12,80],[11,81,12,82],[11,83,12,84],[11,65,12,66],[11,67,12,68],[11,69,12,70],[11,71,12,72],[11,73,12,74],[9,75,10,76],[9,77,10,78],[9,79,10,80],[9,81,10,82],[9,83,10,84],[9,65,10,66],[9,67,10,68],[9,69,10,70],[9,71,10,72],[9,73,10,74],[7,75,8,76],[7,77,8,78],[7,79,8,80],[7,81,8,82],[7,83,8,84],[7,65,8,66],[7,67,8,68],[7,69,8,70],[7,71,8,72],[7,73,8,74],[5,75,6,76],[5,77,6,78],[5,79,6,80],[5,81,6,82],[5,83,6,84],[5,65,6,66],[5,67,6,68],[5,69,6,70],[5,71,6,72],[5,73,6,74],[23,45,24,46],[23,47,24,48],[23,49,24,50],[23,51,24,52],[23,53,24,54],[23,35,24,36],[23,37,24,38],[23,39,24,40],[23,41,24,42],[23,43,24,44],[21,45,22,46],[21,47,22,48],[21,49,22,50],[21,51,22,52],[21,53,22,54],[21,35,22,36],[21,37,22,38],[21,39,22,40],[21,41,22,42],[21,43,22,44],[19,45,20,46],[19,47,20,48],[19,49,20,50],[19,51,20,52],[19,53,20,54],[19,35,20,36],[19,37,20,38],[19,39,20,40],[19,41,20,42],[19,43,20,44],[17,45,18,46],[17,47,18,48],[17,49,18,50],[17,51,18,52],[17,53,18,54],[17,35,18,36],[17,37,18,38],[17,39,18,40],[17,41,18,42],[17,43,18,44],[15,45,16,46],[15,47,16,48],[15,49,16,50],[15,51,16,52],[15,53,16,54],[15,35,16,36],[15,37,16,38],[15,39,16,40],[15,41,16,42],[15,43,16,44],[13,45,14,46],[13,47,14,48],[13,49,14,50],[13,51,14,52],[13,53,14,54],[13,35,14,36],[13,37,14,38],[13,39,14,40],[13,41,14,42],[13,43,14,44],[11,45,12,46],[11,47,12,48],[11,49,12,50],[11,51,12,52],[11,53,12,54],[11,35,12,36],[11,37,12,38],[11,39,12,40],[11,41,12,42],[11,43,12,44],[9,45,10,46],[9,47,10,48],[9,49,10,50],[9,51,10,52],[9,53,10,54],[9,35,10,36],[9,37,10,38],[9,39,10,40],[9,41,10,42],[9,43,10,44],[7,45,8,46],[7,47,8,48],[7,49,8,50],[7,51,8,52],[7,53,8,54],[7,35,8,36],[7,37,8,38],[7,39,8,40],[7,41,8,42],[7,43,8,44],[5,45,6,46],[5,47,6,48],[5,49,6,50],[5,51,6,52],[5,53,6,54],[5,35,6,36],[5,37,6,38],[5,39,6,40],[5,41,6,42],[5,43,6,44],[23,15,24,16],[23,17,24,18],[23,19,24,20],[23,21,24,22],[23,23,24,24],[23,5,24,6],[23,7,24,8],[23,9,24,10],[23,11,24,12],[23,13,24,14],[21,15,22,16],[21,17,22,18],[21,19,22,20],[21,21,22,22],[21,23,22,24],[21,5,22,6],[21,7,22,8],[21,9,22,10],[21,11,22,12],[21,13,22,14],[19,15,20,16],[19,17,20,18],[19,19,20,20],[19,21,20,22],[19,23,20,24],[19,5,20,6],[19,7,20,8],[19,9,20,10],[19,11,20,12],[19,13,20,14],[17,15,18,16],[17,17,18,18],[17,19,18,20],[17,21,18,22],[17,23,18,24],[17,5,18,6],[17,7,18,8],[17,9,18,10],[17,11,18,12],[17,13,18,14],[15,15,16,16],[15,17,16,18],[15,19,16,20],[15,21,16,22],[15,23,16,24],[15,5,16,6],[15,7,16,8],[15,9,16,10],[15,11,16,12],[15,13,16,14],[13,15,14,16],[13,17,14,18],[13,19,14,20],[13,21,14,22],[13,23,14,24],[13,5,14,6],[13,7,14,8],[13,9,14,10],[13,11,14,12],[13,13,14,14],[11,15,12,16],[11,17,12,18],[11,19,12,20],[11,21,12,22],[11,23,12,24],[11,5,12,6],[11,7,12,8],[11,9,12,10],[11,11,12,12],[11,13,12,14],[9,15,10,16],[9,17,10,18],[9,19,10,20],[9,21,10,22],[9,23,10,24],[9,5,10,6],[9,7,10,8],[9,9,10,10],[9,11,10,12],[9,13,10,14],[7,15,8,16],[7,17,8,18],[7,19,8,20],[7,21,8,22],[7,23,8,24],[7,5,8,6],[7,7,8,8],[7,9,8,10],[7,11,8,12],[7,13,8,14],[5,15,6,16],[5,17,6,18],[5,19,6,20],[5,21,6,22],[5,23,6,24],[5,5,6,6],[5,7,6,8],[5,9,6,10],[5,11,6,12],[5,13,6,14],[38,9,38,11],[39,9,39,11],[28,9,28,11],[29,9,29,11],[30,9,30,11],[31,9,31,11],[32,9,32,11],[33,9,33,11],[37,6,37,8],[38,6,38,8],[39,6,39,8],[28,6,28,8],[29,6,29,8],[30,6,30,8],[31,6,31,8],[32,6,32,8],[33,6,33,8],[27,6,27,8],[27,9,27,11],[34,9,34,11],[35,9,35,11],[36,9,36,11],[34,6,34,8],[35,6,35,8],[36,6,36,8],[37,9,37,11]]}
[]
[]
[]
[]
[]
[null,null,null,null,null,null,null,null,null,null,null,null,null,null,null,null,null,null,null,null,null,null,null,null,null,null,null,null,null,null,null,null,null,null,null,null,null,null,null,null,null,"×",null,"×",null,"×",null,null,null,"△",null,"△",null,"Ｇ"]
[]
[null,null,null,null,null,null,null,null,null,null,null,null,null,null,null,null,null,null,null,null,null,null,null,null,null,null,null,null,null,null,null,null,null,null,null,"×",null,null,null,null,null,"×",null,"×",null,"×",null,"△",null,"△",null,"×"]
[]
[null,null,null,null,null,null,null,null,null,null,null,null,null,null,null,null,null,null,null,null,null,null,null,null,null,null,null,null,null,null,null,null,null,null,null,null,null,null,null,"×",null,null,null,"△",null,"△",null,"△",null,"×"]
[]
[null,null,null,null,null,null,null,null,null,null,null,null,null,null,null,null,null,null,null,null,null,null,null,null,null,null,null,null,null,null,null,null,null,null,null,null,null,"×",null,null,null,null,null,"△",null,null,null,"×",null,null,null,"×"]
[]
[null,null,null,null,null,null,null,null,null,null,null,null,null,null,null,null,null,null,null,null,null,null,null,null,null,null,null,null,null,null,null,null,null,null,null,"×",null,"×",null,null,null,"△",null,"△",null,"×",null,null,null,null,null,null,null,"×"]
[]
[null,null,null,null,null,null,null,null,null,null,null,null,null,null,null,null,null,null,null,null,null,null,null,null,null,null,null,null,null,null,null,null,null,null,null,"×",null,"△",null,"△",null,"△",null,"×",null,null,null,null,null,null,null,null,null,"×"]
[]
[null,null,null,null,null,null,null,null,null,null,null,null,null,null,null,null,null,null,null,null,null,null,null,null,null,null,null,null,null,null,null,null,null,null,null,"△",null,"△",null,"×",null,"×",null,null,null,"×",null,"×"]
[]
[null,null,null,null,null,null,null,null,null,null,null,null,null,null,null,null,null,null,null,null,null,null,null,null,null,null,null,null,null,null,null,null,null,null,null,"△",null,null,null,null,null,null,null,null,null,"×",null,"×",null,"×",null,"×",null,"×"]
[]
[null,null,null,null,null,null,null,null,null,null,null,null,null,null,null,null,null,null,null,null,null,null,null,null,null,null,null,null,null,null,null,null,null,null,null,"△",null,"×",null,"×",null,null,null,null,null,"×",null,"×",null,"×"]
[]
[null,null,null,null,null,"○",null,null,null,null,null,null,null,null,null,null,null,null,null,null,null,null,null,null,null,null,null,null,null,null,null,null,null,null,null,null,null,"×",null,null,null,"×",null,null,null,null,null,"×",null,"×",null,"×",null,"×"]
[]
[]
[null,null,null,null,null,null,null,null,null,null,null,null,null,null,{"$f":"Play!AL10*60%","v":24}]
[null,null,null,null,null,null,{"$f":"VLOOKUP(\"○\",F29:I40,2,FALSE)","v":"大吉"},null,null,null,null,null,null,null,{"$f":"Play!AL13","v":0},null,null,"個"]
[null,null,null,null,null,{"$f":"IF(O28<=O29,\"○\",\"\")","v":"○"},"大吉",null,null,5,null,null,"%以下",null,{"$f":"ROUNDUP($O$27*$J29/100,0)","v":2},null,null,"個以下"]
[null,null,null,null,null,{"$f":"IF(AND($O$28>O29,$O$28<=O30),\"○\",\"\")","v":""},"中吉",null,null,{"$f":"J29+5","v":10},null,null,"%以下",null,{"$f":"ROUNDUP($O$27*$J30/100,0)","v":3},null,null,"個以下"]
[null,null,null,null,null,{"$f":"IF(AND($O$28>O30,$O$28<=O31),\"○\",\"\")","v":""},"小吉",null,null,{"$f":"J30+5","v":15},null,null,"%以下",null,4,null,null,"個以下"]
[null,null,null,null,null,"","吉",null,null,20,null,null,"%以下",null,5,null,null,"個以下"]
[null,null,null,null,null,"","半吉",null,null,25,null,null,"%以下",null,6,null,null,"個以下"]
[null,null,null,null,null,"","末吉",null,null,30,null,null,"%以下",null,8,null,null,"個以下"]
[null,null,null,null,null,"","末小吉",null,null,35,null,null,"%以下",null,9,null,null,"個以下"]
[null,null,null,null,null,"","凶",null,null,40,null,null,"%以下",null,10,null,null,"個以下"]
[null,null,null,null,null,"","小凶",null,null,45,null,null,"%以下",null,11,null,null,"個以下"]
[null,null,null,null,null,"","半凶",null,null,50,null,null,"%以下",null,12,null,null,"個以下"]
[null,null,null,null,null,"","末凶",null,null,55,null,null,"%以下",null,14,null,null,"個以下"]
[null,null,null,null,null,{"$f":"IF($O$28>=O40,\"○\",\"\")","v":""},"大凶",null,null,null,null,null,"%以上",null,15,null,null,"個以上"]