{"text_format":"1","workbook":"xlsx","n_sheets":2,"sheets":["GAME","補助"],"not_rendered":{"charts":0,"images":4,"macros":1,"external_links":0,"defined_names":0,"comments":0,"pivot_tables":0},"unopened":[],"bounds":{"document_bytes":16777216,"sheet_cells":100000,"rows_first":2000,"rows_last":500,"rows_between":2000,"halvings":0,"cell_chars":16384,"cell_head_chars":4096},"cells_cut":0,"cells_raw":0,"read":"whole","date_system":"1900"}

{"sheet":"GAME","index":0,"n_rows":18,"n_cols":33,"rows_kept":18,"cut":false,"hidden":false,"merged":[[13,15,13,16],[9,15,9,16],[10,15,10,16],[11,15,11,16],[12,15,12,16],[9,13,9,14],[10,13,10,14],[11,13,11,14],[12,13,12,14],[13,13,13,14],[9,10,9,12],[10,10,10,12],[12,10,12,12],[13,10,13,12],[11,10,11,12],[5,26,5,28],[5,30,5,32],[4,18,4,24],[5,18,5,20],[5,22,5,24],[0,32,0,35],[7,30,7,31],[7,32,7,33],[9,2,9,5],[10,2,11,3],[10,4,11,5],[7,20,7,21],[7,10,7,11],[7,12,7,13],[7,14,7,15],[7,16,7,17],[7,18,7,19],[4,10,4,16],[5,10,5,12],[5,14,5,16],[4,26,4,32],[7,23,7,29],[11,18,11,20],[12,18,12,20],[13,18,13,20],[9,21,9,22],[9,23,9,24],[10,23,10,24],[11,23,11,24],[12,23,12,24],[13,23,13,24],[10,21,10,22],[11,21,11,22],[12,21,12,22],[13,21,13,22],[9,18,9,20],[10,18,10,20]]}
[null,null,null,null,null,null,null,null,null,null,null,null,null,null,"【TIT_ルーレットゲーム】",null,null,null,null,null,null,null,null,null,null,null,null,null,null,null,null,null,{"$f":"TODAY()","v":"2021-02-25"}]
[]
[]
[]
[]
[]
[]
[null,null,null,null,null,null,null,null,null,null,"持点",null,100,null,"賭点",null,null,null,"勝点",null,0,null,null,"賭場所を選んで下さい。",null,null,null,null,null,null,"１ﾍﾞｯﾄ",null,10]
[]
[null,null,"結果",null,null,null,null,null,null,null,"ストレートアップ",null,null,"１点賭",null,36,null,null,"コラム",null,null,"横列賭",null,3]
[null,null,"黒",null,"31",null,null,null,null,null,"スプリット",null,null,"２点賭",null,18,null,null,"ダズン",null,null,"12点賭",null,3]
[null,null,null,null,null,null,null,null,null,null,"ストリート／トリプル",null,null,"３点賭",null,12,null,null,"ロウハイ",null,null,"18点賭",null,2]
[null,null,null,null,null,null,null,null,null,null,"コーナー／フォー",null,null,"４点賭",null,9,null,null,"イーブン／オッド",null,null,"偶奇数賭",null,2]
[null,null,null,null,null,null,null,null,null,null,"ライン",null,null,"６点賭",null,6,null,null,"レッド／ブラック",null,null,"赤黒賭",null,2]
[]
[]
[null,null,null,null,null,null,null,null,null,null,null,null,null,null,null,"株式会社つくばＩＴパートナー"]
[null,null,null,null,null,null,null,null,null,null,null,null,null,"Copyright © 2017 Tsukuba IT Partner Co., Ltd. All Rights Reserved."]

{"sheet":"補助","index":1,"n_rows":160,"n_cols":51,"rows_kept":160,"cut":false,"hidden":true,"merged":[]}
[1,"1","赤",null,{"$f":"MATCH(\"〇\",D:D,0)","v":4},null,null,null,null,"ベット方法","0","1","2","3","4","5","6","7","8","9","10","11","12","13","14","15","16","17","18","19","20","21","22","23","24","25","26","27","28","29","30","31","32","33","34","35","36","賭点","倍率","勝点"]
[{"$f":"A1+1","v":2},"20","黒",null,null,null,null,36,2,"ストレートアップ",0,0,0,0,0,0,0,0,0,0,0,0,0,0,0,0,0,0,0,0,0,0,0,0,0,0,0,0,0,0,0,0,0,0,0,0,0,{"$f":"IF(ISERROR(HLOOKUP(GAME!$E$11,$K$1:$AU2,I2,FALSE))=TRUE,0,HLOOKUP(GAME!$E$11,$K$1:$AU2,I2,FALSE))","v":0},36,{"$f":"AV2*AW2","v":0},{"$f":"SUM(K2:AU2)","v":0}]
[{"$f":"A2+1","v":3},"14","赤",null,null,null,0,null,{"$f":"I2+1","v":3},"スプリット",0,0,0,0,0,0,0,0,0,0,0,0,0,0,0,0,0,0,0,0,0,0,0,0,0,0,0,0,0,0,0,0,0,0,0,0,0,{"$f":"IF(ISERROR(HLOOKUP(GAME!$E$11,$K$1:$AU3,I3,FALSE))=TRUE,0,HLOOKUP(GAME!$E$11,$K$1:$AU3,I3,FALSE))","v":0},18,{"$f":"AV3*AW3","v":0},{"$f":"SUM(K3:AU3)","v":0}]
[4,"31","黒","〇",null,null,1,null,{"$f":"I3+1","v":4},"ストリート／トリプル",0,0,0,0,0,0,0,0,0,0,0,0,0,0,0,0,0,0,0,0,0,0,0,0,0,0,0,0,0,0,0,0,0,0,0,0,0,{"$f":"IF(ISERROR(HLOOKUP(GAME!$E$11,$K$1:$AU4,I4,FALSE))=TRUE,0,HLOOKUP(GAME!$E$11,$K$1:$AU4,I4,FALSE))","v":0},12,0,0]
[5,"9","赤",null,null,null,2,null,5,"コーナー／フォー",0,0,0,0,0,0,0,0,0,0,0,0,0,0,0,0,0,0,0,0,0,0,0,0,0,0,0,0,0,0,0,0,0,0,0,0,0,{"$f":"IF(ISERROR(HLOOKUP(GAME!$E$11,$K$1:$AU5,I5,FALSE))=TRUE,0,HLOOKUP(GAME!$E$11,$K$1:$AU5,I5,FALSE))","v":0},9,0,0]
[6,"22","黒",null,null,null,3,null,6,"ライン",0,0,0,0,0,0,0,0,0,0,0,0,0,0,0,0,0,0,0,0,0,0,0,0,0,0,0,0,0,0,0,0,0,0,0,0,0,{"$f":"IF(ISERROR(HLOOKUP(GAME!$E$11,$K$1:$AU6,I6,FALSE))=TRUE,0,HLOOKUP(GAME!$E$11,$K$1:$AU6,I6,FALSE))","v":0},6,0,0]
[7,"18","赤",null,null,null,4,null,7,"コラム",0,0,0,0,0,0,0,0,0,0,0,0,0,0,0,0,0,0,0,0,0,0,0,0,0,0,0,0,0,0,0,0,0,0,0,0,0,{"$f":"IF(ISERROR(HLOOKUP(GAME!$E$11,$K$1:$AU7,I7,FALSE))=TRUE,0,HLOOKUP(GAME!$E$11,$K$1:$AU7,I7,FALSE))","v":0},3,0,0]
[8,"29","黒",null,null,null,5,null,8,"ダズン",0,0,0,0,0,0,0,0,0,0,0,0,0,0,0,0,0,0,0,0,0,0,0,0,0,0,0,0,0,0,0,0,0,0,0,0,0,{"$f":"IF(ISERROR(HLOOKUP(GAME!$E$11,$K$1:$AU8,I8,FALSE))=TRUE,0,HLOOKUP(GAME!$E$11,$K$1:$AU8,I8,FALSE))","v":0},3,0,0]
[9,"7","赤",null,null,null,6,null,9,"ロウハイ",0,0,0,0,0,0,0,0,0,0,0,0,0,0,0,0,0,0,0,0,0,0,0,0,0,0,0,0,0,0,0,0,0,0,0,0,0,{"$f":"IF(ISERROR(HLOOKUP(GAME!$E$11,$K$1:$AU9,I9,FALSE))=TRUE,0,HLOOKUP(GAME!$E$11,$K$1:$AU9,I9,FALSE))","v":0},2,0,0]
[10,"28","黒",null,null,null,7,null,10,"イーブン／オッド",0,0,0,0,0,0,0,0,0,0,0,0,0,0,0,0,0,0,0,0,0,0,0,0,0,0,0,0,0,0,0,0,0,0,0,0,0,{"$f":"IF(ISERROR(HLOOKUP(GAME!$E$11,$K$1:$AU10,I10,FALSE))=TRUE,0,HLOOKUP(GAME!$E$11,$K$1:$AU10,I10,FALSE))","v":0},2,0,0]
[11,"12","赤",null,null,null,8,null,11,"レッド／ブラック",0,0,0,0,0,0,0,0,0,0,0,0,0,0,0,0,0,0,0,0,0,0,0,0,0,0,0,0,0,0,0,0,0,0,0,0,0,{"$f":"IF(ISERROR(HLOOKUP(GAME!$E$11,$K$1:$AU11,I11,FALSE))=TRUE,0,HLOOKUP(GAME!$E$11,$K$1:$AU11,I11,FALSE))","v":0},2,0,0]
[12,"35","黒",null,null,null,9,null,null,null,{"$f":"SUM(K2:K11)","v":0},{"$f":"SUM(L2:L11)","v":0},0,0,0,0,0,0,0,0,0,{"$f":"SUM(V2:V11)","v":0},0,0,0,0,0,0,0,0,0,0,0,0,0,0,0,0,0,0,0,0,0,0,0,0,0,null,null,{"$f":"SUM(AX2:AX11)","v":0}]
[13,"3","赤",null,null,null,10,null,null,null,{"$f":"IF(SUM(K2:K11)=0,\"\",\"〇\")","v":""},"","","","","","","","","","","","","","","","","","","","","","","","","","","","","","","","","","","",""]
[14,"26","黒",null,null,null,11,null,null,null,2,4,3,2,4,3,2,4,3,2,4,3,2,4,3,2,4,3,2,4,3,2,4,3,2,4,3,2,4,3,2,4,3,2,4,3,2]
[15,"0",null,null,null,null,12,null,null,null,10,12,12,12,{"$f":"L15+2","v":14},{"$f":"M15+2","v":14},14,16,16,16,18,18,{"$f":"T15+2","v":18},20,{"$f":"V15+2","v":20},{"$f":"W15+2","v":20},{"$f":"X15+2","v":22},{"$f":"Y15+2","v":22},22,{"$f":"AA15+2","v":24},{"$f":"AB15+2","v":24},{"$f":"AC15+2","v":24},{"$f":"AD15+2","v":26},{"$f":"AE15+2","v":26},{"$f":"AF15+2","v":26},28,{"$f":"AH15+2","v":28},{"$f":"AI15+2","v":28},{"$f":"AJ15+2","v":30},{"$f":"AK15+2","v":30},{"$f":"AL15+2","v":30},{"$f":"AM15+2","v":32},32,{"$f":"AO15+2","v":32},{"$f":"AP15+2","v":34},{"$f":"AQ15+2","v":34},{"$f":"AR15+2","v":34}]
[16,"32","赤",null,null,null,13,null,null,null,null,{"$f":"VLOOKUP(L1,$B$1:$C$37,2,FALSE)","v":"赤"},{"$f":"VLOOKUP(M1,$B$1:$C$37,2,FALSE)","v":"黒"},"赤","黒","赤","黒","赤","黒","赤","黒","黒","赤","黒","赤","黒","赤","黒","赤","赤","黒","赤","黒","赤","黒","赤","黒","赤","黒","黒","赤","黒","赤","黒","赤","黒","赤"]
[17,"15","黒",null,null,null,14]
[18,"19","赤",null,null,null,15]
[19,"4","黒",null,null,null,16]
[20,"21","赤",null,null,null,17]
[21,"2","黒",null,null,null,18]
[22,"25","赤",null,null,null,19]
[23,"17","黒",null,null,null,20]
[24,"34","赤",null,null,null,21]
[25,"6","黒",null,null,null,22]
[26,"27","赤",null,null,null,23]
[27,"13","黒",null,null,null,24]
[28,"36","赤",null,null,null,25]
[29,"11","黒",null,null,null,26]
[30,"30","赤",null,null,null,27]
[31,"8","黒",null,null,null,28]
[32,"23","赤",null,null,null,29]
[33,"10","黒",null,null,null,30]
[34,"5","赤",null,null,null,31]
[35,"24","黒",null,null,null,32]
[36,"16","赤",null,null,null,33]
[37,"33","黒",null,null,null,34]
[null,"0001",null,null,null,null,35]
[null,"0002",null,null,null,null,36]
[null,"0003"]
[null,"0102"]
[null,"0104"]
[null,"0106"]
[null,"0203"]
[null,"0205"]
[null,"0306"]
[null,"0405"]
[null,"0407"]
[null,"0506"]
[null,"0508"]
[null,"0609"]
[null,"0708"]
[null,"0710"]
[null,"0712"]
[null,"0809"]
[null,"0811"]
[null,"0912"]
[null,"1011"]
[null,"1013"]
[null,"1112"]
[null,"1114"]
[null,"1215"]
[null,"1314"]
[null,"1316"]
[null,"1318"]
[null,"1415"]
[null,"1417"]
[null,"1518"]
[null,"1617"]
[null,"1619"]
[null,"1718"]
[null,"1720"]
[null,"1821"]
[null,"1920"]
[null,"1922"]
[null,"2021"]
[null,"2023"]
[null,"2021"]
[null,"2124"]
[null,"2223"]
[null,"2225"]
[null,"2324"]
[null,"2326"]
[null,"2427"]
[null,"2526"]
[null,"2528"]
[null,"2627"]
[null,"2629"]
[null,"2730"]
[null,"2829"]
[null,"2831"]
[null,"2930"]
[null,"2932"]
[null,"3033"]
[null,"3132"]
[null,"3134"]
[null,"3233"]
[null,"3235"]
[null,"3336"]
[null,"3435"]
[null,"3536"]
[null,"000102"]
[null,"000203"]
[null,"010203"]
[null,"040506"]
[null,"070809"]
[null,"101112"]
[null,"131415"]
[null,"161718"]
[null,"192021"]
[null,"222324"]
[null,"252627"]
[null,"282930"]
[null,"313233"]
[null,"343536"]
[null,"01020405"]
[null,"02030506"]
[null,"04050708"]
[null,"05060809"]
[null,"07081011"]
[null,"08091112"]
[null,"10111314"]
[null,"11121415"]
[null,"13141617"]
[null,"14151718"]
[null,"16171920"]
[null,"17182021"]
[null,"19202223"]
[null,"20212324"]
[null,"22232526"]
[null,"23242627"]
[null,"25262829"]
[null,"26272930"]
[null,"28293132"]
[null,"29303233"]
[null,"31323435"]
[null,"32333536"]
[null,"0106"]
[null,"0409"]
[null,"0712"]
[null,"1015"]
[null,"1318"]
[null,"1621"]
[null,"1924"]
[null,"2227"]
[null,"2530"]
[null,"2833"]
[null,"3136"]
[null,"01-12"]
[null,"13-24"]
[null,"25-36"]
[null,"01-18"]
[null,"19-36"]
[null,"横1"]
[null,"横2"]
[null,"横3"]
[null,"gusu"]
[null,"kisu"]
[null,"黒","黒"]
[null,"赤","赤"]