{"text_format":"1","workbook":"xlsx","n_sheets":3,"sheets":["おしゃべりボード①","おしゃべりボード②","文字登録"],"not_rendered":{"charts":0,"images":2,"macros":1,"external_links":0,"defined_names":0,"comments":0,"pivot_tables":0},"unopened":[],"bounds":{"document_bytes":16777216,"sheet_cells":100000,"rows_first":2000,"rows_last":500,"rows_between":2000,"halvings":0,"cell_chars":16384,"cell_head_chars":4096},"cells_cut":0,"cells_raw":0,"read":"whole","date_system":"1900"}

{"sheet":"おしゃべりボード①","index":0,"n_rows":13,"n_cols":25,"rows_kept":13,"cut":false,"hidden":false,"merged":[[12,19,12,26],[11,19,11,21],[0,20,0,25],[1,1,4,17],[7,22,7,23],[1,20,2,25]]}
[null,null,null,null,null,null,null,null,null,null,null,null,null,null,null,null,null,"確定",null,null,{"$f":"TODAY()","v":"2021-02-25"}]
[null,"",null,null,null,null,null,null,null,null,null,null,null,null,null,null,null,null,null,null,"♪おしゃべり♪\nボード①"]
[]
[null,null,null,null,null,null,null,null,null,null,null,null,null,null,null,null,null,null,null,null,null,null,null,null,{"$f":"IF(文字登録!AK1=\"\",\"\",文字登録!AK1)","v":"OFF"}]
[]
[]
[null,{"$f":"文字登録!A1","v":"ぱ"},{"$f":"文字登録!B1","v":"ば"},{"$f":"文字登録!C1","v":"だ"},{"$f":"文字登録!D1","v":"ざ"},{"$f":"文字登録!E1","v":"が"},{"$f":"文字登録!F1","v":"わ"},{"$f":"文字登録!G1","v":"ら"},{"$f":"文字登録!H1","v":"ゃ"},{"$f":"文字登録!I1","v":"や"},{"$f":"文字登録!J1","v":"ま"},{"$f":"文字登録!K1","v":"は"},{"$f":"文字登録!L1","v":"な"},{"$f":"文字登録!M1","v":"た"},{"$f":"文字登録!N1","v":"さ"},{"$f":"文字登録!O1","v":"か"},{"$f":"文字登録!P1","v":"ぁ"},{"$f":"文字登録!Q1","v":"あ"}]
[null,{"$f":"文字登録!A2","v":"ぴ"},{"$f":"文字登録!B2","v":"び"},{"$f":"文字登録!C2","v":"ぢ"},{"$f":"文字登録!D2","v":"じ"},{"$f":"文字登録!E2","v":"ぎ"},{"$f":"文字登録!F2","v":""},{"$f":"文字登録!G2","v":"り"},{"$f":"文字登録!H2","v":"ゅ"},{"$f":"文字登録!I2","v":"ゆ"},{"$f":"文字登録!J2","v":"み"},{"$f":"文字登録!K2","v":"ひ"},{"$f":"文字登録!L2","v":"に"},{"$f":"文字登録!M2","v":"ち"},{"$f":"文字登録!N2","v":"し"},{"$f":"文字登録!O2","v":"き"},{"$f":"文字登録!P2","v":""},{"$f":"文字登録!Q2","v":"い"},null,null,null,"【",{"$f":"IF(文字登録!AK2=\"\",\"\",文字登録!AK2)","v":"通常モード"},null,"】"]
[null,{"$f":"文字登録!A3","v":"ぷ"},{"$f":"文字登録!B3","v":"ぶ"},{"$f":"文字登録!C3","v":"づ"},{"$f":"文字登録!D3","v":"ず"},{"$f":"文字登録!E3","v":"ぐ"},{"$f":"文字登録!F3","v":"を"},{"$f":"文字登録!G3","v":"る"},{"$f":"文字登録!H3","v":"ょ"},{"$f":"文字登録!I3","v":"よ"},{"$f":"文字登録!J3","v":"む"},{"$f":"文字登録!K3","v":"ふ"},{"$f":"文字登録!L3","v":"ぬ"},{"$f":"文字登録!M3","v":"つ"},{"$f":"文字登録!N3","v":"す"},{"$f":"文字登録!O3","v":"く"},{"$f":"文字登録!P3","v":"ぅ"},{"$f":"文字登録!Q3","v":"う"}]
[null,{"$f":"文字登録!A4","v":"ぺ"},{"$f":"文字登録!B4","v":"べ"},{"$f":"文字登録!C4","v":"で"},{"$f":"文字登録!D4","v":"ぜ"},{"$f":"文字登録!E4","v":"げ"},{"$f":"文字登録!F4","v":""},{"$f":"文字登録!G4","v":"れ"},{"$f":"文字登録!H4","v":"っ"},{"$f":"文字登録!I4","v":"、"},{"$f":"文字登録!J4","v":"め"},{"$f":"文字登録!K4","v":"へ"},{"$f":"文字登録!L4","v":"ね"},{"$f":"文字登録!M4","v":"て"},{"$f":"文字登録!N4","v":"せ"},{"$f":"文字登録!O4","v":"け"},{"$f":"文字登録!P4","v":"ぇ"},{"$f":"文字登録!Q4","v":"え"}]
[null,{"$f":"文字登録!A5","v":"ぽ"},{"$f":"文字登録!B5","v":"ぼ"},{"$f":"文字登録!C5","v":"ど"},{"$f":"文字登録!D5","v":"ぞ"},{"$f":"文字登録!E5","v":"ご"},{"$f":"文字登録!F5","v":"ん"},{"$f":"文字登録!G5","v":"ろ"},{"$f":"文字登録!H5","v":"ー"},{"$f":"文字登録!I5","v":"。"},{"$f":"文字登録!J5","v":"も"},{"$f":"文字登録!K5","v":"ほ"},{"$f":"文字登録!L5","v":"の"},{"$f":"文字登録!M5","v":"と"},{"$f":"文字登録!N5","v":"そ"},{"$f":"文字登録!O5","v":"こ"},{"$f":"文字登録!P5","v":"ぉ"},{"$f":"文字登録!Q5","v":"お"},"改行"]
[null,null,null,null,null,null,null,null,null,null,null,null,null,null,null,null,null,null,null,{"$f":"IF(文字登録!AK3=\"\",\"\",文字登録!AK3)","v":""}]
[null,null,null,null,null,null,null,null,null,null,null,null,null,null,null,null,null,null,null,"株式会社つくばＩＴパートナー\nCopyright © 2017 Tsukuba IT Partner Co., Ltd. All Rights Reserved."]

{"sheet":"おしゃべりボード②","index":1,"n_rows":18,"n_cols":24,"rows_kept":18,"cut":false,"hidden":false,"merged":[[3,1,13,3],[3,12,3,16],[7,5,9,5],[7,6,9,6],[17,18,17,23],[7,9,9,9],[0,4,0,12],[7,19,9,19],[13,12,13,16],[12,12,12,16],[7,18,9,18],[7,7,9,7],[7,8,9,8],[7,10,9,10],[4,12,4,16],[6,12,10,16],[2,12,2,13],[0,20,0,23],[7,20,9,20],[7,21,9,21],[7,22,9,22],[7,23,9,23]]}
[null,null,null,null,"♪おしゃべりボード②♪",null,null,null,null,null,null,null,null,null,null,null,null,null,null,null,{"$f":"TODAY()","v":"2021-02-25"}]
[]
[null,null,null,"確定",null,null,null,null,null,null,null,null,"音声",null,{"$f":"IF(文字登録!AK1=\"\",\"\",文字登録!AK1)","v":"OFF"}]
[null,null,null,null,null,{"$f":"文字登録!E1","v":"が"},{"$f":"文字登録!F1","v":"わ"},{"$f":"文字登録!G1","v":"ら"},{"$f":"文字登録!H1","v":"ゃ"},{"$f":"文字登録!I1","v":"や"},{"$f":"文字登録!J1","v":"ま"},null,{"$f":"文字登録!K1","v":"は"},null,null,null,null,null,{"$f":"文字登録!L1","v":"な"},{"$f":"文字登録!M1","v":"た"},{"$f":"文字登録!N1","v":"さ"},{"$f":"文字登録!O1","v":"か"},{"$f":"文字登録!P1","v":"ぁ"},{"$f":"文字登録!Q1","v":"あ"}]
[null,null,null,null,null,{"$f":"文字登録!E2","v":"ぎ"},{"$f":"文字登録!F2","v":""},{"$f":"文字登録!G2","v":"り"},{"$f":"文字登録!H2","v":"ゅ"},{"$f":"文字登録!I2","v":"ゆ"},{"$f":"文字登録!J2","v":"み"},null,{"$f":"文字登録!K2","v":"ひ"},null,null,null,null,null,{"$f":"文字登録!L2","v":"に"},{"$f":"文字登録!M2","v":"ち"},{"$f":"文字登録!N2","v":"し"},{"$f":"文字登録!O2","v":"き"},{"$f":"文字登録!P2","v":""},{"$f":"文字登録!Q2","v":"い"}]
[null,null,null,null,null,null,null,null,null,null,{"$f":"IF(文字登録!AM1=\"\",\"\",文字登録!AM1)","v":"通常"},"上","挿","通","↓","あ","ア","Ａ","読上"]
[null,null,null,null,null,null,null,null,null,null,null,null,{"$f":"文字登録!K3","v":"ふ"},null,null,null,null,"＠"]
[null,null,null,null,null,{"$f":"文字登録!E3","v":"ぐ"},{"$f":"文字登録!F3","v":"を"},{"$f":"文字登録!G3","v":"る"},{"$f":"文字登録!H3","v":"ょ"},{"$f":"文字登録!I3","v":"よ"},{"$f":"文字登録!J3","v":"む"},null,null,null,null,null,null,"改",{"$f":"文字登録!L3","v":"ぬ"},{"$f":"文字登録!M3","v":"つ"},{"$f":"文字登録!N3","v":"す"},{"$f":"文字登録!O3","v":"く"},{"$f":"文字登録!P3","v":"ぅ"},{"$f":"文字登録!Q3","v":"う"}]
[null,null,null,null,null,null,null,null,null,null,null,"→",null,null,null,null,null,"←"]
[]
[null,null,null,null,null,null,null,null,null,null,null,null,null,null,null,null,null,"戻"]
[null,null,null,null,null,null,null,null,null,null,null,"←","→","削","↑",null,null,"消"]
[null,null,null,null,null,{"$f":"文字登録!E4","v":"げ"},{"$f":"文字登録!F4","v":""},{"$f":"文字登録!G4","v":"れ"},{"$f":"文字登録!H4","v":"っ"},{"$f":"文字登録!I4","v":"、"},{"$f":"文字登録!J4","v":"め"},null,{"$f":"文字登録!K4","v":"へ"},null,null,null,null,null,{"$f":"文字登録!L4","v":"ね"},{"$f":"文字登録!M4","v":"て"},{"$f":"文字登録!N4","v":"せ"},{"$f":"文字登録!O4","v":"け"},{"$f":"文字登録!P4","v":"ぇ"},{"$f":"文字登録!Q4","v":"え"}]
[null,null,null,null,null,{"$f":"文字登録!E5","v":"ご"},{"$f":"文字登録!F5","v":"ん"},{"$f":"文字登録!G5","v":"ろ"},{"$f":"文字登録!H5","v":"ー"},{"$f":"文字登録!I5","v":"。"},{"$f":"文字登録!J5","v":"も"},null,{"$f":"文字登録!K5","v":"ほ"},null,null,null,null,null,{"$f":"文字登録!L5","v":"の"},{"$f":"文字登録!M5","v":"と"},{"$f":"文字登録!N5","v":"そ"},{"$f":"文字登録!O5","v":"こ"},{"$f":"文字登録!P5","v":"ぉ"},{"$f":"文字登録!Q5","v":"お"}]
[null,null,null,null,null,null,null,null,null,null,null,null,null,null,null,null,null,null,null,null,null,null,null,"終了"]
[]
[null,null,null,null,null,null,null,null,null,null,null,null,null,null,null,null,null,null,{"$f":"IF(文字登録!AK3=\"\",\"\",文字登録!AK3)","v":""}]
[null,null,null,null,null,null,null,null,null,null,null,null,null,null,null,null,null,null,"株式会社つくばＩＴパートナー\nCopyright © 2017 Tsukuba IT Partner Co., Ltd. All Rights Reserved."]

{"sheet":"文字登録","index":2,"n_rows":22,"n_cols":68,"rows_kept":22,"cut":false,"hidden":false,"merged":[[1,26,1,27],[1,28,1,29],[1,30,1,31],[1,32,1,33],[0,26,0,27],[0,28,0,29],[0,30,0,31],[0,32,0,33],[14,17,14,18],[14,34,14,35],[14,51,14,52],[14,0,14,1],[2,28,2,29],[3,28,3,29],[12,0,12,3],[12,4,12,9]]}
[{"$f":"IF(INDEX($A:$BP,$R1,A$6)=0,\"\",INDEX($A:$BP,$R1,A$6))","v":"ぱ"},"ば","だ","ざ","が","わ","ら","ゃ","や","ま","は","な","た","さ","か","ぁ",{"$f":"IF(INDEX($A:$BP,$R1,Q$6)=0,\"\",INDEX($A:$BP,$R1,Q$6))","v":"あ"},{"$f":"U2","v":17},"あ",{"$f":"IFERROR(VLOOKUP(S1,W1:X4,2,FALSE),\"\")","v":68},{"$f":"IFERROR(VLOOKUP(S1,W1:Y4,3,FALSE),\"\")","v":52},null,"あ",68,{"$f":"X1-16+COUNTIF(AZ22:BP22,0)","v":52},null,"全桁",null,"移動桁",null,"前半桁",null,"後半桁",null,null,null,"OFF",null,"通常"]
["ぴ","び","ぢ","じ","ぎ","","り","ゅ","ゆ","み","ひ","に","ち","し","き","",{"$f":"IF(INDEX($A:$BP,$R2,Q$6)=0,\"\",INDEX($A:$BP,$R2,Q$6))","v":"い"},{"$f":"IF(R1=21,17,R1+1)","v":18},null,68,17,null,"ア",51,{"$f":"X2-16+COUNTIF(AI22:AY22,0)","v":35},null,0,null,0,null,{"$f":"IF(AC2=0,0,AC2-1)","v":0},null,{"$f":"IF(AC2=0,0,AA2-AC2+1)","v":0},null,null,null,"通常モード"]
["ぷ","ぶ","づ","ず","ぐ","を","る","ょ","よ","む","ふ","ぬ","つ","す","く","ぅ","う",19,null,null,null,null,"Ａ",34,{"$f":"X3-16+COUNTIF(R22:AH22,0)","v":22},null,null,null,"移動開始",null,null,null,null,null,null,null,""]
["ぺ","べ","で","ぜ","げ","","れ","っ","、","め","へ","ね","て","せ","け","ぇ","え",20,null,null,null,null,"＠",17,{"$f":"X4-16+COUNTIF(A22:Q22,0)","v":12},null,null,null,0]
["ぽ","ぼ","ど","ぞ","ご","ん","ろ","ー","。","も","ほ","の","と","そ","こ","ぉ","お",{"$f":"IF(R4=21,17,R4+1)","v":21}]
[{"$f":"IF($A$7=2,IF(B$6=$U$1,$T$1,B$6-1),IF(OR(B$6=0,B$6=$U$1),0,B$6-1))","v":52},{"$f":"IF($A$7=2,IF(C$6=$U$1,$T$1,C$6-1),IF(OR(C$6=0,C$6=$U$1),0,C$6-1))","v":53},{"$f":"IF($A$7=2,IF(D$6=$U$1,$T$1,D$6-1),IF(OR(D$6=0,D$6=$U$1),0,D$6-1))","v":54},55,56,57,{"$f":"IF($A$7=2,IF(H$6=$U$1,$T$1,H$6-1),IF(OR(H$6=0,H$6=$U$1),0,H$6-1))","v":58},{"$f":"IF($A$7=2,IF(I$6=$U$1,$T$1,I$6-1),IF(OR(I$6=0,I$6=$U$1),0,I$6-1))","v":59},{"$f":"IF($A$7=2,IF(J$6=$U$1,$T$1,J$6-1),IF(OR(J$6=0,J$6=$U$1),0,J$6-1))","v":60},{"$f":"IF($A$7=2,IF(K$6=$U$1,$T$1,K$6-1),IF(OR(K$6=0,K$6=$U$1),0,K$6-1))","v":61},{"$f":"IF($A$7=2,IF(L$6=$U$1,$T$1,L$6-1),IF(OR(L$6=0,L$6=$U$1),0,L$6-1))","v":62},63,64,65,{"$f":"IF($A$7=2,IF(P$6=$U$1,$T$1,P$6-1),IF(OR(P$6=0,P$6=$U$1),0,P$6-1))","v":66},{"$f":"IF($A$7=2,IF(Q$6=$U$1,$T$1,Q$6-1),IF(OR(Q$6=0,Q$6=$U$1),0,Q$6-1))","v":67},{"$f":"T2","v":68}]
[1]
[]
[]
[]
[]
[]
["優先ボード",null,null,null,"おしゃべりボード①"]
[]
["＠",null,null,null,null,null,null,null,null,null,null,null,null,null,null,null,null,"０／Ａ",null,null,null,null,null,null,null,null,null,null,null,null,null,null,null,null,"ア",null,null,null,null,null,null,null,null,null,null,null,null,null,null,null,null,"あ"]
[1,2,3,4,5,6,7,8,9,10,11,12,13,14,15,16,17,1,2,3,4,5,6,7,8,9,10,11,12,13,14,15,16,17,1,2,3,4,5,6,7,8,9,10,11,12,13,14,15,16,17,1,2,3,4,5,6,7,8,9,10,11,12,13,14,15,16,17]
[null,null,null,null,null,null,null,null,null,null,null,"&","\\","(","<","+","、",null,null,null,null,null,null,null,"0","1","2","3","4","5","6","7","8","9","パ","バ","ダ","ザ","ガ","ワ","ラ","ャ","ヤ","マ","ハ","ナ","タ","サ","カ","ァ","ア","ぱ","ば","だ","ざ","が","わ","ら","ゃ","や","ま","は","な","た","さ","か","ぁ","あ"]
[null,null,null,null,null,null,null,null,null,null,null,";","@",")",">","-","。",null,null,null,null,"A","B","C","D","E","F","G","H","I","J","K","L","M","ピ","ビ","ヂ","ジ","ギ",null,"リ","ュ","ユ","ミ","ヒ","ニ","チ","シ","キ",null,"イ","ぴ","び","ぢ","じ","ぎ",null,"り","ゅ","ゆ","み","ひ","に","ち","し","き",null,"い"]
[null,null,null,null,null,null,null,null,null,null,null,":","%","[","?","*",",",null,null,null,null,"N","O","P","Q","R","S","T","U","V","W","X","Y","Z","プ","ブ","ヅ","ズ","グ",null,"ル","ョ","ヨ","ム","フ","ヌ","ツ","ス","ク","ゥ","ウ","ぷ","ぶ","づ","ず","ぐ","を","る","ょ","よ","む","ふ","ぬ","つ","す","く","ぅ","う"]
[null,null,null,null,null,null,null,null,null,null,null,null,"#","]","!","/",".",null,null,null,null,"a","b","c","d","e","f","g","h","i","j","k","l","m","ペ","ベ","デ","ゼ","ゲ","ヲ","レ","ッ","、","メ","ヘ","ネ","テ","セ","ケ","ェ","エ","ぺ","べ","で","ぜ","げ",null,"れ","っ","、","め","へ","ね","て","せ","け","ぇ","え"]
[null,null,null,null,null,null,null,null,null,null,null,null,null,null,null,null,null,null,null,null,null,"n","o","p","q","r","s","t","u","v","w","x","y","z","ポ","ボ","ド","ゾ","ゴ","ン","ロ","ー","。","モ","ホ","ノ","ト","ソ","コ","ォ","オ","ぽ","ぼ","ど","ぞ","ご","ん","ろ","ー","。","も","ほ","の","と","そ","こ","ぉ","お"]
[{"$f":"COUNTA(A17:A21)","v":0},0,0,0,0,0,0,0,0,0,0,3,4,4,4,4,4,{"$f":"COUNTA(R17:R21)","v":0},{"$f":"COUNTA(S17:S21)","v":0},0,0,4,4,4,5,5,5,5,5,5,5,5,5,5,5,5,5,5,5,3,5,5,5,5,5,5,5,5,5,4,5,5,5,5,5,5,3,5,5,5,5,5,5,5,5,5,4,5]