{"text_format":"1","workbook":"xlsx","n_sheets":3,"sheets":["点字変換","点字番号表","点字番号表（検索用）"],"not_rendered":{"charts":0,"images":1,"macros":1,"external_links":0,"defined_names":1,"comments":0,"pivot_tables":0},"unopened":[],"bounds":{"document_bytes":16777216,"sheet_cells":100000,"rows_first":2000,"rows_last":500,"rows_between":2000,"halvings":0,"cell_chars":16384,"cell_head_chars":4096},"cells_cut":0,"cells_raw":0,"read":"whole","date_system":"1900"}

{"sheet":"点字変換","index":0,"n_rows":60,"n_cols":114,"rows_kept":60,"cut":false,"hidden":false,"merged":[[59,89,59,90],[59,62,59,63],[59,65,59,66],[59,68,59,69],[59,71,59,72],[59,74,59,75],[59,77,59,78],[59,80,59,81],[59,83,59,84],[59,86,59,87],[56,89,56,90],[58,62,58,63],[58,65,58,66],[58,68,58,69],[58,71,58,72],[58,74,58,75],[58,77,58,78],[58,80,58,81],[58,83,58,84],[58,86,58,87],[58,89,58,90],[56,62,56,63],[56,65,56,66],[56,68,56,69],[56,71,56,72],[56,74,56,75],[56,77,56,78],[56,80,56,81],[56,83,56,84],[56,86,56,87],[43,89,43,90],[45,62,45,63],[45,65,45,66],[45,68,45,69],[45,71,45,72],[45,74,45,75],[45,77,45,78],[45,80,45,81],[45,83,45,84],[45,86,45,87],[45,89,45,90],[43,62,43,63],[43,65,43,66],[43,68,43,69],[43,71,43,72],[43,74,43,75],[43,77,43,78],[43,80,43,81],[43,83,43,84],[43,86,43,87],[30,89,30,90],[32,62,32,63],[32,65,32,66],[32,68,32,69],[32,71,32,72],[32,74,32,75],[32,77,32,78],[32,80,32,81],[32,83,32,84],[32,86,32,87],[32,89,32,90],[30,62,30,63],[30,65,30,66],[30,68,30,69],[30,71,30,72],[30,74,30,75],[30,77,30,78],[30,80,30,81],[30,83,30,84],[30,86,30,87],[18,89,18,90],[19,62,19,63],[19,65,19,66],[19,68,19,69],[19,71,19,72],[19,74,19,75],[19,77,19,78],[19,80,19,81],[19,83,19,84],[19,86,19,87],[19,89,19,90],[18,62,18,63],[18,65,18,66],[18,68,18,69],[18,71,18,72],[18,74,18,75],[18,77,18,78],[18,80,18,81],[18,83,18,84],[18,86,18,87],[7,89,7,90],[8,62,8,63],[8,65,8,66],[8,68,8,69],[8,71,8,72],[8,74,8,75],[8,77,8,78],[8,80,8,81],[8,83,8,84],[8,86,8,87],[8,89,8,90],[7,62,7,63],[7,65,7,66],[7,68,7,69],[7,71,7,72],[7,74,7,75],[7,77,7,78],[7,80,7,81],[7,83,7,84],[7,86,7,87],[4,89,4,90],[6,62,6,63],[6,65,6,66],[6,68,6,69],[6,71,6,72],[6,74,6,75],[6,77,6,78],[6,80,6,81],[6,83,6,84],[6,86,6,87],[6,89,6,90],[4,62,4,63],[4,65,4,66],[4,68,4,69],[4,71,4,72],[4,74,4,75],[4,77,4,78],[4,80,4,81],[4,83,4,84],[4,86,4,87],[4,47,4,48],[4,50,4,51],[4,53,4,54],[0,26,0,30],[0,8,0,24],[6,47,6,48],[6,50,6,51],[6,53,6,54],[6,56,6,57],[4,56,4,57],[1,2,1,30],[2,2,2,30],[6,2,6,3],[4,29,4,30],[4,23,4,24],[4,14,4,15],[6,59,6,60],[6,32,6,33],[6,35,6,36],[6,38,6,39],[6,41,6,42],[6,44,6,45],[10,89,10,90],[10,74,10,75],[10,77,10,78],[10,80,10,81],[10,83,10,84],[10,86,10,87],[10,62,10,63],[10,65,10,66],[10,68,10,69],[10,71,10,72],[7,56,7,57],[7,59,7,60],[7,32,7,33],[7,35,7,36],[7,38,7,39],[7,41,7,42],[7,44,7,45],[7,47,7,48],[4,59,4,60],[4,32,4,33],[4,35,4,36],[4,38,4,39],[4,41,4,42],[4,44,4,45],[59,47,59,48],[59,50,59,51],[59,53,59,54],[59,56,59,57],[59,59,59,60],[59,32,59,33],[59,35,59,36],[59,38,59,39],[59,41,59,42],[59,44,59,45],[58,47,58,48],[58,50,58,51],[58,53,58,54],[58,56,58,57],[58,59,58,60],[58,32,58,33],[58,35,58,36],[58,38,58,39],[58,41,58,42],[58,44,58,45],[56,47,56,48],[56,50,56,51],[56,53,56,54],[56,56,56,57],[56,59,56,60],[56,32,56,33],[56,35,56,36],[56,38,56,39],[56,41,56,42],[56,44,56,45],[45,47,45,48],[45,50,45,51],[45,53,45,54],[45,56,45,57],[45,59,45,60],[45,32,45,33],[45,35,45,36],[45,38,45,39],[45,41,45,42],[45,44,45,45],[43,47,43,48],[43,50,43,51],[43,53,43,54],[43,56,43,57],[43,59,43,60],[43,32,43,33],[43,35,43,36],[43,38,43,39],[43,41,43,42],[43,44,43,45],[32,47,32,48],[32,50,32,51],[32,53,32,54],[32,56,32,57],[32,59,32,60],[32,32,32,33],[32,35,32,36],[32,38,32,39],[32,41,32,42],[32,44,32,45],[30,47,30,48],[30,50,30,51],[30,53,30,54],[30,56,30,57],[30,59,30,60],[30,32,30,33],[30,35,30,36],[30,38,30,39],[30,41,30,42],[30,44,30,45],[19,47,19,48],[19,50,19,51],[19,53,19,54],[19,56,19,57],[19,59,19,60],[19,32,19,33],[19,35,19,36],[19,38,19,39],[19,41,19,42],[19,44,19,45],[58,17,58,18],[58,20,58,21],[58,23,58,24],[58,26,58,27],[58,29,58,30],[58,2,58,3],[58,5,58,6],[58,8,58,9],[58,11,58,12],[58,14,58,15],[56,26,56,27],[56,29,56,30],[56,2,56,3],[56,5,56,6],[45,29,45,30],[45,2,45,3],[45,5,45,6],[45,8,45,9],[45,11,45,12],[45,14,45,15],[56,17,56,18],[56,20,56,21],[56,23,56,24],[59,2,59,3],[59,5,59,6],[59,8,59,9],[59,11,59,12],[30,2,30,3],[30,5,30,6],[30,8,30,9],[30,11,30,12],[30,14,30,15],[59,14,59,15],[32,2,32,3],[32,5,32,6],[32,8,32,9],[32,11,32,12],[32,14,32,15],[43,2,43,3],[43,5,43,6],[43,8,43,9],[43,11,43,12],[43,14,43,15],[56,8,56,9],[56,11,56,12],[56,14,56,15],[59,26,59,27],[59,29,59,30],[30,20,30,21],[30,23,30,24],[30,26,30,27],[30,29,30,30],[30,17,30,18],[32,17,32,18],[32,20,32,21],[32,23,32,24],[32,26,32,27],[32,29,32,30],[43,17,43,18],[43,20,43,21],[43,23,43,24],[43,26,43,27],[43,29,43,30],[45,17,45,18],[45,20,45,21],[45,23,45,24],[45,26,45,27],[59,17,59,18],[59,20,59,21],[59,23,59,24],[19,14,19,15],[6,14,6,15],[4,11,4,12],[19,11,19,12],[6,5,6,6],[6,8,6,9],[6,11,6,12],[10,5,10,6],[10,8,10,9],[10,11,10,12],[10,14,10,15],[19,2,19,3],[4,2,4,3],[4,5,4,6],[19,5,19,6],[4,8,4,9],[4,26,4,27],[19,26,19,27],[10,17,10,18],[10,20,10,21],[10,23,10,24],[10,26,10,27],[19,8,19,9],[7,2,7,3],[7,5,7,6],[7,8,7,9],[7,11,7,12],[7,14,7,15],[9,2,9,3],[9,5,9,6],[9,8,9,9],[9,11,9,12],[9,14,9,15],[10,2,10,3],[19,23,19,24],[19,29,19,30],[6,23,6,24],[6,26,6,27],[6,29,6,30],[10,29,10,30],[4,17,4,18],[19,17,19,18],[4,20,4,21],[19,20,19,21],[6,17,6,18],[6,20,6,21],[7,26,7,27],[9,26,9,27],[9,29,9,30],[7,17,7,18],[7,20,7,21],[7,23,7,24],[9,17,9,18],[9,20,9,21],[9,23,9,24],[7,29,7,30],[7,53,7,54],[8,2,8,3],[8,5,8,6],[8,8,8,9],[8,11,8,12],[8,14,8,15],[8,17,8,18],[8,20,8,21],[8,23,8,24],[8,26,8,27],[18,56,18,57],[18,59,18,60],[8,29,8,30],[8,32,8,33],[8,35,8,36],[8,38,8,39],[8,41,8,42],[8,44,8,45],[8,47,8,48],[8,50,8,51],[8,53,8,54],[10,47,10,48],[10,50,10,51],[10,53,10,54],[10,56,10,57],[10,59,10,60],[10,32,10,33],[10,35,10,36],[10,38,10,39],[10,41,10,42],[10,44,10,45],[18,29,18,30],[18,32,18,33],[18,35,18,36],[18,38,18,39],[18,41,18,42],[18,44,18,45],[18,47,18,48],[18,50,18,51],[18,53,18,54],[18,2,18,3],[18,5,18,6],[18,8,18,9],[18,11,18,12],[18,14,18,15],[18,17,18,18],[18,20,18,21],[18,23,18,24],[18,26,18,27],[9,86,9,87],[9,89,9,90],[2,31,2,59],[9,59,9,60],[9,62,9,63],[9,65,9,66],[9,68,9,69],[9,71,9,72],[9,74,9,75],[9,77,9,78],[9,80,9,81],[9,83,9,84],[9,32,9,33],[9,35,9,36],[9,38,9,39],[9,41,9,42],[9,44,9,45],[9,47,9,48],[9,50,9,51],[9,53,9,54],[9,56,9,57],[8,56,8,57],[8,59,8,60],[7,50,7,51]]}
[null,null,null,null,null,null,null,null,"【点 字 変 換】\n※問題入力　変換後最大３０マスまで対応可",null,null,null,null,null,null,null,null,null,null,null,null,null,null,null,null,null,{"$f":"TODAY()","v":"2021-02-25"}]
[]
[null,null,{"$f":"SUBSTITUTE(DBCS(IF(PHONETIC(C2)=\"\",C2,PHONETIC(C2))),\"、\",\"、　\")","v":""},null,null,null,null,null,null,null,null,null,null,null,null,null,null,null,null,null,null,null,null,null,null,null,null,null,null,null,null,""]
[]
[null,null,"",null,null,"",null,null,"",null,null,"",null,null,"",null,null,"",null,null,"",null,null,"",null,null,"",null,null,"",null,null,"",null,null,"",null,null,"",null,null,"",null,null,"",null,null,"",null,null,"",null,null,"",null,null,"",null,null,"",null,null,"",null,null,"",null,null,"",null,null,"",null,null,"",null,null,"",null,null,"",null,null,"",null,null,"",null,null,""]
[]
[null,null,{"$f":"IF(C5=\"\",\"\",DBCS(IF(PHONETIC(C5)=\"\",C5,PHONETIC(C5))))","v":""},null,null,{"$f":"IF(F5=\"\",\"\",DBCS(IF(PHONETIC(F5)=\"\",F5,PHONETIC(F5))))","v":""},null,null,{"$f":"IF(I5=\"\",\"\",DBCS(IF(PHONETIC(I5)=\"\",I5,PHONETIC(I5))))","v":""},null,null,{"$f":"IF(L5=\"\",\"\",DBCS(IF(PHONETIC(L5)=\"\",L5,PHONETIC(L5))))","v":""},null,null,{"$f":"IF(O5=\"\",\"\",DBCS(IF(PHONETIC(O5)=\"\",O5,PHONETIC(O5))))","v":""},null,null,{"$f":"IF(R5=\"\",\"\",DBCS(IF(PHONETIC(R5)=\"\",R5,PHONETIC(R5))))","v":""},null,null,{"$f":"IF(U5=\"\",\"\",DBCS(IF(PHONETIC(U5)=\"\",U5,PHONETIC(U5))))","v":""},null,null,{"$f":"IF(X5=\"\",\"\",DBCS(IF(PHONETIC(X5)=\"\",X5,PHONETIC(X5))))","v":""},null,null,{"$f":"IF(AA5=\"\",\"\",DBCS(IF(PHONETIC(AA5)=\"\",AA5,PHONETIC(AA5))))","v":""},null,null,{"$f":"IF(AD5=\"\",\"\",DBCS(IF(PHONETIC(AD5)=\"\",AD5,PHONETIC(AD5))))","v":""},null,null,{"$f":"IF(AG5=\"\",\"\",DBCS(IF(PHONETIC(AG5)=\"\",AG5,PHONETIC(AG5))))","v":""},null,null,{"$f":"IF(AJ5=\"\",\"\",DBCS(IF(PHONETIC(AJ5)=\"\",AJ5,PHONETIC(AJ5))))","v":""},null,null,{"$f":"IF(AM5=\"\",\"\",DBCS(IF(PHONETIC(AM5)=\"\",AM5,PHONETIC(AM5))))","v":""},null,null,{"$f":"IF(AP5=\"\",\"\",DBCS(IF(PHONETIC(AP5)=\"\",AP5,PHONETIC(AP5))))","v":""},null,null,{"$f":"IF(AS5=\"\",\"\",DBCS(IF(PHONETIC(AS5)=\"\",AS5,PHONETIC(AS5))))","v":""},null,null,{"$f":"IF(AV5=\"\",\"\",DBCS(IF(PHONETIC(AV5)=\"\",AV5,PHONETIC(AV5))))","v":""},null,null,{"$f":"IF(AY5=\"\",\"\",DBCS(IF(PHONETIC(AY5)=\"\",AY5,PHONETIC(AY5))))","v":""},null,null,{"$f":"IF(BB5=\"\",\"\",DBCS(IF(PHONETIC(BB5)=\"\",BB5,PHONETIC(BB5))))","v":""},null,null,{"$f":"IF(BE5=\"\",\"\",DBCS(IF(PHONETIC(BE5)=\"\",BE5,PHONETIC(BE5))))","v":""},null,null,{"$f":"IF(BH5=\"\",\"\",DBCS(IF(PHONETIC(BH5)=\"\",BH5,PHONETIC(BH5))))","v":""},null,null,{"$f":"IF(BK5=\"\",\"\",DBCS(IF(PHONETIC(BK5)=\"\",BK5,PHONETIC(BK5))))","v":""},null,null,{"$f":"IF(BN5=\"\",\"\",DBCS(IF(PHONETIC(BN5)=\"\",BN5,PHONETIC(BN5))))","v":""},null,null,{"$f":"IF(BQ5=\"\",\"\",DBCS(IF(PHONETIC(BQ5)=\"\",BQ5,PHONETIC(BQ5))))","v":""},null,null,{"$f":"IF(BT5=\"\",\"\",DBCS(IF(PHONETIC(BT5)=\"\",BT5,PHONETIC(BT5))))","v":""},null,null,{"$f":"IF(BW5=\"\",\"\",DBCS(IF(PHONETIC(BW5)=\"\",BW5,PHONETIC(BW5))))","v":""},null,null,{"$f":"IF(BZ5=\"\",\"\",DBCS(IF(PHONETIC(BZ5)=\"\",BZ5,PHONETIC(BZ5))))","v":""},null,null,{"$f":"IF(CC5=\"\",\"\",DBCS(IF(PHONETIC(CC5)=\"\",CC5,PHONETIC(CC5))))","v":""},null,null,{"$f":"IF(CF5=\"\",\"\",DBCS(IF(PHONETIC(CF5)=\"\",CF5,PHONETIC(CF5))))","v":""},null,null,{"$f":"IF(CI5=\"\",\"\",DBCS(IF(PHONETIC(CI5)=\"\",CI5,PHONETIC(CI5))))","v":""},null,null,{"$f":"IF(CL5=\"\",\"\",DBCS(IF(PHONETIC(CL5)=\"\",CL5,PHONETIC(CL5))))","v":""}]
[null,null,{"$f":"IF(AND(C20=56,F20<>0),IF(C33=6,\"英大文字\",\"英小文字\"),IF(C20=3456,\"数字\",\"\"))","v":""},null,null,{"$f":"IF(AND(F20=56,I20<>0),IF(F33=6,\"英大文字\",\"英小文字\"),IF(F20=3456,\"数字\",\"\"))","v":""},null,null,{"$f":"IF(AND(I20=56,L20<>0),IF(I33=6,\"英大文字\",\"英小文字\"),IF(I20=3456,\"数字\",\"\"))","v":""},null,null,{"$f":"IF(AND(L20=56,O20<>0),IF(L33=6,\"英大文字\",\"英小文字\"),IF(L20=3456,\"数字\",\"\"))","v":""},null,null,{"$f":"IF(AND(O20=56,R20<>0),IF(O33=6,\"英大文字\",\"英小文字\"),IF(O20=3456,\"数字\",\"\"))","v":""},null,null,{"$f":"IF(AND(R20=56,U20<>0),IF(R33=6,\"英大文字\",\"英小文字\"),IF(R20=3456,\"数字\",\"\"))","v":""},null,null,{"$f":"IF(AND(U20=56,X20<>0),IF(U33=6,\"英大文字\",\"英小文字\"),IF(U20=3456,\"数字\",\"\"))","v":""},null,null,{"$f":"IF(AND(X20=56,AA20<>0),IF(X33=6,\"英大文字\",\"英小文字\"),IF(X20=3456,\"数字\",\"\"))","v":""},null,null,{"$f":"IF(AND(AA20=56,AD20<>0),IF(AA33=6,\"英大文字\",\"英小文字\"),IF(AA20=3456,\"数字\",\"\"))","v":""},null,null,{"$f":"IF(AND(AD20=56,AG20<>0),IF(AD33=6,\"英大文字\",\"英小文字\"),IF(AD20=3456,\"数字\",\"\"))","v":""},null,null,{"$f":"IF(AND(AG20=56,AJ20<>0),IF(AG33=6,\"英大文字\",\"英小文字\"),IF(AG20=3456,\"数字\",\"\"))","v":""},null,null,{"$f":"IF(AND(AJ20=56,AM20<>0),IF(AJ33=6,\"英大文字\",\"英小文字\"),IF(AJ20=3456,\"数字\",\"\"))","v":""},null,null,{"$f":"IF(AND(AM20=56,AP20<>0),IF(AM33=6,\"英大文字\",\"英小文字\"),IF(AM20=3456,\"数字\",\"\"))","v":""},null,null,{"$f":"IF(AND(AP20=56,AS20<>0),IF(AP33=6,\"英大文字\",\"英小文字\"),IF(AP20=3456,\"数字\",\"\"))","v":""},null,null,{"$f":"IF(AND(AS20=56,AV20<>0),IF(AS33=6,\"英大文字\",\"英小文字\"),IF(AS20=3456,\"数字\",\"\"))","v":""},null,null,{"$f":"IF(AND(AV20=56,AY20<>0),IF(AV33=6,\"英大文字\",\"英小文字\"),IF(AV20=3456,\"数字\",\"\"))","v":""},null,null,{"$f":"IF(AND(AY20=56,BB20<>0),IF(AY33=6,\"英大文字\",\"英小文字\"),IF(AY20=3456,\"数字\",\"\"))","v":""},null,null,{"$f":"IF(AND(BB20=56,BE20<>0),IF(BB33=6,\"英大文字\",\"英小文字\"),IF(BB20=3456,\"数字\",\"\"))","v":""},null,null,{"$f":"IF(AND(BE20=56,BH20<>0),IF(BE33=6,\"英大文字\",\"英小文字\"),IF(BE20=3456,\"数字\",\"\"))","v":""},null,null,{"$f":"IF(AND(BH20=56,BK20<>0),IF(BH33=6,\"英大文字\",\"英小文字\"),IF(BH20=3456,\"数字\",\"\"))","v":""},null,null,{"$f":"IF(AND(BK20=56,BN20<>0),IF(BK33=6,\"英大文字\",\"英小文字\"),IF(BK20=3456,\"数字\",\"\"))","v":""},null,null,{"$f":"IF(AND(BN20=56,BQ20<>0),IF(BN33=6,\"英大文字\",\"英小文字\"),IF(BN20=3456,\"数字\",\"\"))","v":""},null,null,{"$f":"IF(AND(BQ20=56,BT20<>0),IF(BQ33=6,\"英大文字\",\"英小文字\"),IF(BQ20=3456,\"数字\",\"\"))","v":""},null,null,{"$f":"IF(AND(BT20=56,BW20<>0),IF(BT33=6,\"英大文字\",\"英小文字\"),IF(BT20=3456,\"数字\",\"\"))","v":""},null,null,{"$f":"IF(AND(BW20=56,BZ20<>0),IF(BW33=6,\"英大文字\",\"英小文字\"),IF(BW20=3456,\"数字\",\"\"))","v":""},null,null,{"$f":"IF(AND(BZ20=56,CC20<>0),IF(BZ33=6,\"英大文字\",\"英小文字\"),IF(BZ20=3456,\"数字\",\"\"))","v":""},null,null,{"$f":"IF(AND(CC20=56,CF20<>0),IF(CC33=6,\"英大文字\",\"英小文字\"),IF(CC20=3456,\"数字\",\"\"))","v":""},null,null,{"$f":"IF(AND(CF20=56,CI20<>0),IF(CF33=6,\"英大文字\",\"英小文字\"),IF(CF20=3456,\"数字\",\"\"))","v":""},null,null,{"$f":"IF(AND(CI20=56,CL20<>0),IF(CI33=6,\"英大文字\",\"英小文字\"),IF(CI20=3456,\"数字\",\"\"))","v":""},null,null,{"$f":"IF(AND(CL20=56,CO20<>0),IF(CL33=6,\"英大文字\",\"英小文字\"),IF(CL20=3456,\"数字\",\"\"))","v":""}]
[null,null,{"$f":"C8","v":""},null,null,{"$f":"IF(C8<>F8,IF(F8<>\"\",F8,IF(AND(F7<>\"　\",F7<>\"\"),\"つなぎ\",\"\")),\"\")","v":""},null,null,{"$f":"IF(F8<>I8,IF(I8<>\"\",I8,IF(AND(I7<>\"　\",I7<>\"\"),\"つなぎ\",\"\")),\"\")","v":""},null,null,{"$f":"IF(I8<>L8,IF(L8<>\"\",L8,IF(AND(L7<>\"　\",L7<>\"\"),\"つなぎ\",\"\")),\"\")","v":""},null,null,{"$f":"IF(L8<>O8,IF(O8<>\"\",O8,IF(AND(O7<>\"　\",O7<>\"\"),\"つなぎ\",\"\")),\"\")","v":""},null,null,{"$f":"IF(O8<>R8,IF(R8<>\"\",R8,IF(AND(R7<>\"　\",R7<>\"\"),\"つなぎ\",\"\")),\"\")","v":""},null,null,{"$f":"IF(R8<>U8,IF(U8<>\"\",U8,IF(AND(U7<>\"　\",U7<>\"\"),\"つなぎ\",\"\")),\"\")","v":""},null,null,{"$f":"IF(U8<>X8,IF(X8<>\"\",X8,IF(AND(X7<>\"　\",X7<>\"\"),\"つなぎ\",\"\")),\"\")","v":""},null,null,{"$f":"IF(X8<>AA8,IF(AA8<>\"\",AA8,IF(AND(AA7<>\"　\",AA7<>\"\"),\"つなぎ\",\"\")),\"\")","v":""},null,null,{"$f":"IF(AA8<>AD8,IF(AD8<>\"\",AD8,IF(AND(AD7<>\"　\",AD7<>\"\"),\"つなぎ\",\"\")),\"\")","v":""},null,null,{"$f":"IF(AD8<>AG8,IF(AG8<>\"\",AG8,IF(AND(AG7<>\"　\",AG7<>\"\"),\"つなぎ\",\"\")),\"\")","v":""},null,null,{"$f":"IF(AG8<>AJ8,IF(AJ8<>\"\",AJ8,IF(AND(AJ7<>\"　\",AJ7<>\"\"),\"つなぎ\",\"\")),\"\")","v":""},null,null,{"$f":"IF(AJ8<>AM8,IF(AM8<>\"\",AM8,IF(AND(AM7<>\"　\",AM7<>\"\"),\"つなぎ\",\"\")),\"\")","v":""},null,null,{"$f":"IF(AM8<>AP8,IF(AP8<>\"\",AP8,IF(AND(AP7<>\"　\",AP7<>\"\"),\"つなぎ\",\"\")),\"\")","v":""},null,null,{"$f":"IF(AP8<>AS8,IF(AS8<>\"\",AS8,IF(AND(AS7<>\"　\",AS7<>\"\"),\"つなぎ\",\"\")),\"\")","v":""},null,null,{"$f":"IF(AS8<>AV8,IF(AV8<>\"\",AV8,IF(AND(AV7<>\"　\",AV7<>\"\"),\"つなぎ\",\"\")),\"\")","v":""},null,null,{"$f":"IF(AV8<>AY8,IF(AY8<>\"\",AY8,IF(AND(AY7<>\"　\",AY7<>\"\"),\"つなぎ\",\"\")),\"\")","v":""},null,null,{"$f":"IF(AY8<>BB8,IF(BB8<>\"\",BB8,IF(AND(BB7<>\"　\",BB7<>\"\"),\"つなぎ\",\"\")),\"\")","v":""},null,null,{"$f":"IF(BB8<>BE8,IF(BE8<>\"\",BE8,IF(AND(BE7<>\"　\",BE7<>\"\"),\"つなぎ\",\"\")),\"\")","v":""},null,null,{"$f":"IF(BE8<>BH8,IF(BH8<>\"\",BH8,IF(AND(BH7<>\"　\",BH7<>\"\"),\"つなぎ\",\"\")),\"\")","v":""},null,null,{"$f":"IF(BH8<>BK8,IF(BK8<>\"\",BK8,IF(AND(BK7<>\"　\",BK7<>\"\"),\"つなぎ\",\"\")),\"\")","v":""},null,null,{"$f":"IF(BK8<>BN8,IF(BN8<>\"\",BN8,IF(AND(BN7<>\"　\",BN7<>\"\"),\"つなぎ\",\"\")),\"\")","v":""},null,null,{"$f":"IF(BN8<>BQ8,IF(BQ8<>\"\",BQ8,IF(AND(BQ7<>\"　\",BQ7<>\"\"),\"つなぎ\",\"\")),\"\")","v":""},null,null,{"$f":"IF(BQ8<>BT8,IF(BT8<>\"\",BT8,IF(AND(BT7<>\"　\",BT7<>\"\"),\"つなぎ\",\"\")),\"\")","v":""},null,null,{"$f":"IF(BT8<>BW8,IF(BW8<>\"\",BW8,IF(AND(BW7<>\"　\",BW7<>\"\"),\"つなぎ\",\"\")),\"\")","v":""},null,null,{"$f":"IF(BW8<>BZ8,IF(BZ8<>\"\",BZ8,IF(AND(BZ7<>\"　\",BZ7<>\"\"),\"つなぎ\",\"\")),\"\")","v":""},null,null,{"$f":"IF(BZ8<>CC8,IF(CC8<>\"\",CC8,IF(AND(CC7<>\"　\",CC7<>\"\"),\"つなぎ\",\"\")),\"\")","v":""},null,null,{"$f":"IF(CC8<>CF8,IF(CF8<>\"\",CF8,IF(AND(CF7<>\"　\",CF7<>\"\"),\"つなぎ\",\"\")),\"\")","v":""},null,null,{"$f":"IF(CF8<>CI8,IF(CI8<>\"\",CI8,IF(AND(CI7<>\"　\",CI7<>\"\"),\"つなぎ\",\"\")),\"\")","v":""},null,null,{"$f":"IF(CI8<>CL8,IF(CL8<>\"\",CL8,IF(AND(CL7<>\"　\",CL7<>\"\"),\"つなぎ\",\"\")),\"\")","v":""}]
[null,null,"",null,null,"",null,null,"",null,null,"",null,null,"",null,null,"",null,null,"",null,null,"",null,null,"",null,null,"",null,null,"",null,null,"",null,null,"",null,null,"",null,null,"",null,null,"",null,null,"",null,null,"",null,null,"",null,null,"",null,null,"",null,null,"",null,null,"",null,null,"",null,null,"",null,null,"",null,null,"",null,null,"",null,null,"",null,null,"",null,null,null,null,null,"",null,null,"",null,null,"",null,null,"",null,null,"",null,null,"",null,null,""]
[null,null,"",null,null,"",null,null,"",null,null,"",null,null,"",null,null,"",null,null,"",null,null,"",null,null,"",null,null,"",null,null,"",null,null,"",null,null,"",null,null,"",null,null,"",null,null,"",null,null,"",null,null,"",null,null,"",null,null,"",null,null,"",null,null,"",null,null,"",null,null,"",null,null,"",null,null,"",null,null,"",null,null,"",null,null,"",null,null,"",null,null,null,null,null,"",null,null,"",null,null,"",null,null,"",null,null,"",null,null,"",null,null,""]
[null,null,{"$f":"IFERROR(FIND(\"1\",C11),\"\")","v":""},{"$f":"IFERROR(FIND(\"4\",C11),\"\")","v":""},null,{"$f":"IFERROR(FIND(\"1\",F11),\"\")","v":""},{"$f":"IFERROR(FIND(\"4\",F11),\"\")","v":""},null,{"$f":"IFERROR(FIND(\"1\",I11),\"\")","v":""},{"$f":"IFERROR(FIND(\"4\",I11),\"\")","v":""},null,{"$f":"IFERROR(FIND(\"1\",L11),\"\")","v":""},{"$f":"IFERROR(FIND(\"4\",L11),\"\")","v":""},null,{"$f":"IFERROR(FIND(\"1\",O11),\"\")","v":""},{"$f":"IFERROR(FIND(\"4\",O11),\"\")","v":""},null,{"$f":"IFERROR(FIND(\"1\",R11),\"\")","v":""},{"$f":"IFERROR(FIND(\"4\",R11),\"\")","v":""},null,{"$f":"IFERROR(FIND(\"1\",U11),\"\")","v":""},{"$f":"IFERROR(FIND(\"4\",U11),\"\")","v":""},null,{"$f":"IFERROR(FIND(\"1\",X11),\"\")","v":""},{"$f":"IFERROR(FIND(\"4\",X11),\"\")","v":""},null,{"$f":"IFERROR(FIND(\"1\",AA11),\"\")","v":""},{"$f":"IFERROR(FIND(\"4\",AA11),\"\")","v":""},null,{"$f":"IFERROR(FIND(\"1\",AD11),\"\")","v":""},{"$f":"IFERROR(FIND(\"4\",AD11),\"\")","v":""},null,{"$f":"IFERROR(FIND(\"1\",AG11),\"\")","v":""},{"$f":"IFERROR(FIND(\"4\",AG11),\"\")","v":""},null,{"$f":"IFERROR(FIND(\"1\",AJ11),\"\")","v":""},{"$f":"IFERROR(FIND(\"4\",AJ11),\"\")","v":""},null,{"$f":"IFERROR(FIND(\"1\",AM11),\"\")","v":""},{"$f":"IFERROR(FIND(\"4\",AM11),\"\")","v":""},null,{"$f":"IFERROR(FIND(\"1\",AP11),\"\")","v":""},{"$f":"IFERROR(FIND(\"4\",AP11),\"\")","v":""},null,{"$f":"IFERROR(FIND(\"1\",AS11),\"\")","v":""},{"$f":"IFERROR(FIND(\"4\",AS11),\"\")","v":""},null,{"$f":"IFERROR(FIND(\"1\",AV11),\"\")","v":""},{"$f":"IFERROR(FIND(\"4\",AV11),\"\")","v":""},null,{"$f":"IFERROR(FIND(\"1\",AY11),\"\")","v":""},{"$f":"IFERROR(FIND(\"4\",AY11),\"\")","v":""},null,{"$f":"IFERROR(FIND(\"1\",BB11),\"\")","v":""},{"$f":"IFERROR(FIND(\"4\",BB11),\"\")","v":""},null,{"$f":"IFERROR(FIND(\"1\",BE11),\"\")","v":""},{"$f":"IFERROR(FIND(\"4\",BE11),\"\")","v":""},null,{"$f":"IFERROR(FIND(\"1\",BH11),\"\")","v":""},{"$f":"IFERROR(FIND(\"4\",BH11),\"\")","v":""},null,{"$f":"IFERROR(FIND(\"1\",BK11),\"\")","v":""},{"$f":"IFERROR(FIND(\"4\",BK11),\"\")","v":""},null,{"$f":"IFERROR(FIND(\"1\",BN11),\"\")","v":""},{"$f":"IFERROR(FIND(\"4\",BN11),\"\")","v":""},null,{"$f":"IFERROR(FIND(\"1\",BQ11),\"\")","v":""},{"$f":"IFERROR(FIND(\"4\",BQ11),\"\")","v":""},null,{"$f":"IFERROR(FIND(\"1\",BT11),\"\")","v":""},{"$f":"IFERROR(FIND(\"4\",BT11),\"\")","v":""},null,{"$f":"IFERROR(FIND(\"1\",BW11),\"\")","v":""},{"$f":"IFERROR(FIND(\"4\",BW11),\"\")","v":""},null,{"$f":"IFERROR(FIND(\"1\",BZ11),\"\")","v":""},{"$f":"IFERROR(FIND(\"4\",BZ11),\"\")","v":""},null,{"$f":"IFERROR(FIND(\"1\",CC11),\"\")","v":""},{"$f":"IFERROR(FIND(\"4\",CC11),\"\")","v":""},null,{"$f":"IFERROR(FIND(\"1\",CF11),\"\")","v":""},{"$f":"IFERROR(FIND(\"4\",CF11),\"\")","v":""},null,{"$f":"IFERROR(FIND(\"1\",CI11),\"\")","v":""},{"$f":"IFERROR(FIND(\"4\",CI11),\"\")","v":""},null,{"$f":"IFERROR(FIND(\"1\",CL11),\"\")","v":""},{"$f":"IFERROR(FIND(\"4\",CL11),\"\")","v":""}]
[null,null,{"$f":"IFERROR(FIND(\"2\",C11),\"\")","v":""},{"$f":"IFERROR(FIND(\"5\",C11),\"\")","v":""},null,{"$f":"IFERROR(FIND(\"2\",F11),\"\")","v":""},{"$f":"IFERROR(FIND(\"5\",F11),\"\")","v":""},null,{"$f":"IFERROR(FIND(\"2\",I11),\"\")","v":""},{"$f":"IFERROR(FIND(\"5\",I11),\"\")","v":""},null,{"$f":"IFERROR(FIND(\"2\",L11),\"\")","v":""},{"$f":"IFERROR(FIND(\"5\",L11),\"\")","v":""},null,{"$f":"IFERROR(FIND(\"2\",O11),\"\")","v":""},{"$f":"IFERROR(FIND(\"5\",O11),\"\")","v":""},null,{"$f":"IFERROR(FIND(\"2\",R11),\"\")","v":""},{"$f":"IFERROR(FIND(\"5\",R11),\"\")","v":""},null,{"$f":"IFERROR(FIND(\"2\",U11),\"\")","v":""},{"$f":"IFERROR(FIND(\"5\",U11),\"\")","v":""},null,{"$f":"IFERROR(FIND(\"2\",X11),\"\")","v":""},{"$f":"IFERROR(FIND(\"5\",X11),\"\")","v":""},null,{"$f":"IFERROR(FIND(\"2\",AA11),\"\")","v":""},{"$f":"IFERROR(FIND(\"5\",AA11),\"\")","v":""},null,{"$f":"IFERROR(FIND(\"2\",AD11),\"\")","v":""},{"$f":"IFERROR(FIND(\"5\",AD11),\"\")","v":""},null,{"$f":"IFERROR(FIND(\"2\",AG11),\"\")","v":""},{"$f":"IFERROR(FIND(\"5\",AG11),\"\")","v":""},null,{"$f":"IFERROR(FIND(\"2\",AJ11),\"\")","v":""},{"$f":"IFERROR(FIND(\"5\",AJ11),\"\")","v":""},null,{"$f":"IFERROR(FIND(\"2\",AM11),\"\")","v":""},{"$f":"IFERROR(FIND(\"5\",AM11),\"\")","v":""},null,{"$f":"IFERROR(FIND(\"2\",AP11),\"\")","v":""},{"$f":"IFERROR(FIND(\"5\",AP11),\"\")","v":""},null,{"$f":"IFERROR(FIND(\"2\",AS11),\"\")","v":""},{"$f":"IFERROR(FIND(\"5\",AS11),\"\")","v":""},null,{"$f":"IFERROR(FIND(\"2\",AV11),\"\")","v":""},{"$f":"IFERROR(FIND(\"5\",AV11),\"\")","v":""},null,{"$f":"IFERROR(FIND(\"2\",AY11),\"\")","v":""},{"$f":"IFERROR(FIND(\"5\",AY11),\"\")","v":""},null,{"$f":"IFERROR(FIND(\"2\",BB11),\"\")","v":""},{"$f":"IFERROR(FIND(\"5\",BB11),\"\")","v":""},null,{"$f":"IFERROR(FIND(\"2\",BE11),\"\")","v":""},{"$f":"IFERROR(FIND(\"5\",BE11),\"\")","v":""},null,{"$f":"IFERROR(FIND(\"2\",BH11),\"\")","v":""},{"$f":"IFERROR(FIND(\"5\",BH11),\"\")","v":""},null,{"$f":"IFERROR(FIND(\"2\",BK11),\"\")","v":""},{"$f":"IFERROR(FIND(\"5\",BK11),\"\")","v":""},null,{"$f":"IFERROR(FIND(\"2\",BN11),\"\")","v":""},{"$f":"IFERROR(FIND(\"5\",BN11),\"\")","v":""},null,{"$f":"IFERROR(FIND(\"2\",BQ11),\"\")","v":""},{"$f":"IFERROR(FIND(\"5\",BQ11),\"\")","v":""},null,{"$f":"IFERROR(FIND(\"2\",BT11),\"\")","v":""},{"$f":"IFERROR(FIND(\"5\",BT11),\"\")","v":""},null,{"$f":"IFERROR(FIND(\"2\",BW11),\"\")","v":""},{"$f":"IFERROR(FIND(\"5\",BW11),\"\")","v":""},null,{"$f":"IFERROR(FIND(\"2\",BZ11),\"\")","v":""},{"$f":"IFERROR(FIND(\"5\",BZ11),\"\")","v":""},null,{"$f":"IFERROR(FIND(\"2\",CC11),\"\")","v":""},{"$f":"IFERROR(FIND(\"5\",CC11),\"\")","v":""},null,{"$f":"IFERROR(FIND(\"2\",CF11),\"\")","v":""},{"$f":"IFERROR(FIND(\"5\",CF11),\"\")","v":""},null,{"$f":"IFERROR(FIND(\"2\",CI11),\"\")","v":""},{"$f":"IFERROR(FIND(\"5\",CI11),\"\")","v":""},null,{"$f":"IFERROR(FIND(\"2\",CL11),\"\")","v":""},{"$f":"IFERROR(FIND(\"5\",CL11),\"\")","v":""}]
[null,null,{"$f":"IFERROR(FIND(\"3\",C11),\"\")","v":""},{"$f":"IFERROR(FIND(\"6\",C11),\"\")","v":""},null,{"$f":"IFERROR(FIND(\"3\",F11),\"\")","v":""},{"$f":"IFERROR(FIND(\"6\",F11),\"\")","v":""},null,{"$f":"IFERROR(FIND(\"3\",I11),\"\")","v":""},{"$f":"IFERROR(FIND(\"6\",I11),\"\")","v":""},null,{"$f":"IFERROR(FIND(\"3\",L11),\"\")","v":""},{"$f":"IFERROR(FIND(\"6\",L11),\"\")","v":""},null,{"$f":"IFERROR(FIND(\"3\",O11),\"\")","v":""},{"$f":"IFERROR(FIND(\"6\",O11),\"\")","v":""},null,{"$f":"IFERROR(FIND(\"3\",R11),\"\")","v":""},{"$f":"IFERROR(FIND(\"6\",R11),\"\")","v":""},null,{"$f":"IFERROR(FIND(\"3\",U11),\"\")","v":""},{"$f":"IFERROR(FIND(\"6\",U11),\"\")","v":""},null,{"$f":"IFERROR(FIND(\"3\",X11),\"\")","v":""},{"$f":"IFERROR(FIND(\"6\",X11),\"\")","v":""},null,{"$f":"IFERROR(FIND(\"3\",AA11),\"\")","v":""},{"$f":"IFERROR(FIND(\"6\",AA11),\"\")","v":""},null,{"$f":"IFERROR(FIND(\"3\",AD11),\"\")","v":""},{"$f":"IFERROR(FIND(\"6\",AD11),\"\")","v":""},null,{"$f":"IFERROR(FIND(\"3\",AG11),\"\")","v":""},{"$f":"IFERROR(FIND(\"6\",AG11),\"\")","v":""},null,{"$f":"IFERROR(FIND(\"3\",AJ11),\"\")","v":""},{"$f":"IFERROR(FIND(\"6\",AJ11),\"\")","v":""},null,{"$f":"IFERROR(FIND(\"3\",AM11),\"\")","v":""},{"$f":"IFERROR(FIND(\"6\",AM11),\"\")","v":""},null,{"$f":"IFERROR(FIND(\"3\",AP11),\"\")","v":""},{"$f":"IFERROR(FIND(\"6\",AP11),\"\")","v":""},null,{"$f":"IFERROR(FIND(\"3\",AS11),\"\")","v":""},{"$f":"IFERROR(FIND(\"6\",AS11),\"\")","v":""},null,{"$f":"IFERROR(FIND(\"3\",AV11),\"\")","v":""},{"$f":"IFERROR(FIND(\"6\",AV11),\"\")","v":""},null,{"$f":"IFERROR(FIND(\"3\",AY11),\"\")","v":""},{"$f":"IFERROR(FIND(\"6\",AY11),\"\")","v":""},null,{"$f":"IFERROR(FIND(\"3\",BB11),\"\")","v":""},{"$f":"IFERROR(FIND(\"6\",BB11),\"\")","v":""},null,{"$f":"IFERROR(FIND(\"3\",BE11),\"\")","v":""},{"$f":"IFERROR(FIND(\"6\",BE11),\"\")","v":""},null,{"$f":"IFERROR(FIND(\"3\",BH11),\"\")","v":""},{"$f":"IFERROR(FIND(\"6\",BH11),\"\")","v":""},null,{"$f":"IFERROR(FIND(\"3\",BK11),\"\")","v":""},{"$f":"IFERROR(FIND(\"6\",BK11),\"\")","v":""},null,{"$f":"IFERROR(FIND(\"3\",BN11),\"\")","v":""},{"$f":"IFERROR(FIND(\"6\",BN11),\"\")","v":""},null,{"$f":"IFERROR(FIND(\"3\",BQ11),\"\")","v":""},{"$f":"IFERROR(FIND(\"6\",BQ11),\"\")","v":""},null,{"$f":"IFERROR(FIND(\"3\",BT11),\"\")","v":""},{"$f":"IFERROR(FIND(\"6\",BT11),\"\")","v":""},null,{"$f":"IFERROR(FIND(\"3\",BW11),\"\")","v":""},{"$f":"IFERROR(FIND(\"6\",BW11),\"\")","v":""},null,{"$f":"IFERROR(FIND(\"3\",BZ11),\"\")","v":""},{"$f":"IFERROR(FIND(\"6\",BZ11),\"\")","v":""},null,{"$f":"IFERROR(FIND(\"3\",CC11),\"\")","v":""},{"$f":"IFERROR(FIND(\"6\",CC11),\"\")","v":""},null,{"$f":"IFERROR(FIND(\"3\",CF11),\"\")","v":""},{"$f":"IFERROR(FIND(\"6\",CF11),\"\")","v":""},null,{"$f":"IFERROR(FIND(\"3\",CI11),\"\")","v":""},{"$f":"IFERROR(FIND(\"6\",CI11),\"\")","v":""},null,{"$f":"IFERROR(FIND(\"3\",CL11),\"\")","v":""},{"$f":"IFERROR(FIND(\"6\",CL11),\"\")","v":""}]
[null,null,{"$f":"IF(C12=\"\",\"\",\"●\")","v":""},"",null,{"$f":"IF(F12=\"\",\"\",\"●\")","v":""},"",null,{"$f":"IF(I12=\"\",\"\",\"●\")","v":""},"",null,{"$f":"IF(L12=\"\",\"\",\"●\")","v":""},"",null,{"$f":"IF(O12=\"\",\"\",\"●\")","v":""},"",null,{"$f":"IF(R12=\"\",\"\",\"●\")","v":""},"",null,{"$f":"IF(U12=\"\",\"\",\"●\")","v":""},"",null,{"$f":"IF(X12=\"\",\"\",\"●\")","v":""},"",null,{"$f":"IF(AA12=\"\",\"\",\"●\")","v":""},"",null,{"$f":"IF(AD12=\"\",\"\",\"●\")","v":""},"",null,{"$f":"IF(AG12=\"\",\"\",\"●\")","v":""},"",null,{"$f":"IF(AJ12=\"\",\"\",\"●\")","v":""},"",null,{"$f":"IF(AM12=\"\",\"\",\"●\")","v":""},"",null,{"$f":"IF(AP12=\"\",\"\",\"●\")","v":""},"",null,{"$f":"IF(AS12=\"\",\"\",\"●\")","v":""},"",null,{"$f":"IF(AV12=\"\",\"\",\"●\")","v":""},"",null,{"$f":"IF(AY12=\"\",\"\",\"●\")","v":""},"",null,{"$f":"IF(BB12=\"\",\"\",\"●\")","v":""},"",null,{"$f":"IF(BE12=\"\",\"\",\"●\")","v":""},"",null,{"$f":"IF(BH12=\"\",\"\",\"●\")","v":""},"",null,{"$f":"IF(BK12=\"\",\"\",\"●\")","v":""},"",null,{"$f":"IF(BN12=\"\",\"\",\"●\")","v":""},"",null,{"$f":"IF(BQ12=\"\",\"\",\"●\")","v":""},"",null,{"$f":"IF(BT12=\"\",\"\",\"●\")","v":""},"",null,{"$f":"IF(BW12=\"\",\"\",\"●\")","v":""},"",null,{"$f":"IF(BZ12=\"\",\"\",\"●\")","v":""},"",null,{"$f":"IF(CC12=\"\",\"\",\"●\")","v":""},"",null,{"$f":"IF(CF12=\"\",\"\",\"●\")","v":""},"",null,{"$f":"IF(CI12=\"\",\"\",\"●\")","v":""},"",null,{"$f":"IF(CL12=\"\",\"\",\"●\")","v":""},""]
[null,null,"","",null,"","",null,"","",null,"","",null,"","",null,"","",null,"","",null,"","",null,"","",null,"","",null,"","",null,"","",null,"","",null,"","",null,"","",null,"","",null,"","",null,"","",null,"","",null,"","",null,{"$f":"IF(BK13=\"\",\"\",\"●\")","v":""},"",null,{"$f":"IF(BN13=\"\",\"\",\"●\")","v":""},"",null,{"$f":"IF(BQ13=\"\",\"\",\"●\")","v":""},"",null,{"$f":"IF(BT13=\"\",\"\",\"●\")","v":""},"",null,{"$f":"IF(BW13=\"\",\"\",\"●\")","v":""},"",null,{"$f":"IF(BZ13=\"\",\"\",\"●\")","v":""},"",null,{"$f":"IF(CC13=\"\",\"\",\"●\")","v":""},"",null,{"$f":"IF(CF13=\"\",\"\",\"●\")","v":""},"",null,{"$f":"IF(CI13=\"\",\"\",\"●\")","v":""},"",null,{"$f":"IF(CL13=\"\",\"\",\"●\")","v":""},""]
[null,null,"","",null,"","",null,"","",null,"","",null,"","",null,"","",null,"","",null,"","",null,"","",null,"","",null,"","",null,"","",null,"","",null,"","",null,"","",null,"","",null,"","",null,"","",null,"","",null,"","",null,{"$f":"IF(BK14=\"\",\"\",\"●\")","v":""},"",null,{"$f":"IF(BN14=\"\",\"\",\"●\")","v":""},"",null,{"$f":"IF(BQ14=\"\",\"\",\"●\")","v":""},"",null,{"$f":"IF(BT14=\"\",\"\",\"●\")","v":""},"",null,{"$f":"IF(BW14=\"\",\"\",\"●\")","v":""},"",null,{"$f":"IF(BZ14=\"\",\"\",\"●\")","v":""},"",null,{"$f":"IF(CC14=\"\",\"\",\"●\")","v":""},"",null,{"$f":"IF(CF14=\"\",\"\",\"●\")","v":""},"",null,{"$f":"IF(CI14=\"\",\"\",\"●\")","v":""},"",null,{"$f":"IF(CL14=\"\",\"\",\"●\")","v":""},""]
[]
[null,null,{"$f":"IF(C46>0,3,IF(C33>0,2,IF(C20>0,1,\"\")))","v":1},null,null,{"$f":"IF(F46>0,3,IF(F33>0,2,IF(F20>0,1,\"\")))","v":1},null,null,{"$f":"IF(I46>0,3,IF(I33>0,2,IF(I20>0,1,\"\")))","v":1},null,null,{"$f":"IF(L46>0,3,IF(L33>0,2,IF(L20>0,1,\"\")))","v":1},null,null,{"$f":"IF(O46>0,3,IF(O33>0,2,IF(O20>0,1,\"\")))","v":1},null,null,{"$f":"IF(R46>0,3,IF(R33>0,2,IF(R20>0,1,\"\")))","v":1},null,null,{"$f":"IF(U46>0,3,IF(U33>0,2,IF(U20>0,1,\"\")))","v":1},null,null,{"$f":"IF(X46>0,3,IF(X33>0,2,IF(X20>0,1,\"\")))","v":1},null,null,{"$f":"IF(AA46>0,3,IF(AA33>0,2,IF(AA20>0,1,\"\")))","v":1},null,null,{"$f":"IF(AD46>0,3,IF(AD33>0,2,IF(AD20>0,1,\"\")))","v":1},null,null,{"$f":"IF(AG46>0,3,IF(AG33>0,2,IF(AG20>0,1,\"\")))","v":1},null,null,{"$f":"IF(AJ46>0,3,IF(AJ33>0,2,IF(AJ20>0,1,\"\")))","v":1},null,null,{"$f":"IF(AM46>0,3,IF(AM33>0,2,IF(AM20>0,1,\"\")))","v":1},null,null,{"$f":"IF(AP46>0,3,IF(AP33>0,2,IF(AP20>0,1,\"\")))","v":1},null,null,{"$f":"IF(AS46>0,3,IF(AS33>0,2,IF(AS20>0,1,\"\")))","v":1},null,null,{"$f":"IF(AV46>0,3,IF(AV33>0,2,IF(AV20>0,1,\"\")))","v":1},null,null,{"$f":"IF(AY46>0,3,IF(AY33>0,2,IF(AY20>0,1,\"\")))","v":1},null,null,{"$f":"IF(BB46>0,3,IF(BB33>0,2,IF(BB20>0,1,\"\")))","v":1},null,null,{"$f":"IF(BE46>0,3,IF(BE33>0,2,IF(BE20>0,1,\"\")))","v":1},null,null,{"$f":"IF(BH46>0,3,IF(BH33>0,2,IF(BH20>0,1,\"\")))","v":1},null,null,{"$f":"IF(BK46>0,3,IF(BK33>0,2,IF(BK20>0,1,\"\")))","v":1},null,null,1,null,null,1,null,null,1,null,null,1,null,null,1,null,null,1,null,null,1,null,null,1,null,null,1]
[null,null,{"$f":"IF(C$7=\"\",\"\",IF(C$7=\"　\",0,IF(EXACT(IFERROR(VLOOKUP(C$7,'点字番号表（検索用）'!$B:$F,1,FALSE),\"\"),C$7),IFERROR(VLOOKUP(C$7,'点字番号表（検索用）'!$B:$F,3,FALSE),\"\"),IFERROR(VLOOKUP(C$7,'点字番号表（検索用）'!$C:$F,2,FALSE),\"\"))))","v":""},null,null,{"$f":"IF(F$7=\"\",\"\",IF(F$7=\"　\",0,IF(EXACT(IFERROR(VLOOKUP(F$7,'点字番号表（検索用）'!$B:$F,1,FALSE),\"\"),F$7),IFERROR(VLOOKUP(F$7,'点字番号表（検索用）'!$B:$F,3,FALSE),\"\"),IFERROR(VLOOKUP(F$7,'点字番号表（検索用）'!$C:$F,2,FALSE),\"\"))))","v":""},null,null,{"$f":"IF(I$7=\"\",\"\",IF(I$7=\"　\",0,IF(EXACT(IFERROR(VLOOKUP(I$7,'点字番号表（検索用）'!$B:$F,1,FALSE),\"\"),I$7),IFERROR(VLOOKUP(I$7,'点字番号表（検索用）'!$B:$F,3,FALSE),\"\"),IFERROR(VLOOKUP(I$7,'点字番号表（検索用）'!$C:$F,2,FALSE),\"\"))))","v":""},null,null,{"$f":"IF(L$7=\"\",\"\",IF(L$7=\"　\",0,IF(EXACT(IFERROR(VLOOKUP(L$7,'点字番号表（検索用）'!$B:$F,1,FALSE),\"\"),L$7),IFERROR(VLOOKUP(L$7,'点字番号表（検索用）'!$B:$F,3,FALSE),\"\"),IFERROR(VLOOKUP(L$7,'点字番号表（検索用）'!$C:$F,2,FALSE),\"\"))))","v":""},null,null,{"$f":"IF(O$7=\"\",\"\",IF(O$7=\"　\",0,IF(EXACT(IFERROR(VLOOKUP(O$7,'点字番号表（検索用）'!$B:$F,1,FALSE),\"\"),O$7),IFERROR(VLOOKUP(O$7,'点字番号表（検索用）'!$B:$F,3,FALSE),\"\"),IFERROR(VLOOKUP(O$7,'点字番号表（検索用）'!$C:$F,2,FALSE),\"\"))))","v":""},null,null,{"$f":"IF(R$7=\"\",\"\",IF(R$7=\"　\",0,IF(EXACT(IFERROR(VLOOKUP(R$7,'点字番号表（検索用）'!$B:$F,1,FALSE),\"\"),R$7),IFERROR(VLOOKUP(R$7,'点字番号表（検索用）'!$B:$F,3,FALSE),\"\"),IFERROR(VLOOKUP(R$7,'点字番号表（検索用）'!$C:$F,2,FALSE),\"\"))))","v":""},null,null,{"$f":"IF(U$7=\"\",\"\",IF(U$7=\"　\",0,IF(EXACT(IFERROR(VLOOKUP(U$7,'点字番号表（検索用）'!$B:$F,1,FALSE),\"\"),U$7),IFERROR(VLOOKUP(U$7,'点字番号表（検索用）'!$B:$F,3,FALSE),\"\"),IFERROR(VLOOKUP(U$7,'点字番号表（検索用）'!$C:$F,2,FALSE),\"\"))))","v":""},null,null,{"$f":"IF(X$7=\"\",\"\",IF(X$7=\"　\",0,IF(EXACT(IFERROR(VLOOKUP(X$7,'点字番号表（検索用）'!$B:$F,1,FALSE),\"\"),X$7),IFERROR(VLOOKUP(X$7,'点字番号表（検索用）'!$B:$F,3,FALSE),\"\"),IFERROR(VLOOKUP(X$7,'点字番号表（検索用）'!$C:$F,2,FALSE),\"\"))))","v":""},null,null,{"$f":"IF(AA$7=\"\",\"\",IF(AA$7=\"　\",0,IF(EXACT(IFERROR(VLOOKUP(AA$7,'点字番号表（検索用）'!$B:$F,1,FALSE),\"\"),AA$7),IFERROR(VLOOKUP(AA$7,'点字番号表（検索用）'!$B:$F,3,FALSE),\"\"),IFERROR(VLOOKUP(AA$7,'点字番号表（検索用）'!$C:$F,2,FALSE),\"\"))))","v":""},null,null,{"$f":"IF(AD$7=\"\",\"\",IF(AD$7=\"　\",0,IF(EXACT(IFERROR(VLOOKUP(AD$7,'点字番号表（検索用）'!$B:$F,1,FALSE),\"\"),AD$7),IFERROR(VLOOKUP(AD$7,'点字番号表（検索用）'!$B:$F,3,FALSE),\"\"),IFERROR(VLOOKUP(AD$7,'点字番号表（検索用）'!$C:$F,2,FALSE),\"\"))))","v":""},null,null,{"$f":"IF(AG$7=\"\",\"\",IF(AG$7=\"　\",0,IF(EXACT(IFERROR(VLOOKUP(AG$7,'点字番号表（検索用）'!$B:$F,1,FALSE),\"\"),AG$7),IFERROR(VLOOKUP(AG$7,'点字番号表（検索用）'!$B:$F,3,FALSE),\"\"),IFERROR(VLOOKUP(AG$7,'点字番号表（検索用）'!$C:$F,2,FALSE),\"\"))))","v":""},null,null,{"$f":"IF(AJ$7=\"\",\"\",IF(AJ$7=\"　\",0,IF(EXACT(IFERROR(VLOOKUP(AJ$7,'点字番号表（検索用）'!$B:$F,1,FALSE),\"\"),AJ$7),IFERROR(VLOOKUP(AJ$7,'点字番号表（検索用）'!$B:$F,3,FALSE),\"\"),IFERROR(VLOOKUP(AJ$7,'点字番号表（検索用）'!$C:$F,2,FALSE),\"\"))))","v":""},null,null,{"$f":"IF(AM$7=\"\",\"\",IF(AM$7=\"　\",0,IF(EXACT(IFERROR(VLOOKUP(AM$7,'点字番号表（検索用）'!$B:$F,1,FALSE),\"\"),AM$7),IFERROR(VLOOKUP(AM$7,'点字番号表（検索用）'!$B:$F,3,FALSE),\"\"),IFERROR(VLOOKUP(AM$7,'点字番号表（検索用）'!$C:$F,2,FALSE),\"\"))))","v":""},null,null,{"$f":"IF(AP$7=\"\",\"\",IF(AP$7=\"　\",0,IF(EXACT(IFERROR(VLOOKUP(AP$7,'点字番号表（検索用）'!$B:$F,1,FALSE),\"\"),AP$7),IFERROR(VLOOKUP(AP$7,'点字番号表（検索用）'!$B:$F,3,FALSE),\"\"),IFERROR(VLOOKUP(AP$7,'点字番号表（検索用）'!$C:$F,2,FALSE),\"\"))))","v":""},null,null,{"$f":"IF(AS$7=\"\",\"\",IF(AS$7=\"　\",0,IF(EXACT(IFERROR(VLOOKUP(AS$7,'点字番号表（検索用）'!$B:$F,1,FALSE),\"\"),AS$7),IFERROR(VLOOKUP(AS$7,'点字番号表（検索用）'!$B:$F,3,FALSE),\"\"),IFERROR(VLOOKUP(AS$7,'点字番号表（検索用）'!$C:$F,2,FALSE),\"\"))))","v":""},null,null,{"$f":"IF(AV$7=\"\",\"\",IF(AV$7=\"　\",0,IF(EXACT(IFERROR(VLOOKUP(AV$7,'点字番号表（検索用）'!$B:$F,1,FALSE),\"\"),AV$7),IFERROR(VLOOKUP(AV$7,'点字番号表（検索用）'!$B:$F,3,FALSE),\"\"),IFERROR(VLOOKUP(AV$7,'点字番号表（検索用）'!$C:$F,2,FALSE),\"\"))))","v":""},null,null,{"$f":"IF(AY$7=\"\",\"\",IF(AY$7=\"　\",0,IF(EXACT(IFERROR(VLOOKUP(AY$7,'点字番号表（検索用）'!$B:$F,1,FALSE),\"\"),AY$7),IFERROR(VLOOKUP(AY$7,'点字番号表（検索用）'!$B:$F,3,FALSE),\"\"),IFERROR(VLOOKUP(AY$7,'点字番号表（検索用）'!$C:$F,2,FALSE),\"\"))))","v":""},null,null,{"$f":"IF(BB$7=\"\",\"\",IF(BB$7=\"　\",0,IF(EXACT(IFERROR(VLOOKUP(BB$7,'点字番号表（検索用）'!$B:$F,1,FALSE),\"\"),BB$7),IFERROR(VLOOKUP(BB$7,'点字番号表（検索用）'!$B:$F,3,FALSE),\"\"),IFERROR(VLOOKUP(BB$7,'点字番号表（検索用）'!$C:$F,2,FALSE),\"\"))))","v":""},null,null,{"$f":"IF(BE$7=\"\",\"\",IF(BE$7=\"　\",0,IF(EXACT(IFERROR(VLOOKUP(BE$7,'点字番号表（検索用）'!$B:$F,1,FALSE),\"\"),BE$7),IFERROR(VLOOKUP(BE$7,'点字番号表（検索用）'!$B:$F,3,FALSE),\"\"),IFERROR(VLOOKUP(BE$7,'点字番号表（検索用）'!$C:$F,2,FALSE),\"\"))))","v":""},null,null,{"$f":"IF(BH$7=\"\",\"\",IF(BH$7=\"　\",0,IF(EXACT(IFERROR(VLOOKUP(BH$7,'点字番号表（検索用）'!$B:$F,1,FALSE),\"\"),BH$7),IFERROR(VLOOKUP(BH$7,'点字番号表（検索用）'!$B:$F,3,FALSE),\"\"),IFERROR(VLOOKUP(BH$7,'点字番号表（検索用）'!$C:$F,2,FALSE),\"\"))))","v":""},null,null,{"$f":"IF(BK$7=\"\",\"\",IF(BK$7=\"　\",0,IF(EXACT(IFERROR(VLOOKUP(BK$7,'点字番号表（検索用）'!$B:$F,1,FALSE),\"\"),BK$7),IFERROR(VLOOKUP(BK$7,'点字番号表（検索用）'!$B:$F,3,FALSE),\"\"),IFERROR(VLOOKUP(BK$7,'点字番号表（検索用）'!$C:$F,2,FALSE),\"\"))))","v":""},null,null,{"$f":"IF(BN$7=\"\",\"\",IF(BN$7=\"　\",0,IF(EXACT(IFERROR(VLOOKUP(BN$7,'点字番号表（検索用）'!$B:$F,1,FALSE),\"\"),BN$7),IFERROR(VLOOKUP(BN$7,'点字番号表（検索用）'!$B:$F,3,FALSE),\"\"),IFERROR(VLOOKUP(BN$7,'点字番号表（検索用）'!$C:$F,2,FALSE),\"\"))))","v":""},null,null,{"$f":"IF(BQ$7=\"\",\"\",IF(BQ$7=\"　\",0,IF(EXACT(IFERROR(VLOOKUP(BQ$7,'点字番号表（検索用）'!$B:$F,1,FALSE),\"\"),BQ$7),IFERROR(VLOOKUP(BQ$7,'点字番号表（検索用）'!$B:$F,3,FALSE),\"\"),IFERROR(VLOOKUP(BQ$7,'点字番号表（検索用）'!$C:$F,2,FALSE),\"\"))))","v":""},null,null,{"$f":"IF(BT$7=\"\",\"\",IF(BT$7=\"　\",0,IF(EXACT(IFERROR(VLOOKUP(BT$7,'点字番号表（検索用）'!$B:$F,1,FALSE),\"\"),BT$7),IFERROR(VLOOKUP(BT$7,'点字番号表（検索用）'!$B:$F,3,FALSE),\"\"),IFERROR(VLOOKUP(BT$7,'点字番号表（検索用）'!$C:$F,2,FALSE),\"\"))))","v":""},null,null,{"$f":"IF(BW$7=\"\",\"\",IF(BW$7=\"　\",0,IF(EXACT(IFERROR(VLOOKUP(BW$7,'点字番号表（検索用）'!$B:$F,1,FALSE),\"\"),BW$7),IFERROR(VLOOKUP(BW$7,'点字番号表（検索用）'!$B:$F,3,FALSE),\"\"),IFERROR(VLOOKUP(BW$7,'点字番号表（検索用）'!$C:$F,2,FALSE),\"\"))))","v":""},null,null,{"$f":"IF(BZ$7=\"\",\"\",IF(BZ$7=\"　\",0,IF(EXACT(IFERROR(VLOOKUP(BZ$7,'点字番号表（検索用）'!$B:$F,1,FALSE),\"\"),BZ$7),IFERROR(VLOOKUP(BZ$7,'点字番号表（検索用）'!$B:$F,3,FALSE),\"\"),IFERROR(VLOOKUP(BZ$7,'点字番号表（検索用）'!$C:$F,2,FALSE),\"\"))))","v":""},null,null,{"$f":"IF(CC$7=\"\",\"\",IF(CC$7=\"　\",0,IF(EXACT(IFERROR(VLOOKUP(CC$7,'点字番号表（検索用）'!$B:$F,1,FALSE),\"\"),CC$7),IFERROR(VLOOKUP(CC$7,'点字番号表（検索用）'!$B:$F,3,FALSE),\"\"),IFERROR(VLOOKUP(CC$7,'点字番号表（検索用）'!$C:$F,2,FALSE),\"\"))))","v":""},null,null,{"$f":"IF(CF$7=\"\",\"\",IF(CF$7=\"　\",0,IF(EXACT(IFERROR(VLOOKUP(CF$7,'点字番号表（検索用）'!$B:$F,1,FALSE),\"\"),CF$7),IFERROR(VLOOKUP(CF$7,'点字番号表（検索用）'!$B:$F,3,FALSE),\"\"),IFERROR(VLOOKUP(CF$7,'点字番号表（検索用）'!$C:$F,2,FALSE),\"\"))))","v":""},null,null,{"$f":"IF(CI$7=\"\",\"\",IF(CI$7=\"　\",0,IF(EXACT(IFERROR(VLOOKUP(CI$7,'点字番号表（検索用）'!$B:$F,1,FALSE),\"\"),CI$7),IFERROR(VLOOKUP(CI$7,'点字番号表（検索用）'!$B:$F,3,FALSE),\"\"),IFERROR(VLOOKUP(CI$7,'点字番号表（検索用）'!$C:$F,2,FALSE),\"\"))))","v":""},null,null,{"$f":"IF(CL$7=\"\",\"\",IF(CL$7=\"　\",0,IF(EXACT(IFERROR(VLOOKUP(CL$7,'点字番号表（検索用）'!$B:$F,1,FALSE),\"\"),CL$7),IFERROR(VLOOKUP(CL$7,'点字番号表（検索用）'!$B:$F,3,FALSE),\"\"),IFERROR(VLOOKUP(CL$7,'点字番号表（検索用）'!$C:$F,2,FALSE),\"\"))))","v":""}]
[null,null,{"$f":"IFERROR(FIND(\"1\",C20),\"\")","v":""},{"$f":"IFERROR(FIND(\"4\",C20),\"\")","v":""},null,{"$f":"IFERROR(FIND(\"1\",F20),\"\")","v":""},{"$f":"IFERROR(FIND(\"4\",F20),\"\")","v":""},null,{"$f":"IFERROR(FIND(\"1\",I20),\"\")","v":""},{"$f":"IFERROR(FIND(\"4\",I20),\"\")","v":""},null,{"$f":"IFERROR(FIND(\"1\",L20),\"\")","v":""},{"$f":"IFERROR(FIND(\"4\",L20),\"\")","v":""},null,{"$f":"IFERROR(FIND(\"1\",O20),\"\")","v":""},{"$f":"IFERROR(FIND(\"4\",O20),\"\")","v":""},null,{"$f":"IFERROR(FIND(\"1\",R20),\"\")","v":""},{"$f":"IFERROR(FIND(\"4\",R20),\"\")","v":""},null,{"$f":"IFERROR(FIND(\"1\",U20),\"\")","v":""},{"$f":"IFERROR(FIND(\"4\",U20),\"\")","v":""},null,{"$f":"IFERROR(FIND(\"1\",X20),\"\")","v":""},{"$f":"IFERROR(FIND(\"4\",X20),\"\")","v":""},null,{"$f":"IFERROR(FIND(\"1\",AA20),\"\")","v":""},{"$f":"IFERROR(FIND(\"4\",AA20),\"\")","v":""},null,{"$f":"IFERROR(FIND(\"1\",AD20),\"\")","v":""},{"$f":"IFERROR(FIND(\"4\",AD20),\"\")","v":""},null,{"$f":"IFERROR(FIND(\"1\",AG20),\"\")","v":""},{"$f":"IFERROR(FIND(\"4\",AG20),\"\")","v":""},null,{"$f":"IFERROR(FIND(\"1\",AJ20),\"\")","v":""},{"$f":"IFERROR(FIND(\"4\",AJ20),\"\")","v":""},null,{"$f":"IFERROR(FIND(\"1\",AM20),\"\")","v":""},{"$f":"IFERROR(FIND(\"4\",AM20),\"\")","v":""},null,{"$f":"IFERROR(FIND(\"1\",AP20),\"\")","v":""},{"$f":"IFERROR(FIND(\"4\",AP20),\"\")","v":""},null,{"$f":"IFERROR(FIND(\"1\",AS20),\"\")","v":""},{"$f":"IFERROR(FIND(\"4\",AS20),\"\")","v":""},null,{"$f":"IFERROR(FIND(\"1\",AV20),\"\")","v":""},{"$f":"IFERROR(FIND(\"4\",AV20),\"\")","v":""},null,{"$f":"IFERROR(FIND(\"1\",AY20),\"\")","v":""},{"$f":"IFERROR(FIND(\"4\",AY20),\"\")","v":""},null,{"$f":"IFERROR(FIND(\"1\",BB20),\"\")","v":""},{"$f":"IFERROR(FIND(\"4\",BB20),\"\")","v":""},null,{"$f":"IFERROR(FIND(\"1\",BE20),\"\")","v":""},{"$f":"IFERROR(FIND(\"4\",BE20),\"\")","v":""},null,{"$f":"IFERROR(FIND(\"1\",BH20),\"\")","v":""},{"$f":"IFERROR(FIND(\"4\",BH20),\"\")","v":""},null,{"$f":"IFERROR(FIND(\"1\",BK20),\"\")","v":""},{"$f":"IFERROR(FIND(\"4\",BK20),\"\")","v":""},null,{"$f":"IFERROR(FIND(\"1\",BN20),\"\")","v":""},{"$f":"IFERROR(FIND(\"4\",BN20),\"\")","v":""},null,{"$f":"IFERROR(FIND(\"1\",BQ20),\"\")","v":""},{"$f":"IFERROR(FIND(\"4\",BQ20),\"\")","v":""},null,{"$f":"IFERROR(FIND(\"1\",BT20),\"\")","v":""},{"$f":"IFERROR(FIND(\"4\",BT20),\"\")","v":""},null,{"$f":"IFERROR(FIND(\"1\",BW20),\"\")","v":""},{"$f":"IFERROR(FIND(\"4\",BW20),\"\")","v":""},null,{"$f":"IFERROR(FIND(\"1\",BZ20),\"\")","v":""},{"$f":"IFERROR(FIND(\"4\",BZ20),\"\")","v":""},null,{"$f":"IFERROR(FIND(\"1\",CC20),\"\")","v":""},{"$f":"IFERROR(FIND(\"4\",CC20),\"\")","v":""},null,{"$f":"IFERROR(FIND(\"1\",CF20),\"\")","v":""},{"$f":"IFERROR(FIND(\"4\",CF20),\"\")","v":""},null,{"$f":"IFERROR(FIND(\"1\",CI20),\"\")","v":""},{"$f":"IFERROR(FIND(\"4\",CI20),\"\")","v":""},null,{"$f":"IFERROR(FIND(\"1\",CL20),\"\")","v":""},{"$f":"IFERROR(FIND(\"4\",CL20),\"\")","v":""}]
[null,null,{"$f":"IFERROR(FIND(\"2\",C20),\"\")","v":""},{"$f":"IFERROR(FIND(\"5\",C20),\"\")","v":""},null,{"$f":"IFERROR(FIND(\"2\",F20),\"\")","v":""},{"$f":"IFERROR(FIND(\"5\",F20),\"\")","v":""},null,{"$f":"IFERROR(FIND(\"2\",I20),\"\")","v":""},{"$f":"IFERROR(FIND(\"5\",I20),\"\")","v":""},null,{"$f":"IFERROR(FIND(\"2\",L20),\"\")","v":""},{"$f":"IFERROR(FIND(\"5\",L20),\"\")","v":""},null,{"$f":"IFERROR(FIND(\"2\",O20),\"\")","v":""},{"$f":"IFERROR(FIND(\"5\",O20),\"\")","v":""},null,{"$f":"IFERROR(FIND(\"2\",R20),\"\")","v":""},{"$f":"IFERROR(FIND(\"5\",R20),\"\")","v":""},null,{"$f":"IFERROR(FIND(\"2\",U20),\"\")","v":""},{"$f":"IFERROR(FIND(\"5\",U20),\"\")","v":""},null,{"$f":"IFERROR(FIND(\"2\",X20),\"\")","v":""},{"$f":"IFERROR(FIND(\"5\",X20),\"\")","v":""},null,{"$f":"IFERROR(FIND(\"2\",AA20),\"\")","v":""},{"$f":"IFERROR(FIND(\"5\",AA20),\"\")","v":""},null,{"$f":"IFERROR(FIND(\"2\",AD20),\"\")","v":""},{"$f":"IFERROR(FIND(\"5\",AD20),\"\")","v":""},null,{"$f":"IFERROR(FIND(\"2\",AG20),\"\")","v":""},{"$f":"IFERROR(FIND(\"5\",AG20),\"\")","v":""},null,{"$f":"IFERROR(FIND(\"2\",AJ20),\"\")","v":""},{"$f":"IFERROR(FIND(\"5\",AJ20),\"\")","v":""},null,{"$f":"IFERROR(FIND(\"2\",AM20),\"\")","v":""},{"$f":"IFERROR(FIND(\"5\",AM20),\"\")","v":""},null,{"$f":"IFERROR(FIND(\"2\",AP20),\"\")","v":""},{"$f":"IFERROR(FIND(\"5\",AP20),\"\")","v":""},null,{"$f":"IFERROR(FIND(\"2\",AS20),\"\")","v":""},{"$f":"IFERROR(FIND(\"5\",AS20),\"\")","v":""},null,{"$f":"IFERROR(FIND(\"2\",AV20),\"\")","v":""},{"$f":"IFERROR(FIND(\"5\",AV20),\"\")","v":""},null,{"$f":"IFERROR(FIND(\"2\",AY20),\"\")","v":""},{"$f":"IFERROR(FIND(\"5\",AY20),\"\")","v":""},null,{"$f":"IFERROR(FIND(\"2\",BB20),\"\")","v":""},{"$f":"IFERROR(FIND(\"5\",BB20),\"\")","v":""},null,{"$f":"IFERROR(FIND(\"2\",BE20),\"\")","v":""},{"$f":"IFERROR(FIND(\"5\",BE20),\"\")","v":""},null,{"$f":"IFERROR(FIND(\"2\",BH20),\"\")","v":""},{"$f":"IFERROR(FIND(\"5\",BH20),\"\")","v":""},null,{"$f":"IFERROR(FIND(\"2\",BK20),\"\")","v":""},{"$f":"IFERROR(FIND(\"5\",BK20),\"\")","v":""},null,{"$f":"IFERROR(FIND(\"2\",BN20),\"\")","v":""},{"$f":"IFERROR(FIND(\"5\",BN20),\"\")","v":""},null,{"$f":"IFERROR(FIND(\"2\",BQ20),\"\")","v":""},{"$f":"IFERROR(FIND(\"5\",BQ20),\"\")","v":""},null,{"$f":"IFERROR(FIND(\"2\",BT20),\"\")","v":""},{"$f":"IFERROR(FIND(\"5\",BT20),\"\")","v":""},null,{"$f":"IFERROR(FIND(\"2\",BW20),\"\")","v":""},{"$f":"IFERROR(FIND(\"5\",BW20),\"\")","v":""},null,{"$f":"IFERROR(FIND(\"2\",BZ20),\"\")","v":""},{"$f":"IFERROR(FIND(\"5\",BZ20),\"\")","v":""},null,{"$f":"IFERROR(FIND(\"2\",CC20),\"\")","v":""},{"$f":"IFERROR(FIND(\"5\",CC20),\"\")","v":""},null,{"$f":"IFERROR(FIND(\"2\",CF20),\"\")","v":""},{"$f":"IFERROR(FIND(\"5\",CF20),\"\")","v":""},null,{"$f":"IFERROR(FIND(\"2\",CI20),\"\")","v":""},{"$f":"IFERROR(FIND(\"5\",CI20),\"\")","v":""},null,{"$f":"IFERROR(FIND(\"2\",CL20),\"\")","v":""},{"$f":"IFERROR(FIND(\"5\",CL20),\"\")","v":""}]
[null,null,{"$f":"IFERROR(FIND(\"3\",C20),\"\")","v":""},{"$f":"IFERROR(FIND(\"6\",C20),\"\")","v":""},null,{"$f":"IFERROR(FIND(\"3\",F20),\"\")","v":""},{"$f":"IFERROR(FIND(\"6\",F20),\"\")","v":""},null,{"$f":"IFERROR(FIND(\"3\",I20),\"\")","v":""},{"$f":"IFERROR(FIND(\"6\",I20),\"\")","v":""},null,{"$f":"IFERROR(FIND(\"3\",L20),\"\")","v":""},{"$f":"IFERROR(FIND(\"6\",L20),\"\")","v":""},null,{"$f":"IFERROR(FIND(\"3\",O20),\"\")","v":""},{"$f":"IFERROR(FIND(\"6\",O20),\"\")","v":""},null,{"$f":"IFERROR(FIND(\"3\",R20),\"\")","v":""},{"$f":"IFERROR(FIND(\"6\",R20),\"\")","v":""},null,{"$f":"IFERROR(FIND(\"3\",U20),\"\")","v":""},{"$f":"IFERROR(FIND(\"6\",U20),\"\")","v":""},null,{"$f":"IFERROR(FIND(\"3\",X20),\"\")","v":""},{"$f":"IFERROR(FIND(\"6\",X20),\"\")","v":""},null,{"$f":"IFERROR(FIND(\"3\",AA20),\"\")","v":""},{"$f":"IFERROR(FIND(\"6\",AA20),\"\")","v":""},null,{"$f":"IFERROR(FIND(\"3\",AD20),\"\")","v":""},{"$f":"IFERROR(FIND(\"6\",AD20),\"\")","v":""},null,{"$f":"IFERROR(FIND(\"3\",AG20),\"\")","v":""},{"$f":"IFERROR(FIND(\"6\",AG20),\"\")","v":""},null,{"$f":"IFERROR(FIND(\"3\",AJ20),\"\")","v":""},{"$f":"IFERROR(FIND(\"6\",AJ20),\"\")","v":""},null,{"$f":"IFERROR(FIND(\"3\",AM20),\"\")","v":""},{"$f":"IFERROR(FIND(\"6\",AM20),\"\")","v":""},null,{"$f":"IFERROR(FIND(\"3\",AP20),\"\")","v":""},{"$f":"IFERROR(FIND(\"6\",AP20),\"\")","v":""},null,{"$f":"IFERROR(FIND(\"3\",AS20),\"\")","v":""},{"$f":"IFERROR(FIND(\"6\",AS20),\"\")","v":""},null,{"$f":"IFERROR(FIND(\"3\",AV20),\"\")","v":""},{"$f":"IFERROR(FIND(\"6\",AV20),\"\")","v":""},null,{"$f":"IFERROR(FIND(\"3\",AY20),\"\")","v":""},{"$f":"IFERROR(FIND(\"6\",AY20),\"\")","v":""},null,{"$f":"IFERROR(FIND(\"3\",BB20),\"\")","v":""},{"$f":"IFERROR(FIND(\"6\",BB20),\"\")","v":""},null,{"$f":"IFERROR(FIND(\"3\",BE20),\"\")","v":""},{"$f":"IFERROR(FIND(\"6\",BE20),\"\")","v":""},null,{"$f":"IFERROR(FIND(\"3\",BH20),\"\")","v":""},{"$f":"IFERROR(FIND(\"6\",BH20),\"\")","v":""},null,{"$f":"IFERROR(FIND(\"3\",BK20),\"\")","v":""},{"$f":"IFERROR(FIND(\"6\",BK20),\"\")","v":""},null,{"$f":"IFERROR(FIND(\"3\",BN20),\"\")","v":""},{"$f":"IFERROR(FIND(\"6\",BN20),\"\")","v":""},null,{"$f":"IFERROR(FIND(\"3\",BQ20),\"\")","v":""},{"$f":"IFERROR(FIND(\"6\",BQ20),\"\")","v":""},null,{"$f":"IFERROR(FIND(\"3\",BT20),\"\")","v":""},{"$f":"IFERROR(FIND(\"6\",BT20),\"\")","v":""},null,{"$f":"IFERROR(FIND(\"3\",BW20),\"\")","v":""},{"$f":"IFERROR(FIND(\"6\",BW20),\"\")","v":""},null,{"$f":"IFERROR(FIND(\"3\",BZ20),\"\")","v":""},{"$f":"IFERROR(FIND(\"6\",BZ20),\"\")","v":""},null,{"$f":"IFERROR(FIND(\"3\",CC20),\"\")","v":""},{"$f":"IFERROR(FIND(\"6\",CC20),\"\")","v":""},null,{"$f":"IFERROR(FIND(\"3\",CF20),\"\")","v":""},{"$f":"IFERROR(FIND(\"6\",CF20),\"\")","v":""},null,{"$f":"IFERROR(FIND(\"3\",CI20),\"\")","v":""},{"$f":"IFERROR(FIND(\"6\",CI20),\"\")","v":""},null,{"$f":"IFERROR(FIND(\"3\",CL20),\"\")","v":""},{"$f":"IFERROR(FIND(\"6\",CL20),\"\")","v":""}]
[null,null,{"$f":"IF(C21=\"\",\"\",\"●\")","v":""},"",null,{"$f":"IF(F21=\"\",\"\",\"●\")","v":""},"",null,{"$f":"IF(I21=\"\",\"\",\"●\")","v":""},"",null,{"$f":"IF(L21=\"\",\"\",\"●\")","v":""},"",null,{"$f":"IF(O21=\"\",\"\",\"●\")","v":""},"",null,{"$f":"IF(R21=\"\",\"\",\"●\")","v":""},"",null,{"$f":"IF(U21=\"\",\"\",\"●\")","v":""},"",null,{"$f":"IF(X21=\"\",\"\",\"●\")","v":""},"",null,{"$f":"IF(AA21=\"\",\"\",\"●\")","v":""},"",null,{"$f":"IF(AD21=\"\",\"\",\"●\")","v":""},"",null,{"$f":"IF(AG21=\"\",\"\",\"●\")","v":""},"",null,{"$f":"IF(AJ21=\"\",\"\",\"●\")","v":""},"",null,{"$f":"IF(AM21=\"\",\"\",\"●\")","v":""},"",null,{"$f":"IF(AP21=\"\",\"\",\"●\")","v":""},"",null,{"$f":"IF(AS21=\"\",\"\",\"●\")","v":""},"",null,{"$f":"IF(AV21=\"\",\"\",\"●\")","v":""},"",null,{"$f":"IF(AY21=\"\",\"\",\"●\")","v":""},"",null,{"$f":"IF(BB21=\"\",\"\",\"●\")","v":""},"",null,{"$f":"IF(BE21=\"\",\"\",\"●\")","v":""},"",null,{"$f":"IF(BH21=\"\",\"\",\"●\")","v":""},"",null,{"$f":"IF(BK21=\"\",\"\",\"●\")","v":""},"",null,{"$f":"IF(BN21=\"\",\"\",\"●\")","v":""},"",null,{"$f":"IF(BQ21=\"\",\"\",\"●\")","v":""},"",null,{"$f":"IF(BT21=\"\",\"\",\"●\")","v":""},"",null,{"$f":"IF(BW21=\"\",\"\",\"●\")","v":""},"",null,{"$f":"IF(BZ21=\"\",\"\",\"●\")","v":""},"",null,{"$f":"IF(CC21=\"\",\"\",\"●\")","v":""},"",null,{"$f":"IF(CF21=\"\",\"\",\"●\")","v":""},"",null,{"$f":"IF(CI21=\"\",\"\",\"●\")","v":""},"",null,{"$f":"IF(CL21=\"\",\"\",\"●\")","v":""},""]
[null,null,"","",null,"","",null,"","",null,"","",null,"","",null,"","",null,"","",null,"","",null,"","",null,"","",null,"","",null,"","",null,"","",null,"","",null,"","",null,"","",null,"","",null,"","",null,"","",null,"","",null,{"$f":"IF(BK22=\"\",\"\",\"●\")","v":""},"",null,{"$f":"IF(BN22=\"\",\"\",\"●\")","v":""},"",null,{"$f":"IF(BQ22=\"\",\"\",\"●\")","v":""},"",null,{"$f":"IF(BT22=\"\",\"\",\"●\")","v":""},"",null,{"$f":"IF(BW22=\"\",\"\",\"●\")","v":""},"",null,{"$f":"IF(BZ22=\"\",\"\",\"●\")","v":""},"",null,{"$f":"IF(CC22=\"\",\"\",\"●\")","v":""},"",null,{"$f":"IF(CF22=\"\",\"\",\"●\")","v":""},"",null,{"$f":"IF(CI22=\"\",\"\",\"●\")","v":""},"",null,{"$f":"IF(CL22=\"\",\"\",\"●\")","v":""},""]
[null,null,"","",null,"","",null,"","",null,"","",null,"","",null,"","",null,"","",null,"","",null,"","",null,"","",null,"","",null,"","",null,"","",null,"","",null,"","",null,"","",null,"","",null,"","",null,"","",null,"","",null,{"$f":"IF(BK23=\"\",\"\",\"●\")","v":""},"",null,{"$f":"IF(BN23=\"\",\"\",\"●\")","v":""},"",null,{"$f":"IF(BQ23=\"\",\"\",\"●\")","v":""},"",null,{"$f":"IF(BT23=\"\",\"\",\"●\")","v":""},"",null,{"$f":"IF(BW23=\"\",\"\",\"●\")","v":""},"",null,{"$f":"IF(BZ23=\"\",\"\",\"●\")","v":""},"",null,{"$f":"IF(CC23=\"\",\"\",\"●\")","v":""},"",null,{"$f":"IF(CF23=\"\",\"\",\"●\")","v":""},"",null,{"$f":"IF(CI23=\"\",\"\",\"●\")","v":""},"",null,{"$f":"IF(CL23=\"\",\"\",\"●\")","v":""},""]
[]
[null,null,{"$f":"IF(C24=\"\",\"\",1)","v":""},{"$f":"IF(D24=\"\",\"\",4)","v":""},null,{"$f":"IF(F24=\"\",\"\",1)","v":""},{"$f":"IF(G24=\"\",\"\",4)","v":""},null,{"$f":"IF(I24=\"\",\"\",1)","v":""},{"$f":"IF(J24=\"\",\"\",4)","v":""},null,{"$f":"IF(L24=\"\",\"\",1)","v":""},{"$f":"IF(M24=\"\",\"\",4)","v":""},null,{"$f":"IF(O24=\"\",\"\",1)","v":""},{"$f":"IF(P24=\"\",\"\",4)","v":""},null,{"$f":"IF(R24=\"\",\"\",1)","v":""},{"$f":"IF(S24=\"\",\"\",4)","v":""},null,{"$f":"IF(U24=\"\",\"\",1)","v":""},{"$f":"IF(V24=\"\",\"\",4)","v":""},null,{"$f":"IF(X24=\"\",\"\",1)","v":""},{"$f":"IF(Y24=\"\",\"\",4)","v":""},null,{"$f":"IF(AA24=\"\",\"\",1)","v":""},{"$f":"IF(AB24=\"\",\"\",4)","v":""},null,{"$f":"IF(AD24=\"\",\"\",1)","v":""},{"$f":"IF(AE24=\"\",\"\",4)","v":""},null,{"$f":"IF(AG24=\"\",\"\",1)","v":""},{"$f":"IF(AH24=\"\",\"\",4)","v":""},null,{"$f":"IF(AJ24=\"\",\"\",1)","v":""},{"$f":"IF(AK24=\"\",\"\",4)","v":""},null,{"$f":"IF(AM24=\"\",\"\",1)","v":""},{"$f":"IF(AN24=\"\",\"\",4)","v":""},null,{"$f":"IF(AP24=\"\",\"\",1)","v":""},{"$f":"IF(AQ24=\"\",\"\",4)","v":""},null,{"$f":"IF(AS24=\"\",\"\",1)","v":""},{"$f":"IF(AT24=\"\",\"\",4)","v":""},null,{"$f":"IF(AV24=\"\",\"\",1)","v":""},{"$f":"IF(AW24=\"\",\"\",4)","v":""},null,{"$f":"IF(AY24=\"\",\"\",1)","v":""},{"$f":"IF(AZ24=\"\",\"\",4)","v":""},null,{"$f":"IF(BB24=\"\",\"\",1)","v":""},{"$f":"IF(BC24=\"\",\"\",4)","v":""},null,{"$f":"IF(BE24=\"\",\"\",1)","v":""},{"$f":"IF(BF24=\"\",\"\",4)","v":""},null,{"$f":"IF(BH24=\"\",\"\",1)","v":""},{"$f":"IF(BI24=\"\",\"\",4)","v":""},null,{"$f":"IF(BK24=\"\",\"\",1)","v":""},{"$f":"IF(BL24=\"\",\"\",4)","v":""},null,"","",null,"","",null,"","",null,"","",null,"","",null,"","",null,"","",null,"","",null,"",""]
[null,null,{"$f":"IF(C25=\"\",\"\",2)","v":""},{"$f":"IF(D25=\"\",\"\",5)","v":""},null,{"$f":"IF(F25=\"\",\"\",2)","v":""},{"$f":"IF(G25=\"\",\"\",5)","v":""},null,{"$f":"IF(I25=\"\",\"\",2)","v":""},{"$f":"IF(J25=\"\",\"\",5)","v":""},null,{"$f":"IF(L25=\"\",\"\",2)","v":""},{"$f":"IF(M25=\"\",\"\",5)","v":""},null,{"$f":"IF(O25=\"\",\"\",2)","v":""},{"$f":"IF(P25=\"\",\"\",5)","v":""},null,{"$f":"IF(R25=\"\",\"\",2)","v":""},{"$f":"IF(S25=\"\",\"\",5)","v":""},null,{"$f":"IF(U25=\"\",\"\",2)","v":""},{"$f":"IF(V25=\"\",\"\",5)","v":""},null,{"$f":"IF(X25=\"\",\"\",2)","v":""},{"$f":"IF(Y25=\"\",\"\",5)","v":""},null,{"$f":"IF(AA25=\"\",\"\",2)","v":""},{"$f":"IF(AB25=\"\",\"\",5)","v":""},null,{"$f":"IF(AD25=\"\",\"\",2)","v":""},{"$f":"IF(AE25=\"\",\"\",5)","v":""},null,{"$f":"IF(AG25=\"\",\"\",2)","v":""},{"$f":"IF(AH25=\"\",\"\",5)","v":""},null,{"$f":"IF(AJ25=\"\",\"\",2)","v":""},{"$f":"IF(AK25=\"\",\"\",5)","v":""},null,{"$f":"IF(AM25=\"\",\"\",2)","v":""},{"$f":"IF(AN25=\"\",\"\",5)","v":""},null,{"$f":"IF(AP25=\"\",\"\",2)","v":""},{"$f":"IF(AQ25=\"\",\"\",5)","v":""},null,{"$f":"IF(AS25=\"\",\"\",2)","v":""},{"$f":"IF(AT25=\"\",\"\",5)","v":""},null,{"$f":"IF(AV25=\"\",\"\",2)","v":""},{"$f":"IF(AW25=\"\",\"\",5)","v":""},null,{"$f":"IF(AY25=\"\",\"\",2)","v":""},{"$f":"IF(AZ25=\"\",\"\",5)","v":""},null,{"$f":"IF(BB25=\"\",\"\",2)","v":""},{"$f":"IF(BC25=\"\",\"\",5)","v":""},null,{"$f":"IF(BE25=\"\",\"\",2)","v":""},{"$f":"IF(BF25=\"\",\"\",5)","v":""},null,{"$f":"IF(BH25=\"\",\"\",2)","v":""},{"$f":"IF(BI25=\"\",\"\",5)","v":""},null,{"$f":"IF(BK25=\"\",\"\",2)","v":""},{"$f":"IF(BL25=\"\",\"\",5)","v":""},null,"","",null,"","",null,"","",null,"","",null,"","",null,"","",null,"","",null,"","",null,"",""]
[null,null,{"$f":"IF(C26=\"\",\"\",3)","v":""},{"$f":"IF(D26=\"\",\"\",6)","v":""},null,{"$f":"IF(F26=\"\",\"\",3)","v":""},{"$f":"IF(G26=\"\",\"\",6)","v":""},null,{"$f":"IF(I26=\"\",\"\",3)","v":""},{"$f":"IF(J26=\"\",\"\",6)","v":""},null,{"$f":"IF(L26=\"\",\"\",3)","v":""},{"$f":"IF(M26=\"\",\"\",6)","v":""},null,{"$f":"IF(O26=\"\",\"\",3)","v":""},{"$f":"IF(P26=\"\",\"\",6)","v":""},null,{"$f":"IF(R26=\"\",\"\",3)","v":""},{"$f":"IF(S26=\"\",\"\",6)","v":""},null,{"$f":"IF(U26=\"\",\"\",3)","v":""},{"$f":"IF(V26=\"\",\"\",6)","v":""},null,{"$f":"IF(X26=\"\",\"\",3)","v":""},{"$f":"IF(Y26=\"\",\"\",6)","v":""},null,{"$f":"IF(AA26=\"\",\"\",3)","v":""},{"$f":"IF(AB26=\"\",\"\",6)","v":""},null,{"$f":"IF(AD26=\"\",\"\",3)","v":""},{"$f":"IF(AE26=\"\",\"\",6)","v":""},null,{"$f":"IF(AG26=\"\",\"\",3)","v":""},{"$f":"IF(AH26=\"\",\"\",6)","v":""},null,{"$f":"IF(AJ26=\"\",\"\",3)","v":""},{"$f":"IF(AK26=\"\",\"\",6)","v":""},null,{"$f":"IF(AM26=\"\",\"\",3)","v":""},{"$f":"IF(AN26=\"\",\"\",6)","v":""},null,{"$f":"IF(AP26=\"\",\"\",3)","v":""},{"$f":"IF(AQ26=\"\",\"\",6)","v":""},null,{"$f":"IF(AS26=\"\",\"\",3)","v":""},{"$f":"IF(AT26=\"\",\"\",6)","v":""},null,{"$f":"IF(AV26=\"\",\"\",3)","v":""},{"$f":"IF(AW26=\"\",\"\",6)","v":""},null,{"$f":"IF(AY26=\"\",\"\",3)","v":""},{"$f":"IF(AZ26=\"\",\"\",6)","v":""},null,{"$f":"IF(BB26=\"\",\"\",3)","v":""},{"$f":"IF(BC26=\"\",\"\",6)","v":""},null,{"$f":"IF(BE26=\"\",\"\",3)","v":""},{"$f":"IF(BF26=\"\",\"\",6)","v":""},null,{"$f":"IF(BH26=\"\",\"\",3)","v":""},{"$f":"IF(BI26=\"\",\"\",6)","v":""},null,{"$f":"IF(BK26=\"\",\"\",3)","v":""},{"$f":"IF(BL26=\"\",\"\",6)","v":""},null,"","",null,"","",null,"","",null,"","",null,"","",null,"","",null,"","",null,"","",null,"",""]
[null,null,{"$f":"IF(C28&C29&C30&D28&D29&D30=\"\",0,C28&C29&C30&D28&D29&D30)","v":0},null,null,{"$f":"IF(F28&F29&F30&G28&G29&G30=\"\",0,F28&F29&F30&G28&G29&G30)","v":0},null,null,{"$f":"IF(I28&I29&I30&J28&J29&J30=\"\",0,I28&I29&I30&J28&J29&J30)","v":0},null,null,{"$f":"IF(L28&L29&L30&M28&M29&M30=\"\",0,L28&L29&L30&M28&M29&M30)","v":0},null,null,{"$f":"IF(O28&O29&O30&P28&P29&P30=\"\",0,O28&O29&O30&P28&P29&P30)","v":0},null,null,{"$f":"IF(R28&R29&R30&S28&S29&S30=\"\",0,R28&R29&R30&S28&S29&S30)","v":0},null,null,{"$f":"IF(U28&U29&U30&V28&V29&V30=\"\",0,U28&U29&U30&V28&V29&V30)","v":0},null,null,{"$f":"IF(X28&X29&X30&Y28&Y29&Y30=\"\",0,X28&X29&X30&Y28&Y29&Y30)","v":0},null,null,{"$f":"IF(AA28&AA29&AA30&AB28&AB29&AB30=\"\",0,AA28&AA29&AA30&AB28&AB29&AB30)","v":0},null,null,{"$f":"IF(AD28&AD29&AD30&AE28&AE29&AE30=\"\",0,AD28&AD29&AD30&AE28&AE29&AE30)","v":0},null,null,{"$f":"IF(AG28&AG29&AG30&AH28&AH29&AH30=\"\",0,AG28&AG29&AG30&AH28&AH29&AH30)","v":0},null,null,{"$f":"IF(AJ28&AJ29&AJ30&AK28&AK29&AK30=\"\",0,AJ28&AJ29&AJ30&AK28&AK29&AK30)","v":0},null,null,{"$f":"IF(AM28&AM29&AM30&AN28&AN29&AN30=\"\",0,AM28&AM29&AM30&AN28&AN29&AN30)","v":0},null,null,{"$f":"IF(AP28&AP29&AP30&AQ28&AQ29&AQ30=\"\",0,AP28&AP29&AP30&AQ28&AQ29&AQ30)","v":0},null,null,{"$f":"IF(AS28&AS29&AS30&AT28&AT29&AT30=\"\",0,AS28&AS29&AS30&AT28&AT29&AT30)","v":0},null,null,{"$f":"IF(AV28&AV29&AV30&AW28&AW29&AW30=\"\",0,AV28&AV29&AV30&AW28&AW29&AW30)","v":0},null,null,{"$f":"IF(AY28&AY29&AY30&AZ28&AZ29&AZ30=\"\",0,AY28&AY29&AY30&AZ28&AZ29&AZ30)","v":0},null,null,{"$f":"IF(BB28&BB29&BB30&BC28&BC29&BC30=\"\",0,BB28&BB29&BB30&BC28&BC29&BC30)","v":0},null,null,{"$f":"IF(BE28&BE29&BE30&BF28&BF29&BF30=\"\",0,BE28&BE29&BE30&BF28&BF29&BF30)","v":0},null,null,{"$f":"IF(BH28&BH29&BH30&BI28&BI29&BI30=\"\",0,BH28&BH29&BH30&BI28&BI29&BI30)","v":0},null,null,{"$f":"IF(BK28&BK29&BK30&BL28&BL29&BL30=\"\",0,BK28&BK29&BK30&BL28&BL29&BL30)","v":0},null,null,{"$f":"IF(BN28&BN29&BN30&BO28&BO29&BO30=\"\",0,BN28&BN29&BN30&BO28&BO29&BO30)","v":0},null,null,{"$f":"IF(BQ28&BQ29&BQ30&BR28&BR29&BR30=\"\",0,BQ28&BQ29&BQ30&BR28&BR29&BR30)","v":0},null,null,{"$f":"IF(BT28&BT29&BT30&BU28&BU29&BU30=\"\",0,BT28&BT29&BT30&BU28&BU29&BU30)","v":0},null,null,{"$f":"IF(BW28&BW29&BW30&BX28&BX29&BX30=\"\",0,BW28&BW29&BW30&BX28&BX29&BX30)","v":0},null,null,{"$f":"IF(BZ28&BZ29&BZ30&CA28&CA29&CA30=\"\",0,BZ28&BZ29&BZ30&CA28&CA29&CA30)","v":0},null,null,{"$f":"IF(CC28&CC29&CC30&CD28&CD29&CD30=\"\",0,CC28&CC29&CC30&CD28&CD29&CD30)","v":0},null,null,{"$f":"IF(CF28&CF29&CF30&CG28&CG29&CG30=\"\",0,CF28&CF29&CF30&CG28&CG29&CG30)","v":0},null,null,{"$f":"IF(CI28&CI29&CI30&CJ28&CJ29&CJ30=\"\",0,CI28&CI29&CI30&CJ28&CJ29&CJ30)","v":0},null,null,{"$f":"IF(CL28&CL29&CL30&CM28&CM29&CM30=\"\",0,CL28&CL29&CL30&CM28&CM29&CM30)","v":0}]
[]
[null,null,{"$f":"IF(OR(C$7=\"\",C$7=\"　\"),0,IF(EXACT(IFERROR(VLOOKUP(C$7,'点字番号表（検索用）'!$B:$F,1,FALSE),\"\"),C$7),IFERROR(VLOOKUP(C$7,'点字番号表（検索用）'!$B:$F,4,FALSE),0),IFERROR(VLOOKUP(C$7,'点字番号表（検索用）'!$C:$F,3,FALSE),0)))","v":0},null,null,{"$f":"IF(OR(F$7=\"\",F$7=\"　\"),0,IF(EXACT(IFERROR(VLOOKUP(F$7,'点字番号表（検索用）'!$B:$F,1,FALSE),\"\"),F$7),IFERROR(VLOOKUP(F$7,'点字番号表（検索用）'!$B:$F,4,FALSE),0),IFERROR(VLOOKUP(F$7,'点字番号表（検索用）'!$C:$F,3,FALSE),0)))","v":0},null,null,{"$f":"IF(OR(I$7=\"\",I$7=\"　\"),0,IF(EXACT(IFERROR(VLOOKUP(I$7,'点字番号表（検索用）'!$B:$F,1,FALSE),\"\"),I$7),IFERROR(VLOOKUP(I$7,'点字番号表（検索用）'!$B:$F,4,FALSE),0),IFERROR(VLOOKUP(I$7,'点字番号表（検索用）'!$C:$F,3,FALSE),0)))","v":0},null,null,{"$f":"IF(OR(L$7=\"\",L$7=\"　\"),0,IF(EXACT(IFERROR(VLOOKUP(L$7,'点字番号表（検索用）'!$B:$F,1,FALSE),\"\"),L$7),IFERROR(VLOOKUP(L$7,'点字番号表（検索用）'!$B:$F,4,FALSE),0),IFERROR(VLOOKUP(L$7,'点字番号表（検索用）'!$C:$F,3,FALSE),0)))","v":0},null,null,{"$f":"IF(OR(O$7=\"\",O$7=\"　\"),0,IF(EXACT(IFERROR(VLOOKUP(O$7,'点字番号表（検索用）'!$B:$F,1,FALSE),\"\"),O$7),IFERROR(VLOOKUP(O$7,'点字番号表（検索用）'!$B:$F,4,FALSE),0),IFERROR(VLOOKUP(O$7,'点字番号表（検索用）'!$C:$F,3,FALSE),0)))","v":0},null,null,{"$f":"IF(OR(R$7=\"\",R$7=\"　\"),0,IF(EXACT(IFERROR(VLOOKUP(R$7,'点字番号表（検索用）'!$B:$F,1,FALSE),\"\"),R$7),IFERROR(VLOOKUP(R$7,'点字番号表（検索用）'!$B:$F,4,FALSE),0),IFERROR(VLOOKUP(R$7,'点字番号表（検索用）'!$C:$F,3,FALSE),0)))","v":0},null,null,{"$f":"IF(OR(U$7=\"\",U$7=\"　\"),0,IF(EXACT(IFERROR(VLOOKUP(U$7,'点字番号表（検索用）'!$B:$F,1,FALSE),\"\"),U$7),IFERROR(VLOOKUP(U$7,'点字番号表（検索用）'!$B:$F,4,FALSE),0),IFERROR(VLOOKUP(U$7,'点字番号表（検索用）'!$C:$F,3,FALSE),0)))","v":0},null,null,{"$f":"IF(OR(X$7=\"\",X$7=\"　\"),0,IF(EXACT(IFERROR(VLOOKUP(X$7,'点字番号表（検索用）'!$B:$F,1,FALSE),\"\"),X$7),IFERROR(VLOOKUP(X$7,'点字番号表（検索用）'!$B:$F,4,FALSE),0),IFERROR(VLOOKUP(X$7,'点字番号表（検索用）'!$C:$F,3,FALSE),0)))","v":0},null,null,{"$f":"IF(OR(AA$7=\"\",AA$7=\"　\"),0,IF(EXACT(IFERROR(VLOOKUP(AA$7,'点字番号表（検索用）'!$B:$F,1,FALSE),\"\"),AA$7),IFERROR(VLOOKUP(AA$7,'点字番号表（検索用）'!$B:$F,4,FALSE),0),IFERROR(VLOOKUP(AA$7,'点字番号表（検索用）'!$C:$F,3,FALSE),0)))","v":0},null,null,{"$f":"IF(OR(AD$7=\"\",AD$7=\"　\"),0,IF(EXACT(IFERROR(VLOOKUP(AD$7,'点字番号表（検索用）'!$B:$F,1,FALSE),\"\"),AD$7),IFERROR(VLOOKUP(AD$7,'点字番号表（検索用）'!$B:$F,4,FALSE),0),IFERROR(VLOOKUP(AD$7,'点字番号表（検索用）'!$C:$F,3,FALSE),0)))","v":0},null,null,{"$f":"IF(OR(AG$7=\"\",AG$7=\"　\"),0,IF(EXACT(IFERROR(VLOOKUP(AG$7,'点字番号表（検索用）'!$B:$F,1,FALSE),\"\"),AG$7),IFERROR(VLOOKUP(AG$7,'点字番号表（検索用）'!$B:$F,4,FALSE),0),IFERROR(VLOOKUP(AG$7,'点字番号表（検索用）'!$C:$F,3,FALSE),0)))","v":0},null,null,{"$f":"IF(OR(AJ$7=\"\",AJ$7=\"　\"),0,IF(EXACT(IFERROR(VLOOKUP(AJ$7,'点字番号表（検索用）'!$B:$F,1,FALSE),\"\"),AJ$7),IFERROR(VLOOKUP(AJ$7,'点字番号表（検索用）'!$B:$F,4,FALSE),0),IFERROR(VLOOKUP(AJ$7,'点字番号表（検索用）'!$C:$F,3,FALSE),0)))","v":0},null,null,{"$f":"IF(OR(AM$7=\"\",AM$7=\"　\"),0,IF(EXACT(IFERROR(VLOOKUP(AM$7,'点字番号表（検索用）'!$B:$F,1,FALSE),\"\"),AM$7),IFERROR(VLOOKUP(AM$7,'点字番号表（検索用）'!$B:$F,4,FALSE),0),IFERROR(VLOOKUP(AM$7,'点字番号表（検索用）'!$C:$F,3,FALSE),0)))","v":0},null,null,{"$f":"IF(OR(AP$7=\"\",AP$7=\"　\"),0,IF(EXACT(IFERROR(VLOOKUP(AP$7,'点字番号表（検索用）'!$B:$F,1,FALSE),\"\"),AP$7),IFERROR(VLOOKUP(AP$7,'点字番号表（検索用）'!$B:$F,4,FALSE),0),IFERROR(VLOOKUP(AP$7,'点字番号表（検索用）'!$C:$F,3,FALSE),0)))","v":0},null,null,{"$f":"IF(OR(AS$7=\"\",AS$7=\"　\"),0,IF(EXACT(IFERROR(VLOOKUP(AS$7,'点字番号表（検索用）'!$B:$F,1,FALSE),\"\"),AS$7),IFERROR(VLOOKUP(AS$7,'点字番号表（検索用）'!$B:$F,4,FALSE),0),IFERROR(VLOOKUP(AS$7,'点字番号表（検索用）'!$C:$F,3,FALSE),0)))","v":0},null,null,{"$f":"IF(OR(AV$7=\"\",AV$7=\"　\"),0,IF(EXACT(IFERROR(VLOOKUP(AV$7,'点字番号表（検索用）'!$B:$F,1,FALSE),\"\"),AV$7),IFERROR(VLOOKUP(AV$7,'点字番号表（検索用）'!$B:$F,4,FALSE),0),IFERROR(VLOOKUP(AV$7,'点字番号表（検索用）'!$C:$F,3,FALSE),0)))","v":0},null,null,{"$f":"IF(OR(AY$7=\"\",AY$7=\"　\"),0,IF(EXACT(IFERROR(VLOOKUP(AY$7,'点字番号表（検索用）'!$B:$F,1,FALSE),\"\"),AY$7),IFERROR(VLOOKUP(AY$7,'点字番号表（検索用）'!$B:$F,4,FALSE),0),IFERROR(VLOOKUP(AY$7,'点字番号表（検索用）'!$C:$F,3,FALSE),0)))","v":0},null,null,{"$f":"IF(OR(BB$7=\"\",BB$7=\"　\"),0,IF(EXACT(IFERROR(VLOOKUP(BB$7,'点字番号表（検索用）'!$B:$F,1,FALSE),\"\"),BB$7),IFERROR(VLOOKUP(BB$7,'点字番号表（検索用）'!$B:$F,4,FALSE),0),IFERROR(VLOOKUP(BB$7,'点字番号表（検索用）'!$C:$F,3,FALSE),0)))","v":0},null,null,{"$f":"IF(OR(BE$7=\"\",BE$7=\"　\"),0,IF(EXACT(IFERROR(VLOOKUP(BE$7,'点字番号表（検索用）'!$B:$F,1,FALSE),\"\"),BE$7),IFERROR(VLOOKUP(BE$7,'点字番号表（検索用）'!$B:$F,4,FALSE),0),IFERROR(VLOOKUP(BE$7,'点字番号表（検索用）'!$C:$F,3,FALSE),0)))","v":0},null,null,{"$f":"IF(OR(BH$7=\"\",BH$7=\"　\"),0,IF(EXACT(IFERROR(VLOOKUP(BH$7,'点字番号表（検索用）'!$B:$F,1,FALSE),\"\"),BH$7),IFERROR(VLOOKUP(BH$7,'点字番号表（検索用）'!$B:$F,4,FALSE),0),IFERROR(VLOOKUP(BH$7,'点字番号表（検索用）'!$C:$F,3,FALSE),0)))","v":0},null,null,{"$f":"IF(OR(BK$7=\"\",BK$7=\"　\"),0,IF(EXACT(IFERROR(VLOOKUP(BK$7,'点字番号表（検索用）'!$B:$F,1,FALSE),\"\"),BK$7),IFERROR(VLOOKUP(BK$7,'点字番号表（検索用）'!$B:$F,4,FALSE),0),IFERROR(VLOOKUP(BK$7,'点字番号表（検索用）'!$C:$F,3,FALSE),0)))","v":0},null,null,{"$f":"IF(OR(BN$7=\"\",BN$7=\"　\"),0,IF(EXACT(IFERROR(VLOOKUP(BN$7,'点字番号表（検索用）'!$B:$F,1,FALSE),\"\"),BN$7),IFERROR(VLOOKUP(BN$7,'点字番号表（検索用）'!$B:$F,4,FALSE),0),IFERROR(VLOOKUP(BN$7,'点字番号表（検索用）'!$C:$F,3,FALSE),0)))","v":0},null,null,{"$f":"IF(OR(BQ$7=\"\",BQ$7=\"　\"),0,IF(EXACT(IFERROR(VLOOKUP(BQ$7,'点字番号表（検索用）'!$B:$F,1,FALSE),\"\"),BQ$7),IFERROR(VLOOKUP(BQ$7,'点字番号表（検索用）'!$B:$F,4,FALSE),0),IFERROR(VLOOKUP(BQ$7,'点字番号表（検索用）'!$C:$F,3,FALSE),0)))","v":0},null,null,{"$f":"IF(OR(BT$7=\"\",BT$7=\"　\"),0,IF(EXACT(IFERROR(VLOOKUP(BT$7,'点字番号表（検索用）'!$B:$F,1,FALSE),\"\"),BT$7),IFERROR(VLOOKUP(BT$7,'点字番号表（検索用）'!$B:$F,4,FALSE),0),IFERROR(VLOOKUP(BT$7,'点字番号表（検索用）'!$C:$F,3,FALSE),0)))","v":0},null,null,{"$f":"IF(OR(BW$7=\"\",BW$7=\"　\"),0,IF(EXACT(IFERROR(VLOOKUP(BW$7,'点字番号表（検索用）'!$B:$F,1,FALSE),\"\"),BW$7),IFERROR(VLOOKUP(BW$7,'点字番号表（検索用）'!$B:$F,4,FALSE),0),IFERROR(VLOOKUP(BW$7,'点字番号表（検索用）'!$C:$F,3,FALSE),0)))","v":0},null,null,{"$f":"IF(OR(BZ$7=\"\",BZ$7=\"　\"),0,IF(EXACT(IFERROR(VLOOKUP(BZ$7,'点字番号表（検索用）'!$B:$F,1,FALSE),\"\"),BZ$7),IFERROR(VLOOKUP(BZ$7,'点字番号表（検索用）'!$B:$F,4,FALSE),0),IFERROR(VLOOKUP(BZ$7,'点字番号表（検索用）'!$C:$F,3,FALSE),0)))","v":0},null,null,{"$f":"IF(OR(CC$7=\"\",CC$7=\"　\"),0,IF(EXACT(IFERROR(VLOOKUP(CC$7,'点字番号表（検索用）'!$B:$F,1,FALSE),\"\"),CC$7),IFERROR(VLOOKUP(CC$7,'点字番号表（検索用）'!$B:$F,4,FALSE),0),IFERROR(VLOOKUP(CC$7,'点字番号表（検索用）'!$C:$F,3,FALSE),0)))","v":0},null,null,{"$f":"IF(OR(CF$7=\"\",CF$7=\"　\"),0,IF(EXACT(IFERROR(VLOOKUP(CF$7,'点字番号表（検索用）'!$B:$F,1,FALSE),\"\"),CF$7),IFERROR(VLOOKUP(CF$7,'点字番号表（検索用）'!$B:$F,4,FALSE),0),IFERROR(VLOOKUP(CF$7,'点字番号表（検索用）'!$C:$F,3,FALSE),0)))","v":0},null,null,{"$f":"IF(OR(CI$7=\"\",CI$7=\"　\"),0,IF(EXACT(IFERROR(VLOOKUP(CI$7,'点字番号表（検索用）'!$B:$F,1,FALSE),\"\"),CI$7),IFERROR(VLOOKUP(CI$7,'点字番号表（検索用）'!$B:$F,4,FALSE),0),IFERROR(VLOOKUP(CI$7,'点字番号表（検索用）'!$C:$F,3,FALSE),0)))","v":0},null,null,{"$f":"IF(OR(CL$7=\"\",CL$7=\"　\"),0,IF(EXACT(IFERROR(VLOOKUP(CL$7,'点字番号表（検索用）'!$B:$F,1,FALSE),\"\"),CL$7),IFERROR(VLOOKUP(CL$7,'点字番号表（検索用）'!$B:$F,4,FALSE),0),IFERROR(VLOOKUP(CL$7,'点字番号表（検索用）'!$C:$F,3,FALSE),0)))","v":0}]
[null,null,{"$f":"IFERROR(FIND(\"1\",C33),\"\")","v":""},{"$f":"IFERROR(FIND(\"4\",C33),\"\")","v":""},null,{"$f":"IFERROR(FIND(\"1\",F33),\"\")","v":""},{"$f":"IFERROR(FIND(\"4\",F33),\"\")","v":""},null,{"$f":"IFERROR(FIND(\"1\",I33),\"\")","v":""},{"$f":"IFERROR(FIND(\"4\",I33),\"\")","v":""},null,{"$f":"IFERROR(FIND(\"1\",L33),\"\")","v":""},{"$f":"IFERROR(FIND(\"4\",L33),\"\")","v":""},null,{"$f":"IFERROR(FIND(\"1\",O33),\"\")","v":""},{"$f":"IFERROR(FIND(\"4\",O33),\"\")","v":""},null,{"$f":"IFERROR(FIND(\"1\",R33),\"\")","v":""},{"$f":"IFERROR(FIND(\"4\",R33),\"\")","v":""},null,{"$f":"IFERROR(FIND(\"1\",U33),\"\")","v":""},{"$f":"IFERROR(FIND(\"4\",U33),\"\")","v":""},null,{"$f":"IFERROR(FIND(\"1\",X33),\"\")","v":""},{"$f":"IFERROR(FIND(\"4\",X33),\"\")","v":""},null,{"$f":"IFERROR(FIND(\"1\",AA33),\"\")","v":""},{"$f":"IFERROR(FIND(\"4\",AA33),\"\")","v":""},null,{"$f":"IFERROR(FIND(\"1\",AD33),\"\")","v":""},{"$f":"IFERROR(FIND(\"4\",AD33),\"\")","v":""},null,{"$f":"IFERROR(FIND(\"1\",AG33),\"\")","v":""},{"$f":"IFERROR(FIND(\"4\",AG33),\"\")","v":""},null,{"$f":"IFERROR(FIND(\"1\",AJ33),\"\")","v":""},{"$f":"IFERROR(FIND(\"4\",AJ33),\"\")","v":""},null,{"$f":"IFERROR(FIND(\"1\",AM33),\"\")","v":""},{"$f":"IFERROR(FIND(\"4\",AM33),\"\")","v":""},null,{"$f":"IFERROR(FIND(\"1\",AP33),\"\")","v":""},{"$f":"IFERROR(FIND(\"4\",AP33),\"\")","v":""},null,{"$f":"IFERROR(FIND(\"1\",AS33),\"\")","v":""},{"$f":"IFERROR(FIND(\"4\",AS33),\"\")","v":""},null,{"$f":"IFERROR(FIND(\"1\",AV33),\"\")","v":""},{"$f":"IFERROR(FIND(\"4\",AV33),\"\")","v":""},null,{"$f":"IFERROR(FIND(\"1\",AY33),\"\")","v":""},{"$f":"IFERROR(FIND(\"4\",AY33),\"\")","v":""},null,{"$f":"IFERROR(FIND(\"1\",BB33),\"\")","v":""},{"$f":"IFERROR(FIND(\"4\",BB33),\"\")","v":""},null,{"$f":"IFERROR(FIND(\"1\",BE33),\"\")","v":""},{"$f":"IFERROR(FIND(\"4\",BE33),\"\")","v":""},null,{"$f":"IFERROR(FIND(\"1\",BH33),\"\")","v":""},{"$f":"IFERROR(FIND(\"4\",BH33),\"\")","v":""},null,{"$f":"IFERROR(FIND(\"1\",BK33),\"\")","v":""},{"$f":"IFERROR(FIND(\"4\",BK33),\"\")","v":""},null,{"$f":"IFERROR(FIND(\"1\",BN33),\"\")","v":""},{"$f":"IFERROR(FIND(\"4\",BN33),\"\")","v":""},null,{"$f":"IFERROR(FIND(\"1\",BQ33),\"\")","v":""},{"$f":"IFERROR(FIND(\"4\",BQ33),\"\")","v":""},null,{"$f":"IFERROR(FIND(\"1\",BT33),\"\")","v":""},{"$f":"IFERROR(FIND(\"4\",BT33),\"\")","v":""},null,{"$f":"IFERROR(FIND(\"1\",BW33),\"\")","v":""},{"$f":"IFERROR(FIND(\"4\",BW33),\"\")","v":""},null,{"$f":"IFERROR(FIND(\"1\",BZ33),\"\")","v":""},{"$f":"IFERROR(FIND(\"4\",BZ33),\"\")","v":""},null,{"$f":"IFERROR(FIND(\"1\",CC33),\"\")","v":""},{"$f":"IFERROR(FIND(\"4\",CC33),\"\")","v":""},null,{"$f":"IFERROR(FIND(\"1\",CF33),\"\")","v":""},{"$f":"IFERROR(FIND(\"4\",CF33),\"\")","v":""},null,{"$f":"IFERROR(FIND(\"1\",CI33),\"\")","v":""},{"$f":"IFERROR(FIND(\"4\",CI33),\"\")","v":""},null,{"$f":"IFERROR(FIND(\"1\",CL33),\"\")","v":""},{"$f":"IFERROR(FIND(\"4\",CL33),\"\")","v":""}]
[null,null,{"$f":"IFERROR(FIND(\"2\",C33),\"\")","v":""},{"$f":"IFERROR(FIND(\"5\",C33),\"\")","v":""},null,{"$f":"IFERROR(FIND(\"2\",F33),\"\")","v":""},{"$f":"IFERROR(FIND(\"5\",F33),\"\")","v":""},null,{"$f":"IFERROR(FIND(\"2\",I33),\"\")","v":""},{"$f":"IFERROR(FIND(\"5\",I33),\"\")","v":""},null,{"$f":"IFERROR(FIND(\"2\",L33),\"\")","v":""},{"$f":"IFERROR(FIND(\"5\",L33),\"\")","v":""},null,{"$f":"IFERROR(FIND(\"2\",O33),\"\")","v":""},{"$f":"IFERROR(FIND(\"5\",O33),\"\")","v":""},null,{"$f":"IFERROR(FIND(\"2\",R33),\"\")","v":""},{"$f":"IFERROR(FIND(\"5\",R33),\"\")","v":""},null,{"$f":"IFERROR(FIND(\"2\",U33),\"\")","v":""},{"$f":"IFERROR(FIND(\"5\",U33),\"\")","v":""},null,{"$f":"IFERROR(FIND(\"2\",X33),\"\")","v":""},{"$f":"IFERROR(FIND(\"5\",X33),\"\")","v":""},null,{"$f":"IFERROR(FIND(\"2\",AA33),\"\")","v":""},{"$f":"IFERROR(FIND(\"5\",AA33),\"\")","v":""},null,{"$f":"IFERROR(FIND(\"2\",AD33),\"\")","v":""},{"$f":"IFERROR(FIND(\"5\",AD33),\"\")","v":""},null,{"$f":"IFERROR(FIND(\"2\",AG33),\"\")","v":""},{"$f":"IFERROR(FIND(\"5\",AG33),\"\")","v":""},null,{"$f":"IFERROR(FIND(\"2\",AJ33),\"\")","v":""},{"$f":"IFERROR(FIND(\"5\",AJ33),\"\")","v":""},null,{"$f":"IFERROR(FIND(\"2\",AM33),\"\")","v":""},{"$f":"IFERROR(FIND(\"5\",AM33),\"\")","v":""},null,{"$f":"IFERROR(FIND(\"2\",AP33),\"\")","v":""},{"$f":"IFERROR(FIND(\"5\",AP33),\"\")","v":""},null,{"$f":"IFERROR(FIND(\"2\",AS33),\"\")","v":""},{"$f":"IFERROR(FIND(\"5\",AS33),\"\")","v":""},null,{"$f":"IFERROR(FIND(\"2\",AV33),\"\")","v":""},{"$f":"IFERROR(FIND(\"5\",AV33),\"\")","v":""},null,{"$f":"IFERROR(FIND(\"2\",AY33),\"\")","v":""},{"$f":"IFERROR(FIND(\"5\",AY33),\"\")","v":""},null,{"$f":"IFERROR(FIND(\"2\",BB33),\"\")","v":""},{"$f":"IFERROR(FIND(\"5\",BB33),\"\")","v":""},null,{"$f":"IFERROR(FIND(\"2\",BE33),\"\")","v":""},{"$f":"IFERROR(FIND(\"5\",BE33),\"\")","v":""},null,{"$f":"IFERROR(FIND(\"2\",BH33),\"\")","v":""},{"$f":"IFERROR(FIND(\"5\",BH33),\"\")","v":""},null,{"$f":"IFERROR(FIND(\"2\",BK33),\"\")","v":""},{"$f":"IFERROR(FIND(\"5\",BK33),\"\")","v":""},null,{"$f":"IFERROR(FIND(\"2\",BN33),\"\")","v":""},{"$f":"IFERROR(FIND(\"5\",BN33),\"\")","v":""},null,{"$f":"IFERROR(FIND(\"2\",BQ33),\"\")","v":""},{"$f":"IFERROR(FIND(\"5\",BQ33),\"\")","v":""},null,{"$f":"IFERROR(FIND(\"2\",BT33),\"\")","v":""},{"$f":"IFERROR(FIND(\"5\",BT33),\"\")","v":""},null,{"$f":"IFERROR(FIND(\"2\",BW33),\"\")","v":""},{"$f":"IFERROR(FIND(\"5\",BW33),\"\")","v":""},null,{"$f":"IFERROR(FIND(\"2\",BZ33),\"\")","v":""},{"$f":"IFERROR(FIND(\"5\",BZ33),\"\")","v":""},null,{"$f":"IFERROR(FIND(\"2\",CC33),\"\")","v":""},{"$f":"IFERROR(FIND(\"5\",CC33),\"\")","v":""},null,{"$f":"IFERROR(FIND(\"2\",CF33),\"\")","v":""},{"$f":"IFERROR(FIND(\"5\",CF33),\"\")","v":""},null,{"$f":"IFERROR(FIND(\"2\",CI33),\"\")","v":""},{"$f":"IFERROR(FIND(\"5\",CI33),\"\")","v":""},null,{"$f":"IFERROR(FIND(\"2\",CL33),\"\")","v":""},{"$f":"IFERROR(FIND(\"5\",CL33),\"\")","v":""}]
[null,null,{"$f":"IFERROR(FIND(\"3\",C33),\"\")","v":""},{"$f":"IFERROR(FIND(\"6\",C33),\"\")","v":""},null,{"$f":"IFERROR(FIND(\"3\",F33),\"\")","v":""},{"$f":"IFERROR(FIND(\"6\",F33),\"\")","v":""},null,{"$f":"IFERROR(FIND(\"3\",I33),\"\")","v":""},{"$f":"IFERROR(FIND(\"6\",I33),\"\")","v":""},null,{"$f":"IFERROR(FIND(\"3\",L33),\"\")","v":""},{"$f":"IFERROR(FIND(\"6\",L33),\"\")","v":""},null,{"$f":"IFERROR(FIND(\"3\",O33),\"\")","v":""},{"$f":"IFERROR(FIND(\"6\",O33),\"\")","v":""},null,{"$f":"IFERROR(FIND(\"3\",R33),\"\")","v":""},{"$f":"IFERROR(FIND(\"6\",R33),\"\")","v":""},null,{"$f":"IFERROR(FIND(\"3\",U33),\"\")","v":""},{"$f":"IFERROR(FIND(\"6\",U33),\"\")","v":""},null,{"$f":"IFERROR(FIND(\"3\",X33),\"\")","v":""},{"$f":"IFERROR(FIND(\"6\",X33),\"\")","v":""},null,{"$f":"IFERROR(FIND(\"3\",AA33),\"\")","v":""},{"$f":"IFERROR(FIND(\"6\",AA33),\"\")","v":""},null,{"$f":"IFERROR(FIND(\"3\",AD33),\"\")","v":""},{"$f":"IFERROR(FIND(\"6\",AD33),\"\")","v":""},null,{"$f":"IFERROR(FIND(\"3\",AG33),\"\")","v":""},{"$f":"IFERROR(FIND(\"6\",AG33),\"\")","v":""},null,{"$f":"IFERROR(FIND(\"3\",AJ33),\"\")","v":""},{"$f":"IFERROR(FIND(\"6\",AJ33),\"\")","v":""},null,{"$f":"IFERROR(FIND(\"3\",AM33),\"\")","v":""},{"$f":"IFERROR(FIND(\"6\",AM33),\"\")","v":""},null,{"$f":"IFERROR(FIND(\"3\",AP33),\"\")","v":""},{"$f":"IFERROR(FIND(\"6\",AP33),\"\")","v":""},null,{"$f":"IFERROR(FIND(\"3\",AS33),\"\")","v":""},{"$f":"IFERROR(FIND(\"6\",AS33),\"\")","v":""},null,{"$f":"IFERROR(FIND(\"3\",AV33),\"\")","v":""},{"$f":"IFERROR(FIND(\"6\",AV33),\"\")","v":""},null,{"$f":"IFERROR(FIND(\"3\",AY33),\"\")","v":""},{"$f":"IFERROR(FIND(\"6\",AY33),\"\")","v":""},null,{"$f":"IFERROR(FIND(\"3\",BB33),\"\")","v":""},{"$f":"IFERROR(FIND(\"6\",BB33),\"\")","v":""},null,{"$f":"IFERROR(FIND(\"3\",BE33),\"\")","v":""},{"$f":"IFERROR(FIND(\"6\",BE33),\"\")","v":""},null,{"$f":"IFERROR(FIND(\"3\",BH33),\"\")","v":""},{"$f":"IFERROR(FIND(\"6\",BH33),\"\")","v":""},null,{"$f":"IFERROR(FIND(\"3\",BK33),\"\")","v":""},{"$f":"IFERROR(FIND(\"6\",BK33),\"\")","v":""},null,{"$f":"IFERROR(FIND(\"3\",BN33),\"\")","v":""},{"$f":"IFERROR(FIND(\"6\",BN33),\"\")","v":""},null,{"$f":"IFERROR(FIND(\"3\",BQ33),\"\")","v":""},{"$f":"IFERROR(FIND(\"6\",BQ33),\"\")","v":""},null,{"$f":"IFERROR(FIND(\"3\",BT33),\"\")","v":""},{"$f":"IFERROR(FIND(\"6\",BT33),\"\")","v":""},null,{"$f":"IFERROR(FIND(\"3\",BW33),\"\")","v":""},{"$f":"IFERROR(FIND(\"6\",BW33),\"\")","v":""},null,{"$f":"IFERROR(FIND(\"3\",BZ33),\"\")","v":""},{"$f":"IFERROR(FIND(\"6\",BZ33),\"\")","v":""},null,{"$f":"IFERROR(FIND(\"3\",CC33),\"\")","v":""},{"$f":"IFERROR(FIND(\"6\",CC33),\"\")","v":""},null,{"$f":"IFERROR(FIND(\"3\",CF33),\"\")","v":""},{"$f":"IFERROR(FIND(\"6\",CF33),\"\")","v":""},null,{"$f":"IFERROR(FIND(\"3\",CI33),\"\")","v":""},{"$f":"IFERROR(FIND(\"6\",CI33),\"\")","v":""},null,{"$f":"IFERROR(FIND(\"3\",CL33),\"\")","v":""},{"$f":"IFERROR(FIND(\"6\",CL33),\"\")","v":""}]
[null,null,{"$f":"IF(C34=\"\",\"\",\"●\")","v":""},"",null,{"$f":"IF(F34=\"\",\"\",\"●\")","v":""},"",null,{"$f":"IF(I34=\"\",\"\",\"●\")","v":""},"",null,{"$f":"IF(L34=\"\",\"\",\"●\")","v":""},"",null,{"$f":"IF(O34=\"\",\"\",\"●\")","v":""},"",null,{"$f":"IF(R34=\"\",\"\",\"●\")","v":""},"",null,{"$f":"IF(U34=\"\",\"\",\"●\")","v":""},"",null,{"$f":"IF(X34=\"\",\"\",\"●\")","v":""},"",null,{"$f":"IF(AA34=\"\",\"\",\"●\")","v":""},"",null,{"$f":"IF(AD34=\"\",\"\",\"●\")","v":""},"",null,{"$f":"IF(AG34=\"\",\"\",\"●\")","v":""},"",null,{"$f":"IF(AJ34=\"\",\"\",\"●\")","v":""},"",null,{"$f":"IF(AM34=\"\",\"\",\"●\")","v":""},"",null,{"$f":"IF(AP34=\"\",\"\",\"●\")","v":""},"",null,{"$f":"IF(AS34=\"\",\"\",\"●\")","v":""},"",null,{"$f":"IF(AV34=\"\",\"\",\"●\")","v":""},"",null,{"$f":"IF(AY34=\"\",\"\",\"●\")","v":""},"",null,{"$f":"IF(BB34=\"\",\"\",\"●\")","v":""},"",null,{"$f":"IF(BE34=\"\",\"\",\"●\")","v":""},"",null,{"$f":"IF(BH34=\"\",\"\",\"●\")","v":""},"",null,{"$f":"IF(BK34=\"\",\"\",\"●\")","v":""},"",null,{"$f":"IF(BN34=\"\",\"\",\"●\")","v":""},"",null,{"$f":"IF(BQ34=\"\",\"\",\"●\")","v":""},"",null,{"$f":"IF(BT34=\"\",\"\",\"●\")","v":""},"",null,{"$f":"IF(BW34=\"\",\"\",\"●\")","v":""},"",null,{"$f":"IF(BZ34=\"\",\"\",\"●\")","v":""},"",null,{"$f":"IF(CC34=\"\",\"\",\"●\")","v":""},"",null,{"$f":"IF(CF34=\"\",\"\",\"●\")","v":""},"",null,{"$f":"IF(CI34=\"\",\"\",\"●\")","v":""},"",null,{"$f":"IF(CL34=\"\",\"\",\"●\")","v":""},""]
[null,null,"","",null,"","",null,"","",null,"","",null,"","",null,"","",null,"","",null,"","",null,"","",null,"","",null,"","",null,"","",null,"","",null,"","",null,"","",null,"","",null,"","",null,"","",null,"","",null,"","",null,{"$f":"IF(BK35=\"\",\"\",\"●\")","v":""},"",null,{"$f":"IF(BN35=\"\",\"\",\"●\")","v":""},"",null,{"$f":"IF(BQ35=\"\",\"\",\"●\")","v":""},"",null,{"$f":"IF(BT35=\"\",\"\",\"●\")","v":""},"",null,{"$f":"IF(BW35=\"\",\"\",\"●\")","v":""},"",null,{"$f":"IF(BZ35=\"\",\"\",\"●\")","v":""},"",null,{"$f":"IF(CC35=\"\",\"\",\"●\")","v":""},"",null,{"$f":"IF(CF35=\"\",\"\",\"●\")","v":""},"",null,{"$f":"IF(CI35=\"\",\"\",\"●\")","v":""},"",null,{"$f":"IF(CL35=\"\",\"\",\"●\")","v":""},""]
[null,null,"","",null,"","",null,"","",null,"","",null,"","",null,"","",null,"","",null,"","",null,"","",null,"","",null,"","",null,"","",null,"","",null,"","",null,"","",null,"","",null,"","",null,"","",null,"","",null,"","",null,{"$f":"IF(BK36=\"\",\"\",\"●\")","v":""},"",null,{"$f":"IF(BN36=\"\",\"\",\"●\")","v":""},"",null,{"$f":"IF(BQ36=\"\",\"\",\"●\")","v":""},"",null,{"$f":"IF(BT36=\"\",\"\",\"●\")","v":""},"",null,{"$f":"IF(BW36=\"\",\"\",\"●\")","v":""},"",null,{"$f":"IF(BZ36=\"\",\"\",\"●\")","v":""},"",null,{"$f":"IF(CC36=\"\",\"\",\"●\")","v":""},"",null,{"$f":"IF(CF36=\"\",\"\",\"●\")","v":""},"",null,{"$f":"IF(CI36=\"\",\"\",\"●\")","v":""},"",null,{"$f":"IF(CL36=\"\",\"\",\"●\")","v":""},""]
[]
[null,null,{"$f":"IF(C37=\"\",\"\",1)","v":""},{"$f":"IF(D37=\"\",\"\",4)","v":""},null,{"$f":"IF(F37=\"\",\"\",1)","v":""},{"$f":"IF(G37=\"\",\"\",4)","v":""},null,{"$f":"IF(I37=\"\",\"\",1)","v":""},{"$f":"IF(J37=\"\",\"\",4)","v":""},null,{"$f":"IF(L37=\"\",\"\",1)","v":""},{"$f":"IF(M37=\"\",\"\",4)","v":""},null,{"$f":"IF(O37=\"\",\"\",1)","v":""},{"$f":"IF(P37=\"\",\"\",4)","v":""},null,{"$f":"IF(R37=\"\",\"\",1)","v":""},{"$f":"IF(S37=\"\",\"\",4)","v":""},null,{"$f":"IF(U37=\"\",\"\",1)","v":""},{"$f":"IF(V37=\"\",\"\",4)","v":""},null,{"$f":"IF(X37=\"\",\"\",1)","v":""},{"$f":"IF(Y37=\"\",\"\",4)","v":""},null,{"$f":"IF(AA37=\"\",\"\",1)","v":""},{"$f":"IF(AB37=\"\",\"\",4)","v":""},null,{"$f":"IF(AD37=\"\",\"\",1)","v":""},{"$f":"IF(AE37=\"\",\"\",4)","v":""},null,{"$f":"IF(AG37=\"\",\"\",1)","v":""},{"$f":"IF(AH37=\"\",\"\",4)","v":""},null,{"$f":"IF(AJ37=\"\",\"\",1)","v":""},{"$f":"IF(AK37=\"\",\"\",4)","v":""},null,{"$f":"IF(AM37=\"\",\"\",1)","v":""},{"$f":"IF(AN37=\"\",\"\",4)","v":""},null,{"$f":"IF(AP37=\"\",\"\",1)","v":""},{"$f":"IF(AQ37=\"\",\"\",4)","v":""},null,{"$f":"IF(AS37=\"\",\"\",1)","v":""},{"$f":"IF(AT37=\"\",\"\",4)","v":""},null,{"$f":"IF(AV37=\"\",\"\",1)","v":""},{"$f":"IF(AW37=\"\",\"\",4)","v":""},null,{"$f":"IF(AY37=\"\",\"\",1)","v":""},{"$f":"IF(AZ37=\"\",\"\",4)","v":""},null,{"$f":"IF(BB37=\"\",\"\",1)","v":""},{"$f":"IF(BC37=\"\",\"\",4)","v":""},null,{"$f":"IF(BE37=\"\",\"\",1)","v":""},{"$f":"IF(BF37=\"\",\"\",4)","v":""},null,{"$f":"IF(BH37=\"\",\"\",1)","v":""},{"$f":"IF(BI37=\"\",\"\",4)","v":""},null,{"$f":"IF(BK37=\"\",\"\",1)","v":""},{"$f":"IF(BL37=\"\",\"\",4)","v":""},null,"","",null,"","",null,"","",null,"","",null,"","",null,"","",null,"","",null,"","",null,"",""]
[null,null,{"$f":"IF(C38=\"\",\"\",2)","v":""},{"$f":"IF(D38=\"\",\"\",5)","v":""},null,{"$f":"IF(F38=\"\",\"\",2)","v":""},{"$f":"IF(G38=\"\",\"\",5)","v":""},null,{"$f":"IF(I38=\"\",\"\",2)","v":""},{"$f":"IF(J38=\"\",\"\",5)","v":""},null,{"$f":"IF(L38=\"\",\"\",2)","v":""},{"$f":"IF(M38=\"\",\"\",5)","v":""},null,{"$f":"IF(O38=\"\",\"\",2)","v":""},{"$f":"IF(P38=\"\",\"\",5)","v":""},null,{"$f":"IF(R38=\"\",\"\",2)","v":""},{"$f":"IF(S38=\"\",\"\",5)","v":""},null,{"$f":"IF(U38=\"\",\"\",2)","v":""},{"$f":"IF(V38=\"\",\"\",5)","v":""},null,{"$f":"IF(X38=\"\",\"\",2)","v":""},{"$f":"IF(Y38=\"\",\"\",5)","v":""},null,{"$f":"IF(AA38=\"\",\"\",2)","v":""},{"$f":"IF(AB38=\"\",\"\",5)","v":""},null,{"$f":"IF(AD38=\"\",\"\",2)","v":""},{"$f":"IF(AE38=\"\",\"\",5)","v":""},null,{"$f":"IF(AG38=\"\",\"\",2)","v":""},{"$f":"IF(AH38=\"\",\"\",5)","v":""},null,{"$f":"IF(AJ38=\"\",\"\",2)","v":""},{"$f":"IF(AK38=\"\",\"\",5)","v":""},null,{"$f":"IF(AM38=\"\",\"\",2)","v":""},{"$f":"IF(AN38=\"\",\"\",5)","v":""},null,{"$f":"IF(AP38=\"\",\"\",2)","v":""},{"$f":"IF(AQ38=\"\",\"\",5)","v":""},null,{"$f":"IF(AS38=\"\",\"\",2)","v":""},{"$f":"IF(AT38=\"\",\"\",5)","v":""},null,{"$f":"IF(AV38=\"\",\"\",2)","v":""},{"$f":"IF(AW38=\"\",\"\",5)","v":""},null,{"$f":"IF(AY38=\"\",\"\",2)","v":""},{"$f":"IF(AZ38=\"\",\"\",5)","v":""},null,{"$f":"IF(BB38=\"\",\"\",2)","v":""},{"$f":"IF(BC38=\"\",\"\",5)","v":""},null,{"$f":"IF(BE38=\"\",\"\",2)","v":""},{"$f":"IF(BF38=\"\",\"\",5)","v":""},null,{"$f":"IF(BH38=\"\",\"\",2)","v":""},{"$f":"IF(BI38=\"\",\"\",5)","v":""},null,{"$f":"IF(BK38=\"\",\"\",2)","v":""},{"$f":"IF(BL38=\"\",\"\",5)","v":""},null,"","",null,"","",null,"","",null,"","",null,"","",null,"","",null,"","",null,"","",null,"",""]
[null,null,{"$f":"IF(C39=\"\",\"\",3)","v":""},{"$f":"IF(D39=\"\",\"\",6)","v":""},null,{"$f":"IF(F39=\"\",\"\",3)","v":""},{"$f":"IF(G39=\"\",\"\",6)","v":""},null,{"$f":"IF(I39=\"\",\"\",3)","v":""},{"$f":"IF(J39=\"\",\"\",6)","v":""},null,{"$f":"IF(L39=\"\",\"\",3)","v":""},{"$f":"IF(M39=\"\",\"\",6)","v":""},null,{"$f":"IF(O39=\"\",\"\",3)","v":""},{"$f":"IF(P39=\"\",\"\",6)","v":""},null,{"$f":"IF(R39=\"\",\"\",3)","v":""},{"$f":"IF(S39=\"\",\"\",6)","v":""},null,{"$f":"IF(U39=\"\",\"\",3)","v":""},{"$f":"IF(V39=\"\",\"\",6)","v":""},null,{"$f":"IF(X39=\"\",\"\",3)","v":""},{"$f":"IF(Y39=\"\",\"\",6)","v":""},null,{"$f":"IF(AA39=\"\",\"\",3)","v":""},{"$f":"IF(AB39=\"\",\"\",6)","v":""},null,{"$f":"IF(AD39=\"\",\"\",3)","v":""},{"$f":"IF(AE39=\"\",\"\",6)","v":""},null,{"$f":"IF(AG39=\"\",\"\",3)","v":""},{"$f":"IF(AH39=\"\",\"\",6)","v":""},null,{"$f":"IF(AJ39=\"\",\"\",3)","v":""},{"$f":"IF(AK39=\"\",\"\",6)","v":""},null,{"$f":"IF(AM39=\"\",\"\",3)","v":""},{"$f":"IF(AN39=\"\",\"\",6)","v":""},null,{"$f":"IF(AP39=\"\",\"\",3)","v":""},{"$f":"IF(AQ39=\"\",\"\",6)","v":""},null,{"$f":"IF(AS39=\"\",\"\",3)","v":""},{"$f":"IF(AT39=\"\",\"\",6)","v":""},null,{"$f":"IF(AV39=\"\",\"\",3)","v":""},{"$f":"IF(AW39=\"\",\"\",6)","v":""},null,{"$f":"IF(AY39=\"\",\"\",3)","v":""},{"$f":"IF(AZ39=\"\",\"\",6)","v":""},null,{"$f":"IF(BB39=\"\",\"\",3)","v":""},{"$f":"IF(BC39=\"\",\"\",6)","v":""},null,{"$f":"IF(BE39=\"\",\"\",3)","v":""},{"$f":"IF(BF39=\"\",\"\",6)","v":""},null,{"$f":"IF(BH39=\"\",\"\",3)","v":""},{"$f":"IF(BI39=\"\",\"\",6)","v":""},null,{"$f":"IF(BK39=\"\",\"\",3)","v":""},{"$f":"IF(BL39=\"\",\"\",6)","v":""},null,"","",null,"","",null,"","",null,"","",null,"","",null,"","",null,"","",null,"","",null,"",""]
[null,null,{"$f":"IF(C41&C42&C43&D41&D42&D43=\"\",0,C41&C42&C43&D41&D42&D43)","v":0},null,null,{"$f":"IF(F41&F42&F43&G41&G42&G43=\"\",0,F41&F42&F43&G41&G42&G43)","v":0},null,null,{"$f":"IF(I41&I42&I43&J41&J42&J43=\"\",0,I41&I42&I43&J41&J42&J43)","v":0},null,null,{"$f":"IF(L41&L42&L43&M41&M42&M43=\"\",0,L41&L42&L43&M41&M42&M43)","v":0},null,null,{"$f":"IF(O41&O42&O43&P41&P42&P43=\"\",0,O41&O42&O43&P41&P42&P43)","v":0},null,null,{"$f":"IF(R41&R42&R43&S41&S42&S43=\"\",0,R41&R42&R43&S41&S42&S43)","v":0},null,null,{"$f":"IF(U41&U42&U43&V41&V42&V43=\"\",0,U41&U42&U43&V41&V42&V43)","v":0},null,null,{"$f":"IF(X41&X42&X43&Y41&Y42&Y43=\"\",0,X41&X42&X43&Y41&Y42&Y43)","v":0},null,null,{"$f":"IF(AA41&AA42&AA43&AB41&AB42&AB43=\"\",0,AA41&AA42&AA43&AB41&AB42&AB43)","v":0},null,null,{"$f":"IF(AD41&AD42&AD43&AE41&AE42&AE43=\"\",0,AD41&AD42&AD43&AE41&AE42&AE43)","v":0},null,null,{"$f":"IF(AG41&AG42&AG43&AH41&AH42&AH43=\"\",0,AG41&AG42&AG43&AH41&AH42&AH43)","v":0},null,null,{"$f":"IF(AJ41&AJ42&AJ43&AK41&AK42&AK43=\"\",0,AJ41&AJ42&AJ43&AK41&AK42&AK43)","v":0},null,null,{"$f":"IF(AM41&AM42&AM43&AN41&AN42&AN43=\"\",0,AM41&AM42&AM43&AN41&AN42&AN43)","v":0},null,null,{"$f":"IF(AP41&AP42&AP43&AQ41&AQ42&AQ43=\"\",0,AP41&AP42&AP43&AQ41&AQ42&AQ43)","v":0},null,null,{"$f":"IF(AS41&AS42&AS43&AT41&AT42&AT43=\"\",0,AS41&AS42&AS43&AT41&AT42&AT43)","v":0},null,null,{"$f":"IF(AV41&AV42&AV43&AW41&AW42&AW43=\"\",0,AV41&AV42&AV43&AW41&AW42&AW43)","v":0},null,null,{"$f":"IF(AY41&AY42&AY43&AZ41&AZ42&AZ43=\"\",0,AY41&AY42&AY43&AZ41&AZ42&AZ43)","v":0},null,null,{"$f":"IF(BB41&BB42&BB43&BC41&BC42&BC43=\"\",0,BB41&BB42&BB43&BC41&BC42&BC43)","v":0},null,null,{"$f":"IF(BE41&BE42&BE43&BF41&BF42&BF43=\"\",0,BE41&BE42&BE43&BF41&BF42&BF43)","v":0},null,null,{"$f":"IF(BH41&BH42&BH43&BI41&BI42&BI43=\"\",0,BH41&BH42&BH43&BI41&BI42&BI43)","v":0},null,null,{"$f":"IF(BK41&BK42&BK43&BL41&BL42&BL43=\"\",0,BK41&BK42&BK43&BL41&BL42&BL43)","v":0},null,null,{"$f":"IF(BN41&BN42&BN43&BO41&BO42&BO43=\"\",0,BN41&BN42&BN43&BO41&BO42&BO43)","v":0},null,null,{"$f":"IF(BQ41&BQ42&BQ43&BR41&BR42&BR43=\"\",0,BQ41&BQ42&BQ43&BR41&BR42&BR43)","v":0},null,null,{"$f":"IF(BT41&BT42&BT43&BU41&BU42&BU43=\"\",0,BT41&BT42&BT43&BU41&BU42&BU43)","v":0},null,null,{"$f":"IF(BW41&BW42&BW43&BX41&BX42&BX43=\"\",0,BW41&BW42&BW43&BX41&BX42&BX43)","v":0},null,null,{"$f":"IF(BZ41&BZ42&BZ43&CA41&CA42&CA43=\"\",0,BZ41&BZ42&BZ43&CA41&CA42&CA43)","v":0},null,null,{"$f":"IF(CC41&CC42&CC43&CD41&CD42&CD43=\"\",0,CC41&CC42&CC43&CD41&CD42&CD43)","v":0},null,null,{"$f":"IF(CF41&CF42&CF43&CG41&CG42&CG43=\"\",0,CF41&CF42&CF43&CG41&CG42&CG43)","v":0},null,null,{"$f":"IF(CI41&CI42&CI43&CJ41&CJ42&CJ43=\"\",0,CI41&CI42&CI43&CJ41&CJ42&CJ43)","v":0},null,null,{"$f":"IF(CL41&CL42&CL43&CM41&CM42&CM43=\"\",0,CL41&CL42&CL43&CM41&CM42&CM43)","v":0}]
[]
[null,null,{"$f":"IF(OR(C$7=\"\",C$7=\"　\"),0,IF(EXACT(IFERROR(VLOOKUP(C$7,'点字番号表（検索用）'!$B:$F,1,FALSE),\"\"),C$7),IFERROR(VLOOKUP(C$7,'点字番号表（検索用）'!$B:$F,5,FALSE),0),IFERROR(VLOOKUP(C$7,'点字番号表（検索用）'!$C:$F,4,FALSE),0)))","v":0},null,null,{"$f":"IF(OR(F$7=\"\",F$7=\"　\"),0,IF(EXACT(IFERROR(VLOOKUP(F$7,'点字番号表（検索用）'!$B:$F,1,FALSE),\"\"),F$7),IFERROR(VLOOKUP(F$7,'点字番号表（検索用）'!$B:$F,5,FALSE),0),IFERROR(VLOOKUP(F$7,'点字番号表（検索用）'!$C:$F,4,FALSE),0)))","v":0},null,null,{"$f":"IF(OR(I$7=\"\",I$7=\"　\"),0,IF(EXACT(IFERROR(VLOOKUP(I$7,'点字番号表（検索用）'!$B:$F,1,FALSE),\"\"),I$7),IFERROR(VLOOKUP(I$7,'点字番号表（検索用）'!$B:$F,5,FALSE),0),IFERROR(VLOOKUP(I$7,'点字番号表（検索用）'!$C:$F,4,FALSE),0)))","v":0},null,null,{"$f":"IF(OR(L$7=\"\",L$7=\"　\"),0,IF(EXACT(IFERROR(VLOOKUP(L$7,'点字番号表（検索用）'!$B:$F,1,FALSE),\"\"),L$7),IFERROR(VLOOKUP(L$7,'点字番号表（検索用）'!$B:$F,5,FALSE),0),IFERROR(VLOOKUP(L$7,'点字番号表（検索用）'!$C:$F,4,FALSE),0)))","v":0},null,null,{"$f":"IF(OR(O$7=\"\",O$7=\"　\"),0,IF(EXACT(IFERROR(VLOOKUP(O$7,'点字番号表（検索用）'!$B:$F,1,FALSE),\"\"),O$7),IFERROR(VLOOKUP(O$7,'点字番号表（検索用）'!$B:$F,5,FALSE),0),IFERROR(VLOOKUP(O$7,'点字番号表（検索用）'!$C:$F,4,FALSE),0)))","v":0},null,null,{"$f":"IF(OR(R$7=\"\",R$7=\"　\"),0,IF(EXACT(IFERROR(VLOOKUP(R$7,'点字番号表（検索用）'!$B:$F,1,FALSE),\"\"),R$7),IFERROR(VLOOKUP(R$7,'点字番号表（検索用）'!$B:$F,5,FALSE),0),IFERROR(VLOOKUP(R$7,'点字番号表（検索用）'!$C:$F,4,FALSE),0)))","v":0},null,null,{"$f":"IF(OR(U$7=\"\",U$7=\"　\"),0,IF(EXACT(IFERROR(VLOOKUP(U$7,'点字番号表（検索用）'!$B:$F,1,FALSE),\"\"),U$7),IFERROR(VLOOKUP(U$7,'点字番号表（検索用）'!$B:$F,5,FALSE),0),IFERROR(VLOOKUP(U$7,'点字番号表（検索用）'!$C:$F,4,FALSE),0)))","v":0},null,null,{"$f":"IF(OR(X$7=\"\",X$7=\"　\"),0,IF(EXACT(IFERROR(VLOOKUP(X$7,'点字番号表（検索用）'!$B:$F,1,FALSE),\"\"),X$7),IFERROR(VLOOKUP(X$7,'点字番号表（検索用）'!$B:$F,5,FALSE),0),IFERROR(VLOOKUP(X$7,'点字番号表（検索用）'!$C:$F,4,FALSE),0)))","v":0},null,null,{"$f":"IF(OR(AA$7=\"\",AA$7=\"　\"),0,IF(EXACT(IFERROR(VLOOKUP(AA$7,'点字番号表（検索用）'!$B:$F,1,FALSE),\"\"),AA$7),IFERROR(VLOOKUP(AA$7,'点字番号表（検索用）'!$B:$F,5,FALSE),0),IFERROR(VLOOKUP(AA$7,'点字番号表（検索用）'!$C:$F,4,FALSE),0)))","v":0},null,null,{"$f":"IF(OR(AD$7=\"\",AD$7=\"　\"),0,IF(EXACT(IFERROR(VLOOKUP(AD$7,'点字番号表（検索用）'!$B:$F,1,FALSE),\"\"),AD$7),IFERROR(VLOOKUP(AD$7,'点字番号表（検索用）'!$B:$F,5,FALSE),0),IFERROR(VLOOKUP(AD$7,'点字番号表（検索用）'!$C:$F,4,FALSE),0)))","v":0},null,null,{"$f":"IF(OR(AG$7=\"\",AG$7=\"　\"),0,IF(EXACT(IFERROR(VLOOKUP(AG$7,'点字番号表（検索用）'!$B:$F,1,FALSE),\"\"),AG$7),IFERROR(VLOOKUP(AG$7,'点字番号表（検索用）'!$B:$F,5,FALSE),0),IFERROR(VLOOKUP(AG$7,'点字番号表（検索用）'!$C:$F,4,FALSE),0)))","v":0},null,null,{"$f":"IF(OR(AJ$7=\"\",AJ$7=\"　\"),0,IF(EXACT(IFERROR(VLOOKUP(AJ$7,'点字番号表（検索用）'!$B:$F,1,FALSE),\"\"),AJ$7),IFERROR(VLOOKUP(AJ$7,'点字番号表（検索用）'!$B:$F,5,FALSE),0),IFERROR(VLOOKUP(AJ$7,'点字番号表（検索用）'!$C:$F,4,FALSE),0)))","v":0},null,null,{"$f":"IF(OR(AM$7=\"\",AM$7=\"　\"),0,IF(EXACT(IFERROR(VLOOKUP(AM$7,'点字番号表（検索用）'!$B:$F,1,FALSE),\"\"),AM$7),IFERROR(VLOOKUP(AM$7,'点字番号表（検索用）'!$B:$F,5,FALSE),0),IFERROR(VLOOKUP(AM$7,'点字番号表（検索用）'!$C:$F,4,FALSE),0)))","v":0},null,null,{"$f":"IF(OR(AP$7=\"\",AP$7=\"　\"),0,IF(EXACT(IFERROR(VLOOKUP(AP$7,'点字番号表（検索用）'!$B:$F,1,FALSE),\"\"),AP$7),IFERROR(VLOOKUP(AP$7,'点字番号表（検索用）'!$B:$F,5,FALSE),0),IFERROR(VLOOKUP(AP$7,'点字番号表（検索用）'!$C:$F,4,FALSE),0)))","v":0},null,null,{"$f":"IF(OR(AS$7=\"\",AS$7=\"　\"),0,IF(EXACT(IFERROR(VLOOKUP(AS$7,'点字番号表（検索用）'!$B:$F,1,FALSE),\"\"),AS$7),IFERROR(VLOOKUP(AS$7,'点字番号表（検索用）'!$B:$F,5,FALSE),0),IFERROR(VLOOKUP(AS$7,'点字番号表（検索用）'!$C:$F,4,FALSE),0)))","v":0},null,null,{"$f":"IF(OR(AV$7=\"\",AV$7=\"　\"),0,IF(EXACT(IFERROR(VLOOKUP(AV$7,'点字番号表（検索用）'!$B:$F,1,FALSE),\"\"),AV$7),IFERROR(VLOOKUP(AV$7,'点字番号表（検索用）'!$B:$F,5,FALSE),0),IFERROR(VLOOKUP(AV$7,'点字番号表（検索用）'!$C:$F,4,FALSE),0)))","v":0},null,null,{"$f":"IF(OR(AY$7=\"\",AY$7=\"　\"),0,IF(EXACT(IFERROR(VLOOKUP(AY$7,'点字番号表（検索用）'!$B:$F,1,FALSE),\"\"),AY$7),IFERROR(VLOOKUP(AY$7,'点字番号表（検索用）'!$B:$F,5,FALSE),0),IFERROR(VLOOKUP(AY$7,'点字番号表（検索用）'!$C:$F,4,FALSE),0)))","v":0},null,null,{"$f":"IF(OR(BB$7=\"\",BB$7=\"　\"),0,IF(EXACT(IFERROR(VLOOKUP(BB$7,'点字番号表（検索用）'!$B:$F,1,FALSE),\"\"),BB$7),IFERROR(VLOOKUP(BB$7,'点字番号表（検索用）'!$B:$F,5,FALSE),0),IFERROR(VLOOKUP(BB$7,'点字番号表（検索用）'!$C:$F,4,FALSE),0)))","v":0},null,null,{"$f":"IF(OR(BE$7=\"\",BE$7=\"　\"),0,IF(EXACT(IFERROR(VLOOKUP(BE$7,'点字番号表（検索用）'!$B:$F,1,FALSE),\"\"),BE$7),IFERROR(VLOOKUP(BE$7,'点字番号表（検索用）'!$B:$F,5,FALSE),0),IFERROR(VLOOKUP(BE$7,'点字番号表（検索用）'!$C:$F,4,FALSE),0)))","v":0},null,null,{"$f":"IF(OR(BH$7=\"\",BH$7=\"　\"),0,IF(EXACT(IFERROR(VLOOKUP(BH$7,'点字番号表（検索用）'!$B:$F,1,FALSE),\"\"),BH$7),IFERROR(VLOOKUP(BH$7,'点字番号表（検索用）'!$B:$F,5,FALSE),0),IFERROR(VLOOKUP(BH$7,'点字番号表（検索用）'!$C:$F,4,FALSE),0)))","v":0},null,null,{"$f":"IF(OR(BK$7=\"\",BK$7=\"　\"),0,IF(EXACT(IFERROR(VLOOKUP(BK$7,'点字番号表（検索用）'!$B:$F,1,FALSE),\"\"),BK$7),IFERROR(VLOOKUP(BK$7,'点字番号表（検索用）'!$B:$F,5,FALSE),0),IFERROR(VLOOKUP(BK$7,'点字番号表（検索用）'!$C:$F,4,FALSE),0)))","v":0},null,null,{"$f":"IF(OR(BN$7=\"\",BN$7=\"　\"),0,IF(EXACT(IFERROR(VLOOKUP(BN$7,'点字番号表（検索用）'!$B:$F,1,FALSE),\"\"),BN$7),IFERROR(VLOOKUP(BN$7,'点字番号表（検索用）'!$B:$F,5,FALSE),0),IFERROR(VLOOKUP(BN$7,'点字番号表（検索用）'!$C:$F,4,FALSE),0)))","v":0},null,null,{"$f":"IF(OR(BQ$7=\"\",BQ$7=\"　\"),0,IF(EXACT(IFERROR(VLOOKUP(BQ$7,'点字番号表（検索用）'!$B:$F,1,FALSE),\"\"),BQ$7),IFERROR(VLOOKUP(BQ$7,'点字番号表（検索用）'!$B:$F,5,FALSE),0),IFERROR(VLOOKUP(BQ$7,'点字番号表（検索用）'!$C:$F,4,FALSE),0)))","v":0},null,null,{"$f":"IF(OR(BT$7=\"\",BT$7=\"　\"),0,IF(EXACT(IFERROR(VLOOKUP(BT$7,'点字番号表（検索用）'!$B:$F,1,FALSE),\"\"),BT$7),IFERROR(VLOOKUP(BT$7,'点字番号表（検索用）'!$B:$F,5,FALSE),0),IFERROR(VLOOKUP(BT$7,'点字番号表（検索用）'!$C:$F,4,FALSE),0)))","v":0},null,null,{"$f":"IF(OR(BW$7=\"\",BW$7=\"　\"),0,IF(EXACT(IFERROR(VLOOKUP(BW$7,'点字番号表（検索用）'!$B:$F,1,FALSE),\"\"),BW$7),IFERROR(VLOOKUP(BW$7,'点字番号表（検索用）'!$B:$F,5,FALSE),0),IFERROR(VLOOKUP(BW$7,'点字番号表（検索用）'!$C:$F,4,FALSE),0)))","v":0},null,null,{"$f":"IF(OR(BZ$7=\"\",BZ$7=\"　\"),0,IF(EXACT(IFERROR(VLOOKUP(BZ$7,'点字番号表（検索用）'!$B:$F,1,FALSE),\"\"),BZ$7),IFERROR(VLOOKUP(BZ$7,'点字番号表（検索用）'!$B:$F,5,FALSE),0),IFERROR(VLOOKUP(BZ$7,'点字番号表（検索用）'!$C:$F,4,FALSE),0)))","v":0},null,null,{"$f":"IF(OR(CC$7=\"\",CC$7=\"　\"),0,IF(EXACT(IFERROR(VLOOKUP(CC$7,'点字番号表（検索用）'!$B:$F,1,FALSE),\"\"),CC$7),IFERROR(VLOOKUP(CC$7,'点字番号表（検索用）'!$B:$F,5,FALSE),0),IFERROR(VLOOKUP(CC$7,'点字番号表（検索用）'!$C:$F,4,FALSE),0)))","v":0},null,null,{"$f":"IF(OR(CF$7=\"\",CF$7=\"　\"),0,IF(EXACT(IFERROR(VLOOKUP(CF$7,'点字番号表（検索用）'!$B:$F,1,FALSE),\"\"),CF$7),IFERROR(VLOOKUP(CF$7,'点字番号表（検索用）'!$B:$F,5,FALSE),0),IFERROR(VLOOKUP(CF$7,'点字番号表（検索用）'!$C:$F,4,FALSE),0)))","v":0},null,null,{"$f":"IF(OR(CI$7=\"\",CI$7=\"　\"),0,IF(EXACT(IFERROR(VLOOKUP(CI$7,'点字番号表（検索用）'!$B:$F,1,FALSE),\"\"),CI$7),IFERROR(VLOOKUP(CI$7,'点字番号表（検索用）'!$B:$F,5,FALSE),0),IFERROR(VLOOKUP(CI$7,'点字番号表（検索用）'!$C:$F,4,FALSE),0)))","v":0},null,null,{"$f":"IF(OR(CL$7=\"\",CL$7=\"　\"),0,IF(EXACT(IFERROR(VLOOKUP(CL$7,'点字番号表（検索用）'!$B:$F,1,FALSE),\"\"),CL$7),IFERROR(VLOOKUP(CL$7,'点字番号表（検索用）'!$B:$F,5,FALSE),0),IFERROR(VLOOKUP(CL$7,'点字番号表（検索用）'!$C:$F,4,FALSE),0)))","v":0}]
[null,null,{"$f":"IFERROR(FIND(\"1\",C46),\"\")","v":""},{"$f":"IFERROR(FIND(\"4\",C46),\"\")","v":""},null,{"$f":"IFERROR(FIND(\"1\",F46),\"\")","v":""},{"$f":"IFERROR(FIND(\"4\",F46),\"\")","v":""},null,{"$f":"IFERROR(FIND(\"1\",I46),\"\")","v":""},{"$f":"IFERROR(FIND(\"4\",I46),\"\")","v":""},null,{"$f":"IFERROR(FIND(\"1\",L46),\"\")","v":""},{"$f":"IFERROR(FIND(\"4\",L46),\"\")","v":""},null,{"$f":"IFERROR(FIND(\"1\",O46),\"\")","v":""},{"$f":"IFERROR(FIND(\"4\",O46),\"\")","v":""},null,{"$f":"IFERROR(FIND(\"1\",R46),\"\")","v":""},{"$f":"IFERROR(FIND(\"4\",R46),\"\")","v":""},null,{"$f":"IFERROR(FIND(\"1\",U46),\"\")","v":""},{"$f":"IFERROR(FIND(\"4\",U46),\"\")","v":""},null,{"$f":"IFERROR(FIND(\"1\",X46),\"\")","v":""},{"$f":"IFERROR(FIND(\"4\",X46),\"\")","v":""},null,{"$f":"IFERROR(FIND(\"1\",AA46),\"\")","v":""},{"$f":"IFERROR(FIND(\"4\",AA46),\"\")","v":""},null,{"$f":"IFERROR(FIND(\"1\",AD46),\"\")","v":""},{"$f":"IFERROR(FIND(\"4\",AD46),\"\")","v":""},null,{"$f":"IFERROR(FIND(\"1\",AG46),\"\")","v":""},{"$f":"IFERROR(FIND(\"4\",AG46),\"\")","v":""},null,{"$f":"IFERROR(FIND(\"1\",AJ46),\"\")","v":""},{"$f":"IFERROR(FIND(\"4\",AJ46),\"\")","v":""},null,{"$f":"IFERROR(FIND(\"1\",AM46),\"\")","v":""},{"$f":"IFERROR(FIND(\"4\",AM46),\"\")","v":""},null,{"$f":"IFERROR(FIND(\"1\",AP46),\"\")","v":""},{"$f":"IFERROR(FIND(\"4\",AP46),\"\")","v":""},null,{"$f":"IFERROR(FIND(\"1\",AS46),\"\")","v":""},{"$f":"IFERROR(FIND(\"4\",AS46),\"\")","v":""},null,{"$f":"IFERROR(FIND(\"1\",AV46),\"\")","v":""},{"$f":"IFERROR(FIND(\"4\",AV46),\"\")","v":""},null,{"$f":"IFERROR(FIND(\"1\",AY46),\"\")","v":""},{"$f":"IFERROR(FIND(\"4\",AY46),\"\")","v":""},null,{"$f":"IFERROR(FIND(\"1\",BB46),\"\")","v":""},{"$f":"IFERROR(FIND(\"4\",BB46),\"\")","v":""},null,{"$f":"IFERROR(FIND(\"1\",BE46),\"\")","v":""},{"$f":"IFERROR(FIND(\"4\",BE46),\"\")","v":""},null,{"$f":"IFERROR(FIND(\"1\",BH46),\"\")","v":""},{"$f":"IFERROR(FIND(\"4\",BH46),\"\")","v":""},null,{"$f":"IFERROR(FIND(\"1\",BK46),\"\")","v":""},{"$f":"IFERROR(FIND(\"4\",BK46),\"\")","v":""},null,{"$f":"IFERROR(FIND(\"1\",BN46),\"\")","v":""},{"$f":"IFERROR(FIND(\"4\",BN46),\"\")","v":""},null,{"$f":"IFERROR(FIND(\"1\",BQ46),\"\")","v":""},{"$f":"IFERROR(FIND(\"4\",BQ46),\"\")","v":""},null,{"$f":"IFERROR(FIND(\"1\",BT46),\"\")","v":""},{"$f":"IFERROR(FIND(\"4\",BT46),\"\")","v":""},null,{"$f":"IFERROR(FIND(\"1\",BW46),\"\")","v":""},{"$f":"IFERROR(FIND(\"4\",BW46),\"\")","v":""},null,{"$f":"IFERROR(FIND(\"1\",BZ46),\"\")","v":""},{"$f":"IFERROR(FIND(\"4\",BZ46),\"\")","v":""},null,{"$f":"IFERROR(FIND(\"1\",CC46),\"\")","v":""},{"$f":"IFERROR(FIND(\"4\",CC46),\"\")","v":""},null,{"$f":"IFERROR(FIND(\"1\",CF46),\"\")","v":""},{"$f":"IFERROR(FIND(\"4\",CF46),\"\")","v":""},null,{"$f":"IFERROR(FIND(\"1\",CI46),\"\")","v":""},{"$f":"IFERROR(FIND(\"4\",CI46),\"\")","v":""},null,{"$f":"IFERROR(FIND(\"1\",CL46),\"\")","v":""},{"$f":"IFERROR(FIND(\"4\",CL46),\"\")","v":""}]
[null,null,{"$f":"IFERROR(FIND(\"2\",C46),\"\")","v":""},{"$f":"IFERROR(FIND(\"5\",C46),\"\")","v":""},null,{"$f":"IFERROR(FIND(\"2\",F46),\"\")","v":""},{"$f":"IFERROR(FIND(\"5\",F46),\"\")","v":""},null,{"$f":"IFERROR(FIND(\"2\",I46),\"\")","v":""},{"$f":"IFERROR(FIND(\"5\",I46),\"\")","v":""},null,{"$f":"IFERROR(FIND(\"2\",L46),\"\")","v":""},{"$f":"IFERROR(FIND(\"5\",L46),\"\")","v":""},null,{"$f":"IFERROR(FIND(\"2\",O46),\"\")","v":""},{"$f":"IFERROR(FIND(\"5\",O46),\"\")","v":""},null,{"$f":"IFERROR(FIND(\"2\",R46),\"\")","v":""},{"$f":"IFERROR(FIND(\"5\",R46),\"\")","v":""},null,{"$f":"IFERROR(FIND(\"2\",U46),\"\")","v":""},{"$f":"IFERROR(FIND(\"5\",U46),\"\")","v":""},null,{"$f":"IFERROR(FIND(\"2\",X46),\"\")","v":""},{"$f":"IFERROR(FIND(\"5\",X46),\"\")","v":""},null,{"$f":"IFERROR(FIND(\"2\",AA46),\"\")","v":""},{"$f":"IFERROR(FIND(\"5\",AA46),\"\")","v":""},null,{"$f":"IFERROR(FIND(\"2\",AD46),\"\")","v":""},{"$f":"IFERROR(FIND(\"5\",AD46),\"\")","v":""},null,{"$f":"IFERROR(FIND(\"2\",AG46),\"\")","v":""},{"$f":"IFERROR(FIND(\"5\",AG46),\"\")","v":""},null,{"$f":"IFERROR(FIND(\"2\",AJ46),\"\")","v":""},{"$f":"IFERROR(FIND(\"5\",AJ46),\"\")","v":""},null,{"$f":"IFERROR(FIND(\"2\",AM46),\"\")","v":""},{"$f":"IFERROR(FIND(\"5\",AM46),\"\")","v":""},null,{"$f":"IFERROR(FIND(\"2\",AP46),\"\")","v":""},{"$f":"IFERROR(FIND(\"5\",AP46),\"\")","v":""},null,{"$f":"IFERROR(FIND(\"2\",AS46),\"\")","v":""},{"$f":"IFERROR(FIND(\"5\",AS46),\"\")","v":""},null,{"$f":"IFERROR(FIND(\"2\",AV46),\"\")","v":""},{"$f":"IFERROR(FIND(\"5\",AV46),\"\")","v":""},null,{"$f":"IFERROR(FIND(\"2\",AY46),\"\")","v":""},{"$f":"IFERROR(FIND(\"5\",AY46),\"\")","v":""},null,{"$f":"IFERROR(FIND(\"2\",BB46),\"\")","v":""},{"$f":"IFERROR(FIND(\"5\",BB46),\"\")","v":""},null,{"$f":"IFERROR(FIND(\"2\",BE46),\"\")","v":""},{"$f":"IFERROR(FIND(\"5\",BE46),\"\")","v":""},null,{"$f":"IFERROR(FIND(\"2\",BH46),\"\")","v":""},{"$f":"IFERROR(FIND(\"5\",BH46),\"\")","v":""},null,{"$f":"IFERROR(FIND(\"2\",BK46),\"\")","v":""},{"$f":"IFERROR(FIND(\"5\",BK46),\"\")","v":""},null,{"$f":"IFERROR(FIND(\"2\",BN46),\"\")","v":""},{"$f":"IFERROR(FIND(\"5\",BN46),\"\")","v":""},null,{"$f":"IFERROR(FIND(\"2\",BQ46),\"\")","v":""},{"$f":"IFERROR(FIND(\"5\",BQ46),\"\")","v":""},null,{"$f":"IFERROR(FIND(\"2\",BT46),\"\")","v":""},{"$f":"IFERROR(FIND(\"5\",BT46),\"\")","v":""},null,{"$f":"IFERROR(FIND(\"2\",BW46),\"\")","v":""},{"$f":"IFERROR(FIND(\"5\",BW46),\"\")","v":""},null,{"$f":"IFERROR(FIND(\"2\",BZ46),\"\")","v":""},{"$f":"IFERROR(FIND(\"5\",BZ46),\"\")","v":""},null,{"$f":"IFERROR(FIND(\"2\",CC46),\"\")","v":""},{"$f":"IFERROR(FIND(\"5\",CC46),\"\")","v":""},null,{"$f":"IFERROR(FIND(\"2\",CF46),\"\")","v":""},{"$f":"IFERROR(FIND(\"5\",CF46),\"\")","v":""},null,{"$f":"IFERROR(FIND(\"2\",CI46),\"\")","v":""},{"$f":"IFERROR(FIND(\"5\",CI46),\"\")","v":""},null,{"$f":"IFERROR(FIND(\"2\",CL46),\"\")","v":""},{"$f":"IFERROR(FIND(\"5\",CL46),\"\")","v":""}]
[null,null,{"$f":"IFERROR(FIND(\"3\",C46),\"\")","v":""},{"$f":"IFERROR(FIND(\"6\",C46),\"\")","v":""},null,{"$f":"IFERROR(FIND(\"3\",F46),\"\")","v":""},{"$f":"IFERROR(FIND(\"6\",F46),\"\")","v":""},null,{"$f":"IFERROR(FIND(\"3\",I46),\"\")","v":""},{"$f":"IFERROR(FIND(\"6\",I46),\"\")","v":""},null,{"$f":"IFERROR(FIND(\"3\",L46),\"\")","v":""},{"$f":"IFERROR(FIND(\"6\",L46),\"\")","v":""},null,{"$f":"IFERROR(FIND(\"3\",O46),\"\")","v":""},{"$f":"IFERROR(FIND(\"6\",O46),\"\")","v":""},null,{"$f":"IFERROR(FIND(\"3\",R46),\"\")","v":""},{"$f":"IFERROR(FIND(\"6\",R46),\"\")","v":""},null,{"$f":"IFERROR(FIND(\"3\",U46),\"\")","v":""},{"$f":"IFERROR(FIND(\"6\",U46),\"\")","v":""},null,{"$f":"IFERROR(FIND(\"3\",X46),\"\")","v":""},{"$f":"IFERROR(FIND(\"6\",X46),\"\")","v":""},null,{"$f":"IFERROR(FIND(\"3\",AA46),\"\")","v":""},{"$f":"IFERROR(FIND(\"6\",AA46),\"\")","v":""},null,{"$f":"IFERROR(FIND(\"3\",AD46),\"\")","v":""},{"$f":"IFERROR(FIND(\"6\",AD46),\"\")","v":""},null,{"$f":"IFERROR(FIND(\"3\",AG46),\"\")","v":""},{"$f":"IFERROR(FIND(\"6\",AG46),\"\")","v":""},null,{"$f":"IFERROR(FIND(\"3\",AJ46),\"\")","v":""},{"$f":"IFERROR(FIND(\"6\",AJ46),\"\")","v":""},null,{"$f":"IFERROR(FIND(\"3\",AM46),\"\")","v":""},{"$f":"IFERROR(FIND(\"6\",AM46),\"\")","v":""},null,{"$f":"IFERROR(FIND(\"3\",AP46),\"\")","v":""},{"$f":"IFERROR(FIND(\"6\",AP46),\"\")","v":""},null,{"$f":"IFERROR(FIND(\"3\",AS46),\"\")","v":""},{"$f":"IFERROR(FIND(\"6\",AS46),\"\")","v":""},null,{"$f":"IFERROR(FIND(\"3\",AV46),\"\")","v":""},{"$f":"IFERROR(FIND(\"6\",AV46),\"\")","v":""},null,{"$f":"IFERROR(FIND(\"3\",AY46),\"\")","v":""},{"$f":"IFERROR(FIND(\"6\",AY46),\"\")","v":""},null,{"$f":"IFERROR(FIND(\"3\",BB46),\"\")","v":""},{"$f":"IFERROR(FIND(\"6\",BB46),\"\")","v":""},null,{"$f":"IFERROR(FIND(\"3\",BE46),\"\")","v":""},{"$f":"IFERROR(FIND(\"6\",BE46),\"\")","v":""},null,{"$f":"IFERROR(FIND(\"3\",BH46),\"\")","v":""},{"$f":"IFERROR(FIND(\"6\",BH46),\"\")","v":""},null,{"$f":"IFERROR(FIND(\"3\",BK46),\"\")","v":""},{"$f":"IFERROR(FIND(\"6\",BK46),\"\")","v":""},null,{"$f":"IFERROR(FIND(\"3\",BN46),\"\")","v":""},{"$f":"IFERROR(FIND(\"6\",BN46),\"\")","v":""},null,{"$f":"IFERROR(FIND(\"3\",BQ46),\"\")","v":""},{"$f":"IFERROR(FIND(\"6\",BQ46),\"\")","v":""},null,{"$f":"IFERROR(FIND(\"3\",BT46),\"\")","v":""},{"$f":"IFERROR(FIND(\"6\",BT46),\"\")","v":""},null,{"$f":"IFERROR(FIND(\"3\",BW46),\"\")","v":""},{"$f":"IFERROR(FIND(\"6\",BW46),\"\")","v":""},null,{"$f":"IFERROR(FIND(\"3\",BZ46),\"\")","v":""},{"$f":"IFERROR(FIND(\"6\",BZ46),\"\")","v":""},null,{"$f":"IFERROR(FIND(\"3\",CC46),\"\")","v":""},{"$f":"IFERROR(FIND(\"6\",CC46),\"\")","v":""},null,{"$f":"IFERROR(FIND(\"3\",CF46),\"\")","v":""},{"$f":"IFERROR(FIND(\"6\",CF46),\"\")","v":""},null,{"$f":"IFERROR(FIND(\"3\",CI46),\"\")","v":""},{"$f":"IFERROR(FIND(\"6\",CI46),\"\")","v":""},null,{"$f":"IFERROR(FIND(\"3\",CL46),\"\")","v":""},{"$f":"IFERROR(FIND(\"6\",CL46),\"\")","v":""}]
[null,null,{"$f":"IF(C47=\"\",\"\",\"●\")","v":""},"",null,{"$f":"IF(F47=\"\",\"\",\"●\")","v":""},"",null,{"$f":"IF(I47=\"\",\"\",\"●\")","v":""},"",null,{"$f":"IF(L47=\"\",\"\",\"●\")","v":""},"",null,{"$f":"IF(O47=\"\",\"\",\"●\")","v":""},"",null,{"$f":"IF(R47=\"\",\"\",\"●\")","v":""},"",null,{"$f":"IF(U47=\"\",\"\",\"●\")","v":""},"",null,{"$f":"IF(X47=\"\",\"\",\"●\")","v":""},"",null,{"$f":"IF(AA47=\"\",\"\",\"●\")","v":""},"",null,{"$f":"IF(AD47=\"\",\"\",\"●\")","v":""},"",null,{"$f":"IF(AG47=\"\",\"\",\"●\")","v":""},"",null,{"$f":"IF(AJ47=\"\",\"\",\"●\")","v":""},"",null,{"$f":"IF(AM47=\"\",\"\",\"●\")","v":""},"",null,{"$f":"IF(AP47=\"\",\"\",\"●\")","v":""},"",null,{"$f":"IF(AS47=\"\",\"\",\"●\")","v":""},"",null,{"$f":"IF(AV47=\"\",\"\",\"●\")","v":""},"",null,{"$f":"IF(AY47=\"\",\"\",\"●\")","v":""},"",null,{"$f":"IF(BB47=\"\",\"\",\"●\")","v":""},"",null,{"$f":"IF(BE47=\"\",\"\",\"●\")","v":""},"",null,{"$f":"IF(BH47=\"\",\"\",\"●\")","v":""},"",null,{"$f":"IF(BK47=\"\",\"\",\"●\")","v":""},"",null,{"$f":"IF(BN47=\"\",\"\",\"●\")","v":""},"",null,{"$f":"IF(BQ47=\"\",\"\",\"●\")","v":""},"",null,{"$f":"IF(BT47=\"\",\"\",\"●\")","v":""},"",null,{"$f":"IF(BW47=\"\",\"\",\"●\")","v":""},"",null,{"$f":"IF(BZ47=\"\",\"\",\"●\")","v":""},"",null,{"$f":"IF(CC47=\"\",\"\",\"●\")","v":""},"",null,{"$f":"IF(CF47=\"\",\"\",\"●\")","v":""},"",null,{"$f":"IF(CI47=\"\",\"\",\"●\")","v":""},"",null,{"$f":"IF(CL47=\"\",\"\",\"●\")","v":""},""]
[null,null,"","",null,"","",null,"","",null,"","",null,"","",null,"","",null,"","",null,"","",null,"","",null,"","",null,"","",null,"","",null,"","",null,"","",null,"","",null,"","",null,"","",null,"","",null,"","",null,"","",null,{"$f":"IF(BK48=\"\",\"\",\"●\")","v":""},"",null,{"$f":"IF(BN48=\"\",\"\",\"●\")","v":""},"",null,{"$f":"IF(BQ48=\"\",\"\",\"●\")","v":""},"",null,{"$f":"IF(BT48=\"\",\"\",\"●\")","v":""},"",null,{"$f":"IF(BW48=\"\",\"\",\"●\")","v":""},"",null,{"$f":"IF(BZ48=\"\",\"\",\"●\")","v":""},"",null,{"$f":"IF(CC48=\"\",\"\",\"●\")","v":""},"",null,{"$f":"IF(CF48=\"\",\"\",\"●\")","v":""},"",null,{"$f":"IF(CI48=\"\",\"\",\"●\")","v":""},"",null,{"$f":"IF(CL48=\"\",\"\",\"●\")","v":""},""]
[null,null,"","",null,"","",null,"","",null,"","",null,"","",null,"","",null,"","",null,"","",null,"","",null,"","",null,"","",null,"","",null,"","",null,"","",null,"","",null,"","",null,"","",null,"","",null,"","",null,"","",null,{"$f":"IF(BK49=\"\",\"\",\"●\")","v":""},"",null,{"$f":"IF(BN49=\"\",\"\",\"●\")","v":""},"",null,{"$f":"IF(BQ49=\"\",\"\",\"●\")","v":""},"",null,{"$f":"IF(BT49=\"\",\"\",\"●\")","v":""},"",null,{"$f":"IF(BW49=\"\",\"\",\"●\")","v":""},"",null,{"$f":"IF(BZ49=\"\",\"\",\"●\")","v":""},"",null,{"$f":"IF(CC49=\"\",\"\",\"●\")","v":""},"",null,{"$f":"IF(CF49=\"\",\"\",\"●\")","v":""},"",null,{"$f":"IF(CI49=\"\",\"\",\"●\")","v":""},"",null,{"$f":"IF(CL49=\"\",\"\",\"●\")","v":""},""]
[]
[null,null,{"$f":"IF(C50=\"\",\"\",1)","v":""},{"$f":"IF(D50=\"\",\"\",4)","v":""},null,{"$f":"IF(F50=\"\",\"\",1)","v":""},{"$f":"IF(G50=\"\",\"\",4)","v":""},null,{"$f":"IF(I50=\"\",\"\",1)","v":""},{"$f":"IF(J50=\"\",\"\",4)","v":""},null,{"$f":"IF(L50=\"\",\"\",1)","v":""},{"$f":"IF(M50=\"\",\"\",4)","v":""},null,{"$f":"IF(O50=\"\",\"\",1)","v":""},{"$f":"IF(P50=\"\",\"\",4)","v":""},null,{"$f":"IF(R50=\"\",\"\",1)","v":""},{"$f":"IF(S50=\"\",\"\",4)","v":""},null,{"$f":"IF(U50=\"\",\"\",1)","v":""},{"$f":"IF(V50=\"\",\"\",4)","v":""},null,{"$f":"IF(X50=\"\",\"\",1)","v":""},{"$f":"IF(Y50=\"\",\"\",4)","v":""},null,{"$f":"IF(AA50=\"\",\"\",1)","v":""},{"$f":"IF(AB50=\"\",\"\",4)","v":""},null,{"$f":"IF(AD50=\"\",\"\",1)","v":""},{"$f":"IF(AE50=\"\",\"\",4)","v":""},null,{"$f":"IF(AG50=\"\",\"\",1)","v":""},{"$f":"IF(AH50=\"\",\"\",4)","v":""},null,{"$f":"IF(AJ50=\"\",\"\",1)","v":""},{"$f":"IF(AK50=\"\",\"\",4)","v":""},null,{"$f":"IF(AM50=\"\",\"\",1)","v":""},{"$f":"IF(AN50=\"\",\"\",4)","v":""},null,{"$f":"IF(AP50=\"\",\"\",1)","v":""},{"$f":"IF(AQ50=\"\",\"\",4)","v":""},null,{"$f":"IF(AS50=\"\",\"\",1)","v":""},{"$f":"IF(AT50=\"\",\"\",4)","v":""},null,{"$f":"IF(AV50=\"\",\"\",1)","v":""},{"$f":"IF(AW50=\"\",\"\",4)","v":""},null,{"$f":"IF(AY50=\"\",\"\",1)","v":""},{"$f":"IF(AZ50=\"\",\"\",4)","v":""},null,{"$f":"IF(BB50=\"\",\"\",1)","v":""},{"$f":"IF(BC50=\"\",\"\",4)","v":""},null,{"$f":"IF(BE50=\"\",\"\",1)","v":""},{"$f":"IF(BF50=\"\",\"\",4)","v":""},null,{"$f":"IF(BH50=\"\",\"\",1)","v":""},{"$f":"IF(BI50=\"\",\"\",4)","v":""},null,{"$f":"IF(BK50=\"\",\"\",1)","v":""},{"$f":"IF(BL50=\"\",\"\",4)","v":""},null,"","",null,"","",null,"","",null,"","",null,"","",null,"","",null,"","",null,"","",null,"",""]
[null,null,{"$f":"IF(C51=\"\",\"\",2)","v":""},{"$f":"IF(D51=\"\",\"\",5)","v":""},null,{"$f":"IF(F51=\"\",\"\",2)","v":""},{"$f":"IF(G51=\"\",\"\",5)","v":""},null,{"$f":"IF(I51=\"\",\"\",2)","v":""},{"$f":"IF(J51=\"\",\"\",5)","v":""},null,{"$f":"IF(L51=\"\",\"\",2)","v":""},{"$f":"IF(M51=\"\",\"\",5)","v":""},null,{"$f":"IF(O51=\"\",\"\",2)","v":""},{"$f":"IF(P51=\"\",\"\",5)","v":""},null,{"$f":"IF(R51=\"\",\"\",2)","v":""},{"$f":"IF(S51=\"\",\"\",5)","v":""},null,{"$f":"IF(U51=\"\",\"\",2)","v":""},{"$f":"IF(V51=\"\",\"\",5)","v":""},null,{"$f":"IF(X51=\"\",\"\",2)","v":""},{"$f":"IF(Y51=\"\",\"\",5)","v":""},null,{"$f":"IF(AA51=\"\",\"\",2)","v":""},{"$f":"IF(AB51=\"\",\"\",5)","v":""},null,{"$f":"IF(AD51=\"\",\"\",2)","v":""},{"$f":"IF(AE51=\"\",\"\",5)","v":""},null,{"$f":"IF(AG51=\"\",\"\",2)","v":""},{"$f":"IF(AH51=\"\",\"\",5)","v":""},null,{"$f":"IF(AJ51=\"\",\"\",2)","v":""},{"$f":"IF(AK51=\"\",\"\",5)","v":""},null,{"$f":"IF(AM51=\"\",\"\",2)","v":""},{"$f":"IF(AN51=\"\",\"\",5)","v":""},null,{"$f":"IF(AP51=\"\",\"\",2)","v":""},{"$f":"IF(AQ51=\"\",\"\",5)","v":""},null,{"$f":"IF(AS51=\"\",\"\",2)","v":""},{"$f":"IF(AT51=\"\",\"\",5)","v":""},null,{"$f":"IF(AV51=\"\",\"\",2)","v":""},{"$f":"IF(AW51=\"\",\"\",5)","v":""},null,{"$f":"IF(AY51=\"\",\"\",2)","v":""},{"$f":"IF(AZ51=\"\",\"\",5)","v":""},null,{"$f":"IF(BB51=\"\",\"\",2)","v":""},{"$f":"IF(BC51=\"\",\"\",5)","v":""},null,{"$f":"IF(BE51=\"\",\"\",2)","v":""},{"$f":"IF(BF51=\"\",\"\",5)","v":""},null,{"$f":"IF(BH51=\"\",\"\",2)","v":""},{"$f":"IF(BI51=\"\",\"\",5)","v":""},null,{"$f":"IF(BK51=\"\",\"\",2)","v":""},{"$f":"IF(BL51=\"\",\"\",5)","v":""},null,"","",null,"","",null,"","",null,"","",null,"","",null,"","",null,"","",null,"","",null,"",""]
[null,null,{"$f":"IF(C52=\"\",\"\",3)","v":""},{"$f":"IF(D52=\"\",\"\",6)","v":""},null,{"$f":"IF(F52=\"\",\"\",3)","v":""},{"$f":"IF(G52=\"\",\"\",6)","v":""},null,{"$f":"IF(I52=\"\",\"\",3)","v":""},{"$f":"IF(J52=\"\",\"\",6)","v":""},null,{"$f":"IF(L52=\"\",\"\",3)","v":""},{"$f":"IF(M52=\"\",\"\",6)","v":""},null,{"$f":"IF(O52=\"\",\"\",3)","v":""},{"$f":"IF(P52=\"\",\"\",6)","v":""},null,{"$f":"IF(R52=\"\",\"\",3)","v":""},{"$f":"IF(S52=\"\",\"\",6)","v":""},null,{"$f":"IF(U52=\"\",\"\",3)","v":""},{"$f":"IF(V52=\"\",\"\",6)","v":""},null,{"$f":"IF(X52=\"\",\"\",3)","v":""},{"$f":"IF(Y52=\"\",\"\",6)","v":""},null,{"$f":"IF(AA52=\"\",\"\",3)","v":""},{"$f":"IF(AB52=\"\",\"\",6)","v":""},null,{"$f":"IF(AD52=\"\",\"\",3)","v":""},{"$f":"IF(AE52=\"\",\"\",6)","v":""},null,{"$f":"IF(AG52=\"\",\"\",3)","v":""},{"$f":"IF(AH52=\"\",\"\",6)","v":""},null,{"$f":"IF(AJ52=\"\",\"\",3)","v":""},{"$f":"IF(AK52=\"\",\"\",6)","v":""},null,{"$f":"IF(AM52=\"\",\"\",3)","v":""},{"$f":"IF(AN52=\"\",\"\",6)","v":""},null,{"$f":"IF(AP52=\"\",\"\",3)","v":""},{"$f":"IF(AQ52=\"\",\"\",6)","v":""},null,{"$f":"IF(AS52=\"\",\"\",3)","v":""},{"$f":"IF(AT52=\"\",\"\",6)","v":""},null,{"$f":"IF(AV52=\"\",\"\",3)","v":""},{"$f":"IF(AW52=\"\",\"\",6)","v":""},null,{"$f":"IF(AY52=\"\",\"\",3)","v":""},{"$f":"IF(AZ52=\"\",\"\",6)","v":""},null,{"$f":"IF(BB52=\"\",\"\",3)","v":""},{"$f":"IF(BC52=\"\",\"\",6)","v":""},null,{"$f":"IF(BE52=\"\",\"\",3)","v":""},{"$f":"IF(BF52=\"\",\"\",6)","v":""},null,{"$f":"IF(BH52=\"\",\"\",3)","v":""},{"$f":"IF(BI52=\"\",\"\",6)","v":""},null,{"$f":"IF(BK52=\"\",\"\",3)","v":""},{"$f":"IF(BL52=\"\",\"\",6)","v":""},null,"","",null,"","",null,"","",null,"","",null,"","",null,"","",null,"","",null,"","",null,"",""]
[null,null,{"$f":"IF(C54&C55&C56&D54&D55&D56=\"\",0,C54&C55&C56&D54&D55&D56)","v":0},null,null,{"$f":"IF(F54&F55&F56&G54&G55&G56=\"\",0,F54&F55&F56&G54&G55&G56)","v":0},null,null,{"$f":"IF(I54&I55&I56&J54&J55&J56=\"\",0,I54&I55&I56&J54&J55&J56)","v":0},null,null,{"$f":"IF(L54&L55&L56&M54&M55&M56=\"\",0,L54&L55&L56&M54&M55&M56)","v":0},null,null,{"$f":"IF(O54&O55&O56&P54&P55&P56=\"\",0,O54&O55&O56&P54&P55&P56)","v":0},null,null,{"$f":"IF(R54&R55&R56&S54&S55&S56=\"\",0,R54&R55&R56&S54&S55&S56)","v":0},null,null,{"$f":"IF(U54&U55&U56&V54&V55&V56=\"\",0,U54&U55&U56&V54&V55&V56)","v":0},null,null,{"$f":"IF(X54&X55&X56&Y54&Y55&Y56=\"\",0,X54&X55&X56&Y54&Y55&Y56)","v":0},null,null,{"$f":"IF(AA54&AA55&AA56&AB54&AB55&AB56=\"\",0,AA54&AA55&AA56&AB54&AB55&AB56)","v":0},null,null,{"$f":"IF(AD54&AD55&AD56&AE54&AE55&AE56=\"\",0,AD54&AD55&AD56&AE54&AE55&AE56)","v":0},null,null,{"$f":"IF(AG54&AG55&AG56&AH54&AH55&AH56=\"\",0,AG54&AG55&AG56&AH54&AH55&AH56)","v":0},null,null,{"$f":"IF(AJ54&AJ55&AJ56&AK54&AK55&AK56=\"\",0,AJ54&AJ55&AJ56&AK54&AK55&AK56)","v":0},null,null,{"$f":"IF(AM54&AM55&AM56&AN54&AN55&AN56=\"\",0,AM54&AM55&AM56&AN54&AN55&AN56)","v":0},null,null,{"$f":"IF(AP54&AP55&AP56&AQ54&AQ55&AQ56=\"\",0,AP54&AP55&AP56&AQ54&AQ55&AQ56)","v":0},null,null,{"$f":"IF(AS54&AS55&AS56&AT54&AT55&AT56=\"\",0,AS54&AS55&AS56&AT54&AT55&AT56)","v":0},null,null,{"$f":"IF(AV54&AV55&AV56&AW54&AW55&AW56=\"\",0,AV54&AV55&AV56&AW54&AW55&AW56)","v":0},null,null,{"$f":"IF(AY54&AY55&AY56&AZ54&AZ55&AZ56=\"\",0,AY54&AY55&AY56&AZ54&AZ55&AZ56)","v":0},null,null,{"$f":"IF(BB54&BB55&BB56&BC54&BC55&BC56=\"\",0,BB54&BB55&BB56&BC54&BC55&BC56)","v":0},null,null,{"$f":"IF(BE54&BE55&BE56&BF54&BF55&BF56=\"\",0,BE54&BE55&BE56&BF54&BF55&BF56)","v":0},null,null,{"$f":"IF(BH54&BH55&BH56&BI54&BI55&BI56=\"\",0,BH54&BH55&BH56&BI54&BI55&BI56)","v":0},null,null,{"$f":"IF(BK54&BK55&BK56&BL54&BL55&BL56=\"\",0,BK54&BK55&BK56&BL54&BL55&BL56)","v":0},null,null,{"$f":"IF(BN54&BN55&BN56&BO54&BO55&BO56=\"\",0,BN54&BN55&BN56&BO54&BO55&BO56)","v":0},null,null,{"$f":"IF(BQ54&BQ55&BQ56&BR54&BR55&BR56=\"\",0,BQ54&BQ55&BQ56&BR54&BR55&BR56)","v":0},null,null,{"$f":"IF(BT54&BT55&BT56&BU54&BU55&BU56=\"\",0,BT54&BT55&BT56&BU54&BU55&BU56)","v":0},null,null,{"$f":"IF(BW54&BW55&BW56&BX54&BX55&BX56=\"\",0,BW54&BW55&BW56&BX54&BX55&BX56)","v":0},null,null,{"$f":"IF(BZ54&BZ55&BZ56&CA54&CA55&CA56=\"\",0,BZ54&BZ55&BZ56&CA54&CA55&CA56)","v":0},null,null,{"$f":"IF(CC54&CC55&CC56&CD54&CD55&CD56=\"\",0,CC54&CC55&CC56&CD54&CD55&CD56)","v":0},null,null,{"$f":"IF(CF54&CF55&CF56&CG54&CG55&CG56=\"\",0,CF54&CF55&CF56&CG54&CG55&CG56)","v":0},null,null,{"$f":"IF(CI54&CI55&CI56&CJ54&CJ55&CJ56=\"\",0,CI54&CI55&CI56&CJ54&CJ55&CJ56)","v":0},null,null,{"$f":"IF(CL54&CL55&CL56&CM54&CM55&CM56=\"\",0,CL54&CL55&CL56&CM54&CM55&CM56)","v":0}]
[]
[null,null,{"$f":"TEXT(C31,\"000000\")&TEXT(C44,\"000000\")&TEXT(C57,\"000000\")","v":"000000000000000000"},null,null,{"$f":"TEXT(F31,\"000000\")&TEXT(F44,\"000000\")&TEXT(F57,\"000000\")","v":"000000000000000000"},null,null,{"$f":"TEXT(I31,\"000000\")&TEXT(I44,\"000000\")&TEXT(I57,\"000000\")","v":"000000000000000000"},null,null,{"$f":"TEXT(L31,\"000000\")&TEXT(L44,\"000000\")&TEXT(L57,\"000000\")","v":"000000000000000000"},null,null,{"$f":"TEXT(O31,\"000000\")&TEXT(O44,\"000000\")&TEXT(O57,\"000000\")","v":"000000000000000000"},null,null,{"$f":"TEXT(R31,\"000000\")&TEXT(R44,\"000000\")&TEXT(R57,\"000000\")","v":"000000000000000000"},null,null,{"$f":"TEXT(U31,\"000000\")&TEXT(U44,\"000000\")&TEXT(U57,\"000000\")","v":"000000000000000000"},null,null,{"$f":"TEXT(X31,\"000000\")&TEXT(X44,\"000000\")&TEXT(X57,\"000000\")","v":"000000000000000000"},null,null,{"$f":"TEXT(AA31,\"000000\")&TEXT(AA44,\"000000\")&TEXT(AA57,\"000000\")","v":"000000000000000000"},null,null,{"$f":"TEXT(AD31,\"000000\")&TEXT(AD44,\"000000\")&TEXT(AD57,\"000000\")","v":"000000000000000000"},null,null,{"$f":"TEXT(AG31,\"000000\")&TEXT(AG44,\"000000\")&TEXT(AG57,\"000000\")","v":"000000000000000000"},null,null,{"$f":"TEXT(AJ31,\"000000\")&TEXT(AJ44,\"000000\")&TEXT(AJ57,\"000000\")","v":"000000000000000000"},null,null,{"$f":"TEXT(AM31,\"000000\")&TEXT(AM44,\"000000\")&TEXT(AM57,\"000000\")","v":"000000000000000000"},null,null,{"$f":"TEXT(AP31,\"000000\")&TEXT(AP44,\"000000\")&TEXT(AP57,\"000000\")","v":"000000000000000000"},null,null,{"$f":"TEXT(AS31,\"000000\")&TEXT(AS44,\"000000\")&TEXT(AS57,\"000000\")","v":"000000000000000000"},null,null,{"$f":"TEXT(AV31,\"000000\")&TEXT(AV44,\"000000\")&TEXT(AV57,\"000000\")","v":"000000000000000000"},null,null,{"$f":"TEXT(AY31,\"000000\")&TEXT(AY44,\"000000\")&TEXT(AY57,\"000000\")","v":"000000000000000000"},null,null,{"$f":"TEXT(BB31,\"000000\")&TEXT(BB44,\"000000\")&TEXT(BB57,\"000000\")","v":"000000000000000000"},null,null,{"$f":"TEXT(BE31,\"000000\")&TEXT(BE44,\"000000\")&TEXT(BE57,\"000000\")","v":"000000000000000000"},null,null,{"$f":"TEXT(BH31,\"000000\")&TEXT(BH44,\"000000\")&TEXT(BH57,\"000000\")","v":"000000000000000000"},null,null,{"$f":"TEXT(BK31,\"000000\")&TEXT(BK44,\"000000\")&TEXT(BK57,\"000000\")","v":"000000000000000000"},null,null,{"$f":"TEXT(BN31,\"000000\")&TEXT(BN44,\"000000\")&TEXT(BN57,\"000000\")","v":"000000000000000000"},null,null,{"$f":"TEXT(BQ31,\"000000\")&TEXT(BQ44,\"000000\")&TEXT(BQ57,\"000000\")","v":"000000000000000000"},null,null,{"$f":"TEXT(BT31,\"000000\")&TEXT(BT44,\"000000\")&TEXT(BT57,\"000000\")","v":"000000000000000000"},null,null,{"$f":"TEXT(BW31,\"000000\")&TEXT(BW44,\"000000\")&TEXT(BW57,\"000000\")","v":"000000000000000000"},null,null,{"$f":"TEXT(BZ31,\"000000\")&TEXT(BZ44,\"000000\")&TEXT(BZ57,\"000000\")","v":"000000000000000000"},null,null,{"$f":"TEXT(CC31,\"000000\")&TEXT(CC44,\"000000\")&TEXT(CC57,\"000000\")","v":"000000000000000000"},null,null,{"$f":"TEXT(CF31,\"000000\")&TEXT(CF44,\"000000\")&TEXT(CF57,\"000000\")","v":"000000000000000000"},null,null,{"$f":"TEXT(CI31,\"000000\")&TEXT(CI44,\"000000\")&TEXT(CI57,\"000000\")","v":"000000000000000000"},null,null,{"$f":"TEXT(CL31,\"000000\")&TEXT(CL44,\"000000\")&TEXT(CL57,\"000000\")","v":"000000000000000000"}]
[null,null,{"$f":"IFERROR(VLOOKUP(C59,'点字番号表（検索用）'!$A:$C,2,FALSE),\"\")","v":""},null,null,{"$f":"IFERROR(VLOOKUP(F59,'点字番号表（検索用）'!$A:$C,2,FALSE),\"\")","v":""},null,null,{"$f":"IFERROR(VLOOKUP(I59,'点字番号表（検索用）'!$A:$C,2,FALSE),\"\")","v":""},null,null,{"$f":"IFERROR(VLOOKUP(L59,'点字番号表（検索用）'!$A:$C,2,FALSE),\"\")","v":""},null,null,{"$f":"IFERROR(VLOOKUP(O59,'点字番号表（検索用）'!$A:$C,2,FALSE),\"\")","v":""},null,null,{"$f":"IFERROR(VLOOKUP(R59,'点字番号表（検索用）'!$A:$C,2,FALSE),\"\")","v":""},null,null,{"$f":"IFERROR(VLOOKUP(U59,'点字番号表（検索用）'!$A:$C,2,FALSE),\"\")","v":""},null,null,{"$f":"IFERROR(VLOOKUP(X59,'点字番号表（検索用）'!$A:$C,2,FALSE),\"\")","v":""},null,null,{"$f":"IFERROR(VLOOKUP(AA59,'点字番号表（検索用）'!$A:$C,2,FALSE),\"\")","v":""},null,null,{"$f":"IFERROR(VLOOKUP(AD59,'点字番号表（検索用）'!$A:$C,2,FALSE),\"\")","v":""},null,null,{"$f":"IFERROR(VLOOKUP(AG59,'点字番号表（検索用）'!$A:$C,2,FALSE),\"\")","v":""},null,null,{"$f":"IFERROR(VLOOKUP(AJ59,'点字番号表（検索用）'!$A:$C,2,FALSE),\"\")","v":""},null,null,{"$f":"IFERROR(VLOOKUP(AM59,'点字番号表（検索用）'!$A:$C,2,FALSE),\"\")","v":""},null,null,{"$f":"IFERROR(VLOOKUP(AP59,'点字番号表（検索用）'!$A:$C,2,FALSE),\"\")","v":""},null,null,{"$f":"IFERROR(VLOOKUP(AS59,'点字番号表（検索用）'!$A:$C,2,FALSE),\"\")","v":""},null,null,{"$f":"IFERROR(VLOOKUP(AV59,'点字番号表（検索用）'!$A:$C,2,FALSE),\"\")","v":""},null,null,{"$f":"IFERROR(VLOOKUP(AY59,'点字番号表（検索用）'!$A:$C,2,FALSE),\"\")","v":""},null,null,{"$f":"IFERROR(VLOOKUP(BB59,'点字番号表（検索用）'!$A:$C,2,FALSE),\"\")","v":""},null,null,{"$f":"IFERROR(VLOOKUP(BE59,'点字番号表（検索用）'!$A:$C,2,FALSE),\"\")","v":""},null,null,{"$f":"IFERROR(VLOOKUP(BH59,'点字番号表（検索用）'!$A:$C,2,FALSE),\"\")","v":""},null,null,{"$f":"IFERROR(VLOOKUP(BK59,'点字番号表（検索用）'!$A:$C,2,FALSE),\"\")","v":""},null,null,{"$f":"IFERROR(VLOOKUP(BN59,'点字番号表（検索用）'!$A:$C,2,FALSE),\"\")","v":""},null,null,{"$f":"IFERROR(VLOOKUP(BQ59,'点字番号表（検索用）'!$A:$C,2,FALSE),\"\")","v":""},null,null,{"$f":"IFERROR(VLOOKUP(BT59,'点字番号表（検索用）'!$A:$C,2,FALSE),\"\")","v":""},null,null,{"$f":"IFERROR(VLOOKUP(BW59,'点字番号表（検索用）'!$A:$C,2,FALSE),\"\")","v":""},null,null,{"$f":"IFERROR(VLOOKUP(BZ59,'点字番号表（検索用）'!$A:$C,2,FALSE),\"\")","v":""},null,null,{"$f":"IFERROR(VLOOKUP(CC59,'点字番号表（検索用）'!$A:$C,2,FALSE),\"\")","v":""},null,null,{"$f":"IFERROR(VLOOKUP(CF59,'点字番号表（検索用）'!$A:$C,2,FALSE),\"\")","v":""},null,null,{"$f":"IFERROR(VLOOKUP(CI59,'点字番号表（検索用）'!$A:$C,2,FALSE),\"\")","v":""},null,null,{"$f":"IFERROR(VLOOKUP(CL59,'点字番号表（検索用）'!$A:$C,2,FALSE),\"\")","v":""}]

{"sheet":"点字番号表","index":1,"n_rows":62,"n_cols":31,"rows_kept":62,"cut":false,"hidden":false,"merged":[[2,13,2,14],[2,6,3,6],[2,7,2,8],[2,9,3,9],[2,10,2,11],[2,12,3,12],[2,27,3,27],[1,27,1,28],[1,29,1,30],[2,28,3,28],[2,15,3,15],[2,16,2,17],[2,18,3,18],[2,19,2,20],[2,21,3,21],[2,22,2,23],[2,24,3,24],[2,25,2,26],[1,1,1,26],[2,1,3,1],[2,3,3,3],[2,4,2,5]]}
[]
[null,"カナ文字",null,null,null,null,null,null,null,null,null,null,null,null,null,null,null,null,null,null,null,null,null,null,null,null,null,"数字",null,"英字"]
[null,"清音","点番号","濁音","点番号",null,"半濁音","点番号",null,"拗音","点番号",null,"拗\n濁音","点番号",null,"拗\n半濁音","点番号",null,"特殊音","点番号",null,"特殊音","点番号",null,"特殊音","点番号",null,"数符",3456,"外字符",56]
[null,null,"1マス",null,"1マス","2マス",null,"1マス","2マス",null,"1マス","2マス",null,"1マス","2マス",null,"1マス","2マス",null,"1マス","2マス",null,"1マス","2マス",null,"1マス","2マス",null,null,"大文字符",6]
[null,"ア","1",null,null,null,null,null,null,null,null,null,null,null,null,null,null,null,null,null,null,null,null,null,null,null,null,"１","1","ａ","1"]
[null,"イ","12",null,null,null,null,null,null,null,null,null,null,null,null,null,null,null,"ウィ",26,12,null,null,null,null,null,null,"２","12","ｂ","12"]
[null,"ウ","14",null,null,null,null,null,null,null,null,null,null,null,null,null,null,null,null,null,null,null,null,null,null,null,null,"３","14","ｃ","14"]
[null,"エ","124",null,null,null,null,null,null,"イェ",4,124,null,null,null,null,null,null,"ウェ",26,124,null,null,null,null,null,null,"６",124,"ｆ","124"]
[null,"オ","24",null,null,null,null,null,null,null,null,null,null,null,null,null,null,null,"ウォ",26,24,null,null,null,null,null,null,"９","24","ｉ","24"]
[null,"カ","16","ガ",5,"16",null,null,null,"キャ",4,"16","ギャ",45,"16",null,null,null,"クァ",26,"16",null,null,null,null,null,null,null,null,""]
[null,"キ","126","ギ",5,"126",null,null,null,null,null,null,null,null,null,null,null,null,"クィ",26,"126",null,null,null,null,null,null,null,null,""]
[null,"ク","146","グ",5,"146",null,null,null,"キュ",4,"146","ギュ",45,"146",null,null,null,null,null,null,null,null,null,null,null,null,null,null,""]
[null,"ケ","1246","ゲ",5,"1246",null,null,null,null,null,null,null,null,null,null,null,null,"クェ",26,"1246",null,null,null,null,null,null,null,null,""]
[null,"コ","246","ゴ",5,"246",null,null,null,"キョ",4,"246","ギョ",45,"246",null,null,null,"クォ",26,"246",null,null,null,null,null,null,null,null,""]
[null,"サ","156","ザ",5,"156",null,null,null,"シャ",4,"156","ジャ",45,"156",null,null,null,null,null,null,null,null,null,null,null,null,null,null,""]
[null,"シ","1256","ジ",5,"1256",null,null,null,null,null,null,null,null,null,null,null,null,null,null,null,null,null,null,null,null,null,null,null,""]
[null,"ス","1456","ズ",5,"1456",null,null,null,"シュ",4,"1456","ジュ",45,"1456",null,null,null,null,null,null,null,null,null,null,null,null,null,null,""]
[null,"セ","12456","ゼ",5,"12456",null,null,null,"シェ",4,12456,"ジェ",45,12456,null,null,null,null,null,null,null,null,null,null,null,null,null,null,""]
[null,"ソ","2456","ゾ",5,"2456",null,null,null,"ショ",4,"2456","ジョ",45,"2456",null,null,null,null,null,null,null,null,null,null,null,null,null,null,"ｗ","2456"]
[null,"タ","135","ダ",5,"135",null,null,null,"チャ",4,"135",null,null,null,null,null,null,"ツァ",26,"135",null,null,null,null,null,null,null,null,"ｏ","135"]
[null,"チ","1235","ヂ",5,"1235",null,null,null,"ティ",4,1235,"ディ",45,1235,null,null,null,"ツィ",26,"1235",null,null,null,null,null,null,null,null,"ｒ","1235"]
[null,"ツ","1345","ヅ",5,"1345",null,null,null,"チュ",4,"1345",null,null,null,"テュ",46,1345,"トゥ",26,1345,"ドゥ",256,1345,"デュ",456,1345,null,null,"ｎ","1345"]
[null,"テ","12345","デ",5,"12345",null,null,null,"チェ",4,12345,null,null,null,null,null,null,"ツェ",26,"12345",null,null,null,null,null,null,null,null,"ｑ","12345"]
[null,"ト","2345","ド",5,"2345",null,null,null,"チョ",4,"2345",null,null,null,null,null,null,"ツォ",26,"2345",null,null,null,null,null,null,null,null,"ｔ","2345"]
[null,"ナ","13",null,null,null,null,null,null,"ニャ",4,"13",null,null,null,null,null,null,null,null,null,null,null,null,null,null,null,null,null,"ｋ","13"]
[null,"ニ","123",null,null,null,null,null,null,null,null,null,null,null,null,null,null,null,null,null,null,null,null,null,null,null,null,null,null,"ｌ","123"]
[null,"ヌ","134",null,null,null,null,null,null,"ニュ",4,"134",null,null,null,null,null,null,null,null,null,null,null,null,null,null,null,null,null,"ｍ","134"]
[null,"ネ","1234",null,null,null,null,null,null,null,null,null,null,null,null,null,null,null,null,null,null,null,null,null,null,null,null,null,null,"ｐ","1234"]
[null,"ノ","234",null,null,null,null,null,null,"ニョ",4,"234",null,null,null,null,null,null,null,null,null,null,null,null,null,null,null,null,null,"ｓ","234"]
[null,"ハ","136","バ",5,"136","パ",6,"136","ヒャ",4,"136","ビャ",45,"136","ピャ",46,"136","ファ",26,"136","ヴァ",256,"136",null,null,null,null,null,"ｕ","136"]
[null,"ヒ","1236","ビ",5,"1236","ピ",6,"1236",null,null,null,null,null,null,null,null,null,"フィ",26,"1236","ヴィ",256,"1236",null,null,null,null,null,"ｖ","1236"]
[null,"フ","1346","ブ",5,"1346","プ",6,"1346","ヒュ",4,"1346","ビュ",45,"1346","ピュ",46,"1346",null,null,null,null,null,null,null,null,null,null,null,"ｘ","1346"]
[null,"ヘ","12346","ベ",5,"12346","ペ",6,"12346",null,null,null,null,null,null,null,null,null,"フェ",26,"12346","ヴェ",256,"12346",null,null,null,null,null,""]
[null,"ホ","2346","ボ",5,"2346","ポ",6,"2346","ヒョ",4,"2346","ビョ",45,"2346","ピョ",46,"2346","フォ",26,"2346","ヴォ",256,"2346",null,null,null,null,null,""]
[null,"マ","1356",null,null,null,null,null,null,"ミャ",4,"1356",null,null,null,null,null,null,null,null,null,null,null,null,null,null,null,null,null,"ｚ","1356"]
[null,"ミ","12356",null,null,null,null,null,null,null,null,null,null,null,null,null,null,null,null,null,null,null,null,null,null,null,null,null,null,""]
[null,"ム","13456",null,null,null,null,null,null,"ミュ",4,"13456",null,null,null,null,null,null,null,null,null,null,null,null,null,null,null,null,null,"ｙ","13456"]
[null,"メ","123456",null,null,null,null,null,null,null,null,null,null,null,null,null,null,null,null,null,null,null,null,null,null,null,null,null,null,""]
[null,"モ","23456",null,null,null,null,null,null,"ミョ",4,"23456",null,null,null,null,null,null,null,null,null,null,null,null,null,null,null,null,null,""]
[null,"ヤ","34",null,null,null,null,null,null,null,null,null,null,null,null,null,null,null,null,null,null,null,null,null,null,null,null,null,null,""]
[null,"ユ","346",null,null,null,null,null,null,null,null,null,null,null,null,"フュ",46,346,null,null,null,null,null,null,"ヴュ",456,346,null,null,""]
[null,"ヨ","345",null,null,null,null,null,null,null,null,null,null,null,null,null,null,null,null,null,null,null,null,null,null,null,null,null,null,""]
[null,"ラ",15,null,null,null,null,null,null,"リャ",4,"15",null,null,null,null,null,null,null,null,null,null,null,null,null,null,null,5,15,"ｅ",15]
[null,"リ","125",null,null,null,null,null,null,null,null,null,null,null,null,null,null,null,null,null,null,null,null,null,null,null,null,8,125,"ｈ","125"]
[null,"ル","145",null,null,null,null,null,null,"リュ",4,"145",null,null,null,null,null,null,null,null,null,null,null,null,null,null,null,4,145,"ｄ","145"]
[null,"レ","1245",null,null,null,null,null,null,null,null,null,null,null,null,null,null,null,null,null,null,null,null,null,null,null,null,7,1245,"ｇ","1245"]
[null,"ロ","245",null,null,null,null,null,null,"リョ",4,"245",null,null,null,null,null,null,null,null,null,null,null,null,null,null,null,0,245,"ｊ","245"]
[null,"ワ","3",null,null,null,null,null,null,null,null,null,null,null,null,null,null,null,null,null,null,null,null,null,null,null,null,"，",3,""]
[null,"ヲ","35",null,null,null,null,null,null,null,null,null,null,null,null,null,null,null,null,null,null,null,null,null,null,null,null,null,null,""]
[null,"ン","356",null,null,null,null,null,null,null,null,null,null,null,null,null,null,null,null,null,null,null,null,null,null,null,null,null,null,""]
[null,"ッ",2,null,null,null,null,null,null,null,null,null,null,null,null,null,null,null,null,null,null,null,null,null,null,null,null,"．",2,""]
[null,"ー",25,null,null,null,null,null,null,null,null,null,null,null,null,null,null,null,null,null,null,null,null,null,null,null,null,null,null,""]
[null,"。",256,null,null,null,null,null,null,null,null,null,null,null,null,null,null,null,null,null,null,null,null,null,null,null,null,null,null,""]
[null,"、",56,null,null,null,null,null,null,null,null,null,null,null,null,null,null,null,null,null,null,null,null,null,null,null,null,null,null,""]
[null,"・",5,null,null,null,null,null,null,null,null,null,null,null,null,null,null,null,null,null,null,null,null,null,null,null,null,null,null,""]
[null,"？",26,null,null,null,null,null,null,null,null,null,null,null,null,null,null,null,null,null,null,null,null,null,null,null,null,null,null,""]
[null,"！",235,null,null,null,null,null,null,null,null,null,null,null,null,null,null,null,null,null,null,null,null,null,null,null,null,null,null,""]
[null,"つなぎ",36,null,null,null,null,null,null,null,null,null,null,null,null,null,null,null,null,null,null,null,null,null,null,null,null,null,null,""]
[null,null,null,null,null,null,null,null,null,null,null,null,null,null,null,null,null,null,null,null,null,null,null,null,null,null,null,null,null,""]
[null,null,null,null,null,null,null,null,null,null,null,null,null,null,null,null,null,null,null,null,null,null,null,null,null,null,null,null,null,""]
[null,null,null,null,null,null,null,null,null,null,null,null,null,null,null,null,null,null,null,null,null,null,null,null,null,null,null,null,null,""]
[null,null,null,null,null,null,null,null,null,null,null,null,null,null,null,null,null,null,null,null,null,null,null,null,null,null,null,null,null,""]

{"sheet":"点字番号表（検索用）","index":2,"n_rows":210,"n_cols":9,"rows_kept":210,"cut":false,"hidden":true,"merged":[[1,3,1,5],[1,2,2,2],[1,0,2,0],[1,1,2,1],[1,7,1,8]]}
[]
["検索キー","文字","英\n大文字","点番号",null,null,null,"検索"]
[null,null,null,"1マス","2マス","3マス",null,null,{"$f":"IFERROR(MATCH(H3,B:B,0),\"\")","v":""}]
[{"$f":"TEXT(D4,\"000000\")&TEXT(E4,\"000000\")&TEXT(F4,\"000000\")","v":"000001000000000000"},"ア",null,"1"]
[{"$f":"TEXT(D5,\"000000\")&TEXT(E5,\"000000\")&TEXT(F5,\"000000\")","v":"000012000000000000"},"イ",null,"12"]
["000014000000000000","ウ",null,"14"]
["000124000000000000","エ",null,"124"]
["000024000000000000","オ",null,"24"]
["000016000000000000","カ",null,"16"]
["000126000000000000","キ",null,"126"]
["000146000000000000","ク",null,"146"]
["001246000000000000","ケ",null,"1246"]
["000246000000000000","コ",null,"246"]
["000156000000000000","サ",null,"156"]
["001256000000000000","シ",null,"1256"]
["001456000000000000","ス",null,"1456"]
["012456000000000000","セ",null,"12456"]
["002456000000000000","ソ",null,"2456"]
["000135000000000000","タ",null,"135"]
["001235000000000000","チ",null,"1235"]
["001345000000000000","ツ",null,"1345"]
["012345000000000000","テ",null,"12345"]
["002345000000000000","ト",null,"2345"]
["000013000000000000","ナ",null,"13"]
["000123000000000000","ニ",null,"123"]
["000134000000000000","ヌ",null,"134"]
["001234000000000000","ネ",null,"1234"]
["000234000000000000","ノ",null,"234"]
["000136000000000000","ハ",null,"136"]
["001236000000000000","ヒ",null,"1236"]
["001346000000000000","フ",null,"1346"]
["012346000000000000","ヘ",null,"12346"]
["002346000000000000","ホ",null,"2346"]
["001356000000000000","マ",null,"1356"]
["012356000000000000","ミ",null,"12356"]
["013456000000000000","ム",null,"13456"]
["123456000000000000","メ",null,"123456"]
["023456000000000000","モ",null,"23456"]
["000034000000000000","ヤ",null,"34"]
["000346000000000000","ユ",null,"346"]
["000345000000000000","ヨ",null,"345"]
["000015000000000000","ラ",null,15]
["000125000000000000","リ",null,"125"]
["000145000000000000","ル",null,"145"]
["001245000000000000","レ",null,"1245"]
["000245000000000000","ロ",null,"245"]
["000003000000000000","ワ",null,"3"]
["000035000000000000","ヲ",null,"35"]
["000356000000000000","ン",null,"356"]
["000002000000000000","ッ",null,2]
["000025000000000000","ー",null,25]
["000256000000000000","。",null,256]
["000056000000000000","、",null,56]
["000005000000000000","・",null,5]
["000026000000000000","？",null,26]
["000235000000000000","！",null,235]
["000036000000000000","つなぎ",null,36]
["000005000016000000","ガ",null,5,"16"]
["000005000126000000","ギ",null,5,"126"]
["000005000146000000","グ",null,5,"146"]
["000005001246000000","ゲ",null,5,"1246"]
["000005000246000000","ゴ",null,5,"246"]
["000005000156000000","ザ",null,5,"156"]
["000005001256000000","ジ",null,5,"1256"]
["000005001456000000","ズ",null,5,"1456"]
["000005012456000000","ゼ",null,5,"12456"]
["000005002456000000","ゾ",null,5,"2456"]
["000005000135000000","ダ",null,5,"135"]
[{"$f":"TEXT(D69,\"000000\")&TEXT(E69,\"000000\")&TEXT(F69,\"000000\")","v":"000005001235000000"},"ヂ",null,5,"1235"]
["000005001345000000","ヅ",null,5,"1345"]
["000005012345000000","デ",null,5,"12345"]
["000005002345000000","ド",null,5,"2345"]
["000005000136000000","バ",null,5,"136"]
["000005001236000000","ビ",null,5,"1236"]
["000005001346000000","ブ",null,5,"1346"]
["000005012346000000","ベ",null,5,"12346"]
["000005002346000000","ボ",null,5,"2346"]
["000006000136000000","パ",null,6,"136"]
["000006001236000000","ピ",null,6,"1236"]
["000006001346000000","プ",null,6,"1346"]
["000006012346000000","ペ",null,6,"12346"]
["000006002346000000","ポ",null,6,"2346"]
["000004000124000000","イェ",null,4,124]
["000004000016000000","キャ",null,4,"16"]
["000004000146000000","キュ",null,4,"146"]
["000004000246000000","キョ",null,4,"246"]
["000004000156000000","シャ",null,4,"156"]
["000004001456000000","シュ",null,4,"1456"]
["000004012456000000","シェ",null,4,12456]
["000004002456000000","ショ",null,4,"2456"]
["000004000135000000","チャ",null,4,"135"]
["000004001235000000","ティ",null,4,1235]
["000004001345000000","チュ",null,4,"1345"]
["000004012345000000","チェ",null,4,12345]
["000004002345000000","チョ",null,4,"2345"]
["000004000013000000","ニャ",null,4,"13"]
["000004000134000000","ニュ",null,4,"134"]
["000004000234000000","ニョ",null,4,"234"]
["000004000136000000","ヒャ",null,4,"136"]
["000004001346000000","ヒュ",null,4,"1346"]
["000004002346000000","ヒョ",null,4,"2346"]
["000004001356000000","ミャ",null,4,"1356"]
["000004013456000000","ミュ",null,4,"13456"]
["000004023456000000","ミョ",null,4,"23456"]
["000004000015000000","リャ",null,4,"15"]
["000004000145000000","リュ",null,4,"145"]
["000004000245000000","リョ",null,4,"245"]
["000045000016000000","ギャ",null,45,"16"]
["000045000146000000","ギュ",null,45,"146"]
["000045000246000000","ギョ",null,45,"246"]
["000045000156000000","ジャ",null,45,"156"]
["000045001456000000","ジュ",null,45,"1456"]
["000045012456000000","ジェ",null,45,12456]
["000045002456000000","ジョ",null,45,"2456"]
["000045001235000000","ディ",null,45,1235]
["000045000136000000","ビャ",null,45,"136"]
["000045001346000000","ビュ",null,45,"1346"]
["000045002346000000","ビョ",null,45,"2346"]
["000046001345000000","テュ",null,46,1345]
["000046000136000000","ピャ",null,46,"136"]
["000046001346000000","ピュ",null,46,"1346"]
["000046002346000000","ピョ",null,46,"2346"]
["000046000346000000","フュ",null,46,346]
["000026000012000000","ウィ",null,26,12]
["000026000124000000","ウェ",null,26,124]
["000026000024000000","ウォ",null,26,24]
["000026000016000000","クァ",null,26,"16"]
["000026000126000000","クィ",null,26,"126"]
["000026001246000000","クェ",null,26,"1246"]
["000026000246000000","クォ",null,26,"246"]
["000026000135000000","ツァ",null,26,"135"]
["000026001235000000","ツィ",null,26,"1235"]
[{"$f":"TEXT(D133,\"000000\")&TEXT(E133,\"000000\")&TEXT(F133,\"000000\")","v":"000026001345000000"},"トゥ",null,26,1345]
["000026012345000000","ツェ",null,26,"12345"]
["000026002345000000","ツォ",null,26,"2345"]
["000026000136000000","ファ",null,26,"136"]
["000026001236000000","フィ",null,26,"1236"]
["000026012346000000","フェ",null,26,"12346"]
["000026002346000000","フォ",null,26,"2346"]
["000256001345000000","ドゥ",null,256,1345]
["000256000136000000","ヴァ",null,256,"136"]
["000256001236000000","ヴィ",null,256,"1236"]
["000256012346000000","ヴェ",null,256,"12346"]
["000256002346000000","ヴォ",null,256,"2346"]
["000456001345000000","デュ",null,456,1345]
["000456000346000000","ヴュ",null,456,346]
["003456000001000000","１",null,3456,"1"]
["003456000012000000","２",null,3456,"12"]
["003456000014000000","３",null,3456,"14"]
["003456000124000000","６",null,3456,124]
["003456000024000000","９",null,3456,"24"]
["003456000015000000","５",null,3456,15]
["003456000125000000","８",null,3456,125]
["003456000145000000","４",null,3456,145]
["003456001245000000","７",null,3456,1245]
["003456000245000000","０",null,3456,245]
["003456000003000000","，",null,3456,3]
["003456000002000000","．",null,3456,2]
["000056000001000000","ａ",null,56,"1"]
["000056000012000000","ｂ",null,56,"12"]
["000056000014000000","ｃ",null,56,"14"]
["000056000124000000","ｆ",null,56,"124"]
["000056000024000000","ｉ",null,56,"24"]
["000056002456000000","ｗ",null,56,"2456"]
["000056000135000000","ｏ",null,56,"135"]
["000056001235000000","ｒ",null,56,"1235"]
["000056001345000000","ｎ",null,56,"1345"]
["000056012345000000","ｑ",null,56,"12345"]
["000056002345000000","ｔ",null,56,"2345"]
["000056000013000000","ｋ",null,56,"13"]
["000056000123000000","ｌ",null,56,"123"]
["000056000134000000","ｍ",null,56,"134"]
["000056001234000000","ｐ",null,56,"1234"]
["000056000234000000","ｓ",null,56,"234"]
["000056000136000000","ｕ",null,56,"136"]
["000056001236000000","ｖ",null,56,"1236"]
["000056001346000000","ｘ",null,56,"1346"]
["000056001356000000","ｚ",null,56,"1356"]
["000056013456000000","ｙ",null,56,"13456"]
["000056000015000000","ｅ",null,56,15]
["000056000125000000","ｈ",null,56,"125"]
["000056000145000000","ｄ",null,56,"145"]
["000056001245000000","ｇ",null,56,"1245"]
["000056000245000000","ｊ",null,56,"245"]
["000056000006000001","Ａ","Ａ",56,6,"1"]
["000056000006000012","Ｂ","Ｂ",56,6,"12"]
["000056000006000014","Ｃ","Ｃ",56,6,"14"]
["000056000006000124","Ｆ","Ｆ",56,6,"124"]
["000056000006000024","Ｉ","Ｉ",56,6,"24"]
["000056000006002456","Ｗ","Ｗ",56,6,"2456"]
["000056000006000135","Ｏ","Ｏ",56,6,"135"]
["000056000006001235","Ｒ","Ｒ",56,6,"1235"]
["000056000006001345","Ｎ","Ｎ",56,6,"1345"]
["000056000006012345","Ｑ","Ｑ",56,6,"12345"]
["000056000006002345","Ｔ","Ｔ",56,6,"2345"]
["000056000006000013","Ｋ","Ｋ",56,6,"13"]
[{"$f":"TEXT(D197,\"000000\")&TEXT(E197,\"000000\")&TEXT(F197,\"000000\")","v":"000056000006000123"},"Ｌ","Ｌ",56,6,"123"]
["000056000006000134","Ｍ","Ｍ",56,6,"134"]
["000056000006001234","Ｐ","Ｐ",56,6,"1234"]
["000056000006000234","Ｓ","Ｓ",56,6,"234"]
["000056000006000136","Ｕ","Ｕ",56,6,"136"]
["000056000006001236","Ｖ","Ｖ",56,6,"1236"]
["000056000006001346","Ｘ","Ｘ",56,6,"1346"]
["000056000006001356","Ｚ","Ｚ",56,6,"1356"]
["000056000006013456","Ｙ","Ｙ",56,6,"13456"]
["000056000006000015","Ｅ","Ｅ",56,6,15]
["000056000006000125","Ｈ","Ｈ",56,6,"125"]
["000056000006000145","Ｄ","Ｄ",56,6,"145"]
["000056000006001245","Ｇ","Ｇ",56,6,"1245"]
["000056000006000245","Ｊ","Ｊ",56,6,"245"]