{"text_format":"1","workbook":"xlsx","n_sheets":5,"sheets":["GAME","補助","初期配置","Sheet4","勝ちパターン"],"not_rendered":{"charts":0,"images":0,"macros":1,"external_links":0,"defined_names":11,"comments":0,"pivot_tables":0},"unopened":[],"bounds":{"document_bytes":16777216,"sheet_cells":100000,"rows_first":2000,"rows_last":500,"rows_between":2000,"halvings":0,"cell_chars":16384,"cell_head_chars":4096},"cells_cut":0,"cells_raw":0,"read":"whole","date_system":"1900"}

{"sheet":"GAME","index":0,"n_rows":13,"n_cols":17,"rows_kept":13,"cut":false,"hidden":false,"merged":[[12,15,12,18],[13,5,13,7],[12,5,12,7],[12,9,12,12],[4,10,4,19],[9,16,10,17],[1,5,1,7],[9,9,10,9],[9,10,10,11],[9,15,10,15],[9,13,10,14],[1,14,1,18]]}
[]
[null,null,null,null,null,"【TIT_三目並べ】",null,null,null,null,null,null,null,null,{"$f":"TODAY()","v":"2017-05-14"}]
[]
[]
[]
[]
[]
[null,null,null,null,null,"あなた","（黒番）","の手番です。",null,"※最初はあなたが黒番です。"]
[]
[null,null,null,null,null,"あなた","私（ＰＣ）","引分け",null,1,"戦目",null,null,"残り",null,10,"戦です。"]
[null,null,null,null,null,0,0,0]
[]
[null,null,null,null,null,"株式会社つくばＩＴパートナー",null,null,null,"再開始処理",null,null,null,null,null,"終了"]

{"sheet":"補助","index":1,"n_rows":401,"n_cols":97,"rows_kept":401,"cut":false,"hidden":true,"merged":[[33,53,33,54],[42,4,42,5],[33,4,33,5],[37,4,37,5],[39,4,39,5],[38,18,38,20],[39,18,39,20],[40,18,40,20],[41,18,41,20],[42,18,42,20],[34,18,34,20],[35,18,35,20],[36,18,36,20],[37,18,37,20],[34,35,34,37],[35,35,35,37],[36,35,36,37],[37,35,37,37],[38,35,38,37],[39,35,39,37],[40,35,40,37],[41,35,41,37],[42,35,42,37],[36,53,36,54],[22,29,22,31],[21,29,21,31],[2,19,2,20],[2,21,2,22],[12,28,12,30],[12,31,12,33],[13,5,13,6],[13,8,13,10],[14,5,14,6],[2,28,2,30],[2,31,2,33],[3,10,3,12],[3,13,3,16],[12,5,12,6],[12,8,12,10],[2,7,2,9],[2,10,2,16],[2,17,3,17],[2,18,3,18],[2,1,3,6],[18,4,18,8],[19,4,19,8],[20,4,20,8],[16,32,16,33],[18,1,21,1],[17,1,17,3],[18,2,18,3],[19,2,19,3],[20,2,20,3],[21,2,21,3],[21,4,21,8],[18,29,18,31],[19,29,19,31],[20,29,20,31],[23,29,23,31],[31,7,31,8],[32,7,32,8],[27,2,27,3],[28,2,28,3],[24,1,24,3],[25,1,28,1],[25,2,25,3],[26,2,26,3],[27,4,27,8],[28,4,28,8],[25,4,25,8],[26,4,26,8],[32,18,32,20],[31,18,31,20],[32,4,32,5],[31,4,31,5],[24,29,24,31],[32,23,32,24],[32,25,32,26],[31,21,31,26],[31,27,31,28],[32,27,32,28],[48,18,48,20],[49,18,49,20],[50,18,50,20],[51,18,51,20],[52,18,52,20],[43,18,43,20],[44,18,44,20],[45,18,45,20],[46,18,46,20],[47,18,47,20],[59,18,59,20],[60,18,60,20],[61,18,61,20],[62,18,62,20],[53,18,53,20],[54,18,54,20],[55,18,55,20],[56,18,56,20],[57,18,57,20],[43,35,43,37],[44,35,44,37],[45,35,45,37],[93,18,93,20],[94,18,94,20],[95,18,95,20],[96,18,96,20],[97,18,97,20],[88,18,88,20],[89,18,89,20],[90,18,90,20],[91,18,91,20],[92,18,92,20],[83,18,83,20],[84,18,84,20],[85,18,85,20],[86,18,86,20],[87,18,87,20],[78,18,78,20],[79,18,79,20],[80,18,80,20],[81,18,81,20],[82,18,82,20],[73,18,73,20],[46,35,46,37],[47,35,47,37],[48,35,48,37],[49,35,49,37],[50,35,50,37],[98,18,98,20],[99,18,99,20],[100,18,100,20],[101,18,101,20],[74,18,74,20],[75,18,75,20],[76,18,76,20],[77,18,77,20],[68,18,68,20],[69,18,69,20],[70,18,70,20],[71,18,71,20],[72,18,72,20],[63,18,63,20],[64,18,64,20],[65,18,65,20],[66,18,66,20],[67,18,67,20],[58,18,58,20],[64,35,64,37],[65,35,65,37],[56,35,56,37],[57,35,57,37],[58,35,58,37],[59,35,59,37],[60,35,60,37],[51,35,51,37],[52,35,52,37],[53,35,53,37],[54,35,54,37],[55,35,55,37],[14,8,14,10],[12,11,14,12],[22,49,22,52],[81,35,81,37],[82,35,82,37],[83,35,83,37],[76,35,76,37],[77,35,77,37],[78,35,78,37],[79,35,79,37],[80,35,80,37],[71,35,71,37],[72,35,72,37],[73,35,73,37],[74,35,74,37],[75,35,75,37],[66,35,66,37],[67,35,67,37],[68,35,68,37],[69,35,69,37],[70,35,70,37],[61,35,61,37],[62,35,62,37],[63,35,63,37]]}
[null,null,null,null,null,null,null,null,null,null,null,null,null,null,null,null,null,null,null,null,null,null,null,null,null,null,null,null,null,null,null,null,null,null,null,null,null,null,null,null,null,null,null,"黒必勝",null,null,null,null,null,null,null,null,null,null,null,null,null,null,null,null,null,null,null,null,null,"黒勝ちテーブル",null,null,null,null,null,null,null,null,null,null,null,null,null,null,null,null,"白勝ちテーブル"]
[null,null,null,null,null,null,null,null,null,null,null,null,null,null,null,null,null,null,null,null,null,null,null,null,null,null,null,null,null,null,null,null,null,null,null,null,null,null,null,null,null,null,null,"黒","白",null,null,"A1",1,2,3,4,5,6,7,8,9,null,null,1,2,{"$f":"BH2&BI2","v":"12"},"A1",null,{"$f":"IF($S$33=MID(CA2,1,$S$32),BM1+1,BM1)","v":1},"A1",null,1,2,4,null,null,null,null,null,null,null,null,"124",{"$f":"LEN(CA2)","v":3},null,{"$f":"IF($S$33=MID(CR2,1,$S$32),BM1+1,BM1)","v":1},"A1","白",1,9,2,null,null,null,null,null,null,null,null,"192",{"$f":"LEN(CR2)","v":3}]
[null,null,null,null,null,null,null,null,null,null,"空位置",null,null,null,null,null,null,"黒3","白3","黒2",null,"白2",null,null,null,null,null,null,"黒2",null,null,"白2",null,null,null,null,null,null,null,null,null,null,null,1,2,null,null,"A2",7,4,1,8,5,2,9,6,3,null,null,{"$f":"BH2","v":1},{"$f":"BI2+1","v":3},{"$f":"BH3&BI3","v":"13"},"A1",null,2,"A1",null,1,2,5,null,null,null,null,null,null,null,null,"125",3,null,{"$f":"IF($S$33=MID(CR3,1,$S$32),CD2+1,CD2)","v":2},"B1","白",1,9,2,"","","","","","","","","192",3]
[null,null,null,null,null,null,null,null,null,null,"盤面",null,null,"空前詰",null,null,null,null,null,1,2,1,2,null,null,null,null,1,{"$f":"IF(AE4=2,1,0)","v":0},{"$f":"IF(AE4=1,1,0)","v":0},{"$f":"COUNTIF($T$5:$U$12,AI4)","v":0},{"$f":"IF(AH4=2,1,0)","v":0},{"$f":"IF(AH4=1,1,0)","v":0},{"$f":"COUNTIF($V$5:$W$12,AI4)","v":0},1,null,null,null,null,null,null,null,null,1,3,null,null,"A3",9,8,7,6,5,4,3,2,1,null,null,{"$f":"BH3","v":1},{"$f":"BI3+1","v":4},"14","B1",null,3,"A1",null,1,2,7,null,null,null,null,null,null,null,null,"127",3,null,3,"A1","白",1,9,4,null,null,null,null,null,null,null,null,"194",3]
[null,1,2,3,{"$f":"IF(GAME!F4=\"\",\"\",GAME!F4)","v":""},{"$f":"IF(GAME!G4=\"\",\"\",GAME!G4)","v":""},{"$f":"IF(GAME!H4=\"\",\"\",GAME!H4)","v":""},{"$f":"COUNTIF(E5:G5,\"●\")","v":0},{"$f":"COUNTIF(E5:G5,\"○\")","v":0},{"$f":"COUNTIF(E5:G5,\"\")","v":3},{"$f":"IF(E5=\"\",B5,\"\")","v":1},2,3,{"$f":"K5&L5&M5","v":"123"},{"$f":"IF(LEN($N5)>0,MID($N5,1,1),\"\")","v":"1"},{"$f":"IF(LEN($N5)>1,MID($N5,2,1),\"\")","v":"2"},{"$f":"IF(LEN($N5)>2,MID($N5,3,1),\"\")","v":"3"},{"$f":"IF(AND(H5=2,O5<>\"\"),O5,\"\")","v":""},{"$f":"IF(AND(I5=2,O5<>\"\"),O5,\"\")","v":""},{"$f":"IF(AND(H5=1,J5=2),O5,\"\")","v":""},{"$f":"IF(AND(H5=1,J5=2),P5,\"\")","v":""},{"$f":"IF(AND(I5=1,J5=2),O5,\"\")","v":""},{"$f":"IF(AND(I5=1,J5=2),P5,\"\")","v":""},null,null,null,null,2,{"$f":"IF(AE5=2,AC4+1,AC4)","v":0},{"$f":"IF(AE5=1,AD4+1,AD4)","v":0},0,{"$f":"IF(AH5=2,AF4+1,AF4)","v":0},{"$f":"IF(AH5=1,AG4+1,AG4)","v":0},0,2,null,null,null,null,null,null,null,null,1,4,null,null,"A4",3,6,9,2,5,8,1,4,7,null,null,1,5,"15","A1",null,4,"A1",null,1,3,4,null,null,null,null,null,null,null,null,"134",3,null,4,"B1","白",1,9,4,"","","","","","","","","194",3]
[null,4,5,6,{"$f":"IF(GAME!F5=\"\",\"\",GAME!F5)","v":""},{"$f":"IF(GAME!G5=\"\",\"\",GAME!G5)","v":""},{"$f":"IF(GAME!H5=\"\",\"\",GAME!H5)","v":""},{"$f":"COUNTIF(E6:G6,\"●\")","v":0},{"$f":"COUNTIF(E6:G6,\"○\")","v":0},{"$f":"COUNTIF(E6:G6,\"\")","v":3},4,5,6,"456","4","5","6","","","","","","",null,null,null,null,3,0,0,0,0,0,0,3,null,null,null,null,null,null,null,null,1,6,null,null,"B1",1,4,7,2,5,8,3,6,9,null,null,1,6,"16","A1",null,5,"A1",null,1,3,7,null,null,null,null,null,null,null,null,"137",3,null,5,"A4","白",3,7,2,"","","","","","","","","372",3]
[null,7,8,9,{"$f":"IF(GAME!F6=\"\",\"\",GAME!F6)","v":""},{"$f":"IF(GAME!G6=\"\",\"\",GAME!G6)","v":""},{"$f":"IF(GAME!H6=\"\",\"\",GAME!H6)","v":""},{"$f":"COUNTIF(E7:G7,\"●\")","v":0},{"$f":"COUNTIF(E7:G7,\"○\")","v":0},{"$f":"COUNTIF(E7:G7,\"\")","v":3},{"$f":"IF(E7=\"\",B7,\"\")","v":7},8,9,"789","7","8","9","","","","","","",null,null,null,null,4,0,0,0,0,0,0,4,null,null,null,null,null,null,null,null,1,7,null,null,"B2",3,2,1,6,5,4,9,8,7,null,null,1,7,"17","B1",null,6,"A1",null,1,3,9,null,null,null,null,null,null,null,null,"139",3,null,6,"B2","白",3,7,2,"","","","","","","","","372",3]
[null,1,4,7,{"$f":"IF(GAME!F4=\"\",\"\",GAME!F4)","v":""},{"$f":"IF(GAME!F5=\"\",\"\",GAME!F5)","v":""},{"$f":"IF(GAME!F6=\"\",\"\",GAME!F6)","v":""},0,0,3,1,4,7,"147","1","4","7","","","","","","",null,null,null,null,5,0,0,0,0,0,0,5,null,null,null,null,null,null,null,null,1,8,null,null,"B3",9,6,3,8,5,2,7,4,1,null,null,1,8,"18","B1",null,7,"B1",null,1,4,2,"","","","","","","","","142",3,null,7,"A4","白",3,7,6,"","","","","","","","","376",3]
[null,2,5,8,{"$f":"IF(GAME!G4=\"\",\"\",GAME!G4)","v":""},{"$f":"IF(GAME!G5=\"\",\"\",GAME!G5)","v":""},{"$f":"IF(GAME!G6=\"\",\"\",GAME!G6)","v":""},0,0,3,2,5,8,"258","2","5","8","","","","","","",null,null,null,null,6,0,0,0,0,0,0,6,null,null,null,null,null,null,null,null,1,9,null,null,"B4",7,8,9,4,5,6,1,2,3,null,null,1,9,"19","A1",null,8,"B1",null,1,4,3,"","","","","","","","","143",3,null,8,"B2","白",3,7,6,"","","","","","","","","376",3]
[null,3,6,9,{"$f":"IF(GAME!H4=\"\",\"\",GAME!H4)","v":""},{"$f":"IF(GAME!H5=\"\",\"\",GAME!H5)","v":""},{"$f":"IF(GAME!H6=\"\",\"\",GAME!H6)","v":""},0,0,3,3,6,9,"369","3","6","9","","","","","","",null,null,null,null,7,0,0,0,0,0,0,7,null,null,null,null,null,null,null,null,2,4,null,null,null,null,null,null,null,null,null,null,null,null,null,null,2,1,"21","A1",null,9,"B1",null,1,4,5,"","","","","","","","","145",3,null,9,"A2","白",7,3,4,"","","","","","","","","734",3]
[null,1,5,9,{"$f":"IF(GAME!F4=\"\",\"\",GAME!F4)","v":""},{"$f":"IF(GAME!G5=\"\",\"\",GAME!G5)","v":""},{"$f":"IF(GAME!H6=\"\",\"\",GAME!H6)","v":""},0,0,3,1,5,9,"159","1","5","9","","","","","","",null,null,null,null,8,0,0,0,0,0,0,8,null,null,null,null,null,null,null,null,2,6,null,null,5,4,{"$f":"AV11&AW11","v":"54"},null,null,null,null,null,null,null,null,null,{"$f":"BH10","v":2},3,"23","B2",null,10,"A1",null,1,6,3,null,null,null,null,null,null,null,null,"163",3,null,10,"B4","白",7,3,4,"","","","","","","","","734",3]
[null,3,5,7,{"$f":"IF(GAME!H4=\"\",\"\",GAME!H4)","v":""},{"$f":"IF(GAME!G5=\"\",\"\",GAME!G5)","v":""},{"$f":"IF(GAME!F6=\"\",\"\",GAME!F6)","v":""},0,0,3,3,5,7,"357","3","5","7","","","","","","",null,null,null,null,9,0,0,0,0,0,0,9,null,null,null,null,null,null,null,null,2,7,null,null,{"$f":"VLOOKUP(AX11,BJ2:BK73,2,FALSE)","v":"A2"},{"$f":"VLOOKUP($AV12,$AV2:$BE9,AW2+1,FALSE)","v":7},{"$f":"VLOOKUP($AV12,$AV2:$BE9,AX2+1,FALSE)","v":4},1,8,5,2,9,6,3,null,null,{"$f":"BH11","v":2},{"$f":"BI11+1","v":4},"24","A1",null,11,"A1",null,1,6,5,null,null,null,null,null,null,null,null,"165",3,null,11,"A2","白",7,3,8,"","","","","","","","","738",3]
[null,null,null,null,null,"黒勝",null,{"$f":"IF(ISERROR(MATCH(3,H5:H12,0))=TRUE,\"\",MATCH(3,H5:H12,0))","v":""},{"$f":"IF(H13<>\"\",\"黒勝\",\"\")","v":""},null,null,{"$f":"IF(H13<>\"\",\"黒勝\",IF(H14<>\"\",\"白勝\",IF(H15=0,\"引分け\",\"\")))","v":""},null,null,null,null,null,null,null,null,null,null,null,null,null,null,null,null,{"$f":"9-COUNTIF(AE4:AE12,0)","v":0},null,null,{"$f":"9-COUNTIF(AB18:AG24,0)","v":6},null,null,"計",null,null,null,null,null,null,null,null,2,9,null,null,null,1,2,3,4,5,6,7,8,9,null,null,2,5,"25","A1",null,12,"A1",null,1,6,7,null,null,null,null,null,null,null,null,"167",3,null,12,"B4","白",7,3,8,"","","","","","","","","738",3]
[null,null,null,null,null,"白勝",null,{"$f":"IF(ISERROR(MATCH(3,I5:I12,0))=TRUE,\"\",MATCH(3,I5:I12,0))","v":""},{"$f":"IF(H14<>\"\",\"白勝\",\"\")","v":""},null,null,null,null,null,null,null,null,null,null,null,null,null,null,null,null,null,null,null,null,null,null,null,null,null,null,null,null,null,null,null,null,null,null,5,2,null,null,null,null,null,null,null,null,null,null,null,null,null,null,2,6,"26","B2",null,13,"B1",null,1,7,2,"","","","","","","","","172",3,null,13,"A3","白",9,1,6,"","","","","","","","","916",3]
[null,null,null,null,null,"空総数",null,{"$f":"COUNTIF(S18:AA18,\"\")","v":9},null,null,null,null,null,null,null,null,null,null,null,null,null,null,null,null,null,null,null,null,null,null,null,null,null,null,null,null,null,null,null,null,null,null,null,5,4,null,null,null,{"$f":"AW17&AW18","v":"46"},{"$f":"AX17&AX18","v":"47"},"48","56","57","58","66","67","68",null,null,2,7,"27","A1",null,14,"B1",null,1,7,3,"","","","","","","","","173",3,null,14,"B3","白",9,1,6,"","","","","","","","","916",3]
[null,null,null,null,null,null,null,null,null,null,null,null,null,null,null,null,null,null,null,null,null,null,null,null,null,null,null,null,null,null,null,null,null,null,null,null,null,null,null,null,null,null,null,5,6,null,null,null,1,2,3,4,5,6,7,8,9,null,null,2,8,"28","A1",null,15,"B1",null,1,7,9,"","","","","","","","","179",3,null,15,"A3","白",9,1,8,"","","","","","","","","918",3]
[null,null,null,null,null,null,null,null,null,1,2,3,4,5,6,7,8,9,1,2,3,4,5,6,7,8,9,null,null,null,null,null,"次手判定",null,null,null,null,null,null,null,null,null,null,5,8,null,null,null,4,4,4,5,5,5,6,6,6,null,null,2,9,"29","B2",null,16,"B1",null,1,8,3,"","","","","","","","","183",3,null,16,"B3","白",9,1,8,"","","","","","","","","918",3]
[null,"盤面",null,null,null,null,null,null,null,null,null,null,null,null,null,null,null,null,{"$f":"IF(GAME!F$4=\"\",\"\",\"●\")","v":""},{"$f":"IF(GAME!G$4=\"\",\"\",\"●\")","v":""},{"$f":"IF(GAME!H$4=\"\",\"\",\"●\")","v":""},{"$f":"IF(GAME!F$5=\"\",\"\",\"●\")","v":""},{"$f":"IF(GAME!G$5=\"\",\"\",\"●\")","v":""},{"$f":"IF(GAME!H$5=\"\",\"\",\"●\")","v":""},{"$f":"IF(GAME!F$6=\"\",\"\",\"●\")","v":""},{"$f":"IF(GAME!G$6=\"\",\"\",\"●\")","v":""},{"$f":"IF(GAME!H$6=\"\",\"\",\"●\")","v":""},null,null,null,null,null,"黒","白",null,null,null,null,null,null,null,null,null,null,null,null,null,null,6,7,8,6,7,8,6,7,8,null,null,3,1,"31","B2",null,17,"B1",null,1,8,5,"","","","","","","","","185",3,null,17,"A1","白",1,3,2,6,null,null,null,null,null,null,null,"1326",4]
[null,"黒",3,null,{"$f":"R5&R6&R7&R8&R9&R10&R11&R12","v":""},null,null,null,null,{"$f":"IF(LEN(E19)>0,MID(E19,1,1),\"\")","v":""},{"$f":"IF(LEN(E19)>1,MID(E19,2,1),\"\")","v":""},null,null,null,null,null,null,null,{"$f":"IF(COUNTIF($J19:$R19,S$17)<>0,\"●\",\"\")","v":""},{"$f":"IF(COUNTIF($J19:$R19,T$17)<>0,\"●\",\"\")","v":""},"","","","","","","",{"$f":"9-COUNTIF(J19:R19,\"\")","v":0},null,"３完了",null,null,{"$f":"J19","v":""},{"$f":"J26","v":""},null,null,null,null,null,null,null,null,null,null,null,null,null,null,null,null,null,null,null,null,null,null,null,null,null,{"$f":"BH18","v":3},2,"32","B2",null,18,"B1",null,1,8,7,"","","","","","","","","187",3,null,18,"A1","白",1,3,2,9,null,null,null,null,null,null,null,"1329",4]
[null,null,22,null,{"$f":"J20&K20&L20&M20&N20&O20&P20&Q20&R20","v":""},null,null,null,null,{"$f":"IF(ISERROR(VLOOKUP($J17,AC$4:AI$12,7,FALSE))=TRUE,\"\",VLOOKUP($J17,AC$4:AI$12,7,FALSE))","v":""},{"$f":"IF(ISERROR(VLOOKUP($K17,AC$4:AI$12,7,FALSE))=TRUE,\"\",VLOOKUP($K17,AC$4:AI$12,7,FALSE))","v":""},{"$f":"IF(ISERROR(VLOOKUP($L17,AC$4:AI$12,7,FALSE))=TRUE,\"\",VLOOKUP($L17,AC$4:AI$12,7,FALSE))","v":""},{"$f":"IF(ISERROR(VLOOKUP($M17,AC$4:AI$12,7,FALSE))=TRUE,\"\",VLOOKUP($M17,AC$4:AI$12,7,FALSE))","v":""},null,null,null,null,null,{"$f":"IF(COUNTIF($J20:$R20,S$17)<>0,\"●\",\"\")","v":""},"","","","","","","","",{"$f":"9-COUNTIF(J20:R20,\"\")","v":0},null,"相手３防止",null,null,{"$f":"J26","v":""},{"$f":"J19","v":""},null,null,null,null,null,null,null,null,null,null,null,null,null,null,null,null,null,null,null,null,null,null,null,null,null,{"$f":"BH19","v":3},4,"34","B2",null,19,"A1",null,1,9,3,null,null,null,null,null,null,null,null,"193",3,null,19,"B1","白",1,7,4,8,"","","","","","","","1748",4]
[null,null,2,null,{"$f":"J21&K21&L21&M21&N21&O21&P21&Q21&R21","v":""},null,null,null,null,{"$f":"IF(ISERROR(VLOOKUP($J17,AD$4:AI$12,6,FALSE))=TRUE,\"\",VLOOKUP($J17,AD$4:AI$12,6,FALSE))","v":""},{"$f":"IF(ISERROR(VLOOKUP($K17,AD$4:AI$12,6,FALSE))=TRUE,\"\",VLOOKUP($K17,AD$4:AI$12,6,FALSE))","v":""},{"$f":"IF(ISERROR(VLOOKUP($L17,AD$4:AI$12,6,FALSE))=TRUE,\"\",VLOOKUP($L17,AD$4:AI$12,6,FALSE))","v":""},{"$f":"IF(ISERROR(VLOOKUP($M17,AD$4:AI$12,6,FALSE))=TRUE,\"\",VLOOKUP($M17,AD$4:AI$12,6,FALSE))","v":""},null,null,null,null,null,{"$f":"IF(COUNTIF($J21:$R21,S$17)<>0,\"●\",\"\")","v":""},"","","","","","","","",0,null,"22場所",null,null,{"$f":"J20","v":""},{"$f":"J27","v":""},null,null,null,null,null,null,null,null,null,null,null,null,null,null,null,null,null,null,null,null,null,null,null,null,null,3,{"$f":"BI20+1","v":5},"35","A2",null,20,"B1",null,1,9,3,"","","","","","","","","193",3,null,20,"B1","白",1,7,4,9,"","","","","","","","1749",4]
[null,null,1,null,{"$f":"S22&T22&U22&V22&W22&X22&Y22&Z22&AA22","v":"123456789"},null,null,null,null,{"$f":"IF(LEN($E22)>=J$17,MID($E22,J$17,1),\"\")","v":"1"},"2","3","4","5","6","7","8","9",{"$f":"IF(COUNTIF(S18:S21,\"●\")=0,S17,\"\")","v":1},{"$f":"IF(COUNTIF(T18:T21,\"●\")=0,T17,\"\")","v":2},3,4,5,6,7,8,9,{"$f":"9-COUNTIF(J22:R22,\"\")","v":9},null,"必勝手",null,null,{"$f":"W35","v":"1"},{"$f":"AN35","v":""},"パターン表より",null,null,null,null,null,null,null,null,null,null,null,null,null,null,null,null,null,null,null,null,null,null,null,null,3,{"$f":"BI21+1","v":6},"36","A2",null,21,"A1",null,1,9,7,null,null,null,null,null,null,null,null,"197",3,null,21,"B2","白",3,1,2,4,"","","","","","","","3124",4]
[null,null,null,null,null,null,null,null,null,null,null,null,null,null,null,null,null,null,null,null,null,null,null,null,null,null,null,null,null,"相手22場所",null,null,{"$f":"J27","v":""},{"$f":"J20","v":""},null,null,null,null,null,null,null,null,null,null,null,null,null,null,"黒","後手白",null,null,null,null,null,null,null,null,null,3,{"$f":"BI22+1","v":7},"37","A2",null,22,"B1",null,1,9,7,"","","","","","","","","197",3,null,22,"B2","白",3,1,2,7,"","","","","","","","3127",4]
[null,null,null,null,null,null,null,null,null,null,null,null,null,null,null,null,null,null,1,2,3,4,5,6,7,8,9,null,null,"2場所",null,null,{"$f":"IF(AB$21=0,\"\",HLOOKUP(RANDBETWEEN(1,AB$21),J$17:R$21,5,FALSE))","v":""},{"$f":"IF(AB$28=0,\"\",HLOOKUP(RANDBETWEEN(1,AB$28),J$17:R$28,12,FALSE))","v":""},null,null,null,null,null,null,null,null,null,null,null,null,null,null,1,5,null,null,null,5,null,null,null,null,null,3,{"$f":"BI23+1","v":8},"38","A2",null,23,"A1",null,2,4,5,null,null,null,null,null,null,null,null,"245",3,null,23,"A4","白",3,9,6,7,"","","","","","","","3967",4]
[null,"盤面",null,null,null,null,null,null,null,null,null,null,null,null,null,null,null,null,{"$f":"IF(GAME!F$4=\"\",\"\",\"○\")","v":""},{"$f":"IF(GAME!G$4=\"\",\"\",\"○\")","v":""},{"$f":"IF(GAME!H$4=\"\",\"\",\"○\")","v":""},{"$f":"IF(GAME!F$5=\"\",\"\",\"○\")","v":""},{"$f":"IF(GAME!G$5=\"\",\"\",\"○\")","v":""},{"$f":"IF(GAME!H$5=\"\",\"\",\"○\")","v":""},{"$f":"IF(GAME!F$6=\"\",\"\",\"○\")","v":""},{"$f":"IF(GAME!G$6=\"\",\"\",\"○\")","v":""},{"$f":"IF(GAME!H$6=\"\",\"\",\"○\")","v":""},null,null,"1場所",null,null,{"$f":"IF(AB$22=0,\"\",HLOOKUP(RANDBETWEEN(1,AB$22),J$17:R$22,6,FALSE))","v":"1"},{"$f":"IF(AB$29=0,\"\",HLOOKUP(RANDBETWEEN(1,AB$29),J$17:R$29,13,FALSE))","v":"8"},null,null,null,null,null,null,null,null,null,null,null,null,null,null,2,1,3,5,8,{"$f":"MID(AX25&AY25&AZ25&BA25,RANDBETWEEN(1,4),1)","v":"3"},null,null,null,null,null,3,{"$f":"BI24+1","v":9},"39","A2",null,24,"B2",null,2,4,5,"","","","","","","","","245",3,null,24,"A4","白",3,9,6,8,"","","","","","","","3968",4]
[null,"白",3,null,{"$f":"S5&S6&S7&S8&S9&S10&S11&S12","v":""},null,null,null,null,{"$f":"IF(LEN(E26)>0,MID(E26,1,1),\"\")","v":""},{"$f":"IF(LEN(E26)>1,MID(E26,2,1),\"\")","v":""},null,null,null,null,null,null,null,{"$f":"IF(COUNTIF($J26:$R26,S$24)<>0,\"○\",\"\")","v":""},{"$f":"IF(COUNTIF($J26:$R26,T$24)<>0,\"○\",\"\")","v":""},"","","","","","","",{"$f":"9-COUNTIF(J26:R26,\"\")","v":0},null,null,null,null,{"$f":"AG19&AG20&AG21&AG22&AG23&AG24&AG25","v":"11"},{"$f":"AH19&AH20&AH21&AH22&AH23&AH24&AH25","v":"8"},null,null,null,null,null,null,null,null,null,null,null,null,null,null,3,5,null,null,null,5,null,null,null,null,null,4,1,"41","B1",null,25,"A1",null,2,6,5,null,null,null,null,null,null,null,null,"265",3,null,25,"A2","白",7,1,4,2,"","","","","","","","7142",4]
[null,null,22,null,{"$f":"J27&K27&L27&M27&N27&O27&P27&Q27&R27","v":""},null,null,null,null,{"$f":"IF(ISERROR(VLOOKUP($J17,AF$4:AI$12,4,FALSE))=TRUE,\"\",VLOOKUP($J17,AF$4:AI$12,4,FALSE))","v":""},{"$f":"IF(ISERROR(VLOOKUP($K17,AF$4:AI$12,4,FALSE))=TRUE,\"\",VLOOKUP($K17,AF$4:AI$12,4,FALSE))","v":""},{"$f":"IF(ISERROR(VLOOKUP($L17,AF$4:AI$12,4,FALSE))=TRUE,\"\",VLOOKUP($L17,AF$4:AI$12,4,FALSE))","v":""},{"$f":"IF(ISERROR(VLOOKUP($M17,AF$4:AI$12,4,FALSE))=TRUE,\"\",VLOOKUP($M17,AF$4:AI$12,4,FALSE))","v":""},null,null,null,null,null,{"$f":"IF(COUNTIF($J27:$R27,S$24)<>0,\"○\",\"\")","v":""},"","","","","","","","",0,null,null,null,1,{"$f":"IF(LEN(AG$26)>0,MID(AG$26,1,1),\"\")","v":"1"},{"$f":"IF(LEN(AH$26)>0,MID(AH$26,1,1),\"\")","v":"8"},null,null,null,null,null,null,null,null,null,null,null,null,null,null,4,1,5,6,7,{"$f":"MID(AX27&AY27&AZ27&BA27,RANDBETWEEN(1,4),1)","v":"7"},null,null,null,null,null,{"$f":"BH26","v":4},{"$f":"BI26+1","v":2},"42","B1",null,26,"B2",null,2,6,5,"","","","","","","","","265",3,null,26,"A2","白",7,1,4,3,"","","","","","","","7143",4]
[null,null,2,null,{"$f":"J28&K28&L28&M28&N28&O28&P28&Q28&R28","v":""},null,null,null,null,{"$f":"IF(ISERROR(VLOOKUP($J17,AG$4:AI$12,3,FALSE))=TRUE,\"\",VLOOKUP($J17,AG$4:AI$12,3,FALSE))","v":""},{"$f":"IF(ISERROR(VLOOKUP($K17,AG$4:AI$12,3,FALSE))=TRUE,\"\",VLOOKUP($K17,AG$4:AI$12,3,FALSE))","v":""},{"$f":"IF(ISERROR(VLOOKUP($L17,AG$4:AI$12,3,FALSE))=TRUE,\"\",VLOOKUP($L17,AG$4:AI$12,3,FALSE))","v":""},{"$f":"IF(ISERROR(VLOOKUP($M17,AG$4:AI$12,3,FALSE))=TRUE,\"\",VLOOKUP($M17,AG$4:AI$12,3,FALSE))","v":""},null,null,null,null,null,{"$f":"IF(COUNTIF($J28:$R28,S$24)<>0,\"○\",\"\")","v":""},"","","","","","","","",0,null,null,null,2,{"$f":"IF(LEN(AG$26)>1,MID(AG$26,2,1),\"\")","v":"1"},{"$f":"IF(LEN(AH$26)>1,MID(AH$26,2,1),\"\")","v":""},null,null,null,null,null,null,null,null,null,null,null,null,null,null,5,1,3,7,9,"1",null,null,null,null,null,{"$f":"BH27","v":4},{"$f":"BI27+1","v":3},"43","B1",null,27,"A1",null,2,7,1,null,null,null,null,null,null,null,null,"271",3,null,27,"B4","白",7,9,8,3,"","","","","","","","7983",4]
[null,null,1,null,{"$f":"S29&T29&U29&V29&W29&X29&Y29&Z29&AA29","v":"123456789"},null,null,null,null,{"$f":"IF(LEN($E29)>=J$17,MID($E29,J$17,1),\"\")","v":"1"},"2","3","4","5","6","7","8","9",{"$f":"IF(COUNTIF(S24:S28,\"○\")=0,S24,\"\")","v":1},2,3,4,5,6,7,8,9,9,null,null,null,3,{"$f":"IF(LEN(AG$26)>2,MID(AG$26,3,1),\"\")","v":""},{"$f":"IF(LEN(AH$26)>2,MID(AH$26,3,1),\"\")","v":""},null,null,null,null,null,null,null,null,null,null,null,null,null,null,6,3,4,5,9,"5",null,null,null,null,null,4,5,"45","A4",null,28,"B2",null,2,7,1,"","","","","","","","","271",3,null,28,"B4","白",7,9,8,6,"","","","","","","","7986",4]
[null,null,null,null,null,null,null,null,null,null,null,null,null,null,null,null,null,null,null,null,null,null,null,null,null,null,null,null,null,null,null,4,{"$f":"IF(LEN(AG$26)>3,MID(AG$26,4,1),\"\")","v":""},null,null,null,null,null,null,null,null,null,null,null,null,null,null,null,7,5,null,null,null,5,null,null,null,null,null,4,6,"46","A4",null,29,"A1",null,2,9,3,null,null,null,null,null,null,null,null,"293",3,null,29,"B3","白",9,3,6,1,"","","","","","","","9361",4]
[null,null,null,null,null,null,null,null,null,"黒","白","黒","白","黒","白","黒","白","黒",null,null,null,null,null,null,null,null,null,null,null,null,null,5,{"$f":"IF(LEN(AG$26)>4,MID(AG$26,5,1),\"\")","v":""},{"$f":"IF(LEN(AH$26)>4,MID(AH$26,5,1),\"\")","v":""},null,null,null,null,null,null,null,null,null,null,null,null,null,null,8,2,5,7,9,"9",null,null,null,null,null,4,7,"47","A4",null,30,"B2",null,2,9,3,"","","","","","","","","293",3,null,30,"B3","白",9,3,6,2,"","","","","","","","9362",4]
[null,null,null,null,"初手",null,null,"順番",null,1,2,3,4,5,6,7,8,9,{"$f":"LEN(S33)","v":0},null,null,"次手番",null,null,null,null,null,"先番",null,null,null,6,{"$f":"IF(LEN(AG$26)>5,MID(AG$26,5,1),\"\")","v":""},{"$f":"IF(LEN(AH$26)>5,MID(AH$26,5,1),\"\")","v":""},null,null,null,null,null,null,null,null,null,null,null,null,null,null,9,5,null,null,null,5,null,null,null,null,null,4,8,"48","A4",null,31,"B2",null,3,1,6,"","","","","","","","","316",3,null,31,"A3","白",9,7,8,1,"","","","","","","","9781",4]
[null,null,null,null,{"$f":"RANDBETWEEN(1,9)","v":8},null,null,"場所",null,null,null,null,null,null,null,null,null,null,{"$f":"J33&K33&L33&M33&N33&O33&P33&Q33&R33","v":""},null,null,{"$f":"IF(MOD(W33,2)=0,\"白\",\"黒\")","v":"黒"},{"$f":"10-COUNTIF(J33:R33,\"\")","v":1},"手目",null,"あなた",null,{"$f":"IF(MOD(GAME!P10,2)=0,\"あなた\",\"私\")","v":"あなた"},null,null,null,null,null,null,null,null,null,null,null,null,null,null,null,null,null,null,null,null,null,null,null,null,null,null,null,null,null,null,null,4,9,"49","A4",null,32,"B2",null,3,1,7,"","","","","","","","","317",3,null,32,"A3","白",9,7,8,4,"","","","","","","","9784",4]
[null,null,null,null,7,null,null,null,null,null,null,null,null,null,null,null,null,null,null,null,null,null,null,null,null,null,null,null,null,null,null,null,null,null,null,null,null,null,null,null,null,null,null,null,null,null,null,null,1,null,null,null,null,{"$f":"VALUE(VLOOKUP(AW34,AW24:BB32,6,FALSE))","v":5},null,null,null,null,null,5,1,"51","A1",null,33,"B2",null,3,1,9,"","","","","","","","","319",3,null,33,"A1","白",1,6,4,7,2,null,null,null,null,null,null,"16472",{"$f":"LEN(CR34)","v":5}]
[null,null,null,null,{"$f":"HLOOKUP(E34,$AW$16:$BE$18,2,FALSE)","v":6},{"$f":"HLOOKUP(E34,$AW$16:$BE$18,3,FALSE)","v":6},null,{"$f":"H34+1","v":1},{"$f":"IF(ISERROR(VLOOKUP(H35,$BM$2:$BO$401,3,FALSE))=TRUE,\"\",VLOOKUP(H35,$BM$2:$BO$401,3,FALSE))","v":0},{"$f":"IF(J$32<=$V35,MID($S35,J$32,1),\"\")","v":"1"},{"$f":"IF(K$32<=$V35,MID($S35,K$32,1),\"\")","v":"2"},"4","","","","","","",{"$f":"IF(ISERROR(VLOOKUP(H35,$BM$2:$CA$401,15,FALSE))=TRUE,\"\",VLOOKUP(H35,$BM$2:$CA$401,15,FALSE))","v":"124"},null,null,{"$f":"LEN(S35)","v":3},{"$f":"IF(AND($V$33=\"黒\",V35>=$W$33),MID(S35,$W$33,1),\"\")","v":"1"},null,{"$f":"Y34+1","v":1},{"$f":"IF(ISERROR(VLOOKUP(Y35,$CD$2:$CS$401,3,FALSE))=TRUE,\"\",VLOOKUP(Y35,$CD$2:$CS$401,3,FALSE))","v":"白"},{"$f":"IF(J$32<=$AM35,MID($AJ35,J$32,1),\"\")","v":"1"},{"$f":"IF(K$32<=$AM35,MID($AJ35,K$32,1),\"\")","v":"9"},"2","","","","","","",{"$f":"IF(ISERROR(VLOOKUP(Y35,$CD$2:$CS$401,15,FALSE))=TRUE,\"\",VLOOKUP(Y35,$CD$2:$CS$401,15,FALSE))","v":"192"},null,null,{"$f":"LEN(AJ35)","v":3},{"$f":"IF(AND($V$33=\"白\",AM35>=$W$33),MID(AJ35,$W$33,1),\"\")","v":""},null,null,null,null,null,null,null,null,null,null,null,null,null,{"$f":"HLOOKUP(BB34,$AW$16:$BE$18,2,FALSE)","v":5},{"$f":"HLOOKUP(BB34,$AW$16:$BE$18,3,FALSE)","v":7},null,null,null,null,{"$f":"BH34","v":5},{"$f":"BI34+1","v":2},"52","A1",null,34,"B2",null,3,2,5,"","","","","","","","","325",3,null,{"$f":"IF($S$33=MID(CR35,1,$S$32),CD34+1,CD34)","v":34},"A1","白",1,6,4,7,5,null,null,null,null,null,null,"16475",5]
[null,null,null,null,null,null,null,{"$f":"H35+1","v":2},0,"1","2","5","","","","","","","125",null,null,{"$f":"LEN(S36)","v":3},{"$f":"IF(AND($V$33=\"黒\",V36>=$W$33),MID(S36,$W$33,1),\"\")","v":"1"},null,{"$f":"Y35+1","v":2},{"$f":"IF(ISERROR(VLOOKUP(Y36,$CD$2:$CS$401,3,FALSE))=TRUE,\"\",VLOOKUP(Y36,$CD$2:$CS$401,3,FALSE))","v":"白"},{"$f":"IF(J$32<=$AM36,MID($AJ36,J$32,1),\"\")","v":"1"},{"$f":"IF(K$32<=$AM36,MID($AJ36,K$32,1),\"\")","v":"9"},{"$f":"IF(L$32<=$AM36,MID($AJ36,L$32,1),\"\")","v":"2"},{"$f":"IF(M$32<=$AM36,MID($AJ36,M$32,1),\"\")","v":""},{"$f":"IF(N$32<=$AM36,MID($AJ36,N$32,1),\"\")","v":""},{"$f":"IF(O$32<=$AM36,MID($AJ36,O$32,1),\"\")","v":""},{"$f":"IF(P$32<=$AM36,MID($AJ36,P$32,1),\"\")","v":""},{"$f":"IF(Q$32<=$AM36,MID($AJ36,Q$32,1),\"\")","v":""},{"$f":"IF(R$32<=$AM36,MID($AJ36,R$32,1),\"\")","v":""},{"$f":"IF(ISERROR(VLOOKUP(Y36,$CD$2:$CS$401,15,FALSE))=TRUE,\"\",VLOOKUP(Y36,$CD$2:$CS$401,15,FALSE))","v":"192"},null,null,{"$f":"LEN(AJ36)","v":3},{"$f":"IF(AND($V$33=\"白\",AM36>=$W$33),MID(AJ36,$W$33,1),\"\")","v":""},null,null,null,null,null,null,null,null,null,null,null,null,null,null,null,null,null,null,null,{"$f":"BH35","v":5},{"$f":"BI35+1","v":3},"53","A2",null,35,"B2",null,3,2,6,"","","","","","","","","326",3,null,35,"A1","白",1,6,4,7,8,null,null,null,null,null,null,"16478",5]
[null,null,null,null,6,7,null,{"$f":"H36+1","v":3},0,"1","2","7","","","","","","","127",null,null,3,"1",null,3,"白","1","9","4","","","","","","","194",null,null,3,"",null,null,null,null,null,null,null,null,null,2,4,6,8,{"$f":"VALUE(MID(AX37&AY37&AZ37&BA37,RANDBETWEEN(1,4),1))","v":6},null,null,null,null,null,5,4,"54","A2",null,36,"B2",null,3,2,9,"","","","","","","","","329",3,null,36,"B1","白",1,8,2,3,4,"","","","","","","18234",5]
[null,null,null,null,{"$f":"HLOOKUP(E37&F37,AW15:BE16,2,FALSE)","v":8},null,null,4,0,"1","3","4","","","","","","","134",null,null,3,"1",null,4,"白","1","9","4","","","","","","","194",null,null,3,"",null,null,null,null,null,null,null,null,null,null,null,null,null,{"$f":"HLOOKUP(BB37,$AW$16:$BE$18,2,FALSE)","v":5},{"$f":"HLOOKUP(BB37,$AW$16:$BE$18,3,FALSE)","v":8},null,null,null,null,5,6,"56","A3",null,37,"B2",null,3,4,1,"","","","","","","","","341",3,null,37,"B1","白",1,8,2,3,5,"","","","","","","18235",5]
[null,null,null,null,null,null,null,5,0,"1","3","7","","","","","","","137",null,null,3,"1",null,5,"白","3","7","2","","","","","","","372",null,null,3,"",null,null,null,null,null,null,null,null,null,null,null,null,null,null,null,null,null,null,null,5,7,"57","A3",null,38,"B2",null,3,4,5,"","","","","","","","","345",3,null,38,"B1","白",1,8,2,3,6,"","","","","","","18236",5]
[null,null,null,"黒",{"$f":"VALUE(AG27)","v":1},null,null,6,0,"1","3","9","","","","","","","139",null,null,3,"1",null,6,"白","3","7","2","","","","","","","372",null,null,3,"",null,null,null,null,null,null,null,null,null,null,null,null,null,null,null,null,null,null,null,5,8,"58","A4",null,39,"B2",null,3,4,9,"","","","","","","","","349",3,null,39,"B2","白",3,4,6,9,2,"","","","","","","34692",5]
[null,null,null,null,{"$f":"HLOOKUP(E40,$AW$16:$BE$18,2,FALSE)","v":4},{"$f":"HLOOKUP(E40,$AW$16:$BE$18,3,FALSE)","v":6},null,7,0,"1","4","2","","","","","","","142",null,null,3,"1",null,7,"白","3","7","6","","","","","","","376",null,null,3,"",null,null,null,null,null,null,null,null,null,null,null,null,null,null,null,null,null,null,null,5,9,"59","A4",null,40,"A4",null,3,6,1,"","","","","","","","","361",3,null,40,"B2","白",3,4,6,9,5,"","","","","","","34695",5]
[null,null,null,null,null,null,null,8,0,"1","4","3","","","","","","","143",null,null,3,"1",null,8,"白","3","7","6","","","","","","","376",null,null,3,"",null,null,null,null,null,null,null,null,null,null,null,null,null,null,null,null,null,null,null,6,1,"61","A2",null,41,"A4",null,3,6,2,"","","","","","","","","362",3,null,41,"B2","白",3,4,6,9,8,"","","","","","","34698",5]
[null,null,null,"白",{"$f":"VALUE(AH27)","v":8},null,null,9,0,"1","4","5","","","","","","","145",null,null,3,"1",null,9,"白","7","3","4","","","","","","","734",null,null,3,"",null,null,null,null,null,null,null,null,null,null,null,null,null,null,null,null,null,null,null,{"$f":"BH42","v":6},{"$f":"BI42+1","v":2},"62","A2",null,42,"A4",null,3,6,5,"","","","","","","","","365",3,null,42,"A4","白",3,8,2,1,4,"","","","","","","38214",5]
[null,null,null,null,{"$f":"HLOOKUP(E43,$AW$16:$BE$18,2,FALSE)","v":6},{"$f":"HLOOKUP(E43,$AW$16:$BE$18,3,FALSE)","v":7},null,10,0,"1","6","3","","","","","","","163",null,null,3,"1",null,10,"白","7","3","4","","","","","","","734",null,null,3,"",null,null,null,null,null,null,null,null,null,null,null,null,null,null,null,null,null,null,null,{"$f":"BH43","v":6},{"$f":"BI43+1","v":3},"63","A2",null,43,"A4",null,3,7,1,"","","","","","","","","371",3,null,43,"A4","白",3,8,2,1,5,"","","","","","","38215",5]
[null,null,null,null,null,null,null,11,0,"1","6","5","","","","","","","165",null,null,3,"1",null,11,"白","7","3","8","","","","","","","738",null,null,3,"",null,null,null,null,null,null,null,null,null,null,null,null,null,null,null,null,null,null,null,6,4,"64","A2",null,44,"B2",null,3,7,1,"","","","","","","","","371",3,null,44,"A4","白",3,8,2,1,6,"","","","","","","38216",5]
[null,null,null,null,null,null,null,12,0,"1","6","7","","","","","","","167",null,null,3,"1",null,12,"白","7","3","8","","","","","","","738",null,null,3,"",null,null,null,null,null,null,null,null,null,null,null,null,null,null,null,null,null,null,null,6,5,"65","A2",null,45,"A4",null,3,7,9,"","","","","","","","","379",3,null,45,"A2","白",7,2,8,9,4,"","","","","","","72894",5]
[null,null,null,null,null,null,null,13,0,"1","7","2","","","","","","","172",null,null,3,"1",null,13,"白","9","1","6","","","","","","","916",null,null,3,"",null,null,null,null,null,null,null,null,null,null,null,null,null,null,null,null,null,null,null,6,7,"67","B3",null,46,"B2",null,3,7,9,"","","","","","","","","379",3,null,46,"A2","白",7,2,8,9,5,"","","","","","","72895",5]
[null,null,null,null,null,null,null,14,0,"1","7","3","","","","","","","173",null,null,3,"1",null,14,"白","9","1","6","","","","","","","916",null,null,3,"",null,null,null,null,null,null,null,null,null,null,null,null,null,null,null,null,null,null,null,6,8,"68","B3",null,47,"A4",null,3,8,1,"","","","","","","","","381",3,null,47,"A2","白",7,2,8,9,6,"","","","","","","72896",5]
[null,null,null,null,null,null,null,15,0,"1","7","9","","","","","","","179",null,null,3,"1",null,15,"白","9","1","8","","","","","","","918",null,null,3,"",null,null,null,null,null,null,null,null,null,null,null,null,null,null,null,null,null,null,null,6,9,"69","B3",null,48,"A4",null,3,8,5,"","","","","","","","","385",3,null,48,"B4","白",7,6,4,1,2,"","","","","","","76412",5]
[null,null,null,null,null,null,null,16,0,"1","8","3","","","","","","","183",null,null,3,"1",null,16,"白","9","1","8","","","","","","","918",null,null,3,"",null,null,null,null,null,null,null,null,null,null,null,null,null,null,null,null,null,null,null,7,1,"71","A4",null,49,"A4",null,3,8,9,"","","","","","","","","389",3,null,49,"B4","白",7,6,4,1,5,"","","","","","","76415",5]
[null,null,null,null,null,null,null,17,0,"1",{"$f":"IF(K$32<=$V51,MID($S51,K$32,1),\"\")","v":"8"},"5","","","","","","","185",null,null,3,"1",null,17,"白","1","3","2","6","","","","","","1326",null,null,4,"",null,null,null,null,null,null,null,null,null,null,null,null,null,null,null,null,null,null,null,{"$f":"BH50","v":7},{"$f":"BI50+1","v":2},"72","A4",null,50,"A4",null,3,9,1,"","","","","","","","","391",3,null,50,"B4","白",7,6,4,1,8,"","","","","","","76418",5]
[null,null,null,null,null,null,null,18,0,{"$f":"IF(J$32<=$V52,MID($S52,J$32,1),\"\")","v":"1"},"8","7","","","","","","","187",null,null,3,"1",null,18,"白","1","3","2","9","","","","","","1329",null,null,4,"",null,null,null,null,null,null,null,null,null,null,null,null,null,null,null,null,null,null,null,{"$f":"BH51","v":7},{"$f":"BI51+1","v":3},"73","A4",null,51,"A4",null,3,9,2,"","","","","","","","","392",3,null,51,"B3","白",9,2,8,7,4,"","","","","","","92874",5]
[null,null,null,null,null,null,null,19,0,"1","9","3","","","","","","","193",null,null,3,"1",null,19,"白","1","7","4","8","","","","","","1748",null,null,4,"",null,null,null,null,null,null,null,null,null,null,null,null,null,null,null,null,null,null,null,7,4,"74","A4",null,52,"A4",null,3,9,7,"","","","","","","","","397",3,null,52,"B3","白",9,2,8,7,5,"","","","","","","92875",5]
[null,null,null,null,null,null,null,20,0,"1","9","3","","","","","","","193",null,null,3,"1",null,20,"白","1","7","4","9","","","","","","1749",null,null,4,"",null,null,null,null,null,null,null,null,null,null,null,null,null,null,null,null,null,null,null,7,5,"75","A4",null,53,"A2",null,4,2,5,"","","","","","","","","425",3,null,53,"B3","白",9,2,8,7,6,"","","","","","","92876",5]
[null,null,null,null,null,null,null,21,0,"1","9","7","","","","","","","197",null,null,3,"1",null,21,"白","3","1","2","4","","","","","","3124",null,null,4,"",null,null,null,null,null,null,null,null,null,null,null,null,null,null,null,null,null,null,null,7,6,"76","B4",null,54,"B1",null,4,2,5,"","","","","","","","","425",3,null,54,"A3","白",9,4,6,3,2,"","","","","","","94632",5]
[null,null,null,null,null,null,null,{"$f":"H55+1","v":22},0,"1","9","7","","","","","","","197",null,null,3,"1",null,22,"白","3","1","2","7","","","","","","3127",null,null,4,"",null,null,null,null,null,null,null,null,null,null,null,null,null,null,null,null,null,null,null,7,8,"78","B4",null,55,"A2",null,4,3,1,"","","","","","","","","431",3,null,55,"A3","白",9,4,6,3,5,"","","","","","","94635",5]
[null,null,null,null,null,null,null,{"$f":"H56+1","v":23},0,"2","4","5","","","","","","","245",null,null,3,"2",null,23,"白","3","9","6","7","","","","","","3967",null,null,4,"",null,null,null,null,null,null,null,null,null,null,null,null,null,null,null,null,null,null,null,7,9,"79","B4",null,56,"B1",null,4,3,1,"","","","","","","","","431",3,null,56,"A3","白",9,4,6,3,8,"","","","","","","94638",5]
[null,null,null,null,null,null,null,24,0,"2","4","5","","","","","","","245",null,null,3,"2",null,24,"白","3","9","6","8","","","","","","3968",null,null,4,"",null,null,null,null,null,null,null,null,null,null,null,null,null,null,null,null,null,null,null,8,1,"81","B4",null,57,"A2",null,4,8,5,"","","","","","","","","485",3,null,57,"A1","白",1,2,6,5,8,4,null,null,null,null,null,"126584",6]
[null,null,null,null,null,null,null,25,0,"2","6","5","","","","","","","265",null,null,3,"2",null,25,"白","7","1","4","2","","","","","","7142",null,null,4,"",null,null,null,null,null,null,null,null,null,null,null,null,null,null,null,null,null,null,null,{"$f":"BH58","v":8},{"$f":"BI58+1","v":2},"82","A3",null,58,"B1",null,4,8,5,"","","","","","","","","485",3,null,58,"B1","白",1,4,8,5,6,2,"","","","","","148562",6]
[null,null,null,null,null,null,null,26,0,"2","6","5","","","","","","","265",null,null,3,"2",null,26,"白","7","1","4","3","","","","","","7143",null,null,4,"",null,null,null,null,null,null,null,null,null,null,null,null,null,null,null,null,null,null,null,{"$f":"BH59","v":8},3,"83","A3",null,59,"A2",null,4,9,7,"","","","","","","","","497",3,null,59,"B2","白",3,2,4,5,8,6,"","","","","","324586",6]
[null,null,null,null,null,null,null,27,0,"2","7","1","","","","","","","271",null,null,3,"2",null,27,"白","7","9","8","3","","","","","","7983",null,null,4,"",null,null,null,null,null,null,null,null,null,null,null,null,null,null,null,null,null,null,null,8,4,"84","B4",null,60,"B1",null,4,9,7,"","","","","","","","","497",3,null,60,"A4","白",3,6,8,5,4,2,"","","","","","368542",6]
[null,null,null,null,null,null,null,28,0,"2","7","1","","","","","","","271",null,null,3,"2",null,28,"白","7","9","8","6","","","","","","7986",null,null,4,"",null,null,null,null,null,null,null,null,null,null,null,null,null,null,null,null,null,null,null,8,5,"85","A3",null,61,"A1",null,5,2,1,null,null,null,null,null,null,null,null,"521",3,null,61,"A2","白",7,4,2,5,6,8,"","","","","","742568",6]
[null,null,null,null,null,null,null,29,0,"2","9","3","","","","","","","293",null,null,3,"2",null,29,"白","9","3","6","1","","","","","","9361",null,null,4,"",null,null,null,null,null,null,null,null,null,null,null,null,null,null,null,null,null,null,null,8,6,"86","A3",null,62,"B2",null,5,2,1,"","","","","","","","","521",3,null,62,"B4","白",7,8,6,5,2,4,"","","","","","786524",6]
[null,null,null,null,null,null,null,30,0,"2","9","3","","","","","","","293",null,null,3,"2",null,30,"白","9","3","6","2","","","","","","9362",null,null,4,"",null,null,null,null,null,null,null,null,null,null,null,null,null,null,null,null,null,null,null,8,7,"87","B4",null,63,"A1",null,5,2,3,null,null,null,null,null,null,null,null,"523",3,null,63,"B3","白",9,6,2,5,4,8,"","","","","","962548",6]
[null,null,null,null,null,null,null,31,0,"3","1","6","","","","","","","316",null,null,3,"3",null,31,"白","9","7","8","1","","","","","","9781",null,null,4,"",null,null,null,null,null,null,null,null,null,null,null,null,null,null,null,null,null,null,null,8,9,"89","A3",null,64,"B2",null,5,2,3,"","","","","","","","","523",3,null,64,"A3","白",9,8,4,5,2,6,"","","","","","984526",6]
[null,null,null,null,null,null,null,32,0,"3","1","7","","","","","","","317",null,null,3,"3",null,32,"白","9","7","8","4","","","","","","9784",null,null,4,"",null,null,null,null,null,null,null,null,null,null,null,null,null,null,null,null,null,null,null,9,1,"91","A3",null,{"$f":"IF($S$33=MID(CA66,1,$S$32),BM65+1,BM65)","v":65},"A1",null,5,2,7,null,null,null,null,null,null,null,null,"527",{"$f":"LEN(CA66)","v":3}]
[null,null,null,null,null,null,null,33,{"$f":"IF(ISERROR(VLOOKUP(H67,$BM$2:$BO$401,3,FALSE))=TRUE,\"\",VLOOKUP(H67,$BM$2:$BO$401,3,FALSE))","v":0},"3","1","9","","","","","","",{"$f":"IF(ISERROR(VLOOKUP(H67,$BM$2:$CA$401,15,FALSE))=TRUE,\"\",VLOOKUP(H67,$BM$2:$CA$401,15,FALSE))","v":"319"},null,null,3,"3",null,33,"白","1","6","4","7","2","","","","","16472",null,null,5,"",null,null,null,null,null,null,null,null,null,null,null,null,null,null,null,null,null,null,null,{"$f":"BH66","v":9},{"$f":"BI66+1","v":2},{"$f":"BH67&BI67","v":"92"},"B3",null,66,"B2",null,5,2,7,"","","","","","","","","527",3]
[null,null,null,null,null,null,null,34,0,"3","2","5","","","","","","","325",null,null,3,"3",null,34,"白","1","6","4","7","5","","","","","16475",null,null,5,"",null,null,null,null,null,null,null,null,null,null,null,null,null,null,null,null,null,null,null,{"$f":"BH67","v":9},{"$f":"BI67+1","v":3},"93","B3",null,67,"A1",null,5,2,9,null,null,null,null,null,null,null,null,"529",3]
[null,null,null,null,null,null,null,35,0,"3","2","6","","","","","","","326",null,null,3,"3",null,35,"白","1","6","4","7","8","","","","","16478",null,null,5,"",null,null,null,null,null,null,null,null,null,null,null,null,null,null,null,null,null,null,null,9,4,"94","A3",null,68,"B2",null,5,2,9,"","","","","","","","","529",3]
[null,null,null,null,null,null,null,36,0,"3","2","9","","","","","","","329",null,null,3,"3",null,36,"白","1","8","2","3","4","","","","","18234",null,null,5,"",null,null,null,null,null,null,null,null,null,null,null,null,null,null,null,null,null,null,null,9,5,"95","A3",null,69,"A2",null,5,4,1,"","","","","","","","","541",3]
[null,null,null,null,null,null,null,37,0,"3","4","1","","","","","","","341",null,null,3,"3",null,37,"白","1","8","2","3","5","","","","","18235",null,null,5,"",null,null,null,null,null,null,null,null,null,null,null,null,null,null,null,null,null,null,null,9,6,"96","B3",null,70,"B1",null,5,4,1,"","","","","","","","","541",3]
[null,null,null,null,null,null,null,38,0,"3","4","5","","","","","","","345",null,null,3,"3",null,38,"白","1","8","2","3","6","","","","","18236",null,null,5,"",null,null,null,null,null,null,null,null,null,null,null,null,null,null,null,null,null,null,null,9,7,"97","A3",null,71,"A2",null,5,4,3,"","","","","","","","","543",3]
[null,null,null,null,null,null,null,39,0,"3","4","9","","","","","","","349",null,null,3,"3",null,39,"白","3","4","6","9","2","","","","","34692",null,null,5,"",null,null,null,null,null,null,null,null,null,null,null,null,null,null,null,null,null,null,null,9,8,"98","A3",null,72,"B1",null,5,4,3,"","","","","","","","","543",3]
[null,null,null,null,null,null,null,40,0,"3","6","1","","","","","","","361",null,null,3,"3",null,40,"白","3","4","6","9","5","","","","","34695",null,null,5,"",null,null,null,null,null,null,null,null,null,null,null,null,null,null,null,null,null,null,null,null,null,null,null,null,73,"A2",null,5,4,7,"","","","","","","","","547",3]
[null,null,null,null,null,null,null,41,0,"3","6","2","","","","","","","362",null,null,3,"3",null,41,"白","3","4","6","9","8","","","","","34698",null,null,5,"",null,null,null,null,null,null,null,null,null,null,null,null,null,null,null,null,null,null,null,null,null,null,null,null,74,"B1",null,5,4,7,"","","","","","","","","547",3]
[null,null,null,null,null,null,null,{"$f":"H75+1","v":42},0,"3","6","5","","","","","","","365",null,null,3,"3",null,42,"白","3","8","2","1","4","","","","","38214",null,null,5,"",null,null,null,null,null,null,null,null,null,null,null,null,null,null,null,null,null,null,null,null,null,null,null,null,75,"A2",null,5,4,9,"","","","","","","","","549",3]
[null,null,null,null,null,null,null,43,0,"3","7","1","","","","","","","371",null,null,3,"3",null,43,"白","3","8","2","1","5","","","","","38215",null,null,5,"",null,null,null,null,null,null,null,null,null,null,null,null,null,null,null,null,null,null,null,null,null,null,null,null,76,"B1",null,5,4,9,"","","","","","","","","549",3]
[null,null,null,null,null,null,null,44,0,"3","7","1","","","","","","","371",null,null,3,"3",null,44,"白","3","8","2","1","6","","","","","38216",null,null,5,"",null,null,null,null,null,null,null,null,null,null,null,null,null,null,null,null,null,null,null,null,null,null,null,null,77,"A4",null,5,6,1,"","","","","","","","","561",3]
[null,null,null,null,null,null,null,45,0,"3","7","9","","","","","","","379",null,null,3,"3",null,45,"白","7","2","8","9","4","","","","","72894",null,null,5,"",null,null,null,null,null,null,null,null,null,null,null,null,null,null,null,null,null,null,null,null,null,null,null,null,78,"B3",null,5,6,1,"","","","","","","","","561",3]
[null,null,null,null,null,null,null,46,0,"3","7","9",{"$f":"IF(M$32<=$V80,MID($S80,M$32,1),\"\")","v":""},"","","","","","379",null,null,3,"3",null,46,"白","7","2","8","9","5","","","","","72895",null,null,5,"",null,null,null,null,null,null,null,null,null,null,null,null,null,null,null,null,null,null,null,null,null,null,null,null,79,"A4",null,5,6,3,"","","","","","","","","563",3]
[null,null,null,null,null,null,null,47,0,{"$f":"IF(J$32<=$V81,MID($S81,J$32,1),\"\")","v":"3"},"8","1","","","","","","","381",null,null,3,"3",null,47,"白","7","2","8","9","6","","","","","72896",null,null,5,"",null,null,null,null,null,null,null,null,null,null,null,null,null,null,null,null,null,null,null,null,null,null,null,null,80,"B3",null,5,6,3,"","","","","","","","","563",3]
[null,null,null,null,null,null,null,48,0,{"$f":"IF(J$32<=$V82,MID($S82,J$32,1),\"\")","v":"3"},"8","5","","","","","","","385",null,null,3,"3",null,48,"白","7","6","4","1","2","","","","","76412",null,null,5,"",null,null,null,null,null,null,null,null,null,null,null,null,null,null,null,null,null,null,null,null,null,null,null,null,81,"A4",null,5,6,7,"","","","","","","","","567",3]
[null,null,null,null,null,null,null,49,0,{"$f":"IF(J$32<=$V83,MID($S83,J$32,1),\"\")","v":"3"},"8","9","","","","","","","389",null,null,3,"3",null,49,"白","7","6","4","1","5","","","","","76415",null,null,5,"",null,null,null,null,null,null,null,null,null,null,null,null,null,null,null,null,null,null,null,null,null,null,null,null,82,"B3",null,5,6,7,"","","","","","","","","567",3]
[null,null,null,null,null,null,null,50,0,{"$f":"IF(J$32<=$V84,MID($S84,J$32,1),\"\")","v":"3"},"9","1","","","","","","","391",null,null,3,"3",null,50,"白","7","6","4","1","8","","","","","76418",null,null,5,"",null,null,null,null,null,null,null,null,null,null,null,null,null,null,null,null,null,null,null,null,null,null,null,null,83,"A4",null,5,6,9,"","","","","","","","","569",3]
[null,null,null,null,null,null,null,null,null,null,null,null,null,null,null,null,null,null,null,null,null,null,null,null,null,null,null,null,null,null,null,null,null,null,null,null,null,null,null,null,null,null,null,null,null,null,null,null,null,null,null,null,null,null,null,null,null,null,null,null,null,null,null,null,84,"B3",null,5,6,9,"","","","","","","","","569",3]
[null,null,null,null,null,null,null,null,null,null,null,null,null,null,null,null,null,null,null,null,null,null,null,null,null,null,null,null,null,null,null,null,null,null,null,null,null,null,null,null,null,null,null,null,null,null,null,null,null,null,null,null,null,null,null,null,null,null,null,null,null,null,null,null,85,"A3",null,5,8,1,"","","","","","","","","581",3]
[null,null,null,null,null,null,null,null,null,null,null,null,null,null,null,null,null,null,null,null,null,null,null,null,null,null,null,null,null,null,null,null,null,null,null,null,null,null,null,null,null,null,null,null,null,null,null,null,null,null,null,null,null,null,null,null,null,null,null,null,null,null,null,null,86,"B4",null,5,8,1,"","","","","","","","","581",3]
[null,null,null,null,null,null,null,null,null,null,null,null,null,null,null,null,null,null,null,null,null,null,null,null,null,null,null,null,null,null,null,null,null,null,null,null,null,null,null,null,null,null,null,null,null,null,null,null,null,null,null,null,null,null,null,null,null,null,null,null,null,null,null,null,87,"A3",null,5,8,3,"","","","","","","","","583",3]
[null,null,null,null,null,null,null,null,null,null,null,null,null,null,null,null,null,null,null,null,null,null,null,null,null,null,null,null,null,null,null,null,null,null,null,null,null,null,null,null,null,null,null,null,null,null,null,null,null,null,null,null,null,null,null,null,null,null,null,null,null,null,null,null,88,"B4",null,5,8,3,"","","","","","","","","583",3]
[null,null,null,null,null,null,null,null,null,null,null,null,null,null,null,null,null,null,null,null,null,null,null,null,null,null,null,null,null,null,null,null,null,null,null,null,null,null,null,null,null,null,null,null,null,null,null,null,null,null,null,null,null,null,null,null,null,null,null,null,null,null,null,null,89,"A3",null,5,8,7,"","","","","","","","","587",3]
[null,null,null,null,null,null,null,null,null,null,null,null,null,null,null,null,null,null,null,null,null,null,null,null,null,null,null,null,null,null,null,null,null,null,null,null,null,null,null,null,null,null,null,null,null,null,null,null,null,null,null,null,null,null,null,null,null,null,null,null,null,null,null,null,90,"B4",null,5,8,7,"","","","","","","","","587",3]
[null,null,null,null,null,null,null,null,null,null,null,null,null,null,null,null,null,null,null,null,null,null,null,null,null,null,null,null,null,null,null,null,null,null,null,null,null,null,null,null,null,null,null,null,null,null,null,null,null,null,null,null,null,null,null,null,null,null,null,null,null,null,null,null,91,"A3",null,5,8,9,"","","","","","","","","589",3]
[null,null,null,null,null,null,null,null,null,null,null,null,null,null,null,null,null,null,null,null,null,null,null,null,null,null,null,null,null,null,null,null,null,null,null,null,null,null,null,null,null,null,null,null,null,null,null,null,null,null,null,null,null,null,null,null,null,null,null,null,null,null,null,null,92,"B4",null,5,8,9,"","","","","","","","","589",3]
[null,null,null,null,null,null,null,null,null,null,null,null,null,null,null,null,null,null,null,null,null,null,null,null,null,null,null,null,null,null,null,null,null,null,null,null,null,null,null,null,null,null,null,null,null,null,null,null,null,null,null,null,null,null,null,null,null,null,null,null,null,null,null,null,93,"A4",null,6,1,3,"","","","","","","","","613",3]
[null,null,null,null,null,null,null,null,null,null,null,null,null,null,null,null,null,null,null,null,null,null,null,null,null,null,null,null,null,null,null,null,null,null,null,null,null,null,null,null,null,null,null,null,null,null,null,null,null,null,null,null,null,null,null,null,null,null,null,null,null,null,null,null,94,"B3",null,6,1,3,"","","","","","","","","613",3]
[null,null,null,null,null,null,null,null,null,null,null,null,null,null,null,null,null,null,null,null,null,null,null,null,null,null,null,null,null,null,null,null,null,null,null,null,null,null,null,null,null,null,null,null,null,null,null,null,null,null,null,null,null,null,null,null,null,null,null,null,null,null,null,null,95,"A4",null,6,2,5,"","","","","","","","","625",3]
[null,null,null,null,null,null,null,null,null,null,null,null,null,null,null,null,null,null,null,null,null,null,null,null,null,null,null,null,null,null,null,null,null,null,null,null,null,null,null,null,null,null,null,null,null,null,null,null,null,null,null,null,null,null,null,null,null,null,null,null,null,null,null,null,96,"B3",null,6,2,5,"","","","","","","","","625",3]
[null,null,null,null,null,null,null,null,null,null,null,null,null,null,null,null,null,null,null,null,null,null,null,null,null,null,null,null,null,null,null,null,null,null,null,null,null,null,null,null,null,null,null,null,null,null,null,null,null,null,null,null,null,null,null,null,null,null,null,null,null,null,null,null,97,"A4",null,6,7,9,"","","","","","","","","679",3]
[null,null,null,null,null,null,null,null,null,null,null,null,null,null,null,null,null,null,null,null,null,null,null,null,null,null,null,null,null,null,null,null,null,null,null,null,null,null,null,null,null,null,null,null,null,null,null,null,null,null,null,null,null,null,null,null,null,null,null,null,null,null,null,null,98,"B3",null,6,7,9,"","","","","","","","","679",3]
[null,null,null,null,null,null,null,null,null,null,null,null,null,null,null,null,null,null,null,null,null,null,null,null,null,null,null,null,null,null,null,null,null,null,null,null,null,null,null,null,null,null,null,null,null,null,null,null,null,null,null,null,null,null,null,null,null,null,null,null,null,null,null,null,99,"A4",null,6,8,5,"","","","","","","","","685",3]
[null,null,null,null,null,null,null,null,null,null,null,null,null,null,null,null,null,null,null,null,null,null,null,null,null,null,null,null,null,null,null,null,null,null,null,null,null,null,null,null,null,null,null,null,null,null,null,null,null,null,null,null,null,null,null,null,null,null,null,null,null,null,null,null,100,"B3",null,6,8,5,"","","","","","","","","685",3]
[null,null,null,null,null,null,null,null,null,null,null,null,null,null,null,null,null,null,null,null,null,null,null,null,null,null,null,null,null,null,null,null,null,null,null,null,null,null,null,null,null,null,null,null,null,null,null,null,null,null,null,null,null,null,null,null,null,null,null,null,null,null,null,null,101,"A2",null,7,1,3,"","","","","","","","","713",3]
[null,null,null,null,null,null,null,null,null,null,null,null,null,null,null,null,null,null,null,null,null,null,null,null,null,null,null,null,null,null,null,null,null,null,null,null,null,null,null,null,null,null,null,null,null,null,null,null,null,null,null,null,null,null,null,null,null,null,null,null,null,null,null,null,102,"A2",null,7,1,8,"","","","","","","","","718",3]
[null,null,null,null,null,null,null,null,null,null,null,null,null,null,null,null,null,null,null,null,null,null,null,null,null,null,null,null,null,null,null,null,null,null,null,null,null,null,null,null,null,null,null,null,null,null,null,null,null,null,null,null,null,null,null,null,null,null,null,null,null,null,null,null,103,"A2",null,7,1,9,"","","","","","","","","719",3]
[null,null,null,null,null,null,null,null,null,null,null,null,null,null,null,null,null,null,null,null,null,null,null,null,null,null,null,null,null,null,null,null,null,null,null,null,null,null,null,null,null,null,null,null,null,null,null,null,null,null,null,null,null,null,null,null,null,null,null,null,null,null,null,null,104,"A2",null,7,2,1,"","","","","","","","","721",3]
[null,null,null,null,null,null,null,null,null,null,null,null,null,null,null,null,null,null,null,null,null,null,null,null,null,null,null,null,null,null,null,null,null,null,null,null,null,null,null,null,null,null,null,null,null,null,null,null,null,null,null,null,null,null,null,null,null,null,null,null,null,null,null,null,105,"A2",null,7,2,5,"","","","","","","","","725",3]
[null,null,null,null,null,null,null,null,null,null,null,null,null,null,null,null,null,null,null,null,null,null,null,null,null,null,null,null,null,null,null,null,null,null,null,null,null,null,null,null,null,null,null,null,null,null,null,null,null,null,null,null,null,null,null,null,null,null,null,null,null,null,null,null,106,"A2",null,7,2,9,"","","","","","","","","729",3]
[null,null,null,null,null,null,null,null,null,null,null,null,null,null,null,null,null,null,null,null,null,null,null,null,null,null,null,null,null,null,null,null,null,null,null,null,null,null,null,null,null,null,null,null,null,null,null,null,null,null,null,null,null,null,null,null,null,null,null,null,null,null,null,null,107,"A2",null,7,3,1,"","","","","","","","","731",3]
[null,null,null,null,null,null,null,null,null,null,null,null,null,null,null,null,null,null,null,null,null,null,null,null,null,null,null,null,null,null,null,null,null,null,null,null,null,null,null,null,null,null,null,null,null,null,null,null,null,null,null,null,null,null,null,null,null,null,null,null,null,null,null,null,108,"B4",null,7,3,1,"","","","","","","","","731",3]
[null,null,null,null,null,null,null,null,null,null,null,null,null,null,null,null,null,null,null,null,null,null,null,null,null,null,null,null,null,null,null,null,null,null,null,null,null,null,null,null,null,null,null,null,null,null,null,null,null,null,null,null,null,null,null,null,null,null,null,null,null,null,null,null,109,"A2",null,7,3,9,"","","","","","","","","739",3]
[null,null,null,null,null,null,null,null,null,null,null,null,null,null,null,null,null,null,null,null,null,null,null,null,null,null,null,null,null,null,null,null,null,null,null,null,null,null,null,null,null,null,null,null,null,null,null,null,null,null,null,null,null,null,null,null,null,null,null,null,null,null,null,null,110,"B4",null,7,3,9,"","","","","","","","","739",3]
[null,null,null,null,null,null,null,null,null,null,null,null,null,null,null,null,null,null,null,null,null,null,null,null,null,null,null,null,null,null,null,null,null,null,null,null,null,null,null,null,null,null,null,null,null,null,null,null,null,null,null,null,null,null,null,null,null,null,null,null,null,null,null,null,111,"A2",null,7,4,5,"","","","","","","","","745",3]
[null,null,null,null,null,null,null,null,null,null,null,null,null,null,null,null,null,null,null,null,null,null,null,null,null,null,null,null,null,null,null,null,null,null,null,null,null,null,null,null,null,null,null,null,null,null,null,null,null,null,null,null,null,null,null,null,null,null,null,null,null,null,null,null,112,"A2",null,7,4,8,"","","","","","","","","748",3]
[null,null,null,null,null,null,null,null,null,null,null,null,null,null,null,null,null,null,null,null,null,null,null,null,null,null,null,null,null,null,null,null,null,null,null,null,null,null,null,null,null,null,null,null,null,null,null,null,null,null,null,null,null,null,null,null,null,null,null,null,null,null,null,null,113,"A2",null,7,4,9,"","","","","","","","","749",3]
[null,null,null,null,null,null,null,null,null,null,null,null,null,null,null,null,null,null,null,null,null,null,null,null,null,null,null,null,null,null,null,null,null,null,null,null,null,null,null,null,null,null,null,null,null,null,null,null,null,null,null,null,null,null,null,null,null,null,null,null,null,null,null,null,114,"B4",null,7,6,1,"","","","","","","","","761",3]
[null,null,null,null,null,null,null,null,null,null,null,null,null,null,null,null,null,null,null,null,null,null,null,null,null,null,null,null,null,null,null,null,null,null,null,null,null,null,null,null,null,null,null,null,null,null,null,null,null,null,null,null,null,null,null,null,null,null,null,null,null,null,null,null,115,"B4",null,7,6,5,"","","","","","","","","765",3]
[null,null,null,null,null,null,null,null,null,null,null,null,null,null,null,null,null,null,null,null,null,null,null,null,null,null,null,null,null,null,null,null,null,null,null,null,null,null,null,null,null,null,null,null,null,null,null,null,null,null,null,null,null,null,null,null,null,null,null,null,null,null,null,null,116,"B4",null,7,6,9,"","","","","","","","","769",3]
[null,null,null,null,null,null,null,null,null,null,null,null,null,null,null,null,null,null,null,null,null,null,null,null,null,null,null,null,null,null,null,null,null,null,null,null,null,null,null,null,null,null,null,null,null,null,null,null,null,null,null,null,null,null,null,null,null,null,null,null,null,null,null,null,117,"B4",null,7,8,1,"","","","","","","","","781",3]
[null,null,null,null,null,null,null,null,null,null,null,null,null,null,null,null,null,null,null,null,null,null,null,null,null,null,null,null,null,null,null,null,null,null,null,null,null,null,null,null,null,null,null,null,null,null,null,null,null,null,null,null,null,null,null,null,null,null,null,null,null,null,null,null,118,"B4",null,7,8,4,"","","","","","","","","784",3]
[null,null,null,null,null,null,null,null,null,null,null,null,null,null,null,null,null,null,null,null,null,null,null,null,null,null,null,null,null,null,null,null,null,null,null,null,null,null,null,null,null,null,null,null,null,null,null,null,null,null,null,null,null,null,null,null,null,null,null,null,null,null,null,null,119,"B4",null,7,8,5,"","","","","","","","","785",3]
[null,null,null,null,null,null,null,null,null,null,null,null,null,null,null,null,null,null,null,null,null,null,null,null,null,null,null,null,null,null,null,null,null,null,null,null,null,null,null,null,null,null,null,null,null,null,null,null,null,null,null,null,null,null,null,null,null,null,null,null,null,null,null,null,120,"B4",null,7,9,1,"","","","","","","","","791",3]
[null,null,null,null,null,null,null,null,null,null,null,null,null,null,null,null,null,null,null,null,null,null,null,null,null,null,null,null,null,null,null,null,null,null,null,null,null,null,null,null,null,null,null,null,null,null,null,null,null,null,null,null,null,null,null,null,null,null,null,null,null,null,null,null,121,"B4",null,7,9,3,"","","","","","","","","793",3]
[null,null,null,null,null,null,null,null,null,null,null,null,null,null,null,null,null,null,null,null,null,null,null,null,null,null,null,null,null,null,null,null,null,null,null,null,null,null,null,null,null,null,null,null,null,null,null,null,null,null,null,null,null,null,null,null,null,null,null,null,null,null,null,null,122,"B4",null,7,9,4,"","","","","","","","","794",3]
[null,null,null,null,null,null,null,null,null,null,null,null,null,null,null,null,null,null,null,null,null,null,null,null,null,null,null,null,null,null,null,null,null,null,null,null,null,null,null,null,null,null,null,null,null,null,null,null,null,null,null,null,null,null,null,null,null,null,null,null,null,null,null,null,123,"A3",null,8,1,7,"","","","","","","","","817",3]
[null,null,null,null,null,null,null,null,null,null,null,null,null,null,null,null,null,null,null,null,null,null,null,null,null,null,null,null,null,null,null,null,null,null,null,null,null,null,null,null,null,null,null,null,null,null,null,null,null,null,null,null,null,null,null,null,null,null,null,null,null,null,null,null,124,"B4",null,8,1,7,"","","","","","","","","817",3]
[null,null,null,null,null,null,null,null,null,null,null,null,null,null,null,null,null,null,null,null,null,null,null,null,null,null,null,null,null,null,null,null,null,null,null,null,null,null,null,null,null,null,null,null,null,null,null,null,null,null,null,null,null,null,null,null,null,null,null,null,null,null,null,null,125,"A3",null,8,3,9,"","","","","","","","","839",3]
[null,null,null,null,null,null,null,null,null,null,null,null,null,null,null,null,null,null,null,null,null,null,null,null,null,null,null,null,null,null,null,null,null,null,null,null,null,null,null,null,null,null,null,null,null,null,null,null,null,null,null,null,null,null,null,null,null,null,null,null,null,null,null,null,126,"B4",null,8,3,9,"","","","","","","","","839",3]
[null,null,null,null,null,null,null,null,null,null,null,null,null,null,null,null,null,null,null,null,null,null,null,null,null,null,null,null,null,null,null,null,null,null,null,null,null,null,null,null,null,null,null,null,null,null,null,null,null,null,null,null,null,null,null,null,null,null,null,null,null,null,null,null,127,"A3",null,8,4,5,"","","","","","","","","845",3]
[null,null,null,null,null,null,null,null,null,null,null,null,null,null,null,null,null,null,null,null,null,null,null,null,null,null,null,null,null,null,null,null,null,null,null,null,null,null,null,null,null,null,null,null,null,null,null,null,null,null,null,null,null,null,null,null,null,null,null,null,null,null,null,null,128,"B4",null,8,4,5,"","","","","","","","","845",3]
[null,null,null,null,null,null,null,null,null,null,null,null,null,null,null,null,null,null,null,null,null,null,null,null,null,null,null,null,null,null,null,null,null,null,null,null,null,null,null,null,null,null,null,null,null,null,null,null,null,null,null,null,null,null,null,null,null,null,null,null,null,null,null,null,{"$f":"IF($S$33=MID(CA130,1,$S$32),BM129+1,BM129)","v":129},"A3",null,8,6,5,"","","","","","","","","865",{"$f":"LEN(CA130)","v":3}]
[null,null,null,null,null,null,null,null,null,null,null,null,null,null,null,null,null,null,null,null,null,null,null,null,null,null,null,null,null,null,null,null,null,null,null,null,null,null,null,null,null,null,null,null,null,null,null,null,null,null,null,null,null,null,null,null,null,null,null,null,null,null,null,null,130,"B4",null,8,6,5,"","","","","","","","","865",3]
[null,null,null,null,null,null,null,null,null,null,null,null,null,null,null,null,null,null,null,null,null,null,null,null,null,null,null,null,null,null,null,null,null,null,null,null,null,null,null,null,null,null,null,null,null,null,null,null,null,null,null,null,null,null,null,null,null,null,null,null,null,null,null,null,131,"A3",null,9,1,3,"","","","","","","","","913",3]
[null,null,null,null,null,null,null,null,null,null,null,null,null,null,null,null,null,null,null,null,null,null,null,null,null,null,null,null,null,null,null,null,null,null,null,null,null,null,null,null,null,null,null,null,null,null,null,null,null,null,null,null,null,null,null,null,null,null,null,null,null,null,null,null,132,"B3",null,9,1,3,"","","","","","","","","913",3]
[null,null,null,null,null,null,null,null,null,null,null,null,null,null,null,null,null,null,null,null,null,null,null,null,null,null,null,null,null,null,null,null,null,null,null,null,null,null,null,null,null,null,null,null,null,null,null,null,null,null,null,null,null,null,null,null,null,null,null,null,null,null,null,null,133,"A3",null,9,1,7,"","","","","","","","","917",3]
[null,null,null,null,null,null,null,null,null,null,null,null,null,null,null,null,null,null,null,null,null,null,null,null,null,null,null,null,null,null,null,null,null,null,null,null,null,null,null,null,null,null,null,null,null,null,null,null,null,null,null,null,null,null,null,null,null,null,null,null,null,null,null,null,134,"B3",null,9,1,7,"","","","","","","","","917",3]
[null,null,null,null,null,null,null,null,null,null,null,null,null,null,null,null,null,null,null,null,null,null,null,null,null,null,null,null,null,null,null,null,null,null,null,null,null,null,null,null,null,null,null,null,null,null,null,null,null,null,null,null,null,null,null,null,null,null,null,null,null,null,null,null,135,"B3",null,9,2,3,"","","","","","","","","923",3]
[null,null,null,null,null,null,null,null,null,null,null,null,null,null,null,null,null,null,null,null,null,null,null,null,null,null,null,null,null,null,null,null,null,null,null,null,null,null,null,null,null,null,null,null,null,null,null,null,null,null,null,null,null,null,null,null,null,null,null,null,null,null,null,null,136,"B3",null,9,2,5,"","","","","","","","","925",3]
[null,null,null,null,null,null,null,null,null,null,null,null,null,null,null,null,null,null,null,null,null,null,null,null,null,null,null,null,null,null,null,null,null,null,null,null,null,null,null,null,null,null,null,null,null,null,null,null,null,null,null,null,null,null,null,null,null,null,null,null,null,null,null,null,137,"B3",null,9,2,7,"","","","","","","","","927",3]
[null,null,null,null,null,null,null,null,null,null,null,null,null,null,null,null,null,null,null,null,null,null,null,null,null,null,null,null,null,null,null,null,null,null,null,null,null,null,null,null,null,null,null,null,null,null,null,null,null,null,null,null,null,null,null,null,null,null,null,null,null,null,null,null,138,"B3",null,9,3,1,"","","","","","","","","931",3]
[null,null,null,null,null,null,null,null,null,null,null,null,null,null,null,null,null,null,null,null,null,null,null,null,null,null,null,null,null,null,null,null,null,null,null,null,null,null,null,null,null,null,null,null,null,null,null,null,null,null,null,null,null,null,null,null,null,null,null,null,null,null,null,null,139,"B3",null,9,3,7,"","","","","","","","","937",3]
[null,null,null,null,null,null,null,null,null,null,null,null,null,null,null,null,null,null,null,null,null,null,null,null,null,null,null,null,null,null,null,null,null,null,null,null,null,null,null,null,null,null,null,null,null,null,null,null,null,null,null,null,null,null,null,null,null,null,null,null,null,null,null,null,140,"B3",null,9,3,8,"","","","","","","","","938",3]
[null,null,null,null,null,null,null,null,null,null,null,null,null,null,null,null,null,null,null,null,null,null,null,null,null,null,null,null,null,null,null,null,null,null,null,null,null,null,null,null,null,null,null,null,null,null,null,null,null,null,null,null,null,null,null,null,null,null,null,null,null,null,null,null,141,"A3",null,9,4,3,"","","","","","","","","943",3]
[null,null,null,null,null,null,null,null,null,null,null,null,null,null,null,null,null,null,null,null,null,null,null,null,null,null,null,null,null,null,null,null,null,null,null,null,null,null,null,null,null,null,null,null,null,null,null,null,null,null,null,null,null,null,null,null,null,null,null,null,null,null,null,null,142,"A3",null,9,4,5,"","","","","","","","","945",3]
[null,null,null,null,null,null,null,null,null,null,null,null,null,null,null,null,null,null,null,null,null,null,null,null,null,null,null,null,null,null,null,null,null,null,null,null,null,null,null,null,null,null,null,null,null,null,null,null,null,null,null,null,null,null,null,null,null,null,null,null,null,null,null,null,143,"A3",null,9,4,7,"","","","","","","","","947",3]
[null,null,null,null,null,null,null,null,null,null,null,null,null,null,null,null,null,null,null,null,null,null,null,null,null,null,null,null,null,null,null,null,null,null,null,null,null,null,null,null,null,null,null,null,null,null,null,null,null,null,null,null,null,null,null,null,null,null,null,null,null,null,null,null,144,"B3",null,9,6,5,"","","","","","","","","965",3]
[null,null,null,null,null,null,null,null,null,null,null,null,null,null,null,null,null,null,null,null,null,null,null,null,null,null,null,null,null,null,null,null,null,null,null,null,null,null,null,null,null,null,null,null,null,null,null,null,null,null,null,null,null,null,null,null,null,null,null,null,null,null,null,null,145,"B3",null,9,6,7,"","","","","","","","","967",3]
[null,null,null,null,null,null,null,null,null,null,null,null,null,null,null,null,null,null,null,null,null,null,null,null,null,null,null,null,null,null,null,null,null,null,null,null,null,null,null,null,null,null,null,null,null,null,null,null,null,null,null,null,null,null,null,null,null,null,null,null,null,null,null,null,146,"B3",null,9,6,8,"","","","","","","","","968",3]
[null,null,null,null,null,null,null,null,null,null,null,null,null,null,null,null,null,null,null,null,null,null,null,null,null,null,null,null,null,null,null,null,null,null,null,null,null,null,null,null,null,null,null,null,null,null,null,null,null,null,null,null,null,null,null,null,null,null,null,null,null,null,null,null,147,"A3",null,9,7,1,"","","","","","","","","971",3]
[null,null,null,null,null,null,null,null,null,null,null,null,null,null,null,null,null,null,null,null,null,null,null,null,null,null,null,null,null,null,null,null,null,null,null,null,null,null,null,null,null,null,null,null,null,null,null,null,null,null,null,null,null,null,null,null,null,null,null,null,null,null,null,null,148,"A3",null,9,7,3,"","","","","","","","","973",3]
[null,null,null,null,null,null,null,null,null,null,null,null,null,null,null,null,null,null,null,null,null,null,null,null,null,null,null,null,null,null,null,null,null,null,null,null,null,null,null,null,null,null,null,null,null,null,null,null,null,null,null,null,null,null,null,null,null,null,null,null,null,null,null,null,149,"A3",null,9,7,6,"","","","","","","","","976",3]
[null,null,null,null,null,null,null,null,null,null,null,null,null,null,null,null,null,null,null,null,null,null,null,null,null,null,null,null,null,null,null,null,null,null,null,null,null,null,null,null,null,null,null,null,null,null,null,null,null,null,null,null,null,null,null,null,null,null,null,null,null,null,null,null,150,"A3",null,9,8,3,"","","","","","","","","983",3]
[null,null,null,null,null,null,null,null,null,null,null,null,null,null,null,null,null,null,null,null,null,null,null,null,null,null,null,null,null,null,null,null,null,null,null,null,null,null,null,null,null,null,null,null,null,null,null,null,null,null,null,null,null,null,null,null,null,null,null,null,null,null,null,null,151,"A3",null,9,8,5,"","","","","","","","","985",3]
[null,null,null,null,null,null,null,null,null,null,null,null,null,null,null,null,null,null,null,null,null,null,null,null,null,null,null,null,null,null,null,null,null,null,null,null,null,null,null,null,null,null,null,null,null,null,null,null,null,null,null,null,null,null,null,null,null,null,null,null,null,null,null,null,152,"A3",null,9,8,6,"","","","","","","","","986",3]
[null,null,null,null,null,null,null,null,null,null,null,null,null,null,null,null,null,null,null,null,null,null,null,null,null,null,null,null,null,null,null,null,null,null,null,null,null,null,null,null,null,null,null,null,null,null,null,null,null,null,null,null,null,null,null,null,null,null,null,null,null,null,null,null,153,"A1",null,1,2,3,4,null,null,null,null,null,null,null,"1234",4]
[null,null,null,null,null,null,null,null,null,null,null,null,null,null,null,null,null,null,null,null,null,null,null,null,null,null,null,null,null,null,null,null,null,null,null,null,null,null,null,null,null,null,null,null,null,null,null,null,null,null,null,null,null,null,null,null,null,null,null,null,null,null,null,null,154,"A1",null,1,2,3,6,null,null,null,null,null,null,null,"1236",4]
[null,null,null,null,null,null,null,null,null,null,null,null,null,null,null,null,null,null,null,null,null,null,null,null,null,null,null,null,null,null,null,null,null,null,null,null,null,null,null,null,null,null,null,null,null,null,null,null,null,null,null,null,null,null,null,null,null,null,null,null,null,null,null,null,155,"A1",null,1,2,3,7,null,null,null,null,null,null,null,"1237",4]
[null,null,null,null,null,null,null,null,null,null,null,null,null,null,null,null,null,null,null,null,null,null,null,null,null,null,null,null,null,null,null,null,null,null,null,null,null,null,null,null,null,null,null,null,null,null,null,null,null,null,null,null,null,null,null,null,null,null,null,null,null,null,null,null,156,"A1",null,1,2,3,8,null,null,null,null,null,null,null,"1238",4]
[null,null,null,null,null,null,null,null,null,null,null,null,null,null,null,null,null,null,null,null,null,null,null,null,null,null,null,null,null,null,null,null,null,null,null,null,null,null,null,null,null,null,null,null,null,null,null,null,null,null,null,null,null,null,null,null,null,null,null,null,null,null,null,null,157,"A1",null,1,2,3,9,null,null,null,null,null,null,null,"1239",4]
[null,null,null,null,null,null,null,null,null,null,null,null,null,null,null,null,null,null,null,null,null,null,null,null,null,null,null,null,null,null,null,null,null,null,null,null,null,null,null,null,null,null,null,null,null,null,null,null,null,null,null,null,null,null,null,null,null,null,null,null,null,null,null,null,158,"A1",null,1,2,6,3,null,null,null,null,null,null,null,"1263",4]
[null,null,null,null,null,null,null,null,null,null,null,null,null,null,null,null,null,null,null,null,null,null,null,null,null,null,null,null,null,null,null,null,null,null,null,null,null,null,null,null,null,null,null,null,null,null,null,null,null,null,null,null,null,null,null,null,null,null,null,null,null,null,null,null,159,"A1",null,1,2,6,4,null,null,null,null,null,null,null,"1264",4]
[null,null,null,null,null,null,null,null,null,null,null,null,null,null,null,null,null,null,null,null,null,null,null,null,null,null,null,null,null,null,null,null,null,null,null,null,null,null,null,null,null,null,null,null,null,null,null,null,null,null,null,null,null,null,null,null,null,null,null,null,null,null,null,null,160,"A1",null,1,2,6,7,null,null,null,null,null,null,null,"1267",4]
[null,null,null,null,null,null,null,null,null,null,null,null,null,null,null,null,null,null,null,null,null,null,null,null,null,null,null,null,null,null,null,null,null,null,null,null,null,null,null,null,null,null,null,null,null,null,null,null,null,null,null,null,null,null,null,null,null,null,null,null,null,null,null,null,161,"A1",null,1,2,6,8,null,null,null,null,null,null,null,"1268",4]
[null,null,null,null,null,null,null,null,null,null,null,null,null,null,null,null,null,null,null,null,null,null,null,null,null,null,null,null,null,null,null,null,null,null,null,null,null,null,null,null,null,null,null,null,null,null,null,null,null,null,null,null,null,null,null,null,null,null,null,null,null,null,null,null,162,"A1",null,1,2,6,9,null,null,null,null,null,null,null,"1269",4]
[null,null,null,null,null,null,null,null,null,null,null,null,null,null,null,null,null,null,null,null,null,null,null,null,null,null,null,null,null,null,null,null,null,null,null,null,null,null,null,null,null,null,null,null,null,null,null,null,null,null,null,null,null,null,null,null,null,null,null,null,null,null,null,null,163,"A1",null,1,2,8,3,null,null,null,null,null,null,null,"1283",4]
[null,null,null,null,null,null,null,null,null,null,null,null,null,null,null,null,null,null,null,null,null,null,null,null,null,null,null,null,null,null,null,null,null,null,null,null,null,null,null,null,null,null,null,null,null,null,null,null,null,null,null,null,null,null,null,null,null,null,null,null,null,null,null,null,164,"A1",null,1,2,8,4,null,null,null,null,null,null,null,"1284",4]
[null,null,null,null,null,null,null,null,null,null,null,null,null,null,null,null,null,null,null,null,null,null,null,null,null,null,null,null,null,null,null,null,null,null,null,null,null,null,null,null,null,null,null,null,null,null,null,null,null,null,null,null,null,null,null,null,null,null,null,null,null,null,null,null,165,"A1",null,1,2,8,5,null,null,null,null,null,null,null,"1285",4]
[null,null,null,null,null,null,null,null,null,null,null,null,null,null,null,null,null,null,null,null,null,null,null,null,null,null,null,null,null,null,null,null,null,null,null,null,null,null,null,null,null,null,null,null,null,null,null,null,null,null,null,null,null,null,null,null,null,null,null,null,null,null,null,null,166,"A1",null,1,2,8,6,null,null,null,null,null,null,null,"1286",4]
[null,null,null,null,null,null,null,null,null,null,null,null,null,null,null,null,null,null,null,null,null,null,null,null,null,null,null,null,null,null,null,null,null,null,null,null,null,null,null,null,null,null,null,null,null,null,null,null,null,null,null,null,null,null,null,null,null,null,null,null,null,null,null,null,167,"A1",null,1,3,2,4,null,null,null,null,null,null,null,"1324",4]
[null,null,null,null,null,null,null,null,null,null,null,null,null,null,null,null,null,null,null,null,null,null,null,null,null,null,null,null,null,null,null,null,null,null,null,null,null,null,null,null,null,null,null,null,null,null,null,null,null,null,null,null,null,null,null,null,null,null,null,null,null,null,null,null,168,"A1",null,1,3,2,7,null,null,null,null,null,null,null,"1327",4]
[null,null,null,null,null,null,null,null,null,null,null,null,null,null,null,null,null,null,null,null,null,null,null,null,null,null,null,null,null,null,null,null,null,null,null,null,null,null,null,null,null,null,null,null,null,null,null,null,null,null,null,null,null,null,null,null,null,null,null,null,null,null,null,null,169,"A1",null,1,3,6,2,null,null,null,null,null,null,null,"1362",4]
[null,null,null,null,null,null,null,null,null,null,null,null,null,null,null,null,null,null,null,null,null,null,null,null,null,null,null,null,null,null,null,null,null,null,null,null,null,null,null,null,null,null,null,null,null,null,null,null,null,null,null,null,null,null,null,null,null,null,null,null,null,null,null,null,170,"A1",null,1,3,6,8,null,null,null,null,null,null,null,"1368",4]
[null,null,null,null,null,null,null,null,null,null,null,null,null,null,null,null,null,null,null,null,null,null,null,null,null,null,null,null,null,null,null,null,null,null,null,null,null,null,null,null,null,null,null,null,null,null,null,null,null,null,null,null,null,null,null,null,null,null,null,null,null,null,null,null,171,"A1",null,1,3,6,9,null,null,null,null,null,null,null,"1369",4]
[null,null,null,null,null,null,null,null,null,null,null,null,null,null,null,null,null,null,null,null,null,null,null,null,null,null,null,null,null,null,null,null,null,null,null,null,null,null,null,null,null,null,null,null,null,null,null,null,null,null,null,null,null,null,null,null,null,null,null,null,null,null,null,null,172,"A1",null,1,3,8,2,null,null,null,null,null,null,null,"1382",4]
[null,null,null,null,null,null,null,null,null,null,null,null,null,null,null,null,null,null,null,null,null,null,null,null,null,null,null,null,null,null,null,null,null,null,null,null,null,null,null,null,null,null,null,null,null,null,null,null,null,null,null,null,null,null,null,null,null,null,null,null,null,null,null,null,173,"A1",null,1,3,8,4,null,null,null,null,null,null,null,"1384",4]
[null,null,null,null,null,null,null,null,null,null,null,null,null,null,null,null,null,null,null,null,null,null,null,null,null,null,null,null,null,null,null,null,null,null,null,null,null,null,null,null,null,null,null,null,null,null,null,null,null,null,null,null,null,null,null,null,null,null,null,null,null,null,null,null,174,"A1",null,1,3,8,5,null,null,null,null,null,null,null,"1385",4]
[null,null,null,null,null,null,null,null,null,null,null,null,null,null,null,null,null,null,null,null,null,null,null,null,null,null,null,null,null,null,null,null,null,null,null,null,null,null,null,null,null,null,null,null,null,null,null,null,null,null,null,null,null,null,null,null,null,null,null,null,null,null,null,null,175,"A1",null,1,3,8,6,null,null,null,null,null,null,null,"1386",4]
[null,null,null,null,null,null,null,null,null,null,null,null,null,null,null,null,null,null,null,null,null,null,null,null,null,null,null,null,null,null,null,null,null,null,null,null,null,null,null,null,null,null,null,null,null,null,null,null,null,null,null,null,null,null,null,null,null,null,null,null,null,null,null,null,176,"A1",null,1,3,8,7,null,null,null,null,null,null,null,"1387",4]
[null,null,null,null,null,null,null,null,null,null,null,null,null,null,null,null,null,null,null,null,null,null,null,null,null,null,null,null,null,null,null,null,null,null,null,null,null,null,null,null,null,null,null,null,null,null,null,null,null,null,null,null,null,null,null,null,null,null,null,null,null,null,null,null,177,"B1",null,1,4,6,2,"","","","","","","","1462",4]
[null,null,null,null,null,null,null,null,null,null,null,null,null,null,null,null,null,null,null,null,null,null,null,null,null,null,null,null,null,null,null,null,null,null,null,null,null,null,null,null,null,null,null,null,null,null,null,null,null,null,null,null,null,null,null,null,null,null,null,null,null,null,null,null,178,"B1",null,1,4,6,5,"","","","","","","","1465",4]
[null,null,null,null,null,null,null,null,null,null,null,null,null,null,null,null,null,null,null,null,null,null,null,null,null,null,null,null,null,null,null,null,null,null,null,null,null,null,null,null,null,null,null,null,null,null,null,null,null,null,null,null,null,null,null,null,null,null,null,null,null,null,null,null,179,"B1",null,1,4,6,7,"","","","","","","","1467",4]
[null,null,null,null,null,null,null,null,null,null,null,null,null,null,null,null,null,null,null,null,null,null,null,null,null,null,null,null,null,null,null,null,null,null,null,null,null,null,null,null,null,null,null,null,null,null,null,null,null,null,null,null,null,null,null,null,null,null,null,null,null,null,null,null,180,"B1",null,1,4,6,8,"","","","","","","","1468",4]
[null,null,null,null,null,null,null,null,null,null,null,null,null,null,null,null,null,null,null,null,null,null,null,null,null,null,null,null,null,null,null,null,null,null,null,null,null,null,null,null,null,null,null,null,null,null,null,null,null,null,null,null,null,null,null,null,null,null,null,null,null,null,null,null,181,"B1",null,1,4,7,2,"","","","","","","","1472",4]
[null,null,null,null,null,null,null,null,null,null,null,null,null,null,null,null,null,null,null,null,null,null,null,null,null,null,null,null,null,null,null,null,null,null,null,null,null,null,null,null,null,null,null,null,null,null,null,null,null,null,null,null,null,null,null,null,null,null,null,null,null,null,null,null,182,"B1",null,1,4,7,3,"","","","","","","","1473",4]
[null,null,null,null,null,null,null,null,null,null,null,null,null,null,null,null,null,null,null,null,null,null,null,null,null,null,null,null,null,null,null,null,null,null,null,null,null,null,null,null,null,null,null,null,null,null,null,null,null,null,null,null,null,null,null,null,null,null,null,null,null,null,null,null,183,"B1",null,1,4,7,6,"","","","","","","","1476",4]
[null,null,null,null,null,null,null,null,null,null,null,null,null,null,null,null,null,null,null,null,null,null,null,null,null,null,null,null,null,null,null,null,null,null,null,null,null,null,null,null,null,null,null,null,null,null,null,null,null,null,null,null,null,null,null,null,null,null,null,null,null,null,null,null,184,"B1",null,1,4,7,8,"","","","","","","","1478",4]
[null,null,null,null,null,null,null,null,null,null,null,null,null,null,null,null,null,null,null,null,null,null,null,null,null,null,null,null,null,null,null,null,null,null,null,null,null,null,null,null,null,null,null,null,null,null,null,null,null,null,null,null,null,null,null,null,null,null,null,null,null,null,null,null,185,"B1",null,1,4,7,9,"","","","","","","","1479",4]
[null,null,null,null,null,null,null,null,null,null,null,null,null,null,null,null,null,null,null,null,null,null,null,null,null,null,null,null,null,null,null,null,null,null,null,null,null,null,null,null,null,null,null,null,null,null,null,null,null,null,null,null,null,null,null,null,null,null,null,null,null,null,null,null,186,"B1",null,1,4,8,2,"","","","","","","","1482",4]
[null,null,null,null,null,null,null,null,null,null,null,null,null,null,null,null,null,null,null,null,null,null,null,null,null,null,null,null,null,null,null,null,null,null,null,null,null,null,null,null,null,null,null,null,null,null,null,null,null,null,null,null,null,null,null,null,null,null,null,null,null,null,null,null,187,"B1",null,1,4,8,3,"","","","","","","","1483",4]
[null,null,null,null,null,null,null,null,null,null,null,null,null,null,null,null,null,null,null,null,null,null,null,null,null,null,null,null,null,null,null,null,null,null,null,null,null,null,null,null,null,null,null,null,null,null,null,null,null,null,null,null,null,null,null,null,null,null,null,null,null,null,null,null,188,"B1",null,1,4,8,6,"","","","","","","","1486",4]
[null,null,null,null,null,null,null,null,null,null,null,null,null,null,null,null,null,null,null,null,null,null,null,null,null,null,null,null,null,null,null,null,null,null,null,null,null,null,null,null,null,null,null,null,null,null,null,null,null,null,null,null,null,null,null,null,null,null,null,null,null,null,null,null,189,"B1",null,1,4,8,7,"","","","","","","","1487",4]
[null,null,null,null,null,null,null,null,null,null,null,null,null,null,null,null,null,null,null,null,null,null,null,null,null,null,null,null,null,null,null,null,null,null,null,null,null,null,null,null,null,null,null,null,null,null,null,null,null,null,null,null,null,null,null,null,null,null,null,null,null,null,null,null,190,"B1",null,1,4,8,9,"","","","","","","","1489",4]
[null,null,null,null,null,null,null,null,null,null,null,null,null,null,null,null,null,null,null,null,null,null,null,null,null,null,null,null,null,null,null,null,null,null,null,null,null,null,null,null,null,null,null,null,null,null,null,null,null,null,null,null,null,null,null,null,null,null,null,null,null,null,null,null,191,"A1",null,1,6,8,2,null,null,null,null,null,null,null,"1682",4]
[null,null,null,null,null,null,null,null,null,null,null,null,null,null,null,null,null,null,null,null,null,null,null,null,null,null,null,null,null,null,null,null,null,null,null,null,null,null,null,null,null,null,null,null,null,null,null,null,null,null,null,null,null,null,null,null,null,null,null,null,null,null,null,null,192,"A1",null,1,6,8,3,null,null,null,null,null,null,null,"1683",4]
[null,null,null,null,null,null,null,null,null,null,null,null,null,null,null,null,null,null,null,null,null,null,null,null,null,null,null,null,null,null,null,null,null,null,null,null,null,null,null,null,null,null,null,null,null,null,null,null,null,null,null,null,null,null,null,null,null,null,null,null,null,null,null,null,{"$f":"IF($S$33=MID(CA194,1,$S$32),BM193+1,BM193)","v":193},"A1",null,1,6,8,4,null,null,null,null,null,null,null,"1684",{"$f":"LEN(CA194)","v":4}]
[null,null,null,null,null,null,null,null,null,null,null,null,null,null,null,null,null,null,null,null,null,null,null,null,null,null,null,null,null,null,null,null,null,null,null,null,null,null,null,null,null,null,null,null,null,null,null,null,null,null,null,null,null,null,null,null,null,null,null,null,null,null,null,null,194,"A1",null,1,6,8,7,null,null,null,null,null,null,null,"1687",4]
[null,null,null,null,null,null,null,null,null,null,null,null,null,null,null,null,null,null,null,null,null,null,null,null,null,null,null,null,null,null,null,null,null,null,null,null,null,null,null,null,null,null,null,null,null,null,null,null,null,null,null,null,null,null,null,null,null,null,null,null,null,null,null,null,195,"A1",null,1,6,8,9,null,null,null,null,null,null,null,"1689",4]
[null,null,null,null,null,null,null,null,null,null,null,null,null,null,null,null,null,null,null,null,null,null,null,null,null,null,null,null,null,null,null,null,null,null,null,null,null,null,null,null,null,null,null,null,null,null,null,null,null,null,null,null,null,null,null,null,null,null,null,null,null,null,null,null,196,"B1",null,1,7,4,2,"","","","","","","","1742",4]
[null,null,null,null,null,null,null,null,null,null,null,null,null,null,null,null,null,null,null,null,null,null,null,null,null,null,null,null,null,null,null,null,null,null,null,null,null,null,null,null,null,null,null,null,null,null,null,null,null,null,null,null,null,null,null,null,null,null,null,null,null,null,null,null,197,"B1",null,1,7,4,3,"","","","","","","","1743",4]
[null,null,null,null,null,null,null,null,null,null,null,null,null,null,null,null,null,null,null,null,null,null,null,null,null,null,null,null,null,null,null,null,null,null,null,null,null,null,null,null,null,null,null,null,null,null,null,null,null,null,null,null,null,null,null,null,null,null,null,null,null,null,null,null,198,"B1",null,1,7,6,2,"","","","","","","","1762",4]
[null,null,null,null,null,null,null,null,null,null,null,null,null,null,null,null,null,null,null,null,null,null,null,null,null,null,null,null,null,null,null,null,null,null,null,null,null,null,null,null,null,null,null,null,null,null,null,null,null,null,null,null,null,null,null,null,null,null,null,null,null,null,null,null,199,"B1",null,1,7,6,3,"","","","","","","","1763",4]
[null,null,null,null,null,null,null,null,null,null,null,null,null,null,null,null,null,null,null,null,null,null,null,null,null,null,null,null,null,null,null,null,null,null,null,null,null,null,null,null,null,null,null,null,null,null,null,null,null,null,null,null,null,null,null,null,null,null,null,null,null,null,null,null,200,"B1",null,1,7,6,4,"","","","","","","","1764",4]
[null,null,null,null,null,null,null,null,null,null,null,null,null,null,null,null,null,null,null,null,null,null,null,null,null,null,null,null,null,null,null,null,null,null,null,null,null,null,null,null,null,null,null,null,null,null,null,null,null,null,null,null,null,null,null,null,null,null,null,null,null,null,null,null,201,"B1",null,1,7,6,5,"","","","","","","","1765",4]
[null,null,null,null,null,null,null,null,null,null,null,null,null,null,null,null,null,null,null,null,null,null,null,null,null,null,null,null,null,null,null,null,null,null,null,null,null,null,null,null,null,null,null,null,null,null,null,null,null,null,null,null,null,null,null,null,null,null,null,null,null,null,null,null,202,"B1",null,1,7,6,8,"","","","","","","","1768",4]
[null,null,null,null,null,null,null,null,null,null,null,null,null,null,null,null,null,null,null,null,null,null,null,null,null,null,null,null,null,null,null,null,null,null,null,null,null,null,null,null,null,null,null,null,null,null,null,null,null,null,null,null,null,null,null,null,null,null,null,null,null,null,null,null,203,"B1",null,1,7,8,4,"","","","","","","","1784",4]
[null,null,null,null,null,null,null,null,null,null,null,null,null,null,null,null,null,null,null,null,null,null,null,null,null,null,null,null,null,null,null,null,null,null,null,null,null,null,null,null,null,null,null,null,null,null,null,null,null,null,null,null,null,null,null,null,null,null,null,null,null,null,null,null,204,"B1",null,1,7,8,6,"","","","","","","","1786",4]
[null,null,null,null,null,null,null,null,null,null,null,null,null,null,null,null,null,null,null,null,null,null,null,null,null,null,null,null,null,null,null,null,null,null,null,null,null,null,null,null,null,null,null,null,null,null,null,null,null,null,null,null,null,null,null,null,null,null,null,null,null,null,null,null,205,"B1",null,1,7,8,9,"","","","","","","","1789",4]
[null,null,null,null,null,null,null,null,null,null,null,null,null,null,null,null,null,null,null,null,null,null,null,null,null,null,null,null,null,null,null,null,null,null,null,null,null,null,null,null,null,null,null,null,null,null,null,null,null,null,null,null,null,null,null,null,null,null,null,null,null,null,null,null,206,"B1",null,1,8,6,2,"","","","","","","","1862",4]
[null,null,null,null,null,null,null,null,null,null,null,null,null,null,null,null,null,null,null,null,null,null,null,null,null,null,null,null,null,null,null,null,null,null,null,null,null,null,null,null,null,null,null,null,null,null,null,null,null,null,null,null,null,null,null,null,null,null,null,null,null,null,null,null,207,"B1",null,1,8,6,3,"","","","","","","","1863",4]
[null,null,null,null,null,null,null,null,null,null,null,null,null,null,null,null,null,null,null,null,null,null,null,null,null,null,null,null,null,null,null,null,null,null,null,null,null,null,null,null,null,null,null,null,null,null,null,null,null,null,null,null,null,null,null,null,null,null,null,null,null,null,null,null,208,"B1",null,1,8,6,4,"","","","","","","","1864",4]
[null,null,null,null,null,null,null,null,null,null,null,null,null,null,null,null,null,null,null,null,null,null,null,null,null,null,null,null,null,null,null,null,null,null,null,null,null,null,null,null,null,null,null,null,null,null,null,null,null,null,null,null,null,null,null,null,null,null,null,null,null,null,null,null,209,"B1",null,1,8,6,7,"","","","","","","","1867",4]
[null,null,null,null,null,null,null,null,null,null,null,null,null,null,null,null,null,null,null,null,null,null,null,null,null,null,null,null,null,null,null,null,null,null,null,null,null,null,null,null,null,null,null,null,null,null,null,null,null,null,null,null,null,null,null,null,null,null,null,null,null,null,null,null,210,"B1",null,1,8,6,9,"","","","","","","","1869",4]
[null,null,null,null,null,null,null,null,null,null,null,null,null,null,null,null,null,null,null,null,null,null,null,null,null,null,null,null,null,null,null,null,null,null,null,null,null,null,null,null,null,null,null,null,null,null,null,null,null,null,null,null,null,null,null,null,null,null,null,null,null,null,null,null,211,"B2",null,3,1,2,6,"","","","","","","","3126",4]
[null,null,null,null,null,null,null,null,null,null,null,null,null,null,null,null,null,null,null,null,null,null,null,null,null,null,null,null,null,null,null,null,null,null,null,null,null,null,null,null,null,null,null,null,null,null,null,null,null,null,null,null,null,null,null,null,null,null,null,null,null,null,null,null,212,"B2",null,3,1,2,9,"","","","","","","","3129",4]
[null,null,null,null,null,null,null,null,null,null,null,null,null,null,null,null,null,null,null,null,null,null,null,null,null,null,null,null,null,null,null,null,null,null,null,null,null,null,null,null,null,null,null,null,null,null,null,null,null,null,null,null,null,null,null,null,null,null,null,null,null,null,null,null,213,"B2",null,3,1,4,2,"","","","","","","","3142",4]
[null,null,null,null,null,null,null,null,null,null,null,null,null,null,null,null,null,null,null,null,null,null,null,null,null,null,null,null,null,null,null,null,null,null,null,null,null,null,null,null,null,null,null,null,null,null,null,null,null,null,null,null,null,null,null,null,null,null,null,null,null,null,null,null,214,"B2",null,3,1,4,7,"","","","","","","","3147",4]
[null,null,null,null,null,null,null,null,null,null,null,null,null,null,null,null,null,null,null,null,null,null,null,null,null,null,null,null,null,null,null,null,null,null,null,null,null,null,null,null,null,null,null,null,null,null,null,null,null,null,null,null,null,null,null,null,null,null,null,null,null,null,null,null,215,"B2",null,3,1,4,8,"","","","","","","","3148",4]
[null,null,null,null,null,null,null,null,null,null,null,null,null,null,null,null,null,null,null,null,null,null,null,null,null,null,null,null,null,null,null,null,null,null,null,null,null,null,null,null,null,null,null,null,null,null,null,null,null,null,null,null,null,null,null,null,null,null,null,null,null,null,null,null,216,"B2",null,3,1,8,2,"","","","","","","","3182",4]
[null,null,null,null,null,null,null,null,null,null,null,null,null,null,null,null,null,null,null,null,null,null,null,null,null,null,null,null,null,null,null,null,null,null,null,null,null,null,null,null,null,null,null,null,null,null,null,null,null,null,null,null,null,null,null,null,null,null,null,null,null,null,null,null,217,"B2",null,3,1,8,4,"","","","","","","","3184",4]
[null,null,null,null,null,null,null,null,null,null,null,null,null,null,null,null,null,null,null,null,null,null,null,null,null,null,null,null,null,null,null,null,null,null,null,null,null,null,null,null,null,null,null,null,null,null,null,null,null,null,null,null,null,null,null,null,null,null,null,null,null,null,null,null,218,"B2",null,3,1,8,5,"","","","","","","","3185",4]
[null,null,null,null,null,null,null,null,null,null,null,null,null,null,null,null,null,null,null,null,null,null,null,null,null,null,null,null,null,null,null,null,null,null,null,null,null,null,null,null,null,null,null,null,null,null,null,null,null,null,null,null,null,null,null,null,null,null,null,null,null,null,null,null,219,"B2",null,3,1,8,6,"","","","","","","","3186",4]
[null,null,null,null,null,null,null,null,null,null,null,null,null,null,null,null,null,null,null,null,null,null,null,null,null,null,null,null,null,null,null,null,null,null,null,null,null,null,null,null,null,null,null,null,null,null,null,null,null,null,null,null,null,null,null,null,null,null,null,null,null,null,null,null,220,"B2",null,3,1,8,9,"","","","","","","","3189",4]
[null,null,null,null,null,null,null,null,null,null,null,null,null,null,null,null,null,null,null,null,null,null,null,null,null,null,null,null,null,null,null,null,null,null,null,null,null,null,null,null,null,null,null,null,null,null,null,null,null,null,null,null,null,null,null,null,null,null,null,null,null,null,null,null,221,"B2",null,3,2,1,4,"","","","","","","","3214",4]
[null,null,null,null,null,null,null,null,null,null,null,null,null,null,null,null,null,null,null,null,null,null,null,null,null,null,null,null,null,null,null,null,null,null,null,null,null,null,null,null,null,null,null,null,null,null,null,null,null,null,null,null,null,null,null,null,null,null,null,null,null,null,null,null,222,"B2",null,3,2,1,6,"","","","","","","","3216",4]
[null,null,null,null,null,null,null,null,null,null,null,null,null,null,null,null,null,null,null,null,null,null,null,null,null,null,null,null,null,null,null,null,null,null,null,null,null,null,null,null,null,null,null,null,null,null,null,null,null,null,null,null,null,null,null,null,null,null,null,null,null,null,null,null,223,"B2",null,3,2,1,7,"","","","","","","","3217",4]
[null,null,null,null,null,null,null,null,null,null,null,null,null,null,null,null,null,null,null,null,null,null,null,null,null,null,null,null,null,null,null,null,null,null,null,null,null,null,null,null,null,null,null,null,null,null,null,null,null,null,null,null,null,null,null,null,null,null,null,null,null,null,null,null,224,"B2",null,3,2,1,8,"","","","","","","","3218",4]
[null,null,null,null,null,null,null,null,null,null,null,null,null,null,null,null,null,null,null,null,null,null,null,null,null,null,null,null,null,null,null,null,null,null,null,null,null,null,null,null,null,null,null,null,null,null,null,null,null,null,null,null,null,null,null,null,null,null,null,null,null,null,null,null,225,"B2",null,3,2,1,9,"","","","","","","","3219",4]
[null,null,null,null,null,null,null,null,null,null,null,null,null,null,null,null,null,null,null,null,null,null,null,null,null,null,null,null,null,null,null,null,null,null,null,null,null,null,null,null,null,null,null,null,null,null,null,null,null,null,null,null,null,null,null,null,null,null,null,null,null,null,null,null,226,"B2",null,3,2,4,1,"","","","","","","","3241",4]
[null,null,null,null,null,null,null,null,null,null,null,null,null,null,null,null,null,null,null,null,null,null,null,null,null,null,null,null,null,null,null,null,null,null,null,null,null,null,null,null,null,null,null,null,null,null,null,null,null,null,null,null,null,null,null,null,null,null,null,null,null,null,null,null,227,"B2",null,3,2,4,6,"","","","","","","","3246",4]
[null,null,null,null,null,null,null,null,null,null,null,null,null,null,null,null,null,null,null,null,null,null,null,null,null,null,null,null,null,null,null,null,null,null,null,null,null,null,null,null,null,null,null,null,null,null,null,null,null,null,null,null,null,null,null,null,null,null,null,null,null,null,null,null,228,"B2",null,3,2,4,7,"","","","","","","","3247",4]
[null,null,null,null,null,null,null,null,null,null,null,null,null,null,null,null,null,null,null,null,null,null,null,null,null,null,null,null,null,null,null,null,null,null,null,null,null,null,null,null,null,null,null,null,null,null,null,null,null,null,null,null,null,null,null,null,null,null,null,null,null,null,null,null,229,"B2",null,3,2,4,8,"","","","","","","","3248",4]
[null,null,null,null,null,null,null,null,null,null,null,null,null,null,null,null,null,null,null,null,null,null,null,null,null,null,null,null,null,null,null,null,null,null,null,null,null,null,null,null,null,null,null,null,null,null,null,null,null,null,null,null,null,null,null,null,null,null,null,null,null,null,null,null,230,"B2",null,3,2,4,9,"","","","","","","","3249",4]
[null,null,null,null,null,null,null,null,null,null,null,null,null,null,null,null,null,null,null,null,null,null,null,null,null,null,null,null,null,null,null,null,null,null,null,null,null,null,null,null,null,null,null,null,null,null,null,null,null,null,null,null,null,null,null,null,null,null,null,null,null,null,null,null,231,"B2",null,3,2,8,1,"","","","","","","","3281",4]
[null,null,null,null,null,null,null,null,null,null,null,null,null,null,null,null,null,null,null,null,null,null,null,null,null,null,null,null,null,null,null,null,null,null,null,null,null,null,null,null,null,null,null,null,null,null,null,null,null,null,null,null,null,null,null,null,null,null,null,null,null,null,null,null,232,"B2",null,3,2,8,4,"","","","","","","","3284",4]
[null,null,null,null,null,null,null,null,null,null,null,null,null,null,null,null,null,null,null,null,null,null,null,null,null,null,null,null,null,null,null,null,null,null,null,null,null,null,null,null,null,null,null,null,null,null,null,null,null,null,null,null,null,null,null,null,null,null,null,null,null,null,null,null,233,"B2",null,3,2,8,5,"","","","","","","","3285",4]
[null,null,null,null,null,null,null,null,null,null,null,null,null,null,null,null,null,null,null,null,null,null,null,null,null,null,null,null,null,null,null,null,null,null,null,null,null,null,null,null,null,null,null,null,null,null,null,null,null,null,null,null,null,null,null,null,null,null,null,null,null,null,null,null,234,"B2",null,3,2,8,6,"","","","","","","","3286",4]
[null,null,null,null,null,null,null,null,null,null,null,null,null,null,null,null,null,null,null,null,null,null,null,null,null,null,null,null,null,null,null,null,null,null,null,null,null,null,null,null,null,null,null,null,null,null,null,null,null,null,null,null,null,null,null,null,null,null,null,null,null,null,null,null,235,"B2",null,3,4,8,1,"","","","","","","","3481",4]
[null,null,null,null,null,null,null,null,null,null,null,null,null,null,null,null,null,null,null,null,null,null,null,null,null,null,null,null,null,null,null,null,null,null,null,null,null,null,null,null,null,null,null,null,null,null,null,null,null,null,null,null,null,null,null,null,null,null,null,null,null,null,null,null,236,"B2",null,3,4,8,2,"","","","","","","","3482",4]
[null,null,null,null,null,null,null,null,null,null,null,null,null,null,null,null,null,null,null,null,null,null,null,null,null,null,null,null,null,null,null,null,null,null,null,null,null,null,null,null,null,null,null,null,null,null,null,null,null,null,null,null,null,null,null,null,null,null,null,null,null,null,null,null,237,"B2",null,3,4,8,6,"","","","","","","","3486",4]
[null,null,null,null,null,null,null,null,null,null,null,null,null,null,null,null,null,null,null,null,null,null,null,null,null,null,null,null,null,null,null,null,null,null,null,null,null,null,null,null,null,null,null,null,null,null,null,null,null,null,null,null,null,null,null,null,null,null,null,null,null,null,null,null,238,"B2",null,3,4,8,7,"","","","","","","","3487",4]
[null,null,null,null,null,null,null,null,null,null,null,null,null,null,null,null,null,null,null,null,null,null,null,null,null,null,null,null,null,null,null,null,null,null,null,null,null,null,null,null,null,null,null,null,null,null,null,null,null,null,null,null,null,null,null,null,null,null,null,null,null,null,null,null,239,"B2",null,3,4,8,9,"","","","","","","","3489",4]
[null,null,null,null,null,null,null,null,null,null,null,null,null,null,null,null,null,null,null,null,null,null,null,null,null,null,null,null,null,null,null,null,null,null,null,null,null,null,null,null,null,null,null,null,null,null,null,null,null,null,null,null,null,null,null,null,null,null,null,null,null,null,null,null,240,"A4",null,3,6,4,2,"","","","","","","","3642",4]
[null,null,null,null,null,null,null,null,null,null,null,null,null,null,null,null,null,null,null,null,null,null,null,null,null,null,null,null,null,null,null,null,null,null,null,null,null,null,null,null,null,null,null,null,null,null,null,null,null,null,null,null,null,null,null,null,null,null,null,null,null,null,null,null,241,"A4",null,3,6,4,5,"","","","","","","","3645",4]
[null,null,null,null,null,null,null,null,null,null,null,null,null,null,null,null,null,null,null,null,null,null,null,null,null,null,null,null,null,null,null,null,null,null,null,null,null,null,null,null,null,null,null,null,null,null,null,null,null,null,null,null,null,null,null,null,null,null,null,null,null,null,null,null,242,"A4",null,3,6,4,8,"","","","","","","","3648",4]
[null,null,null,null,null,null,null,null,null,null,null,null,null,null,null,null,null,null,null,null,null,null,null,null,null,null,null,null,null,null,null,null,null,null,null,null,null,null,null,null,null,null,null,null,null,null,null,null,null,null,null,null,null,null,null,null,null,null,null,null,null,null,null,null,243,"A4",null,3,6,4,9,"","","","","","","","3649",4]
[null,null,null,null,null,null,null,null,null,null,null,null,null,null,null,null,null,null,null,null,null,null,null,null,null,null,null,null,null,null,null,null,null,null,null,null,null,null,null,null,null,null,null,null,null,null,null,null,null,null,null,null,null,null,null,null,null,null,null,null,null,null,null,null,244,"A4",null,3,6,8,1,"","","","","","","","3681",4]
[null,null,null,null,null,null,null,null,null,null,null,null,null,null,null,null,null,null,null,null,null,null,null,null,null,null,null,null,null,null,null,null,null,null,null,null,null,null,null,null,null,null,null,null,null,null,null,null,null,null,null,null,null,null,null,null,null,null,null,null,null,null,null,null,245,"A4",null,3,6,8,2,"","","","","","","","3682",4]
[null,null,null,null,null,null,null,null,null,null,null,null,null,null,null,null,null,null,null,null,null,null,null,null,null,null,null,null,null,null,null,null,null,null,null,null,null,null,null,null,null,null,null,null,null,null,null,null,null,null,null,null,null,null,null,null,null,null,null,null,null,null,null,null,246,"A4",null,3,6,8,4,"","","","","","","","3684",4]
[null,null,null,null,null,null,null,null,null,null,null,null,null,null,null,null,null,null,null,null,null,null,null,null,null,null,null,null,null,null,null,null,null,null,null,null,null,null,null,null,null,null,null,null,null,null,null,null,null,null,null,null,null,null,null,null,null,null,null,null,null,null,null,null,247,"A4",null,3,6,8,7,"","","","","","","","3687",4]
[null,null,null,null,null,null,null,null,null,null,null,null,null,null,null,null,null,null,null,null,null,null,null,null,null,null,null,null,null,null,null,null,null,null,null,null,null,null,null,null,null,null,null,null,null,null,null,null,null,null,null,null,null,null,null,null,null,null,null,null,null,null,null,null,248,"A4",null,3,6,8,9,"","","","","","","","3689",4]
[null,null,null,null,null,null,null,null,null,null,null,null,null,null,null,null,null,null,null,null,null,null,null,null,null,null,null,null,null,null,null,null,null,null,null,null,null,null,null,null,null,null,null,null,null,null,null,null,null,null,null,null,null,null,null,null,null,null,null,null,null,null,null,null,249,"A4",null,3,6,9,1,"","","","","","","","3691",4]
[null,null,null,null,null,null,null,null,null,null,null,null,null,null,null,null,null,null,null,null,null,null,null,null,null,null,null,null,null,null,null,null,null,null,null,null,null,null,null,null,null,null,null,null,null,null,null,null,null,null,null,null,null,null,null,null,null,null,null,null,null,null,null,null,250,"A4",null,3,6,9,2,"","","","","","","","3692",4]
[null,null,null,null,null,null,null,null,null,null,null,null,null,null,null,null,null,null,null,null,null,null,null,null,null,null,null,null,null,null,null,null,null,null,null,null,null,null,null,null,null,null,null,null,null,null,null,null,null,null,null,null,null,null,null,null,null,null,null,null,null,null,null,null,251,"A4",null,3,6,9,4,"","","","","","","","3694",4]
[null,null,null,null,null,null,null,null,null,null,null,null,null,null,null,null,null,null,null,null,null,null,null,null,null,null,null,null,null,null,null,null,null,null,null,null,null,null,null,null,null,null,null,null,null,null,null,null,null,null,null,null,null,null,null,null,null,null,null,null,null,null,null,null,252,"A4",null,3,6,9,7,"","","","","","","","3697",4]
[null,null,null,null,null,null,null,null,null,null,null,null,null,null,null,null,null,null,null,null,null,null,null,null,null,null,null,null,null,null,null,null,null,null,null,null,null,null,null,null,null,null,null,null,null,null,null,null,null,null,null,null,null,null,null,null,null,null,null,null,null,null,null,null,253,"A4",null,3,6,9,8,"","","","","","","","3698",4]
[null,null,null,null,null,null,null,null,null,null,null,null,null,null,null,null,null,null,null,null,null,null,null,null,null,null,null,null,null,null,null,null,null,null,null,null,null,null,null,null,null,null,null,null,null,null,null,null,null,null,null,null,null,null,null,null,null,null,null,null,null,null,null,null,254,"A4",null,3,8,4,1,"","","","","","","","3841",4]
[null,null,null,null,null,null,null,null,null,null,null,null,null,null,null,null,null,null,null,null,null,null,null,null,null,null,null,null,null,null,null,null,null,null,null,null,null,null,null,null,null,null,null,null,null,null,null,null,null,null,null,null,null,null,null,null,null,null,null,null,null,null,null,null,255,"A4",null,3,8,4,2,"","","","","","","","3842",4]
[null,null,null,null,null,null,null,null,null,null,null,null,null,null,null,null,null,null,null,null,null,null,null,null,null,null,null,null,null,null,null,null,null,null,null,null,null,null,null,null,null,null,null,null,null,null,null,null,null,null,null,null,null,null,null,null,null,null,null,null,null,null,null,null,256,"A4",null,3,8,4,6,"","","","","","","","3846",4]
[null,null,null,null,null,null,null,null,null,null,null,null,null,null,null,null,null,null,null,null,null,null,null,null,null,null,null,null,null,null,null,null,null,null,null,null,null,null,null,null,null,null,null,null,null,null,null,null,null,null,null,null,null,null,null,null,null,null,null,null,null,null,null,null,{"$f":"IF($S$33=MID(CA258,1,$S$32),BM257+1,BM257)","v":257},"A4",null,3,8,4,7,"","","","","","","","3847",{"$f":"LEN(CA258)","v":4}]
[null,null,null,null,null,null,null,null,null,null,null,null,null,null,null,null,null,null,null,null,null,null,null,null,null,null,null,null,null,null,null,null,null,null,null,null,null,null,null,null,null,null,null,null,null,null,null,null,null,null,null,null,null,null,null,null,null,null,null,null,null,null,null,null,258,"A4",null,3,8,4,9,"","","","","","","","3849",4]
[null,null,null,null,null,null,null,null,null,null,null,null,null,null,null,null,null,null,null,null,null,null,null,null,null,null,null,null,null,null,null,null,null,null,null,null,null,null,null,null,null,null,null,null,null,null,null,null,null,null,null,null,null,null,null,null,null,null,null,null,null,null,null,null,259,"A4",null,3,9,4,1,"","","","","","","","3941",4]
[null,null,null,null,null,null,null,null,null,null,null,null,null,null,null,null,null,null,null,null,null,null,null,null,null,null,null,null,null,null,null,null,null,null,null,null,null,null,null,null,null,null,null,null,null,null,null,null,null,null,null,null,null,null,null,null,null,null,null,null,null,null,null,null,260,"A4",null,3,9,4,2,"","","","","","","","3942",4]
[null,null,null,null,null,null,null,null,null,null,null,null,null,null,null,null,null,null,null,null,null,null,null,null,null,null,null,null,null,null,null,null,null,null,null,null,null,null,null,null,null,null,null,null,null,null,null,null,null,null,null,null,null,null,null,null,null,null,null,null,null,null,null,null,261,"A4",null,3,9,4,5,"","","","","","","","3945",4]
[null,null,null,null,null,null,null,null,null,null,null,null,null,null,null,null,null,null,null,null,null,null,null,null,null,null,null,null,null,null,null,null,null,null,null,null,null,null,null,null,null,null,null,null,null,null,null,null,null,null,null,null,null,null,null,null,null,null,null,null,null,null,null,null,262,"A4",null,3,9,4,6,"","","","","","","","3946",4]
[null,null,null,null,null,null,null,null,null,null,null,null,null,null,null,null,null,null,null,null,null,null,null,null,null,null,null,null,null,null,null,null,null,null,null,null,null,null,null,null,null,null,null,null,null,null,null,null,null,null,null,null,null,null,null,null,null,null,null,null,null,null,null,null,263,"A4",null,3,9,4,8,"","","","","","","","3948",4]
[null,null,null,null,null,null,null,null,null,null,null,null,null,null,null,null,null,null,null,null,null,null,null,null,null,null,null,null,null,null,null,null,null,null,null,null,null,null,null,null,null,null,null,null,null,null,null,null,null,null,null,null,null,null,null,null,null,null,null,null,null,null,null,null,264,"A4",null,3,9,6,1,"","","","","","","","3961",4]
[null,null,null,null,null,null,null,null,null,null,null,null,null,null,null,null,null,null,null,null,null,null,null,null,null,null,null,null,null,null,null,null,null,null,null,null,null,null,null,null,null,null,null,null,null,null,null,null,null,null,null,null,null,null,null,null,null,null,null,null,null,null,null,null,265,"A4",null,3,9,6,2,"","","","","","","","3962",4]
[null,null,null,null,null,null,null,null,null,null,null,null,null,null,null,null,null,null,null,null,null,null,null,null,null,null,null,null,null,null,null,null,null,null,null,null,null,null,null,null,null,null,null,null,null,null,null,null,null,null,null,null,null,null,null,null,null,null,null,null,null,null,null,null,266,"A4",null,3,9,8,4,"","","","","","","","3984",4]
[null,null,null,null,null,null,null,null,null,null,null,null,null,null,null,null,null,null,null,null,null,null,null,null,null,null,null,null,null,null,null,null,null,null,null,null,null,null,null,null,null,null,null,null,null,null,null,null,null,null,null,null,null,null,null,null,null,null,null,null,null,null,null,null,267,"A4",null,3,9,8,6,"","","","","","","","3986",4]
[null,null,null,null,null,null,null,null,null,null,null,null,null,null,null,null,null,null,null,null,null,null,null,null,null,null,null,null,null,null,null,null,null,null,null,null,null,null,null,null,null,null,null,null,null,null,null,null,null,null,null,null,null,null,null,null,null,null,null,null,null,null,null,null,268,"A4",null,3,9,8,7,"","","","","","","","3987",4]
[null,null,null,null,null,null,null,null,null,null,null,null,null,null,null,null,null,null,null,null,null,null,null,null,null,null,null,null,null,null,null,null,null,null,null,null,null,null,null,null,null,null,null,null,null,null,null,null,null,null,null,null,null,null,null,null,null,null,null,null,null,null,null,null,269,"A2",null,7,1,2,3,"","","","","","","","7123",4]
[null,null,null,null,null,null,null,null,null,null,null,null,null,null,null,null,null,null,null,null,null,null,null,null,null,null,null,null,null,null,null,null,null,null,null,null,null,null,null,null,null,null,null,null,null,null,null,null,null,null,null,null,null,null,null,null,null,null,null,null,null,null,null,null,270,"A2",null,7,1,2,4,"","","","","","","","7124",4]
[null,null,null,null,null,null,null,null,null,null,null,null,null,null,null,null,null,null,null,null,null,null,null,null,null,null,null,null,null,null,null,null,null,null,null,null,null,null,null,null,null,null,null,null,null,null,null,null,null,null,null,null,null,null,null,null,null,null,null,null,null,null,null,null,271,"A2",null,7,1,2,6,"","","","","","","","7126",4]
[null,null,null,null,null,null,null,null,null,null,null,null,null,null,null,null,null,null,null,null,null,null,null,null,null,null,null,null,null,null,null,null,null,null,null,null,null,null,null,null,null,null,null,null,null,null,null,null,null,null,null,null,null,null,null,null,null,null,null,null,null,null,null,null,272,"A2",null,7,1,4,8,"","","","","","","","7148",4]
[null,null,null,null,null,null,null,null,null,null,null,null,null,null,null,null,null,null,null,null,null,null,null,null,null,null,null,null,null,null,null,null,null,null,null,null,null,null,null,null,null,null,null,null,null,null,null,null,null,null,null,null,null,null,null,null,null,null,null,null,null,null,null,null,273,"A2",null,7,1,4,9,"","","","","","","","7149",4]
[null,null,null,null,null,null,null,null,null,null,null,null,null,null,null,null,null,null,null,null,null,null,null,null,null,null,null,null,null,null,null,null,null,null,null,null,null,null,null,null,null,null,null,null,null,null,null,null,null,null,null,null,null,null,null,null,null,null,null,null,null,null,null,null,274,"A2",null,7,1,6,2,"","","","","","","","7162",4]
[null,null,null,null,null,null,null,null,null,null,null,null,null,null,null,null,null,null,null,null,null,null,null,null,null,null,null,null,null,null,null,null,null,null,null,null,null,null,null,null,null,null,null,null,null,null,null,null,null,null,null,null,null,null,null,null,null,null,null,null,null,null,null,null,275,"A2",null,7,1,6,4,"","","","","","","","7164",4]
[null,null,null,null,null,null,null,null,null,null,null,null,null,null,null,null,null,null,null,null,null,null,null,null,null,null,null,null,null,null,null,null,null,null,null,null,null,null,null,null,null,null,null,null,null,null,null,null,null,null,null,null,null,null,null,null,null,null,null,null,null,null,null,null,276,"A2",null,7,1,6,5,"","","","","","","","7165",4]
[null,null,null,null,null,null,null,null,null,null,null,null,null,null,null,null,null,null,null,null,null,null,null,null,null,null,null,null,null,null,null,null,null,null,null,null,null,null,null,null,null,null,null,null,null,null,null,null,null,null,null,null,null,null,null,null,null,null,null,null,null,null,null,null,277,"A2",null,7,1,6,8,"","","","","","","","7168",4]
[null,null,null,null,null,null,null,null,null,null,null,null,null,null,null,null,null,null,null,null,null,null,null,null,null,null,null,null,null,null,null,null,null,null,null,null,null,null,null,null,null,null,null,null,null,null,null,null,null,null,null,null,null,null,null,null,null,null,null,null,null,null,null,null,278,"A2",null,7,1,6,9,"","","","","","","","7169",4]
[null,null,null,null,null,null,null,null,null,null,null,null,null,null,null,null,null,null,null,null,null,null,null,null,null,null,null,null,null,null,null,null,null,null,null,null,null,null,null,null,null,null,null,null,null,null,null,null,null,null,null,null,null,null,null,null,null,null,null,null,null,null,null,null,279,"A2",null,7,2,6,1,"","","","","","","","7261",4]
[null,null,null,null,null,null,null,null,null,null,null,null,null,null,null,null,null,null,null,null,null,null,null,null,null,null,null,null,null,null,null,null,null,null,null,null,null,null,null,null,null,null,null,null,null,null,null,null,null,null,null,null,null,null,null,null,null,null,null,null,null,null,null,null,280,"A2",null,7,2,6,3,"","","","","","","","7263",4]
[null,null,null,null,null,null,null,null,null,null,null,null,null,null,null,null,null,null,null,null,null,null,null,null,null,null,null,null,null,null,null,null,null,null,null,null,null,null,null,null,null,null,null,null,null,null,null,null,null,null,null,null,null,null,null,null,null,null,null,null,null,null,null,null,281,"A2",null,7,2,6,4,"","","","","","","","7264",4]
[null,null,null,null,null,null,null,null,null,null,null,null,null,null,null,null,null,null,null,null,null,null,null,null,null,null,null,null,null,null,null,null,null,null,null,null,null,null,null,null,null,null,null,null,null,null,null,null,null,null,null,null,null,null,null,null,null,null,null,null,null,null,null,null,282,"A2",null,7,2,6,8,"","","","","","","","7268",4]
[null,null,null,null,null,null,null,null,null,null,null,null,null,null,null,null,null,null,null,null,null,null,null,null,null,null,null,null,null,null,null,null,null,null,null,null,null,null,null,null,null,null,null,null,null,null,null,null,null,null,null,null,null,null,null,null,null,null,null,null,null,null,null,null,283,"A2",null,7,2,6,9,"","","","","","","","7269",4]
[null,null,null,null,null,null,null,null,null,null,null,null,null,null,null,null,null,null,null,null,null,null,null,null,null,null,null,null,null,null,null,null,null,null,null,null,null,null,null,null,null,null,null,null,null,null,null,null,null,null,null,null,null,null,null,null,null,null,null,null,null,null,null,null,284,"A2",null,7,4,1,2,"","","","","","","","7412",4]
[null,null,null,null,null,null,null,null,null,null,null,null,null,null,null,null,null,null,null,null,null,null,null,null,null,null,null,null,null,null,null,null,null,null,null,null,null,null,null,null,null,null,null,null,null,null,null,null,null,null,null,null,null,null,null,null,null,null,null,null,null,null,null,null,285,"A2",null,7,4,1,3,"","","","","","","","7413",4]
[null,null,null,null,null,null,null,null,null,null,null,null,null,null,null,null,null,null,null,null,null,null,null,null,null,null,null,null,null,null,null,null,null,null,null,null,null,null,null,null,null,null,null,null,null,null,null,null,null,null,null,null,null,null,null,null,null,null,null,null,null,null,null,null,286,"A2",null,7,4,1,6,"","","","","","","","7416",4]
[null,null,null,null,null,null,null,null,null,null,null,null,null,null,null,null,null,null,null,null,null,null,null,null,null,null,null,null,null,null,null,null,null,null,null,null,null,null,null,null,null,null,null,null,null,null,null,null,null,null,null,null,null,null,null,null,null,null,null,null,null,null,null,null,287,"A2",null,7,4,1,8,"","","","","","","","7418",4]
[null,null,null,null,null,null,null,null,null,null,null,null,null,null,null,null,null,null,null,null,null,null,null,null,null,null,null,null,null,null,null,null,null,null,null,null,null,null,null,null,null,null,null,null,null,null,null,null,null,null,null,null,null,null,null,null,null,null,null,null,null,null,null,null,288,"A2",null,7,4,1,9,"","","","","","","","7419",4]
[null,null,null,null,null,null,null,null,null,null,null,null,null,null,null,null,null,null,null,null,null,null,null,null,null,null,null,null,null,null,null,null,null,null,null,null,null,null,null,null,null,null,null,null,null,null,null,null,null,null,null,null,null,null,null,null,null,null,null,null,null,null,null,null,289,"A2",null,7,4,2,1,"","","","","","","","7421",4]
[null,null,null,null,null,null,null,null,null,null,null,null,null,null,null,null,null,null,null,null,null,null,null,null,null,null,null,null,null,null,null,null,null,null,null,null,null,null,null,null,null,null,null,null,null,null,null,null,null,null,null,null,null,null,null,null,null,null,null,null,null,null,null,null,290,"A2",null,7,4,2,3,"","","","","","","","7423",4]
[null,null,null,null,null,null,null,null,null,null,null,null,null,null,null,null,null,null,null,null,null,null,null,null,null,null,null,null,null,null,null,null,null,null,null,null,null,null,null,null,null,null,null,null,null,null,null,null,null,null,null,null,null,null,null,null,null,null,null,null,null,null,null,null,291,"A2",null,7,4,2,6,"","","","","","","","7426",4]
[null,null,null,null,null,null,null,null,null,null,null,null,null,null,null,null,null,null,null,null,null,null,null,null,null,null,null,null,null,null,null,null,null,null,null,null,null,null,null,null,null,null,null,null,null,null,null,null,null,null,null,null,null,null,null,null,null,null,null,null,null,null,null,null,292,"A2",null,7,4,2,8,"","","","","","","","7428",4]
[null,null,null,null,null,null,null,null,null,null,null,null,null,null,null,null,null,null,null,null,null,null,null,null,null,null,null,null,null,null,null,null,null,null,null,null,null,null,null,null,null,null,null,null,null,null,null,null,null,null,null,null,null,null,null,null,null,null,null,null,null,null,null,null,293,"A2",null,7,4,2,9,"","","","","","","","7429",4]
[null,null,null,null,null,null,null,null,null,null,null,null,null,null,null,null,null,null,null,null,null,null,null,null,null,null,null,null,null,null,null,null,null,null,null,null,null,null,null,null,null,null,null,null,null,null,null,null,null,null,null,null,null,null,null,null,null,null,null,null,null,null,null,null,294,"A2",null,7,4,6,1,"","","","","","","","7461",4]
[null,null,null,null,null,null,null,null,null,null,null,null,null,null,null,null,null,null,null,null,null,null,null,null,null,null,null,null,null,null,null,null,null,null,null,null,null,null,null,null,null,null,null,null,null,null,null,null,null,null,null,null,null,null,null,null,null,null,null,null,null,null,null,null,295,"A2",null,7,4,6,2,"","","","","","","","7462",4]
[null,null,null,null,null,null,null,null,null,null,null,null,null,null,null,null,null,null,null,null,null,null,null,null,null,null,null,null,null,null,null,null,null,null,null,null,null,null,null,null,null,null,null,null,null,null,null,null,null,null,null,null,null,null,null,null,null,null,null,null,null,null,null,null,296,"A2",null,7,4,6,5,"","","","","","","","7465",4]
[null,null,null,null,null,null,null,null,null,null,null,null,null,null,null,null,null,null,null,null,null,null,null,null,null,null,null,null,null,null,null,null,null,null,null,null,null,null,null,null,null,null,null,null,null,null,null,null,null,null,null,null,null,null,null,null,null,null,null,null,null,null,null,null,297,"A2",null,7,4,6,8,"","","","","","","","7468",4]
[null,null,null,null,null,null,null,null,null,null,null,null,null,null,null,null,null,null,null,null,null,null,null,null,null,null,null,null,null,null,null,null,null,null,null,null,null,null,null,null,null,null,null,null,null,null,null,null,null,null,null,null,null,null,null,null,null,null,null,null,null,null,null,null,298,"B4",null,7,6,2,1,"","","","","","","","7621",4]
[null,null,null,null,null,null,null,null,null,null,null,null,null,null,null,null,null,null,null,null,null,null,null,null,null,null,null,null,null,null,null,null,null,null,null,null,null,null,null,null,null,null,null,null,null,null,null,null,null,null,null,null,null,null,null,null,null,null,null,null,null,null,null,null,299,"B4",null,7,6,2,3,"","","","","","","","7623",4]
[null,null,null,null,null,null,null,null,null,null,null,null,null,null,null,null,null,null,null,null,null,null,null,null,null,null,null,null,null,null,null,null,null,null,null,null,null,null,null,null,null,null,null,null,null,null,null,null,null,null,null,null,null,null,null,null,null,null,null,null,null,null,null,null,300,"B4",null,7,6,2,4,"","","","","","","","7624",4]
[null,null,null,null,null,null,null,null,null,null,null,null,null,null,null,null,null,null,null,null,null,null,null,null,null,null,null,null,null,null,null,null,null,null,null,null,null,null,null,null,null,null,null,null,null,null,null,null,null,null,null,null,null,null,null,null,null,null,null,null,null,null,null,null,301,"B4",null,7,6,2,8,"","","","","","","","7628",4]
[null,null,null,null,null,null,null,null,null,null,null,null,null,null,null,null,null,null,null,null,null,null,null,null,null,null,null,null,null,null,null,null,null,null,null,null,null,null,null,null,null,null,null,null,null,null,null,null,null,null,null,null,null,null,null,null,null,null,null,null,null,null,null,null,302,"B4",null,7,6,2,9,"","","","","","","","7629",4]
[null,null,null,null,null,null,null,null,null,null,null,null,null,null,null,null,null,null,null,null,null,null,null,null,null,null,null,null,null,null,null,null,null,null,null,null,null,null,null,null,null,null,null,null,null,null,null,null,null,null,null,null,null,null,null,null,null,null,null,null,null,null,null,null,303,"B4",null,7,8,2,4,"","","","","","","","7824",4]
[null,null,null,null,null,null,null,null,null,null,null,null,null,null,null,null,null,null,null,null,null,null,null,null,null,null,null,null,null,null,null,null,null,null,null,null,null,null,null,null,null,null,null,null,null,null,null,null,null,null,null,null,null,null,null,null,null,null,null,null,null,null,null,null,304,"B4",null,7,8,2,5,"","","","","","","","7825",4]
[null,null,null,null,null,null,null,null,null,null,null,null,null,null,null,null,null,null,null,null,null,null,null,null,null,null,null,null,null,null,null,null,null,null,null,null,null,null,null,null,null,null,null,null,null,null,null,null,null,null,null,null,null,null,null,null,null,null,null,null,null,null,null,null,305,"B4",null,7,8,2,6,"","","","","","","","7826",4]
[null,null,null,null,null,null,null,null,null,null,null,null,null,null,null,null,null,null,null,null,null,null,null,null,null,null,null,null,null,null,null,null,null,null,null,null,null,null,null,null,null,null,null,null,null,null,null,null,null,null,null,null,null,null,null,null,null,null,null,null,null,null,null,null,306,"B4",null,7,8,2,9,"","","","","","","","7829",4]
[null,null,null,null,null,null,null,null,null,null,null,null,null,null,null,null,null,null,null,null,null,null,null,null,null,null,null,null,null,null,null,null,null,null,null,null,null,null,null,null,null,null,null,null,null,null,null,null,null,null,null,null,null,null,null,null,null,null,null,null,null,null,null,null,307,"B4",null,7,8,6,1,"","","","","","","","7861",4]
[null,null,null,null,null,null,null,null,null,null,null,null,null,null,null,null,null,null,null,null,null,null,null,null,null,null,null,null,null,null,null,null,null,null,null,null,null,null,null,null,null,null,null,null,null,null,null,null,null,null,null,null,null,null,null,null,null,null,null,null,null,null,null,null,308,"B4",null,7,8,6,2,"","","","","","","","7862",4]
[null,null,null,null,null,null,null,null,null,null,null,null,null,null,null,null,null,null,null,null,null,null,null,null,null,null,null,null,null,null,null,null,null,null,null,null,null,null,null,null,null,null,null,null,null,null,null,null,null,null,null,null,null,null,null,null,null,null,null,null,null,null,null,null,309,"B4",null,7,8,6,3,"","","","","","","","7863",4]
[null,null,null,null,null,null,null,null,null,null,null,null,null,null,null,null,null,null,null,null,null,null,null,null,null,null,null,null,null,null,null,null,null,null,null,null,null,null,null,null,null,null,null,null,null,null,null,null,null,null,null,null,null,null,null,null,null,null,null,null,null,null,null,null,310,"B4",null,7,8,6,4,"","","","","","","","7864",4]
[null,null,null,null,null,null,null,null,null,null,null,null,null,null,null,null,null,null,null,null,null,null,null,null,null,null,null,null,null,null,null,null,null,null,null,null,null,null,null,null,null,null,null,null,null,null,null,null,null,null,null,null,null,null,null,null,null,null,null,null,null,null,null,null,311,"B4",null,7,8,6,9,"","","","","","","","7869",4]
[null,null,null,null,null,null,null,null,null,null,null,null,null,null,null,null,null,null,null,null,null,null,null,null,null,null,null,null,null,null,null,null,null,null,null,null,null,null,null,null,null,null,null,null,null,null,null,null,null,null,null,null,null,null,null,null,null,null,null,null,null,null,null,null,312,"B4",null,7,8,9,1,"","","","","","","","7891",4]
[null,null,null,null,null,null,null,null,null,null,null,null,null,null,null,null,null,null,null,null,null,null,null,null,null,null,null,null,null,null,null,null,null,null,null,null,null,null,null,null,null,null,null,null,null,null,null,null,null,null,null,null,null,null,null,null,null,null,null,null,null,null,null,null,313,"B4",null,7,8,9,2,"","","","","","","","7892",4]
[null,null,null,null,null,null,null,null,null,null,null,null,null,null,null,null,null,null,null,null,null,null,null,null,null,null,null,null,null,null,null,null,null,null,null,null,null,null,null,null,null,null,null,null,null,null,null,null,null,null,null,null,null,null,null,null,null,null,null,null,null,null,null,null,314,"B4",null,7,8,9,3,"","","","","","","","7893",4]
[null,null,null,null,null,null,null,null,null,null,null,null,null,null,null,null,null,null,null,null,null,null,null,null,null,null,null,null,null,null,null,null,null,null,null,null,null,null,null,null,null,null,null,null,null,null,null,null,null,null,null,null,null,null,null,null,null,null,null,null,null,null,null,null,315,"B4",null,7,8,9,4,"","","","","","","","7894",4]
[null,null,null,null,null,null,null,null,null,null,null,null,null,null,null,null,null,null,null,null,null,null,null,null,null,null,null,null,null,null,null,null,null,null,null,null,null,null,null,null,null,null,null,null,null,null,null,null,null,null,null,null,null,null,null,null,null,null,null,null,null,null,null,null,316,"B4",null,7,8,9,6,"","","","","","","","7896",4]
[null,null,null,null,null,null,null,null,null,null,null,null,null,null,null,null,null,null,null,null,null,null,null,null,null,null,null,null,null,null,null,null,null,null,null,null,null,null,null,null,null,null,null,null,null,null,null,null,null,null,null,null,null,null,null,null,null,null,null,null,null,null,null,null,317,"B4",null,7,9,2,1,"","","","","","","","7921",4]
[null,null,null,null,null,null,null,null,null,null,null,null,null,null,null,null,null,null,null,null,null,null,null,null,null,null,null,null,null,null,null,null,null,null,null,null,null,null,null,null,null,null,null,null,null,null,null,null,null,null,null,null,null,null,null,null,null,null,null,null,null,null,null,null,318,"B4",null,7,9,2,4,"","","","","","","","7924",4]
[null,null,null,null,null,null,null,null,null,null,null,null,null,null,null,null,null,null,null,null,null,null,null,null,null,null,null,null,null,null,null,null,null,null,null,null,null,null,null,null,null,null,null,null,null,null,null,null,null,null,null,null,null,null,null,null,null,null,null,null,null,null,null,null,319,"B4",null,7,9,2,5,"","","","","","","","7925",4]
[null,null,null,null,null,null,null,null,null,null,null,null,null,null,null,null,null,null,null,null,null,null,null,null,null,null,null,null,null,null,null,null,null,null,null,null,null,null,null,null,null,null,null,null,null,null,null,null,null,null,null,null,null,null,null,null,null,null,null,null,null,null,null,null,320,"B4",null,7,9,2,6,"","","","","","","","7926",4]
[null,null,null,null,null,null,null,null,null,null,null,null,null,null,null,null,null,null,null,null,null,null,null,null,null,null,null,null,null,null,null,null,null,null,null,null,null,null,null,null,null,null,null,null,null,null,null,null,null,null,null,null,null,null,null,null,null,null,null,null,null,null,null,null,{"$f":"IF($S$33=MID(CA322,1,$S$32),BM321+1,BM321)","v":321},"B4",null,7,9,2,8,"","","","","","","","7928",{"$f":"LEN(CA322)","v":4}]
[null,null,null,null,null,null,null,null,null,null,null,null,null,null,null,null,null,null,null,null,null,null,null,null,null,null,null,null,null,null,null,null,null,null,null,null,null,null,null,null,null,null,null,null,null,null,null,null,null,null,null,null,null,null,null,null,null,null,null,null,null,null,null,null,322,"B4",null,7,9,6,2,"","","","","","","","7962",4]
[null,null,null,null,null,null,null,null,null,null,null,null,null,null,null,null,null,null,null,null,null,null,null,null,null,null,null,null,null,null,null,null,null,null,null,null,null,null,null,null,null,null,null,null,null,null,null,null,null,null,null,null,null,null,null,null,null,null,null,null,null,null,null,null,323,"B4",null,7,9,6,3,"","","","","","","","7963",4]
[null,null,null,null,null,null,null,null,null,null,null,null,null,null,null,null,null,null,null,null,null,null,null,null,null,null,null,null,null,null,null,null,null,null,null,null,null,null,null,null,null,null,null,null,null,null,null,null,null,null,null,null,null,null,null,null,null,null,null,null,null,null,null,null,324,"B4",null,7,9,6,8,"","","","","","","","7968",4]
[null,null,null,null,null,null,null,null,null,null,null,null,null,null,null,null,null,null,null,null,null,null,null,null,null,null,null,null,null,null,null,null,null,null,null,null,null,null,null,null,null,null,null,null,null,null,null,null,null,null,null,null,null,null,null,null,null,null,null,null,null,null,null,null,325,"B4",null,7,9,8,1,"","","","","","","","7981",4]
[null,null,null,null,null,null,null,null,null,null,null,null,null,null,null,null,null,null,null,null,null,null,null,null,null,null,null,null,null,null,null,null,null,null,null,null,null,null,null,null,null,null,null,null,null,null,null,null,null,null,null,null,null,null,null,null,null,null,null,null,null,null,null,null,326,"B4",null,7,9,8,4,"","","","","","","","7984",4]
[null,null,null,null,null,null,null,null,null,null,null,null,null,null,null,null,null,null,null,null,null,null,null,null,null,null,null,null,null,null,null,null,null,null,null,null,null,null,null,null,null,null,null,null,null,null,null,null,null,null,null,null,null,null,null,null,null,null,null,null,null,null,null,null,327,"B3",null,9,2,4,1,"","","","","","","","9241",4]
[null,null,null,null,null,null,null,null,null,null,null,null,null,null,null,null,null,null,null,null,null,null,null,null,null,null,null,null,null,null,null,null,null,null,null,null,null,null,null,null,null,null,null,null,null,null,null,null,null,null,null,null,null,null,null,null,null,null,null,null,null,null,null,null,328,"B3",null,9,2,4,3,"","","","","","","","9243",4]
[null,null,null,null,null,null,null,null,null,null,null,null,null,null,null,null,null,null,null,null,null,null,null,null,null,null,null,null,null,null,null,null,null,null,null,null,null,null,null,null,null,null,null,null,null,null,null,null,null,null,null,null,null,null,null,null,null,null,null,null,null,null,null,null,329,"B3",null,9,2,4,6,"","","","","","","","9246",4]
[null,null,null,null,null,null,null,null,null,null,null,null,null,null,null,null,null,null,null,null,null,null,null,null,null,null,null,null,null,null,null,null,null,null,null,null,null,null,null,null,null,null,null,null,null,null,null,null,null,null,null,null,null,null,null,null,null,null,null,null,null,null,null,null,330,"B3",null,9,2,4,7,"","","","","","","","9247",4]
[null,null,null,null,null,null,null,null,null,null,null,null,null,null,null,null,null,null,null,null,null,null,null,null,null,null,null,null,null,null,null,null,null,null,null,null,null,null,null,null,null,null,null,null,null,null,null,null,null,null,null,null,null,null,null,null,null,null,null,null,null,null,null,null,331,"B3",null,9,2,4,8,"","","","","","","","9248",4]
[null,null,null,null,null,null,null,null,null,null,null,null,null,null,null,null,null,null,null,null,null,null,null,null,null,null,null,null,null,null,null,null,null,null,null,null,null,null,null,null,null,null,null,null,null,null,null,null,null,null,null,null,null,null,null,null,null,null,null,null,null,null,null,null,332,"B3",null,9,3,2,1,"","","","","","","","9321",4]
[null,null,null,null,null,null,null,null,null,null,null,null,null,null,null,null,null,null,null,null,null,null,null,null,null,null,null,null,null,null,null,null,null,null,null,null,null,null,null,null,null,null,null,null,null,null,null,null,null,null,null,null,null,null,null,null,null,null,null,null,null,null,null,null,333,"B3",null,9,3,2,4,"","","","","","","","9324",4]
[null,null,null,null,null,null,null,null,null,null,null,null,null,null,null,null,null,null,null,null,null,null,null,null,null,null,null,null,null,null,null,null,null,null,null,null,null,null,null,null,null,null,null,null,null,null,null,null,null,null,null,null,null,null,null,null,null,null,null,null,null,null,null,null,334,"B3",null,9,3,2,6,"","","","","","","","9326",4]
[null,null,null,null,null,null,null,null,null,null,null,null,null,null,null,null,null,null,null,null,null,null,null,null,null,null,null,null,null,null,null,null,null,null,null,null,null,null,null,null,null,null,null,null,null,null,null,null,null,null,null,null,null,null,null,null,null,null,null,null,null,null,null,null,335,"B3",null,9,3,4,2,"","","","","","","","9342",4]
[null,null,null,null,null,null,null,null,null,null,null,null,null,null,null,null,null,null,null,null,null,null,null,null,null,null,null,null,null,null,null,null,null,null,null,null,null,null,null,null,null,null,null,null,null,null,null,null,null,null,null,null,null,null,null,null,null,null,null,null,null,null,null,null,336,"B3",null,9,3,4,5,"","","","","","","","9345",4]
[null,null,null,null,null,null,null,null,null,null,null,null,null,null,null,null,null,null,null,null,null,null,null,null,null,null,null,null,null,null,null,null,null,null,null,null,null,null,null,null,null,null,null,null,null,null,null,null,null,null,null,null,null,null,null,null,null,null,null,null,null,null,null,null,337,"B3",null,9,3,4,6,"","","","","","","","9346",4]
[null,null,null,null,null,null,null,null,null,null,null,null,null,null,null,null,null,null,null,null,null,null,null,null,null,null,null,null,null,null,null,null,null,null,null,null,null,null,null,null,null,null,null,null,null,null,null,null,null,null,null,null,null,null,null,null,null,null,null,null,null,null,null,null,338,"B3",null,9,3,4,7,"","","","","","","","9347",4]
[null,null,null,null,null,null,null,null,null,null,null,null,null,null,null,null,null,null,null,null,null,null,null,null,null,null,null,null,null,null,null,null,null,null,null,null,null,null,null,null,null,null,null,null,null,null,null,null,null,null,null,null,null,null,null,null,null,null,null,null,null,null,null,null,339,"B3",null,9,3,4,8,"","","","","","","","9348",4]
[null,null,null,null,null,null,null,null,null,null,null,null,null,null,null,null,null,null,null,null,null,null,null,null,null,null,null,null,null,null,null,null,null,null,null,null,null,null,null,null,null,null,null,null,null,null,null,null,null,null,null,null,null,null,null,null,null,null,null,null,null,null,null,null,340,"B3",null,9,3,6,7,"","","","","","","","9367",4]
[null,null,null,null,null,null,null,null,null,null,null,null,null,null,null,null,null,null,null,null,null,null,null,null,null,null,null,null,null,null,null,null,null,null,null,null,null,null,null,null,null,null,null,null,null,null,null,null,null,null,null,null,null,null,null,null,null,null,null,null,null,null,null,null,341,"B3",null,9,3,6,8,"","","","","","","","9368",4]
[null,null,null,null,null,null,null,null,null,null,null,null,null,null,null,null,null,null,null,null,null,null,null,null,null,null,null,null,null,null,null,null,null,null,null,null,null,null,null,null,null,null,null,null,null,null,null,null,null,null,null,null,null,null,null,null,null,null,null,null,null,null,null,null,342,"A3",null,9,4,2,1,"","","","","","","","9421",4]
[null,null,null,null,null,null,null,null,null,null,null,null,null,null,null,null,null,null,null,null,null,null,null,null,null,null,null,null,null,null,null,null,null,null,null,null,null,null,null,null,null,null,null,null,null,null,null,null,null,null,null,null,null,null,null,null,null,null,null,null,null,null,null,null,343,"A3",null,9,4,2,3,"","","","","","","","9423",4]
[null,null,null,null,null,null,null,null,null,null,null,null,null,null,null,null,null,null,null,null,null,null,null,null,null,null,null,null,null,null,null,null,null,null,null,null,null,null,null,null,null,null,null,null,null,null,null,null,null,null,null,null,null,null,null,null,null,null,null,null,null,null,null,null,344,"A3",null,9,4,2,6,"","","","","","","","9426",4]
[null,null,null,null,null,null,null,null,null,null,null,null,null,null,null,null,null,null,null,null,null,null,null,null,null,null,null,null,null,null,null,null,null,null,null,null,null,null,null,null,null,null,null,null,null,null,null,null,null,null,null,null,null,null,null,null,null,null,null,null,null,null,null,null,345,"A3",null,9,4,2,7,"","","","","","","","9427",4]
[null,null,null,null,null,null,null,null,null,null,null,null,null,null,null,null,null,null,null,null,null,null,null,null,null,null,null,null,null,null,null,null,null,null,null,null,null,null,null,null,null,null,null,null,null,null,null,null,null,null,null,null,null,null,null,null,null,null,null,null,null,null,null,null,346,"A3",null,9,4,2,8,"","","","","","","","9428",4]
[null,null,null,null,null,null,null,null,null,null,null,null,null,null,null,null,null,null,null,null,null,null,null,null,null,null,null,null,null,null,null,null,null,null,null,null,null,null,null,null,null,null,null,null,null,null,null,null,null,null,null,null,null,null,null,null,null,null,null,null,null,null,null,null,347,"B3",null,9,6,2,1,"","","","","","","","9621",4]
[null,null,null,null,null,null,null,null,null,null,null,null,null,null,null,null,null,null,null,null,null,null,null,null,null,null,null,null,null,null,null,null,null,null,null,null,null,null,null,null,null,null,null,null,null,null,null,null,null,null,null,null,null,null,null,null,null,null,null,null,null,null,null,null,348,"B3",null,9,6,2,3,"","","","","","","","9623",4]
[null,null,null,null,null,null,null,null,null,null,null,null,null,null,null,null,null,null,null,null,null,null,null,null,null,null,null,null,null,null,null,null,null,null,null,null,null,null,null,null,null,null,null,null,null,null,null,null,null,null,null,null,null,null,null,null,null,null,null,null,null,null,null,null,349,"B3",null,9,6,2,4,"","","","","","","","9624",4]
[null,null,null,null,null,null,null,null,null,null,null,null,null,null,null,null,null,null,null,null,null,null,null,null,null,null,null,null,null,null,null,null,null,null,null,null,null,null,null,null,null,null,null,null,null,null,null,null,null,null,null,null,null,null,null,null,null,null,null,null,null,null,null,null,350,"B3",null,9,6,2,7,"","","","","","","","9627",4]
[null,null,null,null,null,null,null,null,null,null,null,null,null,null,null,null,null,null,null,null,null,null,null,null,null,null,null,null,null,null,null,null,null,null,null,null,null,null,null,null,null,null,null,null,null,null,null,null,null,null,null,null,null,null,null,null,null,null,null,null,null,null,null,null,351,"B3",null,9,6,2,8,"","","","","","","","9628",4]
[null,null,null,null,null,null,null,null,null,null,null,null,null,null,null,null,null,null,null,null,null,null,null,null,null,null,null,null,null,null,null,null,null,null,null,null,null,null,null,null,null,null,null,null,null,null,null,null,null,null,null,null,null,null,null,null,null,null,null,null,null,null,null,null,352,"B3",null,9,6,3,1,"","","","","","","","9631",4]
[null,null,null,null,null,null,null,null,null,null,null,null,null,null,null,null,null,null,null,null,null,null,null,null,null,null,null,null,null,null,null,null,null,null,null,null,null,null,null,null,null,null,null,null,null,null,null,null,null,null,null,null,null,null,null,null,null,null,null,null,null,null,null,null,353,"B3",null,9,6,3,2,"","","","","","","","9632",4]
[null,null,null,null,null,null,null,null,null,null,null,null,null,null,null,null,null,null,null,null,null,null,null,null,null,null,null,null,null,null,null,null,null,null,null,null,null,null,null,null,null,null,null,null,null,null,null,null,null,null,null,null,null,null,null,null,null,null,null,null,null,null,null,null,354,"B3",null,9,6,3,4,"","","","","","","","9634",4]
[null,null,null,null,null,null,null,null,null,null,null,null,null,null,null,null,null,null,null,null,null,null,null,null,null,null,null,null,null,null,null,null,null,null,null,null,null,null,null,null,null,null,null,null,null,null,null,null,null,null,null,null,null,null,null,null,null,null,null,null,null,null,null,null,355,"B3",null,9,6,3,7,"","","","","","","","9637",4]
[null,null,null,null,null,null,null,null,null,null,null,null,null,null,null,null,null,null,null,null,null,null,null,null,null,null,null,null,null,null,null,null,null,null,null,null,null,null,null,null,null,null,null,null,null,null,null,null,null,null,null,null,null,null,null,null,null,null,null,null,null,null,null,null,356,"B3",null,9,6,3,8,"","","","","","","","9638",4]
[null,null,null,null,null,null,null,null,null,null,null,null,null,null,null,null,null,null,null,null,null,null,null,null,null,null,null,null,null,null,null,null,null,null,null,null,null,null,null,null,null,null,null,null,null,null,null,null,null,null,null,null,null,null,null,null,null,null,null,null,null,null,null,null,357,"B3",null,9,6,4,2,"","","","","","","","9642",4]
[null,null,null,null,null,null,null,null,null,null,null,null,null,null,null,null,null,null,null,null,null,null,null,null,null,null,null,null,null,null,null,null,null,null,null,null,null,null,null,null,null,null,null,null,null,null,null,null,null,null,null,null,null,null,null,null,null,null,null,null,null,null,null,null,358,"B3",null,9,6,4,3,"","","","","","","","9643",4]
[null,null,null,null,null,null,null,null,null,null,null,null,null,null,null,null,null,null,null,null,null,null,null,null,null,null,null,null,null,null,null,null,null,null,null,null,null,null,null,null,null,null,null,null,null,null,null,null,null,null,null,null,null,null,null,null,null,null,null,null,null,null,null,null,359,"B3",null,9,6,4,5,"","","","","","","","9645",4]
[null,null,null,null,null,null,null,null,null,null,null,null,null,null,null,null,null,null,null,null,null,null,null,null,null,null,null,null,null,null,null,null,null,null,null,null,null,null,null,null,null,null,null,null,null,null,null,null,null,null,null,null,null,null,null,null,null,null,null,null,null,null,null,null,360,"B3",null,9,6,4,8,"","","","","","","","9648",4]
[null,null,null,null,null,null,null,null,null,null,null,null,null,null,null,null,null,null,null,null,null,null,null,null,null,null,null,null,null,null,null,null,null,null,null,null,null,null,null,null,null,null,null,null,null,null,null,null,null,null,null,null,null,null,null,null,null,null,null,null,null,null,null,null,361,"A3",null,9,7,2,3,"","","","","","","","9723",4]
[null,null,null,null,null,null,null,null,null,null,null,null,null,null,null,null,null,null,null,null,null,null,null,null,null,null,null,null,null,null,null,null,null,null,null,null,null,null,null,null,null,null,null,null,null,null,null,null,null,null,null,null,null,null,null,null,null,null,null,null,null,null,null,null,362,"A3",null,9,7,2,4,"","","","","","","","9724",4]
[null,null,null,null,null,null,null,null,null,null,null,null,null,null,null,null,null,null,null,null,null,null,null,null,null,null,null,null,null,null,null,null,null,null,null,null,null,null,null,null,null,null,null,null,null,null,null,null,null,null,null,null,null,null,null,null,null,null,null,null,null,null,null,null,363,"A3",null,9,7,2,5,"","","","","","","","9725",4]
[null,null,null,null,null,null,null,null,null,null,null,null,null,null,null,null,null,null,null,null,null,null,null,null,null,null,null,null,null,null,null,null,null,null,null,null,null,null,null,null,null,null,null,null,null,null,null,null,null,null,null,null,null,null,null,null,null,null,null,null,null,null,null,null,364,"A3",null,9,7,2,6,"","","","","","","","9726",4]
[null,null,null,null,null,null,null,null,null,null,null,null,null,null,null,null,null,null,null,null,null,null,null,null,null,null,null,null,null,null,null,null,null,null,null,null,null,null,null,null,null,null,null,null,null,null,null,null,null,null,null,null,null,null,null,null,null,null,null,null,null,null,null,null,365,"A3",null,9,7,2,8,"","","","","","","","9728",4]
[null,null,null,null,null,null,null,null,null,null,null,null,null,null,null,null,null,null,null,null,null,null,null,null,null,null,null,null,null,null,null,null,null,null,null,null,null,null,null,null,null,null,null,null,null,null,null,null,null,null,null,null,null,null,null,null,null,null,null,null,null,null,null,null,366,"A3",null,9,7,4,1,"","","","","","","","9741",4]
[null,null,null,null,null,null,null,null,null,null,null,null,null,null,null,null,null,null,null,null,null,null,null,null,null,null,null,null,null,null,null,null,null,null,null,null,null,null,null,null,null,null,null,null,null,null,null,null,null,null,null,null,null,null,null,null,null,null,null,null,null,null,null,null,367,"A3",null,9,7,4,2,"","","","","","","","9742",4]
[null,null,null,null,null,null,null,null,null,null,null,null,null,null,null,null,null,null,null,null,null,null,null,null,null,null,null,null,null,null,null,null,null,null,null,null,null,null,null,null,null,null,null,null,null,null,null,null,null,null,null,null,null,null,null,null,null,null,null,null,null,null,null,null,368,"A3",null,9,7,4,8,"","","","","","","","9748",4]
[null,null,null,null,null,null,null,null,null,null,null,null,null,null,null,null,null,null,null,null,null,null,null,null,null,null,null,null,null,null,null,null,null,null,null,null,null,null,null,null,null,null,null,null,null,null,null,null,null,null,null,null,null,null,null,null,null,null,null,null,null,null,null,null,369,"A3",null,9,7,8,3,"","","","","","","","9783",4]
[null,null,null,null,null,null,null,null,null,null,null,null,null,null,null,null,null,null,null,null,null,null,null,null,null,null,null,null,null,null,null,null,null,null,null,null,null,null,null,null,null,null,null,null,null,null,null,null,null,null,null,null,null,null,null,null,null,null,null,null,null,null,null,null,370,"A3",null,9,7,8,6,"","","","","","","","9786",4]
[null,null,null,null,null,null,null,null,null,null,null,null,null,null,null,null,null,null,null,null,null,null,null,null,null,null,null,null,null,null,null,null,null,null,null,null,null,null,null,null,null,null,null,null,null,null,null,null,null,null,null,null,null,null,null,null,null,null,null,null,null,null,null,null,371,"A3",null,9,8,2,4,"","","","","","","","9824",4]
[null,null,null,null,null,null,null,null,null,null,null,null,null,null,null,null,null,null,null,null,null,null,null,null,null,null,null,null,null,null,null,null,null,null,null,null,null,null,null,null,null,null,null,null,null,null,null,null,null,null,null,null,null,null,null,null,null,null,null,null,null,null,null,null,372,"A3",null,9,8,2,5,"","","","","","","","9825",4]
[null,null,null,null,null,null,null,null,null,null,null,null,null,null,null,null,null,null,null,null,null,null,null,null,null,null,null,null,null,null,null,null,null,null,null,null,null,null,null,null,null,null,null,null,null,null,null,null,null,null,null,null,null,null,null,null,null,null,null,null,null,null,null,null,373,"A3",null,9,8,2,6,"","","","","","","","9826",4]
[null,null,null,null,null,null,null,null,null,null,null,null,null,null,null,null,null,null,null,null,null,null,null,null,null,null,null,null,null,null,null,null,null,null,null,null,null,null,null,null,null,null,null,null,null,null,null,null,null,null,null,null,null,null,null,null,null,null,null,null,null,null,null,null,374,"A3",null,9,8,2,7,"","","","","","","","9827",4]
[null,null,null,null,null,null,null,null,null,null,null,null,null,null,null,null,null,null,null,null,null,null,null,null,null,null,null,null,null,null,null,null,null,null,null,null,null,null,null,null,null,null,null,null,null,null,null,null,null,null,null,null,null,null,null,null,null,null,null,null,null,null,null,null,375,"A3",null,9,8,4,1,"","","","","","","","9841",4]
[null,null,null,null,null,null,null,null,null,null,null,null,null,null,null,null,null,null,null,null,null,null,null,null,null,null,null,null,null,null,null,null,null,null,null,null,null,null,null,null,null,null,null,null,null,null,null,null,null,null,null,null,null,null,null,null,null,null,null,null,null,null,null,null,376,"A3",null,9,8,4,2,"","","","","","","","9842",4]
[null,null,null,null,null,null,null,null,null,null,null,null,null,null,null,null,null,null,null,null,null,null,null,null,null,null,null,null,null,null,null,null,null,null,null,null,null,null,null,null,null,null,null,null,null,null,null,null,null,null,null,null,null,null,null,null,null,null,null,null,null,null,null,null,377,"A3",null,9,8,4,3,"","","","","","","","9843",4]
[null,null,null,null,null,null,null,null,null,null,null,null,null,null,null,null,null,null,null,null,null,null,null,null,null,null,null,null,null,null,null,null,null,null,null,null,null,null,null,null,null,null,null,null,null,null,null,null,null,null,null,null,null,null,null,null,null,null,null,null,null,null,null,null,378,"A3",null,9,8,4,6,"","","","","","","","9846",4]
[null,null,null,null,null,null,null,null,null,null,null,null,null,null,null,null,null,null,null,null,null,null,null,null,null,null,null,null,null,null,null,null,null,null,null,null,null,null,null,null,null,null,null,null,null,null,null,null,null,null,null,null,null,null,null,null,null,null,null,null,null,null,null,null,379,"A3",null,9,8,4,7,"","","","","","","","9847",4]
[null,null,null,null,null,null,null,null,null,null,null,null,null,null,null,null,null,null,null,null,null,null,null,null,null,null,null,null,null,null,null,null,null,null,null,null,null,null,null,null,null,null,null,null,null,null,null,null,null,null,null,null,null,null,null,null,null,null,null,null,null,null,null,null,380,"A3",null,9,8,7,1,"","","","","","","","9871",4]
[null,null,null,null,null,null,null,null,null,null,null,null,null,null,null,null,null,null,null,null,null,null,null,null,null,null,null,null,null,null,null,null,null,null,null,null,null,null,null,null,null,null,null,null,null,null,null,null,null,null,null,null,null,null,null,null,null,null,null,null,null,null,null,null,381,"A3",null,9,8,7,2,"","","","","","","","9872",4]
[null,null,null,null,null,null,null,null,null,null,null,null,null,null,null,null,null,null,null,null,null,null,null,null,null,null,null,null,null,null,null,null,null,null,null,null,null,null,null,null,null,null,null,null,null,null,null,null,null,null,null,null,null,null,null,null,null,null,null,null,null,null,null,null,382,"A3",null,9,8,7,3,"","","","","","","","9873",4]
[null,null,null,null,null,null,null,null,null,null,null,null,null,null,null,null,null,null,null,null,null,null,null,null,null,null,null,null,null,null,null,null,null,null,null,null,null,null,null,null,null,null,null,null,null,null,null,null,null,null,null,null,null,null,null,null,null,null,null,null,null,null,null,null,383,"A3",null,9,8,7,4,"","","","","","","","9874",4]
[null,null,null,null,null,null,null,null,null,null,null,null,null,null,null,null,null,null,null,null,null,null,null,null,null,null,null,null,null,null,null,null,null,null,null,null,null,null,null,null,null,null,null,null,null,null,null,null,null,null,null,null,null,null,null,null,null,null,null,null,null,null,null,null,384,"A3",null,9,8,7,6,"","","","","","","","9876",4]
[null,null,null,null,null,null,null,null,null,null,null,null,null,null,null,null,null,null,null,null,null,null,null,null,null,null,null,null,null,null,null,null,null,null,null,null,null,null,null,null,null,null,null,null,null,null,null,null,null,null,null,null,null,null,null,null,null,null,null,null,null,null,null,null,{"$f":"IF($S$33=MID(CA386,1,$S$32),BM385+1,BM385)","v":385},"A1",null,1,2,8,9,3,6,null,null,null,null,null,"128936",{"$f":"LEN(CA386)","v":6}]
[null,null,null,null,null,null,null,null,null,null,null,null,null,null,null,null,null,null,null,null,null,null,null,null,null,null,null,null,null,null,null,null,null,null,null,null,null,null,null,null,null,null,null,null,null,null,null,null,null,null,null,null,null,null,null,null,null,null,null,null,null,null,null,null,386,"A1",null,1,2,8,9,6,3,null,null,null,null,null,"128963",6]
[null,null,null,null,null,null,null,null,null,null,null,null,null,null,null,null,null,null,null,null,null,null,null,null,null,null,null,null,null,null,null,null,null,null,null,null,null,null,null,null,null,null,null,null,null,null,null,null,null,null,null,null,null,null,null,null,null,null,null,null,null,null,null,null,387,"B1",null,1,4,6,9,7,8,"","","","","","146978",6]
[null,null,null,null,null,null,null,null,null,null,null,null,null,null,null,null,null,null,null,null,null,null,null,null,null,null,null,null,null,null,null,null,null,null,null,null,null,null,null,null,null,null,null,null,null,null,null,null,null,null,null,null,null,null,null,null,null,null,null,null,null,null,null,null,388,"B1",null,1,4,6,9,8,7,"","","","","","146987",6]
[null,null,null,null,null,null,null,null,null,null,null,null,null,null,null,null,null,null,null,null,null,null,null,null,null,null,null,null,null,null,null,null,null,null,null,null,null,null,null,null,null,null,null,null,null,null,null,null,null,null,null,null,null,null,null,null,null,null,null,null,null,null,null,null,389,"B2",null,3,2,8,7,1,4,"","","","","","328714",6]
[null,null,null,null,null,null,null,null,null,null,null,null,null,null,null,null,null,null,null,null,null,null,null,null,null,null,null,null,null,null,null,null,null,null,null,null,null,null,null,null,null,null,null,null,null,null,null,null,null,null,null,null,null,null,null,null,null,null,null,null,null,null,null,null,390,"B2",null,3,2,8,7,4,1,"","","","","","328741",6]
[null,null,null,null,null,null,null,null,null,null,null,null,null,null,null,null,null,null,null,null,null,null,null,null,null,null,null,null,null,null,null,null,null,null,null,null,null,null,null,null,null,null,null,null,null,null,null,null,null,null,null,null,null,null,null,null,null,null,null,null,null,null,null,null,391,"A4",null,3,6,4,7,8,9,"","","","","","364789",6]
[null,null,null,null,null,null,null,null,null,null,null,null,null,null,null,null,null,null,null,null,null,null,null,null,null,null,null,null,null,null,null,null,null,null,null,null,null,null,null,null,null,null,null,null,null,null,null,null,null,null,null,null,null,null,null,null,null,null,null,null,null,null,null,null,392,"A4",null,3,6,4,7,9,8,"","","","","","364798",6]
[null,null,null,null,null,null,null,null,null,null,null,null,null,null,null,null,null,null,null,null,null,null,null,null,null,null,null,null,null,null,null,null,null,null,null,null,null,null,null,null,null,null,null,null,null,null,null,null,null,null,null,null,null,null,null,null,null,null,null,null,null,null,null,null,393,"A2",null,7,4,6,3,1,2,"","","","","","746312",6]
[null,null,null,null,null,null,null,null,null,null,null,null,null,null,null,null,null,null,null,null,null,null,null,null,null,null,null,null,null,null,null,null,null,null,null,null,null,null,null,null,null,null,null,null,null,null,null,null,null,null,null,null,null,null,null,null,null,null,null,null,null,null,null,null,394,"A2",null,7,4,6,3,2,1,"","","","","","746321",6]
[null,null,null,null,null,null,null,null,null,null,null,null,null,null,null,null,null,null,null,null,null,null,null,null,null,null,null,null,null,null,null,null,null,null,null,null,null,null,null,null,null,null,null,null,null,null,null,null,null,null,null,null,null,null,null,null,null,null,null,null,null,null,null,null,395,"B4",null,7,8,2,3,6,9,"","","","","","782369",6]
[null,null,null,null,null,null,null,null,null,null,null,null,null,null,null,null,null,null,null,null,null,null,null,null,null,null,null,null,null,null,null,null,null,null,null,null,null,null,null,null,null,null,null,null,null,null,null,null,null,null,null,null,null,null,null,null,null,null,null,null,null,null,null,null,396,"B4",null,7,8,2,3,9,6,"","","","","","782396",6]
[null,null,null,null,null,null,null,null,null,null,null,null,null,null,null,null,null,null,null,null,null,null,null,null,null,null,null,null,null,null,null,null,null,null,null,null,null,null,null,null,null,null,null,null,null,null,null,null,null,null,null,null,null,null,null,null,null,null,null,null,null,null,null,null,397,"B3",null,9,6,4,1,2,3,"","","","","","964123",6]
[null,null,null,null,null,null,null,null,null,null,null,null,null,null,null,null,null,null,null,null,null,null,null,null,null,null,null,null,null,null,null,null,null,null,null,null,null,null,null,null,null,null,null,null,null,null,null,null,null,null,null,null,null,null,null,null,null,null,null,null,null,null,null,null,398,"B3",null,9,6,4,1,3,2,"","","","","","964132",6]
[null,null,null,null,null,null,null,null,null,null,null,null,null,null,null,null,null,null,null,null,null,null,null,null,null,null,null,null,null,null,null,null,null,null,null,null,null,null,null,null,null,null,null,null,null,null,null,null,null,null,null,null,null,null,null,null,null,null,null,null,null,null,null,null,399,"A3",null,9,8,2,1,4,7,"","","","","","982147",6]
[null,null,null,null,null,null,null,null,null,null,null,null,null,null,null,null,null,null,null,null,null,null,null,null,null,null,null,null,null,null,null,null,null,null,null,null,null,null,null,null,null,null,null,null,null,null,null,null,null,null,null,null,null,null,null,null,null,null,null,null,null,null,null,null,400,"A3",null,9,8,2,1,7,4,"","","","","","982174",6]

{"sheet":"初期配置","index":2,"n_rows":465,"n_cols":86,"rows_kept":465,"cut":false,"hidden":true,"merged":[[40,22,40,24],[40,26,40,28],[40,30,40,32],[40,34,40,36],[25,22,25,24],[25,26,25,28],[30,22,30,24],[30,26,30,28],[35,22,35,24],[35,26,35,28],[10,22,10,24],[10,26,10,28],[15,22,15,24],[15,26,15,28],[20,22,20,24],[20,26,20,28],[0,53,0,55],[0,57,0,59],[0,61,0,63],[0,65,0,67],[5,22,5,24],[5,26,5,28],[0,22,0,24],[0,26,0,28],[0,37,0,39],[0,41,0,43],[0,45,0,47],[0,49,0,51]]}
[null,null,null,null,null,null,null,null,null,null,null,null,null,null,null,null,null,null,null,null,null,null,"A1",null,null,null,"B1",null,null,null,null,null,null,null,null,null,null,"A1",null,null,null,"A2",null,null,null,"A3",null,null,null,"A4",null,null,null,"B1",null,null,null,"B2",null,null,null,"B3",null,null,null,"B4"]
[null,"①","A",null,null,"①",null,"A",null,"①",null,null,null,"①",null,null,null,"①",null,null,null,null,1,2,3,null,1,4,7,null,null,null,null,null,null,null,null,1,2,3,null,7,4,1,null,9,8,7,null,3,6,9,null,1,4,7,null,3,2,1,null,9,6,3,null,7,8,9,null,null,null,{"$f":"IF($S$33=MID(CH2,1,$S$32),BT1+1,BT1)","v":{"$error":"#VALUE!"}},"A1",null,1,2,4,null,null,null,null,null,null,null,null,{"$f":"BW2&BX2&BY2&BZ2&CA2&CB2&CC2&CD2&CE2&CF2","v":"124"}]
[null,"B",null,null,null,null,null,null,null,null,"A",null,null,null,null,"A",null,null,null,null,null,null,4,5,6,null,2,5,8,null,null,null,null,null,null,null,null,4,5,6,null,8,5,2,null,6,5,4,null,2,5,8,null,2,5,8,null,6,5,4,null,8,5,2,null,4,5,6,null,null,null,{"$error":"#VALUE!"},"A1",null,1,2,5,null,null,null,null,null,null,null,null,"125"]
[null,null,null,null,null,"B",null,null,null,null,null,null,null,null,"B",null,null,null,null,"A",null,null,7,8,9,null,3,6,9,null,null,null,null,null,null,null,null,7,8,9,null,9,6,3,null,3,2,1,null,1,4,7,null,3,6,9,null,9,8,7,null,7,4,1,null,1,2,3,null,null,null,{"$error":"#VALUE!"},"A1",null,1,2,7,null,null,null,null,null,null,null,null,"127"]
[null,null,null,null,null,null,null,null,null,null,null,null,null,null,null,null,null,null,null,null,null,null,null,null,null,null,null,null,null,null,null,null,null,null,null,null,null,null,null,null,null,null,null,null,null,null,null,null,null,null,null,null,null,null,null,null,null,null,null,null,null,null,null,null,null,null,null,null,null,null,null,{"$error":"#VALUE!"},"A1",null,1,2,3,4,null,null,null,null,null,null,null,"1234"]
[null,null,null,null,null,null,null,null,null,null,null,null,null,null,null,null,null,null,null,null,null,null,"A2",null,null,null,"B2",null,null,null,null,null,null,null,null,null,null,null,null,null,null,null,null,null,null,null,null,null,null,null,null,null,null,null,null,null,null,null,null,null,null,null,null,null,null,null,null,null,null,null,null,{"$error":"#VALUE!"},"A1",null,1,2,3,6,null,null,null,null,null,null,null,"1236"]
[null,{"$f":"B4","v":0},{"$f":"B3","v":"B"},"③",null,{"$f":"F4","v":"B"},{"$f":"F3","v":0},"③",null,{"$f":"J4","v":0},{"$f":"J3","v":0},"③",null,{"$f":"N4","v":0},{"$f":"N3","v":0},"③",null,{"$f":"R4","v":0},{"$f":"R3","v":0},"③",null,null,{"$f":"W4","v":7},{"$f":"W3","v":4},{"$f":"W2","v":1},null,{"$f":"AA4","v":3},{"$f":"AA3","v":2},{"$f":"AA2","v":1},null,null,null,null,null,null,"A1",1,2,3,4,5,6,7,8,9,null,null,null,null,null,null,null,null,null,null,null,null,null,null,null,null,null,null,null,null,null,null,null,null,null,null,{"$error":"#VALUE!"},"A1",null,1,2,3,7,null,null,null,null,null,null,null,"1237"]
[null,{"$f":"C4","v":0},{"$f":"C3","v":0},{"$f":"C2","v":"A"},null,{"$f":"G4","v":0},{"$f":"G3","v":0},{"$f":"G2","v":0},null,{"$f":"K4","v":0},{"$f":"K3","v":"A"},{"$f":"K2","v":0},null,{"$f":"O4","v":"B"},{"$f":"O3","v":0},{"$f":"O2","v":0},null,{"$f":"S4","v":0},{"$f":"S3","v":0},{"$f":"S2","v":0},null,null,{"$f":"X4","v":8},{"$f":"X3","v":5},{"$f":"X2","v":2},null,{"$f":"AB4","v":6},{"$f":"AB3","v":5},{"$f":"AB2","v":4},null,null,null,null,null,null,"A2",7,4,1,8,5,2,9,6,3,null,null,null,null,null,null,null,null,null,null,null,null,null,null,null,null,null,null,null,null,null,null,null,null,null,null,{"$error":"#VALUE!"},"A1",null,1,2,3,8,null,null,null,null,null,null,null,"1238"]
[null,{"$f":"D4","v":0},{"$f":"D3","v":0},{"$f":"D2","v":0},null,{"$f":"H4","v":0},{"$f":"H3","v":0},{"$f":"H2","v":"A"},null,{"$f":"L4","v":0},{"$f":"L3","v":0},{"$f":"L2","v":0},null,{"$f":"P4","v":0},{"$f":"P3","v":"A"},{"$f":"P2","v":0},null,{"$f":"T4","v":"A"},{"$f":"T3","v":0},{"$f":"T2","v":0},null,null,{"$f":"Y4","v":9},{"$f":"Y3","v":6},{"$f":"Y2","v":3},null,{"$f":"AC4","v":9},{"$f":"AC3","v":8},{"$f":"AC2","v":7},null,null,null,null,null,null,"A3",9,8,7,6,5,4,3,2,1,null,null,null,null,null,null,null,null,null,null,null,null,null,null,null,null,null,null,null,null,null,null,null,null,null,null,{"$error":"#VALUE!"},"A1",null,1,2,3,9,null,null,null,null,null,null,null,"1239"]
[null,null,null,null,null,null,null,null,null,null,null,null,null,null,null,null,null,null,null,null,null,null,null,null,null,null,null,null,null,null,null,null,null,null,null,"A4",3,6,9,2,5,8,1,4,7,null,null,null,null,null,null,null,null,null,null,null,null,null,null,null,null,null,null,null,null,null,null,null,null,null,null,{"$error":"#VALUE!"},"A1",null,1,2,6,3,null,null,null,null,null,null,null,"1263"]
[null,null,null,null,null,null,null,null,null,null,null,null,null,null,null,null,null,null,null,null,null,null,"A3",null,null,null,"B3",null,null,null,null,null,null,null,null,"B1",1,4,7,2,5,8,3,6,9,null,null,null,null,null,null,null,null,null,null,null,null,null,null,null,null,null,null,null,null,null,null,null,null,null,null,{"$error":"#VALUE!"},"A1",null,1,2,6,4,null,null,null,null,null,null,null,"1264"]
[null,{"$f":"D4","v":0},{"$f":"C4","v":0},{"$f":"B4","v":0},null,{"$f":"H4","v":0},{"$f":"G4","v":0},{"$f":"F4","v":"B"},null,{"$f":"L4","v":0},{"$f":"K4","v":0},{"$f":"J4","v":0},null,{"$f":"P4","v":0},{"$f":"O4","v":"B"},{"$f":"N4","v":0},null,{"$f":"T4","v":"A"},{"$f":"S4","v":0},{"$f":"R4","v":0},null,null,{"$f":"Y4","v":9},{"$f":"X4","v":8},{"$f":"W4","v":7},null,{"$f":"AC4","v":9},{"$f":"AB4","v":6},{"$f":"AA4","v":3},null,null,null,null,null,null,"B2",3,2,1,6,5,4,9,8,7,null,null,null,null,null,null,null,null,null,null,null,null,null,null,null,null,null,null,null,null,null,null,null,null,null,null,{"$error":"#VALUE!"},"A1",null,1,2,6,7,null,null,null,null,null,null,null,"1267"]
[null,{"$f":"D3","v":0},{"$f":"C3","v":0},{"$f":"B3","v":"B"},null,{"$f":"H3","v":0},{"$f":"G3","v":0},{"$f":"F3","v":0},null,{"$f":"L3","v":0},{"$f":"K3","v":"A"},{"$f":"J3","v":0},null,{"$f":"P3","v":"A"},{"$f":"O3","v":0},{"$f":"N3","v":0},null,{"$f":"T3","v":0},{"$f":"S3","v":0},{"$f":"R3","v":0},null,null,{"$f":"Y3","v":6},{"$f":"X3","v":5},{"$f":"W3","v":4},null,{"$f":"AC3","v":8},{"$f":"AB3","v":5},{"$f":"AA3","v":2},null,null,null,null,null,null,"B3",9,6,3,8,5,2,7,4,1,null,null,null,null,null,null,null,null,null,null,null,null,null,null,null,null,null,null,null,null,null,null,null,null,null,null,{"$error":"#VALUE!"},"A1",null,1,2,6,8,null,null,null,null,null,null,null,"1268"]
[null,{"$f":"D2","v":0},{"$f":"C2","v":"A"},"⑨",null,{"$f":"H2","v":"A"},{"$f":"G2","v":0},"⑨",null,{"$f":"L2","v":0},{"$f":"K2","v":0},"⑨",null,{"$f":"P2","v":0},{"$f":"O2","v":0},"⑨",null,{"$f":"T2","v":0},{"$f":"S2","v":0},"⑨",null,null,{"$f":"Y2","v":3},{"$f":"X2","v":2},{"$f":"W2","v":1},null,{"$f":"AC2","v":7},{"$f":"AB2","v":4},{"$f":"AA2","v":1},null,null,null,null,null,null,"B4",7,8,9,4,5,6,1,2,3,null,null,null,null,null,null,null,null,null,null,null,null,null,null,null,null,null,null,null,null,null,null,null,null,null,null,{"$error":"#VALUE!"},"A1",null,1,2,6,9,null,null,null,null,null,null,null,"1269"]
[null,null,null,null,null,null,null,null,null,null,null,null,null,null,null,null,null,null,null,null,null,null,null,null,null,null,null,null,null,null,null,null,null,null,null,null,null,null,null,null,null,null,null,null,null,null,null,null,null,null,null,null,null,null,null,null,null,null,null,null,null,null,null,null,null,null,null,null,null,null,null,{"$error":"#VALUE!"},"A1","白",1,2,6,5,8,4,null,null,null,null,null,"126584"]
[null,null,null,null,null,null,null,null,null,null,null,null,null,null,null,null,null,null,null,null,null,null,"A4",null,null,null,"B4",null,null,null,null,null,null,null,null,null,null,null,null,null,null,null,null,null,null,null,null,null,null,null,null,null,null,null,null,null,null,null,null,null,null,null,null,null,null,null,null,null,null,null,null,{"$error":"#VALUE!"},"A1",null,1,2,8,3,null,null,null,null,null,null,null,"1283"]
[null,{"$f":"D2","v":0},{"$f":"D3","v":0},{"$f":"D4","v":0},null,{"$f":"H2","v":"A"},{"$f":"H3","v":0},{"$f":"H4","v":0},null,{"$f":"L2","v":0},{"$f":"L3","v":0},{"$f":"L4","v":0},null,{"$f":"P2","v":0},{"$f":"P3","v":"A"},{"$f":"P4","v":0},null,{"$f":"T2","v":0},{"$f":"T3","v":0},{"$f":"T4","v":"A"},null,null,{"$f":"Y2","v":3},{"$f":"Y3","v":6},{"$f":"Y4","v":9},null,{"$f":"AC2","v":7},{"$f":"AC3","v":8},{"$f":"AC4","v":9},null,null,null,null,null,null,null,null,null,null,null,null,null,null,null,null,null,null,null,null,null,null,null,null,null,null,null,null,null,null,null,null,null,null,null,null,null,null,null,null,null,null,{"$error":"#VALUE!"},"A1",null,1,2,8,4,null,null,null,null,null,null,null,"1284"]
[null,{"$f":"C2","v":"A"},{"$f":"C3","v":0},{"$f":"C4","v":0},null,{"$f":"G2","v":0},{"$f":"G3","v":0},{"$f":"G4","v":0},null,{"$f":"K2","v":0},{"$f":"K3","v":"A"},{"$f":"K4","v":0},null,{"$f":"O2","v":0},{"$f":"O3","v":0},{"$f":"O4","v":"B"},null,{"$f":"S2","v":0},{"$f":"S3","v":0},{"$f":"S4","v":0},null,null,{"$f":"X2","v":2},{"$f":"X3","v":5},{"$f":"X4","v":8},null,{"$f":"AB2","v":4},{"$f":"AB3","v":5},{"$f":"AB4","v":6},null,null,null,null,null,null,null,null,null,null,null,null,null,null,null,null,null,null,null,null,null,null,null,null,null,null,null,null,null,null,null,null,null,null,null,null,null,null,null,null,null,null,{"$error":"#VALUE!"},"A1",null,1,2,8,5,null,null,null,null,null,null,null,"1285"]
[null,"⑦",{"$f":"B3","v":"B"},{"$f":"B4","v":0},null,"⑦",{"$f":"F3","v":0},{"$f":"F4","v":"B"},null,"⑦",{"$f":"J3","v":0},{"$f":"J4","v":0},null,"⑦",{"$f":"N3","v":0},{"$f":"N4","v":0},null,"⑦",{"$f":"R3","v":0},{"$f":"R4","v":0},null,null,{"$f":"W2","v":1},{"$f":"W3","v":4},{"$f":"W4","v":7},null,{"$f":"AA2","v":1},{"$f":"AA3","v":2},{"$f":"AA4","v":3},null,null,null,null,null,null,null,null,null,null,null,null,null,null,null,null,null,null,null,null,null,null,null,null,null,null,null,null,null,null,null,null,null,null,null,null,null,null,null,null,null,null,{"$error":"#VALUE!"},"A1",null,1,2,8,6,null,null,null,null,null,null,null,"1286"]
[null,null,null,null,null,null,null,null,null,null,null,null,null,null,null,null,null,null,null,null,null,null,null,null,null,null,null,null,null,null,null,null,null,null,null,null,null,null,null,null,null,null,null,null,null,null,null,null,null,null,null,null,null,null,null,null,null,null,null,null,null,null,null,null,null,null,null,null,null,null,null,{"$error":"#VALUE!"},"A1",null,1,2,8,9,6,3,null,null,null,null,null,"128963"]
[null,null,null,null,null,null,null,null,null,null,null,null,null,null,null,null,null,null,null,null,null,null,"A1",null,null,null,"B2",null,null,null,null,null,null,null,null,null,null,null,null,null,null,null,null,null,null,null,null,null,null,null,null,null,null,null,null,null,null,null,null,null,null,null,null,null,null,null,null,null,null,null,null,{"$error":"#VALUE!"},"A1",null,1,2,8,9,3,6,null,null,null,null,null,"128936"]
[null,"A","②","C",null,null,"②",null,null,null,"②",null,null,null,"②",null,null,null,"②",null,null,null,1,2,3,null,3,2,1,null,null,null,null,null,null,null,null,null,null,null,null,null,null,null,null,null,null,null,null,null,null,null,null,null,null,null,null,null,null,null,null,null,null,null,null,null,null,null,null,null,null,{"$error":"#VALUE!"},"A1",null,1,3,4,null,null,null,null,null,null,null,null,"134"]
[null,null,null,null,null,"A",null,"C",null,null,null,null,null,null,"A",null,null,null,null,null,null,null,4,5,6,null,6,5,4,null,null,null,null,null,null,null,null,null,null,null,null,null,null,null,null,null,null,null,null,null,null,null,null,null,null,null,null,null,null,null,null,null,null,null,null,null,null,null,null,null,null,{"$error":"#VALUE!"},"A1",null,1,3,7,null,null,null,null,null,null,null,null,"137"]
[null,null,null,null,null,null,null,null,null,"A",null,"C",null,null,null,null,null,null,"A",null,null,null,7,8,9,null,9,8,7,null,null,null,null,null,null,null,null,null,null,null,null,null,null,null,null,null,null,null,null,null,null,null,null,null,null,null,null,null,null,null,null,null,null,null,null,null,null,null,null,null,null,{"$error":"#VALUE!"},"A1",null,1,3,9,null,null,null,null,null,null,null,null,"139"]
[null,null,null,null,null,null,null,null,null,null,null,null,null,null,null,null,null,null,null,null,null,null,null,null,null,null,null,null,null,null,null,null,null,null,null,null,null,null,null,null,null,null,null,null,null,null,null,null,null,null,null,null,null,null,null,null,null,null,null,null,null,null,null,null,null,null,null,null,null,null,null,{"$error":"#VALUE!"},"A1",null,1,3,2,4,null,null,null,null,null,null,null,"1324"]
[null,null,null,null,null,null,null,null,null,null,null,null,null,null,null,null,null,null,null,null,null,null,"A2",null,null,null,"B3",null,null,null,null,null,null,null,null,null,null,null,null,null,null,null,null,null,null,null,null,null,null,null,null,null,null,null,null,null,null,null,null,null,null,null,null,null,null,null,null,null,null,null,null,{"$error":"#VALUE!"},"A1",null,1,3,2,7,null,null,null,null,null,null,null,"1327"]
[null,{"$f":"B24","v":0},{"$f":"B23","v":0},{"$f":"B22","v":"A"},null,{"$f":"F24","v":0},{"$f":"F23","v":"A"},{"$f":"F22","v":0},null,{"$f":"J24","v":"A"},{"$f":"J23","v":0},{"$f":"J22","v":0},null,{"$f":"N24","v":0},{"$f":"N23","v":0},{"$f":"N22","v":0},null,{"$f":"R24","v":0},{"$f":"R23","v":0},{"$f":"R22","v":0},null,null,{"$f":"W24","v":7},{"$f":"W23","v":4},{"$f":"W22","v":1},null,{"$f":"AA24","v":9},{"$f":"AA23","v":6},{"$f":"AA22","v":3},null,null,null,null,null,null,null,null,null,null,null,null,null,null,null,null,null,null,null,null,null,null,null,null,null,null,null,null,null,null,null,null,null,null,null,null,null,null,null,null,null,null,{"$error":"#VALUE!"},"A1","白",1,3,2,6,null,null,null,null,null,null,null,"1326"]
[null,{"$f":"C24","v":0},{"$f":"C23","v":0},"⑥",null,{"$f":"G24","v":0},{"$f":"G23","v":0},"⑥",null,{"$f":"K24","v":0},{"$f":"K23","v":0},"⑥",null,{"$f":"O24","v":0},{"$f":"O23","v":"A"},"⑥",null,{"$f":"S24","v":"A"},{"$f":"S23","v":0},"⑥",null,null,{"$f":"X24","v":8},{"$f":"X23","v":5},{"$f":"X22","v":2},null,{"$f":"AB24","v":8},{"$f":"AB23","v":5},{"$f":"AB22","v":2},null,null,null,null,null,null,null,null,null,null,null,null,null,null,null,null,null,null,null,null,null,null,null,null,null,null,null,null,null,null,null,null,null,null,null,null,null,null,null,null,null,null,{"$error":"#VALUE!"},"A1","白",1,3,2,9,null,null,null,null,null,null,null,"1329"]
[null,{"$f":"D24","v":0},{"$f":"D23","v":0},{"$f":"D22","v":"C"},null,{"$f":"H24","v":0},{"$f":"H23","v":"C"},{"$f":"H22","v":0},null,{"$f":"L24","v":"C"},{"$f":"L23","v":0},{"$f":"L22","v":0},null,{"$f":"P24","v":0},{"$f":"P23","v":0},{"$f":"P22","v":0},null,{"$f":"T24","v":0},{"$f":"T23","v":0},{"$f":"T22","v":0},null,null,{"$f":"Y24","v":9},{"$f":"Y23","v":6},{"$f":"Y22","v":3},null,{"$f":"AC24","v":7},{"$f":"AC23","v":4},{"$f":"AC22","v":1},null,null,null,null,null,null,null,null,null,null,null,null,null,null,null,null,null,null,null,null,null,null,null,null,null,null,null,null,null,null,null,null,null,null,null,null,null,null,null,null,null,null,{"$error":"#VALUE!"},"A1",null,1,3,8,2,null,null,null,null,null,null,null,"1382"]
[null,null,null,null,null,null,null,null,null,null,null,null,null,null,null,null,null,null,null,null,null,null,null,null,null,null,null,null,null,null,null,null,null,null,null,null,null,null,null,null,null,null,null,null,null,null,null,null,null,null,null,null,null,null,null,null,null,null,null,null,null,null,null,null,null,null,null,null,null,null,null,{"$error":"#VALUE!"},"A1",null,1,3,8,4,null,null,null,null,null,null,null,"1384"]
[null,null,null,null,null,null,null,null,null,null,null,null,null,null,null,null,null,null,null,null,null,null,"A3",null,null,null,"B4",null,null,null,null,null,null,null,null,null,null,null,null,null,null,null,null,null,null,null,null,null,null,null,null,null,null,null,null,null,null,null,null,null,null,null,null,null,null,null,null,null,null,null,null,{"$error":"#VALUE!"},"A1",null,1,3,8,5,null,null,null,null,null,null,null,"1385"]
[null,{"$f":"D24","v":0},{"$f":"C24","v":0},{"$f":"B24","v":0},null,{"$f":"H24","v":0},{"$f":"G24","v":0},{"$f":"F24","v":0},null,{"$f":"L24","v":"C"},{"$f":"K24","v":0},{"$f":"J24","v":"A"},null,{"$f":"P24","v":0},{"$f":"O24","v":0},{"$f":"N24","v":0},null,{"$f":"T24","v":0},{"$f":"S24","v":"A"},{"$f":"R24","v":0},null,null,{"$f":"Y24","v":9},{"$f":"X24","v":8},{"$f":"W24","v":7},null,{"$f":"AC24","v":7},{"$f":"AB24","v":8},{"$f":"AA24","v":9},null,null,null,null,null,null,null,null,null,null,null,null,null,null,null,null,null,null,null,null,null,null,null,null,null,null,null,null,null,null,null,null,null,null,null,null,null,null,null,null,null,null,{"$error":"#VALUE!"},"A1",null,1,3,8,6,null,null,null,null,null,null,null,"1386"]
[null,{"$f":"D23","v":0},{"$f":"C23","v":0},{"$f":"B23","v":0},null,{"$f":"H23","v":"C"},{"$f":"G23","v":0},{"$f":"F23","v":"A"},null,{"$f":"L23","v":0},{"$f":"K23","v":0},{"$f":"J23","v":0},null,{"$f":"P23","v":0},{"$f":"O23","v":"A"},{"$f":"N23","v":0},null,{"$f":"T23","v":0},{"$f":"S23","v":0},{"$f":"R23","v":0},null,null,{"$f":"Y23","v":6},{"$f":"X23","v":5},{"$f":"W23","v":4},null,{"$f":"AC23","v":4},{"$f":"AB23","v":5},{"$f":"AA23","v":6},null,null,null,null,null,null,null,null,null,null,null,null,null,null,null,null,null,null,null,null,null,null,null,null,null,null,null,null,null,null,null,null,null,null,null,null,null,null,null,null,null,null,{"$error":"#VALUE!"},"A1",null,1,3,8,7,null,null,null,null,null,null,null,"1387"]
[null,{"$f":"D22","v":"C"},"⑧",{"$f":"B22","v":"A"},null,{"$f":"H22","v":0},"⑧",{"$f":"F22","v":0},null,{"$f":"L22","v":0},"⑧",{"$f":"J22","v":0},null,{"$f":"P22","v":0},"⑧",{"$f":"N22","v":0},null,{"$f":"T22","v":0},"⑧",{"$f":"R22","v":0},null,null,{"$f":"Y22","v":3},{"$f":"X22","v":2},{"$f":"W22","v":1},null,{"$f":"AC22","v":1},{"$f":"AB22","v":2},{"$f":"AA22","v":3},null,null,null,null,null,null,null,null,null,null,null,null,null,null,null,null,null,null,null,null,null,null,null,null,null,null,null,null,null,null,null,null,null,null,null,null,null,null,null,null,null,null,{"$error":"#VALUE!"},"A1",null,1,3,6,2,null,null,null,null,null,null,null,"1362"]
[null,null,null,null,null,null,null,null,null,null,null,null,null,null,null,null,null,null,null,null,null,null,null,null,null,null,null,null,null,null,null,null,null,null,null,null,null,null,null,null,null,null,null,null,null,null,null,null,null,null,null,null,null,null,null,null,null,null,null,null,null,null,null,null,null,null,null,null,null,null,null,{"$error":"#VALUE!"},"A1",null,1,3,6,8,null,null,null,null,null,null,null,"1368"]
[null,null,null,null,null,null,null,null,null,null,null,null,null,null,null,null,null,null,null,null,null,null,"A4",null,null,null,"B1",null,null,null,null,null,null,null,null,null,null,null,null,null,null,null,null,null,null,null,null,null,null,null,null,null,null,null,null,null,null,null,null,null,null,null,null,null,null,null,null,null,null,null,null,{"$error":"#VALUE!"},"A1",null,1,3,6,9,null,null,null,null,null,null,null,"1369"]
[null,{"$f":"D22","v":"C"},{"$f":"D23","v":0},{"$f":"D24","v":0},null,{"$f":"H22","v":0},{"$f":"H23","v":"C"},{"$f":"H24","v":0},null,{"$f":"L22","v":0},{"$f":"L23","v":0},{"$f":"L24","v":"C"},null,{"$f":"P22","v":0},{"$f":"P23","v":0},{"$f":"P24","v":0},null,{"$f":"T22","v":0},{"$f":"T23","v":0},{"$f":"T24","v":0},null,null,{"$f":"Y22","v":3},{"$f":"Y23","v":6},{"$f":"Y24","v":9},null,{"$f":"AC22","v":1},{"$f":"AC23","v":4},{"$f":"AC24","v":7},null,null,null,null,null,null,null,null,null,null,null,null,null,null,null,null,null,null,null,null,null,null,null,null,null,null,null,null,null,null,null,null,null,null,null,null,null,null,null,null,null,null,{"$error":"#VALUE!"},"A1",null,1,6,3,null,null,null,null,null,null,null,null,"163"]
[null,"④",{"$f":"C23","v":0},{"$f":"C24","v":0},null,"④",{"$f":"G23","v":0},{"$f":"G24","v":0},null,"④",{"$f":"K23","v":0},{"$f":"K24","v":0},null,"④",{"$f":"O23","v":"A"},{"$f":"O24","v":0},null,"④",{"$f":"S23","v":0},{"$f":"S24","v":"A"},null,null,{"$f":"X22","v":2},{"$f":"X23","v":5},{"$f":"X24","v":8},null,{"$f":"AB22","v":2},{"$f":"AB23","v":5},{"$f":"AB24","v":8},null,null,null,null,null,null,null,null,null,null,null,null,null,null,null,null,null,null,null,null,null,null,null,null,null,null,null,null,null,null,null,null,null,null,null,null,null,null,null,null,null,null,{"$error":"#VALUE!"},"A1",null,1,6,5,null,null,null,null,null,null,null,null,"165"]
[null,{"$f":"B22","v":"A"},{"$f":"B23","v":0},{"$f":"B24","v":0},null,{"$f":"F22","v":0},{"$f":"F23","v":"A"},{"$f":"F24","v":0},null,{"$f":"J22","v":0},{"$f":"J23","v":0},{"$f":"J24","v":"A"},null,{"$f":"N22","v":0},{"$f":"N23","v":0},{"$f":"N24","v":0},null,{"$f":"R22","v":0},{"$f":"R23","v":0},{"$f":"R24","v":0},null,null,{"$f":"W22","v":1},{"$f":"W23","v":4},{"$f":"W24","v":7},null,{"$f":"AA22","v":3},{"$f":"AA23","v":6},{"$f":"AA24","v":9},null,null,null,null,null,null,null,null,null,null,null,null,null,null,null,null,null,null,null,null,null,null,null,null,null,null,null,null,null,null,null,null,null,null,null,null,null,null,null,null,null,null,{"$error":"#VALUE!"},"A1",null,1,6,7,null,null,null,null,null,null,null,null,"167"]
[null,null,null,null,null,null,null,null,null,null,null,null,null,null,null,null,null,null,null,null,null,null,null,null,null,null,null,null,null,null,null,null,null,null,null,null,null,null,null,null,null,null,null,null,null,null,null,null,null,null,null,null,null,null,null,null,null,null,null,null,null,null,null,null,null,null,null,null,null,null,null,{"$error":"#VALUE!"},"A1","白",1,6,4,7,2,null,null,null,null,null,null,"16472"]
[null,null,null,null,null,null,null,null,null,null,null,null,null,null,null,null,null,null,null,null,null,null,"A1",null,null,null,"A2",null,null,null,"A3",null,null,null,"A4",null,null,null,null,null,null,null,null,null,null,null,null,null,null,null,null,null,null,null,null,null,null,null,null,null,null,null,null,null,null,null,null,null,null,null,null,{"$error":"#VALUE!"},"A1","白",1,6,4,7,5,null,null,null,null,null,null,"16475"]
[null,"A",null,"B",null,null,"A",null,null,null,null,null,null,null,null,null,null,null,null,null,null,null,1,2,3,null,7,4,1,null,9,8,7,null,3,6,9,null,null,null,null,null,null,null,null,null,null,null,null,null,null,null,null,null,null,null,null,null,null,null,null,null,null,null,null,null,null,null,null,null,null,{"$error":"#VALUE!"},"A1","白",1,6,4,7,8,null,null,null,null,null,null,"16478"]
[null,null,"⑤",null,null,"D","⑤","B",null,null,null,null,null,null,null,null,null,null,null,null,null,null,4,5,6,null,8,5,2,null,6,5,4,null,2,5,8,null,null,null,null,null,null,null,null,null,null,null,null,null,null,null,null,null,null,null,null,null,null,null,null,null,null,null,null,null,null,null,null,null,null,{"$error":"#VALUE!"},"A1",null,1,6,8,2,null,null,null,null,null,null,null,"1682"]
[null,"D",null,"C",null,null,"C",null,null,null,null,null,null,null,null,null,null,null,null,null,null,null,7,8,9,null,9,6,3,null,3,2,1,null,1,4,7,null,null,null,null,null,null,null,null,null,null,null,null,null,null,null,null,null,null,null,null,null,null,null,null,null,null,null,null,null,null,null,null,null,null,{"$error":"#VALUE!"},"A1",null,1,6,8,3,null,null,null,null,null,null,null,"1683"]
[null,null,null,null,null,null,null,null,null,null,null,null,null,null,null,null,null,null,null,null,null,null,null,null,null,null,null,null,null,null,null,null,null,null,null,null,null,null,null,null,null,null,null,null,null,null,null,null,null,null,null,null,null,null,null,null,null,null,null,null,null,null,null,null,null,null,null,null,null,null,null,{"$error":"#VALUE!"},"A1",null,1,6,8,4,null,null,null,null,null,null,null,"1684"]
[null,null,null,null,null,null,null,null,null,null,null,null,null,null,null,null,null,null,null,null,null,null,null,null,null,null,null,null,null,null,null,null,null,null,null,null,null,null,null,null,null,null,null,null,null,null,null,null,null,null,null,null,null,null,null,null,null,null,null,null,null,null,null,null,null,null,null,null,null,null,null,{"$error":"#VALUE!"},"A1",null,1,6,8,7,null,null,null,null,null,null,null,"1687"]
[null,null,null,null,null,null,null,null,null,null,null,null,null,null,null,null,null,null,null,null,null,null,null,null,null,null,null,null,null,null,null,null,null,null,null,null,null,null,null,null,null,null,null,null,null,null,null,null,null,null,null,null,null,null,null,null,null,null,null,null,null,null,null,null,null,null,null,null,null,null,null,{"$error":"#VALUE!"},"A1",null,1,6,8,9,null,null,null,null,null,null,null,"1689"]
[null,null,null,null,null,null,null,null,null,null,null,null,null,null,null,null,null,null,null,null,null,null,null,null,null,null,null,null,null,null,null,null,null,null,null,null,null,null,null,null,null,null,null,null,null,null,null,null,null,null,null,null,null,null,null,null,null,null,null,null,null,null,null,null,null,null,null,null,null,null,null,{"$error":"#VALUE!"},"A1",null,1,9,3,null,null,null,null,null,null,null,null,"193"]
[null,null,null,null,null,null,null,null,null,null,null,null,null,null,null,null,null,null,null,null,null,null,null,null,null,null,null,null,null,null,null,null,null,null,null,null,null,null,null,null,null,null,null,null,null,null,null,null,null,null,null,null,null,null,null,null,null,null,null,null,null,null,null,null,null,null,null,null,null,null,null,{"$error":"#VALUE!"},"A1",null,1,9,7,null,null,null,null,null,null,null,null,"197"]
[null,null,null,null,null,null,null,null,null,null,null,null,null,null,null,null,null,null,null,null,null,null,null,null,null,null,null,null,null,null,null,null,null,null,null,null,null,null,null,null,null,null,null,null,null,null,null,null,null,null,null,null,null,null,null,null,null,null,null,null,null,null,null,null,null,null,null,null,null,null,null,{"$error":"#VALUE!"},"A1","白",1,9,2,null,null,null,null,null,null,null,null,"192"]
[null,null,null,null,null,null,null,null,null,null,null,null,null,null,null,null,null,null,null,null,null,null,null,null,null,null,null,null,null,null,null,null,null,null,null,null,null,null,null,null,null,null,null,null,null,null,null,null,null,null,null,null,null,null,null,null,null,null,null,null,null,null,null,null,null,null,null,null,null,null,null,{"$error":"#VALUE!"},"A1","白",1,9,4,null,null,null,null,null,null,null,null,"194"]
[null,null,null,null,null,null,null,null,null,null,null,null,null,null,null,null,null,null,null,null,null,null,null,null,null,null,null,null,null,null,null,null,null,null,null,null,null,null,null,null,null,null,null,null,null,null,null,null,null,null,null,null,null,null,null,null,null,null,null,null,null,null,null,null,null,null,null,null,null,null,null,{"$error":"#VALUE!"},"A1",null,2,4,5,null,null,null,null,null,null,null,null,"245"]
[null,null,null,null,null,null,null,null,null,null,null,null,null,null,null,null,null,null,null,null,null,null,null,null,null,null,null,null,null,null,null,null,null,null,null,null,null,null,null,null,null,null,null,null,null,null,null,null,null,null,null,null,null,null,null,null,null,null,null,null,null,null,null,null,null,null,null,null,null,null,null,{"$error":"#VALUE!"},"A1",null,2,6,5,null,null,null,null,null,null,null,null,"265"]
[null,null,null,null,null,null,null,null,null,null,null,null,null,null,null,null,null,null,null,null,null,null,null,null,null,null,null,null,null,null,null,null,null,null,null,null,null,null,null,null,null,null,null,null,null,null,null,null,null,null,null,null,null,null,null,null,null,null,null,null,null,null,null,null,null,null,null,null,null,null,null,{"$error":"#VALUE!"},"A1",null,2,7,1,null,null,null,null,null,null,null,null,"271"]
[null,null,null,null,null,null,null,null,null,null,null,null,null,null,null,null,null,null,null,null,null,null,null,null,null,null,null,null,null,null,null,null,null,null,null,null,null,null,null,null,null,null,null,null,null,null,null,null,null,null,null,null,null,null,null,null,null,null,null,null,null,null,null,null,null,null,null,null,null,null,null,{"$error":"#VALUE!"},"A1",null,2,9,3,null,null,null,null,null,null,null,null,"293"]
[null,null,null,null,null,null,null,null,null,null,null,null,null,null,null,null,null,null,null,null,null,null,null,null,null,null,null,null,null,null,null,null,null,null,null,null,null,null,null,null,null,null,null,null,null,null,null,null,null,null,null,null,null,null,null,null,null,null,null,null,null,null,null,null,null,null,null,null,null,null,null,{"$error":"#VALUE!"},"A1",null,5,2,3,null,null,null,null,null,null,null,null,"523"]
[null,null,null,null,null,null,null,null,null,null,null,null,null,null,null,null,null,null,null,null,null,null,null,null,null,null,null,null,null,null,null,null,null,null,null,null,null,null,null,null,null,null,null,null,null,null,null,null,null,null,null,null,null,null,null,null,null,null,null,null,null,null,null,null,null,null,null,null,null,null,null,{"$error":"#VALUE!"},"A1",null,5,2,1,null,null,null,null,null,null,null,null,"521"]
[null,null,null,null,null,null,null,null,null,null,null,null,null,null,null,null,null,null,null,null,null,null,null,null,null,null,null,null,null,null,null,null,null,null,null,null,null,null,null,null,null,null,null,null,null,null,null,null,null,null,null,null,null,null,null,null,null,null,null,null,null,null,null,null,null,null,null,null,null,null,null,{"$error":"#VALUE!"},"A1",null,5,2,7,null,null,null,null,null,null,null,null,"527"]
[null,null,null,null,null,null,null,null,null,null,null,null,null,null,null,null,null,null,null,null,null,null,null,null,null,null,null,null,null,null,null,null,null,null,null,null,null,null,null,null,null,null,null,null,null,null,null,null,null,null,null,null,null,null,null,null,null,null,null,null,null,null,null,null,null,null,null,null,null,null,null,{"$error":"#VALUE!"},"A1",null,5,2,9,null,null,null,null,null,null,null,null,"529"]
[null,null,null,null,null,null,null,null,null,null,null,null,null,null,null,null,null,null,null,null,null,null,null,null,null,null,null,null,null,null,null,null,null,null,null,null,null,null,null,null,null,null,null,null,null,null,null,null,null,null,null,null,null,null,null,null,null,null,null,null,null,null,null,null,null,null,null,null,null,null,null,{"$error":"#VALUE!"},"A2",null,{"$f":"IF(ISERROR(HLOOKUP($BP2,補助!$AW$2:$BE$9,2,FALSE))=TRUE,\"\",HLOOKUP($BP2,補助!$AW$2:$BE$9,2,FALSE))","v":3},{"$f":"IF(ISERROR(HLOOKUP($BQ2,補助!$AW$2:$BE$9,2,FALSE))=TRUE,\"\",HLOOKUP($BQ2,補助!$AW$2:$BE$9,2,FALSE))","v":""},{"$f":"IF(ISERROR(HLOOKUP($BR2,補助!$AW$2:$BE$9,2,FALSE))=TRUE,\"\",HLOOKUP($BR2,補助!$AW$2:$BE$9,2,FALSE))","v":""},{"$f":"IF(ISERROR(HLOOKUP($BS2,補助!$AW$2:$BE$9,2,FALSE))=TRUE,\"\",HLOOKUP($BS2,補助!$AW$2:$BE$9,2,FALSE))","v":""},{"$f":"IF(ISERROR(HLOOKUP($BT2,補助!$AW$2:$BE$9,2,FALSE))=TRUE,\"\",HLOOKUP($BT2,補助!$AW$2:$BE$9,2,FALSE))","v":""},{"$f":"IF(ISERROR(HLOOKUP($BU2,補助!$AW$2:$BE$9,2,FALSE))=TRUE,\"\",HLOOKUP($BU2,補助!$AW$2:$BE$9,2,FALSE))","v":""},{"$f":"IF(ISERROR(HLOOKUP($BV2,補助!$AW$2:$BE$9,2,FALSE))=TRUE,\"\",HLOOKUP($BV2,補助!$AW$2:$BE$9,2,FALSE))","v":""},{"$f":"IF(ISERROR(HLOOKUP($BW2,補助!$AW$2:$BE$9,2,FALSE))=TRUE,\"\",HLOOKUP($BW2,補助!$AW$2:$BE$9,2,FALSE))","v":7},{"$f":"IF(ISERROR(HLOOKUP($BX2,補助!$AW$2:$BE$9,2,FALSE))=TRUE,\"\",HLOOKUP($BX2,補助!$AW$2:$BE$9,2,FALSE))","v":4},{"$f":"IF(ISERROR(HLOOKUP($BY2,補助!$AW$2:$BE$9,2,FALSE))=TRUE,\"\",HLOOKUP($BY2,補助!$AW$2:$BE$9,2,FALSE))","v":8},{"$f":"IF(ISERROR(HLOOKUP($BZ2,補助!$AW$2:$BE$9,2,FALSE))=TRUE,\"\",HLOOKUP($BZ2,補助!$AW$2:$BE$9,2,FALSE))","v":""},"3748"]
[null,null,null,null,null,null,null,null,null,null,null,null,null,null,null,null,null,null,null,null,null,null,null,null,null,null,null,null,null,null,null,null,null,null,null,null,null,null,null,null,null,null,null,null,null,null,null,null,null,null,null,null,null,null,null,null,null,null,null,null,null,null,null,null,null,null,null,null,null,null,null,{"$error":"#VALUE!"},"A2",null,{"$f":"IF(ISERROR(HLOOKUP($BP3,補助!$AW$2:$BE$9,2,FALSE))=TRUE,\"\",HLOOKUP($BP3,補助!$AW$2:$BE$9,2,FALSE))","v":2},{"$f":"IF(ISERROR(HLOOKUP($BQ3,補助!$AW$2:$BE$9,2,FALSE))=TRUE,\"\",HLOOKUP($BQ3,補助!$AW$2:$BE$9,2,FALSE))","v":""},{"$f":"IF(ISERROR(HLOOKUP($BR3,補助!$AW$2:$BE$9,2,FALSE))=TRUE,\"\",HLOOKUP($BR3,補助!$AW$2:$BE$9,2,FALSE))","v":""},{"$f":"IF(ISERROR(HLOOKUP($BS3,補助!$AW$2:$BE$9,2,FALSE))=TRUE,\"\",HLOOKUP($BS3,補助!$AW$2:$BE$9,2,FALSE))","v":""},{"$f":"IF(ISERROR(HLOOKUP($BT3,補助!$AW$2:$BE$9,2,FALSE))=TRUE,\"\",HLOOKUP($BT3,補助!$AW$2:$BE$9,2,FALSE))","v":""},{"$f":"IF(ISERROR(HLOOKUP($BU3,補助!$AW$2:$BE$9,2,FALSE))=TRUE,\"\",HLOOKUP($BU3,補助!$AW$2:$BE$9,2,FALSE))","v":""},{"$f":"IF(ISERROR(HLOOKUP($BV3,補助!$AW$2:$BE$9,2,FALSE))=TRUE,\"\",HLOOKUP($BV3,補助!$AW$2:$BE$9,2,FALSE))","v":""},{"$f":"IF(ISERROR(HLOOKUP($BW3,補助!$AW$2:$BE$9,2,FALSE))=TRUE,\"\",HLOOKUP($BW3,補助!$AW$2:$BE$9,2,FALSE))","v":7},{"$f":"IF(ISERROR(HLOOKUP($BX3,補助!$AW$2:$BE$9,2,FALSE))=TRUE,\"\",HLOOKUP($BX3,補助!$AW$2:$BE$9,2,FALSE))","v":4},{"$f":"IF(ISERROR(HLOOKUP($BY3,補助!$AW$2:$BE$9,2,FALSE))=TRUE,\"\",HLOOKUP($BY3,補助!$AW$2:$BE$9,2,FALSE))","v":5},{"$f":"IF(ISERROR(HLOOKUP($BZ3,補助!$AW$2:$BE$9,2,FALSE))=TRUE,\"\",HLOOKUP($BZ3,補助!$AW$2:$BE$9,2,FALSE))","v":""},"2745"]
[null,null,null,null,null,null,null,null,null,null,null,null,null,null,null,null,null,null,null,null,null,null,null,null,null,null,null,null,null,null,null,null,null,null,null,null,null,null,null,null,null,null,null,null,null,null,null,null,null,null,null,null,null,null,null,null,null,null,null,null,null,null,null,null,null,null,null,null,null,null,null,{"$error":"#VALUE!"},"A2",null,{"$f":"IF(ISERROR(HLOOKUP($BP4,補助!$AW$2:$BE$9,2,FALSE))=TRUE,\"\",HLOOKUP($BP4,補助!$AW$2:$BE$9,2,FALSE))","v":1},{"$f":"IF(ISERROR(HLOOKUP($BQ4,補助!$AW$2:$BE$9,2,FALSE))=TRUE,\"\",HLOOKUP($BQ4,補助!$AW$2:$BE$9,2,FALSE))","v":""},{"$f":"IF(ISERROR(HLOOKUP($BR4,補助!$AW$2:$BE$9,2,FALSE))=TRUE,\"\",HLOOKUP($BR4,補助!$AW$2:$BE$9,2,FALSE))","v":""},{"$f":"IF(ISERROR(HLOOKUP($BS4,補助!$AW$2:$BE$9,2,FALSE))=TRUE,\"\",HLOOKUP($BS4,補助!$AW$2:$BE$9,2,FALSE))","v":""},{"$f":"IF(ISERROR(HLOOKUP($BT4,補助!$AW$2:$BE$9,2,FALSE))=TRUE,\"\",HLOOKUP($BT4,補助!$AW$2:$BE$9,2,FALSE))","v":""},{"$f":"IF(ISERROR(HLOOKUP($BU4,補助!$AW$2:$BE$9,2,FALSE))=TRUE,\"\",HLOOKUP($BU4,補助!$AW$2:$BE$9,2,FALSE))","v":""},{"$f":"IF(ISERROR(HLOOKUP($BV4,補助!$AW$2:$BE$9,2,FALSE))=TRUE,\"\",HLOOKUP($BV4,補助!$AW$2:$BE$9,2,FALSE))","v":""},{"$f":"IF(ISERROR(HLOOKUP($BW4,補助!$AW$2:$BE$9,2,FALSE))=TRUE,\"\",HLOOKUP($BW4,補助!$AW$2:$BE$9,2,FALSE))","v":7},{"$f":"IF(ISERROR(HLOOKUP($BX4,補助!$AW$2:$BE$9,2,FALSE))=TRUE,\"\",HLOOKUP($BX4,補助!$AW$2:$BE$9,2,FALSE))","v":4},{"$f":"IF(ISERROR(HLOOKUP($BY4,補助!$AW$2:$BE$9,2,FALSE))=TRUE,\"\",HLOOKUP($BY4,補助!$AW$2:$BE$9,2,FALSE))","v":9},{"$f":"IF(ISERROR(HLOOKUP($BZ4,補助!$AW$2:$BE$9,2,FALSE))=TRUE,\"\",HLOOKUP($BZ4,補助!$AW$2:$BE$9,2,FALSE))","v":""},"1749"]
[null,null,null,null,null,null,null,null,null,null,null,null,null,null,null,null,null,null,null,null,null,null,null,null,null,null,null,null,null,null,null,null,null,null,null,null,null,null,null,null,null,null,null,null,null,null,null,null,null,null,null,null,null,null,null,null,null,null,null,null,null,null,null,null,null,null,null,null,null,null,null,{"$error":"#VALUE!"},"A2",null,{"$f":"IF(ISERROR(HLOOKUP($BP5,補助!$AW$2:$BE$9,2,FALSE))=TRUE,\"\",HLOOKUP($BP5,補助!$AW$2:$BE$9,2,FALSE))","v":""},{"$f":"IF(ISERROR(HLOOKUP($BQ5,補助!$AW$2:$BE$9,2,FALSE))=TRUE,\"\",HLOOKUP($BQ5,補助!$AW$2:$BE$9,2,FALSE))","v":""},{"$f":"IF(ISERROR(HLOOKUP($BR5,補助!$AW$2:$BE$9,2,FALSE))=TRUE,\"\",HLOOKUP($BR5,補助!$AW$2:$BE$9,2,FALSE))","v":""},{"$f":"IF(ISERROR(HLOOKUP($BS5,補助!$AW$2:$BE$9,2,FALSE))=TRUE,\"\",HLOOKUP($BS5,補助!$AW$2:$BE$9,2,FALSE))","v":""},{"$f":"IF(ISERROR(HLOOKUP($BT5,補助!$AW$2:$BE$9,2,FALSE))=TRUE,\"\",HLOOKUP($BT5,補助!$AW$2:$BE$9,2,FALSE))","v":""},{"$f":"IF(ISERROR(HLOOKUP($BU5,補助!$AW$2:$BE$9,2,FALSE))=TRUE,\"\",HLOOKUP($BU5,補助!$AW$2:$BE$9,2,FALSE))","v":""},{"$f":"IF(ISERROR(HLOOKUP($BV5,補助!$AW$2:$BE$9,2,FALSE))=TRUE,\"\",HLOOKUP($BV5,補助!$AW$2:$BE$9,2,FALSE))","v":""},{"$f":"IF(ISERROR(HLOOKUP($BW5,補助!$AW$2:$BE$9,2,FALSE))=TRUE,\"\",HLOOKUP($BW5,補助!$AW$2:$BE$9,2,FALSE))","v":7},{"$f":"IF(ISERROR(HLOOKUP($BX5,補助!$AW$2:$BE$9,2,FALSE))=TRUE,\"\",HLOOKUP($BX5,補助!$AW$2:$BE$9,2,FALSE))","v":4},{"$f":"IF(ISERROR(HLOOKUP($BY5,補助!$AW$2:$BE$9,2,FALSE))=TRUE,\"\",HLOOKUP($BY5,補助!$AW$2:$BE$9,2,FALSE))","v":1},{"$f":"IF(ISERROR(HLOOKUP($BZ5,補助!$AW$2:$BE$9,2,FALSE))=TRUE,\"\",HLOOKUP($BZ5,補助!$AW$2:$BE$9,2,FALSE))","v":8},"741"]
[null,null,null,null,null,null,null,null,null,null,null,null,null,null,null,null,null,null,null,null,null,null,null,null,null,null,null,null,null,null,null,null,null,null,null,null,null,null,null,null,null,null,null,null,null,null,null,null,null,null,null,null,null,null,null,null,null,null,null,null,null,null,null,null,null,null,null,null,null,null,null,{"$error":"#VALUE!"},"A2",null,{"$f":"IF(ISERROR(HLOOKUP($BP6,補助!$AW$2:$BE$9,2,FALSE))=TRUE,\"\",HLOOKUP($BP6,補助!$AW$2:$BE$9,2,FALSE))","v":""},{"$f":"IF(ISERROR(HLOOKUP($BQ6,補助!$AW$2:$BE$9,2,FALSE))=TRUE,\"\",HLOOKUP($BQ6,補助!$AW$2:$BE$9,2,FALSE))","v":""},{"$f":"IF(ISERROR(HLOOKUP($BR6,補助!$AW$2:$BE$9,2,FALSE))=TRUE,\"\",HLOOKUP($BR6,補助!$AW$2:$BE$9,2,FALSE))","v":""},{"$f":"IF(ISERROR(HLOOKUP($BS6,補助!$AW$2:$BE$9,2,FALSE))=TRUE,\"\",HLOOKUP($BS6,補助!$AW$2:$BE$9,2,FALSE))","v":""},{"$f":"IF(ISERROR(HLOOKUP($BT6,補助!$AW$2:$BE$9,2,FALSE))=TRUE,\"\",HLOOKUP($BT6,補助!$AW$2:$BE$9,2,FALSE))","v":""},{"$f":"IF(ISERROR(HLOOKUP($BU6,補助!$AW$2:$BE$9,2,FALSE))=TRUE,\"\",HLOOKUP($BU6,補助!$AW$2:$BE$9,2,FALSE))","v":""},{"$f":"IF(ISERROR(HLOOKUP($BV6,補助!$AW$2:$BE$9,2,FALSE))=TRUE,\"\",HLOOKUP($BV6,補助!$AW$2:$BE$9,2,FALSE))","v":""},{"$f":"IF(ISERROR(HLOOKUP($BW6,補助!$AW$2:$BE$9,2,FALSE))=TRUE,\"\",HLOOKUP($BW6,補助!$AW$2:$BE$9,2,FALSE))","v":7},{"$f":"IF(ISERROR(HLOOKUP($BX6,補助!$AW$2:$BE$9,2,FALSE))=TRUE,\"\",HLOOKUP($BX6,補助!$AW$2:$BE$9,2,FALSE))","v":4},{"$f":"IF(ISERROR(HLOOKUP($BY6,補助!$AW$2:$BE$9,2,FALSE))=TRUE,\"\",HLOOKUP($BY6,補助!$AW$2:$BE$9,2,FALSE))","v":1},{"$f":"IF(ISERROR(HLOOKUP($BZ6,補助!$AW$2:$BE$9,2,FALSE))=TRUE,\"\",HLOOKUP($BZ6,補助!$AW$2:$BE$9,2,FALSE))","v":2},"741"]
[null,null,null,null,null,null,null,null,null,null,null,null,null,null,null,null,null,null,null,null,null,null,null,null,null,null,null,null,null,null,null,null,null,null,null,null,null,null,null,null,null,null,null,null,null,null,null,null,null,null,null,null,null,null,null,null,null,null,null,null,null,null,null,null,null,null,null,null,null,null,null,{"$error":"#VALUE!"},"A2",null,{"$f":"IF(ISERROR(HLOOKUP($BP7,補助!$AW$2:$BE$9,2,FALSE))=TRUE,\"\",HLOOKUP($BP7,補助!$AW$2:$BE$9,2,FALSE))","v":""},{"$f":"IF(ISERROR(HLOOKUP($BQ7,補助!$AW$2:$BE$9,2,FALSE))=TRUE,\"\",HLOOKUP($BQ7,補助!$AW$2:$BE$9,2,FALSE))","v":""},{"$f":"IF(ISERROR(HLOOKUP($BR7,補助!$AW$2:$BE$9,2,FALSE))=TRUE,\"\",HLOOKUP($BR7,補助!$AW$2:$BE$9,2,FALSE))","v":""},{"$f":"IF(ISERROR(HLOOKUP($BS7,補助!$AW$2:$BE$9,2,FALSE))=TRUE,\"\",HLOOKUP($BS7,補助!$AW$2:$BE$9,2,FALSE))","v":""},{"$f":"IF(ISERROR(HLOOKUP($BT7,補助!$AW$2:$BE$9,2,FALSE))=TRUE,\"\",HLOOKUP($BT7,補助!$AW$2:$BE$9,2,FALSE))","v":""},{"$f":"IF(ISERROR(HLOOKUP($BU7,補助!$AW$2:$BE$9,2,FALSE))=TRUE,\"\",HLOOKUP($BU7,補助!$AW$2:$BE$9,2,FALSE))","v":""},{"$f":"IF(ISERROR(HLOOKUP($BV7,補助!$AW$2:$BE$9,2,FALSE))=TRUE,\"\",HLOOKUP($BV7,補助!$AW$2:$BE$9,2,FALSE))","v":""},{"$f":"IF(ISERROR(HLOOKUP($BW7,補助!$AW$2:$BE$9,2,FALSE))=TRUE,\"\",HLOOKUP($BW7,補助!$AW$2:$BE$9,2,FALSE))","v":7},{"$f":"IF(ISERROR(HLOOKUP($BX7,補助!$AW$2:$BE$9,2,FALSE))=TRUE,\"\",HLOOKUP($BX7,補助!$AW$2:$BE$9,2,FALSE))","v":4},{"$f":"IF(ISERROR(HLOOKUP($BY7,補助!$AW$2:$BE$9,2,FALSE))=TRUE,\"\",HLOOKUP($BY7,補助!$AW$2:$BE$9,2,FALSE))","v":1},{"$f":"IF(ISERROR(HLOOKUP($BZ7,補助!$AW$2:$BE$9,2,FALSE))=TRUE,\"\",HLOOKUP($BZ7,補助!$AW$2:$BE$9,2,FALSE))","v":9},"741"]
[null,null,null,null,null,null,null,null,null,null,null,null,null,null,null,null,null,null,null,null,null,null,null,null,null,null,null,null,null,null,null,null,null,null,null,null,null,null,null,null,null,null,null,null,null,null,null,null,null,null,null,null,null,null,null,null,null,null,null,null,null,null,null,null,null,null,null,null,null,null,null,{"$f":"IF($S$33=MID(CH66,1,$S$32),BT65+1,BT65)","v":{"$error":"#VALUE!"}},"A2",null,{"$f":"IF(ISERROR(HLOOKUP($BP8,補助!$AW$2:$BE$9,2,FALSE))=TRUE,\"\",HLOOKUP($BP8,補助!$AW$2:$BE$9,2,FALSE))","v":""},{"$f":"IF(ISERROR(HLOOKUP($BQ8,補助!$AW$2:$BE$9,2,FALSE))=TRUE,\"\",HLOOKUP($BQ8,補助!$AW$2:$BE$9,2,FALSE))","v":""},{"$f":"IF(ISERROR(HLOOKUP($BR8,補助!$AW$2:$BE$9,2,FALSE))=TRUE,\"\",HLOOKUP($BR8,補助!$AW$2:$BE$9,2,FALSE))","v":""},{"$f":"IF(ISERROR(HLOOKUP($BS8,補助!$AW$2:$BE$9,2,FALSE))=TRUE,\"\",HLOOKUP($BS8,補助!$AW$2:$BE$9,2,FALSE))","v":""},{"$f":"IF(ISERROR(HLOOKUP($BT8,補助!$AW$2:$BE$9,2,FALSE))=TRUE,\"\",HLOOKUP($BT8,補助!$AW$2:$BE$9,2,FALSE))","v":""},{"$f":"IF(ISERROR(HLOOKUP($BU8,補助!$AW$2:$BE$9,2,FALSE))=TRUE,\"\",HLOOKUP($BU8,補助!$AW$2:$BE$9,2,FALSE))","v":""},{"$f":"IF(ISERROR(HLOOKUP($BV8,補助!$AW$2:$BE$9,2,FALSE))=TRUE,\"\",HLOOKUP($BV8,補助!$AW$2:$BE$9,2,FALSE))","v":""},{"$f":"IF(ISERROR(HLOOKUP($BW8,補助!$AW$2:$BE$9,2,FALSE))=TRUE,\"\",HLOOKUP($BW8,補助!$AW$2:$BE$9,2,FALSE))","v":7},{"$f":"IF(ISERROR(HLOOKUP($BX8,補助!$AW$2:$BE$9,2,FALSE))=TRUE,\"\",HLOOKUP($BX8,補助!$AW$2:$BE$9,2,FALSE))","v":4},{"$f":"IF(ISERROR(HLOOKUP($BY8,補助!$AW$2:$BE$9,2,FALSE))=TRUE,\"\",HLOOKUP($BY8,補助!$AW$2:$BE$9,2,FALSE))","v":1},{"$f":"IF(ISERROR(HLOOKUP($BZ8,補助!$AW$2:$BE$9,2,FALSE))=TRUE,\"\",HLOOKUP($BZ8,補助!$AW$2:$BE$9,2,FALSE))","v":6},{"$f":"BW66&BX66&BY66&BZ66&CA66&CB66&CC66&CD66&CE66&CF66","v":"741"}]
[null,null,null,null,null,null,null,null,null,null,null,null,null,null,null,null,null,null,null,null,null,null,null,null,null,null,null,null,null,null,null,null,null,null,null,null,null,null,null,null,null,null,null,null,null,null,null,null,null,null,null,null,null,null,null,null,null,null,null,null,null,null,null,null,null,null,null,null,null,null,null,{"$error":"#VALUE!"},"A2",null,{"$f":"IF(ISERROR(HLOOKUP($BP9,補助!$AW$2:$BE$9,2,FALSE))=TRUE,\"\",HLOOKUP($BP9,補助!$AW$2:$BE$9,2,FALSE))","v":""},{"$f":"IF(ISERROR(HLOOKUP($BQ9,補助!$AW$2:$BE$9,2,FALSE))=TRUE,\"\",HLOOKUP($BQ9,補助!$AW$2:$BE$9,2,FALSE))","v":""},{"$f":"IF(ISERROR(HLOOKUP($BR9,補助!$AW$2:$BE$9,2,FALSE))=TRUE,\"\",HLOOKUP($BR9,補助!$AW$2:$BE$9,2,FALSE))","v":""},{"$f":"IF(ISERROR(HLOOKUP($BS9,補助!$AW$2:$BE$9,2,FALSE))=TRUE,\"\",HLOOKUP($BS9,補助!$AW$2:$BE$9,2,FALSE))","v":""},{"$f":"IF(ISERROR(HLOOKUP($BT9,補助!$AW$2:$BE$9,2,FALSE))=TRUE,\"\",HLOOKUP($BT9,補助!$AW$2:$BE$9,2,FALSE))","v":""},{"$f":"IF(ISERROR(HLOOKUP($BU9,補助!$AW$2:$BE$9,2,FALSE))=TRUE,\"\",HLOOKUP($BU9,補助!$AW$2:$BE$9,2,FALSE))","v":""},{"$f":"IF(ISERROR(HLOOKUP($BV9,補助!$AW$2:$BE$9,2,FALSE))=TRUE,\"\",HLOOKUP($BV9,補助!$AW$2:$BE$9,2,FALSE))","v":""},{"$f":"IF(ISERROR(HLOOKUP($BW9,補助!$AW$2:$BE$9,2,FALSE))=TRUE,\"\",HLOOKUP($BW9,補助!$AW$2:$BE$9,2,FALSE))","v":7},{"$f":"IF(ISERROR(HLOOKUP($BX9,補助!$AW$2:$BE$9,2,FALSE))=TRUE,\"\",HLOOKUP($BX9,補助!$AW$2:$BE$9,2,FALSE))","v":4},{"$f":"IF(ISERROR(HLOOKUP($BY9,補助!$AW$2:$BE$9,2,FALSE))=TRUE,\"\",HLOOKUP($BY9,補助!$AW$2:$BE$9,2,FALSE))","v":1},{"$f":"IF(ISERROR(HLOOKUP($BZ9,補助!$AW$2:$BE$9,2,FALSE))=TRUE,\"\",HLOOKUP($BZ9,補助!$AW$2:$BE$9,2,FALSE))","v":3},"741"]
[null,null,null,null,null,null,null,null,null,null,null,null,null,null,null,null,null,null,null,null,null,null,null,null,null,null,null,null,null,null,null,null,null,null,null,null,null,null,null,null,null,null,null,null,null,null,null,null,null,null,null,null,null,null,null,null,null,null,null,null,null,null,null,null,null,null,null,null,null,null,null,{"$error":"#VALUE!"},"A2",null,{"$f":"IF(ISERROR(HLOOKUP($BP10,補助!$AW$2:$BE$9,2,FALSE))=TRUE,\"\",HLOOKUP($BP10,補助!$AW$2:$BE$9,2,FALSE))","v":""},{"$f":"IF(ISERROR(HLOOKUP($BQ10,補助!$AW$2:$BE$9,2,FALSE))=TRUE,\"\",HLOOKUP($BQ10,補助!$AW$2:$BE$9,2,FALSE))","v":""},{"$f":"IF(ISERROR(HLOOKUP($BR10,補助!$AW$2:$BE$9,2,FALSE))=TRUE,\"\",HLOOKUP($BR10,補助!$AW$2:$BE$9,2,FALSE))","v":""},{"$f":"IF(ISERROR(HLOOKUP($BS10,補助!$AW$2:$BE$9,2,FALSE))=TRUE,\"\",HLOOKUP($BS10,補助!$AW$2:$BE$9,2,FALSE))","v":""},{"$f":"IF(ISERROR(HLOOKUP($BT10,補助!$AW$2:$BE$9,2,FALSE))=TRUE,\"\",HLOOKUP($BT10,補助!$AW$2:$BE$9,2,FALSE))","v":""},{"$f":"IF(ISERROR(HLOOKUP($BU10,補助!$AW$2:$BE$9,2,FALSE))=TRUE,\"\",HLOOKUP($BU10,補助!$AW$2:$BE$9,2,FALSE))","v":""},{"$f":"IF(ISERROR(HLOOKUP($BV10,補助!$AW$2:$BE$9,2,FALSE))=TRUE,\"\",HLOOKUP($BV10,補助!$AW$2:$BE$9,2,FALSE))","v":""},{"$f":"IF(ISERROR(HLOOKUP($BW10,補助!$AW$2:$BE$9,2,FALSE))=TRUE,\"\",HLOOKUP($BW10,補助!$AW$2:$BE$9,2,FALSE))","v":7},{"$f":"IF(ISERROR(HLOOKUP($BX10,補助!$AW$2:$BE$9,2,FALSE))=TRUE,\"\",HLOOKUP($BX10,補助!$AW$2:$BE$9,2,FALSE))","v":4},{"$f":"IF(ISERROR(HLOOKUP($BY10,補助!$AW$2:$BE$9,2,FALSE))=TRUE,\"\",HLOOKUP($BY10,補助!$AW$2:$BE$9,2,FALSE))","v":2},{"$f":"IF(ISERROR(HLOOKUP($BZ10,補助!$AW$2:$BE$9,2,FALSE))=TRUE,\"\",HLOOKUP($BZ10,補助!$AW$2:$BE$9,2,FALSE))","v":1},"742"]
[null,null,null,null,null,null,null,null,null,null,null,null,null,null,null,null,null,null,null,null,null,null,null,null,null,null,null,null,null,null,null,null,null,null,null,null,null,null,null,null,null,null,null,null,null,null,null,null,null,null,null,null,null,null,null,null,null,null,null,null,null,null,null,null,null,null,null,null,null,null,null,{"$error":"#VALUE!"},"A2",null,{"$f":"IF(ISERROR(HLOOKUP($BP11,補助!$AW$2:$BE$9,2,FALSE))=TRUE,\"\",HLOOKUP($BP11,補助!$AW$2:$BE$9,2,FALSE))","v":""},{"$f":"IF(ISERROR(HLOOKUP($BQ11,補助!$AW$2:$BE$9,2,FALSE))=TRUE,\"\",HLOOKUP($BQ11,補助!$AW$2:$BE$9,2,FALSE))","v":""},{"$f":"IF(ISERROR(HLOOKUP($BR11,補助!$AW$2:$BE$9,2,FALSE))=TRUE,\"\",HLOOKUP($BR11,補助!$AW$2:$BE$9,2,FALSE))","v":""},{"$f":"IF(ISERROR(HLOOKUP($BS11,補助!$AW$2:$BE$9,2,FALSE))=TRUE,\"\",HLOOKUP($BS11,補助!$AW$2:$BE$9,2,FALSE))","v":""},{"$f":"IF(ISERROR(HLOOKUP($BT11,補助!$AW$2:$BE$9,2,FALSE))=TRUE,\"\",HLOOKUP($BT11,補助!$AW$2:$BE$9,2,FALSE))","v":""},{"$f":"IF(ISERROR(HLOOKUP($BU11,補助!$AW$2:$BE$9,2,FALSE))=TRUE,\"\",HLOOKUP($BU11,補助!$AW$2:$BE$9,2,FALSE))","v":""},{"$f":"IF(ISERROR(HLOOKUP($BV11,補助!$AW$2:$BE$9,2,FALSE))=TRUE,\"\",HLOOKUP($BV11,補助!$AW$2:$BE$9,2,FALSE))","v":""},{"$f":"IF(ISERROR(HLOOKUP($BW11,補助!$AW$2:$BE$9,2,FALSE))=TRUE,\"\",HLOOKUP($BW11,補助!$AW$2:$BE$9,2,FALSE))","v":7},{"$f":"IF(ISERROR(HLOOKUP($BX11,補助!$AW$2:$BE$9,2,FALSE))=TRUE,\"\",HLOOKUP($BX11,補助!$AW$2:$BE$9,2,FALSE))","v":4},{"$f":"IF(ISERROR(HLOOKUP($BY11,補助!$AW$2:$BE$9,2,FALSE))=TRUE,\"\",HLOOKUP($BY11,補助!$AW$2:$BE$9,2,FALSE))","v":2},{"$f":"IF(ISERROR(HLOOKUP($BZ11,補助!$AW$2:$BE$9,2,FALSE))=TRUE,\"\",HLOOKUP($BZ11,補助!$AW$2:$BE$9,2,FALSE))","v":8},"742"]
[null,null,null,null,null,null,null,null,null,null,null,null,null,null,null,null,null,null,null,null,null,null,null,null,null,null,null,null,null,null,null,null,null,null,null,null,null,null,null,null,null,null,null,null,null,null,null,null,null,null,null,null,null,null,null,null,null,null,null,null,null,null,null,null,null,null,null,null,null,null,null,{"$error":"#VALUE!"},"A2",null,{"$f":"IF(ISERROR(HLOOKUP($BP12,補助!$AW$2:$BE$9,2,FALSE))=TRUE,\"\",HLOOKUP($BP12,補助!$AW$2:$BE$9,2,FALSE))","v":""},{"$f":"IF(ISERROR(HLOOKUP($BQ12,補助!$AW$2:$BE$9,2,FALSE))=TRUE,\"\",HLOOKUP($BQ12,補助!$AW$2:$BE$9,2,FALSE))","v":""},{"$f":"IF(ISERROR(HLOOKUP($BR12,補助!$AW$2:$BE$9,2,FALSE))=TRUE,\"\",HLOOKUP($BR12,補助!$AW$2:$BE$9,2,FALSE))","v":""},{"$f":"IF(ISERROR(HLOOKUP($BS12,補助!$AW$2:$BE$9,2,FALSE))=TRUE,\"\",HLOOKUP($BS12,補助!$AW$2:$BE$9,2,FALSE))","v":""},{"$f":"IF(ISERROR(HLOOKUP($BT12,補助!$AW$2:$BE$9,2,FALSE))=TRUE,\"\",HLOOKUP($BT12,補助!$AW$2:$BE$9,2,FALSE))","v":""},{"$f":"IF(ISERROR(HLOOKUP($BU12,補助!$AW$2:$BE$9,2,FALSE))=TRUE,\"\",HLOOKUP($BU12,補助!$AW$2:$BE$9,2,FALSE))","v":""},{"$f":"IF(ISERROR(HLOOKUP($BV12,補助!$AW$2:$BE$9,2,FALSE))=TRUE,\"\",HLOOKUP($BV12,補助!$AW$2:$BE$9,2,FALSE))","v":""},{"$f":"IF(ISERROR(HLOOKUP($BW12,補助!$AW$2:$BE$9,2,FALSE))=TRUE,\"\",HLOOKUP($BW12,補助!$AW$2:$BE$9,2,FALSE))","v":7},{"$f":"IF(ISERROR(HLOOKUP($BX12,補助!$AW$2:$BE$9,2,FALSE))=TRUE,\"\",HLOOKUP($BX12,補助!$AW$2:$BE$9,2,FALSE))","v":4},{"$f":"IF(ISERROR(HLOOKUP($BY12,補助!$AW$2:$BE$9,2,FALSE))=TRUE,\"\",HLOOKUP($BY12,補助!$AW$2:$BE$9,2,FALSE))","v":2},{"$f":"IF(ISERROR(HLOOKUP($BZ12,補助!$AW$2:$BE$9,2,FALSE))=TRUE,\"\",HLOOKUP($BZ12,補助!$AW$2:$BE$9,2,FALSE))","v":9},"742"]
[null,null,null,null,null,null,null,null,null,null,null,null,null,null,null,null,null,null,null,null,null,null,null,null,null,null,null,null,null,null,null,null,null,null,null,null,null,null,null,null,null,null,null,null,null,null,null,null,null,null,null,null,null,null,null,null,null,null,null,null,null,null,null,null,null,null,null,null,null,null,null,{"$error":"#VALUE!"},"A2",null,{"$f":"IF(ISERROR(HLOOKUP($BP13,補助!$AW$2:$BE$9,2,FALSE))=TRUE,\"\",HLOOKUP($BP13,補助!$AW$2:$BE$9,2,FALSE))","v":""},{"$f":"IF(ISERROR(HLOOKUP($BQ13,補助!$AW$2:$BE$9,2,FALSE))=TRUE,\"\",HLOOKUP($BQ13,補助!$AW$2:$BE$9,2,FALSE))","v":""},{"$f":"IF(ISERROR(HLOOKUP($BR13,補助!$AW$2:$BE$9,2,FALSE))=TRUE,\"\",HLOOKUP($BR13,補助!$AW$2:$BE$9,2,FALSE))","v":""},{"$f":"IF(ISERROR(HLOOKUP($BS13,補助!$AW$2:$BE$9,2,FALSE))=TRUE,\"\",HLOOKUP($BS13,補助!$AW$2:$BE$9,2,FALSE))","v":""},{"$f":"IF(ISERROR(HLOOKUP($BT13,補助!$AW$2:$BE$9,2,FALSE))=TRUE,\"\",HLOOKUP($BT13,補助!$AW$2:$BE$9,2,FALSE))","v":""},{"$f":"IF(ISERROR(HLOOKUP($BU13,補助!$AW$2:$BE$9,2,FALSE))=TRUE,\"\",HLOOKUP($BU13,補助!$AW$2:$BE$9,2,FALSE))","v":""},{"$f":"IF(ISERROR(HLOOKUP($BV13,補助!$AW$2:$BE$9,2,FALSE))=TRUE,\"\",HLOOKUP($BV13,補助!$AW$2:$BE$9,2,FALSE))","v":""},{"$f":"IF(ISERROR(HLOOKUP($BW13,補助!$AW$2:$BE$9,2,FALSE))=TRUE,\"\",HLOOKUP($BW13,補助!$AW$2:$BE$9,2,FALSE))","v":7},{"$f":"IF(ISERROR(HLOOKUP($BX13,補助!$AW$2:$BE$9,2,FALSE))=TRUE,\"\",HLOOKUP($BX13,補助!$AW$2:$BE$9,2,FALSE))","v":4},{"$f":"IF(ISERROR(HLOOKUP($BY13,補助!$AW$2:$BE$9,2,FALSE))=TRUE,\"\",HLOOKUP($BY13,補助!$AW$2:$BE$9,2,FALSE))","v":2},{"$f":"IF(ISERROR(HLOOKUP($BZ13,補助!$AW$2:$BE$9,2,FALSE))=TRUE,\"\",HLOOKUP($BZ13,補助!$AW$2:$BE$9,2,FALSE))","v":6},"742"]
[null,null,null,null,null,null,null,null,null,null,null,null,null,null,null,null,null,null,null,null,null,null,null,null,null,null,null,null,null,null,null,null,null,null,null,null,null,null,null,null,null,null,null,null,null,null,null,null,null,null,null,null,null,null,null,null,null,null,null,null,null,null,null,null,null,null,null,null,null,null,null,{"$error":"#VALUE!"},"A2",null,{"$f":"IF(ISERROR(HLOOKUP($BP14,補助!$AW$2:$BE$9,2,FALSE))=TRUE,\"\",HLOOKUP($BP14,補助!$AW$2:$BE$9,2,FALSE))","v":""},{"$f":"IF(ISERROR(HLOOKUP($BQ14,補助!$AW$2:$BE$9,2,FALSE))=TRUE,\"\",HLOOKUP($BQ14,補助!$AW$2:$BE$9,2,FALSE))","v":""},{"$f":"IF(ISERROR(HLOOKUP($BR14,補助!$AW$2:$BE$9,2,FALSE))=TRUE,\"\",HLOOKUP($BR14,補助!$AW$2:$BE$9,2,FALSE))","v":""},{"$f":"IF(ISERROR(HLOOKUP($BS14,補助!$AW$2:$BE$9,2,FALSE))=TRUE,\"\",HLOOKUP($BS14,補助!$AW$2:$BE$9,2,FALSE))","v":""},{"$f":"IF(ISERROR(HLOOKUP($BT14,補助!$AW$2:$BE$9,2,FALSE))=TRUE,\"\",HLOOKUP($BT14,補助!$AW$2:$BE$9,2,FALSE))","v":""},{"$f":"IF(ISERROR(HLOOKUP($BU14,補助!$AW$2:$BE$9,2,FALSE))=TRUE,\"\",HLOOKUP($BU14,補助!$AW$2:$BE$9,2,FALSE))","v":""},{"$f":"IF(ISERROR(HLOOKUP($BV14,補助!$AW$2:$BE$9,2,FALSE))=TRUE,\"\",HLOOKUP($BV14,補助!$AW$2:$BE$9,2,FALSE))","v":""},{"$f":"IF(ISERROR(HLOOKUP($BW14,補助!$AW$2:$BE$9,2,FALSE))=TRUE,\"\",HLOOKUP($BW14,補助!$AW$2:$BE$9,2,FALSE))","v":7},{"$f":"IF(ISERROR(HLOOKUP($BX14,補助!$AW$2:$BE$9,2,FALSE))=TRUE,\"\",HLOOKUP($BX14,補助!$AW$2:$BE$9,2,FALSE))","v":4},{"$f":"IF(ISERROR(HLOOKUP($BY14,補助!$AW$2:$BE$9,2,FALSE))=TRUE,\"\",HLOOKUP($BY14,補助!$AW$2:$BE$9,2,FALSE))","v":2},{"$f":"IF(ISERROR(HLOOKUP($BZ14,補助!$AW$2:$BE$9,2,FALSE))=TRUE,\"\",HLOOKUP($BZ14,補助!$AW$2:$BE$9,2,FALSE))","v":3},"742"]
[null,null,null,null,null,null,null,null,null,null,null,null,null,null,null,null,null,null,null,null,null,null,null,null,null,null,null,null,null,null,null,null,null,null,null,null,null,null,null,null,null,null,null,null,null,null,null,null,null,null,null,null,null,null,null,null,null,null,null,null,null,null,null,null,null,null,null,null,null,null,null,{"$error":"#VALUE!"},"A2","白",{"$f":"IF(ISERROR(HLOOKUP($BP15,補助!$AW$2:$BE$9,2,FALSE))=TRUE,\"\",HLOOKUP($BP15,補助!$AW$2:$BE$9,2,FALSE))","v":""},{"$f":"IF(ISERROR(HLOOKUP($BQ15,補助!$AW$2:$BE$9,2,FALSE))=TRUE,\"\",HLOOKUP($BQ15,補助!$AW$2:$BE$9,2,FALSE))","v":""},{"$f":"IF(ISERROR(HLOOKUP($BR15,補助!$AW$2:$BE$9,2,FALSE))=TRUE,\"\",HLOOKUP($BR15,補助!$AW$2:$BE$9,2,FALSE))","v":""},{"$f":"IF(ISERROR(HLOOKUP($BS15,補助!$AW$2:$BE$9,2,FALSE))=TRUE,\"\",HLOOKUP($BS15,補助!$AW$2:$BE$9,2,FALSE))","v":""},{"$f":"IF(ISERROR(HLOOKUP($BT15,補助!$AW$2:$BE$9,2,FALSE))=TRUE,\"\",HLOOKUP($BT15,補助!$AW$2:$BE$9,2,FALSE))","v":""},{"$f":"IF(ISERROR(HLOOKUP($BU15,補助!$AW$2:$BE$9,2,FALSE))=TRUE,\"\",HLOOKUP($BU15,補助!$AW$2:$BE$9,2,FALSE))","v":""},{"$f":"IF(ISERROR(HLOOKUP($BV15,補助!$AW$2:$BE$9,2,FALSE))=TRUE,\"\",HLOOKUP($BV15,補助!$AW$2:$BE$9,2,FALSE))","v":""},{"$f":"IF(ISERROR(HLOOKUP($BW15,補助!$AW$2:$BE$9,2,FALSE))=TRUE,\"\",HLOOKUP($BW15,補助!$AW$2:$BE$9,2,FALSE))","v":7},{"$f":"IF(ISERROR(HLOOKUP($BX15,補助!$AW$2:$BE$9,2,FALSE))=TRUE,\"\",HLOOKUP($BX15,補助!$AW$2:$BE$9,2,FALSE))","v":4},{"$f":"IF(ISERROR(HLOOKUP($BY15,補助!$AW$2:$BE$9,2,FALSE))=TRUE,\"\",HLOOKUP($BY15,補助!$AW$2:$BE$9,2,FALSE))","v":2},{"$f":"IF(ISERROR(HLOOKUP($BZ15,補助!$AW$2:$BE$9,2,FALSE))=TRUE,\"\",HLOOKUP($BZ15,補助!$AW$2:$BE$9,2,FALSE))","v":5},"742"]
[null,null,null,null,null,null,null,null,null,null,null,null,null,null,null,null,null,null,null,null,null,null,null,null,null,null,null,null,null,null,null,null,null,null,null,null,null,null,null,null,null,null,null,null,null,null,null,null,null,null,null,null,null,null,null,null,null,null,null,null,null,null,null,null,null,null,null,null,null,null,null,{"$error":"#VALUE!"},"A2",null,{"$f":"IF(ISERROR(HLOOKUP($BP16,補助!$AW$2:$BE$9,2,FALSE))=TRUE,\"\",HLOOKUP($BP16,補助!$AW$2:$BE$9,2,FALSE))","v":""},{"$f":"IF(ISERROR(HLOOKUP($BQ16,補助!$AW$2:$BE$9,2,FALSE))=TRUE,\"\",HLOOKUP($BQ16,補助!$AW$2:$BE$9,2,FALSE))","v":""},{"$f":"IF(ISERROR(HLOOKUP($BR16,補助!$AW$2:$BE$9,2,FALSE))=TRUE,\"\",HLOOKUP($BR16,補助!$AW$2:$BE$9,2,FALSE))","v":""},{"$f":"IF(ISERROR(HLOOKUP($BS16,補助!$AW$2:$BE$9,2,FALSE))=TRUE,\"\",HLOOKUP($BS16,補助!$AW$2:$BE$9,2,FALSE))","v":""},{"$f":"IF(ISERROR(HLOOKUP($BT16,補助!$AW$2:$BE$9,2,FALSE))=TRUE,\"\",HLOOKUP($BT16,補助!$AW$2:$BE$9,2,FALSE))","v":""},{"$f":"IF(ISERROR(HLOOKUP($BU16,補助!$AW$2:$BE$9,2,FALSE))=TRUE,\"\",HLOOKUP($BU16,補助!$AW$2:$BE$9,2,FALSE))","v":""},{"$f":"IF(ISERROR(HLOOKUP($BV16,補助!$AW$2:$BE$9,2,FALSE))=TRUE,\"\",HLOOKUP($BV16,補助!$AW$2:$BE$9,2,FALSE))","v":""},{"$f":"IF(ISERROR(HLOOKUP($BW16,補助!$AW$2:$BE$9,2,FALSE))=TRUE,\"\",HLOOKUP($BW16,補助!$AW$2:$BE$9,2,FALSE))","v":7},{"$f":"IF(ISERROR(HLOOKUP($BX16,補助!$AW$2:$BE$9,2,FALSE))=TRUE,\"\",HLOOKUP($BX16,補助!$AW$2:$BE$9,2,FALSE))","v":4},{"$f":"IF(ISERROR(HLOOKUP($BY16,補助!$AW$2:$BE$9,2,FALSE))=TRUE,\"\",HLOOKUP($BY16,補助!$AW$2:$BE$9,2,FALSE))","v":6},{"$f":"IF(ISERROR(HLOOKUP($BZ16,補助!$AW$2:$BE$9,2,FALSE))=TRUE,\"\",HLOOKUP($BZ16,補助!$AW$2:$BE$9,2,FALSE))","v":1},"746"]
[null,null,null,null,null,null,null,null,null,null,null,null,null,null,null,null,null,null,null,null,null,null,null,null,null,null,null,null,null,null,null,null,null,null,null,null,null,null,null,null,null,null,null,null,null,null,null,null,null,null,null,null,null,null,null,null,null,null,null,null,null,null,null,null,null,null,null,null,null,null,null,{"$error":"#VALUE!"},"A2",null,{"$f":"IF(ISERROR(HLOOKUP($BP17,補助!$AW$2:$BE$9,2,FALSE))=TRUE,\"\",HLOOKUP($BP17,補助!$AW$2:$BE$9,2,FALSE))","v":""},{"$f":"IF(ISERROR(HLOOKUP($BQ17,補助!$AW$2:$BE$9,2,FALSE))=TRUE,\"\",HLOOKUP($BQ17,補助!$AW$2:$BE$9,2,FALSE))","v":""},{"$f":"IF(ISERROR(HLOOKUP($BR17,補助!$AW$2:$BE$9,2,FALSE))=TRUE,\"\",HLOOKUP($BR17,補助!$AW$2:$BE$9,2,FALSE))","v":""},{"$f":"IF(ISERROR(HLOOKUP($BS17,補助!$AW$2:$BE$9,2,FALSE))=TRUE,\"\",HLOOKUP($BS17,補助!$AW$2:$BE$9,2,FALSE))","v":""},{"$f":"IF(ISERROR(HLOOKUP($BT17,補助!$AW$2:$BE$9,2,FALSE))=TRUE,\"\",HLOOKUP($BT17,補助!$AW$2:$BE$9,2,FALSE))","v":""},{"$f":"IF(ISERROR(HLOOKUP($BU17,補助!$AW$2:$BE$9,2,FALSE))=TRUE,\"\",HLOOKUP($BU17,補助!$AW$2:$BE$9,2,FALSE))","v":""},{"$f":"IF(ISERROR(HLOOKUP($BV17,補助!$AW$2:$BE$9,2,FALSE))=TRUE,\"\",HLOOKUP($BV17,補助!$AW$2:$BE$9,2,FALSE))","v":""},{"$f":"IF(ISERROR(HLOOKUP($BW17,補助!$AW$2:$BE$9,2,FALSE))=TRUE,\"\",HLOOKUP($BW17,補助!$AW$2:$BE$9,2,FALSE))","v":7},{"$f":"IF(ISERROR(HLOOKUP($BX17,補助!$AW$2:$BE$9,2,FALSE))=TRUE,\"\",HLOOKUP($BX17,補助!$AW$2:$BE$9,2,FALSE))","v":4},{"$f":"IF(ISERROR(HLOOKUP($BY17,補助!$AW$2:$BE$9,2,FALSE))=TRUE,\"\",HLOOKUP($BY17,補助!$AW$2:$BE$9,2,FALSE))","v":6},{"$f":"IF(ISERROR(HLOOKUP($BZ17,補助!$AW$2:$BE$9,2,FALSE))=TRUE,\"\",HLOOKUP($BZ17,補助!$AW$2:$BE$9,2,FALSE))","v":8},"746"]
[null,null,null,null,null,null,null,null,null,null,null,null,null,null,null,null,null,null,null,null,null,null,null,null,null,null,null,null,null,null,null,null,null,null,null,null,null,null,null,null,null,null,null,null,null,null,null,null,null,null,null,null,null,null,null,null,null,null,null,null,null,null,null,null,null,null,null,null,null,null,null,{"$error":"#VALUE!"},"A2",null,{"$f":"IF(ISERROR(HLOOKUP($BP18,補助!$AW$2:$BE$9,2,FALSE))=TRUE,\"\",HLOOKUP($BP18,補助!$AW$2:$BE$9,2,FALSE))","v":""},{"$f":"IF(ISERROR(HLOOKUP($BQ18,補助!$AW$2:$BE$9,2,FALSE))=TRUE,\"\",HLOOKUP($BQ18,補助!$AW$2:$BE$9,2,FALSE))","v":""},{"$f":"IF(ISERROR(HLOOKUP($BR18,補助!$AW$2:$BE$9,2,FALSE))=TRUE,\"\",HLOOKUP($BR18,補助!$AW$2:$BE$9,2,FALSE))","v":""},{"$f":"IF(ISERROR(HLOOKUP($BS18,補助!$AW$2:$BE$9,2,FALSE))=TRUE,\"\",HLOOKUP($BS18,補助!$AW$2:$BE$9,2,FALSE))","v":""},{"$f":"IF(ISERROR(HLOOKUP($BT18,補助!$AW$2:$BE$9,2,FALSE))=TRUE,\"\",HLOOKUP($BT18,補助!$AW$2:$BE$9,2,FALSE))","v":""},{"$f":"IF(ISERROR(HLOOKUP($BU18,補助!$AW$2:$BE$9,2,FALSE))=TRUE,\"\",HLOOKUP($BU18,補助!$AW$2:$BE$9,2,FALSE))","v":""},{"$f":"IF(ISERROR(HLOOKUP($BV18,補助!$AW$2:$BE$9,2,FALSE))=TRUE,\"\",HLOOKUP($BV18,補助!$AW$2:$BE$9,2,FALSE))","v":""},{"$f":"IF(ISERROR(HLOOKUP($BW18,補助!$AW$2:$BE$9,2,FALSE))=TRUE,\"\",HLOOKUP($BW18,補助!$AW$2:$BE$9,2,FALSE))","v":7},{"$f":"IF(ISERROR(HLOOKUP($BX18,補助!$AW$2:$BE$9,2,FALSE))=TRUE,\"\",HLOOKUP($BX18,補助!$AW$2:$BE$9,2,FALSE))","v":4},{"$f":"IF(ISERROR(HLOOKUP($BY18,補助!$AW$2:$BE$9,2,FALSE))=TRUE,\"\",HLOOKUP($BY18,補助!$AW$2:$BE$9,2,FALSE))","v":6},{"$f":"IF(ISERROR(HLOOKUP($BZ18,補助!$AW$2:$BE$9,2,FALSE))=TRUE,\"\",HLOOKUP($BZ18,補助!$AW$2:$BE$9,2,FALSE))","v":5},"746"]
[null,null,null,null,null,null,null,null,null,null,null,null,null,null,null,null,null,null,null,null,null,null,null,null,null,null,null,null,null,null,null,null,null,null,null,null,null,null,null,null,null,null,null,null,null,null,null,null,null,null,null,null,null,null,null,null,null,null,null,null,null,null,null,null,null,null,null,null,null,null,null,{"$error":"#VALUE!"},"A2",null,{"$f":"IF(ISERROR(HLOOKUP($BP19,補助!$AW$2:$BE$9,2,FALSE))=TRUE,\"\",HLOOKUP($BP19,補助!$AW$2:$BE$9,2,FALSE))","v":""},{"$f":"IF(ISERROR(HLOOKUP($BQ19,補助!$AW$2:$BE$9,2,FALSE))=TRUE,\"\",HLOOKUP($BQ19,補助!$AW$2:$BE$9,2,FALSE))","v":""},{"$f":"IF(ISERROR(HLOOKUP($BR19,補助!$AW$2:$BE$9,2,FALSE))=TRUE,\"\",HLOOKUP($BR19,補助!$AW$2:$BE$9,2,FALSE))","v":""},{"$f":"IF(ISERROR(HLOOKUP($BS19,補助!$AW$2:$BE$9,2,FALSE))=TRUE,\"\",HLOOKUP($BS19,補助!$AW$2:$BE$9,2,FALSE))","v":""},{"$f":"IF(ISERROR(HLOOKUP($BT19,補助!$AW$2:$BE$9,2,FALSE))=TRUE,\"\",HLOOKUP($BT19,補助!$AW$2:$BE$9,2,FALSE))","v":""},{"$f":"IF(ISERROR(HLOOKUP($BU19,補助!$AW$2:$BE$9,2,FALSE))=TRUE,\"\",HLOOKUP($BU19,補助!$AW$2:$BE$9,2,FALSE))","v":""},{"$f":"IF(ISERROR(HLOOKUP($BV19,補助!$AW$2:$BE$9,2,FALSE))=TRUE,\"\",HLOOKUP($BV19,補助!$AW$2:$BE$9,2,FALSE))","v":""},{"$f":"IF(ISERROR(HLOOKUP($BW19,補助!$AW$2:$BE$9,2,FALSE))=TRUE,\"\",HLOOKUP($BW19,補助!$AW$2:$BE$9,2,FALSE))","v":7},{"$f":"IF(ISERROR(HLOOKUP($BX19,補助!$AW$2:$BE$9,2,FALSE))=TRUE,\"\",HLOOKUP($BX19,補助!$AW$2:$BE$9,2,FALSE))","v":4},{"$f":"IF(ISERROR(HLOOKUP($BY19,補助!$AW$2:$BE$9,2,FALSE))=TRUE,\"\",HLOOKUP($BY19,補助!$AW$2:$BE$9,2,FALSE))","v":6},{"$f":"IF(ISERROR(HLOOKUP($BZ19,補助!$AW$2:$BE$9,2,FALSE))=TRUE,\"\",HLOOKUP($BZ19,補助!$AW$2:$BE$9,2,FALSE))","v":2},"746"]
[null,null,null,null,null,null,null,null,null,null,null,null,null,null,null,null,null,null,null,null,null,null,null,null,null,null,null,null,null,null,null,null,null,null,null,null,null,null,null,null,null,null,null,null,null,null,null,null,null,null,null,null,null,null,null,null,null,null,null,null,null,null,null,null,null,null,null,null,null,null,null,{"$error":"#VALUE!"},"A2",null,{"$f":"IF(ISERROR(HLOOKUP($BP20,補助!$AW$2:$BE$9,2,FALSE))=TRUE,\"\",HLOOKUP($BP20,補助!$AW$2:$BE$9,2,FALSE))","v":""},{"$f":"IF(ISERROR(HLOOKUP($BQ20,補助!$AW$2:$BE$9,2,FALSE))=TRUE,\"\",HLOOKUP($BQ20,補助!$AW$2:$BE$9,2,FALSE))","v":""},{"$f":"IF(ISERROR(HLOOKUP($BR20,補助!$AW$2:$BE$9,2,FALSE))=TRUE,\"\",HLOOKUP($BR20,補助!$AW$2:$BE$9,2,FALSE))","v":""},{"$f":"IF(ISERROR(HLOOKUP($BS20,補助!$AW$2:$BE$9,2,FALSE))=TRUE,\"\",HLOOKUP($BS20,補助!$AW$2:$BE$9,2,FALSE))","v":""},{"$f":"IF(ISERROR(HLOOKUP($BT20,補助!$AW$2:$BE$9,2,FALSE))=TRUE,\"\",HLOOKUP($BT20,補助!$AW$2:$BE$9,2,FALSE))","v":""},{"$f":"IF(ISERROR(HLOOKUP($BU20,補助!$AW$2:$BE$9,2,FALSE))=TRUE,\"\",HLOOKUP($BU20,補助!$AW$2:$BE$9,2,FALSE))","v":""},{"$f":"IF(ISERROR(HLOOKUP($BV20,補助!$AW$2:$BE$9,2,FALSE))=TRUE,\"\",HLOOKUP($BV20,補助!$AW$2:$BE$9,2,FALSE))","v":""},{"$f":"IF(ISERROR(HLOOKUP($BW20,補助!$AW$2:$BE$9,2,FALSE))=TRUE,\"\",HLOOKUP($BW20,補助!$AW$2:$BE$9,2,FALSE))","v":7},{"$f":"IF(ISERROR(HLOOKUP($BX20,補助!$AW$2:$BE$9,2,FALSE))=TRUE,\"\",HLOOKUP($BX20,補助!$AW$2:$BE$9,2,FALSE))","v":4},{"$f":"IF(ISERROR(HLOOKUP($BY20,補助!$AW$2:$BE$9,2,FALSE))=TRUE,\"\",HLOOKUP($BY20,補助!$AW$2:$BE$9,2,FALSE))","v":6},{"$f":"IF(ISERROR(HLOOKUP($BZ20,補助!$AW$2:$BE$9,2,FALSE))=TRUE,\"\",HLOOKUP($BZ20,補助!$AW$2:$BE$9,2,FALSE))","v":3},"746"]
[null,null,null,null,null,null,null,null,null,null,null,null,null,null,null,null,null,null,null,null,null,null,null,null,null,null,null,null,null,null,null,null,null,null,null,null,null,null,null,null,null,null,null,null,null,null,null,null,null,null,null,null,null,null,null,null,null,null,null,null,null,null,null,null,null,null,null,null,null,null,null,{"$error":"#VALUE!"},"A2",null,{"$f":"IF(ISERROR(HLOOKUP($BP21,補助!$AW$2:$BE$9,2,FALSE))=TRUE,\"\",HLOOKUP($BP21,補助!$AW$2:$BE$9,2,FALSE))","v":""},{"$f":"IF(ISERROR(HLOOKUP($BQ21,補助!$AW$2:$BE$9,2,FALSE))=TRUE,\"\",HLOOKUP($BQ21,補助!$AW$2:$BE$9,2,FALSE))","v":""},{"$f":"IF(ISERROR(HLOOKUP($BR21,補助!$AW$2:$BE$9,2,FALSE))=TRUE,\"\",HLOOKUP($BR21,補助!$AW$2:$BE$9,2,FALSE))","v":""},{"$f":"IF(ISERROR(HLOOKUP($BS21,補助!$AW$2:$BE$9,2,FALSE))=TRUE,\"\",HLOOKUP($BS21,補助!$AW$2:$BE$9,2,FALSE))","v":""},{"$f":"IF(ISERROR(HLOOKUP($BT21,補助!$AW$2:$BE$9,2,FALSE))=TRUE,\"\",HLOOKUP($BT21,補助!$AW$2:$BE$9,2,FALSE))","v":""},{"$f":"IF(ISERROR(HLOOKUP($BU21,補助!$AW$2:$BE$9,2,FALSE))=TRUE,\"\",HLOOKUP($BU21,補助!$AW$2:$BE$9,2,FALSE))","v":""},{"$f":"IF(ISERROR(HLOOKUP($BV21,補助!$AW$2:$BE$9,2,FALSE))=TRUE,\"\",HLOOKUP($BV21,補助!$AW$2:$BE$9,2,FALSE))","v":""},{"$f":"IF(ISERROR(HLOOKUP($BW21,補助!$AW$2:$BE$9,2,FALSE))=TRUE,\"\",HLOOKUP($BW21,補助!$AW$2:$BE$9,2,FALSE))","v":7},{"$f":"IF(ISERROR(HLOOKUP($BX21,補助!$AW$2:$BE$9,2,FALSE))=TRUE,\"\",HLOOKUP($BX21,補助!$AW$2:$BE$9,2,FALSE))","v":4},{"$f":"IF(ISERROR(HLOOKUP($BY21,補助!$AW$2:$BE$9,2,FALSE))=TRUE,\"\",HLOOKUP($BY21,補助!$AW$2:$BE$9,2,FALSE))","v":6},{"$f":"IF(ISERROR(HLOOKUP($BZ21,補助!$AW$2:$BE$9,2,FALSE))=TRUE,\"\",HLOOKUP($BZ21,補助!$AW$2:$BE$9,2,FALSE))","v":3},"746"]
[null,null,null,null,null,null,null,null,null,null,null,null,null,null,null,null,null,null,null,null,null,null,null,null,null,null,null,null,null,null,null,null,null,null,null,null,null,null,null,null,null,null,null,null,null,null,null,null,null,null,null,null,null,null,null,null,null,null,null,null,null,null,null,null,null,null,null,null,null,null,null,{"$error":"#VALUE!"},"A2",null,{"$f":"IF(ISERROR(HLOOKUP($BP22,補助!$AW$2:$BE$9,2,FALSE))=TRUE,\"\",HLOOKUP($BP22,補助!$AW$2:$BE$9,2,FALSE))","v":""},{"$f":"IF(ISERROR(HLOOKUP($BQ22,補助!$AW$2:$BE$9,2,FALSE))=TRUE,\"\",HLOOKUP($BQ22,補助!$AW$2:$BE$9,2,FALSE))","v":""},{"$f":"IF(ISERROR(HLOOKUP($BR22,補助!$AW$2:$BE$9,2,FALSE))=TRUE,\"\",HLOOKUP($BR22,補助!$AW$2:$BE$9,2,FALSE))","v":""},{"$f":"IF(ISERROR(HLOOKUP($BS22,補助!$AW$2:$BE$9,2,FALSE))=TRUE,\"\",HLOOKUP($BS22,補助!$AW$2:$BE$9,2,FALSE))","v":""},{"$f":"IF(ISERROR(HLOOKUP($BT22,補助!$AW$2:$BE$9,2,FALSE))=TRUE,\"\",HLOOKUP($BT22,補助!$AW$2:$BE$9,2,FALSE))","v":""},{"$f":"IF(ISERROR(HLOOKUP($BU22,補助!$AW$2:$BE$9,2,FALSE))=TRUE,\"\",HLOOKUP($BU22,補助!$AW$2:$BE$9,2,FALSE))","v":""},{"$f":"IF(ISERROR(HLOOKUP($BV22,補助!$AW$2:$BE$9,2,FALSE))=TRUE,\"\",HLOOKUP($BV22,補助!$AW$2:$BE$9,2,FALSE))","v":""},{"$f":"IF(ISERROR(HLOOKUP($BW22,補助!$AW$2:$BE$9,2,FALSE))=TRUE,\"\",HLOOKUP($BW22,補助!$AW$2:$BE$9,2,FALSE))","v":7},{"$f":"IF(ISERROR(HLOOKUP($BX22,補助!$AW$2:$BE$9,2,FALSE))=TRUE,\"\",HLOOKUP($BX22,補助!$AW$2:$BE$9,2,FALSE))","v":1},{"$f":"IF(ISERROR(HLOOKUP($BY22,補助!$AW$2:$BE$9,2,FALSE))=TRUE,\"\",HLOOKUP($BY22,補助!$AW$2:$BE$9,2,FALSE))","v":8},{"$f":"IF(ISERROR(HLOOKUP($BZ22,補助!$AW$2:$BE$9,2,FALSE))=TRUE,\"\",HLOOKUP($BZ22,補助!$AW$2:$BE$9,2,FALSE))","v":""},"718"]
[null,null,null,null,null,null,null,null,null,null,null,null,null,null,null,null,null,null,null,null,null,null,null,null,null,null,null,null,null,null,null,null,null,null,null,null,null,null,null,null,null,null,null,null,null,null,null,null,null,null,null,null,null,null,null,null,null,null,null,null,null,null,null,null,null,null,null,null,null,null,null,{"$error":"#VALUE!"},"A2",null,{"$f":"IF(ISERROR(HLOOKUP($BP23,補助!$AW$2:$BE$9,2,FALSE))=TRUE,\"\",HLOOKUP($BP23,補助!$AW$2:$BE$9,2,FALSE))","v":""},{"$f":"IF(ISERROR(HLOOKUP($BQ23,補助!$AW$2:$BE$9,2,FALSE))=TRUE,\"\",HLOOKUP($BQ23,補助!$AW$2:$BE$9,2,FALSE))","v":""},{"$f":"IF(ISERROR(HLOOKUP($BR23,補助!$AW$2:$BE$9,2,FALSE))=TRUE,\"\",HLOOKUP($BR23,補助!$AW$2:$BE$9,2,FALSE))","v":""},{"$f":"IF(ISERROR(HLOOKUP($BS23,補助!$AW$2:$BE$9,2,FALSE))=TRUE,\"\",HLOOKUP($BS23,補助!$AW$2:$BE$9,2,FALSE))","v":""},{"$f":"IF(ISERROR(HLOOKUP($BT23,補助!$AW$2:$BE$9,2,FALSE))=TRUE,\"\",HLOOKUP($BT23,補助!$AW$2:$BE$9,2,FALSE))","v":""},{"$f":"IF(ISERROR(HLOOKUP($BU23,補助!$AW$2:$BE$9,2,FALSE))=TRUE,\"\",HLOOKUP($BU23,補助!$AW$2:$BE$9,2,FALSE))","v":""},{"$f":"IF(ISERROR(HLOOKUP($BV23,補助!$AW$2:$BE$9,2,FALSE))=TRUE,\"\",HLOOKUP($BV23,補助!$AW$2:$BE$9,2,FALSE))","v":""},{"$f":"IF(ISERROR(HLOOKUP($BW23,補助!$AW$2:$BE$9,2,FALSE))=TRUE,\"\",HLOOKUP($BW23,補助!$AW$2:$BE$9,2,FALSE))","v":7},{"$f":"IF(ISERROR(HLOOKUP($BX23,補助!$AW$2:$BE$9,2,FALSE))=TRUE,\"\",HLOOKUP($BX23,補助!$AW$2:$BE$9,2,FALSE))","v":1},{"$f":"IF(ISERROR(HLOOKUP($BY23,補助!$AW$2:$BE$9,2,FALSE))=TRUE,\"\",HLOOKUP($BY23,補助!$AW$2:$BE$9,2,FALSE))","v":9},{"$f":"IF(ISERROR(HLOOKUP($BZ23,補助!$AW$2:$BE$9,2,FALSE))=TRUE,\"\",HLOOKUP($BZ23,補助!$AW$2:$BE$9,2,FALSE))","v":""},"719"]
[null,null,null,null,null,null,null,null,null,null,null,null,null,null,null,null,null,null,null,null,null,null,null,null,null,null,null,null,null,null,null,null,null,null,null,null,null,null,null,null,null,null,null,null,null,null,null,null,null,null,null,null,null,null,null,null,null,null,null,null,null,null,null,null,null,null,null,null,null,null,null,{"$error":"#VALUE!"},"A2",null,{"$f":"IF(ISERROR(HLOOKUP($BP24,補助!$AW$2:$BE$9,2,FALSE))=TRUE,\"\",HLOOKUP($BP24,補助!$AW$2:$BE$9,2,FALSE))","v":""},{"$f":"IF(ISERROR(HLOOKUP($BQ24,補助!$AW$2:$BE$9,2,FALSE))=TRUE,\"\",HLOOKUP($BQ24,補助!$AW$2:$BE$9,2,FALSE))","v":""},{"$f":"IF(ISERROR(HLOOKUP($BR24,補助!$AW$2:$BE$9,2,FALSE))=TRUE,\"\",HLOOKUP($BR24,補助!$AW$2:$BE$9,2,FALSE))","v":""},{"$f":"IF(ISERROR(HLOOKUP($BS24,補助!$AW$2:$BE$9,2,FALSE))=TRUE,\"\",HLOOKUP($BS24,補助!$AW$2:$BE$9,2,FALSE))","v":""},{"$f":"IF(ISERROR(HLOOKUP($BT24,補助!$AW$2:$BE$9,2,FALSE))=TRUE,\"\",HLOOKUP($BT24,補助!$AW$2:$BE$9,2,FALSE))","v":""},{"$f":"IF(ISERROR(HLOOKUP($BU24,補助!$AW$2:$BE$9,2,FALSE))=TRUE,\"\",HLOOKUP($BU24,補助!$AW$2:$BE$9,2,FALSE))","v":""},{"$f":"IF(ISERROR(HLOOKUP($BV24,補助!$AW$2:$BE$9,2,FALSE))=TRUE,\"\",HLOOKUP($BV24,補助!$AW$2:$BE$9,2,FALSE))","v":""},{"$f":"IF(ISERROR(HLOOKUP($BW24,補助!$AW$2:$BE$9,2,FALSE))=TRUE,\"\",HLOOKUP($BW24,補助!$AW$2:$BE$9,2,FALSE))","v":7},{"$f":"IF(ISERROR(HLOOKUP($BX24,補助!$AW$2:$BE$9,2,FALSE))=TRUE,\"\",HLOOKUP($BX24,補助!$AW$2:$BE$9,2,FALSE))","v":1},{"$f":"IF(ISERROR(HLOOKUP($BY24,補助!$AW$2:$BE$9,2,FALSE))=TRUE,\"\",HLOOKUP($BY24,補助!$AW$2:$BE$9,2,FALSE))","v":3},{"$f":"IF(ISERROR(HLOOKUP($BZ24,補助!$AW$2:$BE$9,2,FALSE))=TRUE,\"\",HLOOKUP($BZ24,補助!$AW$2:$BE$9,2,FALSE))","v":""},"713"]
[null,null,null,null,null,null,null,null,null,null,null,null,null,null,null,null,null,null,null,null,null,null,null,null,null,null,null,null,null,null,null,null,null,null,null,null,null,null,null,null,null,null,null,null,null,null,null,null,null,null,null,null,null,null,null,null,null,null,null,null,null,null,null,null,null,null,null,null,null,null,null,{"$error":"#VALUE!"},"A2",null,{"$f":"IF(ISERROR(HLOOKUP($BP25,補助!$AW$2:$BE$9,2,FALSE))=TRUE,\"\",HLOOKUP($BP25,補助!$AW$2:$BE$9,2,FALSE))","v":""},{"$f":"IF(ISERROR(HLOOKUP($BQ25,補助!$AW$2:$BE$9,2,FALSE))=TRUE,\"\",HLOOKUP($BQ25,補助!$AW$2:$BE$9,2,FALSE))","v":""},{"$f":"IF(ISERROR(HLOOKUP($BR25,補助!$AW$2:$BE$9,2,FALSE))=TRUE,\"\",HLOOKUP($BR25,補助!$AW$2:$BE$9,2,FALSE))","v":""},{"$f":"IF(ISERROR(HLOOKUP($BS25,補助!$AW$2:$BE$9,2,FALSE))=TRUE,\"\",HLOOKUP($BS25,補助!$AW$2:$BE$9,2,FALSE))","v":""},{"$f":"IF(ISERROR(HLOOKUP($BT25,補助!$AW$2:$BE$9,2,FALSE))=TRUE,\"\",HLOOKUP($BT25,補助!$AW$2:$BE$9,2,FALSE))","v":""},{"$f":"IF(ISERROR(HLOOKUP($BU25,補助!$AW$2:$BE$9,2,FALSE))=TRUE,\"\",HLOOKUP($BU25,補助!$AW$2:$BE$9,2,FALSE))","v":""},{"$f":"IF(ISERROR(HLOOKUP($BV25,補助!$AW$2:$BE$9,2,FALSE))=TRUE,\"\",HLOOKUP($BV25,補助!$AW$2:$BE$9,2,FALSE))","v":""},{"$f":"IF(ISERROR(HLOOKUP($BW25,補助!$AW$2:$BE$9,2,FALSE))=TRUE,\"\",HLOOKUP($BW25,補助!$AW$2:$BE$9,2,FALSE))","v":7},{"$f":"IF(ISERROR(HLOOKUP($BX25,補助!$AW$2:$BE$9,2,FALSE))=TRUE,\"\",HLOOKUP($BX25,補助!$AW$2:$BE$9,2,FALSE))","v":1},{"$f":"IF(ISERROR(HLOOKUP($BY25,補助!$AW$2:$BE$9,2,FALSE))=TRUE,\"\",HLOOKUP($BY25,補助!$AW$2:$BE$9,2,FALSE))","v":4},{"$f":"IF(ISERROR(HLOOKUP($BZ25,補助!$AW$2:$BE$9,2,FALSE))=TRUE,\"\",HLOOKUP($BZ25,補助!$AW$2:$BE$9,2,FALSE))","v":8},"714"]
[null,null,null,null,null,null,null,null,null,null,null,null,null,null,null,null,null,null,null,null,null,null,null,null,null,null,null,null,null,null,null,null,null,null,null,null,null,null,null,null,null,null,null,null,null,null,null,null,null,null,null,null,null,null,null,null,null,null,null,null,null,null,null,null,null,null,null,null,null,null,null,{"$error":"#VALUE!"},"A2",null,{"$f":"IF(ISERROR(HLOOKUP($BP26,補助!$AW$2:$BE$9,2,FALSE))=TRUE,\"\",HLOOKUP($BP26,補助!$AW$2:$BE$9,2,FALSE))","v":""},{"$f":"IF(ISERROR(HLOOKUP($BQ26,補助!$AW$2:$BE$9,2,FALSE))=TRUE,\"\",HLOOKUP($BQ26,補助!$AW$2:$BE$9,2,FALSE))","v":""},{"$f":"IF(ISERROR(HLOOKUP($BR26,補助!$AW$2:$BE$9,2,FALSE))=TRUE,\"\",HLOOKUP($BR26,補助!$AW$2:$BE$9,2,FALSE))","v":""},{"$f":"IF(ISERROR(HLOOKUP($BS26,補助!$AW$2:$BE$9,2,FALSE))=TRUE,\"\",HLOOKUP($BS26,補助!$AW$2:$BE$9,2,FALSE))","v":""},{"$f":"IF(ISERROR(HLOOKUP($BT26,補助!$AW$2:$BE$9,2,FALSE))=TRUE,\"\",HLOOKUP($BT26,補助!$AW$2:$BE$9,2,FALSE))","v":""},{"$f":"IF(ISERROR(HLOOKUP($BU26,補助!$AW$2:$BE$9,2,FALSE))=TRUE,\"\",HLOOKUP($BU26,補助!$AW$2:$BE$9,2,FALSE))","v":""},{"$f":"IF(ISERROR(HLOOKUP($BV26,補助!$AW$2:$BE$9,2,FALSE))=TRUE,\"\",HLOOKUP($BV26,補助!$AW$2:$BE$9,2,FALSE))","v":""},{"$f":"IF(ISERROR(HLOOKUP($BW26,補助!$AW$2:$BE$9,2,FALSE))=TRUE,\"\",HLOOKUP($BW26,補助!$AW$2:$BE$9,2,FALSE))","v":7},{"$f":"IF(ISERROR(HLOOKUP($BX26,補助!$AW$2:$BE$9,2,FALSE))=TRUE,\"\",HLOOKUP($BX26,補助!$AW$2:$BE$9,2,FALSE))","v":1},{"$f":"IF(ISERROR(HLOOKUP($BY26,補助!$AW$2:$BE$9,2,FALSE))=TRUE,\"\",HLOOKUP($BY26,補助!$AW$2:$BE$9,2,FALSE))","v":4},{"$f":"IF(ISERROR(HLOOKUP($BZ26,補助!$AW$2:$BE$9,2,FALSE))=TRUE,\"\",HLOOKUP($BZ26,補助!$AW$2:$BE$9,2,FALSE))","v":9},"714"]
[null,null,null,null,null,null,null,null,null,null,null,null,null,null,null,null,null,null,null,null,null,null,null,null,null,null,null,null,null,null,null,null,null,null,null,null,null,null,null,null,null,null,null,null,null,null,null,null,null,null,null,null,null,null,null,null,null,null,null,null,null,null,null,null,null,null,null,null,null,null,null,{"$error":"#VALUE!"},"A2","白",{"$f":"IF(ISERROR(HLOOKUP($BP27,補助!$AW$2:$BE$9,2,FALSE))=TRUE,\"\",HLOOKUP($BP27,補助!$AW$2:$BE$9,2,FALSE))","v":""},{"$f":"IF(ISERROR(HLOOKUP($BQ27,補助!$AW$2:$BE$9,2,FALSE))=TRUE,\"\",HLOOKUP($BQ27,補助!$AW$2:$BE$9,2,FALSE))","v":""},{"$f":"IF(ISERROR(HLOOKUP($BR27,補助!$AW$2:$BE$9,2,FALSE))=TRUE,\"\",HLOOKUP($BR27,補助!$AW$2:$BE$9,2,FALSE))","v":""},{"$f":"IF(ISERROR(HLOOKUP($BS27,補助!$AW$2:$BE$9,2,FALSE))=TRUE,\"\",HLOOKUP($BS27,補助!$AW$2:$BE$9,2,FALSE))","v":""},{"$f":"IF(ISERROR(HLOOKUP($BT27,補助!$AW$2:$BE$9,2,FALSE))=TRUE,\"\",HLOOKUP($BT27,補助!$AW$2:$BE$9,2,FALSE))","v":""},{"$f":"IF(ISERROR(HLOOKUP($BU27,補助!$AW$2:$BE$9,2,FALSE))=TRUE,\"\",HLOOKUP($BU27,補助!$AW$2:$BE$9,2,FALSE))","v":""},{"$f":"IF(ISERROR(HLOOKUP($BV27,補助!$AW$2:$BE$9,2,FALSE))=TRUE,\"\",HLOOKUP($BV27,補助!$AW$2:$BE$9,2,FALSE))","v":""},{"$f":"IF(ISERROR(HLOOKUP($BW27,補助!$AW$2:$BE$9,2,FALSE))=TRUE,\"\",HLOOKUP($BW27,補助!$AW$2:$BE$9,2,FALSE))","v":7},{"$f":"IF(ISERROR(HLOOKUP($BX27,補助!$AW$2:$BE$9,2,FALSE))=TRUE,\"\",HLOOKUP($BX27,補助!$AW$2:$BE$9,2,FALSE))","v":1},{"$f":"IF(ISERROR(HLOOKUP($BY27,補助!$AW$2:$BE$9,2,FALSE))=TRUE,\"\",HLOOKUP($BY27,補助!$AW$2:$BE$9,2,FALSE))","v":4},{"$f":"IF(ISERROR(HLOOKUP($BZ27,補助!$AW$2:$BE$9,2,FALSE))=TRUE,\"\",HLOOKUP($BZ27,補助!$AW$2:$BE$9,2,FALSE))","v":2},"714"]
[null,null,null,null,null,null,null,null,null,null,null,null,null,null,null,null,null,null,null,null,null,null,null,null,null,null,null,null,null,null,null,null,null,null,null,null,null,null,null,null,null,null,null,null,null,null,null,null,null,null,null,null,null,null,null,null,null,null,null,null,null,null,null,null,null,null,null,null,null,null,null,{"$error":"#VALUE!"},"A2","白",{"$f":"IF(ISERROR(HLOOKUP($BP28,補助!$AW$2:$BE$9,2,FALSE))=TRUE,\"\",HLOOKUP($BP28,補助!$AW$2:$BE$9,2,FALSE))","v":""},{"$f":"IF(ISERROR(HLOOKUP($BQ28,補助!$AW$2:$BE$9,2,FALSE))=TRUE,\"\",HLOOKUP($BQ28,補助!$AW$2:$BE$9,2,FALSE))","v":""},{"$f":"IF(ISERROR(HLOOKUP($BR28,補助!$AW$2:$BE$9,2,FALSE))=TRUE,\"\",HLOOKUP($BR28,補助!$AW$2:$BE$9,2,FALSE))","v":""},{"$f":"IF(ISERROR(HLOOKUP($BS28,補助!$AW$2:$BE$9,2,FALSE))=TRUE,\"\",HLOOKUP($BS28,補助!$AW$2:$BE$9,2,FALSE))","v":""},{"$f":"IF(ISERROR(HLOOKUP($BT28,補助!$AW$2:$BE$9,2,FALSE))=TRUE,\"\",HLOOKUP($BT28,補助!$AW$2:$BE$9,2,FALSE))","v":""},{"$f":"IF(ISERROR(HLOOKUP($BU28,補助!$AW$2:$BE$9,2,FALSE))=TRUE,\"\",HLOOKUP($BU28,補助!$AW$2:$BE$9,2,FALSE))","v":""},{"$f":"IF(ISERROR(HLOOKUP($BV28,補助!$AW$2:$BE$9,2,FALSE))=TRUE,\"\",HLOOKUP($BV28,補助!$AW$2:$BE$9,2,FALSE))","v":""},{"$f":"IF(ISERROR(HLOOKUP($BW28,補助!$AW$2:$BE$9,2,FALSE))=TRUE,\"\",HLOOKUP($BW28,補助!$AW$2:$BE$9,2,FALSE))","v":7},{"$f":"IF(ISERROR(HLOOKUP($BX28,補助!$AW$2:$BE$9,2,FALSE))=TRUE,\"\",HLOOKUP($BX28,補助!$AW$2:$BE$9,2,FALSE))","v":1},{"$f":"IF(ISERROR(HLOOKUP($BY28,補助!$AW$2:$BE$9,2,FALSE))=TRUE,\"\",HLOOKUP($BY28,補助!$AW$2:$BE$9,2,FALSE))","v":4},{"$f":"IF(ISERROR(HLOOKUP($BZ28,補助!$AW$2:$BE$9,2,FALSE))=TRUE,\"\",HLOOKUP($BZ28,補助!$AW$2:$BE$9,2,FALSE))","v":3},"714"]
[null,null,null,null,null,null,null,null,null,null,null,null,null,null,null,null,null,null,null,null,null,null,null,null,null,null,null,null,null,null,null,null,null,null,null,null,null,null,null,null,null,null,null,null,null,null,null,null,null,null,null,null,null,null,null,null,null,null,null,null,null,null,null,null,null,null,null,null,null,null,null,{"$error":"#VALUE!"},"A2",null,{"$f":"IF(ISERROR(HLOOKUP($BP29,補助!$AW$2:$BE$9,2,FALSE))=TRUE,\"\",HLOOKUP($BP29,補助!$AW$2:$BE$9,2,FALSE))","v":""},{"$f":"IF(ISERROR(HLOOKUP($BQ29,補助!$AW$2:$BE$9,2,FALSE))=TRUE,\"\",HLOOKUP($BQ29,補助!$AW$2:$BE$9,2,FALSE))","v":""},{"$f":"IF(ISERROR(HLOOKUP($BR29,補助!$AW$2:$BE$9,2,FALSE))=TRUE,\"\",HLOOKUP($BR29,補助!$AW$2:$BE$9,2,FALSE))","v":""},{"$f":"IF(ISERROR(HLOOKUP($BS29,補助!$AW$2:$BE$9,2,FALSE))=TRUE,\"\",HLOOKUP($BS29,補助!$AW$2:$BE$9,2,FALSE))","v":""},{"$f":"IF(ISERROR(HLOOKUP($BT29,補助!$AW$2:$BE$9,2,FALSE))=TRUE,\"\",HLOOKUP($BT29,補助!$AW$2:$BE$9,2,FALSE))","v":""},{"$f":"IF(ISERROR(HLOOKUP($BU29,補助!$AW$2:$BE$9,2,FALSE))=TRUE,\"\",HLOOKUP($BU29,補助!$AW$2:$BE$9,2,FALSE))","v":""},{"$f":"IF(ISERROR(HLOOKUP($BV29,補助!$AW$2:$BE$9,2,FALSE))=TRUE,\"\",HLOOKUP($BV29,補助!$AW$2:$BE$9,2,FALSE))","v":""},{"$f":"IF(ISERROR(HLOOKUP($BW29,補助!$AW$2:$BE$9,2,FALSE))=TRUE,\"\",HLOOKUP($BW29,補助!$AW$2:$BE$9,2,FALSE))","v":7},{"$f":"IF(ISERROR(HLOOKUP($BX29,補助!$AW$2:$BE$9,2,FALSE))=TRUE,\"\",HLOOKUP($BX29,補助!$AW$2:$BE$9,2,FALSE))","v":1},{"$f":"IF(ISERROR(HLOOKUP($BY29,補助!$AW$2:$BE$9,2,FALSE))=TRUE,\"\",HLOOKUP($BY29,補助!$AW$2:$BE$9,2,FALSE))","v":6},{"$f":"IF(ISERROR(HLOOKUP($BZ29,補助!$AW$2:$BE$9,2,FALSE))=TRUE,\"\",HLOOKUP($BZ29,補助!$AW$2:$BE$9,2,FALSE))","v":4},"716"]
[null,null,null,null,null,null,null,null,null,null,null,null,null,null,null,null,null,null,null,null,null,null,null,null,null,null,null,null,null,null,null,null,null,null,null,null,null,null,null,null,null,null,null,null,null,null,null,null,null,null,null,null,null,null,null,null,null,null,null,null,null,null,null,null,null,null,null,null,null,null,null,{"$error":"#VALUE!"},"A2",null,{"$f":"IF(ISERROR(HLOOKUP($BP30,補助!$AW$2:$BE$9,2,FALSE))=TRUE,\"\",HLOOKUP($BP30,補助!$AW$2:$BE$9,2,FALSE))","v":""},{"$f":"IF(ISERROR(HLOOKUP($BQ30,補助!$AW$2:$BE$9,2,FALSE))=TRUE,\"\",HLOOKUP($BQ30,補助!$AW$2:$BE$9,2,FALSE))","v":""},{"$f":"IF(ISERROR(HLOOKUP($BR30,補助!$AW$2:$BE$9,2,FALSE))=TRUE,\"\",HLOOKUP($BR30,補助!$AW$2:$BE$9,2,FALSE))","v":""},{"$f":"IF(ISERROR(HLOOKUP($BS30,補助!$AW$2:$BE$9,2,FALSE))=TRUE,\"\",HLOOKUP($BS30,補助!$AW$2:$BE$9,2,FALSE))","v":""},{"$f":"IF(ISERROR(HLOOKUP($BT30,補助!$AW$2:$BE$9,2,FALSE))=TRUE,\"\",HLOOKUP($BT30,補助!$AW$2:$BE$9,2,FALSE))","v":""},{"$f":"IF(ISERROR(HLOOKUP($BU30,補助!$AW$2:$BE$9,2,FALSE))=TRUE,\"\",HLOOKUP($BU30,補助!$AW$2:$BE$9,2,FALSE))","v":""},{"$f":"IF(ISERROR(HLOOKUP($BV30,補助!$AW$2:$BE$9,2,FALSE))=TRUE,\"\",HLOOKUP($BV30,補助!$AW$2:$BE$9,2,FALSE))","v":""},{"$f":"IF(ISERROR(HLOOKUP($BW30,補助!$AW$2:$BE$9,2,FALSE))=TRUE,\"\",HLOOKUP($BW30,補助!$AW$2:$BE$9,2,FALSE))","v":7},{"$f":"IF(ISERROR(HLOOKUP($BX30,補助!$AW$2:$BE$9,2,FALSE))=TRUE,\"\",HLOOKUP($BX30,補助!$AW$2:$BE$9,2,FALSE))","v":1},{"$f":"IF(ISERROR(HLOOKUP($BY30,補助!$AW$2:$BE$9,2,FALSE))=TRUE,\"\",HLOOKUP($BY30,補助!$AW$2:$BE$9,2,FALSE))","v":6},{"$f":"IF(ISERROR(HLOOKUP($BZ30,補助!$AW$2:$BE$9,2,FALSE))=TRUE,\"\",HLOOKUP($BZ30,補助!$AW$2:$BE$9,2,FALSE))","v":8},"716"]
[null,null,null,null,null,null,null,null,null,null,null,null,null,null,null,null,null,null,null,null,null,null,null,null,null,null,null,null,null,null,null,null,null,null,null,null,null,null,null,null,null,null,null,null,null,null,null,null,null,null,null,null,null,null,null,null,null,null,null,null,null,null,null,null,null,null,null,null,null,null,null,{"$error":"#VALUE!"},"A2",null,{"$f":"IF(ISERROR(HLOOKUP($BP31,補助!$AW$2:$BE$9,2,FALSE))=TRUE,\"\",HLOOKUP($BP31,補助!$AW$2:$BE$9,2,FALSE))","v":""},{"$f":"IF(ISERROR(HLOOKUP($BQ31,補助!$AW$2:$BE$9,2,FALSE))=TRUE,\"\",HLOOKUP($BQ31,補助!$AW$2:$BE$9,2,FALSE))","v":""},{"$f":"IF(ISERROR(HLOOKUP($BR31,補助!$AW$2:$BE$9,2,FALSE))=TRUE,\"\",HLOOKUP($BR31,補助!$AW$2:$BE$9,2,FALSE))","v":""},{"$f":"IF(ISERROR(HLOOKUP($BS31,補助!$AW$2:$BE$9,2,FALSE))=TRUE,\"\",HLOOKUP($BS31,補助!$AW$2:$BE$9,2,FALSE))","v":""},{"$f":"IF(ISERROR(HLOOKUP($BT31,補助!$AW$2:$BE$9,2,FALSE))=TRUE,\"\",HLOOKUP($BT31,補助!$AW$2:$BE$9,2,FALSE))","v":""},{"$f":"IF(ISERROR(HLOOKUP($BU31,補助!$AW$2:$BE$9,2,FALSE))=TRUE,\"\",HLOOKUP($BU31,補助!$AW$2:$BE$9,2,FALSE))","v":""},{"$f":"IF(ISERROR(HLOOKUP($BV31,補助!$AW$2:$BE$9,2,FALSE))=TRUE,\"\",HLOOKUP($BV31,補助!$AW$2:$BE$9,2,FALSE))","v":""},{"$f":"IF(ISERROR(HLOOKUP($BW31,補助!$AW$2:$BE$9,2,FALSE))=TRUE,\"\",HLOOKUP($BW31,補助!$AW$2:$BE$9,2,FALSE))","v":7},{"$f":"IF(ISERROR(HLOOKUP($BX31,補助!$AW$2:$BE$9,2,FALSE))=TRUE,\"\",HLOOKUP($BX31,補助!$AW$2:$BE$9,2,FALSE))","v":1},{"$f":"IF(ISERROR(HLOOKUP($BY31,補助!$AW$2:$BE$9,2,FALSE))=TRUE,\"\",HLOOKUP($BY31,補助!$AW$2:$BE$9,2,FALSE))","v":6},{"$f":"IF(ISERROR(HLOOKUP($BZ31,補助!$AW$2:$BE$9,2,FALSE))=TRUE,\"\",HLOOKUP($BZ31,補助!$AW$2:$BE$9,2,FALSE))","v":5},"716"]
[null,null,null,null,null,null,null,null,null,null,null,null,null,null,null,null,null,null,null,null,null,null,null,null,null,null,null,null,null,null,null,null,null,null,null,null,null,null,null,null,null,null,null,null,null,null,null,null,null,null,null,null,null,null,null,null,null,null,null,null,null,null,null,null,null,null,null,null,null,null,null,{"$error":"#VALUE!"},"A2",null,{"$f":"IF(ISERROR(HLOOKUP($BP32,補助!$AW$2:$BE$9,2,FALSE))=TRUE,\"\",HLOOKUP($BP32,補助!$AW$2:$BE$9,2,FALSE))","v":""},{"$f":"IF(ISERROR(HLOOKUP($BQ32,補助!$AW$2:$BE$9,2,FALSE))=TRUE,\"\",HLOOKUP($BQ32,補助!$AW$2:$BE$9,2,FALSE))","v":""},{"$f":"IF(ISERROR(HLOOKUP($BR32,補助!$AW$2:$BE$9,2,FALSE))=TRUE,\"\",HLOOKUP($BR32,補助!$AW$2:$BE$9,2,FALSE))","v":""},{"$f":"IF(ISERROR(HLOOKUP($BS32,補助!$AW$2:$BE$9,2,FALSE))=TRUE,\"\",HLOOKUP($BS32,補助!$AW$2:$BE$9,2,FALSE))","v":""},{"$f":"IF(ISERROR(HLOOKUP($BT32,補助!$AW$2:$BE$9,2,FALSE))=TRUE,\"\",HLOOKUP($BT32,補助!$AW$2:$BE$9,2,FALSE))","v":""},{"$f":"IF(ISERROR(HLOOKUP($BU32,補助!$AW$2:$BE$9,2,FALSE))=TRUE,\"\",HLOOKUP($BU32,補助!$AW$2:$BE$9,2,FALSE))","v":""},{"$f":"IF(ISERROR(HLOOKUP($BV32,補助!$AW$2:$BE$9,2,FALSE))=TRUE,\"\",HLOOKUP($BV32,補助!$AW$2:$BE$9,2,FALSE))","v":""},{"$f":"IF(ISERROR(HLOOKUP($BW32,補助!$AW$2:$BE$9,2,FALSE))=TRUE,\"\",HLOOKUP($BW32,補助!$AW$2:$BE$9,2,FALSE))","v":7},{"$f":"IF(ISERROR(HLOOKUP($BX32,補助!$AW$2:$BE$9,2,FALSE))=TRUE,\"\",HLOOKUP($BX32,補助!$AW$2:$BE$9,2,FALSE))","v":1},{"$f":"IF(ISERROR(HLOOKUP($BY32,補助!$AW$2:$BE$9,2,FALSE))=TRUE,\"\",HLOOKUP($BY32,補助!$AW$2:$BE$9,2,FALSE))","v":6},{"$f":"IF(ISERROR(HLOOKUP($BZ32,補助!$AW$2:$BE$9,2,FALSE))=TRUE,\"\",HLOOKUP($BZ32,補助!$AW$2:$BE$9,2,FALSE))","v":2},"716"]
[null,null,null,null,null,null,null,null,null,null,null,null,null,null,null,null,null,null,null,null,null,null,null,null,null,null,null,null,null,null,null,null,null,null,null,null,null,null,null,null,null,null,null,null,null,null,null,null,null,null,null,null,null,null,null,null,null,null,null,null,null,null,null,null,null,null,null,null,null,null,null,{"$error":"#VALUE!"},"A2",null,{"$f":"IF(ISERROR(HLOOKUP($BP33,補助!$AW$2:$BE$9,2,FALSE))=TRUE,\"\",HLOOKUP($BP33,補助!$AW$2:$BE$9,2,FALSE))","v":""},{"$f":"IF(ISERROR(HLOOKUP($BQ33,補助!$AW$2:$BE$9,2,FALSE))=TRUE,\"\",HLOOKUP($BQ33,補助!$AW$2:$BE$9,2,FALSE))","v":""},{"$f":"IF(ISERROR(HLOOKUP($BR33,補助!$AW$2:$BE$9,2,FALSE))=TRUE,\"\",HLOOKUP($BR33,補助!$AW$2:$BE$9,2,FALSE))","v":""},{"$f":"IF(ISERROR(HLOOKUP($BS33,補助!$AW$2:$BE$9,2,FALSE))=TRUE,\"\",HLOOKUP($BS33,補助!$AW$2:$BE$9,2,FALSE))","v":""},{"$f":"IF(ISERROR(HLOOKUP($BT33,補助!$AW$2:$BE$9,2,FALSE))=TRUE,\"\",HLOOKUP($BT33,補助!$AW$2:$BE$9,2,FALSE))","v":""},{"$f":"IF(ISERROR(HLOOKUP($BU33,補助!$AW$2:$BE$9,2,FALSE))=TRUE,\"\",HLOOKUP($BU33,補助!$AW$2:$BE$9,2,FALSE))","v":""},{"$f":"IF(ISERROR(HLOOKUP($BV33,補助!$AW$2:$BE$9,2,FALSE))=TRUE,\"\",HLOOKUP($BV33,補助!$AW$2:$BE$9,2,FALSE))","v":""},{"$f":"IF(ISERROR(HLOOKUP($BW33,補助!$AW$2:$BE$9,2,FALSE))=TRUE,\"\",HLOOKUP($BW33,補助!$AW$2:$BE$9,2,FALSE))","v":7},{"$f":"IF(ISERROR(HLOOKUP($BX33,補助!$AW$2:$BE$9,2,FALSE))=TRUE,\"\",HLOOKUP($BX33,補助!$AW$2:$BE$9,2,FALSE))","v":1},{"$f":"IF(ISERROR(HLOOKUP($BY33,補助!$AW$2:$BE$9,2,FALSE))=TRUE,\"\",HLOOKUP($BY33,補助!$AW$2:$BE$9,2,FALSE))","v":6},{"$f":"IF(ISERROR(HLOOKUP($BZ33,補助!$AW$2:$BE$9,2,FALSE))=TRUE,\"\",HLOOKUP($BZ33,補助!$AW$2:$BE$9,2,FALSE))","v":9},"716"]
[null,null,null,null,null,null,null,null,null,null,null,null,null,null,null,null,null,null,null,null,null,null,null,null,null,null,null,null,null,null,null,null,null,null,null,null,null,null,null,null,null,null,null,null,null,null,null,null,null,null,null,null,null,null,null,null,null,null,null,null,null,null,null,null,null,null,null,null,null,null,null,{"$error":"#VALUE!"},"A2",null,{"$f":"IF(ISERROR(HLOOKUP($BP34,補助!$AW$2:$BE$9,2,FALSE))=TRUE,\"\",HLOOKUP($BP34,補助!$AW$2:$BE$9,2,FALSE))","v":""},{"$f":"IF(ISERROR(HLOOKUP($BQ34,補助!$AW$2:$BE$9,2,FALSE))=TRUE,\"\",HLOOKUP($BQ34,補助!$AW$2:$BE$9,2,FALSE))","v":""},{"$f":"IF(ISERROR(HLOOKUP($BR34,補助!$AW$2:$BE$9,2,FALSE))=TRUE,\"\",HLOOKUP($BR34,補助!$AW$2:$BE$9,2,FALSE))","v":""},{"$f":"IF(ISERROR(HLOOKUP($BS34,補助!$AW$2:$BE$9,2,FALSE))=TRUE,\"\",HLOOKUP($BS34,補助!$AW$2:$BE$9,2,FALSE))","v":""},{"$f":"IF(ISERROR(HLOOKUP($BT34,補助!$AW$2:$BE$9,2,FALSE))=TRUE,\"\",HLOOKUP($BT34,補助!$AW$2:$BE$9,2,FALSE))","v":""},{"$f":"IF(ISERROR(HLOOKUP($BU34,補助!$AW$2:$BE$9,2,FALSE))=TRUE,\"\",HLOOKUP($BU34,補助!$AW$2:$BE$9,2,FALSE))","v":""},{"$f":"IF(ISERROR(HLOOKUP($BV34,補助!$AW$2:$BE$9,2,FALSE))=TRUE,\"\",HLOOKUP($BV34,補助!$AW$2:$BE$9,2,FALSE))","v":""},{"$f":"IF(ISERROR(HLOOKUP($BW34,補助!$AW$2:$BE$9,2,FALSE))=TRUE,\"\",HLOOKUP($BW34,補助!$AW$2:$BE$9,2,FALSE))","v":7},{"$f":"IF(ISERROR(HLOOKUP($BX34,補助!$AW$2:$BE$9,2,FALSE))=TRUE,\"\",HLOOKUP($BX34,補助!$AW$2:$BE$9,2,FALSE))","v":1},{"$f":"IF(ISERROR(HLOOKUP($BY34,補助!$AW$2:$BE$9,2,FALSE))=TRUE,\"\",HLOOKUP($BY34,補助!$AW$2:$BE$9,2,FALSE))","v":2},{"$f":"IF(ISERROR(HLOOKUP($BZ34,補助!$AW$2:$BE$9,2,FALSE))=TRUE,\"\",HLOOKUP($BZ34,補助!$AW$2:$BE$9,2,FALSE))","v":4},"712"]
[null,null,null,null,null,null,null,null,null,null,null,null,null,null,null,null,null,null,null,null,null,null,null,null,null,null,null,null,null,null,null,null,null,null,null,null,null,null,null,null,null,null,null,null,null,null,null,null,null,null,null,null,null,null,null,null,null,null,null,null,null,null,null,null,null,null,null,null,null,null,null,{"$error":"#VALUE!"},"A2",null,{"$f":"IF(ISERROR(HLOOKUP($BP35,補助!$AW$2:$BE$9,2,FALSE))=TRUE,\"\",HLOOKUP($BP35,補助!$AW$2:$BE$9,2,FALSE))","v":""},{"$f":"IF(ISERROR(HLOOKUP($BQ35,補助!$AW$2:$BE$9,2,FALSE))=TRUE,\"\",HLOOKUP($BQ35,補助!$AW$2:$BE$9,2,FALSE))","v":""},{"$f":"IF(ISERROR(HLOOKUP($BR35,補助!$AW$2:$BE$9,2,FALSE))=TRUE,\"\",HLOOKUP($BR35,補助!$AW$2:$BE$9,2,FALSE))","v":""},{"$f":"IF(ISERROR(HLOOKUP($BS35,補助!$AW$2:$BE$9,2,FALSE))=TRUE,\"\",HLOOKUP($BS35,補助!$AW$2:$BE$9,2,FALSE))","v":""},{"$f":"IF(ISERROR(HLOOKUP($BT35,補助!$AW$2:$BE$9,2,FALSE))=TRUE,\"\",HLOOKUP($BT35,補助!$AW$2:$BE$9,2,FALSE))","v":""},{"$f":"IF(ISERROR(HLOOKUP($BU35,補助!$AW$2:$BE$9,2,FALSE))=TRUE,\"\",HLOOKUP($BU35,補助!$AW$2:$BE$9,2,FALSE))","v":""},{"$f":"IF(ISERROR(HLOOKUP($BV35,補助!$AW$2:$BE$9,2,FALSE))=TRUE,\"\",HLOOKUP($BV35,補助!$AW$2:$BE$9,2,FALSE))","v":""},{"$f":"IF(ISERROR(HLOOKUP($BW35,補助!$AW$2:$BE$9,2,FALSE))=TRUE,\"\",HLOOKUP($BW35,補助!$AW$2:$BE$9,2,FALSE))","v":7},{"$f":"IF(ISERROR(HLOOKUP($BX35,補助!$AW$2:$BE$9,2,FALSE))=TRUE,\"\",HLOOKUP($BX35,補助!$AW$2:$BE$9,2,FALSE))","v":1},{"$f":"IF(ISERROR(HLOOKUP($BY35,補助!$AW$2:$BE$9,2,FALSE))=TRUE,\"\",HLOOKUP($BY35,補助!$AW$2:$BE$9,2,FALSE))","v":2},{"$f":"IF(ISERROR(HLOOKUP($BZ35,補助!$AW$2:$BE$9,2,FALSE))=TRUE,\"\",HLOOKUP($BZ35,補助!$AW$2:$BE$9,2,FALSE))","v":6},"712"]
[null,null,null,null,null,null,null,null,null,null,null,null,null,null,null,null,null,null,null,null,null,null,null,null,null,null,null,null,null,null,null,null,null,null,null,null,null,null,null,null,null,null,null,null,null,null,null,null,null,null,null,null,null,null,null,null,null,null,null,null,null,null,null,null,null,null,null,null,null,null,null,{"$error":"#VALUE!"},"A2",null,{"$f":"IF(ISERROR(HLOOKUP($BP36,補助!$AW$2:$BE$9,2,FALSE))=TRUE,\"\",HLOOKUP($BP36,補助!$AW$2:$BE$9,2,FALSE))","v":""},{"$f":"IF(ISERROR(HLOOKUP($BQ36,補助!$AW$2:$BE$9,2,FALSE))=TRUE,\"\",HLOOKUP($BQ36,補助!$AW$2:$BE$9,2,FALSE))","v":""},{"$f":"IF(ISERROR(HLOOKUP($BR36,補助!$AW$2:$BE$9,2,FALSE))=TRUE,\"\",HLOOKUP($BR36,補助!$AW$2:$BE$9,2,FALSE))","v":""},{"$f":"IF(ISERROR(HLOOKUP($BS36,補助!$AW$2:$BE$9,2,FALSE))=TRUE,\"\",HLOOKUP($BS36,補助!$AW$2:$BE$9,2,FALSE))","v":""},{"$f":"IF(ISERROR(HLOOKUP($BT36,補助!$AW$2:$BE$9,2,FALSE))=TRUE,\"\",HLOOKUP($BT36,補助!$AW$2:$BE$9,2,FALSE))","v":""},{"$f":"IF(ISERROR(HLOOKUP($BU36,補助!$AW$2:$BE$9,2,FALSE))=TRUE,\"\",HLOOKUP($BU36,補助!$AW$2:$BE$9,2,FALSE))","v":""},{"$f":"IF(ISERROR(HLOOKUP($BV36,補助!$AW$2:$BE$9,2,FALSE))=TRUE,\"\",HLOOKUP($BV36,補助!$AW$2:$BE$9,2,FALSE))","v":""},{"$f":"IF(ISERROR(HLOOKUP($BW36,補助!$AW$2:$BE$9,2,FALSE))=TRUE,\"\",HLOOKUP($BW36,補助!$AW$2:$BE$9,2,FALSE))","v":7},{"$f":"IF(ISERROR(HLOOKUP($BX36,補助!$AW$2:$BE$9,2,FALSE))=TRUE,\"\",HLOOKUP($BX36,補助!$AW$2:$BE$9,2,FALSE))","v":1},{"$f":"IF(ISERROR(HLOOKUP($BY36,補助!$AW$2:$BE$9,2,FALSE))=TRUE,\"\",HLOOKUP($BY36,補助!$AW$2:$BE$9,2,FALSE))","v":2},{"$f":"IF(ISERROR(HLOOKUP($BZ36,補助!$AW$2:$BE$9,2,FALSE))=TRUE,\"\",HLOOKUP($BZ36,補助!$AW$2:$BE$9,2,FALSE))","v":3},"712"]
[null,null,null,null,null,null,null,null,null,null,null,null,null,null,null,null,null,null,null,null,null,null,null,null,null,null,null,null,null,null,null,null,null,null,null,null,null,null,null,null,null,null,null,null,null,null,null,null,null,null,null,null,null,null,null,null,null,null,null,null,null,null,null,null,null,null,null,null,null,null,null,{"$error":"#VALUE!"},"A2",null,{"$f":"IF(ISERROR(HLOOKUP($BP37,補助!$AW$2:$BE$9,2,FALSE))=TRUE,\"\",HLOOKUP($BP37,補助!$AW$2:$BE$9,2,FALSE))","v":""},{"$f":"IF(ISERROR(HLOOKUP($BQ37,補助!$AW$2:$BE$9,2,FALSE))=TRUE,\"\",HLOOKUP($BQ37,補助!$AW$2:$BE$9,2,FALSE))","v":""},{"$f":"IF(ISERROR(HLOOKUP($BR37,補助!$AW$2:$BE$9,2,FALSE))=TRUE,\"\",HLOOKUP($BR37,補助!$AW$2:$BE$9,2,FALSE))","v":""},{"$f":"IF(ISERROR(HLOOKUP($BS37,補助!$AW$2:$BE$9,2,FALSE))=TRUE,\"\",HLOOKUP($BS37,補助!$AW$2:$BE$9,2,FALSE))","v":""},{"$f":"IF(ISERROR(HLOOKUP($BT37,補助!$AW$2:$BE$9,2,FALSE))=TRUE,\"\",HLOOKUP($BT37,補助!$AW$2:$BE$9,2,FALSE))","v":""},{"$f":"IF(ISERROR(HLOOKUP($BU37,補助!$AW$2:$BE$9,2,FALSE))=TRUE,\"\",HLOOKUP($BU37,補助!$AW$2:$BE$9,2,FALSE))","v":""},{"$f":"IF(ISERROR(HLOOKUP($BV37,補助!$AW$2:$BE$9,2,FALSE))=TRUE,\"\",HLOOKUP($BV37,補助!$AW$2:$BE$9,2,FALSE))","v":""},{"$f":"IF(ISERROR(HLOOKUP($BW37,補助!$AW$2:$BE$9,2,FALSE))=TRUE,\"\",HLOOKUP($BW37,補助!$AW$2:$BE$9,2,FALSE))","v":7},{"$f":"IF(ISERROR(HLOOKUP($BX37,補助!$AW$2:$BE$9,2,FALSE))=TRUE,\"\",HLOOKUP($BX37,補助!$AW$2:$BE$9,2,FALSE))","v":2},{"$f":"IF(ISERROR(HLOOKUP($BY37,補助!$AW$2:$BE$9,2,FALSE))=TRUE,\"\",HLOOKUP($BY37,補助!$AW$2:$BE$9,2,FALSE))","v":1},{"$f":"IF(ISERROR(HLOOKUP($BZ37,補助!$AW$2:$BE$9,2,FALSE))=TRUE,\"\",HLOOKUP($BZ37,補助!$AW$2:$BE$9,2,FALSE))","v":""},"721"]
[null,null,null,null,null,null,null,null,null,null,null,null,null,null,null,null,null,null,null,null,null,null,null,null,null,null,null,null,null,null,null,null,null,null,null,null,null,null,null,null,null,null,null,null,null,null,null,null,null,null,null,null,null,null,null,null,null,null,null,null,null,null,null,null,null,null,null,null,null,null,null,{"$error":"#VALUE!"},"A2",null,{"$f":"IF(ISERROR(HLOOKUP($BP38,補助!$AW$2:$BE$9,2,FALSE))=TRUE,\"\",HLOOKUP($BP38,補助!$AW$2:$BE$9,2,FALSE))","v":""},{"$f":"IF(ISERROR(HLOOKUP($BQ38,補助!$AW$2:$BE$9,2,FALSE))=TRUE,\"\",HLOOKUP($BQ38,補助!$AW$2:$BE$9,2,FALSE))","v":""},{"$f":"IF(ISERROR(HLOOKUP($BR38,補助!$AW$2:$BE$9,2,FALSE))=TRUE,\"\",HLOOKUP($BR38,補助!$AW$2:$BE$9,2,FALSE))","v":""},{"$f":"IF(ISERROR(HLOOKUP($BS38,補助!$AW$2:$BE$9,2,FALSE))=TRUE,\"\",HLOOKUP($BS38,補助!$AW$2:$BE$9,2,FALSE))","v":""},{"$f":"IF(ISERROR(HLOOKUP($BT38,補助!$AW$2:$BE$9,2,FALSE))=TRUE,\"\",HLOOKUP($BT38,補助!$AW$2:$BE$9,2,FALSE))","v":""},{"$f":"IF(ISERROR(HLOOKUP($BU38,補助!$AW$2:$BE$9,2,FALSE))=TRUE,\"\",HLOOKUP($BU38,補助!$AW$2:$BE$9,2,FALSE))","v":""},{"$f":"IF(ISERROR(HLOOKUP($BV38,補助!$AW$2:$BE$9,2,FALSE))=TRUE,\"\",HLOOKUP($BV38,補助!$AW$2:$BE$9,2,FALSE))","v":""},{"$f":"IF(ISERROR(HLOOKUP($BW38,補助!$AW$2:$BE$9,2,FALSE))=TRUE,\"\",HLOOKUP($BW38,補助!$AW$2:$BE$9,2,FALSE))","v":7},{"$f":"IF(ISERROR(HLOOKUP($BX38,補助!$AW$2:$BE$9,2,FALSE))=TRUE,\"\",HLOOKUP($BX38,補助!$AW$2:$BE$9,2,FALSE))","v":2},{"$f":"IF(ISERROR(HLOOKUP($BY38,補助!$AW$2:$BE$9,2,FALSE))=TRUE,\"\",HLOOKUP($BY38,補助!$AW$2:$BE$9,2,FALSE))","v":5},{"$f":"IF(ISERROR(HLOOKUP($BZ38,補助!$AW$2:$BE$9,2,FALSE))=TRUE,\"\",HLOOKUP($BZ38,補助!$AW$2:$BE$9,2,FALSE))","v":""},"725"]
[null,null,null,null,null,null,null,null,null,null,null,null,null,null,null,null,null,null,null,null,null,null,null,null,null,null,null,null,null,null,null,null,null,null,null,null,null,null,null,null,null,null,null,null,null,null,null,null,null,null,null,null,null,null,null,null,null,null,null,null,null,null,null,null,null,null,null,null,null,null,null,{"$error":"#VALUE!"},"A2",null,{"$f":"IF(ISERROR(HLOOKUP($BP39,補助!$AW$2:$BE$9,2,FALSE))=TRUE,\"\",HLOOKUP($BP39,補助!$AW$2:$BE$9,2,FALSE))","v":""},{"$f":"IF(ISERROR(HLOOKUP($BQ39,補助!$AW$2:$BE$9,2,FALSE))=TRUE,\"\",HLOOKUP($BQ39,補助!$AW$2:$BE$9,2,FALSE))","v":""},{"$f":"IF(ISERROR(HLOOKUP($BR39,補助!$AW$2:$BE$9,2,FALSE))=TRUE,\"\",HLOOKUP($BR39,補助!$AW$2:$BE$9,2,FALSE))","v":""},{"$f":"IF(ISERROR(HLOOKUP($BS39,補助!$AW$2:$BE$9,2,FALSE))=TRUE,\"\",HLOOKUP($BS39,補助!$AW$2:$BE$9,2,FALSE))","v":""},{"$f":"IF(ISERROR(HLOOKUP($BT39,補助!$AW$2:$BE$9,2,FALSE))=TRUE,\"\",HLOOKUP($BT39,補助!$AW$2:$BE$9,2,FALSE))","v":""},{"$f":"IF(ISERROR(HLOOKUP($BU39,補助!$AW$2:$BE$9,2,FALSE))=TRUE,\"\",HLOOKUP($BU39,補助!$AW$2:$BE$9,2,FALSE))","v":""},{"$f":"IF(ISERROR(HLOOKUP($BV39,補助!$AW$2:$BE$9,2,FALSE))=TRUE,\"\",HLOOKUP($BV39,補助!$AW$2:$BE$9,2,FALSE))","v":""},{"$f":"IF(ISERROR(HLOOKUP($BW39,補助!$AW$2:$BE$9,2,FALSE))=TRUE,\"\",HLOOKUP($BW39,補助!$AW$2:$BE$9,2,FALSE))","v":7},{"$f":"IF(ISERROR(HLOOKUP($BX39,補助!$AW$2:$BE$9,2,FALSE))=TRUE,\"\",HLOOKUP($BX39,補助!$AW$2:$BE$9,2,FALSE))","v":2},{"$f":"IF(ISERROR(HLOOKUP($BY39,補助!$AW$2:$BE$9,2,FALSE))=TRUE,\"\",HLOOKUP($BY39,補助!$AW$2:$BE$9,2,FALSE))","v":9},{"$f":"IF(ISERROR(HLOOKUP($BZ39,補助!$AW$2:$BE$9,2,FALSE))=TRUE,\"\",HLOOKUP($BZ39,補助!$AW$2:$BE$9,2,FALSE))","v":""},"729"]
[null,null,null,null,null,null,null,null,null,null,null,null,null,null,null,null,null,null,null,null,null,null,null,null,null,null,null,null,null,null,null,null,null,null,null,null,null,null,null,null,null,null,null,null,null,null,null,null,null,null,null,null,null,null,null,null,null,null,null,null,null,null,null,null,null,null,null,null,null,null,null,{"$error":"#VALUE!"},"A2","白",{"$f":"IF(ISERROR(HLOOKUP($BP40,補助!$AW$2:$BE$9,2,FALSE))=TRUE,\"\",HLOOKUP($BP40,補助!$AW$2:$BE$9,2,FALSE))","v":""},{"$f":"IF(ISERROR(HLOOKUP($BQ40,補助!$AW$2:$BE$9,2,FALSE))=TRUE,\"\",HLOOKUP($BQ40,補助!$AW$2:$BE$9,2,FALSE))","v":""},{"$f":"IF(ISERROR(HLOOKUP($BR40,補助!$AW$2:$BE$9,2,FALSE))=TRUE,\"\",HLOOKUP($BR40,補助!$AW$2:$BE$9,2,FALSE))","v":""},{"$f":"IF(ISERROR(HLOOKUP($BS40,補助!$AW$2:$BE$9,2,FALSE))=TRUE,\"\",HLOOKUP($BS40,補助!$AW$2:$BE$9,2,FALSE))","v":""},{"$f":"IF(ISERROR(HLOOKUP($BT40,補助!$AW$2:$BE$9,2,FALSE))=TRUE,\"\",HLOOKUP($BT40,補助!$AW$2:$BE$9,2,FALSE))","v":""},{"$f":"IF(ISERROR(HLOOKUP($BU40,補助!$AW$2:$BE$9,2,FALSE))=TRUE,\"\",HLOOKUP($BU40,補助!$AW$2:$BE$9,2,FALSE))","v":""},{"$f":"IF(ISERROR(HLOOKUP($BV40,補助!$AW$2:$BE$9,2,FALSE))=TRUE,\"\",HLOOKUP($BV40,補助!$AW$2:$BE$9,2,FALSE))","v":""},{"$f":"IF(ISERROR(HLOOKUP($BW40,補助!$AW$2:$BE$9,2,FALSE))=TRUE,\"\",HLOOKUP($BW40,補助!$AW$2:$BE$9,2,FALSE))","v":7},{"$f":"IF(ISERROR(HLOOKUP($BX40,補助!$AW$2:$BE$9,2,FALSE))=TRUE,\"\",HLOOKUP($BX40,補助!$AW$2:$BE$9,2,FALSE))","v":2},{"$f":"IF(ISERROR(HLOOKUP($BY40,補助!$AW$2:$BE$9,2,FALSE))=TRUE,\"\",HLOOKUP($BY40,補助!$AW$2:$BE$9,2,FALSE))","v":8},{"$f":"IF(ISERROR(HLOOKUP($BZ40,補助!$AW$2:$BE$9,2,FALSE))=TRUE,\"\",HLOOKUP($BZ40,補助!$AW$2:$BE$9,2,FALSE))","v":9},"728"]
[null,null,null,null,null,null,null,null,null,null,null,null,null,null,null,null,null,null,null,null,null,null,null,null,null,null,null,null,null,null,null,null,null,null,null,null,null,null,null,null,null,null,null,null,null,null,null,null,null,null,null,null,null,null,null,null,null,null,null,null,null,null,null,null,null,null,null,null,null,null,null,{"$error":"#VALUE!"},"A2","白",{"$f":"IF(ISERROR(HLOOKUP($BP41,補助!$AW$2:$BE$9,2,FALSE))=TRUE,\"\",HLOOKUP($BP41,補助!$AW$2:$BE$9,2,FALSE))","v":""},{"$f":"IF(ISERROR(HLOOKUP($BQ41,補助!$AW$2:$BE$9,2,FALSE))=TRUE,\"\",HLOOKUP($BQ41,補助!$AW$2:$BE$9,2,FALSE))","v":""},{"$f":"IF(ISERROR(HLOOKUP($BR41,補助!$AW$2:$BE$9,2,FALSE))=TRUE,\"\",HLOOKUP($BR41,補助!$AW$2:$BE$9,2,FALSE))","v":""},{"$f":"IF(ISERROR(HLOOKUP($BS41,補助!$AW$2:$BE$9,2,FALSE))=TRUE,\"\",HLOOKUP($BS41,補助!$AW$2:$BE$9,2,FALSE))","v":""},{"$f":"IF(ISERROR(HLOOKUP($BT41,補助!$AW$2:$BE$9,2,FALSE))=TRUE,\"\",HLOOKUP($BT41,補助!$AW$2:$BE$9,2,FALSE))","v":""},{"$f":"IF(ISERROR(HLOOKUP($BU41,補助!$AW$2:$BE$9,2,FALSE))=TRUE,\"\",HLOOKUP($BU41,補助!$AW$2:$BE$9,2,FALSE))","v":""},{"$f":"IF(ISERROR(HLOOKUP($BV41,補助!$AW$2:$BE$9,2,FALSE))=TRUE,\"\",HLOOKUP($BV41,補助!$AW$2:$BE$9,2,FALSE))","v":""},{"$f":"IF(ISERROR(HLOOKUP($BW41,補助!$AW$2:$BE$9,2,FALSE))=TRUE,\"\",HLOOKUP($BW41,補助!$AW$2:$BE$9,2,FALSE))","v":7},{"$f":"IF(ISERROR(HLOOKUP($BX41,補助!$AW$2:$BE$9,2,FALSE))=TRUE,\"\",HLOOKUP($BX41,補助!$AW$2:$BE$9,2,FALSE))","v":2},{"$f":"IF(ISERROR(HLOOKUP($BY41,補助!$AW$2:$BE$9,2,FALSE))=TRUE,\"\",HLOOKUP($BY41,補助!$AW$2:$BE$9,2,FALSE))","v":8},{"$f":"IF(ISERROR(HLOOKUP($BZ41,補助!$AW$2:$BE$9,2,FALSE))=TRUE,\"\",HLOOKUP($BZ41,補助!$AW$2:$BE$9,2,FALSE))","v":9},"728"]
[null,null,null,null,null,null,null,null,null,null,null,null,null,null,null,null,null,null,null,null,null,null,null,null,null,null,null,null,null,null,null,null,null,null,null,null,null,null,null,null,null,null,null,null,null,null,null,null,null,null,null,null,null,null,null,null,null,null,null,null,null,null,null,null,null,null,null,null,null,null,null,{"$error":"#VALUE!"},"A2","白",{"$f":"IF(ISERROR(HLOOKUP($BP42,補助!$AW$2:$BE$9,2,FALSE))=TRUE,\"\",HLOOKUP($BP42,補助!$AW$2:$BE$9,2,FALSE))","v":""},{"$f":"IF(ISERROR(HLOOKUP($BQ42,補助!$AW$2:$BE$9,2,FALSE))=TRUE,\"\",HLOOKUP($BQ42,補助!$AW$2:$BE$9,2,FALSE))","v":""},{"$f":"IF(ISERROR(HLOOKUP($BR42,補助!$AW$2:$BE$9,2,FALSE))=TRUE,\"\",HLOOKUP($BR42,補助!$AW$2:$BE$9,2,FALSE))","v":""},{"$f":"IF(ISERROR(HLOOKUP($BS42,補助!$AW$2:$BE$9,2,FALSE))=TRUE,\"\",HLOOKUP($BS42,補助!$AW$2:$BE$9,2,FALSE))","v":""},{"$f":"IF(ISERROR(HLOOKUP($BT42,補助!$AW$2:$BE$9,2,FALSE))=TRUE,\"\",HLOOKUP($BT42,補助!$AW$2:$BE$9,2,FALSE))","v":""},{"$f":"IF(ISERROR(HLOOKUP($BU42,補助!$AW$2:$BE$9,2,FALSE))=TRUE,\"\",HLOOKUP($BU42,補助!$AW$2:$BE$9,2,FALSE))","v":""},{"$f":"IF(ISERROR(HLOOKUP($BV42,補助!$AW$2:$BE$9,2,FALSE))=TRUE,\"\",HLOOKUP($BV42,補助!$AW$2:$BE$9,2,FALSE))","v":""},{"$f":"IF(ISERROR(HLOOKUP($BW42,補助!$AW$2:$BE$9,2,FALSE))=TRUE,\"\",HLOOKUP($BW42,補助!$AW$2:$BE$9,2,FALSE))","v":7},{"$f":"IF(ISERROR(HLOOKUP($BX42,補助!$AW$2:$BE$9,2,FALSE))=TRUE,\"\",HLOOKUP($BX42,補助!$AW$2:$BE$9,2,FALSE))","v":2},{"$f":"IF(ISERROR(HLOOKUP($BY42,補助!$AW$2:$BE$9,2,FALSE))=TRUE,\"\",HLOOKUP($BY42,補助!$AW$2:$BE$9,2,FALSE))","v":8},{"$f":"IF(ISERROR(HLOOKUP($BZ42,補助!$AW$2:$BE$9,2,FALSE))=TRUE,\"\",HLOOKUP($BZ42,補助!$AW$2:$BE$9,2,FALSE))","v":9},"728"]
[null,null,null,null,null,null,null,null,null,null,null,null,null,null,null,null,null,null,null,null,null,null,null,null,null,null,null,null,null,null,null,null,null,null,null,null,null,null,null,null,null,null,null,null,null,null,null,null,null,null,null,null,null,null,null,null,null,null,null,null,null,null,null,null,null,null,null,null,null,null,null,{"$error":"#VALUE!"},"A2",null,{"$f":"IF(ISERROR(HLOOKUP($BP43,補助!$AW$2:$BE$9,2,FALSE))=TRUE,\"\",HLOOKUP($BP43,補助!$AW$2:$BE$9,2,FALSE))","v":""},{"$f":"IF(ISERROR(HLOOKUP($BQ43,補助!$AW$2:$BE$9,2,FALSE))=TRUE,\"\",HLOOKUP($BQ43,補助!$AW$2:$BE$9,2,FALSE))","v":""},{"$f":"IF(ISERROR(HLOOKUP($BR43,補助!$AW$2:$BE$9,2,FALSE))=TRUE,\"\",HLOOKUP($BR43,補助!$AW$2:$BE$9,2,FALSE))","v":""},{"$f":"IF(ISERROR(HLOOKUP($BS43,補助!$AW$2:$BE$9,2,FALSE))=TRUE,\"\",HLOOKUP($BS43,補助!$AW$2:$BE$9,2,FALSE))","v":""},{"$f":"IF(ISERROR(HLOOKUP($BT43,補助!$AW$2:$BE$9,2,FALSE))=TRUE,\"\",HLOOKUP($BT43,補助!$AW$2:$BE$9,2,FALSE))","v":""},{"$f":"IF(ISERROR(HLOOKUP($BU43,補助!$AW$2:$BE$9,2,FALSE))=TRUE,\"\",HLOOKUP($BU43,補助!$AW$2:$BE$9,2,FALSE))","v":""},{"$f":"IF(ISERROR(HLOOKUP($BV43,補助!$AW$2:$BE$9,2,FALSE))=TRUE,\"\",HLOOKUP($BV43,補助!$AW$2:$BE$9,2,FALSE))","v":""},{"$f":"IF(ISERROR(HLOOKUP($BW43,補助!$AW$2:$BE$9,2,FALSE))=TRUE,\"\",HLOOKUP($BW43,補助!$AW$2:$BE$9,2,FALSE))","v":7},{"$f":"IF(ISERROR(HLOOKUP($BX43,補助!$AW$2:$BE$9,2,FALSE))=TRUE,\"\",HLOOKUP($BX43,補助!$AW$2:$BE$9,2,FALSE))","v":2},{"$f":"IF(ISERROR(HLOOKUP($BY43,補助!$AW$2:$BE$9,2,FALSE))=TRUE,\"\",HLOOKUP($BY43,補助!$AW$2:$BE$9,2,FALSE))","v":6},{"$f":"IF(ISERROR(HLOOKUP($BZ43,補助!$AW$2:$BE$9,2,FALSE))=TRUE,\"\",HLOOKUP($BZ43,補助!$AW$2:$BE$9,2,FALSE))","v":4},"726"]
[null,null,null,null,null,null,null,null,null,null,null,null,null,null,null,null,null,null,null,null,null,null,null,null,null,null,null,null,null,null,null,null,null,null,null,null,null,null,null,null,null,null,null,null,null,null,null,null,null,null,null,null,null,null,null,null,null,null,null,null,null,null,null,null,null,null,null,null,null,null,null,{"$error":"#VALUE!"},"A2",null,{"$f":"IF(ISERROR(HLOOKUP($BP44,補助!$AW$2:$BE$9,2,FALSE))=TRUE,\"\",HLOOKUP($BP44,補助!$AW$2:$BE$9,2,FALSE))","v":""},{"$f":"IF(ISERROR(HLOOKUP($BQ44,補助!$AW$2:$BE$9,2,FALSE))=TRUE,\"\",HLOOKUP($BQ44,補助!$AW$2:$BE$9,2,FALSE))","v":""},{"$f":"IF(ISERROR(HLOOKUP($BR44,補助!$AW$2:$BE$9,2,FALSE))=TRUE,\"\",HLOOKUP($BR44,補助!$AW$2:$BE$9,2,FALSE))","v":""},{"$f":"IF(ISERROR(HLOOKUP($BS44,補助!$AW$2:$BE$9,2,FALSE))=TRUE,\"\",HLOOKUP($BS44,補助!$AW$2:$BE$9,2,FALSE))","v":""},{"$f":"IF(ISERROR(HLOOKUP($BT44,補助!$AW$2:$BE$9,2,FALSE))=TRUE,\"\",HLOOKUP($BT44,補助!$AW$2:$BE$9,2,FALSE))","v":""},{"$f":"IF(ISERROR(HLOOKUP($BU44,補助!$AW$2:$BE$9,2,FALSE))=TRUE,\"\",HLOOKUP($BU44,補助!$AW$2:$BE$9,2,FALSE))","v":""},{"$f":"IF(ISERROR(HLOOKUP($BV44,補助!$AW$2:$BE$9,2,FALSE))=TRUE,\"\",HLOOKUP($BV44,補助!$AW$2:$BE$9,2,FALSE))","v":""},{"$f":"IF(ISERROR(HLOOKUP($BW44,補助!$AW$2:$BE$9,2,FALSE))=TRUE,\"\",HLOOKUP($BW44,補助!$AW$2:$BE$9,2,FALSE))","v":7},{"$f":"IF(ISERROR(HLOOKUP($BX44,補助!$AW$2:$BE$9,2,FALSE))=TRUE,\"\",HLOOKUP($BX44,補助!$AW$2:$BE$9,2,FALSE))","v":2},{"$f":"IF(ISERROR(HLOOKUP($BY44,補助!$AW$2:$BE$9,2,FALSE))=TRUE,\"\",HLOOKUP($BY44,補助!$AW$2:$BE$9,2,FALSE))","v":6},{"$f":"IF(ISERROR(HLOOKUP($BZ44,補助!$AW$2:$BE$9,2,FALSE))=TRUE,\"\",HLOOKUP($BZ44,補助!$AW$2:$BE$9,2,FALSE))","v":1},"726"]
[null,null,null,null,null,null,null,null,null,null,null,null,null,null,null,null,null,null,null,null,null,null,null,null,null,null,null,null,null,null,null,null,null,null,null,null,null,null,null,null,null,null,null,null,null,null,null,null,null,null,null,null,null,null,null,null,null,null,null,null,null,null,null,null,null,null,null,null,null,null,null,{"$error":"#VALUE!"},"A2",null,{"$f":"IF(ISERROR(HLOOKUP($BP45,補助!$AW$2:$BE$9,2,FALSE))=TRUE,\"\",HLOOKUP($BP45,補助!$AW$2:$BE$9,2,FALSE))","v":""},{"$f":"IF(ISERROR(HLOOKUP($BQ45,補助!$AW$2:$BE$9,2,FALSE))=TRUE,\"\",HLOOKUP($BQ45,補助!$AW$2:$BE$9,2,FALSE))","v":""},{"$f":"IF(ISERROR(HLOOKUP($BR45,補助!$AW$2:$BE$9,2,FALSE))=TRUE,\"\",HLOOKUP($BR45,補助!$AW$2:$BE$9,2,FALSE))","v":""},{"$f":"IF(ISERROR(HLOOKUP($BS45,補助!$AW$2:$BE$9,2,FALSE))=TRUE,\"\",HLOOKUP($BS45,補助!$AW$2:$BE$9,2,FALSE))","v":""},{"$f":"IF(ISERROR(HLOOKUP($BT45,補助!$AW$2:$BE$9,2,FALSE))=TRUE,\"\",HLOOKUP($BT45,補助!$AW$2:$BE$9,2,FALSE))","v":""},{"$f":"IF(ISERROR(HLOOKUP($BU45,補助!$AW$2:$BE$9,2,FALSE))=TRUE,\"\",HLOOKUP($BU45,補助!$AW$2:$BE$9,2,FALSE))","v":""},{"$f":"IF(ISERROR(HLOOKUP($BV45,補助!$AW$2:$BE$9,2,FALSE))=TRUE,\"\",HLOOKUP($BV45,補助!$AW$2:$BE$9,2,FALSE))","v":""},{"$f":"IF(ISERROR(HLOOKUP($BW45,補助!$AW$2:$BE$9,2,FALSE))=TRUE,\"\",HLOOKUP($BW45,補助!$AW$2:$BE$9,2,FALSE))","v":7},{"$f":"IF(ISERROR(HLOOKUP($BX45,補助!$AW$2:$BE$9,2,FALSE))=TRUE,\"\",HLOOKUP($BX45,補助!$AW$2:$BE$9,2,FALSE))","v":2},{"$f":"IF(ISERROR(HLOOKUP($BY45,補助!$AW$2:$BE$9,2,FALSE))=TRUE,\"\",HLOOKUP($BY45,補助!$AW$2:$BE$9,2,FALSE))","v":6},{"$f":"IF(ISERROR(HLOOKUP($BZ45,補助!$AW$2:$BE$9,2,FALSE))=TRUE,\"\",HLOOKUP($BZ45,補助!$AW$2:$BE$9,2,FALSE))","v":8},"726"]
[null,null,null,null,null,null,null,null,null,null,null,null,null,null,null,null,null,null,null,null,null,null,null,null,null,null,null,null,null,null,null,null,null,null,null,null,null,null,null,null,null,null,null,null,null,null,null,null,null,null,null,null,null,null,null,null,null,null,null,null,null,null,null,null,null,null,null,null,null,null,null,{"$error":"#VALUE!"},"A2",null,{"$f":"IF(ISERROR(HLOOKUP($BP46,補助!$AW$2:$BE$9,2,FALSE))=TRUE,\"\",HLOOKUP($BP46,補助!$AW$2:$BE$9,2,FALSE))","v":""},{"$f":"IF(ISERROR(HLOOKUP($BQ46,補助!$AW$2:$BE$9,2,FALSE))=TRUE,\"\",HLOOKUP($BQ46,補助!$AW$2:$BE$9,2,FALSE))","v":""},{"$f":"IF(ISERROR(HLOOKUP($BR46,補助!$AW$2:$BE$9,2,FALSE))=TRUE,\"\",HLOOKUP($BR46,補助!$AW$2:$BE$9,2,FALSE))","v":""},{"$f":"IF(ISERROR(HLOOKUP($BS46,補助!$AW$2:$BE$9,2,FALSE))=TRUE,\"\",HLOOKUP($BS46,補助!$AW$2:$BE$9,2,FALSE))","v":""},{"$f":"IF(ISERROR(HLOOKUP($BT46,補助!$AW$2:$BE$9,2,FALSE))=TRUE,\"\",HLOOKUP($BT46,補助!$AW$2:$BE$9,2,FALSE))","v":""},{"$f":"IF(ISERROR(HLOOKUP($BU46,補助!$AW$2:$BE$9,2,FALSE))=TRUE,\"\",HLOOKUP($BU46,補助!$AW$2:$BE$9,2,FALSE))","v":""},{"$f":"IF(ISERROR(HLOOKUP($BV46,補助!$AW$2:$BE$9,2,FALSE))=TRUE,\"\",HLOOKUP($BV46,補助!$AW$2:$BE$9,2,FALSE))","v":""},{"$f":"IF(ISERROR(HLOOKUP($BW46,補助!$AW$2:$BE$9,2,FALSE))=TRUE,\"\",HLOOKUP($BW46,補助!$AW$2:$BE$9,2,FALSE))","v":7},{"$f":"IF(ISERROR(HLOOKUP($BX46,補助!$AW$2:$BE$9,2,FALSE))=TRUE,\"\",HLOOKUP($BX46,補助!$AW$2:$BE$9,2,FALSE))","v":2},{"$f":"IF(ISERROR(HLOOKUP($BY46,補助!$AW$2:$BE$9,2,FALSE))=TRUE,\"\",HLOOKUP($BY46,補助!$AW$2:$BE$9,2,FALSE))","v":6},{"$f":"IF(ISERROR(HLOOKUP($BZ46,補助!$AW$2:$BE$9,2,FALSE))=TRUE,\"\",HLOOKUP($BZ46,補助!$AW$2:$BE$9,2,FALSE))","v":9},"726"]
[null,null,null,null,null,null,null,null,null,null,null,null,null,null,null,null,null,null,null,null,null,null,null,null,null,null,null,null,null,null,null,null,null,null,null,null,null,null,null,null,null,null,null,null,null,null,null,null,null,null,null,null,null,null,null,null,null,null,null,null,null,null,null,null,null,null,null,null,null,null,null,{"$error":"#VALUE!"},"A2",null,{"$f":"IF(ISERROR(HLOOKUP($BP47,補助!$AW$2:$BE$9,2,FALSE))=TRUE,\"\",HLOOKUP($BP47,補助!$AW$2:$BE$9,2,FALSE))","v":""},{"$f":"IF(ISERROR(HLOOKUP($BQ47,補助!$AW$2:$BE$9,2,FALSE))=TRUE,\"\",HLOOKUP($BQ47,補助!$AW$2:$BE$9,2,FALSE))","v":""},{"$f":"IF(ISERROR(HLOOKUP($BR47,補助!$AW$2:$BE$9,2,FALSE))=TRUE,\"\",HLOOKUP($BR47,補助!$AW$2:$BE$9,2,FALSE))","v":""},{"$f":"IF(ISERROR(HLOOKUP($BS47,補助!$AW$2:$BE$9,2,FALSE))=TRUE,\"\",HLOOKUP($BS47,補助!$AW$2:$BE$9,2,FALSE))","v":""},{"$f":"IF(ISERROR(HLOOKUP($BT47,補助!$AW$2:$BE$9,2,FALSE))=TRUE,\"\",HLOOKUP($BT47,補助!$AW$2:$BE$9,2,FALSE))","v":""},{"$f":"IF(ISERROR(HLOOKUP($BU47,補助!$AW$2:$BE$9,2,FALSE))=TRUE,\"\",HLOOKUP($BU47,補助!$AW$2:$BE$9,2,FALSE))","v":""},{"$f":"IF(ISERROR(HLOOKUP($BV47,補助!$AW$2:$BE$9,2,FALSE))=TRUE,\"\",HLOOKUP($BV47,補助!$AW$2:$BE$9,2,FALSE))","v":""},{"$f":"IF(ISERROR(HLOOKUP($BW47,補助!$AW$2:$BE$9,2,FALSE))=TRUE,\"\",HLOOKUP($BW47,補助!$AW$2:$BE$9,2,FALSE))","v":7},{"$f":"IF(ISERROR(HLOOKUP($BX47,補助!$AW$2:$BE$9,2,FALSE))=TRUE,\"\",HLOOKUP($BX47,補助!$AW$2:$BE$9,2,FALSE))","v":2},{"$f":"IF(ISERROR(HLOOKUP($BY47,補助!$AW$2:$BE$9,2,FALSE))=TRUE,\"\",HLOOKUP($BY47,補助!$AW$2:$BE$9,2,FALSE))","v":6},{"$f":"IF(ISERROR(HLOOKUP($BZ47,補助!$AW$2:$BE$9,2,FALSE))=TRUE,\"\",HLOOKUP($BZ47,補助!$AW$2:$BE$9,2,FALSE))","v":3},"726"]
[null,null,null,null,null,null,null,null,null,null,null,null,null,null,null,null,null,null,null,null,null,null,null,null,null,null,null,null,null,null,null,null,null,null,null,null,null,null,null,null,null,null,null,null,null,null,null,null,null,null,null,null,null,null,null,null,null,null,null,null,null,null,null,null,null,null,null,null,null,null,null,{"$error":"#VALUE!"},"A2",null,{"$f":"IF(ISERROR(HLOOKUP($BP48,補助!$AW$2:$BE$9,2,FALSE))=TRUE,\"\",HLOOKUP($BP48,補助!$AW$2:$BE$9,2,FALSE))","v":""},{"$f":"IF(ISERROR(HLOOKUP($BQ48,補助!$AW$2:$BE$9,2,FALSE))=TRUE,\"\",HLOOKUP($BQ48,補助!$AW$2:$BE$9,2,FALSE))","v":""},{"$f":"IF(ISERROR(HLOOKUP($BR48,補助!$AW$2:$BE$9,2,FALSE))=TRUE,\"\",HLOOKUP($BR48,補助!$AW$2:$BE$9,2,FALSE))","v":""},{"$f":"IF(ISERROR(HLOOKUP($BS48,補助!$AW$2:$BE$9,2,FALSE))=TRUE,\"\",HLOOKUP($BS48,補助!$AW$2:$BE$9,2,FALSE))","v":""},{"$f":"IF(ISERROR(HLOOKUP($BT48,補助!$AW$2:$BE$9,2,FALSE))=TRUE,\"\",HLOOKUP($BT48,補助!$AW$2:$BE$9,2,FALSE))","v":""},{"$f":"IF(ISERROR(HLOOKUP($BU48,補助!$AW$2:$BE$9,2,FALSE))=TRUE,\"\",HLOOKUP($BU48,補助!$AW$2:$BE$9,2,FALSE))","v":""},{"$f":"IF(ISERROR(HLOOKUP($BV48,補助!$AW$2:$BE$9,2,FALSE))=TRUE,\"\",HLOOKUP($BV48,補助!$AW$2:$BE$9,2,FALSE))","v":""},{"$f":"IF(ISERROR(HLOOKUP($BW48,補助!$AW$2:$BE$9,2,FALSE))=TRUE,\"\",HLOOKUP($BW48,補助!$AW$2:$BE$9,2,FALSE))","v":7},{"$f":"IF(ISERROR(HLOOKUP($BX48,補助!$AW$2:$BE$9,2,FALSE))=TRUE,\"\",HLOOKUP($BX48,補助!$AW$2:$BE$9,2,FALSE))","v":3},{"$f":"IF(ISERROR(HLOOKUP($BY48,補助!$AW$2:$BE$9,2,FALSE))=TRUE,\"\",HLOOKUP($BY48,補助!$AW$2:$BE$9,2,FALSE))","v":1},{"$f":"IF(ISERROR(HLOOKUP($BZ48,補助!$AW$2:$BE$9,2,FALSE))=TRUE,\"\",HLOOKUP($BZ48,補助!$AW$2:$BE$9,2,FALSE))","v":""},"731"]
[null,null,null,null,null,null,null,null,null,null,null,null,null,null,null,null,null,null,null,null,null,null,null,null,null,null,null,null,null,null,null,null,null,null,null,null,null,null,null,null,null,null,null,null,null,null,null,null,null,null,null,null,null,null,null,null,null,null,null,null,null,null,null,null,null,null,null,null,null,null,null,{"$error":"#VALUE!"},"A2",null,{"$f":"IF(ISERROR(HLOOKUP($BP49,補助!$AW$2:$BE$9,2,FALSE))=TRUE,\"\",HLOOKUP($BP49,補助!$AW$2:$BE$9,2,FALSE))","v":""},{"$f":"IF(ISERROR(HLOOKUP($BQ49,補助!$AW$2:$BE$9,2,FALSE))=TRUE,\"\",HLOOKUP($BQ49,補助!$AW$2:$BE$9,2,FALSE))","v":""},{"$f":"IF(ISERROR(HLOOKUP($BR49,補助!$AW$2:$BE$9,2,FALSE))=TRUE,\"\",HLOOKUP($BR49,補助!$AW$2:$BE$9,2,FALSE))","v":""},{"$f":"IF(ISERROR(HLOOKUP($BS49,補助!$AW$2:$BE$9,2,FALSE))=TRUE,\"\",HLOOKUP($BS49,補助!$AW$2:$BE$9,2,FALSE))","v":""},{"$f":"IF(ISERROR(HLOOKUP($BT49,補助!$AW$2:$BE$9,2,FALSE))=TRUE,\"\",HLOOKUP($BT49,補助!$AW$2:$BE$9,2,FALSE))","v":""},{"$f":"IF(ISERROR(HLOOKUP($BU49,補助!$AW$2:$BE$9,2,FALSE))=TRUE,\"\",HLOOKUP($BU49,補助!$AW$2:$BE$9,2,FALSE))","v":""},{"$f":"IF(ISERROR(HLOOKUP($BV49,補助!$AW$2:$BE$9,2,FALSE))=TRUE,\"\",HLOOKUP($BV49,補助!$AW$2:$BE$9,2,FALSE))","v":""},{"$f":"IF(ISERROR(HLOOKUP($BW49,補助!$AW$2:$BE$9,2,FALSE))=TRUE,\"\",HLOOKUP($BW49,補助!$AW$2:$BE$9,2,FALSE))","v":7},{"$f":"IF(ISERROR(HLOOKUP($BX49,補助!$AW$2:$BE$9,2,FALSE))=TRUE,\"\",HLOOKUP($BX49,補助!$AW$2:$BE$9,2,FALSE))","v":3},{"$f":"IF(ISERROR(HLOOKUP($BY49,補助!$AW$2:$BE$9,2,FALSE))=TRUE,\"\",HLOOKUP($BY49,補助!$AW$2:$BE$9,2,FALSE))","v":9},{"$f":"IF(ISERROR(HLOOKUP($BZ49,補助!$AW$2:$BE$9,2,FALSE))=TRUE,\"\",HLOOKUP($BZ49,補助!$AW$2:$BE$9,2,FALSE))","v":""},"739"]
[null,null,null,null,null,null,null,null,null,null,null,null,null,null,null,null,null,null,null,null,null,null,null,null,null,null,null,null,null,null,null,null,null,null,null,null,null,null,null,null,null,null,null,null,null,null,null,null,null,null,null,null,null,null,null,null,null,null,null,null,null,null,null,null,null,null,null,null,null,null,null,{"$error":"#VALUE!"},"A2","白",{"$f":"IF(ISERROR(HLOOKUP($BP50,補助!$AW$2:$BE$9,2,FALSE))=TRUE,\"\",HLOOKUP($BP50,補助!$AW$2:$BE$9,2,FALSE))","v":""},{"$f":"IF(ISERROR(HLOOKUP($BQ50,補助!$AW$2:$BE$9,2,FALSE))=TRUE,\"\",HLOOKUP($BQ50,補助!$AW$2:$BE$9,2,FALSE))","v":""},{"$f":"IF(ISERROR(HLOOKUP($BR50,補助!$AW$2:$BE$9,2,FALSE))=TRUE,\"\",HLOOKUP($BR50,補助!$AW$2:$BE$9,2,FALSE))","v":""},{"$f":"IF(ISERROR(HLOOKUP($BS50,補助!$AW$2:$BE$9,2,FALSE))=TRUE,\"\",HLOOKUP($BS50,補助!$AW$2:$BE$9,2,FALSE))","v":""},{"$f":"IF(ISERROR(HLOOKUP($BT50,補助!$AW$2:$BE$9,2,FALSE))=TRUE,\"\",HLOOKUP($BT50,補助!$AW$2:$BE$9,2,FALSE))","v":""},{"$f":"IF(ISERROR(HLOOKUP($BU50,補助!$AW$2:$BE$9,2,FALSE))=TRUE,\"\",HLOOKUP($BU50,補助!$AW$2:$BE$9,2,FALSE))","v":""},{"$f":"IF(ISERROR(HLOOKUP($BV50,補助!$AW$2:$BE$9,2,FALSE))=TRUE,\"\",HLOOKUP($BV50,補助!$AW$2:$BE$9,2,FALSE))","v":""},{"$f":"IF(ISERROR(HLOOKUP($BW50,補助!$AW$2:$BE$9,2,FALSE))=TRUE,\"\",HLOOKUP($BW50,補助!$AW$2:$BE$9,2,FALSE))","v":7},{"$f":"IF(ISERROR(HLOOKUP($BX50,補助!$AW$2:$BE$9,2,FALSE))=TRUE,\"\",HLOOKUP($BX50,補助!$AW$2:$BE$9,2,FALSE))","v":3},{"$f":"IF(ISERROR(HLOOKUP($BY50,補助!$AW$2:$BE$9,2,FALSE))=TRUE,\"\",HLOOKUP($BY50,補助!$AW$2:$BE$9,2,FALSE))","v":4},{"$f":"IF(ISERROR(HLOOKUP($BZ50,補助!$AW$2:$BE$9,2,FALSE))=TRUE,\"\",HLOOKUP($BZ50,補助!$AW$2:$BE$9,2,FALSE))","v":""},"734"]
[null,null,null,null,null,null,null,null,null,null,null,null,null,null,null,null,null,null,null,null,null,null,null,null,null,null,null,null,null,null,null,null,null,null,null,null,null,null,null,null,null,null,null,null,null,null,null,null,null,null,null,null,null,null,null,null,null,null,null,null,null,null,null,null,null,null,null,null,null,null,null,{"$error":"#VALUE!"},"A2","白",{"$f":"IF(ISERROR(HLOOKUP($BP51,補助!$AW$2:$BE$9,2,FALSE))=TRUE,\"\",HLOOKUP($BP51,補助!$AW$2:$BE$9,2,FALSE))","v":""},{"$f":"IF(ISERROR(HLOOKUP($BQ51,補助!$AW$2:$BE$9,2,FALSE))=TRUE,\"\",HLOOKUP($BQ51,補助!$AW$2:$BE$9,2,FALSE))","v":""},{"$f":"IF(ISERROR(HLOOKUP($BR51,補助!$AW$2:$BE$9,2,FALSE))=TRUE,\"\",HLOOKUP($BR51,補助!$AW$2:$BE$9,2,FALSE))","v":""},{"$f":"IF(ISERROR(HLOOKUP($BS51,補助!$AW$2:$BE$9,2,FALSE))=TRUE,\"\",HLOOKUP($BS51,補助!$AW$2:$BE$9,2,FALSE))","v":""},{"$f":"IF(ISERROR(HLOOKUP($BT51,補助!$AW$2:$BE$9,2,FALSE))=TRUE,\"\",HLOOKUP($BT51,補助!$AW$2:$BE$9,2,FALSE))","v":""},{"$f":"IF(ISERROR(HLOOKUP($BU51,補助!$AW$2:$BE$9,2,FALSE))=TRUE,\"\",HLOOKUP($BU51,補助!$AW$2:$BE$9,2,FALSE))","v":""},{"$f":"IF(ISERROR(HLOOKUP($BV51,補助!$AW$2:$BE$9,2,FALSE))=TRUE,\"\",HLOOKUP($BV51,補助!$AW$2:$BE$9,2,FALSE))","v":""},{"$f":"IF(ISERROR(HLOOKUP($BW51,補助!$AW$2:$BE$9,2,FALSE))=TRUE,\"\",HLOOKUP($BW51,補助!$AW$2:$BE$9,2,FALSE))","v":7},{"$f":"IF(ISERROR(HLOOKUP($BX51,補助!$AW$2:$BE$9,2,FALSE))=TRUE,\"\",HLOOKUP($BX51,補助!$AW$2:$BE$9,2,FALSE))","v":3},{"$f":"IF(ISERROR(HLOOKUP($BY51,補助!$AW$2:$BE$9,2,FALSE))=TRUE,\"\",HLOOKUP($BY51,補助!$AW$2:$BE$9,2,FALSE))","v":8},{"$f":"IF(ISERROR(HLOOKUP($BZ51,補助!$AW$2:$BE$9,2,FALSE))=TRUE,\"\",HLOOKUP($BZ51,補助!$AW$2:$BE$9,2,FALSE))","v":""},"738"]
[null,null,null,null,null,null,null,null,null,null,null,null,null,null,null,null,null,null,null,null,null,null,null,null,null,null,null,null,null,null,null,null,null,null,null,null,null,null,null,null,null,null,null,null,null,null,null,null,null,null,null,null,null,null,null,null,null,null,null,null,null,null,null,null,null,null,null,null,null,null,null,{"$error":"#VALUE!"},"A2",null,{"$f":"IF(ISERROR(HLOOKUP($BP52,補助!$AW$2:$BE$9,2,FALSE))=TRUE,\"\",HLOOKUP($BP52,補助!$AW$2:$BE$9,2,FALSE))","v":""},{"$f":"IF(ISERROR(HLOOKUP($BQ52,補助!$AW$2:$BE$9,2,FALSE))=TRUE,\"\",HLOOKUP($BQ52,補助!$AW$2:$BE$9,2,FALSE))","v":""},{"$f":"IF(ISERROR(HLOOKUP($BR52,補助!$AW$2:$BE$9,2,FALSE))=TRUE,\"\",HLOOKUP($BR52,補助!$AW$2:$BE$9,2,FALSE))","v":""},{"$f":"IF(ISERROR(HLOOKUP($BS52,補助!$AW$2:$BE$9,2,FALSE))=TRUE,\"\",HLOOKUP($BS52,補助!$AW$2:$BE$9,2,FALSE))","v":""},{"$f":"IF(ISERROR(HLOOKUP($BT52,補助!$AW$2:$BE$9,2,FALSE))=TRUE,\"\",HLOOKUP($BT52,補助!$AW$2:$BE$9,2,FALSE))","v":""},{"$f":"IF(ISERROR(HLOOKUP($BU52,補助!$AW$2:$BE$9,2,FALSE))=TRUE,\"\",HLOOKUP($BU52,補助!$AW$2:$BE$9,2,FALSE))","v":""},{"$f":"IF(ISERROR(HLOOKUP($BV52,補助!$AW$2:$BE$9,2,FALSE))=TRUE,\"\",HLOOKUP($BV52,補助!$AW$2:$BE$9,2,FALSE))","v":""},{"$f":"IF(ISERROR(HLOOKUP($BW52,補助!$AW$2:$BE$9,2,FALSE))=TRUE,\"\",HLOOKUP($BW52,補助!$AW$2:$BE$9,2,FALSE))","v":4},{"$f":"IF(ISERROR(HLOOKUP($BX52,補助!$AW$2:$BE$9,2,FALSE))=TRUE,\"\",HLOOKUP($BX52,補助!$AW$2:$BE$9,2,FALSE))","v":8},{"$f":"IF(ISERROR(HLOOKUP($BY52,補助!$AW$2:$BE$9,2,FALSE))=TRUE,\"\",HLOOKUP($BY52,補助!$AW$2:$BE$9,2,FALSE))","v":5},{"$f":"IF(ISERROR(HLOOKUP($BZ52,補助!$AW$2:$BE$9,2,FALSE))=TRUE,\"\",HLOOKUP($BZ52,補助!$AW$2:$BE$9,2,FALSE))","v":""},"485"]
[null,null,null,null,null,null,null,null,null,null,null,null,null,null,null,null,null,null,null,null,null,null,null,null,null,null,null,null,null,null,null,null,null,null,null,null,null,null,null,null,null,null,null,null,null,null,null,null,null,null,null,null,null,null,null,null,null,null,null,null,null,null,null,null,null,null,null,null,null,null,null,{"$error":"#VALUE!"},"A2",null,{"$f":"IF(ISERROR(HLOOKUP($BP53,補助!$AW$2:$BE$9,2,FALSE))=TRUE,\"\",HLOOKUP($BP53,補助!$AW$2:$BE$9,2,FALSE))","v":""},{"$f":"IF(ISERROR(HLOOKUP($BQ53,補助!$AW$2:$BE$9,2,FALSE))=TRUE,\"\",HLOOKUP($BQ53,補助!$AW$2:$BE$9,2,FALSE))","v":""},{"$f":"IF(ISERROR(HLOOKUP($BR53,補助!$AW$2:$BE$9,2,FALSE))=TRUE,\"\",HLOOKUP($BR53,補助!$AW$2:$BE$9,2,FALSE))","v":""},{"$f":"IF(ISERROR(HLOOKUP($BS53,補助!$AW$2:$BE$9,2,FALSE))=TRUE,\"\",HLOOKUP($BS53,補助!$AW$2:$BE$9,2,FALSE))","v":""},{"$f":"IF(ISERROR(HLOOKUP($BT53,補助!$AW$2:$BE$9,2,FALSE))=TRUE,\"\",HLOOKUP($BT53,補助!$AW$2:$BE$9,2,FALSE))","v":""},{"$f":"IF(ISERROR(HLOOKUP($BU53,補助!$AW$2:$BE$9,2,FALSE))=TRUE,\"\",HLOOKUP($BU53,補助!$AW$2:$BE$9,2,FALSE))","v":""},{"$f":"IF(ISERROR(HLOOKUP($BV53,補助!$AW$2:$BE$9,2,FALSE))=TRUE,\"\",HLOOKUP($BV53,補助!$AW$2:$BE$9,2,FALSE))","v":""},{"$f":"IF(ISERROR(HLOOKUP($BW53,補助!$AW$2:$BE$9,2,FALSE))=TRUE,\"\",HLOOKUP($BW53,補助!$AW$2:$BE$9,2,FALSE))","v":4},{"$f":"IF(ISERROR(HLOOKUP($BX53,補助!$AW$2:$BE$9,2,FALSE))=TRUE,\"\",HLOOKUP($BX53,補助!$AW$2:$BE$9,2,FALSE))","v":2},{"$f":"IF(ISERROR(HLOOKUP($BY53,補助!$AW$2:$BE$9,2,FALSE))=TRUE,\"\",HLOOKUP($BY53,補助!$AW$2:$BE$9,2,FALSE))","v":5},{"$f":"IF(ISERROR(HLOOKUP($BZ53,補助!$AW$2:$BE$9,2,FALSE))=TRUE,\"\",HLOOKUP($BZ53,補助!$AW$2:$BE$9,2,FALSE))","v":""},"425"]
[null,null,null,null,null,null,null,null,null,null,null,null,null,null,null,null,null,null,null,null,null,null,null,null,null,null,null,null,null,null,null,null,null,null,null,null,null,null,null,null,null,null,null,null,null,null,null,null,null,null,null,null,null,null,null,null,null,null,null,null,null,null,null,null,null,null,null,null,null,null,null,{"$error":"#VALUE!"},"A2",null,{"$f":"IF(ISERROR(HLOOKUP($BP54,補助!$AW$2:$BE$9,2,FALSE))=TRUE,\"\",HLOOKUP($BP54,補助!$AW$2:$BE$9,2,FALSE))","v":""},{"$f":"IF(ISERROR(HLOOKUP($BQ54,補助!$AW$2:$BE$9,2,FALSE))=TRUE,\"\",HLOOKUP($BQ54,補助!$AW$2:$BE$9,2,FALSE))","v":""},{"$f":"IF(ISERROR(HLOOKUP($BR54,補助!$AW$2:$BE$9,2,FALSE))=TRUE,\"\",HLOOKUP($BR54,補助!$AW$2:$BE$9,2,FALSE))","v":""},{"$f":"IF(ISERROR(HLOOKUP($BS54,補助!$AW$2:$BE$9,2,FALSE))=TRUE,\"\",HLOOKUP($BS54,補助!$AW$2:$BE$9,2,FALSE))","v":""},{"$f":"IF(ISERROR(HLOOKUP($BT54,補助!$AW$2:$BE$9,2,FALSE))=TRUE,\"\",HLOOKUP($BT54,補助!$AW$2:$BE$9,2,FALSE))","v":""},{"$f":"IF(ISERROR(HLOOKUP($BU54,補助!$AW$2:$BE$9,2,FALSE))=TRUE,\"\",HLOOKUP($BU54,補助!$AW$2:$BE$9,2,FALSE))","v":""},{"$f":"IF(ISERROR(HLOOKUP($BV54,補助!$AW$2:$BE$9,2,FALSE))=TRUE,\"\",HLOOKUP($BV54,補助!$AW$2:$BE$9,2,FALSE))","v":""},{"$f":"IF(ISERROR(HLOOKUP($BW54,補助!$AW$2:$BE$9,2,FALSE))=TRUE,\"\",HLOOKUP($BW54,補助!$AW$2:$BE$9,2,FALSE))","v":4},{"$f":"IF(ISERROR(HLOOKUP($BX54,補助!$AW$2:$BE$9,2,FALSE))=TRUE,\"\",HLOOKUP($BX54,補助!$AW$2:$BE$9,2,FALSE))","v":9},{"$f":"IF(ISERROR(HLOOKUP($BY54,補助!$AW$2:$BE$9,2,FALSE))=TRUE,\"\",HLOOKUP($BY54,補助!$AW$2:$BE$9,2,FALSE))","v":7},{"$f":"IF(ISERROR(HLOOKUP($BZ54,補助!$AW$2:$BE$9,2,FALSE))=TRUE,\"\",HLOOKUP($BZ54,補助!$AW$2:$BE$9,2,FALSE))","v":""},"497"]
[null,null,null,null,null,null,null,null,null,null,null,null,null,null,null,null,null,null,null,null,null,null,null,null,null,null,null,null,null,null,null,null,null,null,null,null,null,null,null,null,null,null,null,null,null,null,null,null,null,null,null,null,null,null,null,null,null,null,null,null,null,null,null,null,null,null,null,null,null,null,null,{"$error":"#VALUE!"},"A2",null,{"$f":"IF(ISERROR(HLOOKUP($BP55,補助!$AW$2:$BE$9,2,FALSE))=TRUE,\"\",HLOOKUP($BP55,補助!$AW$2:$BE$9,2,FALSE))","v":""},{"$f":"IF(ISERROR(HLOOKUP($BQ55,補助!$AW$2:$BE$9,2,FALSE))=TRUE,\"\",HLOOKUP($BQ55,補助!$AW$2:$BE$9,2,FALSE))","v":""},{"$f":"IF(ISERROR(HLOOKUP($BR55,補助!$AW$2:$BE$9,2,FALSE))=TRUE,\"\",HLOOKUP($BR55,補助!$AW$2:$BE$9,2,FALSE))","v":""},{"$f":"IF(ISERROR(HLOOKUP($BS55,補助!$AW$2:$BE$9,2,FALSE))=TRUE,\"\",HLOOKUP($BS55,補助!$AW$2:$BE$9,2,FALSE))","v":""},{"$f":"IF(ISERROR(HLOOKUP($BT55,補助!$AW$2:$BE$9,2,FALSE))=TRUE,\"\",HLOOKUP($BT55,補助!$AW$2:$BE$9,2,FALSE))","v":""},{"$f":"IF(ISERROR(HLOOKUP($BU55,補助!$AW$2:$BE$9,2,FALSE))=TRUE,\"\",HLOOKUP($BU55,補助!$AW$2:$BE$9,2,FALSE))","v":""},{"$f":"IF(ISERROR(HLOOKUP($BV55,補助!$AW$2:$BE$9,2,FALSE))=TRUE,\"\",HLOOKUP($BV55,補助!$AW$2:$BE$9,2,FALSE))","v":""},{"$f":"IF(ISERROR(HLOOKUP($BW55,補助!$AW$2:$BE$9,2,FALSE))=TRUE,\"\",HLOOKUP($BW55,補助!$AW$2:$BE$9,2,FALSE))","v":4},{"$f":"IF(ISERROR(HLOOKUP($BX55,補助!$AW$2:$BE$9,2,FALSE))=TRUE,\"\",HLOOKUP($BX55,補助!$AW$2:$BE$9,2,FALSE))","v":3},{"$f":"IF(ISERROR(HLOOKUP($BY55,補助!$AW$2:$BE$9,2,FALSE))=TRUE,\"\",HLOOKUP($BY55,補助!$AW$2:$BE$9,2,FALSE))","v":1},{"$f":"IF(ISERROR(HLOOKUP($BZ55,補助!$AW$2:$BE$9,2,FALSE))=TRUE,\"\",HLOOKUP($BZ55,補助!$AW$2:$BE$9,2,FALSE))","v":""},"431"]
[null,null,null,null,null,null,null,null,null,null,null,null,null,null,null,null,null,null,null,null,null,null,null,null,null,null,null,null,null,null,null,null,null,null,null,null,null,null,null,null,null,null,null,null,null,null,null,null,null,null,null,null,null,null,null,null,null,null,null,null,null,null,null,null,null,null,null,null,null,null,null,{"$error":"#VALUE!"},"A2",null,{"$f":"IF(ISERROR(HLOOKUP($BP56,補助!$AW$2:$BE$9,2,FALSE))=TRUE,\"\",HLOOKUP($BP56,補助!$AW$2:$BE$9,2,FALSE))","v":""},{"$f":"IF(ISERROR(HLOOKUP($BQ56,補助!$AW$2:$BE$9,2,FALSE))=TRUE,\"\",HLOOKUP($BQ56,補助!$AW$2:$BE$9,2,FALSE))","v":""},{"$f":"IF(ISERROR(HLOOKUP($BR56,補助!$AW$2:$BE$9,2,FALSE))=TRUE,\"\",HLOOKUP($BR56,補助!$AW$2:$BE$9,2,FALSE))","v":""},{"$f":"IF(ISERROR(HLOOKUP($BS56,補助!$AW$2:$BE$9,2,FALSE))=TRUE,\"\",HLOOKUP($BS56,補助!$AW$2:$BE$9,2,FALSE))","v":""},{"$f":"IF(ISERROR(HLOOKUP($BT56,補助!$AW$2:$BE$9,2,FALSE))=TRUE,\"\",HLOOKUP($BT56,補助!$AW$2:$BE$9,2,FALSE))","v":""},{"$f":"IF(ISERROR(HLOOKUP($BU56,補助!$AW$2:$BE$9,2,FALSE))=TRUE,\"\",HLOOKUP($BU56,補助!$AW$2:$BE$9,2,FALSE))","v":""},{"$f":"IF(ISERROR(HLOOKUP($BV56,補助!$AW$2:$BE$9,2,FALSE))=TRUE,\"\",HLOOKUP($BV56,補助!$AW$2:$BE$9,2,FALSE))","v":""},{"$f":"IF(ISERROR(HLOOKUP($BW56,補助!$AW$2:$BE$9,2,FALSE))=TRUE,\"\",HLOOKUP($BW56,補助!$AW$2:$BE$9,2,FALSE))","v":5},{"$f":"IF(ISERROR(HLOOKUP($BX56,補助!$AW$2:$BE$9,2,FALSE))=TRUE,\"\",HLOOKUP($BX56,補助!$AW$2:$BE$9,2,FALSE))","v":4},{"$f":"IF(ISERROR(HLOOKUP($BY56,補助!$AW$2:$BE$9,2,FALSE))=TRUE,\"\",HLOOKUP($BY56,補助!$AW$2:$BE$9,2,FALSE))","v":1},{"$f":"IF(ISERROR(HLOOKUP($BZ56,補助!$AW$2:$BE$9,2,FALSE))=TRUE,\"\",HLOOKUP($BZ56,補助!$AW$2:$BE$9,2,FALSE))","v":""},"541"]
[null,null,null,null,null,null,null,null,null,null,null,null,null,null,null,null,null,null,null,null,null,null,null,null,null,null,null,null,null,null,null,null,null,null,null,null,null,null,null,null,null,null,null,null,null,null,null,null,null,null,null,null,null,null,null,null,null,null,null,null,null,null,null,null,null,null,null,null,null,null,null,{"$error":"#VALUE!"},"A2",null,{"$f":"IF(ISERROR(HLOOKUP($BP57,補助!$AW$2:$BE$9,2,FALSE))=TRUE,\"\",HLOOKUP($BP57,補助!$AW$2:$BE$9,2,FALSE))","v":""},{"$f":"IF(ISERROR(HLOOKUP($BQ57,補助!$AW$2:$BE$9,2,FALSE))=TRUE,\"\",HLOOKUP($BQ57,補助!$AW$2:$BE$9,2,FALSE))","v":""},{"$f":"IF(ISERROR(HLOOKUP($BR57,補助!$AW$2:$BE$9,2,FALSE))=TRUE,\"\",HLOOKUP($BR57,補助!$AW$2:$BE$9,2,FALSE))","v":""},{"$f":"IF(ISERROR(HLOOKUP($BS57,補助!$AW$2:$BE$9,2,FALSE))=TRUE,\"\",HLOOKUP($BS57,補助!$AW$2:$BE$9,2,FALSE))","v":""},{"$f":"IF(ISERROR(HLOOKUP($BT57,補助!$AW$2:$BE$9,2,FALSE))=TRUE,\"\",HLOOKUP($BT57,補助!$AW$2:$BE$9,2,FALSE))","v":""},{"$f":"IF(ISERROR(HLOOKUP($BU57,補助!$AW$2:$BE$9,2,FALSE))=TRUE,\"\",HLOOKUP($BU57,補助!$AW$2:$BE$9,2,FALSE))","v":""},{"$f":"IF(ISERROR(HLOOKUP($BV57,補助!$AW$2:$BE$9,2,FALSE))=TRUE,\"\",HLOOKUP($BV57,補助!$AW$2:$BE$9,2,FALSE))","v":""},{"$f":"IF(ISERROR(HLOOKUP($BW57,補助!$AW$2:$BE$9,2,FALSE))=TRUE,\"\",HLOOKUP($BW57,補助!$AW$2:$BE$9,2,FALSE))","v":5},{"$f":"IF(ISERROR(HLOOKUP($BX57,補助!$AW$2:$BE$9,2,FALSE))=TRUE,\"\",HLOOKUP($BX57,補助!$AW$2:$BE$9,2,FALSE))","v":4},{"$f":"IF(ISERROR(HLOOKUP($BY57,補助!$AW$2:$BE$9,2,FALSE))=TRUE,\"\",HLOOKUP($BY57,補助!$AW$2:$BE$9,2,FALSE))","v":7},{"$f":"IF(ISERROR(HLOOKUP($BZ57,補助!$AW$2:$BE$9,2,FALSE))=TRUE,\"\",HLOOKUP($BZ57,補助!$AW$2:$BE$9,2,FALSE))","v":""},"547"]
[null,null,null,null,null,null,null,null,null,null,null,null,null,null,null,null,null,null,null,null,null,null,null,null,null,null,null,null,null,null,null,null,null,null,null,null,null,null,null,null,null,null,null,null,null,null,null,null,null,null,null,null,null,null,null,null,null,null,null,null,null,null,null,null,null,null,null,null,null,null,null,{"$error":"#VALUE!"},"A2",null,{"$f":"IF(ISERROR(HLOOKUP($BP58,補助!$AW$2:$BE$9,2,FALSE))=TRUE,\"\",HLOOKUP($BP58,補助!$AW$2:$BE$9,2,FALSE))","v":""},{"$f":"IF(ISERROR(HLOOKUP($BQ58,補助!$AW$2:$BE$9,2,FALSE))=TRUE,\"\",HLOOKUP($BQ58,補助!$AW$2:$BE$9,2,FALSE))","v":""},{"$f":"IF(ISERROR(HLOOKUP($BR58,補助!$AW$2:$BE$9,2,FALSE))=TRUE,\"\",HLOOKUP($BR58,補助!$AW$2:$BE$9,2,FALSE))","v":""},{"$f":"IF(ISERROR(HLOOKUP($BS58,補助!$AW$2:$BE$9,2,FALSE))=TRUE,\"\",HLOOKUP($BS58,補助!$AW$2:$BE$9,2,FALSE))","v":""},{"$f":"IF(ISERROR(HLOOKUP($BT58,補助!$AW$2:$BE$9,2,FALSE))=TRUE,\"\",HLOOKUP($BT58,補助!$AW$2:$BE$9,2,FALSE))","v":""},{"$f":"IF(ISERROR(HLOOKUP($BU58,補助!$AW$2:$BE$9,2,FALSE))=TRUE,\"\",HLOOKUP($BU58,補助!$AW$2:$BE$9,2,FALSE))","v":""},{"$f":"IF(ISERROR(HLOOKUP($BV58,補助!$AW$2:$BE$9,2,FALSE))=TRUE,\"\",HLOOKUP($BV58,補助!$AW$2:$BE$9,2,FALSE))","v":""},{"$f":"IF(ISERROR(HLOOKUP($BW58,補助!$AW$2:$BE$9,2,FALSE))=TRUE,\"\",HLOOKUP($BW58,補助!$AW$2:$BE$9,2,FALSE))","v":5},{"$f":"IF(ISERROR(HLOOKUP($BX58,補助!$AW$2:$BE$9,2,FALSE))=TRUE,\"\",HLOOKUP($BX58,補助!$AW$2:$BE$9,2,FALSE))","v":4},{"$f":"IF(ISERROR(HLOOKUP($BY58,補助!$AW$2:$BE$9,2,FALSE))=TRUE,\"\",HLOOKUP($BY58,補助!$AW$2:$BE$9,2,FALSE))","v":9},{"$f":"IF(ISERROR(HLOOKUP($BZ58,補助!$AW$2:$BE$9,2,FALSE))=TRUE,\"\",HLOOKUP($BZ58,補助!$AW$2:$BE$9,2,FALSE))","v":""},"549"]
[null,null,null,null,null,null,null,null,null,null,null,null,null,null,null,null,null,null,null,null,null,null,null,null,null,null,null,null,null,null,null,null,null,null,null,null,null,null,null,null,null,null,null,null,null,null,null,null,null,null,null,null,null,null,null,null,null,null,null,null,null,null,null,null,null,null,null,null,null,null,null,{"$error":"#VALUE!"},"A2",null,{"$f":"IF(ISERROR(HLOOKUP($BP59,補助!$AW$2:$BE$9,2,FALSE))=TRUE,\"\",HLOOKUP($BP59,補助!$AW$2:$BE$9,2,FALSE))","v":""},{"$f":"IF(ISERROR(HLOOKUP($BQ59,補助!$AW$2:$BE$9,2,FALSE))=TRUE,\"\",HLOOKUP($BQ59,補助!$AW$2:$BE$9,2,FALSE))","v":""},{"$f":"IF(ISERROR(HLOOKUP($BR59,補助!$AW$2:$BE$9,2,FALSE))=TRUE,\"\",HLOOKUP($BR59,補助!$AW$2:$BE$9,2,FALSE))","v":""},{"$f":"IF(ISERROR(HLOOKUP($BS59,補助!$AW$2:$BE$9,2,FALSE))=TRUE,\"\",HLOOKUP($BS59,補助!$AW$2:$BE$9,2,FALSE))","v":""},{"$f":"IF(ISERROR(HLOOKUP($BT59,補助!$AW$2:$BE$9,2,FALSE))=TRUE,\"\",HLOOKUP($BT59,補助!$AW$2:$BE$9,2,FALSE))","v":""},{"$f":"IF(ISERROR(HLOOKUP($BU59,補助!$AW$2:$BE$9,2,FALSE))=TRUE,\"\",HLOOKUP($BU59,補助!$AW$2:$BE$9,2,FALSE))","v":""},{"$f":"IF(ISERROR(HLOOKUP($BV59,補助!$AW$2:$BE$9,2,FALSE))=TRUE,\"\",HLOOKUP($BV59,補助!$AW$2:$BE$9,2,FALSE))","v":""},{"$f":"IF(ISERROR(HLOOKUP($BW59,補助!$AW$2:$BE$9,2,FALSE))=TRUE,\"\",HLOOKUP($BW59,補助!$AW$2:$BE$9,2,FALSE))","v":5},{"$f":"IF(ISERROR(HLOOKUP($BX59,補助!$AW$2:$BE$9,2,FALSE))=TRUE,\"\",HLOOKUP($BX59,補助!$AW$2:$BE$9,2,FALSE))","v":4},{"$f":"IF(ISERROR(HLOOKUP($BY59,補助!$AW$2:$BE$9,2,FALSE))=TRUE,\"\",HLOOKUP($BY59,補助!$AW$2:$BE$9,2,FALSE))","v":3},{"$f":"IF(ISERROR(HLOOKUP($BZ59,補助!$AW$2:$BE$9,2,FALSE))=TRUE,\"\",HLOOKUP($BZ59,補助!$AW$2:$BE$9,2,FALSE))","v":""},"543"]
[null,null,null,null,null,null,null,null,null,null,null,null,null,null,null,null,null,null,null,null,null,null,null,null,null,null,null,null,null,null,null,null,null,null,null,null,null,null,null,null,null,null,null,null,null,null,null,null,null,null,null,null,null,null,null,null,null,null,null,null,null,null,null,null,null,null,null,null,null,null,null,{"$error":"#VALUE!"},"A3",null,{"$f":"IF(ISERROR(HLOOKUP($BP2,補助!$AW$2:$BE$9,3,FALSE))=TRUE,\"\",HLOOKUP($BP2,補助!$AW$2:$BE$9,3,FALSE))","v":1},{"$f":"IF(ISERROR(HLOOKUP($BQ2,補助!$AW$2:$BE$9,3,FALSE))=TRUE,\"\",HLOOKUP($BQ2,補助!$AW$2:$BE$9,3,FALSE))","v":""},{"$f":"IF(ISERROR(HLOOKUP($BR2,補助!$AW$2:$BE$9,3,FALSE))=TRUE,\"\",HLOOKUP($BR2,補助!$AW$2:$BE$9,3,FALSE))","v":""},{"$f":"IF(ISERROR(HLOOKUP($BS2,補助!$AW$2:$BE$9,3,FALSE))=TRUE,\"\",HLOOKUP($BS2,補助!$AW$2:$BE$9,3,FALSE))","v":""},{"$f":"IF(ISERROR(HLOOKUP($BT2,補助!$AW$2:$BE$9,3,FALSE))=TRUE,\"\",HLOOKUP($BT2,補助!$AW$2:$BE$9,3,FALSE))","v":""},{"$f":"IF(ISERROR(HLOOKUP($BU2,補助!$AW$2:$BE$9,3,FALSE))=TRUE,\"\",HLOOKUP($BU2,補助!$AW$2:$BE$9,3,FALSE))","v":""},{"$f":"IF(ISERROR(HLOOKUP($BV2,補助!$AW$2:$BE$9,3,FALSE))=TRUE,\"\",HLOOKUP($BV2,補助!$AW$2:$BE$9,3,FALSE))","v":""},{"$f":"IF(ISERROR(HLOOKUP($BW2,補助!$AW$2:$BE$9,3,FALSE))=TRUE,\"\",HLOOKUP($BW2,補助!$AW$2:$BE$9,3,FALSE))","v":9},{"$f":"IF(ISERROR(HLOOKUP($BX2,補助!$AW$2:$BE$9,3,FALSE))=TRUE,\"\",HLOOKUP($BX2,補助!$AW$2:$BE$9,3,FALSE))","v":8},{"$f":"IF(ISERROR(HLOOKUP($BY2,補助!$AW$2:$BE$9,3,FALSE))=TRUE,\"\",HLOOKUP($BY2,補助!$AW$2:$BE$9,3,FALSE))","v":6},{"$f":"IF(ISERROR(HLOOKUP($BZ2,補助!$AW$2:$BE$9,3,FALSE))=TRUE,\"\",HLOOKUP($BZ2,補助!$AW$2:$BE$9,3,FALSE))","v":""},"1986"]
[null,null,null,null,null,null,null,null,null,null,null,null,null,null,null,null,null,null,null,null,null,null,null,null,null,null,null,null,null,null,null,null,null,null,null,null,null,null,null,null,null,null,null,null,null,null,null,null,null,null,null,null,null,null,null,null,null,null,null,null,null,null,null,null,null,null,null,null,null,null,null,{"$error":"#VALUE!"},"A3",null,{"$f":"IF(ISERROR(HLOOKUP($BP3,補助!$AW$2:$BE$9,3,FALSE))=TRUE,\"\",HLOOKUP($BP3,補助!$AW$2:$BE$9,3,FALSE))","v":4},{"$f":"IF(ISERROR(HLOOKUP($BQ3,補助!$AW$2:$BE$9,3,FALSE))=TRUE,\"\",HLOOKUP($BQ3,補助!$AW$2:$BE$9,3,FALSE))","v":""},{"$f":"IF(ISERROR(HLOOKUP($BR3,補助!$AW$2:$BE$9,3,FALSE))=TRUE,\"\",HLOOKUP($BR3,補助!$AW$2:$BE$9,3,FALSE))","v":""},{"$f":"IF(ISERROR(HLOOKUP($BS3,補助!$AW$2:$BE$9,3,FALSE))=TRUE,\"\",HLOOKUP($BS3,補助!$AW$2:$BE$9,3,FALSE))","v":""},{"$f":"IF(ISERROR(HLOOKUP($BT3,補助!$AW$2:$BE$9,3,FALSE))=TRUE,\"\",HLOOKUP($BT3,補助!$AW$2:$BE$9,3,FALSE))","v":""},{"$f":"IF(ISERROR(HLOOKUP($BU3,補助!$AW$2:$BE$9,3,FALSE))=TRUE,\"\",HLOOKUP($BU3,補助!$AW$2:$BE$9,3,FALSE))","v":""},{"$f":"IF(ISERROR(HLOOKUP($BV3,補助!$AW$2:$BE$9,3,FALSE))=TRUE,\"\",HLOOKUP($BV3,補助!$AW$2:$BE$9,3,FALSE))","v":""},{"$f":"IF(ISERROR(HLOOKUP($BW3,補助!$AW$2:$BE$9,3,FALSE))=TRUE,\"\",HLOOKUP($BW3,補助!$AW$2:$BE$9,3,FALSE))","v":9},{"$f":"IF(ISERROR(HLOOKUP($BX3,補助!$AW$2:$BE$9,3,FALSE))=TRUE,\"\",HLOOKUP($BX3,補助!$AW$2:$BE$9,3,FALSE))","v":8},{"$f":"IF(ISERROR(HLOOKUP($BY3,補助!$AW$2:$BE$9,3,FALSE))=TRUE,\"\",HLOOKUP($BY3,補助!$AW$2:$BE$9,3,FALSE))","v":5},{"$f":"IF(ISERROR(HLOOKUP($BZ3,補助!$AW$2:$BE$9,3,FALSE))=TRUE,\"\",HLOOKUP($BZ3,補助!$AW$2:$BE$9,3,FALSE))","v":""},"4985"]
[null,null,null,null,null,null,null,null,null,null,null,null,null,null,null,null,null,null,null,null,null,null,null,null,null,null,null,null,null,null,null,null,null,null,null,null,null,null,null,null,null,null,null,null,null,null,null,null,null,null,null,null,null,null,null,null,null,null,null,null,null,null,null,null,null,null,null,null,null,null,null,{"$error":"#VALUE!"},"A3",null,{"$f":"IF(ISERROR(HLOOKUP($BP4,補助!$AW$2:$BE$9,3,FALSE))=TRUE,\"\",HLOOKUP($BP4,補助!$AW$2:$BE$9,3,FALSE))","v":7},{"$f":"IF(ISERROR(HLOOKUP($BQ4,補助!$AW$2:$BE$9,3,FALSE))=TRUE,\"\",HLOOKUP($BQ4,補助!$AW$2:$BE$9,3,FALSE))","v":""},{"$f":"IF(ISERROR(HLOOKUP($BR4,補助!$AW$2:$BE$9,3,FALSE))=TRUE,\"\",HLOOKUP($BR4,補助!$AW$2:$BE$9,3,FALSE))","v":""},{"$f":"IF(ISERROR(HLOOKUP($BS4,補助!$AW$2:$BE$9,3,FALSE))=TRUE,\"\",HLOOKUP($BS4,補助!$AW$2:$BE$9,3,FALSE))","v":""},{"$f":"IF(ISERROR(HLOOKUP($BT4,補助!$AW$2:$BE$9,3,FALSE))=TRUE,\"\",HLOOKUP($BT4,補助!$AW$2:$BE$9,3,FALSE))","v":""},{"$f":"IF(ISERROR(HLOOKUP($BU4,補助!$AW$2:$BE$9,3,FALSE))=TRUE,\"\",HLOOKUP($BU4,補助!$AW$2:$BE$9,3,FALSE))","v":""},{"$f":"IF(ISERROR(HLOOKUP($BV4,補助!$AW$2:$BE$9,3,FALSE))=TRUE,\"\",HLOOKUP($BV4,補助!$AW$2:$BE$9,3,FALSE))","v":""},{"$f":"IF(ISERROR(HLOOKUP($BW4,補助!$AW$2:$BE$9,3,FALSE))=TRUE,\"\",HLOOKUP($BW4,補助!$AW$2:$BE$9,3,FALSE))","v":9},{"$f":"IF(ISERROR(HLOOKUP($BX4,補助!$AW$2:$BE$9,3,FALSE))=TRUE,\"\",HLOOKUP($BX4,補助!$AW$2:$BE$9,3,FALSE))","v":8},{"$f":"IF(ISERROR(HLOOKUP($BY4,補助!$AW$2:$BE$9,3,FALSE))=TRUE,\"\",HLOOKUP($BY4,補助!$AW$2:$BE$9,3,FALSE))","v":3},{"$f":"IF(ISERROR(HLOOKUP($BZ4,補助!$AW$2:$BE$9,3,FALSE))=TRUE,\"\",HLOOKUP($BZ4,補助!$AW$2:$BE$9,3,FALSE))","v":""},"7983"]
[null,null,null,null,null,null,null,null,null,null,null,null,null,null,null,null,null,null,null,null,null,null,null,null,null,null,null,null,null,null,null,null,null,null,null,null,null,null,null,null,null,null,null,null,null,null,null,null,null,null,null,null,null,null,null,null,null,null,null,null,null,null,null,null,null,null,null,null,null,null,null,{"$error":"#VALUE!"},"A3",null,{"$f":"IF(ISERROR(HLOOKUP($BP5,補助!$AW$2:$BE$9,3,FALSE))=TRUE,\"\",HLOOKUP($BP5,補助!$AW$2:$BE$9,3,FALSE))","v":""},{"$f":"IF(ISERROR(HLOOKUP($BQ5,補助!$AW$2:$BE$9,3,FALSE))=TRUE,\"\",HLOOKUP($BQ5,補助!$AW$2:$BE$9,3,FALSE))","v":""},{"$f":"IF(ISERROR(HLOOKUP($BR5,補助!$AW$2:$BE$9,3,FALSE))=TRUE,\"\",HLOOKUP($BR5,補助!$AW$2:$BE$9,3,FALSE))","v":""},{"$f":"IF(ISERROR(HLOOKUP($BS5,補助!$AW$2:$BE$9,3,FALSE))=TRUE,\"\",HLOOKUP($BS5,補助!$AW$2:$BE$9,3,FALSE))","v":""},{"$f":"IF(ISERROR(HLOOKUP($BT5,補助!$AW$2:$BE$9,3,FALSE))=TRUE,\"\",HLOOKUP($BT5,補助!$AW$2:$BE$9,3,FALSE))","v":""},{"$f":"IF(ISERROR(HLOOKUP($BU5,補助!$AW$2:$BE$9,3,FALSE))=TRUE,\"\",HLOOKUP($BU5,補助!$AW$2:$BE$9,3,FALSE))","v":""},{"$f":"IF(ISERROR(HLOOKUP($BV5,補助!$AW$2:$BE$9,3,FALSE))=TRUE,\"\",HLOOKUP($BV5,補助!$AW$2:$BE$9,3,FALSE))","v":""},{"$f":"IF(ISERROR(HLOOKUP($BW5,補助!$AW$2:$BE$9,3,FALSE))=TRUE,\"\",HLOOKUP($BW5,補助!$AW$2:$BE$9,3,FALSE))","v":9},{"$f":"IF(ISERROR(HLOOKUP($BX5,補助!$AW$2:$BE$9,3,FALSE))=TRUE,\"\",HLOOKUP($BX5,補助!$AW$2:$BE$9,3,FALSE))","v":8},{"$f":"IF(ISERROR(HLOOKUP($BY5,補助!$AW$2:$BE$9,3,FALSE))=TRUE,\"\",HLOOKUP($BY5,補助!$AW$2:$BE$9,3,FALSE))","v":7},{"$f":"IF(ISERROR(HLOOKUP($BZ5,補助!$AW$2:$BE$9,3,FALSE))=TRUE,\"\",HLOOKUP($BZ5,補助!$AW$2:$BE$9,3,FALSE))","v":6},"987"]
[null,null,null,null,null,null,null,null,null,null,null,null,null,null,null,null,null,null,null,null,null,null,null,null,null,null,null,null,null,null,null,null,null,null,null,null,null,null,null,null,null,null,null,null,null,null,null,null,null,null,null,null,null,null,null,null,null,null,null,null,null,null,null,null,null,null,null,null,null,null,null,{"$error":"#VALUE!"},"A3",null,{"$f":"IF(ISERROR(HLOOKUP($BP6,補助!$AW$2:$BE$9,3,FALSE))=TRUE,\"\",HLOOKUP($BP6,補助!$AW$2:$BE$9,3,FALSE))","v":""},{"$f":"IF(ISERROR(HLOOKUP($BQ6,補助!$AW$2:$BE$9,3,FALSE))=TRUE,\"\",HLOOKUP($BQ6,補助!$AW$2:$BE$9,3,FALSE))","v":""},{"$f":"IF(ISERROR(HLOOKUP($BR6,補助!$AW$2:$BE$9,3,FALSE))=TRUE,\"\",HLOOKUP($BR6,補助!$AW$2:$BE$9,3,FALSE))","v":""},{"$f":"IF(ISERROR(HLOOKUP($BS6,補助!$AW$2:$BE$9,3,FALSE))=TRUE,\"\",HLOOKUP($BS6,補助!$AW$2:$BE$9,3,FALSE))","v":""},{"$f":"IF(ISERROR(HLOOKUP($BT6,補助!$AW$2:$BE$9,3,FALSE))=TRUE,\"\",HLOOKUP($BT6,補助!$AW$2:$BE$9,3,FALSE))","v":""},{"$f":"IF(ISERROR(HLOOKUP($BU6,補助!$AW$2:$BE$9,3,FALSE))=TRUE,\"\",HLOOKUP($BU6,補助!$AW$2:$BE$9,3,FALSE))","v":""},{"$f":"IF(ISERROR(HLOOKUP($BV6,補助!$AW$2:$BE$9,3,FALSE))=TRUE,\"\",HLOOKUP($BV6,補助!$AW$2:$BE$9,3,FALSE))","v":""},{"$f":"IF(ISERROR(HLOOKUP($BW6,補助!$AW$2:$BE$9,3,FALSE))=TRUE,\"\",HLOOKUP($BW6,補助!$AW$2:$BE$9,3,FALSE))","v":9},{"$f":"IF(ISERROR(HLOOKUP($BX6,補助!$AW$2:$BE$9,3,FALSE))=TRUE,\"\",HLOOKUP($BX6,補助!$AW$2:$BE$9,3,FALSE))","v":8},{"$f":"IF(ISERROR(HLOOKUP($BY6,補助!$AW$2:$BE$9,3,FALSE))=TRUE,\"\",HLOOKUP($BY6,補助!$AW$2:$BE$9,3,FALSE))","v":7},{"$f":"IF(ISERROR(HLOOKUP($BZ6,補助!$AW$2:$BE$9,3,FALSE))=TRUE,\"\",HLOOKUP($BZ6,補助!$AW$2:$BE$9,3,FALSE))","v":4},"987"]
[null,null,null,null,null,null,null,null,null,null,null,null,null,null,null,null,null,null,null,null,null,null,null,null,null,null,null,null,null,null,null,null,null,null,null,null,null,null,null,null,null,null,null,null,null,null,null,null,null,null,null,null,null,null,null,null,null,null,null,null,null,null,null,null,null,null,null,null,null,null,null,{"$error":"#VALUE!"},"A3",null,{"$f":"IF(ISERROR(HLOOKUP($BP7,補助!$AW$2:$BE$9,3,FALSE))=TRUE,\"\",HLOOKUP($BP7,補助!$AW$2:$BE$9,3,FALSE))","v":""},{"$f":"IF(ISERROR(HLOOKUP($BQ7,補助!$AW$2:$BE$9,3,FALSE))=TRUE,\"\",HLOOKUP($BQ7,補助!$AW$2:$BE$9,3,FALSE))","v":""},{"$f":"IF(ISERROR(HLOOKUP($BR7,補助!$AW$2:$BE$9,3,FALSE))=TRUE,\"\",HLOOKUP($BR7,補助!$AW$2:$BE$9,3,FALSE))","v":""},{"$f":"IF(ISERROR(HLOOKUP($BS7,補助!$AW$2:$BE$9,3,FALSE))=TRUE,\"\",HLOOKUP($BS7,補助!$AW$2:$BE$9,3,FALSE))","v":""},{"$f":"IF(ISERROR(HLOOKUP($BT7,補助!$AW$2:$BE$9,3,FALSE))=TRUE,\"\",HLOOKUP($BT7,補助!$AW$2:$BE$9,3,FALSE))","v":""},{"$f":"IF(ISERROR(HLOOKUP($BU7,補助!$AW$2:$BE$9,3,FALSE))=TRUE,\"\",HLOOKUP($BU7,補助!$AW$2:$BE$9,3,FALSE))","v":""},{"$f":"IF(ISERROR(HLOOKUP($BV7,補助!$AW$2:$BE$9,3,FALSE))=TRUE,\"\",HLOOKUP($BV7,補助!$AW$2:$BE$9,3,FALSE))","v":""},{"$f":"IF(ISERROR(HLOOKUP($BW7,補助!$AW$2:$BE$9,3,FALSE))=TRUE,\"\",HLOOKUP($BW7,補助!$AW$2:$BE$9,3,FALSE))","v":9},{"$f":"IF(ISERROR(HLOOKUP($BX7,補助!$AW$2:$BE$9,3,FALSE))=TRUE,\"\",HLOOKUP($BX7,補助!$AW$2:$BE$9,3,FALSE))","v":8},{"$f":"IF(ISERROR(HLOOKUP($BY7,補助!$AW$2:$BE$9,3,FALSE))=TRUE,\"\",HLOOKUP($BY7,補助!$AW$2:$BE$9,3,FALSE))","v":7},{"$f":"IF(ISERROR(HLOOKUP($BZ7,補助!$AW$2:$BE$9,3,FALSE))=TRUE,\"\",HLOOKUP($BZ7,補助!$AW$2:$BE$9,3,FALSE))","v":3},"987"]
[null,null,null,null,null,null,null,null,null,null,null,null,null,null,null,null,null,null,null,null,null,null,null,null,null,null,null,null,null,null,null,null,null,null,null,null,null,null,null,null,null,null,null,null,null,null,null,null,null,null,null,null,null,null,null,null,null,null,null,null,null,null,null,null,null,null,null,null,null,null,null,{"$error":"#VALUE!"},"A3",null,{"$f":"IF(ISERROR(HLOOKUP($BP8,補助!$AW$2:$BE$9,3,FALSE))=TRUE,\"\",HLOOKUP($BP8,補助!$AW$2:$BE$9,3,FALSE))","v":""},{"$f":"IF(ISERROR(HLOOKUP($BQ8,補助!$AW$2:$BE$9,3,FALSE))=TRUE,\"\",HLOOKUP($BQ8,補助!$AW$2:$BE$9,3,FALSE))","v":""},{"$f":"IF(ISERROR(HLOOKUP($BR8,補助!$AW$2:$BE$9,3,FALSE))=TRUE,\"\",HLOOKUP($BR8,補助!$AW$2:$BE$9,3,FALSE))","v":""},{"$f":"IF(ISERROR(HLOOKUP($BS8,補助!$AW$2:$BE$9,3,FALSE))=TRUE,\"\",HLOOKUP($BS8,補助!$AW$2:$BE$9,3,FALSE))","v":""},{"$f":"IF(ISERROR(HLOOKUP($BT8,補助!$AW$2:$BE$9,3,FALSE))=TRUE,\"\",HLOOKUP($BT8,補助!$AW$2:$BE$9,3,FALSE))","v":""},{"$f":"IF(ISERROR(HLOOKUP($BU8,補助!$AW$2:$BE$9,3,FALSE))=TRUE,\"\",HLOOKUP($BU8,補助!$AW$2:$BE$9,3,FALSE))","v":""},{"$f":"IF(ISERROR(HLOOKUP($BV8,補助!$AW$2:$BE$9,3,FALSE))=TRUE,\"\",HLOOKUP($BV8,補助!$AW$2:$BE$9,3,FALSE))","v":""},{"$f":"IF(ISERROR(HLOOKUP($BW8,補助!$AW$2:$BE$9,3,FALSE))=TRUE,\"\",HLOOKUP($BW8,補助!$AW$2:$BE$9,3,FALSE))","v":9},{"$f":"IF(ISERROR(HLOOKUP($BX8,補助!$AW$2:$BE$9,3,FALSE))=TRUE,\"\",HLOOKUP($BX8,補助!$AW$2:$BE$9,3,FALSE))","v":8},{"$f":"IF(ISERROR(HLOOKUP($BY8,補助!$AW$2:$BE$9,3,FALSE))=TRUE,\"\",HLOOKUP($BY8,補助!$AW$2:$BE$9,3,FALSE))","v":7},{"$f":"IF(ISERROR(HLOOKUP($BZ8,補助!$AW$2:$BE$9,3,FALSE))=TRUE,\"\",HLOOKUP($BZ8,補助!$AW$2:$BE$9,3,FALSE))","v":2},"987"]
[null,null,null,null,null,null,null,null,null,null,null,null,null,null,null,null,null,null,null,null,null,null,null,null,null,null,null,null,null,null,null,null,null,null,null,null,null,null,null,null,null,null,null,null,null,null,null,null,null,null,null,null,null,null,null,null,null,null,null,null,null,null,null,null,null,null,null,null,null,null,null,{"$error":"#VALUE!"},"A3",null,{"$f":"IF(ISERROR(HLOOKUP($BP9,補助!$AW$2:$BE$9,3,FALSE))=TRUE,\"\",HLOOKUP($BP9,補助!$AW$2:$BE$9,3,FALSE))","v":""},{"$f":"IF(ISERROR(HLOOKUP($BQ9,補助!$AW$2:$BE$9,3,FALSE))=TRUE,\"\",HLOOKUP($BQ9,補助!$AW$2:$BE$9,3,FALSE))","v":""},{"$f":"IF(ISERROR(HLOOKUP($BR9,補助!$AW$2:$BE$9,3,FALSE))=TRUE,\"\",HLOOKUP($BR9,補助!$AW$2:$BE$9,3,FALSE))","v":""},{"$f":"IF(ISERROR(HLOOKUP($BS9,補助!$AW$2:$BE$9,3,FALSE))=TRUE,\"\",HLOOKUP($BS9,補助!$AW$2:$BE$9,3,FALSE))","v":""},{"$f":"IF(ISERROR(HLOOKUP($BT9,補助!$AW$2:$BE$9,3,FALSE))=TRUE,\"\",HLOOKUP($BT9,補助!$AW$2:$BE$9,3,FALSE))","v":""},{"$f":"IF(ISERROR(HLOOKUP($BU9,補助!$AW$2:$BE$9,3,FALSE))=TRUE,\"\",HLOOKUP($BU9,補助!$AW$2:$BE$9,3,FALSE))","v":""},{"$f":"IF(ISERROR(HLOOKUP($BV9,補助!$AW$2:$BE$9,3,FALSE))=TRUE,\"\",HLOOKUP($BV9,補助!$AW$2:$BE$9,3,FALSE))","v":""},{"$f":"IF(ISERROR(HLOOKUP($BW9,補助!$AW$2:$BE$9,3,FALSE))=TRUE,\"\",HLOOKUP($BW9,補助!$AW$2:$BE$9,3,FALSE))","v":9},{"$f":"IF(ISERROR(HLOOKUP($BX9,補助!$AW$2:$BE$9,3,FALSE))=TRUE,\"\",HLOOKUP($BX9,補助!$AW$2:$BE$9,3,FALSE))","v":8},{"$f":"IF(ISERROR(HLOOKUP($BY9,補助!$AW$2:$BE$9,3,FALSE))=TRUE,\"\",HLOOKUP($BY9,補助!$AW$2:$BE$9,3,FALSE))","v":7},{"$f":"IF(ISERROR(HLOOKUP($BZ9,補助!$AW$2:$BE$9,3,FALSE))=TRUE,\"\",HLOOKUP($BZ9,補助!$AW$2:$BE$9,3,FALSE))","v":1},"987"]
[null,null,null,null,null,null,null,null,null,null,null,null,null,null,null,null,null,null,null,null,null,null,null,null,null,null,null,null,null,null,null,null,null,null,null,null,null,null,null,null,null,null,null,null,null,null,null,null,null,null,null,null,null,null,null,null,null,null,null,null,null,null,null,null,null,null,null,null,null,null,null,{"$error":"#VALUE!"},"A3",null,{"$f":"IF(ISERROR(HLOOKUP($BP10,補助!$AW$2:$BE$9,3,FALSE))=TRUE,\"\",HLOOKUP($BP10,補助!$AW$2:$BE$9,3,FALSE))","v":""},{"$f":"IF(ISERROR(HLOOKUP($BQ10,補助!$AW$2:$BE$9,3,FALSE))=TRUE,\"\",HLOOKUP($BQ10,補助!$AW$2:$BE$9,3,FALSE))","v":""},{"$f":"IF(ISERROR(HLOOKUP($BR10,補助!$AW$2:$BE$9,3,FALSE))=TRUE,\"\",HLOOKUP($BR10,補助!$AW$2:$BE$9,3,FALSE))","v":""},{"$f":"IF(ISERROR(HLOOKUP($BS10,補助!$AW$2:$BE$9,3,FALSE))=TRUE,\"\",HLOOKUP($BS10,補助!$AW$2:$BE$9,3,FALSE))","v":""},{"$f":"IF(ISERROR(HLOOKUP($BT10,補助!$AW$2:$BE$9,3,FALSE))=TRUE,\"\",HLOOKUP($BT10,補助!$AW$2:$BE$9,3,FALSE))","v":""},{"$f":"IF(ISERROR(HLOOKUP($BU10,補助!$AW$2:$BE$9,3,FALSE))=TRUE,\"\",HLOOKUP($BU10,補助!$AW$2:$BE$9,3,FALSE))","v":""},{"$f":"IF(ISERROR(HLOOKUP($BV10,補助!$AW$2:$BE$9,3,FALSE))=TRUE,\"\",HLOOKUP($BV10,補助!$AW$2:$BE$9,3,FALSE))","v":""},{"$f":"IF(ISERROR(HLOOKUP($BW10,補助!$AW$2:$BE$9,3,FALSE))=TRUE,\"\",HLOOKUP($BW10,補助!$AW$2:$BE$9,3,FALSE))","v":9},{"$f":"IF(ISERROR(HLOOKUP($BX10,補助!$AW$2:$BE$9,3,FALSE))=TRUE,\"\",HLOOKUP($BX10,補助!$AW$2:$BE$9,3,FALSE))","v":8},{"$f":"IF(ISERROR(HLOOKUP($BY10,補助!$AW$2:$BE$9,3,FALSE))=TRUE,\"\",HLOOKUP($BY10,補助!$AW$2:$BE$9,3,FALSE))","v":4},{"$f":"IF(ISERROR(HLOOKUP($BZ10,補助!$AW$2:$BE$9,3,FALSE))=TRUE,\"\",HLOOKUP($BZ10,補助!$AW$2:$BE$9,3,FALSE))","v":7},"984"]
[null,null,null,null,null,null,null,null,null,null,null,null,null,null,null,null,null,null,null,null,null,null,null,null,null,null,null,null,null,null,null,null,null,null,null,null,null,null,null,null,null,null,null,null,null,null,null,null,null,null,null,null,null,null,null,null,null,null,null,null,null,null,null,null,null,null,null,null,null,null,null,{"$error":"#VALUE!"},"A3",null,{"$f":"IF(ISERROR(HLOOKUP($BP11,補助!$AW$2:$BE$9,3,FALSE))=TRUE,\"\",HLOOKUP($BP11,補助!$AW$2:$BE$9,3,FALSE))","v":""},{"$f":"IF(ISERROR(HLOOKUP($BQ11,補助!$AW$2:$BE$9,3,FALSE))=TRUE,\"\",HLOOKUP($BQ11,補助!$AW$2:$BE$9,3,FALSE))","v":""},{"$f":"IF(ISERROR(HLOOKUP($BR11,補助!$AW$2:$BE$9,3,FALSE))=TRUE,\"\",HLOOKUP($BR11,補助!$AW$2:$BE$9,3,FALSE))","v":""},{"$f":"IF(ISERROR(HLOOKUP($BS11,補助!$AW$2:$BE$9,3,FALSE))=TRUE,\"\",HLOOKUP($BS11,補助!$AW$2:$BE$9,3,FALSE))","v":""},{"$f":"IF(ISERROR(HLOOKUP($BT11,補助!$AW$2:$BE$9,3,FALSE))=TRUE,\"\",HLOOKUP($BT11,補助!$AW$2:$BE$9,3,FALSE))","v":""},{"$f":"IF(ISERROR(HLOOKUP($BU11,補助!$AW$2:$BE$9,3,FALSE))=TRUE,\"\",HLOOKUP($BU11,補助!$AW$2:$BE$9,3,FALSE))","v":""},{"$f":"IF(ISERROR(HLOOKUP($BV11,補助!$AW$2:$BE$9,3,FALSE))=TRUE,\"\",HLOOKUP($BV11,補助!$AW$2:$BE$9,3,FALSE))","v":""},{"$f":"IF(ISERROR(HLOOKUP($BW11,補助!$AW$2:$BE$9,3,FALSE))=TRUE,\"\",HLOOKUP($BW11,補助!$AW$2:$BE$9,3,FALSE))","v":9},{"$f":"IF(ISERROR(HLOOKUP($BX11,補助!$AW$2:$BE$9,3,FALSE))=TRUE,\"\",HLOOKUP($BX11,補助!$AW$2:$BE$9,3,FALSE))","v":8},{"$f":"IF(ISERROR(HLOOKUP($BY11,補助!$AW$2:$BE$9,3,FALSE))=TRUE,\"\",HLOOKUP($BY11,補助!$AW$2:$BE$9,3,FALSE))","v":4},{"$f":"IF(ISERROR(HLOOKUP($BZ11,補助!$AW$2:$BE$9,3,FALSE))=TRUE,\"\",HLOOKUP($BZ11,補助!$AW$2:$BE$9,3,FALSE))","v":6},"984"]
[null,null,null,null,null,null,null,null,null,null,null,null,null,null,null,null,null,null,null,null,null,null,null,null,null,null,null,null,null,null,null,null,null,null,null,null,null,null,null,null,null,null,null,null,null,null,null,null,null,null,null,null,null,null,null,null,null,null,null,null,null,null,null,null,null,null,null,null,null,null,null,{"$error":"#VALUE!"},"A3",null,{"$f":"IF(ISERROR(HLOOKUP($BP12,補助!$AW$2:$BE$9,3,FALSE))=TRUE,\"\",HLOOKUP($BP12,補助!$AW$2:$BE$9,3,FALSE))","v":""},{"$f":"IF(ISERROR(HLOOKUP($BQ12,補助!$AW$2:$BE$9,3,FALSE))=TRUE,\"\",HLOOKUP($BQ12,補助!$AW$2:$BE$9,3,FALSE))","v":""},{"$f":"IF(ISERROR(HLOOKUP($BR12,補助!$AW$2:$BE$9,3,FALSE))=TRUE,\"\",HLOOKUP($BR12,補助!$AW$2:$BE$9,3,FALSE))","v":""},{"$f":"IF(ISERROR(HLOOKUP($BS12,補助!$AW$2:$BE$9,3,FALSE))=TRUE,\"\",HLOOKUP($BS12,補助!$AW$2:$BE$9,3,FALSE))","v":""},{"$f":"IF(ISERROR(HLOOKUP($BT12,補助!$AW$2:$BE$9,3,FALSE))=TRUE,\"\",HLOOKUP($BT12,補助!$AW$2:$BE$9,3,FALSE))","v":""},{"$f":"IF(ISERROR(HLOOKUP($BU12,補助!$AW$2:$BE$9,3,FALSE))=TRUE,\"\",HLOOKUP($BU12,補助!$AW$2:$BE$9,3,FALSE))","v":""},{"$f":"IF(ISERROR(HLOOKUP($BV12,補助!$AW$2:$BE$9,3,FALSE))=TRUE,\"\",HLOOKUP($BV12,補助!$AW$2:$BE$9,3,FALSE))","v":""},{"$f":"IF(ISERROR(HLOOKUP($BW12,補助!$AW$2:$BE$9,3,FALSE))=TRUE,\"\",HLOOKUP($BW12,補助!$AW$2:$BE$9,3,FALSE))","v":9},{"$f":"IF(ISERROR(HLOOKUP($BX12,補助!$AW$2:$BE$9,3,FALSE))=TRUE,\"\",HLOOKUP($BX12,補助!$AW$2:$BE$9,3,FALSE))","v":8},{"$f":"IF(ISERROR(HLOOKUP($BY12,補助!$AW$2:$BE$9,3,FALSE))=TRUE,\"\",HLOOKUP($BY12,補助!$AW$2:$BE$9,3,FALSE))","v":4},{"$f":"IF(ISERROR(HLOOKUP($BZ12,補助!$AW$2:$BE$9,3,FALSE))=TRUE,\"\",HLOOKUP($BZ12,補助!$AW$2:$BE$9,3,FALSE))","v":3},"984"]
[null,null,null,null,null,null,null,null,null,null,null,null,null,null,null,null,null,null,null,null,null,null,null,null,null,null,null,null,null,null,null,null,null,null,null,null,null,null,null,null,null,null,null,null,null,null,null,null,null,null,null,null,null,null,null,null,null,null,null,null,null,null,null,null,null,null,null,null,null,null,null,{"$error":"#VALUE!"},"A3",null,{"$f":"IF(ISERROR(HLOOKUP($BP13,補助!$AW$2:$BE$9,3,FALSE))=TRUE,\"\",HLOOKUP($BP13,補助!$AW$2:$BE$9,3,FALSE))","v":""},{"$f":"IF(ISERROR(HLOOKUP($BQ13,補助!$AW$2:$BE$9,3,FALSE))=TRUE,\"\",HLOOKUP($BQ13,補助!$AW$2:$BE$9,3,FALSE))","v":""},{"$f":"IF(ISERROR(HLOOKUP($BR13,補助!$AW$2:$BE$9,3,FALSE))=TRUE,\"\",HLOOKUP($BR13,補助!$AW$2:$BE$9,3,FALSE))","v":""},{"$f":"IF(ISERROR(HLOOKUP($BS13,補助!$AW$2:$BE$9,3,FALSE))=TRUE,\"\",HLOOKUP($BS13,補助!$AW$2:$BE$9,3,FALSE))","v":""},{"$f":"IF(ISERROR(HLOOKUP($BT13,補助!$AW$2:$BE$9,3,FALSE))=TRUE,\"\",HLOOKUP($BT13,補助!$AW$2:$BE$9,3,FALSE))","v":""},{"$f":"IF(ISERROR(HLOOKUP($BU13,補助!$AW$2:$BE$9,3,FALSE))=TRUE,\"\",HLOOKUP($BU13,補助!$AW$2:$BE$9,3,FALSE))","v":""},{"$f":"IF(ISERROR(HLOOKUP($BV13,補助!$AW$2:$BE$9,3,FALSE))=TRUE,\"\",HLOOKUP($BV13,補助!$AW$2:$BE$9,3,FALSE))","v":""},{"$f":"IF(ISERROR(HLOOKUP($BW13,補助!$AW$2:$BE$9,3,FALSE))=TRUE,\"\",HLOOKUP($BW13,補助!$AW$2:$BE$9,3,FALSE))","v":9},{"$f":"IF(ISERROR(HLOOKUP($BX13,補助!$AW$2:$BE$9,3,FALSE))=TRUE,\"\",HLOOKUP($BX13,補助!$AW$2:$BE$9,3,FALSE))","v":8},{"$f":"IF(ISERROR(HLOOKUP($BY13,補助!$AW$2:$BE$9,3,FALSE))=TRUE,\"\",HLOOKUP($BY13,補助!$AW$2:$BE$9,3,FALSE))","v":4},{"$f":"IF(ISERROR(HLOOKUP($BZ13,補助!$AW$2:$BE$9,3,FALSE))=TRUE,\"\",HLOOKUP($BZ13,補助!$AW$2:$BE$9,3,FALSE))","v":2},"984"]
[null,null,null,null,null,null,null,null,null,null,null,null,null,null,null,null,null,null,null,null,null,null,null,null,null,null,null,null,null,null,null,null,null,null,null,null,null,null,null,null,null,null,null,null,null,null,null,null,null,null,null,null,null,null,null,null,null,null,null,null,null,null,null,null,null,null,null,null,null,null,null,{"$f":"IF($S$33=MID(CH130,1,$S$32),BT129+1,BT129)","v":{"$error":"#VALUE!"}},"A3",null,{"$f":"IF(ISERROR(HLOOKUP($BP14,補助!$AW$2:$BE$9,3,FALSE))=TRUE,\"\",HLOOKUP($BP14,補助!$AW$2:$BE$9,3,FALSE))","v":""},{"$f":"IF(ISERROR(HLOOKUP($BQ14,補助!$AW$2:$BE$9,3,FALSE))=TRUE,\"\",HLOOKUP($BQ14,補助!$AW$2:$BE$9,3,FALSE))","v":""},{"$f":"IF(ISERROR(HLOOKUP($BR14,補助!$AW$2:$BE$9,3,FALSE))=TRUE,\"\",HLOOKUP($BR14,補助!$AW$2:$BE$9,3,FALSE))","v":""},{"$f":"IF(ISERROR(HLOOKUP($BS14,補助!$AW$2:$BE$9,3,FALSE))=TRUE,\"\",HLOOKUP($BS14,補助!$AW$2:$BE$9,3,FALSE))","v":""},{"$f":"IF(ISERROR(HLOOKUP($BT14,補助!$AW$2:$BE$9,3,FALSE))=TRUE,\"\",HLOOKUP($BT14,補助!$AW$2:$BE$9,3,FALSE))","v":""},{"$f":"IF(ISERROR(HLOOKUP($BU14,補助!$AW$2:$BE$9,3,FALSE))=TRUE,\"\",HLOOKUP($BU14,補助!$AW$2:$BE$9,3,FALSE))","v":""},{"$f":"IF(ISERROR(HLOOKUP($BV14,補助!$AW$2:$BE$9,3,FALSE))=TRUE,\"\",HLOOKUP($BV14,補助!$AW$2:$BE$9,3,FALSE))","v":""},{"$f":"IF(ISERROR(HLOOKUP($BW14,補助!$AW$2:$BE$9,3,FALSE))=TRUE,\"\",HLOOKUP($BW14,補助!$AW$2:$BE$9,3,FALSE))","v":9},{"$f":"IF(ISERROR(HLOOKUP($BX14,補助!$AW$2:$BE$9,3,FALSE))=TRUE,\"\",HLOOKUP($BX14,補助!$AW$2:$BE$9,3,FALSE))","v":8},{"$f":"IF(ISERROR(HLOOKUP($BY14,補助!$AW$2:$BE$9,3,FALSE))=TRUE,\"\",HLOOKUP($BY14,補助!$AW$2:$BE$9,3,FALSE))","v":4},{"$f":"IF(ISERROR(HLOOKUP($BZ14,補助!$AW$2:$BE$9,3,FALSE))=TRUE,\"\",HLOOKUP($BZ14,補助!$AW$2:$BE$9,3,FALSE))","v":1},{"$f":"BW130&BX130&BY130&BZ130&CA130&CB130&CC130&CD130&CE130&CF130","v":"984"}]
[null,null,null,null,null,null,null,null,null,null,null,null,null,null,null,null,null,null,null,null,null,null,null,null,null,null,null,null,null,null,null,null,null,null,null,null,null,null,null,null,null,null,null,null,null,null,null,null,null,null,null,null,null,null,null,null,null,null,null,null,null,null,null,null,null,null,null,null,null,null,null,{"$error":"#VALUE!"},"A3","白",{"$f":"IF(ISERROR(HLOOKUP($BP15,補助!$AW$2:$BE$9,3,FALSE))=TRUE,\"\",HLOOKUP($BP15,補助!$AW$2:$BE$9,3,FALSE))","v":""},{"$f":"IF(ISERROR(HLOOKUP($BQ15,補助!$AW$2:$BE$9,3,FALSE))=TRUE,\"\",HLOOKUP($BQ15,補助!$AW$2:$BE$9,3,FALSE))","v":""},{"$f":"IF(ISERROR(HLOOKUP($BR15,補助!$AW$2:$BE$9,3,FALSE))=TRUE,\"\",HLOOKUP($BR15,補助!$AW$2:$BE$9,3,FALSE))","v":""},{"$f":"IF(ISERROR(HLOOKUP($BS15,補助!$AW$2:$BE$9,3,FALSE))=TRUE,\"\",HLOOKUP($BS15,補助!$AW$2:$BE$9,3,FALSE))","v":""},{"$f":"IF(ISERROR(HLOOKUP($BT15,補助!$AW$2:$BE$9,3,FALSE))=TRUE,\"\",HLOOKUP($BT15,補助!$AW$2:$BE$9,3,FALSE))","v":""},{"$f":"IF(ISERROR(HLOOKUP($BU15,補助!$AW$2:$BE$9,3,FALSE))=TRUE,\"\",HLOOKUP($BU15,補助!$AW$2:$BE$9,3,FALSE))","v":""},{"$f":"IF(ISERROR(HLOOKUP($BV15,補助!$AW$2:$BE$9,3,FALSE))=TRUE,\"\",HLOOKUP($BV15,補助!$AW$2:$BE$9,3,FALSE))","v":""},{"$f":"IF(ISERROR(HLOOKUP($BW15,補助!$AW$2:$BE$9,3,FALSE))=TRUE,\"\",HLOOKUP($BW15,補助!$AW$2:$BE$9,3,FALSE))","v":9},{"$f":"IF(ISERROR(HLOOKUP($BX15,補助!$AW$2:$BE$9,3,FALSE))=TRUE,\"\",HLOOKUP($BX15,補助!$AW$2:$BE$9,3,FALSE))","v":8},{"$f":"IF(ISERROR(HLOOKUP($BY15,補助!$AW$2:$BE$9,3,FALSE))=TRUE,\"\",HLOOKUP($BY15,補助!$AW$2:$BE$9,3,FALSE))","v":4},{"$f":"IF(ISERROR(HLOOKUP($BZ15,補助!$AW$2:$BE$9,3,FALSE))=TRUE,\"\",HLOOKUP($BZ15,補助!$AW$2:$BE$9,3,FALSE))","v":5},"984"]
[null,null,null,null,null,null,null,null,null,null,null,null,null,null,null,null,null,null,null,null,null,null,null,null,null,null,null,null,null,null,null,null,null,null,null,null,null,null,null,null,null,null,null,null,null,null,null,null,null,null,null,null,null,null,null,null,null,null,null,null,null,null,null,null,null,null,null,null,null,null,null,{"$error":"#VALUE!"},"A3",null,{"$f":"IF(ISERROR(HLOOKUP($BP16,補助!$AW$2:$BE$9,3,FALSE))=TRUE,\"\",HLOOKUP($BP16,補助!$AW$2:$BE$9,3,FALSE))","v":""},{"$f":"IF(ISERROR(HLOOKUP($BQ16,補助!$AW$2:$BE$9,3,FALSE))=TRUE,\"\",HLOOKUP($BQ16,補助!$AW$2:$BE$9,3,FALSE))","v":""},{"$f":"IF(ISERROR(HLOOKUP($BR16,補助!$AW$2:$BE$9,3,FALSE))=TRUE,\"\",HLOOKUP($BR16,補助!$AW$2:$BE$9,3,FALSE))","v":""},{"$f":"IF(ISERROR(HLOOKUP($BS16,補助!$AW$2:$BE$9,3,FALSE))=TRUE,\"\",HLOOKUP($BS16,補助!$AW$2:$BE$9,3,FALSE))","v":""},{"$f":"IF(ISERROR(HLOOKUP($BT16,補助!$AW$2:$BE$9,3,FALSE))=TRUE,\"\",HLOOKUP($BT16,補助!$AW$2:$BE$9,3,FALSE))","v":""},{"$f":"IF(ISERROR(HLOOKUP($BU16,補助!$AW$2:$BE$9,3,FALSE))=TRUE,\"\",HLOOKUP($BU16,補助!$AW$2:$BE$9,3,FALSE))","v":""},{"$f":"IF(ISERROR(HLOOKUP($BV16,補助!$AW$2:$BE$9,3,FALSE))=TRUE,\"\",HLOOKUP($BV16,補助!$AW$2:$BE$9,3,FALSE))","v":""},{"$f":"IF(ISERROR(HLOOKUP($BW16,補助!$AW$2:$BE$9,3,FALSE))=TRUE,\"\",HLOOKUP($BW16,補助!$AW$2:$BE$9,3,FALSE))","v":9},{"$f":"IF(ISERROR(HLOOKUP($BX16,補助!$AW$2:$BE$9,3,FALSE))=TRUE,\"\",HLOOKUP($BX16,補助!$AW$2:$BE$9,3,FALSE))","v":8},{"$f":"IF(ISERROR(HLOOKUP($BY16,補助!$AW$2:$BE$9,3,FALSE))=TRUE,\"\",HLOOKUP($BY16,補助!$AW$2:$BE$9,3,FALSE))","v":2},{"$f":"IF(ISERROR(HLOOKUP($BZ16,補助!$AW$2:$BE$9,3,FALSE))=TRUE,\"\",HLOOKUP($BZ16,補助!$AW$2:$BE$9,3,FALSE))","v":7},"982"]
[null,null,null,null,null,null,null,null,null,null,null,null,null,null,null,null,null,null,null,null,null,null,null,null,null,null,null,null,null,null,null,null,null,null,null,null,null,null,null,null,null,null,null,null,null,null,null,null,null,null,null,null,null,null,null,null,null,null,null,null,null,null,null,null,null,null,null,null,null,null,null,{"$error":"#VALUE!"},"A3",null,{"$f":"IF(ISERROR(HLOOKUP($BP17,補助!$AW$2:$BE$9,3,FALSE))=TRUE,\"\",HLOOKUP($BP17,補助!$AW$2:$BE$9,3,FALSE))","v":""},{"$f":"IF(ISERROR(HLOOKUP($BQ17,補助!$AW$2:$BE$9,3,FALSE))=TRUE,\"\",HLOOKUP($BQ17,補助!$AW$2:$BE$9,3,FALSE))","v":""},{"$f":"IF(ISERROR(HLOOKUP($BR17,補助!$AW$2:$BE$9,3,FALSE))=TRUE,\"\",HLOOKUP($BR17,補助!$AW$2:$BE$9,3,FALSE))","v":""},{"$f":"IF(ISERROR(HLOOKUP($BS17,補助!$AW$2:$BE$9,3,FALSE))=TRUE,\"\",HLOOKUP($BS17,補助!$AW$2:$BE$9,3,FALSE))","v":""},{"$f":"IF(ISERROR(HLOOKUP($BT17,補助!$AW$2:$BE$9,3,FALSE))=TRUE,\"\",HLOOKUP($BT17,補助!$AW$2:$BE$9,3,FALSE))","v":""},{"$f":"IF(ISERROR(HLOOKUP($BU17,補助!$AW$2:$BE$9,3,FALSE))=TRUE,\"\",HLOOKUP($BU17,補助!$AW$2:$BE$9,3,FALSE))","v":""},{"$f":"IF(ISERROR(HLOOKUP($BV17,補助!$AW$2:$BE$9,3,FALSE))=TRUE,\"\",HLOOKUP($BV17,補助!$AW$2:$BE$9,3,FALSE))","v":""},{"$f":"IF(ISERROR(HLOOKUP($BW17,補助!$AW$2:$BE$9,3,FALSE))=TRUE,\"\",HLOOKUP($BW17,補助!$AW$2:$BE$9,3,FALSE))","v":9},{"$f":"IF(ISERROR(HLOOKUP($BX17,補助!$AW$2:$BE$9,3,FALSE))=TRUE,\"\",HLOOKUP($BX17,補助!$AW$2:$BE$9,3,FALSE))","v":8},{"$f":"IF(ISERROR(HLOOKUP($BY17,補助!$AW$2:$BE$9,3,FALSE))=TRUE,\"\",HLOOKUP($BY17,補助!$AW$2:$BE$9,3,FALSE))","v":2},{"$f":"IF(ISERROR(HLOOKUP($BZ17,補助!$AW$2:$BE$9,3,FALSE))=TRUE,\"\",HLOOKUP($BZ17,補助!$AW$2:$BE$9,3,FALSE))","v":6},"982"]
[null,null,null,null,null,null,null,null,null,null,null,null,null,null,null,null,null,null,null,null,null,null,null,null,null,null,null,null,null,null,null,null,null,null,null,null,null,null,null,null,null,null,null,null,null,null,null,null,null,null,null,null,null,null,null,null,null,null,null,null,null,null,null,null,null,null,null,null,null,null,null,{"$error":"#VALUE!"},"A3",null,{"$f":"IF(ISERROR(HLOOKUP($BP18,補助!$AW$2:$BE$9,3,FALSE))=TRUE,\"\",HLOOKUP($BP18,補助!$AW$2:$BE$9,3,FALSE))","v":""},{"$f":"IF(ISERROR(HLOOKUP($BQ18,補助!$AW$2:$BE$9,3,FALSE))=TRUE,\"\",HLOOKUP($BQ18,補助!$AW$2:$BE$9,3,FALSE))","v":""},{"$f":"IF(ISERROR(HLOOKUP($BR18,補助!$AW$2:$BE$9,3,FALSE))=TRUE,\"\",HLOOKUP($BR18,補助!$AW$2:$BE$9,3,FALSE))","v":""},{"$f":"IF(ISERROR(HLOOKUP($BS18,補助!$AW$2:$BE$9,3,FALSE))=TRUE,\"\",HLOOKUP($BS18,補助!$AW$2:$BE$9,3,FALSE))","v":""},{"$f":"IF(ISERROR(HLOOKUP($BT18,補助!$AW$2:$BE$9,3,FALSE))=TRUE,\"\",HLOOKUP($BT18,補助!$AW$2:$BE$9,3,FALSE))","v":""},{"$f":"IF(ISERROR(HLOOKUP($BU18,補助!$AW$2:$BE$9,3,FALSE))=TRUE,\"\",HLOOKUP($BU18,補助!$AW$2:$BE$9,3,FALSE))","v":""},{"$f":"IF(ISERROR(HLOOKUP($BV18,補助!$AW$2:$BE$9,3,FALSE))=TRUE,\"\",HLOOKUP($BV18,補助!$AW$2:$BE$9,3,FALSE))","v":""},{"$f":"IF(ISERROR(HLOOKUP($BW18,補助!$AW$2:$BE$9,3,FALSE))=TRUE,\"\",HLOOKUP($BW18,補助!$AW$2:$BE$9,3,FALSE))","v":9},{"$f":"IF(ISERROR(HLOOKUP($BX18,補助!$AW$2:$BE$9,3,FALSE))=TRUE,\"\",HLOOKUP($BX18,補助!$AW$2:$BE$9,3,FALSE))","v":8},{"$f":"IF(ISERROR(HLOOKUP($BY18,補助!$AW$2:$BE$9,3,FALSE))=TRUE,\"\",HLOOKUP($BY18,補助!$AW$2:$BE$9,3,FALSE))","v":2},{"$f":"IF(ISERROR(HLOOKUP($BZ18,補助!$AW$2:$BE$9,3,FALSE))=TRUE,\"\",HLOOKUP($BZ18,補助!$AW$2:$BE$9,3,FALSE))","v":5},"982"]
[null,null,null,null,null,null,null,null,null,null,null,null,null,null,null,null,null,null,null,null,null,null,null,null,null,null,null,null,null,null,null,null,null,null,null,null,null,null,null,null,null,null,null,null,null,null,null,null,null,null,null,null,null,null,null,null,null,null,null,null,null,null,null,null,null,null,null,null,null,null,null,{"$error":"#VALUE!"},"A3",null,{"$f":"IF(ISERROR(HLOOKUP($BP19,補助!$AW$2:$BE$9,3,FALSE))=TRUE,\"\",HLOOKUP($BP19,補助!$AW$2:$BE$9,3,FALSE))","v":""},{"$f":"IF(ISERROR(HLOOKUP($BQ19,補助!$AW$2:$BE$9,3,FALSE))=TRUE,\"\",HLOOKUP($BQ19,補助!$AW$2:$BE$9,3,FALSE))","v":""},{"$f":"IF(ISERROR(HLOOKUP($BR19,補助!$AW$2:$BE$9,3,FALSE))=TRUE,\"\",HLOOKUP($BR19,補助!$AW$2:$BE$9,3,FALSE))","v":""},{"$f":"IF(ISERROR(HLOOKUP($BS19,補助!$AW$2:$BE$9,3,FALSE))=TRUE,\"\",HLOOKUP($BS19,補助!$AW$2:$BE$9,3,FALSE))","v":""},{"$f":"IF(ISERROR(HLOOKUP($BT19,補助!$AW$2:$BE$9,3,FALSE))=TRUE,\"\",HLOOKUP($BT19,補助!$AW$2:$BE$9,3,FALSE))","v":""},{"$f":"IF(ISERROR(HLOOKUP($BU19,補助!$AW$2:$BE$9,3,FALSE))=TRUE,\"\",HLOOKUP($BU19,補助!$AW$2:$BE$9,3,FALSE))","v":""},{"$f":"IF(ISERROR(HLOOKUP($BV19,補助!$AW$2:$BE$9,3,FALSE))=TRUE,\"\",HLOOKUP($BV19,補助!$AW$2:$BE$9,3,FALSE))","v":""},{"$f":"IF(ISERROR(HLOOKUP($BW19,補助!$AW$2:$BE$9,3,FALSE))=TRUE,\"\",HLOOKUP($BW19,補助!$AW$2:$BE$9,3,FALSE))","v":9},{"$f":"IF(ISERROR(HLOOKUP($BX19,補助!$AW$2:$BE$9,3,FALSE))=TRUE,\"\",HLOOKUP($BX19,補助!$AW$2:$BE$9,3,FALSE))","v":8},{"$f":"IF(ISERROR(HLOOKUP($BY19,補助!$AW$2:$BE$9,3,FALSE))=TRUE,\"\",HLOOKUP($BY19,補助!$AW$2:$BE$9,3,FALSE))","v":2},{"$f":"IF(ISERROR(HLOOKUP($BZ19,補助!$AW$2:$BE$9,3,FALSE))=TRUE,\"\",HLOOKUP($BZ19,補助!$AW$2:$BE$9,3,FALSE))","v":4},"982"]
[null,null,null,null,null,null,null,null,null,null,null,null,null,null,null,null,null,null,null,null,null,null,null,null,null,null,null,null,null,null,null,null,null,null,null,null,null,null,null,null,null,null,null,null,null,null,null,null,null,null,null,null,null,null,null,null,null,null,null,null,null,null,null,null,null,null,null,null,null,null,null,{"$error":"#VALUE!"},"A3",null,{"$f":"IF(ISERROR(HLOOKUP($BP20,補助!$AW$2:$BE$9,3,FALSE))=TRUE,\"\",HLOOKUP($BP20,補助!$AW$2:$BE$9,3,FALSE))","v":""},{"$f":"IF(ISERROR(HLOOKUP($BQ20,補助!$AW$2:$BE$9,3,FALSE))=TRUE,\"\",HLOOKUP($BQ20,補助!$AW$2:$BE$9,3,FALSE))","v":""},{"$f":"IF(ISERROR(HLOOKUP($BR20,補助!$AW$2:$BE$9,3,FALSE))=TRUE,\"\",HLOOKUP($BR20,補助!$AW$2:$BE$9,3,FALSE))","v":""},{"$f":"IF(ISERROR(HLOOKUP($BS20,補助!$AW$2:$BE$9,3,FALSE))=TRUE,\"\",HLOOKUP($BS20,補助!$AW$2:$BE$9,3,FALSE))","v":""},{"$f":"IF(ISERROR(HLOOKUP($BT20,補助!$AW$2:$BE$9,3,FALSE))=TRUE,\"\",HLOOKUP($BT20,補助!$AW$2:$BE$9,3,FALSE))","v":""},{"$f":"IF(ISERROR(HLOOKUP($BU20,補助!$AW$2:$BE$9,3,FALSE))=TRUE,\"\",HLOOKUP($BU20,補助!$AW$2:$BE$9,3,FALSE))","v":""},{"$f":"IF(ISERROR(HLOOKUP($BV20,補助!$AW$2:$BE$9,3,FALSE))=TRUE,\"\",HLOOKUP($BV20,補助!$AW$2:$BE$9,3,FALSE))","v":""},{"$f":"IF(ISERROR(HLOOKUP($BW20,補助!$AW$2:$BE$9,3,FALSE))=TRUE,\"\",HLOOKUP($BW20,補助!$AW$2:$BE$9,3,FALSE))","v":9},{"$f":"IF(ISERROR(HLOOKUP($BX20,補助!$AW$2:$BE$9,3,FALSE))=TRUE,\"\",HLOOKUP($BX20,補助!$AW$2:$BE$9,3,FALSE))","v":8},{"$f":"IF(ISERROR(HLOOKUP($BY20,補助!$AW$2:$BE$9,3,FALSE))=TRUE,\"\",HLOOKUP($BY20,補助!$AW$2:$BE$9,3,FALSE))","v":2},{"$f":"IF(ISERROR(HLOOKUP($BZ20,補助!$AW$2:$BE$9,3,FALSE))=TRUE,\"\",HLOOKUP($BZ20,補助!$AW$2:$BE$9,3,FALSE))","v":1},"982"]
[null,null,null,null,null,null,null,null,null,null,null,null,null,null,null,null,null,null,null,null,null,null,null,null,null,null,null,null,null,null,null,null,null,null,null,null,null,null,null,null,null,null,null,null,null,null,null,null,null,null,null,null,null,null,null,null,null,null,null,null,null,null,null,null,null,null,null,null,null,null,null,{"$error":"#VALUE!"},"A3",null,{"$f":"IF(ISERROR(HLOOKUP($BP21,補助!$AW$2:$BE$9,3,FALSE))=TRUE,\"\",HLOOKUP($BP21,補助!$AW$2:$BE$9,3,FALSE))","v":""},{"$f":"IF(ISERROR(HLOOKUP($BQ21,補助!$AW$2:$BE$9,3,FALSE))=TRUE,\"\",HLOOKUP($BQ21,補助!$AW$2:$BE$9,3,FALSE))","v":""},{"$f":"IF(ISERROR(HLOOKUP($BR21,補助!$AW$2:$BE$9,3,FALSE))=TRUE,\"\",HLOOKUP($BR21,補助!$AW$2:$BE$9,3,FALSE))","v":""},{"$f":"IF(ISERROR(HLOOKUP($BS21,補助!$AW$2:$BE$9,3,FALSE))=TRUE,\"\",HLOOKUP($BS21,補助!$AW$2:$BE$9,3,FALSE))","v":""},{"$f":"IF(ISERROR(HLOOKUP($BT21,補助!$AW$2:$BE$9,3,FALSE))=TRUE,\"\",HLOOKUP($BT21,補助!$AW$2:$BE$9,3,FALSE))","v":""},{"$f":"IF(ISERROR(HLOOKUP($BU21,補助!$AW$2:$BE$9,3,FALSE))=TRUE,\"\",HLOOKUP($BU21,補助!$AW$2:$BE$9,3,FALSE))","v":""},{"$f":"IF(ISERROR(HLOOKUP($BV21,補助!$AW$2:$BE$9,3,FALSE))=TRUE,\"\",HLOOKUP($BV21,補助!$AW$2:$BE$9,3,FALSE))","v":""},{"$f":"IF(ISERROR(HLOOKUP($BW21,補助!$AW$2:$BE$9,3,FALSE))=TRUE,\"\",HLOOKUP($BW21,補助!$AW$2:$BE$9,3,FALSE))","v":9},{"$f":"IF(ISERROR(HLOOKUP($BX21,補助!$AW$2:$BE$9,3,FALSE))=TRUE,\"\",HLOOKUP($BX21,補助!$AW$2:$BE$9,3,FALSE))","v":8},{"$f":"IF(ISERROR(HLOOKUP($BY21,補助!$AW$2:$BE$9,3,FALSE))=TRUE,\"\",HLOOKUP($BY21,補助!$AW$2:$BE$9,3,FALSE))","v":2},{"$f":"IF(ISERROR(HLOOKUP($BZ21,補助!$AW$2:$BE$9,3,FALSE))=TRUE,\"\",HLOOKUP($BZ21,補助!$AW$2:$BE$9,3,FALSE))","v":1},"982"]
[null,null,null,null,null,null,null,null,null,null,null,null,null,null,null,null,null,null,null,null,null,null,null,null,null,null,null,null,null,null,null,null,null,null,null,null,null,null,null,null,null,null,null,null,null,null,null,null,null,null,null,null,null,null,null,null,null,null,null,null,null,null,null,null,null,null,null,null,null,null,null,{"$error":"#VALUE!"},"A3",null,{"$f":"IF(ISERROR(HLOOKUP($BP22,補助!$AW$2:$BE$9,3,FALSE))=TRUE,\"\",HLOOKUP($BP22,補助!$AW$2:$BE$9,3,FALSE))","v":""},{"$f":"IF(ISERROR(HLOOKUP($BQ22,補助!$AW$2:$BE$9,3,FALSE))=TRUE,\"\",HLOOKUP($BQ22,補助!$AW$2:$BE$9,3,FALSE))","v":""},{"$f":"IF(ISERROR(HLOOKUP($BR22,補助!$AW$2:$BE$9,3,FALSE))=TRUE,\"\",HLOOKUP($BR22,補助!$AW$2:$BE$9,3,FALSE))","v":""},{"$f":"IF(ISERROR(HLOOKUP($BS22,補助!$AW$2:$BE$9,3,FALSE))=TRUE,\"\",HLOOKUP($BS22,補助!$AW$2:$BE$9,3,FALSE))","v":""},{"$f":"IF(ISERROR(HLOOKUP($BT22,補助!$AW$2:$BE$9,3,FALSE))=TRUE,\"\",HLOOKUP($BT22,補助!$AW$2:$BE$9,3,FALSE))","v":""},{"$f":"IF(ISERROR(HLOOKUP($BU22,補助!$AW$2:$BE$9,3,FALSE))=TRUE,\"\",HLOOKUP($BU22,補助!$AW$2:$BE$9,3,FALSE))","v":""},{"$f":"IF(ISERROR(HLOOKUP($BV22,補助!$AW$2:$BE$9,3,FALSE))=TRUE,\"\",HLOOKUP($BV22,補助!$AW$2:$BE$9,3,FALSE))","v":""},{"$f":"IF(ISERROR(HLOOKUP($BW22,補助!$AW$2:$BE$9,3,FALSE))=TRUE,\"\",HLOOKUP($BW22,補助!$AW$2:$BE$9,3,FALSE))","v":9},{"$f":"IF(ISERROR(HLOOKUP($BX22,補助!$AW$2:$BE$9,3,FALSE))=TRUE,\"\",HLOOKUP($BX22,補助!$AW$2:$BE$9,3,FALSE))","v":7},{"$f":"IF(ISERROR(HLOOKUP($BY22,補助!$AW$2:$BE$9,3,FALSE))=TRUE,\"\",HLOOKUP($BY22,補助!$AW$2:$BE$9,3,FALSE))","v":6},{"$f":"IF(ISERROR(HLOOKUP($BZ22,補助!$AW$2:$BE$9,3,FALSE))=TRUE,\"\",HLOOKUP($BZ22,補助!$AW$2:$BE$9,3,FALSE))","v":""},"976"]
[null,null,null,null,null,null,null,null,null,null,null,null,null,null,null,null,null,null,null,null,null,null,null,null,null,null,null,null,null,null,null,null,null,null,null,null,null,null,null,null,null,null,null,null,null,null,null,null,null,null,null,null,null,null,null,null,null,null,null,null,null,null,null,null,null,null,null,null,null,null,null,{"$error":"#VALUE!"},"A3",null,{"$f":"IF(ISERROR(HLOOKUP($BP23,補助!$AW$2:$BE$9,3,FALSE))=TRUE,\"\",HLOOKUP($BP23,補助!$AW$2:$BE$9,3,FALSE))","v":""},{"$f":"IF(ISERROR(HLOOKUP($BQ23,補助!$AW$2:$BE$9,3,FALSE))=TRUE,\"\",HLOOKUP($BQ23,補助!$AW$2:$BE$9,3,FALSE))","v":""},{"$f":"IF(ISERROR(HLOOKUP($BR23,補助!$AW$2:$BE$9,3,FALSE))=TRUE,\"\",HLOOKUP($BR23,補助!$AW$2:$BE$9,3,FALSE))","v":""},{"$f":"IF(ISERROR(HLOOKUP($BS23,補助!$AW$2:$BE$9,3,FALSE))=TRUE,\"\",HLOOKUP($BS23,補助!$AW$2:$BE$9,3,FALSE))","v":""},{"$f":"IF(ISERROR(HLOOKUP($BT23,補助!$AW$2:$BE$9,3,FALSE))=TRUE,\"\",HLOOKUP($BT23,補助!$AW$2:$BE$9,3,FALSE))","v":""},{"$f":"IF(ISERROR(HLOOKUP($BU23,補助!$AW$2:$BE$9,3,FALSE))=TRUE,\"\",HLOOKUP($BU23,補助!$AW$2:$BE$9,3,FALSE))","v":""},{"$f":"IF(ISERROR(HLOOKUP($BV23,補助!$AW$2:$BE$9,3,FALSE))=TRUE,\"\",HLOOKUP($BV23,補助!$AW$2:$BE$9,3,FALSE))","v":""},{"$f":"IF(ISERROR(HLOOKUP($BW23,補助!$AW$2:$BE$9,3,FALSE))=TRUE,\"\",HLOOKUP($BW23,補助!$AW$2:$BE$9,3,FALSE))","v":9},{"$f":"IF(ISERROR(HLOOKUP($BX23,補助!$AW$2:$BE$9,3,FALSE))=TRUE,\"\",HLOOKUP($BX23,補助!$AW$2:$BE$9,3,FALSE))","v":7},{"$f":"IF(ISERROR(HLOOKUP($BY23,補助!$AW$2:$BE$9,3,FALSE))=TRUE,\"\",HLOOKUP($BY23,補助!$AW$2:$BE$9,3,FALSE))","v":3},{"$f":"IF(ISERROR(HLOOKUP($BZ23,補助!$AW$2:$BE$9,3,FALSE))=TRUE,\"\",HLOOKUP($BZ23,補助!$AW$2:$BE$9,3,FALSE))","v":""},"973"]
[null,null,null,null,null,null,null,null,null,null,null,null,null,null,null,null,null,null,null,null,null,null,null,null,null,null,null,null,null,null,null,null,null,null,null,null,null,null,null,null,null,null,null,null,null,null,null,null,null,null,null,null,null,null,null,null,null,null,null,null,null,null,null,null,null,null,null,null,null,null,null,{"$error":"#VALUE!"},"A3",null,{"$f":"IF(ISERROR(HLOOKUP($BP24,補助!$AW$2:$BE$9,3,FALSE))=TRUE,\"\",HLOOKUP($BP24,補助!$AW$2:$BE$9,3,FALSE))","v":""},{"$f":"IF(ISERROR(HLOOKUP($BQ24,補助!$AW$2:$BE$9,3,FALSE))=TRUE,\"\",HLOOKUP($BQ24,補助!$AW$2:$BE$9,3,FALSE))","v":""},{"$f":"IF(ISERROR(HLOOKUP($BR24,補助!$AW$2:$BE$9,3,FALSE))=TRUE,\"\",HLOOKUP($BR24,補助!$AW$2:$BE$9,3,FALSE))","v":""},{"$f":"IF(ISERROR(HLOOKUP($BS24,補助!$AW$2:$BE$9,3,FALSE))=TRUE,\"\",HLOOKUP($BS24,補助!$AW$2:$BE$9,3,FALSE))","v":""},{"$f":"IF(ISERROR(HLOOKUP($BT24,補助!$AW$2:$BE$9,3,FALSE))=TRUE,\"\",HLOOKUP($BT24,補助!$AW$2:$BE$9,3,FALSE))","v":""},{"$f":"IF(ISERROR(HLOOKUP($BU24,補助!$AW$2:$BE$9,3,FALSE))=TRUE,\"\",HLOOKUP($BU24,補助!$AW$2:$BE$9,3,FALSE))","v":""},{"$f":"IF(ISERROR(HLOOKUP($BV24,補助!$AW$2:$BE$9,3,FALSE))=TRUE,\"\",HLOOKUP($BV24,補助!$AW$2:$BE$9,3,FALSE))","v":""},{"$f":"IF(ISERROR(HLOOKUP($BW24,補助!$AW$2:$BE$9,3,FALSE))=TRUE,\"\",HLOOKUP($BW24,補助!$AW$2:$BE$9,3,FALSE))","v":9},{"$f":"IF(ISERROR(HLOOKUP($BX24,補助!$AW$2:$BE$9,3,FALSE))=TRUE,\"\",HLOOKUP($BX24,補助!$AW$2:$BE$9,3,FALSE))","v":7},{"$f":"IF(ISERROR(HLOOKUP($BY24,補助!$AW$2:$BE$9,3,FALSE))=TRUE,\"\",HLOOKUP($BY24,補助!$AW$2:$BE$9,3,FALSE))","v":1},{"$f":"IF(ISERROR(HLOOKUP($BZ24,補助!$AW$2:$BE$9,3,FALSE))=TRUE,\"\",HLOOKUP($BZ24,補助!$AW$2:$BE$9,3,FALSE))","v":""},"971"]
[null,null,null,null,null,null,null,null,null,null,null,null,null,null,null,null,null,null,null,null,null,null,null,null,null,null,null,null,null,null,null,null,null,null,null,null,null,null,null,null,null,null,null,null,null,null,null,null,null,null,null,null,null,null,null,null,null,null,null,null,null,null,null,null,null,null,null,null,null,null,null,{"$error":"#VALUE!"},"A3",null,{"$f":"IF(ISERROR(HLOOKUP($BP25,補助!$AW$2:$BE$9,3,FALSE))=TRUE,\"\",HLOOKUP($BP25,補助!$AW$2:$BE$9,3,FALSE))","v":""},{"$f":"IF(ISERROR(HLOOKUP($BQ25,補助!$AW$2:$BE$9,3,FALSE))=TRUE,\"\",HLOOKUP($BQ25,補助!$AW$2:$BE$9,3,FALSE))","v":""},{"$f":"IF(ISERROR(HLOOKUP($BR25,補助!$AW$2:$BE$9,3,FALSE))=TRUE,\"\",HLOOKUP($BR25,補助!$AW$2:$BE$9,3,FALSE))","v":""},{"$f":"IF(ISERROR(HLOOKUP($BS25,補助!$AW$2:$BE$9,3,FALSE))=TRUE,\"\",HLOOKUP($BS25,補助!$AW$2:$BE$9,3,FALSE))","v":""},{"$f":"IF(ISERROR(HLOOKUP($BT25,補助!$AW$2:$BE$9,3,FALSE))=TRUE,\"\",HLOOKUP($BT25,補助!$AW$2:$BE$9,3,FALSE))","v":""},{"$f":"IF(ISERROR(HLOOKUP($BU25,補助!$AW$2:$BE$9,3,FALSE))=TRUE,\"\",HLOOKUP($BU25,補助!$AW$2:$BE$9,3,FALSE))","v":""},{"$f":"IF(ISERROR(HLOOKUP($BV25,補助!$AW$2:$BE$9,3,FALSE))=TRUE,\"\",HLOOKUP($BV25,補助!$AW$2:$BE$9,3,FALSE))","v":""},{"$f":"IF(ISERROR(HLOOKUP($BW25,補助!$AW$2:$BE$9,3,FALSE))=TRUE,\"\",HLOOKUP($BW25,補助!$AW$2:$BE$9,3,FALSE))","v":9},{"$f":"IF(ISERROR(HLOOKUP($BX25,補助!$AW$2:$BE$9,3,FALSE))=TRUE,\"\",HLOOKUP($BX25,補助!$AW$2:$BE$9,3,FALSE))","v":7},{"$f":"IF(ISERROR(HLOOKUP($BY25,補助!$AW$2:$BE$9,3,FALSE))=TRUE,\"\",HLOOKUP($BY25,補助!$AW$2:$BE$9,3,FALSE))","v":8},{"$f":"IF(ISERROR(HLOOKUP($BZ25,補助!$AW$2:$BE$9,3,FALSE))=TRUE,\"\",HLOOKUP($BZ25,補助!$AW$2:$BE$9,3,FALSE))","v":6},"978"]
[null,null,null,null,null,null,null,null,null,null,null,null,null,null,null,null,null,null,null,null,null,null,null,null,null,null,null,null,null,null,null,null,null,null,null,null,null,null,null,null,null,null,null,null,null,null,null,null,null,null,null,null,null,null,null,null,null,null,null,null,null,null,null,null,null,null,null,null,null,null,null,{"$error":"#VALUE!"},"A3",null,{"$f":"IF(ISERROR(HLOOKUP($BP26,補助!$AW$2:$BE$9,3,FALSE))=TRUE,\"\",HLOOKUP($BP26,補助!$AW$2:$BE$9,3,FALSE))","v":""},{"$f":"IF(ISERROR(HLOOKUP($BQ26,補助!$AW$2:$BE$9,3,FALSE))=TRUE,\"\",HLOOKUP($BQ26,補助!$AW$2:$BE$9,3,FALSE))","v":""},{"$f":"IF(ISERROR(HLOOKUP($BR26,補助!$AW$2:$BE$9,3,FALSE))=TRUE,\"\",HLOOKUP($BR26,補助!$AW$2:$BE$9,3,FALSE))","v":""},{"$f":"IF(ISERROR(HLOOKUP($BS26,補助!$AW$2:$BE$9,3,FALSE))=TRUE,\"\",HLOOKUP($BS26,補助!$AW$2:$BE$9,3,FALSE))","v":""},{"$f":"IF(ISERROR(HLOOKUP($BT26,補助!$AW$2:$BE$9,3,FALSE))=TRUE,\"\",HLOOKUP($BT26,補助!$AW$2:$BE$9,3,FALSE))","v":""},{"$f":"IF(ISERROR(HLOOKUP($BU26,補助!$AW$2:$BE$9,3,FALSE))=TRUE,\"\",HLOOKUP($BU26,補助!$AW$2:$BE$9,3,FALSE))","v":""},{"$f":"IF(ISERROR(HLOOKUP($BV26,補助!$AW$2:$BE$9,3,FALSE))=TRUE,\"\",HLOOKUP($BV26,補助!$AW$2:$BE$9,3,FALSE))","v":""},{"$f":"IF(ISERROR(HLOOKUP($BW26,補助!$AW$2:$BE$9,3,FALSE))=TRUE,\"\",HLOOKUP($BW26,補助!$AW$2:$BE$9,3,FALSE))","v":9},{"$f":"IF(ISERROR(HLOOKUP($BX26,補助!$AW$2:$BE$9,3,FALSE))=TRUE,\"\",HLOOKUP($BX26,補助!$AW$2:$BE$9,3,FALSE))","v":7},{"$f":"IF(ISERROR(HLOOKUP($BY26,補助!$AW$2:$BE$9,3,FALSE))=TRUE,\"\",HLOOKUP($BY26,補助!$AW$2:$BE$9,3,FALSE))","v":8},{"$f":"IF(ISERROR(HLOOKUP($BZ26,補助!$AW$2:$BE$9,3,FALSE))=TRUE,\"\",HLOOKUP($BZ26,補助!$AW$2:$BE$9,3,FALSE))","v":3},"978"]
[null,null,null,null,null,null,null,null,null,null,null,null,null,null,null,null,null,null,null,null,null,null,null,null,null,null,null,null,null,null,null,null,null,null,null,null,null,null,null,null,null,null,null,null,null,null,null,null,null,null,null,null,null,null,null,null,null,null,null,null,null,null,null,null,null,null,null,null,null,null,null,{"$error":"#VALUE!"},"A3","白",{"$f":"IF(ISERROR(HLOOKUP($BP27,補助!$AW$2:$BE$9,3,FALSE))=TRUE,\"\",HLOOKUP($BP27,補助!$AW$2:$BE$9,3,FALSE))","v":""},{"$f":"IF(ISERROR(HLOOKUP($BQ27,補助!$AW$2:$BE$9,3,FALSE))=TRUE,\"\",HLOOKUP($BQ27,補助!$AW$2:$BE$9,3,FALSE))","v":""},{"$f":"IF(ISERROR(HLOOKUP($BR27,補助!$AW$2:$BE$9,3,FALSE))=TRUE,\"\",HLOOKUP($BR27,補助!$AW$2:$BE$9,3,FALSE))","v":""},{"$f":"IF(ISERROR(HLOOKUP($BS27,補助!$AW$2:$BE$9,3,FALSE))=TRUE,\"\",HLOOKUP($BS27,補助!$AW$2:$BE$9,3,FALSE))","v":""},{"$f":"IF(ISERROR(HLOOKUP($BT27,補助!$AW$2:$BE$9,3,FALSE))=TRUE,\"\",HLOOKUP($BT27,補助!$AW$2:$BE$9,3,FALSE))","v":""},{"$f":"IF(ISERROR(HLOOKUP($BU27,補助!$AW$2:$BE$9,3,FALSE))=TRUE,\"\",HLOOKUP($BU27,補助!$AW$2:$BE$9,3,FALSE))","v":""},{"$f":"IF(ISERROR(HLOOKUP($BV27,補助!$AW$2:$BE$9,3,FALSE))=TRUE,\"\",HLOOKUP($BV27,補助!$AW$2:$BE$9,3,FALSE))","v":""},{"$f":"IF(ISERROR(HLOOKUP($BW27,補助!$AW$2:$BE$9,3,FALSE))=TRUE,\"\",HLOOKUP($BW27,補助!$AW$2:$BE$9,3,FALSE))","v":9},{"$f":"IF(ISERROR(HLOOKUP($BX27,補助!$AW$2:$BE$9,3,FALSE))=TRUE,\"\",HLOOKUP($BX27,補助!$AW$2:$BE$9,3,FALSE))","v":7},{"$f":"IF(ISERROR(HLOOKUP($BY27,補助!$AW$2:$BE$9,3,FALSE))=TRUE,\"\",HLOOKUP($BY27,補助!$AW$2:$BE$9,3,FALSE))","v":8},{"$f":"IF(ISERROR(HLOOKUP($BZ27,補助!$AW$2:$BE$9,3,FALSE))=TRUE,\"\",HLOOKUP($BZ27,補助!$AW$2:$BE$9,3,FALSE))","v":4},"978"]
[null,null,null,null,null,null,null,null,null,null,null,null,null,null,null,null,null,null,null,null,null,null,null,null,null,null,null,null,null,null,null,null,null,null,null,null,null,null,null,null,null,null,null,null,null,null,null,null,null,null,null,null,null,null,null,null,null,null,null,null,null,null,null,null,null,null,null,null,null,null,null,{"$error":"#VALUE!"},"A3","白",{"$f":"IF(ISERROR(HLOOKUP($BP28,補助!$AW$2:$BE$9,3,FALSE))=TRUE,\"\",HLOOKUP($BP28,補助!$AW$2:$BE$9,3,FALSE))","v":""},{"$f":"IF(ISERROR(HLOOKUP($BQ28,補助!$AW$2:$BE$9,3,FALSE))=TRUE,\"\",HLOOKUP($BQ28,補助!$AW$2:$BE$9,3,FALSE))","v":""},{"$f":"IF(ISERROR(HLOOKUP($BR28,補助!$AW$2:$BE$9,3,FALSE))=TRUE,\"\",HLOOKUP($BR28,補助!$AW$2:$BE$9,3,FALSE))","v":""},{"$f":"IF(ISERROR(HLOOKUP($BS28,補助!$AW$2:$BE$9,3,FALSE))=TRUE,\"\",HLOOKUP($BS28,補助!$AW$2:$BE$9,3,FALSE))","v":""},{"$f":"IF(ISERROR(HLOOKUP($BT28,補助!$AW$2:$BE$9,3,FALSE))=TRUE,\"\",HLOOKUP($BT28,補助!$AW$2:$BE$9,3,FALSE))","v":""},{"$f":"IF(ISERROR(HLOOKUP($BU28,補助!$AW$2:$BE$9,3,FALSE))=TRUE,\"\",HLOOKUP($BU28,補助!$AW$2:$BE$9,3,FALSE))","v":""},{"$f":"IF(ISERROR(HLOOKUP($BV28,補助!$AW$2:$BE$9,3,FALSE))=TRUE,\"\",HLOOKUP($BV28,補助!$AW$2:$BE$9,3,FALSE))","v":""},{"$f":"IF(ISERROR(HLOOKUP($BW28,補助!$AW$2:$BE$9,3,FALSE))=TRUE,\"\",HLOOKUP($BW28,補助!$AW$2:$BE$9,3,FALSE))","v":9},{"$f":"IF(ISERROR(HLOOKUP($BX28,補助!$AW$2:$BE$9,3,FALSE))=TRUE,\"\",HLOOKUP($BX28,補助!$AW$2:$BE$9,3,FALSE))","v":7},{"$f":"IF(ISERROR(HLOOKUP($BY28,補助!$AW$2:$BE$9,3,FALSE))=TRUE,\"\",HLOOKUP($BY28,補助!$AW$2:$BE$9,3,FALSE))","v":8},{"$f":"IF(ISERROR(HLOOKUP($BZ28,補助!$AW$2:$BE$9,3,FALSE))=TRUE,\"\",HLOOKUP($BZ28,補助!$AW$2:$BE$9,3,FALSE))","v":1},"978"]
[null,null,null,null,null,null,null,null,null,null,null,null,null,null,null,null,null,null,null,null,null,null,null,null,null,null,null,null,null,null,null,null,null,null,null,null,null,null,null,null,null,null,null,null,null,null,null,null,null,null,null,null,null,null,null,null,null,null,null,null,null,null,null,null,null,null,null,null,null,null,null,{"$error":"#VALUE!"},"A3",null,{"$f":"IF(ISERROR(HLOOKUP($BP29,補助!$AW$2:$BE$9,3,FALSE))=TRUE,\"\",HLOOKUP($BP29,補助!$AW$2:$BE$9,3,FALSE))","v":""},{"$f":"IF(ISERROR(HLOOKUP($BQ29,補助!$AW$2:$BE$9,3,FALSE))=TRUE,\"\",HLOOKUP($BQ29,補助!$AW$2:$BE$9,3,FALSE))","v":""},{"$f":"IF(ISERROR(HLOOKUP($BR29,補助!$AW$2:$BE$9,3,FALSE))=TRUE,\"\",HLOOKUP($BR29,補助!$AW$2:$BE$9,3,FALSE))","v":""},{"$f":"IF(ISERROR(HLOOKUP($BS29,補助!$AW$2:$BE$9,3,FALSE))=TRUE,\"\",HLOOKUP($BS29,補助!$AW$2:$BE$9,3,FALSE))","v":""},{"$f":"IF(ISERROR(HLOOKUP($BT29,補助!$AW$2:$BE$9,3,FALSE))=TRUE,\"\",HLOOKUP($BT29,補助!$AW$2:$BE$9,3,FALSE))","v":""},{"$f":"IF(ISERROR(HLOOKUP($BU29,補助!$AW$2:$BE$9,3,FALSE))=TRUE,\"\",HLOOKUP($BU29,補助!$AW$2:$BE$9,3,FALSE))","v":""},{"$f":"IF(ISERROR(HLOOKUP($BV29,補助!$AW$2:$BE$9,3,FALSE))=TRUE,\"\",HLOOKUP($BV29,補助!$AW$2:$BE$9,3,FALSE))","v":""},{"$f":"IF(ISERROR(HLOOKUP($BW29,補助!$AW$2:$BE$9,3,FALSE))=TRUE,\"\",HLOOKUP($BW29,補助!$AW$2:$BE$9,3,FALSE))","v":9},{"$f":"IF(ISERROR(HLOOKUP($BX29,補助!$AW$2:$BE$9,3,FALSE))=TRUE,\"\",HLOOKUP($BX29,補助!$AW$2:$BE$9,3,FALSE))","v":7},{"$f":"IF(ISERROR(HLOOKUP($BY29,補助!$AW$2:$BE$9,3,FALSE))=TRUE,\"\",HLOOKUP($BY29,補助!$AW$2:$BE$9,3,FALSE))","v":2},{"$f":"IF(ISERROR(HLOOKUP($BZ29,補助!$AW$2:$BE$9,3,FALSE))=TRUE,\"\",HLOOKUP($BZ29,補助!$AW$2:$BE$9,3,FALSE))","v":8},"972"]
[null,null,null,null,null,null,null,null,null,null,null,null,null,null,null,null,null,null,null,null,null,null,null,null,null,null,null,null,null,null,null,null,null,null,null,null,null,null,null,null,null,null,null,null,null,null,null,null,null,null,null,null,null,null,null,null,null,null,null,null,null,null,null,null,null,null,null,null,null,null,null,{"$error":"#VALUE!"},"A3",null,{"$f":"IF(ISERROR(HLOOKUP($BP30,補助!$AW$2:$BE$9,3,FALSE))=TRUE,\"\",HLOOKUP($BP30,補助!$AW$2:$BE$9,3,FALSE))","v":""},{"$f":"IF(ISERROR(HLOOKUP($BQ30,補助!$AW$2:$BE$9,3,FALSE))=TRUE,\"\",HLOOKUP($BQ30,補助!$AW$2:$BE$9,3,FALSE))","v":""},{"$f":"IF(ISERROR(HLOOKUP($BR30,補助!$AW$2:$BE$9,3,FALSE))=TRUE,\"\",HLOOKUP($BR30,補助!$AW$2:$BE$9,3,FALSE))","v":""},{"$f":"IF(ISERROR(HLOOKUP($BS30,補助!$AW$2:$BE$9,3,FALSE))=TRUE,\"\",HLOOKUP($BS30,補助!$AW$2:$BE$9,3,FALSE))","v":""},{"$f":"IF(ISERROR(HLOOKUP($BT30,補助!$AW$2:$BE$9,3,FALSE))=TRUE,\"\",HLOOKUP($BT30,補助!$AW$2:$BE$9,3,FALSE))","v":""},{"$f":"IF(ISERROR(HLOOKUP($BU30,補助!$AW$2:$BE$9,3,FALSE))=TRUE,\"\",HLOOKUP($BU30,補助!$AW$2:$BE$9,3,FALSE))","v":""},{"$f":"IF(ISERROR(HLOOKUP($BV30,補助!$AW$2:$BE$9,3,FALSE))=TRUE,\"\",HLOOKUP($BV30,補助!$AW$2:$BE$9,3,FALSE))","v":""},{"$f":"IF(ISERROR(HLOOKUP($BW30,補助!$AW$2:$BE$9,3,FALSE))=TRUE,\"\",HLOOKUP($BW30,補助!$AW$2:$BE$9,3,FALSE))","v":9},{"$f":"IF(ISERROR(HLOOKUP($BX30,補助!$AW$2:$BE$9,3,FALSE))=TRUE,\"\",HLOOKUP($BX30,補助!$AW$2:$BE$9,3,FALSE))","v":7},{"$f":"IF(ISERROR(HLOOKUP($BY30,補助!$AW$2:$BE$9,3,FALSE))=TRUE,\"\",HLOOKUP($BY30,補助!$AW$2:$BE$9,3,FALSE))","v":2},{"$f":"IF(ISERROR(HLOOKUP($BZ30,補助!$AW$2:$BE$9,3,FALSE))=TRUE,\"\",HLOOKUP($BZ30,補助!$AW$2:$BE$9,3,FALSE))","v":6},"972"]
[null,null,null,null,null,null,null,null,null,null,null,null,null,null,null,null,null,null,null,null,null,null,null,null,null,null,null,null,null,null,null,null,null,null,null,null,null,null,null,null,null,null,null,null,null,null,null,null,null,null,null,null,null,null,null,null,null,null,null,null,null,null,null,null,null,null,null,null,null,null,null,{"$error":"#VALUE!"},"A3",null,{"$f":"IF(ISERROR(HLOOKUP($BP31,補助!$AW$2:$BE$9,3,FALSE))=TRUE,\"\",HLOOKUP($BP31,補助!$AW$2:$BE$9,3,FALSE))","v":""},{"$f":"IF(ISERROR(HLOOKUP($BQ31,補助!$AW$2:$BE$9,3,FALSE))=TRUE,\"\",HLOOKUP($BQ31,補助!$AW$2:$BE$9,3,FALSE))","v":""},{"$f":"IF(ISERROR(HLOOKUP($BR31,補助!$AW$2:$BE$9,3,FALSE))=TRUE,\"\",HLOOKUP($BR31,補助!$AW$2:$BE$9,3,FALSE))","v":""},{"$f":"IF(ISERROR(HLOOKUP($BS31,補助!$AW$2:$BE$9,3,FALSE))=TRUE,\"\",HLOOKUP($BS31,補助!$AW$2:$BE$9,3,FALSE))","v":""},{"$f":"IF(ISERROR(HLOOKUP($BT31,補助!$AW$2:$BE$9,3,FALSE))=TRUE,\"\",HLOOKUP($BT31,補助!$AW$2:$BE$9,3,FALSE))","v":""},{"$f":"IF(ISERROR(HLOOKUP($BU31,補助!$AW$2:$BE$9,3,FALSE))=TRUE,\"\",HLOOKUP($BU31,補助!$AW$2:$BE$9,3,FALSE))","v":""},{"$f":"IF(ISERROR(HLOOKUP($BV31,補助!$AW$2:$BE$9,3,FALSE))=TRUE,\"\",HLOOKUP($BV31,補助!$AW$2:$BE$9,3,FALSE))","v":""},{"$f":"IF(ISERROR(HLOOKUP($BW31,補助!$AW$2:$BE$9,3,FALSE))=TRUE,\"\",HLOOKUP($BW31,補助!$AW$2:$BE$9,3,FALSE))","v":9},{"$f":"IF(ISERROR(HLOOKUP($BX31,補助!$AW$2:$BE$9,3,FALSE))=TRUE,\"\",HLOOKUP($BX31,補助!$AW$2:$BE$9,3,FALSE))","v":7},{"$f":"IF(ISERROR(HLOOKUP($BY31,補助!$AW$2:$BE$9,3,FALSE))=TRUE,\"\",HLOOKUP($BY31,補助!$AW$2:$BE$9,3,FALSE))","v":2},{"$f":"IF(ISERROR(HLOOKUP($BZ31,補助!$AW$2:$BE$9,3,FALSE))=TRUE,\"\",HLOOKUP($BZ31,補助!$AW$2:$BE$9,3,FALSE))","v":5},"972"]
[null,null,null,null,null,null,null,null,null,null,null,null,null,null,null,null,null,null,null,null,null,null,null,null,null,null,null,null,null,null,null,null,null,null,null,null,null,null,null,null,null,null,null,null,null,null,null,null,null,null,null,null,null,null,null,null,null,null,null,null,null,null,null,null,null,null,null,null,null,null,null,{"$error":"#VALUE!"},"A3",null,{"$f":"IF(ISERROR(HLOOKUP($BP32,補助!$AW$2:$BE$9,3,FALSE))=TRUE,\"\",HLOOKUP($BP32,補助!$AW$2:$BE$9,3,FALSE))","v":""},{"$f":"IF(ISERROR(HLOOKUP($BQ32,補助!$AW$2:$BE$9,3,FALSE))=TRUE,\"\",HLOOKUP($BQ32,補助!$AW$2:$BE$9,3,FALSE))","v":""},{"$f":"IF(ISERROR(HLOOKUP($BR32,補助!$AW$2:$BE$9,3,FALSE))=TRUE,\"\",HLOOKUP($BR32,補助!$AW$2:$BE$9,3,FALSE))","v":""},{"$f":"IF(ISERROR(HLOOKUP($BS32,補助!$AW$2:$BE$9,3,FALSE))=TRUE,\"\",HLOOKUP($BS32,補助!$AW$2:$BE$9,3,FALSE))","v":""},{"$f":"IF(ISERROR(HLOOKUP($BT32,補助!$AW$2:$BE$9,3,FALSE))=TRUE,\"\",HLOOKUP($BT32,補助!$AW$2:$BE$9,3,FALSE))","v":""},{"$f":"IF(ISERROR(HLOOKUP($BU32,補助!$AW$2:$BE$9,3,FALSE))=TRUE,\"\",HLOOKUP($BU32,補助!$AW$2:$BE$9,3,FALSE))","v":""},{"$f":"IF(ISERROR(HLOOKUP($BV32,補助!$AW$2:$BE$9,3,FALSE))=TRUE,\"\",HLOOKUP($BV32,補助!$AW$2:$BE$9,3,FALSE))","v":""},{"$f":"IF(ISERROR(HLOOKUP($BW32,補助!$AW$2:$BE$9,3,FALSE))=TRUE,\"\",HLOOKUP($BW32,補助!$AW$2:$BE$9,3,FALSE))","v":9},{"$f":"IF(ISERROR(HLOOKUP($BX32,補助!$AW$2:$BE$9,3,FALSE))=TRUE,\"\",HLOOKUP($BX32,補助!$AW$2:$BE$9,3,FALSE))","v":7},{"$f":"IF(ISERROR(HLOOKUP($BY32,補助!$AW$2:$BE$9,3,FALSE))=TRUE,\"\",HLOOKUP($BY32,補助!$AW$2:$BE$9,3,FALSE))","v":2},{"$f":"IF(ISERROR(HLOOKUP($BZ32,補助!$AW$2:$BE$9,3,FALSE))=TRUE,\"\",HLOOKUP($BZ32,補助!$AW$2:$BE$9,3,FALSE))","v":4},"972"]
[null,null,null,null,null,null,null,null,null,null,null,null,null,null,null,null,null,null,null,null,null,null,null,null,null,null,null,null,null,null,null,null,null,null,null,null,null,null,null,null,null,null,null,null,null,null,null,null,null,null,null,null,null,null,null,null,null,null,null,null,null,null,null,null,null,null,null,null,null,null,null,{"$error":"#VALUE!"},"A3",null,{"$f":"IF(ISERROR(HLOOKUP($BP33,補助!$AW$2:$BE$9,3,FALSE))=TRUE,\"\",HLOOKUP($BP33,補助!$AW$2:$BE$9,3,FALSE))","v":""},{"$f":"IF(ISERROR(HLOOKUP($BQ33,補助!$AW$2:$BE$9,3,FALSE))=TRUE,\"\",HLOOKUP($BQ33,補助!$AW$2:$BE$9,3,FALSE))","v":""},{"$f":"IF(ISERROR(HLOOKUP($BR33,補助!$AW$2:$BE$9,3,FALSE))=TRUE,\"\",HLOOKUP($BR33,補助!$AW$2:$BE$9,3,FALSE))","v":""},{"$f":"IF(ISERROR(HLOOKUP($BS33,補助!$AW$2:$BE$9,3,FALSE))=TRUE,\"\",HLOOKUP($BS33,補助!$AW$2:$BE$9,3,FALSE))","v":""},{"$f":"IF(ISERROR(HLOOKUP($BT33,補助!$AW$2:$BE$9,3,FALSE))=TRUE,\"\",HLOOKUP($BT33,補助!$AW$2:$BE$9,3,FALSE))","v":""},{"$f":"IF(ISERROR(HLOOKUP($BU33,補助!$AW$2:$BE$9,3,FALSE))=TRUE,\"\",HLOOKUP($BU33,補助!$AW$2:$BE$9,3,FALSE))","v":""},{"$f":"IF(ISERROR(HLOOKUP($BV33,補助!$AW$2:$BE$9,3,FALSE))=TRUE,\"\",HLOOKUP($BV33,補助!$AW$2:$BE$9,3,FALSE))","v":""},{"$f":"IF(ISERROR(HLOOKUP($BW33,補助!$AW$2:$BE$9,3,FALSE))=TRUE,\"\",HLOOKUP($BW33,補助!$AW$2:$BE$9,3,FALSE))","v":9},{"$f":"IF(ISERROR(HLOOKUP($BX33,補助!$AW$2:$BE$9,3,FALSE))=TRUE,\"\",HLOOKUP($BX33,補助!$AW$2:$BE$9,3,FALSE))","v":7},{"$f":"IF(ISERROR(HLOOKUP($BY33,補助!$AW$2:$BE$9,3,FALSE))=TRUE,\"\",HLOOKUP($BY33,補助!$AW$2:$BE$9,3,FALSE))","v":2},{"$f":"IF(ISERROR(HLOOKUP($BZ33,補助!$AW$2:$BE$9,3,FALSE))=TRUE,\"\",HLOOKUP($BZ33,補助!$AW$2:$BE$9,3,FALSE))","v":3},"972"]
[null,null,null,null,null,null,null,null,null,null,null,null,null,null,null,null,null,null,null,null,null,null,null,null,null,null,null,null,null,null,null,null,null,null,null,null,null,null,null,null,null,null,null,null,null,null,null,null,null,null,null,null,null,null,null,null,null,null,null,null,null,null,null,null,null,null,null,null,null,null,null,{"$error":"#VALUE!"},"A3",null,{"$f":"IF(ISERROR(HLOOKUP($BP34,補助!$AW$2:$BE$9,3,FALSE))=TRUE,\"\",HLOOKUP($BP34,補助!$AW$2:$BE$9,3,FALSE))","v":""},{"$f":"IF(ISERROR(HLOOKUP($BQ34,補助!$AW$2:$BE$9,3,FALSE))=TRUE,\"\",HLOOKUP($BQ34,補助!$AW$2:$BE$9,3,FALSE))","v":""},{"$f":"IF(ISERROR(HLOOKUP($BR34,補助!$AW$2:$BE$9,3,FALSE))=TRUE,\"\",HLOOKUP($BR34,補助!$AW$2:$BE$9,3,FALSE))","v":""},{"$f":"IF(ISERROR(HLOOKUP($BS34,補助!$AW$2:$BE$9,3,FALSE))=TRUE,\"\",HLOOKUP($BS34,補助!$AW$2:$BE$9,3,FALSE))","v":""},{"$f":"IF(ISERROR(HLOOKUP($BT34,補助!$AW$2:$BE$9,3,FALSE))=TRUE,\"\",HLOOKUP($BT34,補助!$AW$2:$BE$9,3,FALSE))","v":""},{"$f":"IF(ISERROR(HLOOKUP($BU34,補助!$AW$2:$BE$9,3,FALSE))=TRUE,\"\",HLOOKUP($BU34,補助!$AW$2:$BE$9,3,FALSE))","v":""},{"$f":"IF(ISERROR(HLOOKUP($BV34,補助!$AW$2:$BE$9,3,FALSE))=TRUE,\"\",HLOOKUP($BV34,補助!$AW$2:$BE$9,3,FALSE))","v":""},{"$f":"IF(ISERROR(HLOOKUP($BW34,補助!$AW$2:$BE$9,3,FALSE))=TRUE,\"\",HLOOKUP($BW34,補助!$AW$2:$BE$9,3,FALSE))","v":9},{"$f":"IF(ISERROR(HLOOKUP($BX34,補助!$AW$2:$BE$9,3,FALSE))=TRUE,\"\",HLOOKUP($BX34,補助!$AW$2:$BE$9,3,FALSE))","v":7},{"$f":"IF(ISERROR(HLOOKUP($BY34,補助!$AW$2:$BE$9,3,FALSE))=TRUE,\"\",HLOOKUP($BY34,補助!$AW$2:$BE$9,3,FALSE))","v":4},{"$f":"IF(ISERROR(HLOOKUP($BZ34,補助!$AW$2:$BE$9,3,FALSE))=TRUE,\"\",HLOOKUP($BZ34,補助!$AW$2:$BE$9,3,FALSE))","v":8},"974"]
[null,null,null,null,null,null,null,null,null,null,null,null,null,null,null,null,null,null,null,null,null,null,null,null,null,null,null,null,null,null,null,null,null,null,null,null,null,null,null,null,null,null,null,null,null,null,null,null,null,null,null,null,null,null,null,null,null,null,null,null,null,null,null,null,null,null,null,null,null,null,null,{"$error":"#VALUE!"},"A3",null,{"$f":"IF(ISERROR(HLOOKUP($BP35,補助!$AW$2:$BE$9,3,FALSE))=TRUE,\"\",HLOOKUP($BP35,補助!$AW$2:$BE$9,3,FALSE))","v":""},{"$f":"IF(ISERROR(HLOOKUP($BQ35,補助!$AW$2:$BE$9,3,FALSE))=TRUE,\"\",HLOOKUP($BQ35,補助!$AW$2:$BE$9,3,FALSE))","v":""},{"$f":"IF(ISERROR(HLOOKUP($BR35,補助!$AW$2:$BE$9,3,FALSE))=TRUE,\"\",HLOOKUP($BR35,補助!$AW$2:$BE$9,3,FALSE))","v":""},{"$f":"IF(ISERROR(HLOOKUP($BS35,補助!$AW$2:$BE$9,3,FALSE))=TRUE,\"\",HLOOKUP($BS35,補助!$AW$2:$BE$9,3,FALSE))","v":""},{"$f":"IF(ISERROR(HLOOKUP($BT35,補助!$AW$2:$BE$9,3,FALSE))=TRUE,\"\",HLOOKUP($BT35,補助!$AW$2:$BE$9,3,FALSE))","v":""},{"$f":"IF(ISERROR(HLOOKUP($BU35,補助!$AW$2:$BE$9,3,FALSE))=TRUE,\"\",HLOOKUP($BU35,補助!$AW$2:$BE$9,3,FALSE))","v":""},{"$f":"IF(ISERROR(HLOOKUP($BV35,補助!$AW$2:$BE$9,3,FALSE))=TRUE,\"\",HLOOKUP($BV35,補助!$AW$2:$BE$9,3,FALSE))","v":""},{"$f":"IF(ISERROR(HLOOKUP($BW35,補助!$AW$2:$BE$9,3,FALSE))=TRUE,\"\",HLOOKUP($BW35,補助!$AW$2:$BE$9,3,FALSE))","v":9},{"$f":"IF(ISERROR(HLOOKUP($BX35,補助!$AW$2:$BE$9,3,FALSE))=TRUE,\"\",HLOOKUP($BX35,補助!$AW$2:$BE$9,3,FALSE))","v":7},{"$f":"IF(ISERROR(HLOOKUP($BY35,補助!$AW$2:$BE$9,3,FALSE))=TRUE,\"\",HLOOKUP($BY35,補助!$AW$2:$BE$9,3,FALSE))","v":4},{"$f":"IF(ISERROR(HLOOKUP($BZ35,補助!$AW$2:$BE$9,3,FALSE))=TRUE,\"\",HLOOKUP($BZ35,補助!$AW$2:$BE$9,3,FALSE))","v":2},"974"]
[null,null,null,null,null,null,null,null,null,null,null,null,null,null,null,null,null,null,null,null,null,null,null,null,null,null,null,null,null,null,null,null,null,null,null,null,null,null,null,null,null,null,null,null,null,null,null,null,null,null,null,null,null,null,null,null,null,null,null,null,null,null,null,null,null,null,null,null,null,null,null,{"$error":"#VALUE!"},"A3",null,{"$f":"IF(ISERROR(HLOOKUP($BP36,補助!$AW$2:$BE$9,3,FALSE))=TRUE,\"\",HLOOKUP($BP36,補助!$AW$2:$BE$9,3,FALSE))","v":""},{"$f":"IF(ISERROR(HLOOKUP($BQ36,補助!$AW$2:$BE$9,3,FALSE))=TRUE,\"\",HLOOKUP($BQ36,補助!$AW$2:$BE$9,3,FALSE))","v":""},{"$f":"IF(ISERROR(HLOOKUP($BR36,補助!$AW$2:$BE$9,3,FALSE))=TRUE,\"\",HLOOKUP($BR36,補助!$AW$2:$BE$9,3,FALSE))","v":""},{"$f":"IF(ISERROR(HLOOKUP($BS36,補助!$AW$2:$BE$9,3,FALSE))=TRUE,\"\",HLOOKUP($BS36,補助!$AW$2:$BE$9,3,FALSE))","v":""},{"$f":"IF(ISERROR(HLOOKUP($BT36,補助!$AW$2:$BE$9,3,FALSE))=TRUE,\"\",HLOOKUP($BT36,補助!$AW$2:$BE$9,3,FALSE))","v":""},{"$f":"IF(ISERROR(HLOOKUP($BU36,補助!$AW$2:$BE$9,3,FALSE))=TRUE,\"\",HLOOKUP($BU36,補助!$AW$2:$BE$9,3,FALSE))","v":""},{"$f":"IF(ISERROR(HLOOKUP($BV36,補助!$AW$2:$BE$9,3,FALSE))=TRUE,\"\",HLOOKUP($BV36,補助!$AW$2:$BE$9,3,FALSE))","v":""},{"$f":"IF(ISERROR(HLOOKUP($BW36,補助!$AW$2:$BE$9,3,FALSE))=TRUE,\"\",HLOOKUP($BW36,補助!$AW$2:$BE$9,3,FALSE))","v":9},{"$f":"IF(ISERROR(HLOOKUP($BX36,補助!$AW$2:$BE$9,3,FALSE))=TRUE,\"\",HLOOKUP($BX36,補助!$AW$2:$BE$9,3,FALSE))","v":7},{"$f":"IF(ISERROR(HLOOKUP($BY36,補助!$AW$2:$BE$9,3,FALSE))=TRUE,\"\",HLOOKUP($BY36,補助!$AW$2:$BE$9,3,FALSE))","v":4},{"$f":"IF(ISERROR(HLOOKUP($BZ36,補助!$AW$2:$BE$9,3,FALSE))=TRUE,\"\",HLOOKUP($BZ36,補助!$AW$2:$BE$9,3,FALSE))","v":1},"974"]
[null,null,null,null,null,null,null,null,null,null,null,null,null,null,null,null,null,null,null,null,null,null,null,null,null,null,null,null,null,null,null,null,null,null,null,null,null,null,null,null,null,null,null,null,null,null,null,null,null,null,null,null,null,null,null,null,null,null,null,null,null,null,null,null,null,null,null,null,null,null,null,{"$error":"#VALUE!"},"A3",null,{"$f":"IF(ISERROR(HLOOKUP($BP37,補助!$AW$2:$BE$9,3,FALSE))=TRUE,\"\",HLOOKUP($BP37,補助!$AW$2:$BE$9,3,FALSE))","v":""},{"$f":"IF(ISERROR(HLOOKUP($BQ37,補助!$AW$2:$BE$9,3,FALSE))=TRUE,\"\",HLOOKUP($BQ37,補助!$AW$2:$BE$9,3,FALSE))","v":""},{"$f":"IF(ISERROR(HLOOKUP($BR37,補助!$AW$2:$BE$9,3,FALSE))=TRUE,\"\",HLOOKUP($BR37,補助!$AW$2:$BE$9,3,FALSE))","v":""},{"$f":"IF(ISERROR(HLOOKUP($BS37,補助!$AW$2:$BE$9,3,FALSE))=TRUE,\"\",HLOOKUP($BS37,補助!$AW$2:$BE$9,3,FALSE))","v":""},{"$f":"IF(ISERROR(HLOOKUP($BT37,補助!$AW$2:$BE$9,3,FALSE))=TRUE,\"\",HLOOKUP($BT37,補助!$AW$2:$BE$9,3,FALSE))","v":""},{"$f":"IF(ISERROR(HLOOKUP($BU37,補助!$AW$2:$BE$9,3,FALSE))=TRUE,\"\",HLOOKUP($BU37,補助!$AW$2:$BE$9,3,FALSE))","v":""},{"$f":"IF(ISERROR(HLOOKUP($BV37,補助!$AW$2:$BE$9,3,FALSE))=TRUE,\"\",HLOOKUP($BV37,補助!$AW$2:$BE$9,3,FALSE))","v":""},{"$f":"IF(ISERROR(HLOOKUP($BW37,補助!$AW$2:$BE$9,3,FALSE))=TRUE,\"\",HLOOKUP($BW37,補助!$AW$2:$BE$9,3,FALSE))","v":9},{"$f":"IF(ISERROR(HLOOKUP($BX37,補助!$AW$2:$BE$9,3,FALSE))=TRUE,\"\",HLOOKUP($BX37,補助!$AW$2:$BE$9,3,FALSE))","v":4},{"$f":"IF(ISERROR(HLOOKUP($BY37,補助!$AW$2:$BE$9,3,FALSE))=TRUE,\"\",HLOOKUP($BY37,補助!$AW$2:$BE$9,3,FALSE))","v":7},{"$f":"IF(ISERROR(HLOOKUP($BZ37,補助!$AW$2:$BE$9,3,FALSE))=TRUE,\"\",HLOOKUP($BZ37,補助!$AW$2:$BE$9,3,FALSE))","v":""},"947"]
[null,null,null,null,null,null,null,null,null,null,null,null,null,null,null,null,null,null,null,null,null,null,null,null,null,null,null,null,null,null,null,null,null,null,null,null,null,null,null,null,null,null,null,null,null,null,null,null,null,null,null,null,null,null,null,null,null,null,null,null,null,null,null,null,null,null,null,null,null,null,null,{"$error":"#VALUE!"},"A3",null,{"$f":"IF(ISERROR(HLOOKUP($BP38,補助!$AW$2:$BE$9,3,FALSE))=TRUE,\"\",HLOOKUP($BP38,補助!$AW$2:$BE$9,3,FALSE))","v":""},{"$f":"IF(ISERROR(HLOOKUP($BQ38,補助!$AW$2:$BE$9,3,FALSE))=TRUE,\"\",HLOOKUP($BQ38,補助!$AW$2:$BE$9,3,FALSE))","v":""},{"$f":"IF(ISERROR(HLOOKUP($BR38,補助!$AW$2:$BE$9,3,FALSE))=TRUE,\"\",HLOOKUP($BR38,補助!$AW$2:$BE$9,3,FALSE))","v":""},{"$f":"IF(ISERROR(HLOOKUP($BS38,補助!$AW$2:$BE$9,3,FALSE))=TRUE,\"\",HLOOKUP($BS38,補助!$AW$2:$BE$9,3,FALSE))","v":""},{"$f":"IF(ISERROR(HLOOKUP($BT38,補助!$AW$2:$BE$9,3,FALSE))=TRUE,\"\",HLOOKUP($BT38,補助!$AW$2:$BE$9,3,FALSE))","v":""},{"$f":"IF(ISERROR(HLOOKUP($BU38,補助!$AW$2:$BE$9,3,FALSE))=TRUE,\"\",HLOOKUP($BU38,補助!$AW$2:$BE$9,3,FALSE))","v":""},{"$f":"IF(ISERROR(HLOOKUP($BV38,補助!$AW$2:$BE$9,3,FALSE))=TRUE,\"\",HLOOKUP($BV38,補助!$AW$2:$BE$9,3,FALSE))","v":""},{"$f":"IF(ISERROR(HLOOKUP($BW38,補助!$AW$2:$BE$9,3,FALSE))=TRUE,\"\",HLOOKUP($BW38,補助!$AW$2:$BE$9,3,FALSE))","v":9},{"$f":"IF(ISERROR(HLOOKUP($BX38,補助!$AW$2:$BE$9,3,FALSE))=TRUE,\"\",HLOOKUP($BX38,補助!$AW$2:$BE$9,3,FALSE))","v":4},{"$f":"IF(ISERROR(HLOOKUP($BY38,補助!$AW$2:$BE$9,3,FALSE))=TRUE,\"\",HLOOKUP($BY38,補助!$AW$2:$BE$9,3,FALSE))","v":5},{"$f":"IF(ISERROR(HLOOKUP($BZ38,補助!$AW$2:$BE$9,3,FALSE))=TRUE,\"\",HLOOKUP($BZ38,補助!$AW$2:$BE$9,3,FALSE))","v":""},"945"]
[null,null,null,null,null,null,null,null,null,null,null,null,null,null,null,null,null,null,null,null,null,null,null,null,null,null,null,null,null,null,null,null,null,null,null,null,null,null,null,null,null,null,null,null,null,null,null,null,null,null,null,null,null,null,null,null,null,null,null,null,null,null,null,null,null,null,null,null,null,null,null,{"$error":"#VALUE!"},"A3",null,{"$f":"IF(ISERROR(HLOOKUP($BP39,補助!$AW$2:$BE$9,3,FALSE))=TRUE,\"\",HLOOKUP($BP39,補助!$AW$2:$BE$9,3,FALSE))","v":""},{"$f":"IF(ISERROR(HLOOKUP($BQ39,補助!$AW$2:$BE$9,3,FALSE))=TRUE,\"\",HLOOKUP($BQ39,補助!$AW$2:$BE$9,3,FALSE))","v":""},{"$f":"IF(ISERROR(HLOOKUP($BR39,補助!$AW$2:$BE$9,3,FALSE))=TRUE,\"\",HLOOKUP($BR39,補助!$AW$2:$BE$9,3,FALSE))","v":""},{"$f":"IF(ISERROR(HLOOKUP($BS39,補助!$AW$2:$BE$9,3,FALSE))=TRUE,\"\",HLOOKUP($BS39,補助!$AW$2:$BE$9,3,FALSE))","v":""},{"$f":"IF(ISERROR(HLOOKUP($BT39,補助!$AW$2:$BE$9,3,FALSE))=TRUE,\"\",HLOOKUP($BT39,補助!$AW$2:$BE$9,3,FALSE))","v":""},{"$f":"IF(ISERROR(HLOOKUP($BU39,補助!$AW$2:$BE$9,3,FALSE))=TRUE,\"\",HLOOKUP($BU39,補助!$AW$2:$BE$9,3,FALSE))","v":""},{"$f":"IF(ISERROR(HLOOKUP($BV39,補助!$AW$2:$BE$9,3,FALSE))=TRUE,\"\",HLOOKUP($BV39,補助!$AW$2:$BE$9,3,FALSE))","v":""},{"$f":"IF(ISERROR(HLOOKUP($BW39,補助!$AW$2:$BE$9,3,FALSE))=TRUE,\"\",HLOOKUP($BW39,補助!$AW$2:$BE$9,3,FALSE))","v":9},{"$f":"IF(ISERROR(HLOOKUP($BX39,補助!$AW$2:$BE$9,3,FALSE))=TRUE,\"\",HLOOKUP($BX39,補助!$AW$2:$BE$9,3,FALSE))","v":4},{"$f":"IF(ISERROR(HLOOKUP($BY39,補助!$AW$2:$BE$9,3,FALSE))=TRUE,\"\",HLOOKUP($BY39,補助!$AW$2:$BE$9,3,FALSE))","v":3},{"$f":"IF(ISERROR(HLOOKUP($BZ39,補助!$AW$2:$BE$9,3,FALSE))=TRUE,\"\",HLOOKUP($BZ39,補助!$AW$2:$BE$9,3,FALSE))","v":""},"943"]
[null,null,null,null,null,null,null,null,null,null,null,null,null,null,null,null,null,null,null,null,null,null,null,null,null,null,null,null,null,null,null,null,null,null,null,null,null,null,null,null,null,null,null,null,null,null,null,null,null,null,null,null,null,null,null,null,null,null,null,null,null,null,null,null,null,null,null,null,null,null,null,{"$error":"#VALUE!"},"A3","白",{"$f":"IF(ISERROR(HLOOKUP($BP40,補助!$AW$2:$BE$9,3,FALSE))=TRUE,\"\",HLOOKUP($BP40,補助!$AW$2:$BE$9,3,FALSE))","v":""},{"$f":"IF(ISERROR(HLOOKUP($BQ40,補助!$AW$2:$BE$9,3,FALSE))=TRUE,\"\",HLOOKUP($BQ40,補助!$AW$2:$BE$9,3,FALSE))","v":""},{"$f":"IF(ISERROR(HLOOKUP($BR40,補助!$AW$2:$BE$9,3,FALSE))=TRUE,\"\",HLOOKUP($BR40,補助!$AW$2:$BE$9,3,FALSE))","v":""},{"$f":"IF(ISERROR(HLOOKUP($BS40,補助!$AW$2:$BE$9,3,FALSE))=TRUE,\"\",HLOOKUP($BS40,補助!$AW$2:$BE$9,3,FALSE))","v":""},{"$f":"IF(ISERROR(HLOOKUP($BT40,補助!$AW$2:$BE$9,3,FALSE))=TRUE,\"\",HLOOKUP($BT40,補助!$AW$2:$BE$9,3,FALSE))","v":""},{"$f":"IF(ISERROR(HLOOKUP($BU40,補助!$AW$2:$BE$9,3,FALSE))=TRUE,\"\",HLOOKUP($BU40,補助!$AW$2:$BE$9,3,FALSE))","v":""},{"$f":"IF(ISERROR(HLOOKUP($BV40,補助!$AW$2:$BE$9,3,FALSE))=TRUE,\"\",HLOOKUP($BV40,補助!$AW$2:$BE$9,3,FALSE))","v":""},{"$f":"IF(ISERROR(HLOOKUP($BW40,補助!$AW$2:$BE$9,3,FALSE))=TRUE,\"\",HLOOKUP($BW40,補助!$AW$2:$BE$9,3,FALSE))","v":9},{"$f":"IF(ISERROR(HLOOKUP($BX40,補助!$AW$2:$BE$9,3,FALSE))=TRUE,\"\",HLOOKUP($BX40,補助!$AW$2:$BE$9,3,FALSE))","v":4},{"$f":"IF(ISERROR(HLOOKUP($BY40,補助!$AW$2:$BE$9,3,FALSE))=TRUE,\"\",HLOOKUP($BY40,補助!$AW$2:$BE$9,3,FALSE))","v":6},{"$f":"IF(ISERROR(HLOOKUP($BZ40,補助!$AW$2:$BE$9,3,FALSE))=TRUE,\"\",HLOOKUP($BZ40,補助!$AW$2:$BE$9,3,FALSE))","v":3},"946"]
[null,null,null,null,null,null,null,null,null,null,null,null,null,null,null,null,null,null,null,null,null,null,null,null,null,null,null,null,null,null,null,null,null,null,null,null,null,null,null,null,null,null,null,null,null,null,null,null,null,null,null,null,null,null,null,null,null,null,null,null,null,null,null,null,null,null,null,null,null,null,null,{"$error":"#VALUE!"},"A3","白",{"$f":"IF(ISERROR(HLOOKUP($BP41,補助!$AW$2:$BE$9,3,FALSE))=TRUE,\"\",HLOOKUP($BP41,補助!$AW$2:$BE$9,3,FALSE))","v":""},{"$f":"IF(ISERROR(HLOOKUP($BQ41,補助!$AW$2:$BE$9,3,FALSE))=TRUE,\"\",HLOOKUP($BQ41,補助!$AW$2:$BE$9,3,FALSE))","v":""},{"$f":"IF(ISERROR(HLOOKUP($BR41,補助!$AW$2:$BE$9,3,FALSE))=TRUE,\"\",HLOOKUP($BR41,補助!$AW$2:$BE$9,3,FALSE))","v":""},{"$f":"IF(ISERROR(HLOOKUP($BS41,補助!$AW$2:$BE$9,3,FALSE))=TRUE,\"\",HLOOKUP($BS41,補助!$AW$2:$BE$9,3,FALSE))","v":""},{"$f":"IF(ISERROR(HLOOKUP($BT41,補助!$AW$2:$BE$9,3,FALSE))=TRUE,\"\",HLOOKUP($BT41,補助!$AW$2:$BE$9,3,FALSE))","v":""},{"$f":"IF(ISERROR(HLOOKUP($BU41,補助!$AW$2:$BE$9,3,FALSE))=TRUE,\"\",HLOOKUP($BU41,補助!$AW$2:$BE$9,3,FALSE))","v":""},{"$f":"IF(ISERROR(HLOOKUP($BV41,補助!$AW$2:$BE$9,3,FALSE))=TRUE,\"\",HLOOKUP($BV41,補助!$AW$2:$BE$9,3,FALSE))","v":""},{"$f":"IF(ISERROR(HLOOKUP($BW41,補助!$AW$2:$BE$9,3,FALSE))=TRUE,\"\",HLOOKUP($BW41,補助!$AW$2:$BE$9,3,FALSE))","v":9},{"$f":"IF(ISERROR(HLOOKUP($BX41,補助!$AW$2:$BE$9,3,FALSE))=TRUE,\"\",HLOOKUP($BX41,補助!$AW$2:$BE$9,3,FALSE))","v":4},{"$f":"IF(ISERROR(HLOOKUP($BY41,補助!$AW$2:$BE$9,3,FALSE))=TRUE,\"\",HLOOKUP($BY41,補助!$AW$2:$BE$9,3,FALSE))","v":6},{"$f":"IF(ISERROR(HLOOKUP($BZ41,補助!$AW$2:$BE$9,3,FALSE))=TRUE,\"\",HLOOKUP($BZ41,補助!$AW$2:$BE$9,3,FALSE))","v":3},"946"]
[null,null,null,null,null,null,null,null,null,null,null,null,null,null,null,null,null,null,null,null,null,null,null,null,null,null,null,null,null,null,null,null,null,null,null,null,null,null,null,null,null,null,null,null,null,null,null,null,null,null,null,null,null,null,null,null,null,null,null,null,null,null,null,null,null,null,null,null,null,null,null,{"$error":"#VALUE!"},"A3","白",{"$f":"IF(ISERROR(HLOOKUP($BP42,補助!$AW$2:$BE$9,3,FALSE))=TRUE,\"\",HLOOKUP($BP42,補助!$AW$2:$BE$9,3,FALSE))","v":""},{"$f":"IF(ISERROR(HLOOKUP($BQ42,補助!$AW$2:$BE$9,3,FALSE))=TRUE,\"\",HLOOKUP($BQ42,補助!$AW$2:$BE$9,3,FALSE))","v":""},{"$f":"IF(ISERROR(HLOOKUP($BR42,補助!$AW$2:$BE$9,3,FALSE))=TRUE,\"\",HLOOKUP($BR42,補助!$AW$2:$BE$9,3,FALSE))","v":""},{"$f":"IF(ISERROR(HLOOKUP($BS42,補助!$AW$2:$BE$9,3,FALSE))=TRUE,\"\",HLOOKUP($BS42,補助!$AW$2:$BE$9,3,FALSE))","v":""},{"$f":"IF(ISERROR(HLOOKUP($BT42,補助!$AW$2:$BE$9,3,FALSE))=TRUE,\"\",HLOOKUP($BT42,補助!$AW$2:$BE$9,3,FALSE))","v":""},{"$f":"IF(ISERROR(HLOOKUP($BU42,補助!$AW$2:$BE$9,3,FALSE))=TRUE,\"\",HLOOKUP($BU42,補助!$AW$2:$BE$9,3,FALSE))","v":""},{"$f":"IF(ISERROR(HLOOKUP($BV42,補助!$AW$2:$BE$9,3,FALSE))=TRUE,\"\",HLOOKUP($BV42,補助!$AW$2:$BE$9,3,FALSE))","v":""},{"$f":"IF(ISERROR(HLOOKUP($BW42,補助!$AW$2:$BE$9,3,FALSE))=TRUE,\"\",HLOOKUP($BW42,補助!$AW$2:$BE$9,3,FALSE))","v":9},{"$f":"IF(ISERROR(HLOOKUP($BX42,補助!$AW$2:$BE$9,3,FALSE))=TRUE,\"\",HLOOKUP($BX42,補助!$AW$2:$BE$9,3,FALSE))","v":4},{"$f":"IF(ISERROR(HLOOKUP($BY42,補助!$AW$2:$BE$9,3,FALSE))=TRUE,\"\",HLOOKUP($BY42,補助!$AW$2:$BE$9,3,FALSE))","v":6},{"$f":"IF(ISERROR(HLOOKUP($BZ42,補助!$AW$2:$BE$9,3,FALSE))=TRUE,\"\",HLOOKUP($BZ42,補助!$AW$2:$BE$9,3,FALSE))","v":3},"946"]
[null,null,null,null,null,null,null,null,null,null,null,null,null,null,null,null,null,null,null,null,null,null,null,null,null,null,null,null,null,null,null,null,null,null,null,null,null,null,null,null,null,null,null,null,null,null,null,null,null,null,null,null,null,null,null,null,null,null,null,null,null,null,null,null,null,null,null,null,null,null,null,{"$error":"#VALUE!"},"A3",null,{"$f":"IF(ISERROR(HLOOKUP($BP43,補助!$AW$2:$BE$9,3,FALSE))=TRUE,\"\",HLOOKUP($BP43,補助!$AW$2:$BE$9,3,FALSE))","v":""},{"$f":"IF(ISERROR(HLOOKUP($BQ43,補助!$AW$2:$BE$9,3,FALSE))=TRUE,\"\",HLOOKUP($BQ43,補助!$AW$2:$BE$9,3,FALSE))","v":""},{"$f":"IF(ISERROR(HLOOKUP($BR43,補助!$AW$2:$BE$9,3,FALSE))=TRUE,\"\",HLOOKUP($BR43,補助!$AW$2:$BE$9,3,FALSE))","v":""},{"$f":"IF(ISERROR(HLOOKUP($BS43,補助!$AW$2:$BE$9,3,FALSE))=TRUE,\"\",HLOOKUP($BS43,補助!$AW$2:$BE$9,3,FALSE))","v":""},{"$f":"IF(ISERROR(HLOOKUP($BT43,補助!$AW$2:$BE$9,3,FALSE))=TRUE,\"\",HLOOKUP($BT43,補助!$AW$2:$BE$9,3,FALSE))","v":""},{"$f":"IF(ISERROR(HLOOKUP($BU43,補助!$AW$2:$BE$9,3,FALSE))=TRUE,\"\",HLOOKUP($BU43,補助!$AW$2:$BE$9,3,FALSE))","v":""},{"$f":"IF(ISERROR(HLOOKUP($BV43,補助!$AW$2:$BE$9,3,FALSE))=TRUE,\"\",HLOOKUP($BV43,補助!$AW$2:$BE$9,3,FALSE))","v":""},{"$f":"IF(ISERROR(HLOOKUP($BW43,補助!$AW$2:$BE$9,3,FALSE))=TRUE,\"\",HLOOKUP($BW43,補助!$AW$2:$BE$9,3,FALSE))","v":9},{"$f":"IF(ISERROR(HLOOKUP($BX43,補助!$AW$2:$BE$9,3,FALSE))=TRUE,\"\",HLOOKUP($BX43,補助!$AW$2:$BE$9,3,FALSE))","v":4},{"$f":"IF(ISERROR(HLOOKUP($BY43,補助!$AW$2:$BE$9,3,FALSE))=TRUE,\"\",HLOOKUP($BY43,補助!$AW$2:$BE$9,3,FALSE))","v":2},{"$f":"IF(ISERROR(HLOOKUP($BZ43,補助!$AW$2:$BE$9,3,FALSE))=TRUE,\"\",HLOOKUP($BZ43,補助!$AW$2:$BE$9,3,FALSE))","v":8},"942"]
[null,null,null,null,null,null,null,null,null,null,null,null,null,null,null,null,null,null,null,null,null,null,null,null,null,null,null,null,null,null,null,null,null,null,null,null,null,null,null,null,null,null,null,null,null,null,null,null,null,null,null,null,null,null,null,null,null,null,null,null,null,null,null,null,null,null,null,null,null,null,null,{"$error":"#VALUE!"},"A3",null,{"$f":"IF(ISERROR(HLOOKUP($BP44,補助!$AW$2:$BE$9,3,FALSE))=TRUE,\"\",HLOOKUP($BP44,補助!$AW$2:$BE$9,3,FALSE))","v":""},{"$f":"IF(ISERROR(HLOOKUP($BQ44,補助!$AW$2:$BE$9,3,FALSE))=TRUE,\"\",HLOOKUP($BQ44,補助!$AW$2:$BE$9,3,FALSE))","v":""},{"$f":"IF(ISERROR(HLOOKUP($BR44,補助!$AW$2:$BE$9,3,FALSE))=TRUE,\"\",HLOOKUP($BR44,補助!$AW$2:$BE$9,3,FALSE))","v":""},{"$f":"IF(ISERROR(HLOOKUP($BS44,補助!$AW$2:$BE$9,3,FALSE))=TRUE,\"\",HLOOKUP($BS44,補助!$AW$2:$BE$9,3,FALSE))","v":""},{"$f":"IF(ISERROR(HLOOKUP($BT44,補助!$AW$2:$BE$9,3,FALSE))=TRUE,\"\",HLOOKUP($BT44,補助!$AW$2:$BE$9,3,FALSE))","v":""},{"$f":"IF(ISERROR(HLOOKUP($BU44,補助!$AW$2:$BE$9,3,FALSE))=TRUE,\"\",HLOOKUP($BU44,補助!$AW$2:$BE$9,3,FALSE))","v":""},{"$f":"IF(ISERROR(HLOOKUP($BV44,補助!$AW$2:$BE$9,3,FALSE))=TRUE,\"\",HLOOKUP($BV44,補助!$AW$2:$BE$9,3,FALSE))","v":""},{"$f":"IF(ISERROR(HLOOKUP($BW44,補助!$AW$2:$BE$9,3,FALSE))=TRUE,\"\",HLOOKUP($BW44,補助!$AW$2:$BE$9,3,FALSE))","v":9},{"$f":"IF(ISERROR(HLOOKUP($BX44,補助!$AW$2:$BE$9,3,FALSE))=TRUE,\"\",HLOOKUP($BX44,補助!$AW$2:$BE$9,3,FALSE))","v":4},{"$f":"IF(ISERROR(HLOOKUP($BY44,補助!$AW$2:$BE$9,3,FALSE))=TRUE,\"\",HLOOKUP($BY44,補助!$AW$2:$BE$9,3,FALSE))","v":2},{"$f":"IF(ISERROR(HLOOKUP($BZ44,補助!$AW$2:$BE$9,3,FALSE))=TRUE,\"\",HLOOKUP($BZ44,補助!$AW$2:$BE$9,3,FALSE))","v":7},"942"]
[null,null,null,null,null,null,null,null,null,null,null,null,null,null,null,null,null,null,null,null,null,null,null,null,null,null,null,null,null,null,null,null,null,null,null,null,null,null,null,null,null,null,null,null,null,null,null,null,null,null,null,null,null,null,null,null,null,null,null,null,null,null,null,null,null,null,null,null,null,null,null,{"$error":"#VALUE!"},"A3",null,{"$f":"IF(ISERROR(HLOOKUP($BP45,補助!$AW$2:$BE$9,3,FALSE))=TRUE,\"\",HLOOKUP($BP45,補助!$AW$2:$BE$9,3,FALSE))","v":""},{"$f":"IF(ISERROR(HLOOKUP($BQ45,補助!$AW$2:$BE$9,3,FALSE))=TRUE,\"\",HLOOKUP($BQ45,補助!$AW$2:$BE$9,3,FALSE))","v":""},{"$f":"IF(ISERROR(HLOOKUP($BR45,補助!$AW$2:$BE$9,3,FALSE))=TRUE,\"\",HLOOKUP($BR45,補助!$AW$2:$BE$9,3,FALSE))","v":""},{"$f":"IF(ISERROR(HLOOKUP($BS45,補助!$AW$2:$BE$9,3,FALSE))=TRUE,\"\",HLOOKUP($BS45,補助!$AW$2:$BE$9,3,FALSE))","v":""},{"$f":"IF(ISERROR(HLOOKUP($BT45,補助!$AW$2:$BE$9,3,FALSE))=TRUE,\"\",HLOOKUP($BT45,補助!$AW$2:$BE$9,3,FALSE))","v":""},{"$f":"IF(ISERROR(HLOOKUP($BU45,補助!$AW$2:$BE$9,3,FALSE))=TRUE,\"\",HLOOKUP($BU45,補助!$AW$2:$BE$9,3,FALSE))","v":""},{"$f":"IF(ISERROR(HLOOKUP($BV45,補助!$AW$2:$BE$9,3,FALSE))=TRUE,\"\",HLOOKUP($BV45,補助!$AW$2:$BE$9,3,FALSE))","v":""},{"$f":"IF(ISERROR(HLOOKUP($BW45,補助!$AW$2:$BE$9,3,FALSE))=TRUE,\"\",HLOOKUP($BW45,補助!$AW$2:$BE$9,3,FALSE))","v":9},{"$f":"IF(ISERROR(HLOOKUP($BX45,補助!$AW$2:$BE$9,3,FALSE))=TRUE,\"\",HLOOKUP($BX45,補助!$AW$2:$BE$9,3,FALSE))","v":4},{"$f":"IF(ISERROR(HLOOKUP($BY45,補助!$AW$2:$BE$9,3,FALSE))=TRUE,\"\",HLOOKUP($BY45,補助!$AW$2:$BE$9,3,FALSE))","v":2},{"$f":"IF(ISERROR(HLOOKUP($BZ45,補助!$AW$2:$BE$9,3,FALSE))=TRUE,\"\",HLOOKUP($BZ45,補助!$AW$2:$BE$9,3,FALSE))","v":6},"942"]
[null,null,null,null,null,null,null,null,null,null,null,null,null,null,null,null,null,null,null,null,null,null,null,null,null,null,null,null,null,null,null,null,null,null,null,null,null,null,null,null,null,null,null,null,null,null,null,null,null,null,null,null,null,null,null,null,null,null,null,null,null,null,null,null,null,null,null,null,null,null,null,{"$error":"#VALUE!"},"A3",null,{"$f":"IF(ISERROR(HLOOKUP($BP46,補助!$AW$2:$BE$9,3,FALSE))=TRUE,\"\",HLOOKUP($BP46,補助!$AW$2:$BE$9,3,FALSE))","v":""},{"$f":"IF(ISERROR(HLOOKUP($BQ46,補助!$AW$2:$BE$9,3,FALSE))=TRUE,\"\",HLOOKUP($BQ46,補助!$AW$2:$BE$9,3,FALSE))","v":""},{"$f":"IF(ISERROR(HLOOKUP($BR46,補助!$AW$2:$BE$9,3,FALSE))=TRUE,\"\",HLOOKUP($BR46,補助!$AW$2:$BE$9,3,FALSE))","v":""},{"$f":"IF(ISERROR(HLOOKUP($BS46,補助!$AW$2:$BE$9,3,FALSE))=TRUE,\"\",HLOOKUP($BS46,補助!$AW$2:$BE$9,3,FALSE))","v":""},{"$f":"IF(ISERROR(HLOOKUP($BT46,補助!$AW$2:$BE$9,3,FALSE))=TRUE,\"\",HLOOKUP($BT46,補助!$AW$2:$BE$9,3,FALSE))","v":""},{"$f":"IF(ISERROR(HLOOKUP($BU46,補助!$AW$2:$BE$9,3,FALSE))=TRUE,\"\",HLOOKUP($BU46,補助!$AW$2:$BE$9,3,FALSE))","v":""},{"$f":"IF(ISERROR(HLOOKUP($BV46,補助!$AW$2:$BE$9,3,FALSE))=TRUE,\"\",HLOOKUP($BV46,補助!$AW$2:$BE$9,3,FALSE))","v":""},{"$f":"IF(ISERROR(HLOOKUP($BW46,補助!$AW$2:$BE$9,3,FALSE))=TRUE,\"\",HLOOKUP($BW46,補助!$AW$2:$BE$9,3,FALSE))","v":9},{"$f":"IF(ISERROR(HLOOKUP($BX46,補助!$AW$2:$BE$9,3,FALSE))=TRUE,\"\",HLOOKUP($BX46,補助!$AW$2:$BE$9,3,FALSE))","v":4},{"$f":"IF(ISERROR(HLOOKUP($BY46,補助!$AW$2:$BE$9,3,FALSE))=TRUE,\"\",HLOOKUP($BY46,補助!$AW$2:$BE$9,3,FALSE))","v":2},{"$f":"IF(ISERROR(HLOOKUP($BZ46,補助!$AW$2:$BE$9,3,FALSE))=TRUE,\"\",HLOOKUP($BZ46,補助!$AW$2:$BE$9,3,FALSE))","v":3},"942"]
[null,null,null,null,null,null,null,null,null,null,null,null,null,null,null,null,null,null,null,null,null,null,null,null,null,null,null,null,null,null,null,null,null,null,null,null,null,null,null,null,null,null,null,null,null,null,null,null,null,null,null,null,null,null,null,null,null,null,null,null,null,null,null,null,null,null,null,null,null,null,null,{"$error":"#VALUE!"},"A3",null,{"$f":"IF(ISERROR(HLOOKUP($BP47,補助!$AW$2:$BE$9,3,FALSE))=TRUE,\"\",HLOOKUP($BP47,補助!$AW$2:$BE$9,3,FALSE))","v":""},{"$f":"IF(ISERROR(HLOOKUP($BQ47,補助!$AW$2:$BE$9,3,FALSE))=TRUE,\"\",HLOOKUP($BQ47,補助!$AW$2:$BE$9,3,FALSE))","v":""},{"$f":"IF(ISERROR(HLOOKUP($BR47,補助!$AW$2:$BE$9,3,FALSE))=TRUE,\"\",HLOOKUP($BR47,補助!$AW$2:$BE$9,3,FALSE))","v":""},{"$f":"IF(ISERROR(HLOOKUP($BS47,補助!$AW$2:$BE$9,3,FALSE))=TRUE,\"\",HLOOKUP($BS47,補助!$AW$2:$BE$9,3,FALSE))","v":""},{"$f":"IF(ISERROR(HLOOKUP($BT47,補助!$AW$2:$BE$9,3,FALSE))=TRUE,\"\",HLOOKUP($BT47,補助!$AW$2:$BE$9,3,FALSE))","v":""},{"$f":"IF(ISERROR(HLOOKUP($BU47,補助!$AW$2:$BE$9,3,FALSE))=TRUE,\"\",HLOOKUP($BU47,補助!$AW$2:$BE$9,3,FALSE))","v":""},{"$f":"IF(ISERROR(HLOOKUP($BV47,補助!$AW$2:$BE$9,3,FALSE))=TRUE,\"\",HLOOKUP($BV47,補助!$AW$2:$BE$9,3,FALSE))","v":""},{"$f":"IF(ISERROR(HLOOKUP($BW47,補助!$AW$2:$BE$9,3,FALSE))=TRUE,\"\",HLOOKUP($BW47,補助!$AW$2:$BE$9,3,FALSE))","v":9},{"$f":"IF(ISERROR(HLOOKUP($BX47,補助!$AW$2:$BE$9,3,FALSE))=TRUE,\"\",HLOOKUP($BX47,補助!$AW$2:$BE$9,3,FALSE))","v":4},{"$f":"IF(ISERROR(HLOOKUP($BY47,補助!$AW$2:$BE$9,3,FALSE))=TRUE,\"\",HLOOKUP($BY47,補助!$AW$2:$BE$9,3,FALSE))","v":2},{"$f":"IF(ISERROR(HLOOKUP($BZ47,補助!$AW$2:$BE$9,3,FALSE))=TRUE,\"\",HLOOKUP($BZ47,補助!$AW$2:$BE$9,3,FALSE))","v":1},"942"]
[null,null,null,null,null,null,null,null,null,null,null,null,null,null,null,null,null,null,null,null,null,null,null,null,null,null,null,null,null,null,null,null,null,null,null,null,null,null,null,null,null,null,null,null,null,null,null,null,null,null,null,null,null,null,null,null,null,null,null,null,null,null,null,null,null,null,null,null,null,null,null,{"$error":"#VALUE!"},"A3",null,{"$f":"IF(ISERROR(HLOOKUP($BP48,補助!$AW$2:$BE$9,3,FALSE))=TRUE,\"\",HLOOKUP($BP48,補助!$AW$2:$BE$9,3,FALSE))","v":""},{"$f":"IF(ISERROR(HLOOKUP($BQ48,補助!$AW$2:$BE$9,3,FALSE))=TRUE,\"\",HLOOKUP($BQ48,補助!$AW$2:$BE$9,3,FALSE))","v":""},{"$f":"IF(ISERROR(HLOOKUP($BR48,補助!$AW$2:$BE$9,3,FALSE))=TRUE,\"\",HLOOKUP($BR48,補助!$AW$2:$BE$9,3,FALSE))","v":""},{"$f":"IF(ISERROR(HLOOKUP($BS48,補助!$AW$2:$BE$9,3,FALSE))=TRUE,\"\",HLOOKUP($BS48,補助!$AW$2:$BE$9,3,FALSE))","v":""},{"$f":"IF(ISERROR(HLOOKUP($BT48,補助!$AW$2:$BE$9,3,FALSE))=TRUE,\"\",HLOOKUP($BT48,補助!$AW$2:$BE$9,3,FALSE))","v":""},{"$f":"IF(ISERROR(HLOOKUP($BU48,補助!$AW$2:$BE$9,3,FALSE))=TRUE,\"\",HLOOKUP($BU48,補助!$AW$2:$BE$9,3,FALSE))","v":""},{"$f":"IF(ISERROR(HLOOKUP($BV48,補助!$AW$2:$BE$9,3,FALSE))=TRUE,\"\",HLOOKUP($BV48,補助!$AW$2:$BE$9,3,FALSE))","v":""},{"$f":"IF(ISERROR(HLOOKUP($BW48,補助!$AW$2:$BE$9,3,FALSE))=TRUE,\"\",HLOOKUP($BW48,補助!$AW$2:$BE$9,3,FALSE))","v":9},{"$f":"IF(ISERROR(HLOOKUP($BX48,補助!$AW$2:$BE$9,3,FALSE))=TRUE,\"\",HLOOKUP($BX48,補助!$AW$2:$BE$9,3,FALSE))","v":1},{"$f":"IF(ISERROR(HLOOKUP($BY48,補助!$AW$2:$BE$9,3,FALSE))=TRUE,\"\",HLOOKUP($BY48,補助!$AW$2:$BE$9,3,FALSE))","v":7},{"$f":"IF(ISERROR(HLOOKUP($BZ48,補助!$AW$2:$BE$9,3,FALSE))=TRUE,\"\",HLOOKUP($BZ48,補助!$AW$2:$BE$9,3,FALSE))","v":""},"917"]
[null,null,null,null,null,null,null,null,null,null,null,null,null,null,null,null,null,null,null,null,null,null,null,null,null,null,null,null,null,null,null,null,null,null,null,null,null,null,null,null,null,null,null,null,null,null,null,null,null,null,null,null,null,null,null,null,null,null,null,null,null,null,null,null,null,null,null,null,null,null,null,{"$error":"#VALUE!"},"A3",null,{"$f":"IF(ISERROR(HLOOKUP($BP49,補助!$AW$2:$BE$9,3,FALSE))=TRUE,\"\",HLOOKUP($BP49,補助!$AW$2:$BE$9,3,FALSE))","v":""},{"$f":"IF(ISERROR(HLOOKUP($BQ49,補助!$AW$2:$BE$9,3,FALSE))=TRUE,\"\",HLOOKUP($BQ49,補助!$AW$2:$BE$9,3,FALSE))","v":""},{"$f":"IF(ISERROR(HLOOKUP($BR49,補助!$AW$2:$BE$9,3,FALSE))=TRUE,\"\",HLOOKUP($BR49,補助!$AW$2:$BE$9,3,FALSE))","v":""},{"$f":"IF(ISERROR(HLOOKUP($BS49,補助!$AW$2:$BE$9,3,FALSE))=TRUE,\"\",HLOOKUP($BS49,補助!$AW$2:$BE$9,3,FALSE))","v":""},{"$f":"IF(ISERROR(HLOOKUP($BT49,補助!$AW$2:$BE$9,3,FALSE))=TRUE,\"\",HLOOKUP($BT49,補助!$AW$2:$BE$9,3,FALSE))","v":""},{"$f":"IF(ISERROR(HLOOKUP($BU49,補助!$AW$2:$BE$9,3,FALSE))=TRUE,\"\",HLOOKUP($BU49,補助!$AW$2:$BE$9,3,FALSE))","v":""},{"$f":"IF(ISERROR(HLOOKUP($BV49,補助!$AW$2:$BE$9,3,FALSE))=TRUE,\"\",HLOOKUP($BV49,補助!$AW$2:$BE$9,3,FALSE))","v":""},{"$f":"IF(ISERROR(HLOOKUP($BW49,補助!$AW$2:$BE$9,3,FALSE))=TRUE,\"\",HLOOKUP($BW49,補助!$AW$2:$BE$9,3,FALSE))","v":9},{"$f":"IF(ISERROR(HLOOKUP($BX49,補助!$AW$2:$BE$9,3,FALSE))=TRUE,\"\",HLOOKUP($BX49,補助!$AW$2:$BE$9,3,FALSE))","v":1},{"$f":"IF(ISERROR(HLOOKUP($BY49,補助!$AW$2:$BE$9,3,FALSE))=TRUE,\"\",HLOOKUP($BY49,補助!$AW$2:$BE$9,3,FALSE))","v":3},{"$f":"IF(ISERROR(HLOOKUP($BZ49,補助!$AW$2:$BE$9,3,FALSE))=TRUE,\"\",HLOOKUP($BZ49,補助!$AW$2:$BE$9,3,FALSE))","v":""},"913"]
[null,null,null,null,null,null,null,null,null,null,null,null,null,null,null,null,null,null,null,null,null,null,null,null,null,null,null,null,null,null,null,null,null,null,null,null,null,null,null,null,null,null,null,null,null,null,null,null,null,null,null,null,null,null,null,null,null,null,null,null,null,null,null,null,null,null,null,null,null,null,null,{"$error":"#VALUE!"},"A3","白",{"$f":"IF(ISERROR(HLOOKUP($BP50,補助!$AW$2:$BE$9,3,FALSE))=TRUE,\"\",HLOOKUP($BP50,補助!$AW$2:$BE$9,3,FALSE))","v":""},{"$f":"IF(ISERROR(HLOOKUP($BQ50,補助!$AW$2:$BE$9,3,FALSE))=TRUE,\"\",HLOOKUP($BQ50,補助!$AW$2:$BE$9,3,FALSE))","v":""},{"$f":"IF(ISERROR(HLOOKUP($BR50,補助!$AW$2:$BE$9,3,FALSE))=TRUE,\"\",HLOOKUP($BR50,補助!$AW$2:$BE$9,3,FALSE))","v":""},{"$f":"IF(ISERROR(HLOOKUP($BS50,補助!$AW$2:$BE$9,3,FALSE))=TRUE,\"\",HLOOKUP($BS50,補助!$AW$2:$BE$9,3,FALSE))","v":""},{"$f":"IF(ISERROR(HLOOKUP($BT50,補助!$AW$2:$BE$9,3,FALSE))=TRUE,\"\",HLOOKUP($BT50,補助!$AW$2:$BE$9,3,FALSE))","v":""},{"$f":"IF(ISERROR(HLOOKUP($BU50,補助!$AW$2:$BE$9,3,FALSE))=TRUE,\"\",HLOOKUP($BU50,補助!$AW$2:$BE$9,3,FALSE))","v":""},{"$f":"IF(ISERROR(HLOOKUP($BV50,補助!$AW$2:$BE$9,3,FALSE))=TRUE,\"\",HLOOKUP($BV50,補助!$AW$2:$BE$9,3,FALSE))","v":""},{"$f":"IF(ISERROR(HLOOKUP($BW50,補助!$AW$2:$BE$9,3,FALSE))=TRUE,\"\",HLOOKUP($BW50,補助!$AW$2:$BE$9,3,FALSE))","v":9},{"$f":"IF(ISERROR(HLOOKUP($BX50,補助!$AW$2:$BE$9,3,FALSE))=TRUE,\"\",HLOOKUP($BX50,補助!$AW$2:$BE$9,3,FALSE))","v":1},{"$f":"IF(ISERROR(HLOOKUP($BY50,補助!$AW$2:$BE$9,3,FALSE))=TRUE,\"\",HLOOKUP($BY50,補助!$AW$2:$BE$9,3,FALSE))","v":8},{"$f":"IF(ISERROR(HLOOKUP($BZ50,補助!$AW$2:$BE$9,3,FALSE))=TRUE,\"\",HLOOKUP($BZ50,補助!$AW$2:$BE$9,3,FALSE))","v":""},"918"]
[null,null,null,null,null,null,null,null,null,null,null,null,null,null,null,null,null,null,null,null,null,null,null,null,null,null,null,null,null,null,null,null,null,null,null,null,null,null,null,null,null,null,null,null,null,null,null,null,null,null,null,null,null,null,null,null,null,null,null,null,null,null,null,null,null,null,null,null,null,null,null,{"$error":"#VALUE!"},"A3","白",{"$f":"IF(ISERROR(HLOOKUP($BP51,補助!$AW$2:$BE$9,3,FALSE))=TRUE,\"\",HLOOKUP($BP51,補助!$AW$2:$BE$9,3,FALSE))","v":""},{"$f":"IF(ISERROR(HLOOKUP($BQ51,補助!$AW$2:$BE$9,3,FALSE))=TRUE,\"\",HLOOKUP($BQ51,補助!$AW$2:$BE$9,3,FALSE))","v":""},{"$f":"IF(ISERROR(HLOOKUP($BR51,補助!$AW$2:$BE$9,3,FALSE))=TRUE,\"\",HLOOKUP($BR51,補助!$AW$2:$BE$9,3,FALSE))","v":""},{"$f":"IF(ISERROR(HLOOKUP($BS51,補助!$AW$2:$BE$9,3,FALSE))=TRUE,\"\",HLOOKUP($BS51,補助!$AW$2:$BE$9,3,FALSE))","v":""},{"$f":"IF(ISERROR(HLOOKUP($BT51,補助!$AW$2:$BE$9,3,FALSE))=TRUE,\"\",HLOOKUP($BT51,補助!$AW$2:$BE$9,3,FALSE))","v":""},{"$f":"IF(ISERROR(HLOOKUP($BU51,補助!$AW$2:$BE$9,3,FALSE))=TRUE,\"\",HLOOKUP($BU51,補助!$AW$2:$BE$9,3,FALSE))","v":""},{"$f":"IF(ISERROR(HLOOKUP($BV51,補助!$AW$2:$BE$9,3,FALSE))=TRUE,\"\",HLOOKUP($BV51,補助!$AW$2:$BE$9,3,FALSE))","v":""},{"$f":"IF(ISERROR(HLOOKUP($BW51,補助!$AW$2:$BE$9,3,FALSE))=TRUE,\"\",HLOOKUP($BW51,補助!$AW$2:$BE$9,3,FALSE))","v":9},{"$f":"IF(ISERROR(HLOOKUP($BX51,補助!$AW$2:$BE$9,3,FALSE))=TRUE,\"\",HLOOKUP($BX51,補助!$AW$2:$BE$9,3,FALSE))","v":1},{"$f":"IF(ISERROR(HLOOKUP($BY51,補助!$AW$2:$BE$9,3,FALSE))=TRUE,\"\",HLOOKUP($BY51,補助!$AW$2:$BE$9,3,FALSE))","v":6},{"$f":"IF(ISERROR(HLOOKUP($BZ51,補助!$AW$2:$BE$9,3,FALSE))=TRUE,\"\",HLOOKUP($BZ51,補助!$AW$2:$BE$9,3,FALSE))","v":""},"916"]
[null,null,null,null,null,null,null,null,null,null,null,null,null,null,null,null,null,null,null,null,null,null,null,null,null,null,null,null,null,null,null,null,null,null,null,null,null,null,null,null,null,null,null,null,null,null,null,null,null,null,null,null,null,null,null,null,null,null,null,null,null,null,null,null,null,null,null,null,null,null,null,{"$error":"#VALUE!"},"A3",null,{"$f":"IF(ISERROR(HLOOKUP($BP52,補助!$AW$2:$BE$9,3,FALSE))=TRUE,\"\",HLOOKUP($BP52,補助!$AW$2:$BE$9,3,FALSE))","v":""},{"$f":"IF(ISERROR(HLOOKUP($BQ52,補助!$AW$2:$BE$9,3,FALSE))=TRUE,\"\",HLOOKUP($BQ52,補助!$AW$2:$BE$9,3,FALSE))","v":""},{"$f":"IF(ISERROR(HLOOKUP($BR52,補助!$AW$2:$BE$9,3,FALSE))=TRUE,\"\",HLOOKUP($BR52,補助!$AW$2:$BE$9,3,FALSE))","v":""},{"$f":"IF(ISERROR(HLOOKUP($BS52,補助!$AW$2:$BE$9,3,FALSE))=TRUE,\"\",HLOOKUP($BS52,補助!$AW$2:$BE$9,3,FALSE))","v":""},{"$f":"IF(ISERROR(HLOOKUP($BT52,補助!$AW$2:$BE$9,3,FALSE))=TRUE,\"\",HLOOKUP($BT52,補助!$AW$2:$BE$9,3,FALSE))","v":""},{"$f":"IF(ISERROR(HLOOKUP($BU52,補助!$AW$2:$BE$9,3,FALSE))=TRUE,\"\",HLOOKUP($BU52,補助!$AW$2:$BE$9,3,FALSE))","v":""},{"$f":"IF(ISERROR(HLOOKUP($BV52,補助!$AW$2:$BE$9,3,FALSE))=TRUE,\"\",HLOOKUP($BV52,補助!$AW$2:$BE$9,3,FALSE))","v":""},{"$f":"IF(ISERROR(HLOOKUP($BW52,補助!$AW$2:$BE$9,3,FALSE))=TRUE,\"\",HLOOKUP($BW52,補助!$AW$2:$BE$9,3,FALSE))","v":8},{"$f":"IF(ISERROR(HLOOKUP($BX52,補助!$AW$2:$BE$9,3,FALSE))=TRUE,\"\",HLOOKUP($BX52,補助!$AW$2:$BE$9,3,FALSE))","v":6},{"$f":"IF(ISERROR(HLOOKUP($BY52,補助!$AW$2:$BE$9,3,FALSE))=TRUE,\"\",HLOOKUP($BY52,補助!$AW$2:$BE$9,3,FALSE))","v":5},{"$f":"IF(ISERROR(HLOOKUP($BZ52,補助!$AW$2:$BE$9,3,FALSE))=TRUE,\"\",HLOOKUP($BZ52,補助!$AW$2:$BE$9,3,FALSE))","v":""},"865"]
[null,null,null,null,null,null,null,null,null,null,null,null,null,null,null,null,null,null,null,null,null,null,null,null,null,null,null,null,null,null,null,null,null,null,null,null,null,null,null,null,null,null,null,null,null,null,null,null,null,null,null,null,null,null,null,null,null,null,null,null,null,null,null,null,null,null,null,null,null,null,null,{"$error":"#VALUE!"},"A3",null,{"$f":"IF(ISERROR(HLOOKUP($BP53,補助!$AW$2:$BE$9,3,FALSE))=TRUE,\"\",HLOOKUP($BP53,補助!$AW$2:$BE$9,3,FALSE))","v":""},{"$f":"IF(ISERROR(HLOOKUP($BQ53,補助!$AW$2:$BE$9,3,FALSE))=TRUE,\"\",HLOOKUP($BQ53,補助!$AW$2:$BE$9,3,FALSE))","v":""},{"$f":"IF(ISERROR(HLOOKUP($BR53,補助!$AW$2:$BE$9,3,FALSE))=TRUE,\"\",HLOOKUP($BR53,補助!$AW$2:$BE$9,3,FALSE))","v":""},{"$f":"IF(ISERROR(HLOOKUP($BS53,補助!$AW$2:$BE$9,3,FALSE))=TRUE,\"\",HLOOKUP($BS53,補助!$AW$2:$BE$9,3,FALSE))","v":""},{"$f":"IF(ISERROR(HLOOKUP($BT53,補助!$AW$2:$BE$9,3,FALSE))=TRUE,\"\",HLOOKUP($BT53,補助!$AW$2:$BE$9,3,FALSE))","v":""},{"$f":"IF(ISERROR(HLOOKUP($BU53,補助!$AW$2:$BE$9,3,FALSE))=TRUE,\"\",HLOOKUP($BU53,補助!$AW$2:$BE$9,3,FALSE))","v":""},{"$f":"IF(ISERROR(HLOOKUP($BV53,補助!$AW$2:$BE$9,3,FALSE))=TRUE,\"\",HLOOKUP($BV53,補助!$AW$2:$BE$9,3,FALSE))","v":""},{"$f":"IF(ISERROR(HLOOKUP($BW53,補助!$AW$2:$BE$9,3,FALSE))=TRUE,\"\",HLOOKUP($BW53,補助!$AW$2:$BE$9,3,FALSE))","v":8},{"$f":"IF(ISERROR(HLOOKUP($BX53,補助!$AW$2:$BE$9,3,FALSE))=TRUE,\"\",HLOOKUP($BX53,補助!$AW$2:$BE$9,3,FALSE))","v":4},{"$f":"IF(ISERROR(HLOOKUP($BY53,補助!$AW$2:$BE$9,3,FALSE))=TRUE,\"\",HLOOKUP($BY53,補助!$AW$2:$BE$9,3,FALSE))","v":5},{"$f":"IF(ISERROR(HLOOKUP($BZ53,補助!$AW$2:$BE$9,3,FALSE))=TRUE,\"\",HLOOKUP($BZ53,補助!$AW$2:$BE$9,3,FALSE))","v":""},"845"]
[null,null,null,null,null,null,null,null,null,null,null,null,null,null,null,null,null,null,null,null,null,null,null,null,null,null,null,null,null,null,null,null,null,null,null,null,null,null,null,null,null,null,null,null,null,null,null,null,null,null,null,null,null,null,null,null,null,null,null,null,null,null,null,null,null,null,null,null,null,null,null,{"$error":"#VALUE!"},"A3",null,{"$f":"IF(ISERROR(HLOOKUP($BP54,補助!$AW$2:$BE$9,3,FALSE))=TRUE,\"\",HLOOKUP($BP54,補助!$AW$2:$BE$9,3,FALSE))","v":""},{"$f":"IF(ISERROR(HLOOKUP($BQ54,補助!$AW$2:$BE$9,3,FALSE))=TRUE,\"\",HLOOKUP($BQ54,補助!$AW$2:$BE$9,3,FALSE))","v":""},{"$f":"IF(ISERROR(HLOOKUP($BR54,補助!$AW$2:$BE$9,3,FALSE))=TRUE,\"\",HLOOKUP($BR54,補助!$AW$2:$BE$9,3,FALSE))","v":""},{"$f":"IF(ISERROR(HLOOKUP($BS54,補助!$AW$2:$BE$9,3,FALSE))=TRUE,\"\",HLOOKUP($BS54,補助!$AW$2:$BE$9,3,FALSE))","v":""},{"$f":"IF(ISERROR(HLOOKUP($BT54,補助!$AW$2:$BE$9,3,FALSE))=TRUE,\"\",HLOOKUP($BT54,補助!$AW$2:$BE$9,3,FALSE))","v":""},{"$f":"IF(ISERROR(HLOOKUP($BU54,補助!$AW$2:$BE$9,3,FALSE))=TRUE,\"\",HLOOKUP($BU54,補助!$AW$2:$BE$9,3,FALSE))","v":""},{"$f":"IF(ISERROR(HLOOKUP($BV54,補助!$AW$2:$BE$9,3,FALSE))=TRUE,\"\",HLOOKUP($BV54,補助!$AW$2:$BE$9,3,FALSE))","v":""},{"$f":"IF(ISERROR(HLOOKUP($BW54,補助!$AW$2:$BE$9,3,FALSE))=TRUE,\"\",HLOOKUP($BW54,補助!$AW$2:$BE$9,3,FALSE))","v":8},{"$f":"IF(ISERROR(HLOOKUP($BX54,補助!$AW$2:$BE$9,3,FALSE))=TRUE,\"\",HLOOKUP($BX54,補助!$AW$2:$BE$9,3,FALSE))","v":3},{"$f":"IF(ISERROR(HLOOKUP($BY54,補助!$AW$2:$BE$9,3,FALSE))=TRUE,\"\",HLOOKUP($BY54,補助!$AW$2:$BE$9,3,FALSE))","v":9},{"$f":"IF(ISERROR(HLOOKUP($BZ54,補助!$AW$2:$BE$9,3,FALSE))=TRUE,\"\",HLOOKUP($BZ54,補助!$AW$2:$BE$9,3,FALSE))","v":""},"839"]
[null,null,null,null,null,null,null,null,null,null,null,null,null,null,null,null,null,null,null,null,null,null,null,null,null,null,null,null,null,null,null,null,null,null,null,null,null,null,null,null,null,null,null,null,null,null,null,null,null,null,null,null,null,null,null,null,null,null,null,null,null,null,null,null,null,null,null,null,null,null,null,{"$error":"#VALUE!"},"A3",null,{"$f":"IF(ISERROR(HLOOKUP($BP55,補助!$AW$2:$BE$9,3,FALSE))=TRUE,\"\",HLOOKUP($BP55,補助!$AW$2:$BE$9,3,FALSE))","v":""},{"$f":"IF(ISERROR(HLOOKUP($BQ55,補助!$AW$2:$BE$9,3,FALSE))=TRUE,\"\",HLOOKUP($BQ55,補助!$AW$2:$BE$9,3,FALSE))","v":""},{"$f":"IF(ISERROR(HLOOKUP($BR55,補助!$AW$2:$BE$9,3,FALSE))=TRUE,\"\",HLOOKUP($BR55,補助!$AW$2:$BE$9,3,FALSE))","v":""},{"$f":"IF(ISERROR(HLOOKUP($BS55,補助!$AW$2:$BE$9,3,FALSE))=TRUE,\"\",HLOOKUP($BS55,補助!$AW$2:$BE$9,3,FALSE))","v":""},{"$f":"IF(ISERROR(HLOOKUP($BT55,補助!$AW$2:$BE$9,3,FALSE))=TRUE,\"\",HLOOKUP($BT55,補助!$AW$2:$BE$9,3,FALSE))","v":""},{"$f":"IF(ISERROR(HLOOKUP($BU55,補助!$AW$2:$BE$9,3,FALSE))=TRUE,\"\",HLOOKUP($BU55,補助!$AW$2:$BE$9,3,FALSE))","v":""},{"$f":"IF(ISERROR(HLOOKUP($BV55,補助!$AW$2:$BE$9,3,FALSE))=TRUE,\"\",HLOOKUP($BV55,補助!$AW$2:$BE$9,3,FALSE))","v":""},{"$f":"IF(ISERROR(HLOOKUP($BW55,補助!$AW$2:$BE$9,3,FALSE))=TRUE,\"\",HLOOKUP($BW55,補助!$AW$2:$BE$9,3,FALSE))","v":8},{"$f":"IF(ISERROR(HLOOKUP($BX55,補助!$AW$2:$BE$9,3,FALSE))=TRUE,\"\",HLOOKUP($BX55,補助!$AW$2:$BE$9,3,FALSE))","v":1},{"$f":"IF(ISERROR(HLOOKUP($BY55,補助!$AW$2:$BE$9,3,FALSE))=TRUE,\"\",HLOOKUP($BY55,補助!$AW$2:$BE$9,3,FALSE))","v":7},{"$f":"IF(ISERROR(HLOOKUP($BZ55,補助!$AW$2:$BE$9,3,FALSE))=TRUE,\"\",HLOOKUP($BZ55,補助!$AW$2:$BE$9,3,FALSE))","v":""},"817"]
[null,null,null,null,null,null,null,null,null,null,null,null,null,null,null,null,null,null,null,null,null,null,null,null,null,null,null,null,null,null,null,null,null,null,null,null,null,null,null,null,null,null,null,null,null,null,null,null,null,null,null,null,null,null,null,null,null,null,null,null,null,null,null,null,null,null,null,null,null,null,null,{"$error":"#VALUE!"},"A3",null,{"$f":"IF(ISERROR(HLOOKUP($BP56,補助!$AW$2:$BE$9,3,FALSE))=TRUE,\"\",HLOOKUP($BP56,補助!$AW$2:$BE$9,3,FALSE))","v":""},{"$f":"IF(ISERROR(HLOOKUP($BQ56,補助!$AW$2:$BE$9,3,FALSE))=TRUE,\"\",HLOOKUP($BQ56,補助!$AW$2:$BE$9,3,FALSE))","v":""},{"$f":"IF(ISERROR(HLOOKUP($BR56,補助!$AW$2:$BE$9,3,FALSE))=TRUE,\"\",HLOOKUP($BR56,補助!$AW$2:$BE$9,3,FALSE))","v":""},{"$f":"IF(ISERROR(HLOOKUP($BS56,補助!$AW$2:$BE$9,3,FALSE))=TRUE,\"\",HLOOKUP($BS56,補助!$AW$2:$BE$9,3,FALSE))","v":""},{"$f":"IF(ISERROR(HLOOKUP($BT56,補助!$AW$2:$BE$9,3,FALSE))=TRUE,\"\",HLOOKUP($BT56,補助!$AW$2:$BE$9,3,FALSE))","v":""},{"$f":"IF(ISERROR(HLOOKUP($BU56,補助!$AW$2:$BE$9,3,FALSE))=TRUE,\"\",HLOOKUP($BU56,補助!$AW$2:$BE$9,3,FALSE))","v":""},{"$f":"IF(ISERROR(HLOOKUP($BV56,補助!$AW$2:$BE$9,3,FALSE))=TRUE,\"\",HLOOKUP($BV56,補助!$AW$2:$BE$9,3,FALSE))","v":""},{"$f":"IF(ISERROR(HLOOKUP($BW56,補助!$AW$2:$BE$9,3,FALSE))=TRUE,\"\",HLOOKUP($BW56,補助!$AW$2:$BE$9,3,FALSE))","v":5},{"$f":"IF(ISERROR(HLOOKUP($BX56,補助!$AW$2:$BE$9,3,FALSE))=TRUE,\"\",HLOOKUP($BX56,補助!$AW$2:$BE$9,3,FALSE))","v":8},{"$f":"IF(ISERROR(HLOOKUP($BY56,補助!$AW$2:$BE$9,3,FALSE))=TRUE,\"\",HLOOKUP($BY56,補助!$AW$2:$BE$9,3,FALSE))","v":7},{"$f":"IF(ISERROR(HLOOKUP($BZ56,補助!$AW$2:$BE$9,3,FALSE))=TRUE,\"\",HLOOKUP($BZ56,補助!$AW$2:$BE$9,3,FALSE))","v":""},"587"]
[null,null,null,null,null,null,null,null,null,null,null,null,null,null,null,null,null,null,null,null,null,null,null,null,null,null,null,null,null,null,null,null,null,null,null,null,null,null,null,null,null,null,null,null,null,null,null,null,null,null,null,null,null,null,null,null,null,null,null,null,null,null,null,null,null,null,null,null,null,null,null,{"$error":"#VALUE!"},"A3",null,{"$f":"IF(ISERROR(HLOOKUP($BP57,補助!$AW$2:$BE$9,3,FALSE))=TRUE,\"\",HLOOKUP($BP57,補助!$AW$2:$BE$9,3,FALSE))","v":""},{"$f":"IF(ISERROR(HLOOKUP($BQ57,補助!$AW$2:$BE$9,3,FALSE))=TRUE,\"\",HLOOKUP($BQ57,補助!$AW$2:$BE$9,3,FALSE))","v":""},{"$f":"IF(ISERROR(HLOOKUP($BR57,補助!$AW$2:$BE$9,3,FALSE))=TRUE,\"\",HLOOKUP($BR57,補助!$AW$2:$BE$9,3,FALSE))","v":""},{"$f":"IF(ISERROR(HLOOKUP($BS57,補助!$AW$2:$BE$9,3,FALSE))=TRUE,\"\",HLOOKUP($BS57,補助!$AW$2:$BE$9,3,FALSE))","v":""},{"$f":"IF(ISERROR(HLOOKUP($BT57,補助!$AW$2:$BE$9,3,FALSE))=TRUE,\"\",HLOOKUP($BT57,補助!$AW$2:$BE$9,3,FALSE))","v":""},{"$f":"IF(ISERROR(HLOOKUP($BU57,補助!$AW$2:$BE$9,3,FALSE))=TRUE,\"\",HLOOKUP($BU57,補助!$AW$2:$BE$9,3,FALSE))","v":""},{"$f":"IF(ISERROR(HLOOKUP($BV57,補助!$AW$2:$BE$9,3,FALSE))=TRUE,\"\",HLOOKUP($BV57,補助!$AW$2:$BE$9,3,FALSE))","v":""},{"$f":"IF(ISERROR(HLOOKUP($BW57,補助!$AW$2:$BE$9,3,FALSE))=TRUE,\"\",HLOOKUP($BW57,補助!$AW$2:$BE$9,3,FALSE))","v":5},{"$f":"IF(ISERROR(HLOOKUP($BX57,補助!$AW$2:$BE$9,3,FALSE))=TRUE,\"\",HLOOKUP($BX57,補助!$AW$2:$BE$9,3,FALSE))","v":8},{"$f":"IF(ISERROR(HLOOKUP($BY57,補助!$AW$2:$BE$9,3,FALSE))=TRUE,\"\",HLOOKUP($BY57,補助!$AW$2:$BE$9,3,FALSE))","v":9},{"$f":"IF(ISERROR(HLOOKUP($BZ57,補助!$AW$2:$BE$9,3,FALSE))=TRUE,\"\",HLOOKUP($BZ57,補助!$AW$2:$BE$9,3,FALSE))","v":""},"589"]
[null,null,null,null,null,null,null,null,null,null,null,null,null,null,null,null,null,null,null,null,null,null,null,null,null,null,null,null,null,null,null,null,null,null,null,null,null,null,null,null,null,null,null,null,null,null,null,null,null,null,null,null,null,null,null,null,null,null,null,null,null,null,null,null,null,null,null,null,null,null,null,{"$error":"#VALUE!"},"A3",null,{"$f":"IF(ISERROR(HLOOKUP($BP58,補助!$AW$2:$BE$9,3,FALSE))=TRUE,\"\",HLOOKUP($BP58,補助!$AW$2:$BE$9,3,FALSE))","v":""},{"$f":"IF(ISERROR(HLOOKUP($BQ58,補助!$AW$2:$BE$9,3,FALSE))=TRUE,\"\",HLOOKUP($BQ58,補助!$AW$2:$BE$9,3,FALSE))","v":""},{"$f":"IF(ISERROR(HLOOKUP($BR58,補助!$AW$2:$BE$9,3,FALSE))=TRUE,\"\",HLOOKUP($BR58,補助!$AW$2:$BE$9,3,FALSE))","v":""},{"$f":"IF(ISERROR(HLOOKUP($BS58,補助!$AW$2:$BE$9,3,FALSE))=TRUE,\"\",HLOOKUP($BS58,補助!$AW$2:$BE$9,3,FALSE))","v":""},{"$f":"IF(ISERROR(HLOOKUP($BT58,補助!$AW$2:$BE$9,3,FALSE))=TRUE,\"\",HLOOKUP($BT58,補助!$AW$2:$BE$9,3,FALSE))","v":""},{"$f":"IF(ISERROR(HLOOKUP($BU58,補助!$AW$2:$BE$9,3,FALSE))=TRUE,\"\",HLOOKUP($BU58,補助!$AW$2:$BE$9,3,FALSE))","v":""},{"$f":"IF(ISERROR(HLOOKUP($BV58,補助!$AW$2:$BE$9,3,FALSE))=TRUE,\"\",HLOOKUP($BV58,補助!$AW$2:$BE$9,3,FALSE))","v":""},{"$f":"IF(ISERROR(HLOOKUP($BW58,補助!$AW$2:$BE$9,3,FALSE))=TRUE,\"\",HLOOKUP($BW58,補助!$AW$2:$BE$9,3,FALSE))","v":5},{"$f":"IF(ISERROR(HLOOKUP($BX58,補助!$AW$2:$BE$9,3,FALSE))=TRUE,\"\",HLOOKUP($BX58,補助!$AW$2:$BE$9,3,FALSE))","v":8},{"$f":"IF(ISERROR(HLOOKUP($BY58,補助!$AW$2:$BE$9,3,FALSE))=TRUE,\"\",HLOOKUP($BY58,補助!$AW$2:$BE$9,3,FALSE))","v":3},{"$f":"IF(ISERROR(HLOOKUP($BZ58,補助!$AW$2:$BE$9,3,FALSE))=TRUE,\"\",HLOOKUP($BZ58,補助!$AW$2:$BE$9,3,FALSE))","v":""},"583"]
[null,null,null,null,null,null,null,null,null,null,null,null,null,null,null,null,null,null,null,null,null,null,null,null,null,null,null,null,null,null,null,null,null,null,null,null,null,null,null,null,null,null,null,null,null,null,null,null,null,null,null,null,null,null,null,null,null,null,null,null,null,null,null,null,null,null,null,null,null,null,null,{"$error":"#VALUE!"},"A3",null,{"$f":"IF(ISERROR(HLOOKUP($BP59,補助!$AW$2:$BE$9,3,FALSE))=TRUE,\"\",HLOOKUP($BP59,補助!$AW$2:$BE$9,3,FALSE))","v":""},{"$f":"IF(ISERROR(HLOOKUP($BQ59,補助!$AW$2:$BE$9,3,FALSE))=TRUE,\"\",HLOOKUP($BQ59,補助!$AW$2:$BE$9,3,FALSE))","v":""},{"$f":"IF(ISERROR(HLOOKUP($BR59,補助!$AW$2:$BE$9,3,FALSE))=TRUE,\"\",HLOOKUP($BR59,補助!$AW$2:$BE$9,3,FALSE))","v":""},{"$f":"IF(ISERROR(HLOOKUP($BS59,補助!$AW$2:$BE$9,3,FALSE))=TRUE,\"\",HLOOKUP($BS59,補助!$AW$2:$BE$9,3,FALSE))","v":""},{"$f":"IF(ISERROR(HLOOKUP($BT59,補助!$AW$2:$BE$9,3,FALSE))=TRUE,\"\",HLOOKUP($BT59,補助!$AW$2:$BE$9,3,FALSE))","v":""},{"$f":"IF(ISERROR(HLOOKUP($BU59,補助!$AW$2:$BE$9,3,FALSE))=TRUE,\"\",HLOOKUP($BU59,補助!$AW$2:$BE$9,3,FALSE))","v":""},{"$f":"IF(ISERROR(HLOOKUP($BV59,補助!$AW$2:$BE$9,3,FALSE))=TRUE,\"\",HLOOKUP($BV59,補助!$AW$2:$BE$9,3,FALSE))","v":""},{"$f":"IF(ISERROR(HLOOKUP($BW59,補助!$AW$2:$BE$9,3,FALSE))=TRUE,\"\",HLOOKUP($BW59,補助!$AW$2:$BE$9,3,FALSE))","v":5},{"$f":"IF(ISERROR(HLOOKUP($BX59,補助!$AW$2:$BE$9,3,FALSE))=TRUE,\"\",HLOOKUP($BX59,補助!$AW$2:$BE$9,3,FALSE))","v":8},{"$f":"IF(ISERROR(HLOOKUP($BY59,補助!$AW$2:$BE$9,3,FALSE))=TRUE,\"\",HLOOKUP($BY59,補助!$AW$2:$BE$9,3,FALSE))","v":1},{"$f":"IF(ISERROR(HLOOKUP($BZ59,補助!$AW$2:$BE$9,3,FALSE))=TRUE,\"\",HLOOKUP($BZ59,補助!$AW$2:$BE$9,3,FALSE))","v":""},"581"]
[null,null,null,null,null,null,null,null,null,null,null,null,null,null,null,null,null,null,null,null,null,null,null,null,null,null,null,null,null,null,null,null,null,null,null,null,null,null,null,null,null,null,null,null,null,null,null,null,null,null,null,null,null,null,null,null,null,null,null,null,null,null,null,null,null,null,null,null,null,null,null,{"$error":"#VALUE!"},"A4",null,{"$f":"IF(ISERROR(HLOOKUP($BP2,補助!$AW$2:$BE$9,4,FALSE))=TRUE,\"\",HLOOKUP($BP2,補助!$AW$2:$BE$9,4,FALSE))","v":7},{"$f":"IF(ISERROR(HLOOKUP($BQ2,補助!$AW$2:$BE$9,4,FALSE))=TRUE,\"\",HLOOKUP($BQ2,補助!$AW$2:$BE$9,4,FALSE))","v":""},{"$f":"IF(ISERROR(HLOOKUP($BR2,補助!$AW$2:$BE$9,4,FALSE))=TRUE,\"\",HLOOKUP($BR2,補助!$AW$2:$BE$9,4,FALSE))","v":""},{"$f":"IF(ISERROR(HLOOKUP($BS2,補助!$AW$2:$BE$9,4,FALSE))=TRUE,\"\",HLOOKUP($BS2,補助!$AW$2:$BE$9,4,FALSE))","v":""},{"$f":"IF(ISERROR(HLOOKUP($BT2,補助!$AW$2:$BE$9,4,FALSE))=TRUE,\"\",HLOOKUP($BT2,補助!$AW$2:$BE$9,4,FALSE))","v":""},{"$f":"IF(ISERROR(HLOOKUP($BU2,補助!$AW$2:$BE$9,4,FALSE))=TRUE,\"\",HLOOKUP($BU2,補助!$AW$2:$BE$9,4,FALSE))","v":""},{"$f":"IF(ISERROR(HLOOKUP($BV2,補助!$AW$2:$BE$9,4,FALSE))=TRUE,\"\",HLOOKUP($BV2,補助!$AW$2:$BE$9,4,FALSE))","v":""},{"$f":"IF(ISERROR(HLOOKUP($BW2,補助!$AW$2:$BE$9,4,FALSE))=TRUE,\"\",HLOOKUP($BW2,補助!$AW$2:$BE$9,4,FALSE))","v":3},{"$f":"IF(ISERROR(HLOOKUP($BX2,補助!$AW$2:$BE$9,4,FALSE))=TRUE,\"\",HLOOKUP($BX2,補助!$AW$2:$BE$9,4,FALSE))","v":6},{"$f":"IF(ISERROR(HLOOKUP($BY2,補助!$AW$2:$BE$9,4,FALSE))=TRUE,\"\",HLOOKUP($BY2,補助!$AW$2:$BE$9,4,FALSE))","v":2},{"$f":"IF(ISERROR(HLOOKUP($BZ2,補助!$AW$2:$BE$9,4,FALSE))=TRUE,\"\",HLOOKUP($BZ2,補助!$AW$2:$BE$9,4,FALSE))","v":""},"7362"]
[null,null,null,null,null,null,null,null,null,null,null,null,null,null,null,null,null,null,null,null,null,null,null,null,null,null,null,null,null,null,null,null,null,null,null,null,null,null,null,null,null,null,null,null,null,null,null,null,null,null,null,null,null,null,null,null,null,null,null,null,null,null,null,null,null,null,null,null,null,null,null,{"$error":"#VALUE!"},"A4",null,{"$f":"IF(ISERROR(HLOOKUP($BP3,補助!$AW$2:$BE$9,4,FALSE))=TRUE,\"\",HLOOKUP($BP3,補助!$AW$2:$BE$9,4,FALSE))","v":8},{"$f":"IF(ISERROR(HLOOKUP($BQ3,補助!$AW$2:$BE$9,4,FALSE))=TRUE,\"\",HLOOKUP($BQ3,補助!$AW$2:$BE$9,4,FALSE))","v":""},{"$f":"IF(ISERROR(HLOOKUP($BR3,補助!$AW$2:$BE$9,4,FALSE))=TRUE,\"\",HLOOKUP($BR3,補助!$AW$2:$BE$9,4,FALSE))","v":""},{"$f":"IF(ISERROR(HLOOKUP($BS3,補助!$AW$2:$BE$9,4,FALSE))=TRUE,\"\",HLOOKUP($BS3,補助!$AW$2:$BE$9,4,FALSE))","v":""},{"$f":"IF(ISERROR(HLOOKUP($BT3,補助!$AW$2:$BE$9,4,FALSE))=TRUE,\"\",HLOOKUP($BT3,補助!$AW$2:$BE$9,4,FALSE))","v":""},{"$f":"IF(ISERROR(HLOOKUP($BU3,補助!$AW$2:$BE$9,4,FALSE))=TRUE,\"\",HLOOKUP($BU3,補助!$AW$2:$BE$9,4,FALSE))","v":""},{"$f":"IF(ISERROR(HLOOKUP($BV3,補助!$AW$2:$BE$9,4,FALSE))=TRUE,\"\",HLOOKUP($BV3,補助!$AW$2:$BE$9,4,FALSE))","v":""},{"$f":"IF(ISERROR(HLOOKUP($BW3,補助!$AW$2:$BE$9,4,FALSE))=TRUE,\"\",HLOOKUP($BW3,補助!$AW$2:$BE$9,4,FALSE))","v":3},{"$f":"IF(ISERROR(HLOOKUP($BX3,補助!$AW$2:$BE$9,4,FALSE))=TRUE,\"\",HLOOKUP($BX3,補助!$AW$2:$BE$9,4,FALSE))","v":6},{"$f":"IF(ISERROR(HLOOKUP($BY3,補助!$AW$2:$BE$9,4,FALSE))=TRUE,\"\",HLOOKUP($BY3,補助!$AW$2:$BE$9,4,FALSE))","v":5},{"$f":"IF(ISERROR(HLOOKUP($BZ3,補助!$AW$2:$BE$9,4,FALSE))=TRUE,\"\",HLOOKUP($BZ3,補助!$AW$2:$BE$9,4,FALSE))","v":""},"8365"]
[null,null,null,null,null,null,null,null,null,null,null,null,null,null,null,null,null,null,null,null,null,null,null,null,null,null,null,null,null,null,null,null,null,null,null,null,null,null,null,null,null,null,null,null,null,null,null,null,null,null,null,null,null,null,null,null,null,null,null,null,null,null,null,null,null,null,null,null,null,null,null,{"$error":"#VALUE!"},"A4",null,{"$f":"IF(ISERROR(HLOOKUP($BP4,補助!$AW$2:$BE$9,4,FALSE))=TRUE,\"\",HLOOKUP($BP4,補助!$AW$2:$BE$9,4,FALSE))","v":9},{"$f":"IF(ISERROR(HLOOKUP($BQ4,補助!$AW$2:$BE$9,4,FALSE))=TRUE,\"\",HLOOKUP($BQ4,補助!$AW$2:$BE$9,4,FALSE))","v":""},{"$f":"IF(ISERROR(HLOOKUP($BR4,補助!$AW$2:$BE$9,4,FALSE))=TRUE,\"\",HLOOKUP($BR4,補助!$AW$2:$BE$9,4,FALSE))","v":""},{"$f":"IF(ISERROR(HLOOKUP($BS4,補助!$AW$2:$BE$9,4,FALSE))=TRUE,\"\",HLOOKUP($BS4,補助!$AW$2:$BE$9,4,FALSE))","v":""},{"$f":"IF(ISERROR(HLOOKUP($BT4,補助!$AW$2:$BE$9,4,FALSE))=TRUE,\"\",HLOOKUP($BT4,補助!$AW$2:$BE$9,4,FALSE))","v":""},{"$f":"IF(ISERROR(HLOOKUP($BU4,補助!$AW$2:$BE$9,4,FALSE))=TRUE,\"\",HLOOKUP($BU4,補助!$AW$2:$BE$9,4,FALSE))","v":""},{"$f":"IF(ISERROR(HLOOKUP($BV4,補助!$AW$2:$BE$9,4,FALSE))=TRUE,\"\",HLOOKUP($BV4,補助!$AW$2:$BE$9,4,FALSE))","v":""},{"$f":"IF(ISERROR(HLOOKUP($BW4,補助!$AW$2:$BE$9,4,FALSE))=TRUE,\"\",HLOOKUP($BW4,補助!$AW$2:$BE$9,4,FALSE))","v":3},{"$f":"IF(ISERROR(HLOOKUP($BX4,補助!$AW$2:$BE$9,4,FALSE))=TRUE,\"\",HLOOKUP($BX4,補助!$AW$2:$BE$9,4,FALSE))","v":6},{"$f":"IF(ISERROR(HLOOKUP($BY4,補助!$AW$2:$BE$9,4,FALSE))=TRUE,\"\",HLOOKUP($BY4,補助!$AW$2:$BE$9,4,FALSE))","v":1},{"$f":"IF(ISERROR(HLOOKUP($BZ4,補助!$AW$2:$BE$9,4,FALSE))=TRUE,\"\",HLOOKUP($BZ4,補助!$AW$2:$BE$9,4,FALSE))","v":""},"9361"]
[null,null,null,null,null,null,null,null,null,null,null,null,null,null,null,null,null,null,null,null,null,null,null,null,null,null,null,null,null,null,null,null,null,null,null,null,null,null,null,null,null,null,null,null,null,null,null,null,null,null,null,null,null,null,null,null,null,null,null,null,null,null,null,null,null,null,null,null,null,null,null,{"$error":"#VALUE!"},"A4",null,{"$f":"IF(ISERROR(HLOOKUP($BP5,補助!$AW$2:$BE$9,4,FALSE))=TRUE,\"\",HLOOKUP($BP5,補助!$AW$2:$BE$9,4,FALSE))","v":""},{"$f":"IF(ISERROR(HLOOKUP($BQ5,補助!$AW$2:$BE$9,4,FALSE))=TRUE,\"\",HLOOKUP($BQ5,補助!$AW$2:$BE$9,4,FALSE))","v":""},{"$f":"IF(ISERROR(HLOOKUP($BR5,補助!$AW$2:$BE$9,4,FALSE))=TRUE,\"\",HLOOKUP($BR5,補助!$AW$2:$BE$9,4,FALSE))","v":""},{"$f":"IF(ISERROR(HLOOKUP($BS5,補助!$AW$2:$BE$9,4,FALSE))=TRUE,\"\",HLOOKUP($BS5,補助!$AW$2:$BE$9,4,FALSE))","v":""},{"$f":"IF(ISERROR(HLOOKUP($BT5,補助!$AW$2:$BE$9,4,FALSE))=TRUE,\"\",HLOOKUP($BT5,補助!$AW$2:$BE$9,4,FALSE))","v":""},{"$f":"IF(ISERROR(HLOOKUP($BU5,補助!$AW$2:$BE$9,4,FALSE))=TRUE,\"\",HLOOKUP($BU5,補助!$AW$2:$BE$9,4,FALSE))","v":""},{"$f":"IF(ISERROR(HLOOKUP($BV5,補助!$AW$2:$BE$9,4,FALSE))=TRUE,\"\",HLOOKUP($BV5,補助!$AW$2:$BE$9,4,FALSE))","v":""},{"$f":"IF(ISERROR(HLOOKUP($BW5,補助!$AW$2:$BE$9,4,FALSE))=TRUE,\"\",HLOOKUP($BW5,補助!$AW$2:$BE$9,4,FALSE))","v":3},{"$f":"IF(ISERROR(HLOOKUP($BX5,補助!$AW$2:$BE$9,4,FALSE))=TRUE,\"\",HLOOKUP($BX5,補助!$AW$2:$BE$9,4,FALSE))","v":6},{"$f":"IF(ISERROR(HLOOKUP($BY5,補助!$AW$2:$BE$9,4,FALSE))=TRUE,\"\",HLOOKUP($BY5,補助!$AW$2:$BE$9,4,FALSE))","v":9},{"$f":"IF(ISERROR(HLOOKUP($BZ5,補助!$AW$2:$BE$9,4,FALSE))=TRUE,\"\",HLOOKUP($BZ5,補助!$AW$2:$BE$9,4,FALSE))","v":2},"369"]
[null,null,null,null,null,null,null,null,null,null,null,null,null,null,null,null,null,null,null,null,null,null,null,null,null,null,null,null,null,null,null,null,null,null,null,null,null,null,null,null,null,null,null,null,null,null,null,null,null,null,null,null,null,null,null,null,null,null,null,null,null,null,null,null,null,null,null,null,null,null,null,{"$error":"#VALUE!"},"A4",null,{"$f":"IF(ISERROR(HLOOKUP($BP6,補助!$AW$2:$BE$9,4,FALSE))=TRUE,\"\",HLOOKUP($BP6,補助!$AW$2:$BE$9,4,FALSE))","v":""},{"$f":"IF(ISERROR(HLOOKUP($BQ6,補助!$AW$2:$BE$9,4,FALSE))=TRUE,\"\",HLOOKUP($BQ6,補助!$AW$2:$BE$9,4,FALSE))","v":""},{"$f":"IF(ISERROR(HLOOKUP($BR6,補助!$AW$2:$BE$9,4,FALSE))=TRUE,\"\",HLOOKUP($BR6,補助!$AW$2:$BE$9,4,FALSE))","v":""},{"$f":"IF(ISERROR(HLOOKUP($BS6,補助!$AW$2:$BE$9,4,FALSE))=TRUE,\"\",HLOOKUP($BS6,補助!$AW$2:$BE$9,4,FALSE))","v":""},{"$f":"IF(ISERROR(HLOOKUP($BT6,補助!$AW$2:$BE$9,4,FALSE))=TRUE,\"\",HLOOKUP($BT6,補助!$AW$2:$BE$9,4,FALSE))","v":""},{"$f":"IF(ISERROR(HLOOKUP($BU6,補助!$AW$2:$BE$9,4,FALSE))=TRUE,\"\",HLOOKUP($BU6,補助!$AW$2:$BE$9,4,FALSE))","v":""},{"$f":"IF(ISERROR(HLOOKUP($BV6,補助!$AW$2:$BE$9,4,FALSE))=TRUE,\"\",HLOOKUP($BV6,補助!$AW$2:$BE$9,4,FALSE))","v":""},{"$f":"IF(ISERROR(HLOOKUP($BW6,補助!$AW$2:$BE$9,4,FALSE))=TRUE,\"\",HLOOKUP($BW6,補助!$AW$2:$BE$9,4,FALSE))","v":3},{"$f":"IF(ISERROR(HLOOKUP($BX6,補助!$AW$2:$BE$9,4,FALSE))=TRUE,\"\",HLOOKUP($BX6,補助!$AW$2:$BE$9,4,FALSE))","v":6},{"$f":"IF(ISERROR(HLOOKUP($BY6,補助!$AW$2:$BE$9,4,FALSE))=TRUE,\"\",HLOOKUP($BY6,補助!$AW$2:$BE$9,4,FALSE))","v":9},{"$f":"IF(ISERROR(HLOOKUP($BZ6,補助!$AW$2:$BE$9,4,FALSE))=TRUE,\"\",HLOOKUP($BZ6,補助!$AW$2:$BE$9,4,FALSE))","v":8},"369"]
[null,null,null,null,null,null,null,null,null,null,null,null,null,null,null,null,null,null,null,null,null,null,null,null,null,null,null,null,null,null,null,null,null,null,null,null,null,null,null,null,null,null,null,null,null,null,null,null,null,null,null,null,null,null,null,null,null,null,null,null,null,null,null,null,null,null,null,null,null,null,null,{"$error":"#VALUE!"},"A4",null,{"$f":"IF(ISERROR(HLOOKUP($BP7,補助!$AW$2:$BE$9,4,FALSE))=TRUE,\"\",HLOOKUP($BP7,補助!$AW$2:$BE$9,4,FALSE))","v":""},{"$f":"IF(ISERROR(HLOOKUP($BQ7,補助!$AW$2:$BE$9,4,FALSE))=TRUE,\"\",HLOOKUP($BQ7,補助!$AW$2:$BE$9,4,FALSE))","v":""},{"$f":"IF(ISERROR(HLOOKUP($BR7,補助!$AW$2:$BE$9,4,FALSE))=TRUE,\"\",HLOOKUP($BR7,補助!$AW$2:$BE$9,4,FALSE))","v":""},{"$f":"IF(ISERROR(HLOOKUP($BS7,補助!$AW$2:$BE$9,4,FALSE))=TRUE,\"\",HLOOKUP($BS7,補助!$AW$2:$BE$9,4,FALSE))","v":""},{"$f":"IF(ISERROR(HLOOKUP($BT7,補助!$AW$2:$BE$9,4,FALSE))=TRUE,\"\",HLOOKUP($BT7,補助!$AW$2:$BE$9,4,FALSE))","v":""},{"$f":"IF(ISERROR(HLOOKUP($BU7,補助!$AW$2:$BE$9,4,FALSE))=TRUE,\"\",HLOOKUP($BU7,補助!$AW$2:$BE$9,4,FALSE))","v":""},{"$f":"IF(ISERROR(HLOOKUP($BV7,補助!$AW$2:$BE$9,4,FALSE))=TRUE,\"\",HLOOKUP($BV7,補助!$AW$2:$BE$9,4,FALSE))","v":""},{"$f":"IF(ISERROR(HLOOKUP($BW7,補助!$AW$2:$BE$9,4,FALSE))=TRUE,\"\",HLOOKUP($BW7,補助!$AW$2:$BE$9,4,FALSE))","v":3},{"$f":"IF(ISERROR(HLOOKUP($BX7,補助!$AW$2:$BE$9,4,FALSE))=TRUE,\"\",HLOOKUP($BX7,補助!$AW$2:$BE$9,4,FALSE))","v":6},{"$f":"IF(ISERROR(HLOOKUP($BY7,補助!$AW$2:$BE$9,4,FALSE))=TRUE,\"\",HLOOKUP($BY7,補助!$AW$2:$BE$9,4,FALSE))","v":9},{"$f":"IF(ISERROR(HLOOKUP($BZ7,補助!$AW$2:$BE$9,4,FALSE))=TRUE,\"\",HLOOKUP($BZ7,補助!$AW$2:$BE$9,4,FALSE))","v":1},"369"]
[null,null,null,null,null,null,null,null,null,null,null,null,null,null,null,null,null,null,null,null,null,null,null,null,null,null,null,null,null,null,null,null,null,null,null,null,null,null,null,null,null,null,null,null,null,null,null,null,null,null,null,null,null,null,null,null,null,null,null,null,null,null,null,null,null,null,null,null,null,null,null,{"$error":"#VALUE!"},"A4",null,{"$f":"IF(ISERROR(HLOOKUP($BP8,補助!$AW$2:$BE$9,4,FALSE))=TRUE,\"\",HLOOKUP($BP8,補助!$AW$2:$BE$9,4,FALSE))","v":""},{"$f":"IF(ISERROR(HLOOKUP($BQ8,補助!$AW$2:$BE$9,4,FALSE))=TRUE,\"\",HLOOKUP($BQ8,補助!$AW$2:$BE$9,4,FALSE))","v":""},{"$f":"IF(ISERROR(HLOOKUP($BR8,補助!$AW$2:$BE$9,4,FALSE))=TRUE,\"\",HLOOKUP($BR8,補助!$AW$2:$BE$9,4,FALSE))","v":""},{"$f":"IF(ISERROR(HLOOKUP($BS8,補助!$AW$2:$BE$9,4,FALSE))=TRUE,\"\",HLOOKUP($BS8,補助!$AW$2:$BE$9,4,FALSE))","v":""},{"$f":"IF(ISERROR(HLOOKUP($BT8,補助!$AW$2:$BE$9,4,FALSE))=TRUE,\"\",HLOOKUP($BT8,補助!$AW$2:$BE$9,4,FALSE))","v":""},{"$f":"IF(ISERROR(HLOOKUP($BU8,補助!$AW$2:$BE$9,4,FALSE))=TRUE,\"\",HLOOKUP($BU8,補助!$AW$2:$BE$9,4,FALSE))","v":""},{"$f":"IF(ISERROR(HLOOKUP($BV8,補助!$AW$2:$BE$9,4,FALSE))=TRUE,\"\",HLOOKUP($BV8,補助!$AW$2:$BE$9,4,FALSE))","v":""},{"$f":"IF(ISERROR(HLOOKUP($BW8,補助!$AW$2:$BE$9,4,FALSE))=TRUE,\"\",HLOOKUP($BW8,補助!$AW$2:$BE$9,4,FALSE))","v":3},{"$f":"IF(ISERROR(HLOOKUP($BX8,補助!$AW$2:$BE$9,4,FALSE))=TRUE,\"\",HLOOKUP($BX8,補助!$AW$2:$BE$9,4,FALSE))","v":6},{"$f":"IF(ISERROR(HLOOKUP($BY8,補助!$AW$2:$BE$9,4,FALSE))=TRUE,\"\",HLOOKUP($BY8,補助!$AW$2:$BE$9,4,FALSE))","v":9},{"$f":"IF(ISERROR(HLOOKUP($BZ8,補助!$AW$2:$BE$9,4,FALSE))=TRUE,\"\",HLOOKUP($BZ8,補助!$AW$2:$BE$9,4,FALSE))","v":4},"369"]
[null,null,null,null,null,null,null,null,null,null,null,null,null,null,null,null,null,null,null,null,null,null,null,null,null,null,null,null,null,null,null,null,null,null,null,null,null,null,null,null,null,null,null,null,null,null,null,null,null,null,null,null,null,null,null,null,null,null,null,null,null,null,null,null,null,null,null,null,null,null,null,{"$error":"#VALUE!"},"A4",null,{"$f":"IF(ISERROR(HLOOKUP($BP9,補助!$AW$2:$BE$9,4,FALSE))=TRUE,\"\",HLOOKUP($BP9,補助!$AW$2:$BE$9,4,FALSE))","v":""},{"$f":"IF(ISERROR(HLOOKUP($BQ9,補助!$AW$2:$BE$9,4,FALSE))=TRUE,\"\",HLOOKUP($BQ9,補助!$AW$2:$BE$9,4,FALSE))","v":""},{"$f":"IF(ISERROR(HLOOKUP($BR9,補助!$AW$2:$BE$9,4,FALSE))=TRUE,\"\",HLOOKUP($BR9,補助!$AW$2:$BE$9,4,FALSE))","v":""},{"$f":"IF(ISERROR(HLOOKUP($BS9,補助!$AW$2:$BE$9,4,FALSE))=TRUE,\"\",HLOOKUP($BS9,補助!$AW$2:$BE$9,4,FALSE))","v":""},{"$f":"IF(ISERROR(HLOOKUP($BT9,補助!$AW$2:$BE$9,4,FALSE))=TRUE,\"\",HLOOKUP($BT9,補助!$AW$2:$BE$9,4,FALSE))","v":""},{"$f":"IF(ISERROR(HLOOKUP($BU9,補助!$AW$2:$BE$9,4,FALSE))=TRUE,\"\",HLOOKUP($BU9,補助!$AW$2:$BE$9,4,FALSE))","v":""},{"$f":"IF(ISERROR(HLOOKUP($BV9,補助!$AW$2:$BE$9,4,FALSE))=TRUE,\"\",HLOOKUP($BV9,補助!$AW$2:$BE$9,4,FALSE))","v":""},{"$f":"IF(ISERROR(HLOOKUP($BW9,補助!$AW$2:$BE$9,4,FALSE))=TRUE,\"\",HLOOKUP($BW9,補助!$AW$2:$BE$9,4,FALSE))","v":3},{"$f":"IF(ISERROR(HLOOKUP($BX9,補助!$AW$2:$BE$9,4,FALSE))=TRUE,\"\",HLOOKUP($BX9,補助!$AW$2:$BE$9,4,FALSE))","v":6},{"$f":"IF(ISERROR(HLOOKUP($BY9,補助!$AW$2:$BE$9,4,FALSE))=TRUE,\"\",HLOOKUP($BY9,補助!$AW$2:$BE$9,4,FALSE))","v":9},{"$f":"IF(ISERROR(HLOOKUP($BZ9,補助!$AW$2:$BE$9,4,FALSE))=TRUE,\"\",HLOOKUP($BZ9,補助!$AW$2:$BE$9,4,FALSE))","v":7},"369"]
[null,null,null,null,null,null,null,null,null,null,null,null,null,null,null,null,null,null,null,null,null,null,null,null,null,null,null,null,null,null,null,null,null,null,null,null,null,null,null,null,null,null,null,null,null,null,null,null,null,null,null,null,null,null,null,null,null,null,null,null,null,null,null,null,null,null,null,null,null,null,null,{"$error":"#VALUE!"},"A4",null,{"$f":"IF(ISERROR(HLOOKUP($BP10,補助!$AW$2:$BE$9,4,FALSE))=TRUE,\"\",HLOOKUP($BP10,補助!$AW$2:$BE$9,4,FALSE))","v":""},{"$f":"IF(ISERROR(HLOOKUP($BQ10,補助!$AW$2:$BE$9,4,FALSE))=TRUE,\"\",HLOOKUP($BQ10,補助!$AW$2:$BE$9,4,FALSE))","v":""},{"$f":"IF(ISERROR(HLOOKUP($BR10,補助!$AW$2:$BE$9,4,FALSE))=TRUE,\"\",HLOOKUP($BR10,補助!$AW$2:$BE$9,4,FALSE))","v":""},{"$f":"IF(ISERROR(HLOOKUP($BS10,補助!$AW$2:$BE$9,4,FALSE))=TRUE,\"\",HLOOKUP($BS10,補助!$AW$2:$BE$9,4,FALSE))","v":""},{"$f":"IF(ISERROR(HLOOKUP($BT10,補助!$AW$2:$BE$9,4,FALSE))=TRUE,\"\",HLOOKUP($BT10,補助!$AW$2:$BE$9,4,FALSE))","v":""},{"$f":"IF(ISERROR(HLOOKUP($BU10,補助!$AW$2:$BE$9,4,FALSE))=TRUE,\"\",HLOOKUP($BU10,補助!$AW$2:$BE$9,4,FALSE))","v":""},{"$f":"IF(ISERROR(HLOOKUP($BV10,補助!$AW$2:$BE$9,4,FALSE))=TRUE,\"\",HLOOKUP($BV10,補助!$AW$2:$BE$9,4,FALSE))","v":""},{"$f":"IF(ISERROR(HLOOKUP($BW10,補助!$AW$2:$BE$9,4,FALSE))=TRUE,\"\",HLOOKUP($BW10,補助!$AW$2:$BE$9,4,FALSE))","v":3},{"$f":"IF(ISERROR(HLOOKUP($BX10,補助!$AW$2:$BE$9,4,FALSE))=TRUE,\"\",HLOOKUP($BX10,補助!$AW$2:$BE$9,4,FALSE))","v":6},{"$f":"IF(ISERROR(HLOOKUP($BY10,補助!$AW$2:$BE$9,4,FALSE))=TRUE,\"\",HLOOKUP($BY10,補助!$AW$2:$BE$9,4,FALSE))","v":8},{"$f":"IF(ISERROR(HLOOKUP($BZ10,補助!$AW$2:$BE$9,4,FALSE))=TRUE,\"\",HLOOKUP($BZ10,補助!$AW$2:$BE$9,4,FALSE))","v":9},"368"]
[null,null,null,null,null,null,null,null,null,null,null,null,null,null,null,null,null,null,null,null,null,null,null,null,null,null,null,null,null,null,null,null,null,null,null,null,null,null,null,null,null,null,null,null,null,null,null,null,null,null,null,null,null,null,null,null,null,null,null,null,null,null,null,null,null,null,null,null,null,null,null,{"$error":"#VALUE!"},"A4",null,{"$f":"IF(ISERROR(HLOOKUP($BP11,補助!$AW$2:$BE$9,4,FALSE))=TRUE,\"\",HLOOKUP($BP11,補助!$AW$2:$BE$9,4,FALSE))","v":""},{"$f":"IF(ISERROR(HLOOKUP($BQ11,補助!$AW$2:$BE$9,4,FALSE))=TRUE,\"\",HLOOKUP($BQ11,補助!$AW$2:$BE$9,4,FALSE))","v":""},{"$f":"IF(ISERROR(HLOOKUP($BR11,補助!$AW$2:$BE$9,4,FALSE))=TRUE,\"\",HLOOKUP($BR11,補助!$AW$2:$BE$9,4,FALSE))","v":""},{"$f":"IF(ISERROR(HLOOKUP($BS11,補助!$AW$2:$BE$9,4,FALSE))=TRUE,\"\",HLOOKUP($BS11,補助!$AW$2:$BE$9,4,FALSE))","v":""},{"$f":"IF(ISERROR(HLOOKUP($BT11,補助!$AW$2:$BE$9,4,FALSE))=TRUE,\"\",HLOOKUP($BT11,補助!$AW$2:$BE$9,4,FALSE))","v":""},{"$f":"IF(ISERROR(HLOOKUP($BU11,補助!$AW$2:$BE$9,4,FALSE))=TRUE,\"\",HLOOKUP($BU11,補助!$AW$2:$BE$9,4,FALSE))","v":""},{"$f":"IF(ISERROR(HLOOKUP($BV11,補助!$AW$2:$BE$9,4,FALSE))=TRUE,\"\",HLOOKUP($BV11,補助!$AW$2:$BE$9,4,FALSE))","v":""},{"$f":"IF(ISERROR(HLOOKUP($BW11,補助!$AW$2:$BE$9,4,FALSE))=TRUE,\"\",HLOOKUP($BW11,補助!$AW$2:$BE$9,4,FALSE))","v":3},{"$f":"IF(ISERROR(HLOOKUP($BX11,補助!$AW$2:$BE$9,4,FALSE))=TRUE,\"\",HLOOKUP($BX11,補助!$AW$2:$BE$9,4,FALSE))","v":6},{"$f":"IF(ISERROR(HLOOKUP($BY11,補助!$AW$2:$BE$9,4,FALSE))=TRUE,\"\",HLOOKUP($BY11,補助!$AW$2:$BE$9,4,FALSE))","v":8},{"$f":"IF(ISERROR(HLOOKUP($BZ11,補助!$AW$2:$BE$9,4,FALSE))=TRUE,\"\",HLOOKUP($BZ11,補助!$AW$2:$BE$9,4,FALSE))","v":2},"368"]
[null,null,null,null,null,null,null,null,null,null,null,null,null,null,null,null,null,null,null,null,null,null,null,null,null,null,null,null,null,null,null,null,null,null,null,null,null,null,null,null,null,null,null,null,null,null,null,null,null,null,null,null,null,null,null,null,null,null,null,null,null,null,null,null,null,null,null,null,null,null,null,{"$error":"#VALUE!"},"A4",null,{"$f":"IF(ISERROR(HLOOKUP($BP12,補助!$AW$2:$BE$9,4,FALSE))=TRUE,\"\",HLOOKUP($BP12,補助!$AW$2:$BE$9,4,FALSE))","v":""},{"$f":"IF(ISERROR(HLOOKUP($BQ12,補助!$AW$2:$BE$9,4,FALSE))=TRUE,\"\",HLOOKUP($BQ12,補助!$AW$2:$BE$9,4,FALSE))","v":""},{"$f":"IF(ISERROR(HLOOKUP($BR12,補助!$AW$2:$BE$9,4,FALSE))=TRUE,\"\",HLOOKUP($BR12,補助!$AW$2:$BE$9,4,FALSE))","v":""},{"$f":"IF(ISERROR(HLOOKUP($BS12,補助!$AW$2:$BE$9,4,FALSE))=TRUE,\"\",HLOOKUP($BS12,補助!$AW$2:$BE$9,4,FALSE))","v":""},{"$f":"IF(ISERROR(HLOOKUP($BT12,補助!$AW$2:$BE$9,4,FALSE))=TRUE,\"\",HLOOKUP($BT12,補助!$AW$2:$BE$9,4,FALSE))","v":""},{"$f":"IF(ISERROR(HLOOKUP($BU12,補助!$AW$2:$BE$9,4,FALSE))=TRUE,\"\",HLOOKUP($BU12,補助!$AW$2:$BE$9,4,FALSE))","v":""},{"$f":"IF(ISERROR(HLOOKUP($BV12,補助!$AW$2:$BE$9,4,FALSE))=TRUE,\"\",HLOOKUP($BV12,補助!$AW$2:$BE$9,4,FALSE))","v":""},{"$f":"IF(ISERROR(HLOOKUP($BW12,補助!$AW$2:$BE$9,4,FALSE))=TRUE,\"\",HLOOKUP($BW12,補助!$AW$2:$BE$9,4,FALSE))","v":3},{"$f":"IF(ISERROR(HLOOKUP($BX12,補助!$AW$2:$BE$9,4,FALSE))=TRUE,\"\",HLOOKUP($BX12,補助!$AW$2:$BE$9,4,FALSE))","v":6},{"$f":"IF(ISERROR(HLOOKUP($BY12,補助!$AW$2:$BE$9,4,FALSE))=TRUE,\"\",HLOOKUP($BY12,補助!$AW$2:$BE$9,4,FALSE))","v":8},{"$f":"IF(ISERROR(HLOOKUP($BZ12,補助!$AW$2:$BE$9,4,FALSE))=TRUE,\"\",HLOOKUP($BZ12,補助!$AW$2:$BE$9,4,FALSE))","v":1},"368"]
[null,null,null,null,null,null,null,null,null,null,null,null,null,null,null,null,null,null,null,null,null,null,null,null,null,null,null,null,null,null,null,null,null,null,null,null,null,null,null,null,null,null,null,null,null,null,null,null,null,null,null,null,null,null,null,null,null,null,null,null,null,null,null,null,null,null,null,null,null,null,null,{"$error":"#VALUE!"},"A4",null,{"$f":"IF(ISERROR(HLOOKUP($BP13,補助!$AW$2:$BE$9,4,FALSE))=TRUE,\"\",HLOOKUP($BP13,補助!$AW$2:$BE$9,4,FALSE))","v":""},{"$f":"IF(ISERROR(HLOOKUP($BQ13,補助!$AW$2:$BE$9,4,FALSE))=TRUE,\"\",HLOOKUP($BQ13,補助!$AW$2:$BE$9,4,FALSE))","v":""},{"$f":"IF(ISERROR(HLOOKUP($BR13,補助!$AW$2:$BE$9,4,FALSE))=TRUE,\"\",HLOOKUP($BR13,補助!$AW$2:$BE$9,4,FALSE))","v":""},{"$f":"IF(ISERROR(HLOOKUP($BS13,補助!$AW$2:$BE$9,4,FALSE))=TRUE,\"\",HLOOKUP($BS13,補助!$AW$2:$BE$9,4,FALSE))","v":""},{"$f":"IF(ISERROR(HLOOKUP($BT13,補助!$AW$2:$BE$9,4,FALSE))=TRUE,\"\",HLOOKUP($BT13,補助!$AW$2:$BE$9,4,FALSE))","v":""},{"$f":"IF(ISERROR(HLOOKUP($BU13,補助!$AW$2:$BE$9,4,FALSE))=TRUE,\"\",HLOOKUP($BU13,補助!$AW$2:$BE$9,4,FALSE))","v":""},{"$f":"IF(ISERROR(HLOOKUP($BV13,補助!$AW$2:$BE$9,4,FALSE))=TRUE,\"\",HLOOKUP($BV13,補助!$AW$2:$BE$9,4,FALSE))","v":""},{"$f":"IF(ISERROR(HLOOKUP($BW13,補助!$AW$2:$BE$9,4,FALSE))=TRUE,\"\",HLOOKUP($BW13,補助!$AW$2:$BE$9,4,FALSE))","v":3},{"$f":"IF(ISERROR(HLOOKUP($BX13,補助!$AW$2:$BE$9,4,FALSE))=TRUE,\"\",HLOOKUP($BX13,補助!$AW$2:$BE$9,4,FALSE))","v":6},{"$f":"IF(ISERROR(HLOOKUP($BY13,補助!$AW$2:$BE$9,4,FALSE))=TRUE,\"\",HLOOKUP($BY13,補助!$AW$2:$BE$9,4,FALSE))","v":8},{"$f":"IF(ISERROR(HLOOKUP($BZ13,補助!$AW$2:$BE$9,4,FALSE))=TRUE,\"\",HLOOKUP($BZ13,補助!$AW$2:$BE$9,4,FALSE))","v":4},"368"]
[null,null,null,null,null,null,null,null,null,null,null,null,null,null,null,null,null,null,null,null,null,null,null,null,null,null,null,null,null,null,null,null,null,null,null,null,null,null,null,null,null,null,null,null,null,null,null,null,null,null,null,null,null,null,null,null,null,null,null,null,null,null,null,null,null,null,null,null,null,null,null,{"$error":"#VALUE!"},"A4",null,{"$f":"IF(ISERROR(HLOOKUP($BP14,補助!$AW$2:$BE$9,4,FALSE))=TRUE,\"\",HLOOKUP($BP14,補助!$AW$2:$BE$9,4,FALSE))","v":""},{"$f":"IF(ISERROR(HLOOKUP($BQ14,補助!$AW$2:$BE$9,4,FALSE))=TRUE,\"\",HLOOKUP($BQ14,補助!$AW$2:$BE$9,4,FALSE))","v":""},{"$f":"IF(ISERROR(HLOOKUP($BR14,補助!$AW$2:$BE$9,4,FALSE))=TRUE,\"\",HLOOKUP($BR14,補助!$AW$2:$BE$9,4,FALSE))","v":""},{"$f":"IF(ISERROR(HLOOKUP($BS14,補助!$AW$2:$BE$9,4,FALSE))=TRUE,\"\",HLOOKUP($BS14,補助!$AW$2:$BE$9,4,FALSE))","v":""},{"$f":"IF(ISERROR(HLOOKUP($BT14,補助!$AW$2:$BE$9,4,FALSE))=TRUE,\"\",HLOOKUP($BT14,補助!$AW$2:$BE$9,4,FALSE))","v":""},{"$f":"IF(ISERROR(HLOOKUP($BU14,補助!$AW$2:$BE$9,4,FALSE))=TRUE,\"\",HLOOKUP($BU14,補助!$AW$2:$BE$9,4,FALSE))","v":""},{"$f":"IF(ISERROR(HLOOKUP($BV14,補助!$AW$2:$BE$9,4,FALSE))=TRUE,\"\",HLOOKUP($BV14,補助!$AW$2:$BE$9,4,FALSE))","v":""},{"$f":"IF(ISERROR(HLOOKUP($BW14,補助!$AW$2:$BE$9,4,FALSE))=TRUE,\"\",HLOOKUP($BW14,補助!$AW$2:$BE$9,4,FALSE))","v":3},{"$f":"IF(ISERROR(HLOOKUP($BX14,補助!$AW$2:$BE$9,4,FALSE))=TRUE,\"\",HLOOKUP($BX14,補助!$AW$2:$BE$9,4,FALSE))","v":6},{"$f":"IF(ISERROR(HLOOKUP($BY14,補助!$AW$2:$BE$9,4,FALSE))=TRUE,\"\",HLOOKUP($BY14,補助!$AW$2:$BE$9,4,FALSE))","v":8},{"$f":"IF(ISERROR(HLOOKUP($BZ14,補助!$AW$2:$BE$9,4,FALSE))=TRUE,\"\",HLOOKUP($BZ14,補助!$AW$2:$BE$9,4,FALSE))","v":7},"368"]
[null,null,null,null,null,null,null,null,null,null,null,null,null,null,null,null,null,null,null,null,null,null,null,null,null,null,null,null,null,null,null,null,null,null,null,null,null,null,null,null,null,null,null,null,null,null,null,null,null,null,null,null,null,null,null,null,null,null,null,null,null,null,null,null,null,null,null,null,null,null,null,{"$error":"#VALUE!"},"A4","白",{"$f":"IF(ISERROR(HLOOKUP($BP15,補助!$AW$2:$BE$9,4,FALSE))=TRUE,\"\",HLOOKUP($BP15,補助!$AW$2:$BE$9,4,FALSE))","v":""},{"$f":"IF(ISERROR(HLOOKUP($BQ15,補助!$AW$2:$BE$9,4,FALSE))=TRUE,\"\",HLOOKUP($BQ15,補助!$AW$2:$BE$9,4,FALSE))","v":""},{"$f":"IF(ISERROR(HLOOKUP($BR15,補助!$AW$2:$BE$9,4,FALSE))=TRUE,\"\",HLOOKUP($BR15,補助!$AW$2:$BE$9,4,FALSE))","v":""},{"$f":"IF(ISERROR(HLOOKUP($BS15,補助!$AW$2:$BE$9,4,FALSE))=TRUE,\"\",HLOOKUP($BS15,補助!$AW$2:$BE$9,4,FALSE))","v":""},{"$f":"IF(ISERROR(HLOOKUP($BT15,補助!$AW$2:$BE$9,4,FALSE))=TRUE,\"\",HLOOKUP($BT15,補助!$AW$2:$BE$9,4,FALSE))","v":""},{"$f":"IF(ISERROR(HLOOKUP($BU15,補助!$AW$2:$BE$9,4,FALSE))=TRUE,\"\",HLOOKUP($BU15,補助!$AW$2:$BE$9,4,FALSE))","v":""},{"$f":"IF(ISERROR(HLOOKUP($BV15,補助!$AW$2:$BE$9,4,FALSE))=TRUE,\"\",HLOOKUP($BV15,補助!$AW$2:$BE$9,4,FALSE))","v":""},{"$f":"IF(ISERROR(HLOOKUP($BW15,補助!$AW$2:$BE$9,4,FALSE))=TRUE,\"\",HLOOKUP($BW15,補助!$AW$2:$BE$9,4,FALSE))","v":3},{"$f":"IF(ISERROR(HLOOKUP($BX15,補助!$AW$2:$BE$9,4,FALSE))=TRUE,\"\",HLOOKUP($BX15,補助!$AW$2:$BE$9,4,FALSE))","v":6},{"$f":"IF(ISERROR(HLOOKUP($BY15,補助!$AW$2:$BE$9,4,FALSE))=TRUE,\"\",HLOOKUP($BY15,補助!$AW$2:$BE$9,4,FALSE))","v":8},{"$f":"IF(ISERROR(HLOOKUP($BZ15,補助!$AW$2:$BE$9,4,FALSE))=TRUE,\"\",HLOOKUP($BZ15,補助!$AW$2:$BE$9,4,FALSE))","v":5},"368"]
[null,null,null,null,null,null,null,null,null,null,null,null,null,null,null,null,null,null,null,null,null,null,null,null,null,null,null,null,null,null,null,null,null,null,null,null,null,null,null,null,null,null,null,null,null,null,null,null,null,null,null,null,null,null,null,null,null,null,null,null,null,null,null,null,null,null,null,null,null,null,null,{"$error":"#VALUE!"},"A4",null,{"$f":"IF(ISERROR(HLOOKUP($BP16,補助!$AW$2:$BE$9,4,FALSE))=TRUE,\"\",HLOOKUP($BP16,補助!$AW$2:$BE$9,4,FALSE))","v":""},{"$f":"IF(ISERROR(HLOOKUP($BQ16,補助!$AW$2:$BE$9,4,FALSE))=TRUE,\"\",HLOOKUP($BQ16,補助!$AW$2:$BE$9,4,FALSE))","v":""},{"$f":"IF(ISERROR(HLOOKUP($BR16,補助!$AW$2:$BE$9,4,FALSE))=TRUE,\"\",HLOOKUP($BR16,補助!$AW$2:$BE$9,4,FALSE))","v":""},{"$f":"IF(ISERROR(HLOOKUP($BS16,補助!$AW$2:$BE$9,4,FALSE))=TRUE,\"\",HLOOKUP($BS16,補助!$AW$2:$BE$9,4,FALSE))","v":""},{"$f":"IF(ISERROR(HLOOKUP($BT16,補助!$AW$2:$BE$9,4,FALSE))=TRUE,\"\",HLOOKUP($BT16,補助!$AW$2:$BE$9,4,FALSE))","v":""},{"$f":"IF(ISERROR(HLOOKUP($BU16,補助!$AW$2:$BE$9,4,FALSE))=TRUE,\"\",HLOOKUP($BU16,補助!$AW$2:$BE$9,4,FALSE))","v":""},{"$f":"IF(ISERROR(HLOOKUP($BV16,補助!$AW$2:$BE$9,4,FALSE))=TRUE,\"\",HLOOKUP($BV16,補助!$AW$2:$BE$9,4,FALSE))","v":""},{"$f":"IF(ISERROR(HLOOKUP($BW16,補助!$AW$2:$BE$9,4,FALSE))=TRUE,\"\",HLOOKUP($BW16,補助!$AW$2:$BE$9,4,FALSE))","v":3},{"$f":"IF(ISERROR(HLOOKUP($BX16,補助!$AW$2:$BE$9,4,FALSE))=TRUE,\"\",HLOOKUP($BX16,補助!$AW$2:$BE$9,4,FALSE))","v":6},{"$f":"IF(ISERROR(HLOOKUP($BY16,補助!$AW$2:$BE$9,4,FALSE))=TRUE,\"\",HLOOKUP($BY16,補助!$AW$2:$BE$9,4,FALSE))","v":4},{"$f":"IF(ISERROR(HLOOKUP($BZ16,補助!$AW$2:$BE$9,4,FALSE))=TRUE,\"\",HLOOKUP($BZ16,補助!$AW$2:$BE$9,4,FALSE))","v":9},"364"]
[null,null,null,null,null,null,null,null,null,null,null,null,null,null,null,null,null,null,null,null,null,null,null,null,null,null,null,null,null,null,null,null,null,null,null,null,null,null,null,null,null,null,null,null,null,null,null,null,null,null,null,null,null,null,null,null,null,null,null,null,null,null,null,null,null,null,null,null,null,null,null,{"$error":"#VALUE!"},"A4",null,{"$f":"IF(ISERROR(HLOOKUP($BP17,補助!$AW$2:$BE$9,4,FALSE))=TRUE,\"\",HLOOKUP($BP17,補助!$AW$2:$BE$9,4,FALSE))","v":""},{"$f":"IF(ISERROR(HLOOKUP($BQ17,補助!$AW$2:$BE$9,4,FALSE))=TRUE,\"\",HLOOKUP($BQ17,補助!$AW$2:$BE$9,4,FALSE))","v":""},{"$f":"IF(ISERROR(HLOOKUP($BR17,補助!$AW$2:$BE$9,4,FALSE))=TRUE,\"\",HLOOKUP($BR17,補助!$AW$2:$BE$9,4,FALSE))","v":""},{"$f":"IF(ISERROR(HLOOKUP($BS17,補助!$AW$2:$BE$9,4,FALSE))=TRUE,\"\",HLOOKUP($BS17,補助!$AW$2:$BE$9,4,FALSE))","v":""},{"$f":"IF(ISERROR(HLOOKUP($BT17,補助!$AW$2:$BE$9,4,FALSE))=TRUE,\"\",HLOOKUP($BT17,補助!$AW$2:$BE$9,4,FALSE))","v":""},{"$f":"IF(ISERROR(HLOOKUP($BU17,補助!$AW$2:$BE$9,4,FALSE))=TRUE,\"\",HLOOKUP($BU17,補助!$AW$2:$BE$9,4,FALSE))","v":""},{"$f":"IF(ISERROR(HLOOKUP($BV17,補助!$AW$2:$BE$9,4,FALSE))=TRUE,\"\",HLOOKUP($BV17,補助!$AW$2:$BE$9,4,FALSE))","v":""},{"$f":"IF(ISERROR(HLOOKUP($BW17,補助!$AW$2:$BE$9,4,FALSE))=TRUE,\"\",HLOOKUP($BW17,補助!$AW$2:$BE$9,4,FALSE))","v":3},{"$f":"IF(ISERROR(HLOOKUP($BX17,補助!$AW$2:$BE$9,4,FALSE))=TRUE,\"\",HLOOKUP($BX17,補助!$AW$2:$BE$9,4,FALSE))","v":6},{"$f":"IF(ISERROR(HLOOKUP($BY17,補助!$AW$2:$BE$9,4,FALSE))=TRUE,\"\",HLOOKUP($BY17,補助!$AW$2:$BE$9,4,FALSE))","v":4},{"$f":"IF(ISERROR(HLOOKUP($BZ17,補助!$AW$2:$BE$9,4,FALSE))=TRUE,\"\",HLOOKUP($BZ17,補助!$AW$2:$BE$9,4,FALSE))","v":2},"364"]
[null,null,null,null,null,null,null,null,null,null,null,null,null,null,null,null,null,null,null,null,null,null,null,null,null,null,null,null,null,null,null,null,null,null,null,null,null,null,null,null,null,null,null,null,null,null,null,null,null,null,null,null,null,null,null,null,null,null,null,null,null,null,null,null,null,null,null,null,null,null,null,{"$error":"#VALUE!"},"A4",null,{"$f":"IF(ISERROR(HLOOKUP($BP18,補助!$AW$2:$BE$9,4,FALSE))=TRUE,\"\",HLOOKUP($BP18,補助!$AW$2:$BE$9,4,FALSE))","v":""},{"$f":"IF(ISERROR(HLOOKUP($BQ18,補助!$AW$2:$BE$9,4,FALSE))=TRUE,\"\",HLOOKUP($BQ18,補助!$AW$2:$BE$9,4,FALSE))","v":""},{"$f":"IF(ISERROR(HLOOKUP($BR18,補助!$AW$2:$BE$9,4,FALSE))=TRUE,\"\",HLOOKUP($BR18,補助!$AW$2:$BE$9,4,FALSE))","v":""},{"$f":"IF(ISERROR(HLOOKUP($BS18,補助!$AW$2:$BE$9,4,FALSE))=TRUE,\"\",HLOOKUP($BS18,補助!$AW$2:$BE$9,4,FALSE))","v":""},{"$f":"IF(ISERROR(HLOOKUP($BT18,補助!$AW$2:$BE$9,4,FALSE))=TRUE,\"\",HLOOKUP($BT18,補助!$AW$2:$BE$9,4,FALSE))","v":""},{"$f":"IF(ISERROR(HLOOKUP($BU18,補助!$AW$2:$BE$9,4,FALSE))=TRUE,\"\",HLOOKUP($BU18,補助!$AW$2:$BE$9,4,FALSE))","v":""},{"$f":"IF(ISERROR(HLOOKUP($BV18,補助!$AW$2:$BE$9,4,FALSE))=TRUE,\"\",HLOOKUP($BV18,補助!$AW$2:$BE$9,4,FALSE))","v":""},{"$f":"IF(ISERROR(HLOOKUP($BW18,補助!$AW$2:$BE$9,4,FALSE))=TRUE,\"\",HLOOKUP($BW18,補助!$AW$2:$BE$9,4,FALSE))","v":3},{"$f":"IF(ISERROR(HLOOKUP($BX18,補助!$AW$2:$BE$9,4,FALSE))=TRUE,\"\",HLOOKUP($BX18,補助!$AW$2:$BE$9,4,FALSE))","v":6},{"$f":"IF(ISERROR(HLOOKUP($BY18,補助!$AW$2:$BE$9,4,FALSE))=TRUE,\"\",HLOOKUP($BY18,補助!$AW$2:$BE$9,4,FALSE))","v":4},{"$f":"IF(ISERROR(HLOOKUP($BZ18,補助!$AW$2:$BE$9,4,FALSE))=TRUE,\"\",HLOOKUP($BZ18,補助!$AW$2:$BE$9,4,FALSE))","v":5},"364"]
[null,null,null,null,null,null,null,null,null,null,null,null,null,null,null,null,null,null,null,null,null,null,null,null,null,null,null,null,null,null,null,null,null,null,null,null,null,null,null,null,null,null,null,null,null,null,null,null,null,null,null,null,null,null,null,null,null,null,null,null,null,null,null,null,null,null,null,null,null,null,null,{"$error":"#VALUE!"},"A4",null,{"$f":"IF(ISERROR(HLOOKUP($BP19,補助!$AW$2:$BE$9,4,FALSE))=TRUE,\"\",HLOOKUP($BP19,補助!$AW$2:$BE$9,4,FALSE))","v":""},{"$f":"IF(ISERROR(HLOOKUP($BQ19,補助!$AW$2:$BE$9,4,FALSE))=TRUE,\"\",HLOOKUP($BQ19,補助!$AW$2:$BE$9,4,FALSE))","v":""},{"$f":"IF(ISERROR(HLOOKUP($BR19,補助!$AW$2:$BE$9,4,FALSE))=TRUE,\"\",HLOOKUP($BR19,補助!$AW$2:$BE$9,4,FALSE))","v":""},{"$f":"IF(ISERROR(HLOOKUP($BS19,補助!$AW$2:$BE$9,4,FALSE))=TRUE,\"\",HLOOKUP($BS19,補助!$AW$2:$BE$9,4,FALSE))","v":""},{"$f":"IF(ISERROR(HLOOKUP($BT19,補助!$AW$2:$BE$9,4,FALSE))=TRUE,\"\",HLOOKUP($BT19,補助!$AW$2:$BE$9,4,FALSE))","v":""},{"$f":"IF(ISERROR(HLOOKUP($BU19,補助!$AW$2:$BE$9,4,FALSE))=TRUE,\"\",HLOOKUP($BU19,補助!$AW$2:$BE$9,4,FALSE))","v":""},{"$f":"IF(ISERROR(HLOOKUP($BV19,補助!$AW$2:$BE$9,4,FALSE))=TRUE,\"\",HLOOKUP($BV19,補助!$AW$2:$BE$9,4,FALSE))","v":""},{"$f":"IF(ISERROR(HLOOKUP($BW19,補助!$AW$2:$BE$9,4,FALSE))=TRUE,\"\",HLOOKUP($BW19,補助!$AW$2:$BE$9,4,FALSE))","v":3},{"$f":"IF(ISERROR(HLOOKUP($BX19,補助!$AW$2:$BE$9,4,FALSE))=TRUE,\"\",HLOOKUP($BX19,補助!$AW$2:$BE$9,4,FALSE))","v":6},{"$f":"IF(ISERROR(HLOOKUP($BY19,補助!$AW$2:$BE$9,4,FALSE))=TRUE,\"\",HLOOKUP($BY19,補助!$AW$2:$BE$9,4,FALSE))","v":4},{"$f":"IF(ISERROR(HLOOKUP($BZ19,補助!$AW$2:$BE$9,4,FALSE))=TRUE,\"\",HLOOKUP($BZ19,補助!$AW$2:$BE$9,4,FALSE))","v":8},"364"]
[null,null,null,null,null,null,null,null,null,null,null,null,null,null,null,null,null,null,null,null,null,null,null,null,null,null,null,null,null,null,null,null,null,null,null,null,null,null,null,null,null,null,null,null,null,null,null,null,null,null,null,null,null,null,null,null,null,null,null,null,null,null,null,null,null,null,null,null,null,null,null,{"$f":"IF($S$33=MID(CH194,1,$S$32),BT193+1,BT193)","v":{"$error":"#VALUE!"}},"A4",null,{"$f":"IF(ISERROR(HLOOKUP($BP20,補助!$AW$2:$BE$9,4,FALSE))=TRUE,\"\",HLOOKUP($BP20,補助!$AW$2:$BE$9,4,FALSE))","v":""},{"$f":"IF(ISERROR(HLOOKUP($BQ20,補助!$AW$2:$BE$9,4,FALSE))=TRUE,\"\",HLOOKUP($BQ20,補助!$AW$2:$BE$9,4,FALSE))","v":""},{"$f":"IF(ISERROR(HLOOKUP($BR20,補助!$AW$2:$BE$9,4,FALSE))=TRUE,\"\",HLOOKUP($BR20,補助!$AW$2:$BE$9,4,FALSE))","v":""},{"$f":"IF(ISERROR(HLOOKUP($BS20,補助!$AW$2:$BE$9,4,FALSE))=TRUE,\"\",HLOOKUP($BS20,補助!$AW$2:$BE$9,4,FALSE))","v":""},{"$f":"IF(ISERROR(HLOOKUP($BT20,補助!$AW$2:$BE$9,4,FALSE))=TRUE,\"\",HLOOKUP($BT20,補助!$AW$2:$BE$9,4,FALSE))","v":""},{"$f":"IF(ISERROR(HLOOKUP($BU20,補助!$AW$2:$BE$9,4,FALSE))=TRUE,\"\",HLOOKUP($BU20,補助!$AW$2:$BE$9,4,FALSE))","v":""},{"$f":"IF(ISERROR(HLOOKUP($BV20,補助!$AW$2:$BE$9,4,FALSE))=TRUE,\"\",HLOOKUP($BV20,補助!$AW$2:$BE$9,4,FALSE))","v":""},{"$f":"IF(ISERROR(HLOOKUP($BW20,補助!$AW$2:$BE$9,4,FALSE))=TRUE,\"\",HLOOKUP($BW20,補助!$AW$2:$BE$9,4,FALSE))","v":3},{"$f":"IF(ISERROR(HLOOKUP($BX20,補助!$AW$2:$BE$9,4,FALSE))=TRUE,\"\",HLOOKUP($BX20,補助!$AW$2:$BE$9,4,FALSE))","v":6},{"$f":"IF(ISERROR(HLOOKUP($BY20,補助!$AW$2:$BE$9,4,FALSE))=TRUE,\"\",HLOOKUP($BY20,補助!$AW$2:$BE$9,4,FALSE))","v":4},{"$f":"IF(ISERROR(HLOOKUP($BZ20,補助!$AW$2:$BE$9,4,FALSE))=TRUE,\"\",HLOOKUP($BZ20,補助!$AW$2:$BE$9,4,FALSE))","v":7},{"$f":"BW194&BX194&BY194&BZ194&CA194&CB194&CC194&CD194&CE194&CF194","v":"364"}]
[null,null,null,null,null,null,null,null,null,null,null,null,null,null,null,null,null,null,null,null,null,null,null,null,null,null,null,null,null,null,null,null,null,null,null,null,null,null,null,null,null,null,null,null,null,null,null,null,null,null,null,null,null,null,null,null,null,null,null,null,null,null,null,null,null,null,null,null,null,null,null,{"$error":"#VALUE!"},"A4",null,{"$f":"IF(ISERROR(HLOOKUP($BP21,補助!$AW$2:$BE$9,4,FALSE))=TRUE,\"\",HLOOKUP($BP21,補助!$AW$2:$BE$9,4,FALSE))","v":""},{"$f":"IF(ISERROR(HLOOKUP($BQ21,補助!$AW$2:$BE$9,4,FALSE))=TRUE,\"\",HLOOKUP($BQ21,補助!$AW$2:$BE$9,4,FALSE))","v":""},{"$f":"IF(ISERROR(HLOOKUP($BR21,補助!$AW$2:$BE$9,4,FALSE))=TRUE,\"\",HLOOKUP($BR21,補助!$AW$2:$BE$9,4,FALSE))","v":""},{"$f":"IF(ISERROR(HLOOKUP($BS21,補助!$AW$2:$BE$9,4,FALSE))=TRUE,\"\",HLOOKUP($BS21,補助!$AW$2:$BE$9,4,FALSE))","v":""},{"$f":"IF(ISERROR(HLOOKUP($BT21,補助!$AW$2:$BE$9,4,FALSE))=TRUE,\"\",HLOOKUP($BT21,補助!$AW$2:$BE$9,4,FALSE))","v":""},{"$f":"IF(ISERROR(HLOOKUP($BU21,補助!$AW$2:$BE$9,4,FALSE))=TRUE,\"\",HLOOKUP($BU21,補助!$AW$2:$BE$9,4,FALSE))","v":""},{"$f":"IF(ISERROR(HLOOKUP($BV21,補助!$AW$2:$BE$9,4,FALSE))=TRUE,\"\",HLOOKUP($BV21,補助!$AW$2:$BE$9,4,FALSE))","v":""},{"$f":"IF(ISERROR(HLOOKUP($BW21,補助!$AW$2:$BE$9,4,FALSE))=TRUE,\"\",HLOOKUP($BW21,補助!$AW$2:$BE$9,4,FALSE))","v":3},{"$f":"IF(ISERROR(HLOOKUP($BX21,補助!$AW$2:$BE$9,4,FALSE))=TRUE,\"\",HLOOKUP($BX21,補助!$AW$2:$BE$9,4,FALSE))","v":6},{"$f":"IF(ISERROR(HLOOKUP($BY21,補助!$AW$2:$BE$9,4,FALSE))=TRUE,\"\",HLOOKUP($BY21,補助!$AW$2:$BE$9,4,FALSE))","v":4},{"$f":"IF(ISERROR(HLOOKUP($BZ21,補助!$AW$2:$BE$9,4,FALSE))=TRUE,\"\",HLOOKUP($BZ21,補助!$AW$2:$BE$9,4,FALSE))","v":7},"364"]
[null,null,null,null,null,null,null,null,null,null,null,null,null,null,null,null,null,null,null,null,null,null,null,null,null,null,null,null,null,null,null,null,null,null,null,null,null,null,null,null,null,null,null,null,null,null,null,null,null,null,null,null,null,null,null,null,null,null,null,null,null,null,null,null,null,null,null,null,null,null,null,{"$error":"#VALUE!"},"A4",null,{"$f":"IF(ISERROR(HLOOKUP($BP22,補助!$AW$2:$BE$9,4,FALSE))=TRUE,\"\",HLOOKUP($BP22,補助!$AW$2:$BE$9,4,FALSE))","v":""},{"$f":"IF(ISERROR(HLOOKUP($BQ22,補助!$AW$2:$BE$9,4,FALSE))=TRUE,\"\",HLOOKUP($BQ22,補助!$AW$2:$BE$9,4,FALSE))","v":""},{"$f":"IF(ISERROR(HLOOKUP($BR22,補助!$AW$2:$BE$9,4,FALSE))=TRUE,\"\",HLOOKUP($BR22,補助!$AW$2:$BE$9,4,FALSE))","v":""},{"$f":"IF(ISERROR(HLOOKUP($BS22,補助!$AW$2:$BE$9,4,FALSE))=TRUE,\"\",HLOOKUP($BS22,補助!$AW$2:$BE$9,4,FALSE))","v":""},{"$f":"IF(ISERROR(HLOOKUP($BT22,補助!$AW$2:$BE$9,4,FALSE))=TRUE,\"\",HLOOKUP($BT22,補助!$AW$2:$BE$9,4,FALSE))","v":""},{"$f":"IF(ISERROR(HLOOKUP($BU22,補助!$AW$2:$BE$9,4,FALSE))=TRUE,\"\",HLOOKUP($BU22,補助!$AW$2:$BE$9,4,FALSE))","v":""},{"$f":"IF(ISERROR(HLOOKUP($BV22,補助!$AW$2:$BE$9,4,FALSE))=TRUE,\"\",HLOOKUP($BV22,補助!$AW$2:$BE$9,4,FALSE))","v":""},{"$f":"IF(ISERROR(HLOOKUP($BW22,補助!$AW$2:$BE$9,4,FALSE))=TRUE,\"\",HLOOKUP($BW22,補助!$AW$2:$BE$9,4,FALSE))","v":3},{"$f":"IF(ISERROR(HLOOKUP($BX22,補助!$AW$2:$BE$9,4,FALSE))=TRUE,\"\",HLOOKUP($BX22,補助!$AW$2:$BE$9,4,FALSE))","v":9},{"$f":"IF(ISERROR(HLOOKUP($BY22,補助!$AW$2:$BE$9,4,FALSE))=TRUE,\"\",HLOOKUP($BY22,補助!$AW$2:$BE$9,4,FALSE))","v":2},{"$f":"IF(ISERROR(HLOOKUP($BZ22,補助!$AW$2:$BE$9,4,FALSE))=TRUE,\"\",HLOOKUP($BZ22,補助!$AW$2:$BE$9,4,FALSE))","v":""},"392"]
[null,null,null,null,null,null,null,null,null,null,null,null,null,null,null,null,null,null,null,null,null,null,null,null,null,null,null,null,null,null,null,null,null,null,null,null,null,null,null,null,null,null,null,null,null,null,null,null,null,null,null,null,null,null,null,null,null,null,null,null,null,null,null,null,null,null,null,null,null,null,null,{"$error":"#VALUE!"},"A4",null,{"$f":"IF(ISERROR(HLOOKUP($BP23,補助!$AW$2:$BE$9,4,FALSE))=TRUE,\"\",HLOOKUP($BP23,補助!$AW$2:$BE$9,4,FALSE))","v":""},{"$f":"IF(ISERROR(HLOOKUP($BQ23,補助!$AW$2:$BE$9,4,FALSE))=TRUE,\"\",HLOOKUP($BQ23,補助!$AW$2:$BE$9,4,FALSE))","v":""},{"$f":"IF(ISERROR(HLOOKUP($BR23,補助!$AW$2:$BE$9,4,FALSE))=TRUE,\"\",HLOOKUP($BR23,補助!$AW$2:$BE$9,4,FALSE))","v":""},{"$f":"IF(ISERROR(HLOOKUP($BS23,補助!$AW$2:$BE$9,4,FALSE))=TRUE,\"\",HLOOKUP($BS23,補助!$AW$2:$BE$9,4,FALSE))","v":""},{"$f":"IF(ISERROR(HLOOKUP($BT23,補助!$AW$2:$BE$9,4,FALSE))=TRUE,\"\",HLOOKUP($BT23,補助!$AW$2:$BE$9,4,FALSE))","v":""},{"$f":"IF(ISERROR(HLOOKUP($BU23,補助!$AW$2:$BE$9,4,FALSE))=TRUE,\"\",HLOOKUP($BU23,補助!$AW$2:$BE$9,4,FALSE))","v":""},{"$f":"IF(ISERROR(HLOOKUP($BV23,補助!$AW$2:$BE$9,4,FALSE))=TRUE,\"\",HLOOKUP($BV23,補助!$AW$2:$BE$9,4,FALSE))","v":""},{"$f":"IF(ISERROR(HLOOKUP($BW23,補助!$AW$2:$BE$9,4,FALSE))=TRUE,\"\",HLOOKUP($BW23,補助!$AW$2:$BE$9,4,FALSE))","v":3},{"$f":"IF(ISERROR(HLOOKUP($BX23,補助!$AW$2:$BE$9,4,FALSE))=TRUE,\"\",HLOOKUP($BX23,補助!$AW$2:$BE$9,4,FALSE))","v":9},{"$f":"IF(ISERROR(HLOOKUP($BY23,補助!$AW$2:$BE$9,4,FALSE))=TRUE,\"\",HLOOKUP($BY23,補助!$AW$2:$BE$9,4,FALSE))","v":1},{"$f":"IF(ISERROR(HLOOKUP($BZ23,補助!$AW$2:$BE$9,4,FALSE))=TRUE,\"\",HLOOKUP($BZ23,補助!$AW$2:$BE$9,4,FALSE))","v":""},"391"]
[null,null,null,null,null,null,null,null,null,null,null,null,null,null,null,null,null,null,null,null,null,null,null,null,null,null,null,null,null,null,null,null,null,null,null,null,null,null,null,null,null,null,null,null,null,null,null,null,null,null,null,null,null,null,null,null,null,null,null,null,null,null,null,null,null,null,null,null,null,null,null,{"$error":"#VALUE!"},"A4",null,{"$f":"IF(ISERROR(HLOOKUP($BP24,補助!$AW$2:$BE$9,4,FALSE))=TRUE,\"\",HLOOKUP($BP24,補助!$AW$2:$BE$9,4,FALSE))","v":""},{"$f":"IF(ISERROR(HLOOKUP($BQ24,補助!$AW$2:$BE$9,4,FALSE))=TRUE,\"\",HLOOKUP($BQ24,補助!$AW$2:$BE$9,4,FALSE))","v":""},{"$f":"IF(ISERROR(HLOOKUP($BR24,補助!$AW$2:$BE$9,4,FALSE))=TRUE,\"\",HLOOKUP($BR24,補助!$AW$2:$BE$9,4,FALSE))","v":""},{"$f":"IF(ISERROR(HLOOKUP($BS24,補助!$AW$2:$BE$9,4,FALSE))=TRUE,\"\",HLOOKUP($BS24,補助!$AW$2:$BE$9,4,FALSE))","v":""},{"$f":"IF(ISERROR(HLOOKUP($BT24,補助!$AW$2:$BE$9,4,FALSE))=TRUE,\"\",HLOOKUP($BT24,補助!$AW$2:$BE$9,4,FALSE))","v":""},{"$f":"IF(ISERROR(HLOOKUP($BU24,補助!$AW$2:$BE$9,4,FALSE))=TRUE,\"\",HLOOKUP($BU24,補助!$AW$2:$BE$9,4,FALSE))","v":""},{"$f":"IF(ISERROR(HLOOKUP($BV24,補助!$AW$2:$BE$9,4,FALSE))=TRUE,\"\",HLOOKUP($BV24,補助!$AW$2:$BE$9,4,FALSE))","v":""},{"$f":"IF(ISERROR(HLOOKUP($BW24,補助!$AW$2:$BE$9,4,FALSE))=TRUE,\"\",HLOOKUP($BW24,補助!$AW$2:$BE$9,4,FALSE))","v":3},{"$f":"IF(ISERROR(HLOOKUP($BX24,補助!$AW$2:$BE$9,4,FALSE))=TRUE,\"\",HLOOKUP($BX24,補助!$AW$2:$BE$9,4,FALSE))","v":9},{"$f":"IF(ISERROR(HLOOKUP($BY24,補助!$AW$2:$BE$9,4,FALSE))=TRUE,\"\",HLOOKUP($BY24,補助!$AW$2:$BE$9,4,FALSE))","v":7},{"$f":"IF(ISERROR(HLOOKUP($BZ24,補助!$AW$2:$BE$9,4,FALSE))=TRUE,\"\",HLOOKUP($BZ24,補助!$AW$2:$BE$9,4,FALSE))","v":""},"397"]
[null,null,null,null,null,null,null,null,null,null,null,null,null,null,null,null,null,null,null,null,null,null,null,null,null,null,null,null,null,null,null,null,null,null,null,null,null,null,null,null,null,null,null,null,null,null,null,null,null,null,null,null,null,null,null,null,null,null,null,null,null,null,null,null,null,null,null,null,null,null,null,{"$error":"#VALUE!"},"A4",null,{"$f":"IF(ISERROR(HLOOKUP($BP25,補助!$AW$2:$BE$9,4,FALSE))=TRUE,\"\",HLOOKUP($BP25,補助!$AW$2:$BE$9,4,FALSE))","v":""},{"$f":"IF(ISERROR(HLOOKUP($BQ25,補助!$AW$2:$BE$9,4,FALSE))=TRUE,\"\",HLOOKUP($BQ25,補助!$AW$2:$BE$9,4,FALSE))","v":""},{"$f":"IF(ISERROR(HLOOKUP($BR25,補助!$AW$2:$BE$9,4,FALSE))=TRUE,\"\",HLOOKUP($BR25,補助!$AW$2:$BE$9,4,FALSE))","v":""},{"$f":"IF(ISERROR(HLOOKUP($BS25,補助!$AW$2:$BE$9,4,FALSE))=TRUE,\"\",HLOOKUP($BS25,補助!$AW$2:$BE$9,4,FALSE))","v":""},{"$f":"IF(ISERROR(HLOOKUP($BT25,補助!$AW$2:$BE$9,4,FALSE))=TRUE,\"\",HLOOKUP($BT25,補助!$AW$2:$BE$9,4,FALSE))","v":""},{"$f":"IF(ISERROR(HLOOKUP($BU25,補助!$AW$2:$BE$9,4,FALSE))=TRUE,\"\",HLOOKUP($BU25,補助!$AW$2:$BE$9,4,FALSE))","v":""},{"$f":"IF(ISERROR(HLOOKUP($BV25,補助!$AW$2:$BE$9,4,FALSE))=TRUE,\"\",HLOOKUP($BV25,補助!$AW$2:$BE$9,4,FALSE))","v":""},{"$f":"IF(ISERROR(HLOOKUP($BW25,補助!$AW$2:$BE$9,4,FALSE))=TRUE,\"\",HLOOKUP($BW25,補助!$AW$2:$BE$9,4,FALSE))","v":3},{"$f":"IF(ISERROR(HLOOKUP($BX25,補助!$AW$2:$BE$9,4,FALSE))=TRUE,\"\",HLOOKUP($BX25,補助!$AW$2:$BE$9,4,FALSE))","v":9},{"$f":"IF(ISERROR(HLOOKUP($BY25,補助!$AW$2:$BE$9,4,FALSE))=TRUE,\"\",HLOOKUP($BY25,補助!$AW$2:$BE$9,4,FALSE))","v":6},{"$f":"IF(ISERROR(HLOOKUP($BZ25,補助!$AW$2:$BE$9,4,FALSE))=TRUE,\"\",HLOOKUP($BZ25,補助!$AW$2:$BE$9,4,FALSE))","v":2},"396"]
[null,null,null,null,null,null,null,null,null,null,null,null,null,null,null,null,null,null,null,null,null,null,null,null,null,null,null,null,null,null,null,null,null,null,null,null,null,null,null,null,null,null,null,null,null,null,null,null,null,null,null,null,null,null,null,null,null,null,null,null,null,null,null,null,null,null,null,null,null,null,null,{"$error":"#VALUE!"},"A4",null,{"$f":"IF(ISERROR(HLOOKUP($BP26,補助!$AW$2:$BE$9,4,FALSE))=TRUE,\"\",HLOOKUP($BP26,補助!$AW$2:$BE$9,4,FALSE))","v":""},{"$f":"IF(ISERROR(HLOOKUP($BQ26,補助!$AW$2:$BE$9,4,FALSE))=TRUE,\"\",HLOOKUP($BQ26,補助!$AW$2:$BE$9,4,FALSE))","v":""},{"$f":"IF(ISERROR(HLOOKUP($BR26,補助!$AW$2:$BE$9,4,FALSE))=TRUE,\"\",HLOOKUP($BR26,補助!$AW$2:$BE$9,4,FALSE))","v":""},{"$f":"IF(ISERROR(HLOOKUP($BS26,補助!$AW$2:$BE$9,4,FALSE))=TRUE,\"\",HLOOKUP($BS26,補助!$AW$2:$BE$9,4,FALSE))","v":""},{"$f":"IF(ISERROR(HLOOKUP($BT26,補助!$AW$2:$BE$9,4,FALSE))=TRUE,\"\",HLOOKUP($BT26,補助!$AW$2:$BE$9,4,FALSE))","v":""},{"$f":"IF(ISERROR(HLOOKUP($BU26,補助!$AW$2:$BE$9,4,FALSE))=TRUE,\"\",HLOOKUP($BU26,補助!$AW$2:$BE$9,4,FALSE))","v":""},{"$f":"IF(ISERROR(HLOOKUP($BV26,補助!$AW$2:$BE$9,4,FALSE))=TRUE,\"\",HLOOKUP($BV26,補助!$AW$2:$BE$9,4,FALSE))","v":""},{"$f":"IF(ISERROR(HLOOKUP($BW26,補助!$AW$2:$BE$9,4,FALSE))=TRUE,\"\",HLOOKUP($BW26,補助!$AW$2:$BE$9,4,FALSE))","v":3},{"$f":"IF(ISERROR(HLOOKUP($BX26,補助!$AW$2:$BE$9,4,FALSE))=TRUE,\"\",HLOOKUP($BX26,補助!$AW$2:$BE$9,4,FALSE))","v":9},{"$f":"IF(ISERROR(HLOOKUP($BY26,補助!$AW$2:$BE$9,4,FALSE))=TRUE,\"\",HLOOKUP($BY26,補助!$AW$2:$BE$9,4,FALSE))","v":6},{"$f":"IF(ISERROR(HLOOKUP($BZ26,補助!$AW$2:$BE$9,4,FALSE))=TRUE,\"\",HLOOKUP($BZ26,補助!$AW$2:$BE$9,4,FALSE))","v":1},"396"]
[null,null,null,null,null,null,null,null,null,null,null,null,null,null,null,null,null,null,null,null,null,null,null,null,null,null,null,null,null,null,null,null,null,null,null,null,null,null,null,null,null,null,null,null,null,null,null,null,null,null,null,null,null,null,null,null,null,null,null,null,null,null,null,null,null,null,null,null,null,null,null,{"$error":"#VALUE!"},"A4","白",{"$f":"IF(ISERROR(HLOOKUP($BP27,補助!$AW$2:$BE$9,4,FALSE))=TRUE,\"\",HLOOKUP($BP27,補助!$AW$2:$BE$9,4,FALSE))","v":""},{"$f":"IF(ISERROR(HLOOKUP($BQ27,補助!$AW$2:$BE$9,4,FALSE))=TRUE,\"\",HLOOKUP($BQ27,補助!$AW$2:$BE$9,4,FALSE))","v":""},{"$f":"IF(ISERROR(HLOOKUP($BR27,補助!$AW$2:$BE$9,4,FALSE))=TRUE,\"\",HLOOKUP($BR27,補助!$AW$2:$BE$9,4,FALSE))","v":""},{"$f":"IF(ISERROR(HLOOKUP($BS27,補助!$AW$2:$BE$9,4,FALSE))=TRUE,\"\",HLOOKUP($BS27,補助!$AW$2:$BE$9,4,FALSE))","v":""},{"$f":"IF(ISERROR(HLOOKUP($BT27,補助!$AW$2:$BE$9,4,FALSE))=TRUE,\"\",HLOOKUP($BT27,補助!$AW$2:$BE$9,4,FALSE))","v":""},{"$f":"IF(ISERROR(HLOOKUP($BU27,補助!$AW$2:$BE$9,4,FALSE))=TRUE,\"\",HLOOKUP($BU27,補助!$AW$2:$BE$9,4,FALSE))","v":""},{"$f":"IF(ISERROR(HLOOKUP($BV27,補助!$AW$2:$BE$9,4,FALSE))=TRUE,\"\",HLOOKUP($BV27,補助!$AW$2:$BE$9,4,FALSE))","v":""},{"$f":"IF(ISERROR(HLOOKUP($BW27,補助!$AW$2:$BE$9,4,FALSE))=TRUE,\"\",HLOOKUP($BW27,補助!$AW$2:$BE$9,4,FALSE))","v":3},{"$f":"IF(ISERROR(HLOOKUP($BX27,補助!$AW$2:$BE$9,4,FALSE))=TRUE,\"\",HLOOKUP($BX27,補助!$AW$2:$BE$9,4,FALSE))","v":9},{"$f":"IF(ISERROR(HLOOKUP($BY27,補助!$AW$2:$BE$9,4,FALSE))=TRUE,\"\",HLOOKUP($BY27,補助!$AW$2:$BE$9,4,FALSE))","v":6},{"$f":"IF(ISERROR(HLOOKUP($BZ27,補助!$AW$2:$BE$9,4,FALSE))=TRUE,\"\",HLOOKUP($BZ27,補助!$AW$2:$BE$9,4,FALSE))","v":8},"396"]
[null,null,null,null,null,null,null,null,null,null,null,null,null,null,null,null,null,null,null,null,null,null,null,null,null,null,null,null,null,null,null,null,null,null,null,null,null,null,null,null,null,null,null,null,null,null,null,null,null,null,null,null,null,null,null,null,null,null,null,null,null,null,null,null,null,null,null,null,null,null,null,{"$error":"#VALUE!"},"A4","白",{"$f":"IF(ISERROR(HLOOKUP($BP28,補助!$AW$2:$BE$9,4,FALSE))=TRUE,\"\",HLOOKUP($BP28,補助!$AW$2:$BE$9,4,FALSE))","v":""},{"$f":"IF(ISERROR(HLOOKUP($BQ28,補助!$AW$2:$BE$9,4,FALSE))=TRUE,\"\",HLOOKUP($BQ28,補助!$AW$2:$BE$9,4,FALSE))","v":""},{"$f":"IF(ISERROR(HLOOKUP($BR28,補助!$AW$2:$BE$9,4,FALSE))=TRUE,\"\",HLOOKUP($BR28,補助!$AW$2:$BE$9,4,FALSE))","v":""},{"$f":"IF(ISERROR(HLOOKUP($BS28,補助!$AW$2:$BE$9,4,FALSE))=TRUE,\"\",HLOOKUP($BS28,補助!$AW$2:$BE$9,4,FALSE))","v":""},{"$f":"IF(ISERROR(HLOOKUP($BT28,補助!$AW$2:$BE$9,4,FALSE))=TRUE,\"\",HLOOKUP($BT28,補助!$AW$2:$BE$9,4,FALSE))","v":""},{"$f":"IF(ISERROR(HLOOKUP($BU28,補助!$AW$2:$BE$9,4,FALSE))=TRUE,\"\",HLOOKUP($BU28,補助!$AW$2:$BE$9,4,FALSE))","v":""},{"$f":"IF(ISERROR(HLOOKUP($BV28,補助!$AW$2:$BE$9,4,FALSE))=TRUE,\"\",HLOOKUP($BV28,補助!$AW$2:$BE$9,4,FALSE))","v":""},{"$f":"IF(ISERROR(HLOOKUP($BW28,補助!$AW$2:$BE$9,4,FALSE))=TRUE,\"\",HLOOKUP($BW28,補助!$AW$2:$BE$9,4,FALSE))","v":3},{"$f":"IF(ISERROR(HLOOKUP($BX28,補助!$AW$2:$BE$9,4,FALSE))=TRUE,\"\",HLOOKUP($BX28,補助!$AW$2:$BE$9,4,FALSE))","v":9},{"$f":"IF(ISERROR(HLOOKUP($BY28,補助!$AW$2:$BE$9,4,FALSE))=TRUE,\"\",HLOOKUP($BY28,補助!$AW$2:$BE$9,4,FALSE))","v":6},{"$f":"IF(ISERROR(HLOOKUP($BZ28,補助!$AW$2:$BE$9,4,FALSE))=TRUE,\"\",HLOOKUP($BZ28,補助!$AW$2:$BE$9,4,FALSE))","v":7},"396"]
[null,null,null,null,null,null,null,null,null,null,null,null,null,null,null,null,null,null,null,null,null,null,null,null,null,null,null,null,null,null,null,null,null,null,null,null,null,null,null,null,null,null,null,null,null,null,null,null,null,null,null,null,null,null,null,null,null,null,null,null,null,null,null,null,null,null,null,null,null,null,null,{"$error":"#VALUE!"},"A4",null,{"$f":"IF(ISERROR(HLOOKUP($BP29,補助!$AW$2:$BE$9,4,FALSE))=TRUE,\"\",HLOOKUP($BP29,補助!$AW$2:$BE$9,4,FALSE))","v":""},{"$f":"IF(ISERROR(HLOOKUP($BQ29,補助!$AW$2:$BE$9,4,FALSE))=TRUE,\"\",HLOOKUP($BQ29,補助!$AW$2:$BE$9,4,FALSE))","v":""},{"$f":"IF(ISERROR(HLOOKUP($BR29,補助!$AW$2:$BE$9,4,FALSE))=TRUE,\"\",HLOOKUP($BR29,補助!$AW$2:$BE$9,4,FALSE))","v":""},{"$f":"IF(ISERROR(HLOOKUP($BS29,補助!$AW$2:$BE$9,4,FALSE))=TRUE,\"\",HLOOKUP($BS29,補助!$AW$2:$BE$9,4,FALSE))","v":""},{"$f":"IF(ISERROR(HLOOKUP($BT29,補助!$AW$2:$BE$9,4,FALSE))=TRUE,\"\",HLOOKUP($BT29,補助!$AW$2:$BE$9,4,FALSE))","v":""},{"$f":"IF(ISERROR(HLOOKUP($BU29,補助!$AW$2:$BE$9,4,FALSE))=TRUE,\"\",HLOOKUP($BU29,補助!$AW$2:$BE$9,4,FALSE))","v":""},{"$f":"IF(ISERROR(HLOOKUP($BV29,補助!$AW$2:$BE$9,4,FALSE))=TRUE,\"\",HLOOKUP($BV29,補助!$AW$2:$BE$9,4,FALSE))","v":""},{"$f":"IF(ISERROR(HLOOKUP($BW29,補助!$AW$2:$BE$9,4,FALSE))=TRUE,\"\",HLOOKUP($BW29,補助!$AW$2:$BE$9,4,FALSE))","v":3},{"$f":"IF(ISERROR(HLOOKUP($BX29,補助!$AW$2:$BE$9,4,FALSE))=TRUE,\"\",HLOOKUP($BX29,補助!$AW$2:$BE$9,4,FALSE))","v":9},{"$f":"IF(ISERROR(HLOOKUP($BY29,補助!$AW$2:$BE$9,4,FALSE))=TRUE,\"\",HLOOKUP($BY29,補助!$AW$2:$BE$9,4,FALSE))","v":4},{"$f":"IF(ISERROR(HLOOKUP($BZ29,補助!$AW$2:$BE$9,4,FALSE))=TRUE,\"\",HLOOKUP($BZ29,補助!$AW$2:$BE$9,4,FALSE))","v":6},"394"]
[null,null,null,null,null,null,null,null,null,null,null,null,null,null,null,null,null,null,null,null,null,null,null,null,null,null,null,null,null,null,null,null,null,null,null,null,null,null,null,null,null,null,null,null,null,null,null,null,null,null,null,null,null,null,null,null,null,null,null,null,null,null,null,null,null,null,null,null,null,null,null,{"$error":"#VALUE!"},"A4",null,{"$f":"IF(ISERROR(HLOOKUP($BP30,補助!$AW$2:$BE$9,4,FALSE))=TRUE,\"\",HLOOKUP($BP30,補助!$AW$2:$BE$9,4,FALSE))","v":""},{"$f":"IF(ISERROR(HLOOKUP($BQ30,補助!$AW$2:$BE$9,4,FALSE))=TRUE,\"\",HLOOKUP($BQ30,補助!$AW$2:$BE$9,4,FALSE))","v":""},{"$f":"IF(ISERROR(HLOOKUP($BR30,補助!$AW$2:$BE$9,4,FALSE))=TRUE,\"\",HLOOKUP($BR30,補助!$AW$2:$BE$9,4,FALSE))","v":""},{"$f":"IF(ISERROR(HLOOKUP($BS30,補助!$AW$2:$BE$9,4,FALSE))=TRUE,\"\",HLOOKUP($BS30,補助!$AW$2:$BE$9,4,FALSE))","v":""},{"$f":"IF(ISERROR(HLOOKUP($BT30,補助!$AW$2:$BE$9,4,FALSE))=TRUE,\"\",HLOOKUP($BT30,補助!$AW$2:$BE$9,4,FALSE))","v":""},{"$f":"IF(ISERROR(HLOOKUP($BU30,補助!$AW$2:$BE$9,4,FALSE))=TRUE,\"\",HLOOKUP($BU30,補助!$AW$2:$BE$9,4,FALSE))","v":""},{"$f":"IF(ISERROR(HLOOKUP($BV30,補助!$AW$2:$BE$9,4,FALSE))=TRUE,\"\",HLOOKUP($BV30,補助!$AW$2:$BE$9,4,FALSE))","v":""},{"$f":"IF(ISERROR(HLOOKUP($BW30,補助!$AW$2:$BE$9,4,FALSE))=TRUE,\"\",HLOOKUP($BW30,補助!$AW$2:$BE$9,4,FALSE))","v":3},{"$f":"IF(ISERROR(HLOOKUP($BX30,補助!$AW$2:$BE$9,4,FALSE))=TRUE,\"\",HLOOKUP($BX30,補助!$AW$2:$BE$9,4,FALSE))","v":9},{"$f":"IF(ISERROR(HLOOKUP($BY30,補助!$AW$2:$BE$9,4,FALSE))=TRUE,\"\",HLOOKUP($BY30,補助!$AW$2:$BE$9,4,FALSE))","v":4},{"$f":"IF(ISERROR(HLOOKUP($BZ30,補助!$AW$2:$BE$9,4,FALSE))=TRUE,\"\",HLOOKUP($BZ30,補助!$AW$2:$BE$9,4,FALSE))","v":2},"394"]
[null,null,null,null,null,null,null,null,null,null,null,null,null,null,null,null,null,null,null,null,null,null,null,null,null,null,null,null,null,null,null,null,null,null,null,null,null,null,null,null,null,null,null,null,null,null,null,null,null,null,null,null,null,null,null,null,null,null,null,null,null,null,null,null,null,null,null,null,null,null,null,{"$error":"#VALUE!"},"A4",null,{"$f":"IF(ISERROR(HLOOKUP($BP31,補助!$AW$2:$BE$9,4,FALSE))=TRUE,\"\",HLOOKUP($BP31,補助!$AW$2:$BE$9,4,FALSE))","v":""},{"$f":"IF(ISERROR(HLOOKUP($BQ31,補助!$AW$2:$BE$9,4,FALSE))=TRUE,\"\",HLOOKUP($BQ31,補助!$AW$2:$BE$9,4,FALSE))","v":""},{"$f":"IF(ISERROR(HLOOKUP($BR31,補助!$AW$2:$BE$9,4,FALSE))=TRUE,\"\",HLOOKUP($BR31,補助!$AW$2:$BE$9,4,FALSE))","v":""},{"$f":"IF(ISERROR(HLOOKUP($BS31,補助!$AW$2:$BE$9,4,FALSE))=TRUE,\"\",HLOOKUP($BS31,補助!$AW$2:$BE$9,4,FALSE))","v":""},{"$f":"IF(ISERROR(HLOOKUP($BT31,補助!$AW$2:$BE$9,4,FALSE))=TRUE,\"\",HLOOKUP($BT31,補助!$AW$2:$BE$9,4,FALSE))","v":""},{"$f":"IF(ISERROR(HLOOKUP($BU31,補助!$AW$2:$BE$9,4,FALSE))=TRUE,\"\",HLOOKUP($BU31,補助!$AW$2:$BE$9,4,FALSE))","v":""},{"$f":"IF(ISERROR(HLOOKUP($BV31,補助!$AW$2:$BE$9,4,FALSE))=TRUE,\"\",HLOOKUP($BV31,補助!$AW$2:$BE$9,4,FALSE))","v":""},{"$f":"IF(ISERROR(HLOOKUP($BW31,補助!$AW$2:$BE$9,4,FALSE))=TRUE,\"\",HLOOKUP($BW31,補助!$AW$2:$BE$9,4,FALSE))","v":3},{"$f":"IF(ISERROR(HLOOKUP($BX31,補助!$AW$2:$BE$9,4,FALSE))=TRUE,\"\",HLOOKUP($BX31,補助!$AW$2:$BE$9,4,FALSE))","v":9},{"$f":"IF(ISERROR(HLOOKUP($BY31,補助!$AW$2:$BE$9,4,FALSE))=TRUE,\"\",HLOOKUP($BY31,補助!$AW$2:$BE$9,4,FALSE))","v":4},{"$f":"IF(ISERROR(HLOOKUP($BZ31,補助!$AW$2:$BE$9,4,FALSE))=TRUE,\"\",HLOOKUP($BZ31,補助!$AW$2:$BE$9,4,FALSE))","v":5},"394"]
[null,null,null,null,null,null,null,null,null,null,null,null,null,null,null,null,null,null,null,null,null,null,null,null,null,null,null,null,null,null,null,null,null,null,null,null,null,null,null,null,null,null,null,null,null,null,null,null,null,null,null,null,null,null,null,null,null,null,null,null,null,null,null,null,null,null,null,null,null,null,null,{"$error":"#VALUE!"},"A4",null,{"$f":"IF(ISERROR(HLOOKUP($BP32,補助!$AW$2:$BE$9,4,FALSE))=TRUE,\"\",HLOOKUP($BP32,補助!$AW$2:$BE$9,4,FALSE))","v":""},{"$f":"IF(ISERROR(HLOOKUP($BQ32,補助!$AW$2:$BE$9,4,FALSE))=TRUE,\"\",HLOOKUP($BQ32,補助!$AW$2:$BE$9,4,FALSE))","v":""},{"$f":"IF(ISERROR(HLOOKUP($BR32,補助!$AW$2:$BE$9,4,FALSE))=TRUE,\"\",HLOOKUP($BR32,補助!$AW$2:$BE$9,4,FALSE))","v":""},{"$f":"IF(ISERROR(HLOOKUP($BS32,補助!$AW$2:$BE$9,4,FALSE))=TRUE,\"\",HLOOKUP($BS32,補助!$AW$2:$BE$9,4,FALSE))","v":""},{"$f":"IF(ISERROR(HLOOKUP($BT32,補助!$AW$2:$BE$9,4,FALSE))=TRUE,\"\",HLOOKUP($BT32,補助!$AW$2:$BE$9,4,FALSE))","v":""},{"$f":"IF(ISERROR(HLOOKUP($BU32,補助!$AW$2:$BE$9,4,FALSE))=TRUE,\"\",HLOOKUP($BU32,補助!$AW$2:$BE$9,4,FALSE))","v":""},{"$f":"IF(ISERROR(HLOOKUP($BV32,補助!$AW$2:$BE$9,4,FALSE))=TRUE,\"\",HLOOKUP($BV32,補助!$AW$2:$BE$9,4,FALSE))","v":""},{"$f":"IF(ISERROR(HLOOKUP($BW32,補助!$AW$2:$BE$9,4,FALSE))=TRUE,\"\",HLOOKUP($BW32,補助!$AW$2:$BE$9,4,FALSE))","v":3},{"$f":"IF(ISERROR(HLOOKUP($BX32,補助!$AW$2:$BE$9,4,FALSE))=TRUE,\"\",HLOOKUP($BX32,補助!$AW$2:$BE$9,4,FALSE))","v":9},{"$f":"IF(ISERROR(HLOOKUP($BY32,補助!$AW$2:$BE$9,4,FALSE))=TRUE,\"\",HLOOKUP($BY32,補助!$AW$2:$BE$9,4,FALSE))","v":4},{"$f":"IF(ISERROR(HLOOKUP($BZ32,補助!$AW$2:$BE$9,4,FALSE))=TRUE,\"\",HLOOKUP($BZ32,補助!$AW$2:$BE$9,4,FALSE))","v":8},"394"]
[null,null,null,null,null,null,null,null,null,null,null,null,null,null,null,null,null,null,null,null,null,null,null,null,null,null,null,null,null,null,null,null,null,null,null,null,null,null,null,null,null,null,null,null,null,null,null,null,null,null,null,null,null,null,null,null,null,null,null,null,null,null,null,null,null,null,null,null,null,null,null,{"$error":"#VALUE!"},"A4",null,{"$f":"IF(ISERROR(HLOOKUP($BP33,補助!$AW$2:$BE$9,4,FALSE))=TRUE,\"\",HLOOKUP($BP33,補助!$AW$2:$BE$9,4,FALSE))","v":""},{"$f":"IF(ISERROR(HLOOKUP($BQ33,補助!$AW$2:$BE$9,4,FALSE))=TRUE,\"\",HLOOKUP($BQ33,補助!$AW$2:$BE$9,4,FALSE))","v":""},{"$f":"IF(ISERROR(HLOOKUP($BR33,補助!$AW$2:$BE$9,4,FALSE))=TRUE,\"\",HLOOKUP($BR33,補助!$AW$2:$BE$9,4,FALSE))","v":""},{"$f":"IF(ISERROR(HLOOKUP($BS33,補助!$AW$2:$BE$9,4,FALSE))=TRUE,\"\",HLOOKUP($BS33,補助!$AW$2:$BE$9,4,FALSE))","v":""},{"$f":"IF(ISERROR(HLOOKUP($BT33,補助!$AW$2:$BE$9,4,FALSE))=TRUE,\"\",HLOOKUP($BT33,補助!$AW$2:$BE$9,4,FALSE))","v":""},{"$f":"IF(ISERROR(HLOOKUP($BU33,補助!$AW$2:$BE$9,4,FALSE))=TRUE,\"\",HLOOKUP($BU33,補助!$AW$2:$BE$9,4,FALSE))","v":""},{"$f":"IF(ISERROR(HLOOKUP($BV33,補助!$AW$2:$BE$9,4,FALSE))=TRUE,\"\",HLOOKUP($BV33,補助!$AW$2:$BE$9,4,FALSE))","v":""},{"$f":"IF(ISERROR(HLOOKUP($BW33,補助!$AW$2:$BE$9,4,FALSE))=TRUE,\"\",HLOOKUP($BW33,補助!$AW$2:$BE$9,4,FALSE))","v":3},{"$f":"IF(ISERROR(HLOOKUP($BX33,補助!$AW$2:$BE$9,4,FALSE))=TRUE,\"\",HLOOKUP($BX33,補助!$AW$2:$BE$9,4,FALSE))","v":9},{"$f":"IF(ISERROR(HLOOKUP($BY33,補助!$AW$2:$BE$9,4,FALSE))=TRUE,\"\",HLOOKUP($BY33,補助!$AW$2:$BE$9,4,FALSE))","v":4},{"$f":"IF(ISERROR(HLOOKUP($BZ33,補助!$AW$2:$BE$9,4,FALSE))=TRUE,\"\",HLOOKUP($BZ33,補助!$AW$2:$BE$9,4,FALSE))","v":1},"394"]
[null,null,null,null,null,null,null,null,null,null,null,null,null,null,null,null,null,null,null,null,null,null,null,null,null,null,null,null,null,null,null,null,null,null,null,null,null,null,null,null,null,null,null,null,null,null,null,null,null,null,null,null,null,null,null,null,null,null,null,null,null,null,null,null,null,null,null,null,null,null,null,{"$error":"#VALUE!"},"A4",null,{"$f":"IF(ISERROR(HLOOKUP($BP34,補助!$AW$2:$BE$9,4,FALSE))=TRUE,\"\",HLOOKUP($BP34,補助!$AW$2:$BE$9,4,FALSE))","v":""},{"$f":"IF(ISERROR(HLOOKUP($BQ34,補助!$AW$2:$BE$9,4,FALSE))=TRUE,\"\",HLOOKUP($BQ34,補助!$AW$2:$BE$9,4,FALSE))","v":""},{"$f":"IF(ISERROR(HLOOKUP($BR34,補助!$AW$2:$BE$9,4,FALSE))=TRUE,\"\",HLOOKUP($BR34,補助!$AW$2:$BE$9,4,FALSE))","v":""},{"$f":"IF(ISERROR(HLOOKUP($BS34,補助!$AW$2:$BE$9,4,FALSE))=TRUE,\"\",HLOOKUP($BS34,補助!$AW$2:$BE$9,4,FALSE))","v":""},{"$f":"IF(ISERROR(HLOOKUP($BT34,補助!$AW$2:$BE$9,4,FALSE))=TRUE,\"\",HLOOKUP($BT34,補助!$AW$2:$BE$9,4,FALSE))","v":""},{"$f":"IF(ISERROR(HLOOKUP($BU34,補助!$AW$2:$BE$9,4,FALSE))=TRUE,\"\",HLOOKUP($BU34,補助!$AW$2:$BE$9,4,FALSE))","v":""},{"$f":"IF(ISERROR(HLOOKUP($BV34,補助!$AW$2:$BE$9,4,FALSE))=TRUE,\"\",HLOOKUP($BV34,補助!$AW$2:$BE$9,4,FALSE))","v":""},{"$f":"IF(ISERROR(HLOOKUP($BW34,補助!$AW$2:$BE$9,4,FALSE))=TRUE,\"\",HLOOKUP($BW34,補助!$AW$2:$BE$9,4,FALSE))","v":3},{"$f":"IF(ISERROR(HLOOKUP($BX34,補助!$AW$2:$BE$9,4,FALSE))=TRUE,\"\",HLOOKUP($BX34,補助!$AW$2:$BE$9,4,FALSE))","v":9},{"$f":"IF(ISERROR(HLOOKUP($BY34,補助!$AW$2:$BE$9,4,FALSE))=TRUE,\"\",HLOOKUP($BY34,補助!$AW$2:$BE$9,4,FALSE))","v":8},{"$f":"IF(ISERROR(HLOOKUP($BZ34,補助!$AW$2:$BE$9,4,FALSE))=TRUE,\"\",HLOOKUP($BZ34,補助!$AW$2:$BE$9,4,FALSE))","v":6},"398"]
[null,null,null,null,null,null,null,null,null,null,null,null,null,null,null,null,null,null,null,null,null,null,null,null,null,null,null,null,null,null,null,null,null,null,null,null,null,null,null,null,null,null,null,null,null,null,null,null,null,null,null,null,null,null,null,null,null,null,null,null,null,null,null,null,null,null,null,null,null,null,null,{"$error":"#VALUE!"},"A4",null,{"$f":"IF(ISERROR(HLOOKUP($BP35,補助!$AW$2:$BE$9,4,FALSE))=TRUE,\"\",HLOOKUP($BP35,補助!$AW$2:$BE$9,4,FALSE))","v":""},{"$f":"IF(ISERROR(HLOOKUP($BQ35,補助!$AW$2:$BE$9,4,FALSE))=TRUE,\"\",HLOOKUP($BQ35,補助!$AW$2:$BE$9,4,FALSE))","v":""},{"$f":"IF(ISERROR(HLOOKUP($BR35,補助!$AW$2:$BE$9,4,FALSE))=TRUE,\"\",HLOOKUP($BR35,補助!$AW$2:$BE$9,4,FALSE))","v":""},{"$f":"IF(ISERROR(HLOOKUP($BS35,補助!$AW$2:$BE$9,4,FALSE))=TRUE,\"\",HLOOKUP($BS35,補助!$AW$2:$BE$9,4,FALSE))","v":""},{"$f":"IF(ISERROR(HLOOKUP($BT35,補助!$AW$2:$BE$9,4,FALSE))=TRUE,\"\",HLOOKUP($BT35,補助!$AW$2:$BE$9,4,FALSE))","v":""},{"$f":"IF(ISERROR(HLOOKUP($BU35,補助!$AW$2:$BE$9,4,FALSE))=TRUE,\"\",HLOOKUP($BU35,補助!$AW$2:$BE$9,4,FALSE))","v":""},{"$f":"IF(ISERROR(HLOOKUP($BV35,補助!$AW$2:$BE$9,4,FALSE))=TRUE,\"\",HLOOKUP($BV35,補助!$AW$2:$BE$9,4,FALSE))","v":""},{"$f":"IF(ISERROR(HLOOKUP($BW35,補助!$AW$2:$BE$9,4,FALSE))=TRUE,\"\",HLOOKUP($BW35,補助!$AW$2:$BE$9,4,FALSE))","v":3},{"$f":"IF(ISERROR(HLOOKUP($BX35,補助!$AW$2:$BE$9,4,FALSE))=TRUE,\"\",HLOOKUP($BX35,補助!$AW$2:$BE$9,4,FALSE))","v":9},{"$f":"IF(ISERROR(HLOOKUP($BY35,補助!$AW$2:$BE$9,4,FALSE))=TRUE,\"\",HLOOKUP($BY35,補助!$AW$2:$BE$9,4,FALSE))","v":8},{"$f":"IF(ISERROR(HLOOKUP($BZ35,補助!$AW$2:$BE$9,4,FALSE))=TRUE,\"\",HLOOKUP($BZ35,補助!$AW$2:$BE$9,4,FALSE))","v":4},"398"]
[null,null,null,null,null,null,null,null,null,null,null,null,null,null,null,null,null,null,null,null,null,null,null,null,null,null,null,null,null,null,null,null,null,null,null,null,null,null,null,null,null,null,null,null,null,null,null,null,null,null,null,null,null,null,null,null,null,null,null,null,null,null,null,null,null,null,null,null,null,null,null,{"$error":"#VALUE!"},"A4",null,{"$f":"IF(ISERROR(HLOOKUP($BP36,補助!$AW$2:$BE$9,4,FALSE))=TRUE,\"\",HLOOKUP($BP36,補助!$AW$2:$BE$9,4,FALSE))","v":""},{"$f":"IF(ISERROR(HLOOKUP($BQ36,補助!$AW$2:$BE$9,4,FALSE))=TRUE,\"\",HLOOKUP($BQ36,補助!$AW$2:$BE$9,4,FALSE))","v":""},{"$f":"IF(ISERROR(HLOOKUP($BR36,補助!$AW$2:$BE$9,4,FALSE))=TRUE,\"\",HLOOKUP($BR36,補助!$AW$2:$BE$9,4,FALSE))","v":""},{"$f":"IF(ISERROR(HLOOKUP($BS36,補助!$AW$2:$BE$9,4,FALSE))=TRUE,\"\",HLOOKUP($BS36,補助!$AW$2:$BE$9,4,FALSE))","v":""},{"$f":"IF(ISERROR(HLOOKUP($BT36,補助!$AW$2:$BE$9,4,FALSE))=TRUE,\"\",HLOOKUP($BT36,補助!$AW$2:$BE$9,4,FALSE))","v":""},{"$f":"IF(ISERROR(HLOOKUP($BU36,補助!$AW$2:$BE$9,4,FALSE))=TRUE,\"\",HLOOKUP($BU36,補助!$AW$2:$BE$9,4,FALSE))","v":""},{"$f":"IF(ISERROR(HLOOKUP($BV36,補助!$AW$2:$BE$9,4,FALSE))=TRUE,\"\",HLOOKUP($BV36,補助!$AW$2:$BE$9,4,FALSE))","v":""},{"$f":"IF(ISERROR(HLOOKUP($BW36,補助!$AW$2:$BE$9,4,FALSE))=TRUE,\"\",HLOOKUP($BW36,補助!$AW$2:$BE$9,4,FALSE))","v":3},{"$f":"IF(ISERROR(HLOOKUP($BX36,補助!$AW$2:$BE$9,4,FALSE))=TRUE,\"\",HLOOKUP($BX36,補助!$AW$2:$BE$9,4,FALSE))","v":9},{"$f":"IF(ISERROR(HLOOKUP($BY36,補助!$AW$2:$BE$9,4,FALSE))=TRUE,\"\",HLOOKUP($BY36,補助!$AW$2:$BE$9,4,FALSE))","v":8},{"$f":"IF(ISERROR(HLOOKUP($BZ36,補助!$AW$2:$BE$9,4,FALSE))=TRUE,\"\",HLOOKUP($BZ36,補助!$AW$2:$BE$9,4,FALSE))","v":7},"398"]
[null,null,null,null,null,null,null,null,null,null,null,null,null,null,null,null,null,null,null,null,null,null,null,null,null,null,null,null,null,null,null,null,null,null,null,null,null,null,null,null,null,null,null,null,null,null,null,null,null,null,null,null,null,null,null,null,null,null,null,null,null,null,null,null,null,null,null,null,null,null,null,{"$error":"#VALUE!"},"A4",null,{"$f":"IF(ISERROR(HLOOKUP($BP37,補助!$AW$2:$BE$9,4,FALSE))=TRUE,\"\",HLOOKUP($BP37,補助!$AW$2:$BE$9,4,FALSE))","v":""},{"$f":"IF(ISERROR(HLOOKUP($BQ37,補助!$AW$2:$BE$9,4,FALSE))=TRUE,\"\",HLOOKUP($BQ37,補助!$AW$2:$BE$9,4,FALSE))","v":""},{"$f":"IF(ISERROR(HLOOKUP($BR37,補助!$AW$2:$BE$9,4,FALSE))=TRUE,\"\",HLOOKUP($BR37,補助!$AW$2:$BE$9,4,FALSE))","v":""},{"$f":"IF(ISERROR(HLOOKUP($BS37,補助!$AW$2:$BE$9,4,FALSE))=TRUE,\"\",HLOOKUP($BS37,補助!$AW$2:$BE$9,4,FALSE))","v":""},{"$f":"IF(ISERROR(HLOOKUP($BT37,補助!$AW$2:$BE$9,4,FALSE))=TRUE,\"\",HLOOKUP($BT37,補助!$AW$2:$BE$9,4,FALSE))","v":""},{"$f":"IF(ISERROR(HLOOKUP($BU37,補助!$AW$2:$BE$9,4,FALSE))=TRUE,\"\",HLOOKUP($BU37,補助!$AW$2:$BE$9,4,FALSE))","v":""},{"$f":"IF(ISERROR(HLOOKUP($BV37,補助!$AW$2:$BE$9,4,FALSE))=TRUE,\"\",HLOOKUP($BV37,補助!$AW$2:$BE$9,4,FALSE))","v":""},{"$f":"IF(ISERROR(HLOOKUP($BW37,補助!$AW$2:$BE$9,4,FALSE))=TRUE,\"\",HLOOKUP($BW37,補助!$AW$2:$BE$9,4,FALSE))","v":3},{"$f":"IF(ISERROR(HLOOKUP($BX37,補助!$AW$2:$BE$9,4,FALSE))=TRUE,\"\",HLOOKUP($BX37,補助!$AW$2:$BE$9,4,FALSE))","v":8},{"$f":"IF(ISERROR(HLOOKUP($BY37,補助!$AW$2:$BE$9,4,FALSE))=TRUE,\"\",HLOOKUP($BY37,補助!$AW$2:$BE$9,4,FALSE))","v":9},{"$f":"IF(ISERROR(HLOOKUP($BZ37,補助!$AW$2:$BE$9,4,FALSE))=TRUE,\"\",HLOOKUP($BZ37,補助!$AW$2:$BE$9,4,FALSE))","v":""},"389"]
[null,null,null,null,null,null,null,null,null,null,null,null,null,null,null,null,null,null,null,null,null,null,null,null,null,null,null,null,null,null,null,null,null,null,null,null,null,null,null,null,null,null,null,null,null,null,null,null,null,null,null,null,null,null,null,null,null,null,null,null,null,null,null,null,null,null,null,null,null,null,null,{"$error":"#VALUE!"},"A4",null,{"$f":"IF(ISERROR(HLOOKUP($BP38,補助!$AW$2:$BE$9,4,FALSE))=TRUE,\"\",HLOOKUP($BP38,補助!$AW$2:$BE$9,4,FALSE))","v":""},{"$f":"IF(ISERROR(HLOOKUP($BQ38,補助!$AW$2:$BE$9,4,FALSE))=TRUE,\"\",HLOOKUP($BQ38,補助!$AW$2:$BE$9,4,FALSE))","v":""},{"$f":"IF(ISERROR(HLOOKUP($BR38,補助!$AW$2:$BE$9,4,FALSE))=TRUE,\"\",HLOOKUP($BR38,補助!$AW$2:$BE$9,4,FALSE))","v":""},{"$f":"IF(ISERROR(HLOOKUP($BS38,補助!$AW$2:$BE$9,4,FALSE))=TRUE,\"\",HLOOKUP($BS38,補助!$AW$2:$BE$9,4,FALSE))","v":""},{"$f":"IF(ISERROR(HLOOKUP($BT38,補助!$AW$2:$BE$9,4,FALSE))=TRUE,\"\",HLOOKUP($BT38,補助!$AW$2:$BE$9,4,FALSE))","v":""},{"$f":"IF(ISERROR(HLOOKUP($BU38,補助!$AW$2:$BE$9,4,FALSE))=TRUE,\"\",HLOOKUP($BU38,補助!$AW$2:$BE$9,4,FALSE))","v":""},{"$f":"IF(ISERROR(HLOOKUP($BV38,補助!$AW$2:$BE$9,4,FALSE))=TRUE,\"\",HLOOKUP($BV38,補助!$AW$2:$BE$9,4,FALSE))","v":""},{"$f":"IF(ISERROR(HLOOKUP($BW38,補助!$AW$2:$BE$9,4,FALSE))=TRUE,\"\",HLOOKUP($BW38,補助!$AW$2:$BE$9,4,FALSE))","v":3},{"$f":"IF(ISERROR(HLOOKUP($BX38,補助!$AW$2:$BE$9,4,FALSE))=TRUE,\"\",HLOOKUP($BX38,補助!$AW$2:$BE$9,4,FALSE))","v":8},{"$f":"IF(ISERROR(HLOOKUP($BY38,補助!$AW$2:$BE$9,4,FALSE))=TRUE,\"\",HLOOKUP($BY38,補助!$AW$2:$BE$9,4,FALSE))","v":5},{"$f":"IF(ISERROR(HLOOKUP($BZ38,補助!$AW$2:$BE$9,4,FALSE))=TRUE,\"\",HLOOKUP($BZ38,補助!$AW$2:$BE$9,4,FALSE))","v":""},"385"]
[null,null,null,null,null,null,null,null,null,null,null,null,null,null,null,null,null,null,null,null,null,null,null,null,null,null,null,null,null,null,null,null,null,null,null,null,null,null,null,null,null,null,null,null,null,null,null,null,null,null,null,null,null,null,null,null,null,null,null,null,null,null,null,null,null,null,null,null,null,null,null,{"$error":"#VALUE!"},"A4",null,{"$f":"IF(ISERROR(HLOOKUP($BP39,補助!$AW$2:$BE$9,4,FALSE))=TRUE,\"\",HLOOKUP($BP39,補助!$AW$2:$BE$9,4,FALSE))","v":""},{"$f":"IF(ISERROR(HLOOKUP($BQ39,補助!$AW$2:$BE$9,4,FALSE))=TRUE,\"\",HLOOKUP($BQ39,補助!$AW$2:$BE$9,4,FALSE))","v":""},{"$f":"IF(ISERROR(HLOOKUP($BR39,補助!$AW$2:$BE$9,4,FALSE))=TRUE,\"\",HLOOKUP($BR39,補助!$AW$2:$BE$9,4,FALSE))","v":""},{"$f":"IF(ISERROR(HLOOKUP($BS39,補助!$AW$2:$BE$9,4,FALSE))=TRUE,\"\",HLOOKUP($BS39,補助!$AW$2:$BE$9,4,FALSE))","v":""},{"$f":"IF(ISERROR(HLOOKUP($BT39,補助!$AW$2:$BE$9,4,FALSE))=TRUE,\"\",HLOOKUP($BT39,補助!$AW$2:$BE$9,4,FALSE))","v":""},{"$f":"IF(ISERROR(HLOOKUP($BU39,補助!$AW$2:$BE$9,4,FALSE))=TRUE,\"\",HLOOKUP($BU39,補助!$AW$2:$BE$9,4,FALSE))","v":""},{"$f":"IF(ISERROR(HLOOKUP($BV39,補助!$AW$2:$BE$9,4,FALSE))=TRUE,\"\",HLOOKUP($BV39,補助!$AW$2:$BE$9,4,FALSE))","v":""},{"$f":"IF(ISERROR(HLOOKUP($BW39,補助!$AW$2:$BE$9,4,FALSE))=TRUE,\"\",HLOOKUP($BW39,補助!$AW$2:$BE$9,4,FALSE))","v":3},{"$f":"IF(ISERROR(HLOOKUP($BX39,補助!$AW$2:$BE$9,4,FALSE))=TRUE,\"\",HLOOKUP($BX39,補助!$AW$2:$BE$9,4,FALSE))","v":8},{"$f":"IF(ISERROR(HLOOKUP($BY39,補助!$AW$2:$BE$9,4,FALSE))=TRUE,\"\",HLOOKUP($BY39,補助!$AW$2:$BE$9,4,FALSE))","v":1},{"$f":"IF(ISERROR(HLOOKUP($BZ39,補助!$AW$2:$BE$9,4,FALSE))=TRUE,\"\",HLOOKUP($BZ39,補助!$AW$2:$BE$9,4,FALSE))","v":""},"381"]
[null,null,null,null,null,null,null,null,null,null,null,null,null,null,null,null,null,null,null,null,null,null,null,null,null,null,null,null,null,null,null,null,null,null,null,null,null,null,null,null,null,null,null,null,null,null,null,null,null,null,null,null,null,null,null,null,null,null,null,null,null,null,null,null,null,null,null,null,null,null,null,{"$error":"#VALUE!"},"A4","白",{"$f":"IF(ISERROR(HLOOKUP($BP40,補助!$AW$2:$BE$9,4,FALSE))=TRUE,\"\",HLOOKUP($BP40,補助!$AW$2:$BE$9,4,FALSE))","v":""},{"$f":"IF(ISERROR(HLOOKUP($BQ40,補助!$AW$2:$BE$9,4,FALSE))=TRUE,\"\",HLOOKUP($BQ40,補助!$AW$2:$BE$9,4,FALSE))","v":""},{"$f":"IF(ISERROR(HLOOKUP($BR40,補助!$AW$2:$BE$9,4,FALSE))=TRUE,\"\",HLOOKUP($BR40,補助!$AW$2:$BE$9,4,FALSE))","v":""},{"$f":"IF(ISERROR(HLOOKUP($BS40,補助!$AW$2:$BE$9,4,FALSE))=TRUE,\"\",HLOOKUP($BS40,補助!$AW$2:$BE$9,4,FALSE))","v":""},{"$f":"IF(ISERROR(HLOOKUP($BT40,補助!$AW$2:$BE$9,4,FALSE))=TRUE,\"\",HLOOKUP($BT40,補助!$AW$2:$BE$9,4,FALSE))","v":""},{"$f":"IF(ISERROR(HLOOKUP($BU40,補助!$AW$2:$BE$9,4,FALSE))=TRUE,\"\",HLOOKUP($BU40,補助!$AW$2:$BE$9,4,FALSE))","v":""},{"$f":"IF(ISERROR(HLOOKUP($BV40,補助!$AW$2:$BE$9,4,FALSE))=TRUE,\"\",HLOOKUP($BV40,補助!$AW$2:$BE$9,4,FALSE))","v":""},{"$f":"IF(ISERROR(HLOOKUP($BW40,補助!$AW$2:$BE$9,4,FALSE))=TRUE,\"\",HLOOKUP($BW40,補助!$AW$2:$BE$9,4,FALSE))","v":3},{"$f":"IF(ISERROR(HLOOKUP($BX40,補助!$AW$2:$BE$9,4,FALSE))=TRUE,\"\",HLOOKUP($BX40,補助!$AW$2:$BE$9,4,FALSE))","v":8},{"$f":"IF(ISERROR(HLOOKUP($BY40,補助!$AW$2:$BE$9,4,FALSE))=TRUE,\"\",HLOOKUP($BY40,補助!$AW$2:$BE$9,4,FALSE))","v":2},{"$f":"IF(ISERROR(HLOOKUP($BZ40,補助!$AW$2:$BE$9,4,FALSE))=TRUE,\"\",HLOOKUP($BZ40,補助!$AW$2:$BE$9,4,FALSE))","v":1},"382"]
[null,null,null,null,null,null,null,null,null,null,null,null,null,null,null,null,null,null,null,null,null,null,null,null,null,null,null,null,null,null,null,null,null,null,null,null,null,null,null,null,null,null,null,null,null,null,null,null,null,null,null,null,null,null,null,null,null,null,null,null,null,null,null,null,null,null,null,null,null,null,null,{"$error":"#VALUE!"},"A4","白",{"$f":"IF(ISERROR(HLOOKUP($BP41,補助!$AW$2:$BE$9,4,FALSE))=TRUE,\"\",HLOOKUP($BP41,補助!$AW$2:$BE$9,4,FALSE))","v":""},{"$f":"IF(ISERROR(HLOOKUP($BQ41,補助!$AW$2:$BE$9,4,FALSE))=TRUE,\"\",HLOOKUP($BQ41,補助!$AW$2:$BE$9,4,FALSE))","v":""},{"$f":"IF(ISERROR(HLOOKUP($BR41,補助!$AW$2:$BE$9,4,FALSE))=TRUE,\"\",HLOOKUP($BR41,補助!$AW$2:$BE$9,4,FALSE))","v":""},{"$f":"IF(ISERROR(HLOOKUP($BS41,補助!$AW$2:$BE$9,4,FALSE))=TRUE,\"\",HLOOKUP($BS41,補助!$AW$2:$BE$9,4,FALSE))","v":""},{"$f":"IF(ISERROR(HLOOKUP($BT41,補助!$AW$2:$BE$9,4,FALSE))=TRUE,\"\",HLOOKUP($BT41,補助!$AW$2:$BE$9,4,FALSE))","v":""},{"$f":"IF(ISERROR(HLOOKUP($BU41,補助!$AW$2:$BE$9,4,FALSE))=TRUE,\"\",HLOOKUP($BU41,補助!$AW$2:$BE$9,4,FALSE))","v":""},{"$f":"IF(ISERROR(HLOOKUP($BV41,補助!$AW$2:$BE$9,4,FALSE))=TRUE,\"\",HLOOKUP($BV41,補助!$AW$2:$BE$9,4,FALSE))","v":""},{"$f":"IF(ISERROR(HLOOKUP($BW41,補助!$AW$2:$BE$9,4,FALSE))=TRUE,\"\",HLOOKUP($BW41,補助!$AW$2:$BE$9,4,FALSE))","v":3},{"$f":"IF(ISERROR(HLOOKUP($BX41,補助!$AW$2:$BE$9,4,FALSE))=TRUE,\"\",HLOOKUP($BX41,補助!$AW$2:$BE$9,4,FALSE))","v":8},{"$f":"IF(ISERROR(HLOOKUP($BY41,補助!$AW$2:$BE$9,4,FALSE))=TRUE,\"\",HLOOKUP($BY41,補助!$AW$2:$BE$9,4,FALSE))","v":2},{"$f":"IF(ISERROR(HLOOKUP($BZ41,補助!$AW$2:$BE$9,4,FALSE))=TRUE,\"\",HLOOKUP($BZ41,補助!$AW$2:$BE$9,4,FALSE))","v":1},"382"]
[null,null,null,null,null,null,null,null,null,null,null,null,null,null,null,null,null,null,null,null,null,null,null,null,null,null,null,null,null,null,null,null,null,null,null,null,null,null,null,null,null,null,null,null,null,null,null,null,null,null,null,null,null,null,null,null,null,null,null,null,null,null,null,null,null,null,null,null,null,null,null,{"$error":"#VALUE!"},"A4","白",{"$f":"IF(ISERROR(HLOOKUP($BP42,補助!$AW$2:$BE$9,4,FALSE))=TRUE,\"\",HLOOKUP($BP42,補助!$AW$2:$BE$9,4,FALSE))","v":""},{"$f":"IF(ISERROR(HLOOKUP($BQ42,補助!$AW$2:$BE$9,4,FALSE))=TRUE,\"\",HLOOKUP($BQ42,補助!$AW$2:$BE$9,4,FALSE))","v":""},{"$f":"IF(ISERROR(HLOOKUP($BR42,補助!$AW$2:$BE$9,4,FALSE))=TRUE,\"\",HLOOKUP($BR42,補助!$AW$2:$BE$9,4,FALSE))","v":""},{"$f":"IF(ISERROR(HLOOKUP($BS42,補助!$AW$2:$BE$9,4,FALSE))=TRUE,\"\",HLOOKUP($BS42,補助!$AW$2:$BE$9,4,FALSE))","v":""},{"$f":"IF(ISERROR(HLOOKUP($BT42,補助!$AW$2:$BE$9,4,FALSE))=TRUE,\"\",HLOOKUP($BT42,補助!$AW$2:$BE$9,4,FALSE))","v":""},{"$f":"IF(ISERROR(HLOOKUP($BU42,補助!$AW$2:$BE$9,4,FALSE))=TRUE,\"\",HLOOKUP($BU42,補助!$AW$2:$BE$9,4,FALSE))","v":""},{"$f":"IF(ISERROR(HLOOKUP($BV42,補助!$AW$2:$BE$9,4,FALSE))=TRUE,\"\",HLOOKUP($BV42,補助!$AW$2:$BE$9,4,FALSE))","v":""},{"$f":"IF(ISERROR(HLOOKUP($BW42,補助!$AW$2:$BE$9,4,FALSE))=TRUE,\"\",HLOOKUP($BW42,補助!$AW$2:$BE$9,4,FALSE))","v":3},{"$f":"IF(ISERROR(HLOOKUP($BX42,補助!$AW$2:$BE$9,4,FALSE))=TRUE,\"\",HLOOKUP($BX42,補助!$AW$2:$BE$9,4,FALSE))","v":8},{"$f":"IF(ISERROR(HLOOKUP($BY42,補助!$AW$2:$BE$9,4,FALSE))=TRUE,\"\",HLOOKUP($BY42,補助!$AW$2:$BE$9,4,FALSE))","v":2},{"$f":"IF(ISERROR(HLOOKUP($BZ42,補助!$AW$2:$BE$9,4,FALSE))=TRUE,\"\",HLOOKUP($BZ42,補助!$AW$2:$BE$9,4,FALSE))","v":1},"382"]
[null,null,null,null,null,null,null,null,null,null,null,null,null,null,null,null,null,null,null,null,null,null,null,null,null,null,null,null,null,null,null,null,null,null,null,null,null,null,null,null,null,null,null,null,null,null,null,null,null,null,null,null,null,null,null,null,null,null,null,null,null,null,null,null,null,null,null,null,null,null,null,{"$error":"#VALUE!"},"A4",null,{"$f":"IF(ISERROR(HLOOKUP($BP43,補助!$AW$2:$BE$9,4,FALSE))=TRUE,\"\",HLOOKUP($BP43,補助!$AW$2:$BE$9,4,FALSE))","v":""},{"$f":"IF(ISERROR(HLOOKUP($BQ43,補助!$AW$2:$BE$9,4,FALSE))=TRUE,\"\",HLOOKUP($BQ43,補助!$AW$2:$BE$9,4,FALSE))","v":""},{"$f":"IF(ISERROR(HLOOKUP($BR43,補助!$AW$2:$BE$9,4,FALSE))=TRUE,\"\",HLOOKUP($BR43,補助!$AW$2:$BE$9,4,FALSE))","v":""},{"$f":"IF(ISERROR(HLOOKUP($BS43,補助!$AW$2:$BE$9,4,FALSE))=TRUE,\"\",HLOOKUP($BS43,補助!$AW$2:$BE$9,4,FALSE))","v":""},{"$f":"IF(ISERROR(HLOOKUP($BT43,補助!$AW$2:$BE$9,4,FALSE))=TRUE,\"\",HLOOKUP($BT43,補助!$AW$2:$BE$9,4,FALSE))","v":""},{"$f":"IF(ISERROR(HLOOKUP($BU43,補助!$AW$2:$BE$9,4,FALSE))=TRUE,\"\",HLOOKUP($BU43,補助!$AW$2:$BE$9,4,FALSE))","v":""},{"$f":"IF(ISERROR(HLOOKUP($BV43,補助!$AW$2:$BE$9,4,FALSE))=TRUE,\"\",HLOOKUP($BV43,補助!$AW$2:$BE$9,4,FALSE))","v":""},{"$f":"IF(ISERROR(HLOOKUP($BW43,補助!$AW$2:$BE$9,4,FALSE))=TRUE,\"\",HLOOKUP($BW43,補助!$AW$2:$BE$9,4,FALSE))","v":3},{"$f":"IF(ISERROR(HLOOKUP($BX43,補助!$AW$2:$BE$9,4,FALSE))=TRUE,\"\",HLOOKUP($BX43,補助!$AW$2:$BE$9,4,FALSE))","v":8},{"$f":"IF(ISERROR(HLOOKUP($BY43,補助!$AW$2:$BE$9,4,FALSE))=TRUE,\"\",HLOOKUP($BY43,補助!$AW$2:$BE$9,4,FALSE))","v":4},{"$f":"IF(ISERROR(HLOOKUP($BZ43,補助!$AW$2:$BE$9,4,FALSE))=TRUE,\"\",HLOOKUP($BZ43,補助!$AW$2:$BE$9,4,FALSE))","v":6},"384"]
[null,null,null,null,null,null,null,null,null,null,null,null,null,null,null,null,null,null,null,null,null,null,null,null,null,null,null,null,null,null,null,null,null,null,null,null,null,null,null,null,null,null,null,null,null,null,null,null,null,null,null,null,null,null,null,null,null,null,null,null,null,null,null,null,null,null,null,null,null,null,null,{"$error":"#VALUE!"},"A4",null,{"$f":"IF(ISERROR(HLOOKUP($BP44,補助!$AW$2:$BE$9,4,FALSE))=TRUE,\"\",HLOOKUP($BP44,補助!$AW$2:$BE$9,4,FALSE))","v":""},{"$f":"IF(ISERROR(HLOOKUP($BQ44,補助!$AW$2:$BE$9,4,FALSE))=TRUE,\"\",HLOOKUP($BQ44,補助!$AW$2:$BE$9,4,FALSE))","v":""},{"$f":"IF(ISERROR(HLOOKUP($BR44,補助!$AW$2:$BE$9,4,FALSE))=TRUE,\"\",HLOOKUP($BR44,補助!$AW$2:$BE$9,4,FALSE))","v":""},{"$f":"IF(ISERROR(HLOOKUP($BS44,補助!$AW$2:$BE$9,4,FALSE))=TRUE,\"\",HLOOKUP($BS44,補助!$AW$2:$BE$9,4,FALSE))","v":""},{"$f":"IF(ISERROR(HLOOKUP($BT44,補助!$AW$2:$BE$9,4,FALSE))=TRUE,\"\",HLOOKUP($BT44,補助!$AW$2:$BE$9,4,FALSE))","v":""},{"$f":"IF(ISERROR(HLOOKUP($BU44,補助!$AW$2:$BE$9,4,FALSE))=TRUE,\"\",HLOOKUP($BU44,補助!$AW$2:$BE$9,4,FALSE))","v":""},{"$f":"IF(ISERROR(HLOOKUP($BV44,補助!$AW$2:$BE$9,4,FALSE))=TRUE,\"\",HLOOKUP($BV44,補助!$AW$2:$BE$9,4,FALSE))","v":""},{"$f":"IF(ISERROR(HLOOKUP($BW44,補助!$AW$2:$BE$9,4,FALSE))=TRUE,\"\",HLOOKUP($BW44,補助!$AW$2:$BE$9,4,FALSE))","v":3},{"$f":"IF(ISERROR(HLOOKUP($BX44,補助!$AW$2:$BE$9,4,FALSE))=TRUE,\"\",HLOOKUP($BX44,補助!$AW$2:$BE$9,4,FALSE))","v":8},{"$f":"IF(ISERROR(HLOOKUP($BY44,補助!$AW$2:$BE$9,4,FALSE))=TRUE,\"\",HLOOKUP($BY44,補助!$AW$2:$BE$9,4,FALSE))","v":4},{"$f":"IF(ISERROR(HLOOKUP($BZ44,補助!$AW$2:$BE$9,4,FALSE))=TRUE,\"\",HLOOKUP($BZ44,補助!$AW$2:$BE$9,4,FALSE))","v":9},"384"]
[null,null,null,null,null,null,null,null,null,null,null,null,null,null,null,null,null,null,null,null,null,null,null,null,null,null,null,null,null,null,null,null,null,null,null,null,null,null,null,null,null,null,null,null,null,null,null,null,null,null,null,null,null,null,null,null,null,null,null,null,null,null,null,null,null,null,null,null,null,null,null,{"$error":"#VALUE!"},"A4",null,{"$f":"IF(ISERROR(HLOOKUP($BP45,補助!$AW$2:$BE$9,4,FALSE))=TRUE,\"\",HLOOKUP($BP45,補助!$AW$2:$BE$9,4,FALSE))","v":""},{"$f":"IF(ISERROR(HLOOKUP($BQ45,補助!$AW$2:$BE$9,4,FALSE))=TRUE,\"\",HLOOKUP($BQ45,補助!$AW$2:$BE$9,4,FALSE))","v":""},{"$f":"IF(ISERROR(HLOOKUP($BR45,補助!$AW$2:$BE$9,4,FALSE))=TRUE,\"\",HLOOKUP($BR45,補助!$AW$2:$BE$9,4,FALSE))","v":""},{"$f":"IF(ISERROR(HLOOKUP($BS45,補助!$AW$2:$BE$9,4,FALSE))=TRUE,\"\",HLOOKUP($BS45,補助!$AW$2:$BE$9,4,FALSE))","v":""},{"$f":"IF(ISERROR(HLOOKUP($BT45,補助!$AW$2:$BE$9,4,FALSE))=TRUE,\"\",HLOOKUP($BT45,補助!$AW$2:$BE$9,4,FALSE))","v":""},{"$f":"IF(ISERROR(HLOOKUP($BU45,補助!$AW$2:$BE$9,4,FALSE))=TRUE,\"\",HLOOKUP($BU45,補助!$AW$2:$BE$9,4,FALSE))","v":""},{"$f":"IF(ISERROR(HLOOKUP($BV45,補助!$AW$2:$BE$9,4,FALSE))=TRUE,\"\",HLOOKUP($BV45,補助!$AW$2:$BE$9,4,FALSE))","v":""},{"$f":"IF(ISERROR(HLOOKUP($BW45,補助!$AW$2:$BE$9,4,FALSE))=TRUE,\"\",HLOOKUP($BW45,補助!$AW$2:$BE$9,4,FALSE))","v":3},{"$f":"IF(ISERROR(HLOOKUP($BX45,補助!$AW$2:$BE$9,4,FALSE))=TRUE,\"\",HLOOKUP($BX45,補助!$AW$2:$BE$9,4,FALSE))","v":8},{"$f":"IF(ISERROR(HLOOKUP($BY45,補助!$AW$2:$BE$9,4,FALSE))=TRUE,\"\",HLOOKUP($BY45,補助!$AW$2:$BE$9,4,FALSE))","v":4},{"$f":"IF(ISERROR(HLOOKUP($BZ45,補助!$AW$2:$BE$9,4,FALSE))=TRUE,\"\",HLOOKUP($BZ45,補助!$AW$2:$BE$9,4,FALSE))","v":2},"384"]
[null,null,null,null,null,null,null,null,null,null,null,null,null,null,null,null,null,null,null,null,null,null,null,null,null,null,null,null,null,null,null,null,null,null,null,null,null,null,null,null,null,null,null,null,null,null,null,null,null,null,null,null,null,null,null,null,null,null,null,null,null,null,null,null,null,null,null,null,null,null,null,{"$error":"#VALUE!"},"A4",null,{"$f":"IF(ISERROR(HLOOKUP($BP46,補助!$AW$2:$BE$9,4,FALSE))=TRUE,\"\",HLOOKUP($BP46,補助!$AW$2:$BE$9,4,FALSE))","v":""},{"$f":"IF(ISERROR(HLOOKUP($BQ46,補助!$AW$2:$BE$9,4,FALSE))=TRUE,\"\",HLOOKUP($BQ46,補助!$AW$2:$BE$9,4,FALSE))","v":""},{"$f":"IF(ISERROR(HLOOKUP($BR46,補助!$AW$2:$BE$9,4,FALSE))=TRUE,\"\",HLOOKUP($BR46,補助!$AW$2:$BE$9,4,FALSE))","v":""},{"$f":"IF(ISERROR(HLOOKUP($BS46,補助!$AW$2:$BE$9,4,FALSE))=TRUE,\"\",HLOOKUP($BS46,補助!$AW$2:$BE$9,4,FALSE))","v":""},{"$f":"IF(ISERROR(HLOOKUP($BT46,補助!$AW$2:$BE$9,4,FALSE))=TRUE,\"\",HLOOKUP($BT46,補助!$AW$2:$BE$9,4,FALSE))","v":""},{"$f":"IF(ISERROR(HLOOKUP($BU46,補助!$AW$2:$BE$9,4,FALSE))=TRUE,\"\",HLOOKUP($BU46,補助!$AW$2:$BE$9,4,FALSE))","v":""},{"$f":"IF(ISERROR(HLOOKUP($BV46,補助!$AW$2:$BE$9,4,FALSE))=TRUE,\"\",HLOOKUP($BV46,補助!$AW$2:$BE$9,4,FALSE))","v":""},{"$f":"IF(ISERROR(HLOOKUP($BW46,補助!$AW$2:$BE$9,4,FALSE))=TRUE,\"\",HLOOKUP($BW46,補助!$AW$2:$BE$9,4,FALSE))","v":3},{"$f":"IF(ISERROR(HLOOKUP($BX46,補助!$AW$2:$BE$9,4,FALSE))=TRUE,\"\",HLOOKUP($BX46,補助!$AW$2:$BE$9,4,FALSE))","v":8},{"$f":"IF(ISERROR(HLOOKUP($BY46,補助!$AW$2:$BE$9,4,FALSE))=TRUE,\"\",HLOOKUP($BY46,補助!$AW$2:$BE$9,4,FALSE))","v":4},{"$f":"IF(ISERROR(HLOOKUP($BZ46,補助!$AW$2:$BE$9,4,FALSE))=TRUE,\"\",HLOOKUP($BZ46,補助!$AW$2:$BE$9,4,FALSE))","v":1},"384"]
[null,null,null,null,null,null,null,null,null,null,null,null,null,null,null,null,null,null,null,null,null,null,null,null,null,null,null,null,null,null,null,null,null,null,null,null,null,null,null,null,null,null,null,null,null,null,null,null,null,null,null,null,null,null,null,null,null,null,null,null,null,null,null,null,null,null,null,null,null,null,null,{"$error":"#VALUE!"},"A4",null,{"$f":"IF(ISERROR(HLOOKUP($BP47,補助!$AW$2:$BE$9,4,FALSE))=TRUE,\"\",HLOOKUP($BP47,補助!$AW$2:$BE$9,4,FALSE))","v":""},{"$f":"IF(ISERROR(HLOOKUP($BQ47,補助!$AW$2:$BE$9,4,FALSE))=TRUE,\"\",HLOOKUP($BQ47,補助!$AW$2:$BE$9,4,FALSE))","v":""},{"$f":"IF(ISERROR(HLOOKUP($BR47,補助!$AW$2:$BE$9,4,FALSE))=TRUE,\"\",HLOOKUP($BR47,補助!$AW$2:$BE$9,4,FALSE))","v":""},{"$f":"IF(ISERROR(HLOOKUP($BS47,補助!$AW$2:$BE$9,4,FALSE))=TRUE,\"\",HLOOKUP($BS47,補助!$AW$2:$BE$9,4,FALSE))","v":""},{"$f":"IF(ISERROR(HLOOKUP($BT47,補助!$AW$2:$BE$9,4,FALSE))=TRUE,\"\",HLOOKUP($BT47,補助!$AW$2:$BE$9,4,FALSE))","v":""},{"$f":"IF(ISERROR(HLOOKUP($BU47,補助!$AW$2:$BE$9,4,FALSE))=TRUE,\"\",HLOOKUP($BU47,補助!$AW$2:$BE$9,4,FALSE))","v":""},{"$f":"IF(ISERROR(HLOOKUP($BV47,補助!$AW$2:$BE$9,4,FALSE))=TRUE,\"\",HLOOKUP($BV47,補助!$AW$2:$BE$9,4,FALSE))","v":""},{"$f":"IF(ISERROR(HLOOKUP($BW47,補助!$AW$2:$BE$9,4,FALSE))=TRUE,\"\",HLOOKUP($BW47,補助!$AW$2:$BE$9,4,FALSE))","v":3},{"$f":"IF(ISERROR(HLOOKUP($BX47,補助!$AW$2:$BE$9,4,FALSE))=TRUE,\"\",HLOOKUP($BX47,補助!$AW$2:$BE$9,4,FALSE))","v":8},{"$f":"IF(ISERROR(HLOOKUP($BY47,補助!$AW$2:$BE$9,4,FALSE))=TRUE,\"\",HLOOKUP($BY47,補助!$AW$2:$BE$9,4,FALSE))","v":4},{"$f":"IF(ISERROR(HLOOKUP($BZ47,補助!$AW$2:$BE$9,4,FALSE))=TRUE,\"\",HLOOKUP($BZ47,補助!$AW$2:$BE$9,4,FALSE))","v":7},"384"]
[null,null,null,null,null,null,null,null,null,null,null,null,null,null,null,null,null,null,null,null,null,null,null,null,null,null,null,null,null,null,null,null,null,null,null,null,null,null,null,null,null,null,null,null,null,null,null,null,null,null,null,null,null,null,null,null,null,null,null,null,null,null,null,null,null,null,null,null,null,null,null,{"$error":"#VALUE!"},"A4",null,{"$f":"IF(ISERROR(HLOOKUP($BP48,補助!$AW$2:$BE$9,4,FALSE))=TRUE,\"\",HLOOKUP($BP48,補助!$AW$2:$BE$9,4,FALSE))","v":""},{"$f":"IF(ISERROR(HLOOKUP($BQ48,補助!$AW$2:$BE$9,4,FALSE))=TRUE,\"\",HLOOKUP($BQ48,補助!$AW$2:$BE$9,4,FALSE))","v":""},{"$f":"IF(ISERROR(HLOOKUP($BR48,補助!$AW$2:$BE$9,4,FALSE))=TRUE,\"\",HLOOKUP($BR48,補助!$AW$2:$BE$9,4,FALSE))","v":""},{"$f":"IF(ISERROR(HLOOKUP($BS48,補助!$AW$2:$BE$9,4,FALSE))=TRUE,\"\",HLOOKUP($BS48,補助!$AW$2:$BE$9,4,FALSE))","v":""},{"$f":"IF(ISERROR(HLOOKUP($BT48,補助!$AW$2:$BE$9,4,FALSE))=TRUE,\"\",HLOOKUP($BT48,補助!$AW$2:$BE$9,4,FALSE))","v":""},{"$f":"IF(ISERROR(HLOOKUP($BU48,補助!$AW$2:$BE$9,4,FALSE))=TRUE,\"\",HLOOKUP($BU48,補助!$AW$2:$BE$9,4,FALSE))","v":""},{"$f":"IF(ISERROR(HLOOKUP($BV48,補助!$AW$2:$BE$9,4,FALSE))=TRUE,\"\",HLOOKUP($BV48,補助!$AW$2:$BE$9,4,FALSE))","v":""},{"$f":"IF(ISERROR(HLOOKUP($BW48,補助!$AW$2:$BE$9,4,FALSE))=TRUE,\"\",HLOOKUP($BW48,補助!$AW$2:$BE$9,4,FALSE))","v":3},{"$f":"IF(ISERROR(HLOOKUP($BX48,補助!$AW$2:$BE$9,4,FALSE))=TRUE,\"\",HLOOKUP($BX48,補助!$AW$2:$BE$9,4,FALSE))","v":7},{"$f":"IF(ISERROR(HLOOKUP($BY48,補助!$AW$2:$BE$9,4,FALSE))=TRUE,\"\",HLOOKUP($BY48,補助!$AW$2:$BE$9,4,FALSE))","v":9},{"$f":"IF(ISERROR(HLOOKUP($BZ48,補助!$AW$2:$BE$9,4,FALSE))=TRUE,\"\",HLOOKUP($BZ48,補助!$AW$2:$BE$9,4,FALSE))","v":""},"379"]
[null,null,null,null,null,null,null,null,null,null,null,null,null,null,null,null,null,null,null,null,null,null,null,null,null,null,null,null,null,null,null,null,null,null,null,null,null,null,null,null,null,null,null,null,null,null,null,null,null,null,null,null,null,null,null,null,null,null,null,null,null,null,null,null,null,null,null,null,null,null,null,{"$error":"#VALUE!"},"A4",null,{"$f":"IF(ISERROR(HLOOKUP($BP49,補助!$AW$2:$BE$9,4,FALSE))=TRUE,\"\",HLOOKUP($BP49,補助!$AW$2:$BE$9,4,FALSE))","v":""},{"$f":"IF(ISERROR(HLOOKUP($BQ49,補助!$AW$2:$BE$9,4,FALSE))=TRUE,\"\",HLOOKUP($BQ49,補助!$AW$2:$BE$9,4,FALSE))","v":""},{"$f":"IF(ISERROR(HLOOKUP($BR49,補助!$AW$2:$BE$9,4,FALSE))=TRUE,\"\",HLOOKUP($BR49,補助!$AW$2:$BE$9,4,FALSE))","v":""},{"$f":"IF(ISERROR(HLOOKUP($BS49,補助!$AW$2:$BE$9,4,FALSE))=TRUE,\"\",HLOOKUP($BS49,補助!$AW$2:$BE$9,4,FALSE))","v":""},{"$f":"IF(ISERROR(HLOOKUP($BT49,補助!$AW$2:$BE$9,4,FALSE))=TRUE,\"\",HLOOKUP($BT49,補助!$AW$2:$BE$9,4,FALSE))","v":""},{"$f":"IF(ISERROR(HLOOKUP($BU49,補助!$AW$2:$BE$9,4,FALSE))=TRUE,\"\",HLOOKUP($BU49,補助!$AW$2:$BE$9,4,FALSE))","v":""},{"$f":"IF(ISERROR(HLOOKUP($BV49,補助!$AW$2:$BE$9,4,FALSE))=TRUE,\"\",HLOOKUP($BV49,補助!$AW$2:$BE$9,4,FALSE))","v":""},{"$f":"IF(ISERROR(HLOOKUP($BW49,補助!$AW$2:$BE$9,4,FALSE))=TRUE,\"\",HLOOKUP($BW49,補助!$AW$2:$BE$9,4,FALSE))","v":3},{"$f":"IF(ISERROR(HLOOKUP($BX49,補助!$AW$2:$BE$9,4,FALSE))=TRUE,\"\",HLOOKUP($BX49,補助!$AW$2:$BE$9,4,FALSE))","v":7},{"$f":"IF(ISERROR(HLOOKUP($BY49,補助!$AW$2:$BE$9,4,FALSE))=TRUE,\"\",HLOOKUP($BY49,補助!$AW$2:$BE$9,4,FALSE))","v":1},{"$f":"IF(ISERROR(HLOOKUP($BZ49,補助!$AW$2:$BE$9,4,FALSE))=TRUE,\"\",HLOOKUP($BZ49,補助!$AW$2:$BE$9,4,FALSE))","v":""},"371"]
[null,null,null,null,null,null,null,null,null,null,null,null,null,null,null,null,null,null,null,null,null,null,null,null,null,null,null,null,null,null,null,null,null,null,null,null,null,null,null,null,null,null,null,null,null,null,null,null,null,null,null,null,null,null,null,null,null,null,null,null,null,null,null,null,null,null,null,null,null,null,null,{"$error":"#VALUE!"},"A4","白",{"$f":"IF(ISERROR(HLOOKUP($BP50,補助!$AW$2:$BE$9,4,FALSE))=TRUE,\"\",HLOOKUP($BP50,補助!$AW$2:$BE$9,4,FALSE))","v":""},{"$f":"IF(ISERROR(HLOOKUP($BQ50,補助!$AW$2:$BE$9,4,FALSE))=TRUE,\"\",HLOOKUP($BQ50,補助!$AW$2:$BE$9,4,FALSE))","v":""},{"$f":"IF(ISERROR(HLOOKUP($BR50,補助!$AW$2:$BE$9,4,FALSE))=TRUE,\"\",HLOOKUP($BR50,補助!$AW$2:$BE$9,4,FALSE))","v":""},{"$f":"IF(ISERROR(HLOOKUP($BS50,補助!$AW$2:$BE$9,4,FALSE))=TRUE,\"\",HLOOKUP($BS50,補助!$AW$2:$BE$9,4,FALSE))","v":""},{"$f":"IF(ISERROR(HLOOKUP($BT50,補助!$AW$2:$BE$9,4,FALSE))=TRUE,\"\",HLOOKUP($BT50,補助!$AW$2:$BE$9,4,FALSE))","v":""},{"$f":"IF(ISERROR(HLOOKUP($BU50,補助!$AW$2:$BE$9,4,FALSE))=TRUE,\"\",HLOOKUP($BU50,補助!$AW$2:$BE$9,4,FALSE))","v":""},{"$f":"IF(ISERROR(HLOOKUP($BV50,補助!$AW$2:$BE$9,4,FALSE))=TRUE,\"\",HLOOKUP($BV50,補助!$AW$2:$BE$9,4,FALSE))","v":""},{"$f":"IF(ISERROR(HLOOKUP($BW50,補助!$AW$2:$BE$9,4,FALSE))=TRUE,\"\",HLOOKUP($BW50,補助!$AW$2:$BE$9,4,FALSE))","v":3},{"$f":"IF(ISERROR(HLOOKUP($BX50,補助!$AW$2:$BE$9,4,FALSE))=TRUE,\"\",HLOOKUP($BX50,補助!$AW$2:$BE$9,4,FALSE))","v":7},{"$f":"IF(ISERROR(HLOOKUP($BY50,補助!$AW$2:$BE$9,4,FALSE))=TRUE,\"\",HLOOKUP($BY50,補助!$AW$2:$BE$9,4,FALSE))","v":6},{"$f":"IF(ISERROR(HLOOKUP($BZ50,補助!$AW$2:$BE$9,4,FALSE))=TRUE,\"\",HLOOKUP($BZ50,補助!$AW$2:$BE$9,4,FALSE))","v":""},"376"]
[null,null,null,null,null,null,null,null,null,null,null,null,null,null,null,null,null,null,null,null,null,null,null,null,null,null,null,null,null,null,null,null,null,null,null,null,null,null,null,null,null,null,null,null,null,null,null,null,null,null,null,null,null,null,null,null,null,null,null,null,null,null,null,null,null,null,null,null,null,null,null,{"$error":"#VALUE!"},"A4","白",{"$f":"IF(ISERROR(HLOOKUP($BP51,補助!$AW$2:$BE$9,4,FALSE))=TRUE,\"\",HLOOKUP($BP51,補助!$AW$2:$BE$9,4,FALSE))","v":""},{"$f":"IF(ISERROR(HLOOKUP($BQ51,補助!$AW$2:$BE$9,4,FALSE))=TRUE,\"\",HLOOKUP($BQ51,補助!$AW$2:$BE$9,4,FALSE))","v":""},{"$f":"IF(ISERROR(HLOOKUP($BR51,補助!$AW$2:$BE$9,4,FALSE))=TRUE,\"\",HLOOKUP($BR51,補助!$AW$2:$BE$9,4,FALSE))","v":""},{"$f":"IF(ISERROR(HLOOKUP($BS51,補助!$AW$2:$BE$9,4,FALSE))=TRUE,\"\",HLOOKUP($BS51,補助!$AW$2:$BE$9,4,FALSE))","v":""},{"$f":"IF(ISERROR(HLOOKUP($BT51,補助!$AW$2:$BE$9,4,FALSE))=TRUE,\"\",HLOOKUP($BT51,補助!$AW$2:$BE$9,4,FALSE))","v":""},{"$f":"IF(ISERROR(HLOOKUP($BU51,補助!$AW$2:$BE$9,4,FALSE))=TRUE,\"\",HLOOKUP($BU51,補助!$AW$2:$BE$9,4,FALSE))","v":""},{"$f":"IF(ISERROR(HLOOKUP($BV51,補助!$AW$2:$BE$9,4,FALSE))=TRUE,\"\",HLOOKUP($BV51,補助!$AW$2:$BE$9,4,FALSE))","v":""},{"$f":"IF(ISERROR(HLOOKUP($BW51,補助!$AW$2:$BE$9,4,FALSE))=TRUE,\"\",HLOOKUP($BW51,補助!$AW$2:$BE$9,4,FALSE))","v":3},{"$f":"IF(ISERROR(HLOOKUP($BX51,補助!$AW$2:$BE$9,4,FALSE))=TRUE,\"\",HLOOKUP($BX51,補助!$AW$2:$BE$9,4,FALSE))","v":7},{"$f":"IF(ISERROR(HLOOKUP($BY51,補助!$AW$2:$BE$9,4,FALSE))=TRUE,\"\",HLOOKUP($BY51,補助!$AW$2:$BE$9,4,FALSE))","v":2},{"$f":"IF(ISERROR(HLOOKUP($BZ51,補助!$AW$2:$BE$9,4,FALSE))=TRUE,\"\",HLOOKUP($BZ51,補助!$AW$2:$BE$9,4,FALSE))","v":""},"372"]
[null,null,null,null,null,null,null,null,null,null,null,null,null,null,null,null,null,null,null,null,null,null,null,null,null,null,null,null,null,null,null,null,null,null,null,null,null,null,null,null,null,null,null,null,null,null,null,null,null,null,null,null,null,null,null,null,null,null,null,null,null,null,null,null,null,null,null,null,null,null,null,{"$error":"#VALUE!"},"A4",null,{"$f":"IF(ISERROR(HLOOKUP($BP52,補助!$AW$2:$BE$9,4,FALSE))=TRUE,\"\",HLOOKUP($BP52,補助!$AW$2:$BE$9,4,FALSE))","v":""},{"$f":"IF(ISERROR(HLOOKUP($BQ52,補助!$AW$2:$BE$9,4,FALSE))=TRUE,\"\",HLOOKUP($BQ52,補助!$AW$2:$BE$9,4,FALSE))","v":""},{"$f":"IF(ISERROR(HLOOKUP($BR52,補助!$AW$2:$BE$9,4,FALSE))=TRUE,\"\",HLOOKUP($BR52,補助!$AW$2:$BE$9,4,FALSE))","v":""},{"$f":"IF(ISERROR(HLOOKUP($BS52,補助!$AW$2:$BE$9,4,FALSE))=TRUE,\"\",HLOOKUP($BS52,補助!$AW$2:$BE$9,4,FALSE))","v":""},{"$f":"IF(ISERROR(HLOOKUP($BT52,補助!$AW$2:$BE$9,4,FALSE))=TRUE,\"\",HLOOKUP($BT52,補助!$AW$2:$BE$9,4,FALSE))","v":""},{"$f":"IF(ISERROR(HLOOKUP($BU52,補助!$AW$2:$BE$9,4,FALSE))=TRUE,\"\",HLOOKUP($BU52,補助!$AW$2:$BE$9,4,FALSE))","v":""},{"$f":"IF(ISERROR(HLOOKUP($BV52,補助!$AW$2:$BE$9,4,FALSE))=TRUE,\"\",HLOOKUP($BV52,補助!$AW$2:$BE$9,4,FALSE))","v":""},{"$f":"IF(ISERROR(HLOOKUP($BW52,補助!$AW$2:$BE$9,4,FALSE))=TRUE,\"\",HLOOKUP($BW52,補助!$AW$2:$BE$9,4,FALSE))","v":6},{"$f":"IF(ISERROR(HLOOKUP($BX52,補助!$AW$2:$BE$9,4,FALSE))=TRUE,\"\",HLOOKUP($BX52,補助!$AW$2:$BE$9,4,FALSE))","v":2},{"$f":"IF(ISERROR(HLOOKUP($BY52,補助!$AW$2:$BE$9,4,FALSE))=TRUE,\"\",HLOOKUP($BY52,補助!$AW$2:$BE$9,4,FALSE))","v":5},{"$f":"IF(ISERROR(HLOOKUP($BZ52,補助!$AW$2:$BE$9,4,FALSE))=TRUE,\"\",HLOOKUP($BZ52,補助!$AW$2:$BE$9,4,FALSE))","v":""},"625"]
[null,null,null,null,null,null,null,null,null,null,null,null,null,null,null,null,null,null,null,null,null,null,null,null,null,null,null,null,null,null,null,null,null,null,null,null,null,null,null,null,null,null,null,null,null,null,null,null,null,null,null,null,null,null,null,null,null,null,null,null,null,null,null,null,null,null,null,null,null,null,null,{"$error":"#VALUE!"},"A4",null,{"$f":"IF(ISERROR(HLOOKUP($BP53,補助!$AW$2:$BE$9,4,FALSE))=TRUE,\"\",HLOOKUP($BP53,補助!$AW$2:$BE$9,4,FALSE))","v":""},{"$f":"IF(ISERROR(HLOOKUP($BQ53,補助!$AW$2:$BE$9,4,FALSE))=TRUE,\"\",HLOOKUP($BQ53,補助!$AW$2:$BE$9,4,FALSE))","v":""},{"$f":"IF(ISERROR(HLOOKUP($BR53,補助!$AW$2:$BE$9,4,FALSE))=TRUE,\"\",HLOOKUP($BR53,補助!$AW$2:$BE$9,4,FALSE))","v":""},{"$f":"IF(ISERROR(HLOOKUP($BS53,補助!$AW$2:$BE$9,4,FALSE))=TRUE,\"\",HLOOKUP($BS53,補助!$AW$2:$BE$9,4,FALSE))","v":""},{"$f":"IF(ISERROR(HLOOKUP($BT53,補助!$AW$2:$BE$9,4,FALSE))=TRUE,\"\",HLOOKUP($BT53,補助!$AW$2:$BE$9,4,FALSE))","v":""},{"$f":"IF(ISERROR(HLOOKUP($BU53,補助!$AW$2:$BE$9,4,FALSE))=TRUE,\"\",HLOOKUP($BU53,補助!$AW$2:$BE$9,4,FALSE))","v":""},{"$f":"IF(ISERROR(HLOOKUP($BV53,補助!$AW$2:$BE$9,4,FALSE))=TRUE,\"\",HLOOKUP($BV53,補助!$AW$2:$BE$9,4,FALSE))","v":""},{"$f":"IF(ISERROR(HLOOKUP($BW53,補助!$AW$2:$BE$9,4,FALSE))=TRUE,\"\",HLOOKUP($BW53,補助!$AW$2:$BE$9,4,FALSE))","v":6},{"$f":"IF(ISERROR(HLOOKUP($BX53,補助!$AW$2:$BE$9,4,FALSE))=TRUE,\"\",HLOOKUP($BX53,補助!$AW$2:$BE$9,4,FALSE))","v":8},{"$f":"IF(ISERROR(HLOOKUP($BY53,補助!$AW$2:$BE$9,4,FALSE))=TRUE,\"\",HLOOKUP($BY53,補助!$AW$2:$BE$9,4,FALSE))","v":5},{"$f":"IF(ISERROR(HLOOKUP($BZ53,補助!$AW$2:$BE$9,4,FALSE))=TRUE,\"\",HLOOKUP($BZ53,補助!$AW$2:$BE$9,4,FALSE))","v":""},"685"]
[null,null,null,null,null,null,null,null,null,null,null,null,null,null,null,null,null,null,null,null,null,null,null,null,null,null,null,null,null,null,null,null,null,null,null,null,null,null,null,null,null,null,null,null,null,null,null,null,null,null,null,null,null,null,null,null,null,null,null,null,null,null,null,null,null,null,null,null,null,null,null,{"$error":"#VALUE!"},"A4",null,{"$f":"IF(ISERROR(HLOOKUP($BP54,補助!$AW$2:$BE$9,4,FALSE))=TRUE,\"\",HLOOKUP($BP54,補助!$AW$2:$BE$9,4,FALSE))","v":""},{"$f":"IF(ISERROR(HLOOKUP($BQ54,補助!$AW$2:$BE$9,4,FALSE))=TRUE,\"\",HLOOKUP($BQ54,補助!$AW$2:$BE$9,4,FALSE))","v":""},{"$f":"IF(ISERROR(HLOOKUP($BR54,補助!$AW$2:$BE$9,4,FALSE))=TRUE,\"\",HLOOKUP($BR54,補助!$AW$2:$BE$9,4,FALSE))","v":""},{"$f":"IF(ISERROR(HLOOKUP($BS54,補助!$AW$2:$BE$9,4,FALSE))=TRUE,\"\",HLOOKUP($BS54,補助!$AW$2:$BE$9,4,FALSE))","v":""},{"$f":"IF(ISERROR(HLOOKUP($BT54,補助!$AW$2:$BE$9,4,FALSE))=TRUE,\"\",HLOOKUP($BT54,補助!$AW$2:$BE$9,4,FALSE))","v":""},{"$f":"IF(ISERROR(HLOOKUP($BU54,補助!$AW$2:$BE$9,4,FALSE))=TRUE,\"\",HLOOKUP($BU54,補助!$AW$2:$BE$9,4,FALSE))","v":""},{"$f":"IF(ISERROR(HLOOKUP($BV54,補助!$AW$2:$BE$9,4,FALSE))=TRUE,\"\",HLOOKUP($BV54,補助!$AW$2:$BE$9,4,FALSE))","v":""},{"$f":"IF(ISERROR(HLOOKUP($BW54,補助!$AW$2:$BE$9,4,FALSE))=TRUE,\"\",HLOOKUP($BW54,補助!$AW$2:$BE$9,4,FALSE))","v":6},{"$f":"IF(ISERROR(HLOOKUP($BX54,補助!$AW$2:$BE$9,4,FALSE))=TRUE,\"\",HLOOKUP($BX54,補助!$AW$2:$BE$9,4,FALSE))","v":1},{"$f":"IF(ISERROR(HLOOKUP($BY54,補助!$AW$2:$BE$9,4,FALSE))=TRUE,\"\",HLOOKUP($BY54,補助!$AW$2:$BE$9,4,FALSE))","v":3},{"$f":"IF(ISERROR(HLOOKUP($BZ54,補助!$AW$2:$BE$9,4,FALSE))=TRUE,\"\",HLOOKUP($BZ54,補助!$AW$2:$BE$9,4,FALSE))","v":""},"613"]
[null,null,null,null,null,null,null,null,null,null,null,null,null,null,null,null,null,null,null,null,null,null,null,null,null,null,null,null,null,null,null,null,null,null,null,null,null,null,null,null,null,null,null,null,null,null,null,null,null,null,null,null,null,null,null,null,null,null,null,null,null,null,null,null,null,null,null,null,null,null,null,{"$error":"#VALUE!"},"A4",null,{"$f":"IF(ISERROR(HLOOKUP($BP55,補助!$AW$2:$BE$9,4,FALSE))=TRUE,\"\",HLOOKUP($BP55,補助!$AW$2:$BE$9,4,FALSE))","v":""},{"$f":"IF(ISERROR(HLOOKUP($BQ55,補助!$AW$2:$BE$9,4,FALSE))=TRUE,\"\",HLOOKUP($BQ55,補助!$AW$2:$BE$9,4,FALSE))","v":""},{"$f":"IF(ISERROR(HLOOKUP($BR55,補助!$AW$2:$BE$9,4,FALSE))=TRUE,\"\",HLOOKUP($BR55,補助!$AW$2:$BE$9,4,FALSE))","v":""},{"$f":"IF(ISERROR(HLOOKUP($BS55,補助!$AW$2:$BE$9,4,FALSE))=TRUE,\"\",HLOOKUP($BS55,補助!$AW$2:$BE$9,4,FALSE))","v":""},{"$f":"IF(ISERROR(HLOOKUP($BT55,補助!$AW$2:$BE$9,4,FALSE))=TRUE,\"\",HLOOKUP($BT55,補助!$AW$2:$BE$9,4,FALSE))","v":""},{"$f":"IF(ISERROR(HLOOKUP($BU55,補助!$AW$2:$BE$9,4,FALSE))=TRUE,\"\",HLOOKUP($BU55,補助!$AW$2:$BE$9,4,FALSE))","v":""},{"$f":"IF(ISERROR(HLOOKUP($BV55,補助!$AW$2:$BE$9,4,FALSE))=TRUE,\"\",HLOOKUP($BV55,補助!$AW$2:$BE$9,4,FALSE))","v":""},{"$f":"IF(ISERROR(HLOOKUP($BW55,補助!$AW$2:$BE$9,4,FALSE))=TRUE,\"\",HLOOKUP($BW55,補助!$AW$2:$BE$9,4,FALSE))","v":6},{"$f":"IF(ISERROR(HLOOKUP($BX55,補助!$AW$2:$BE$9,4,FALSE))=TRUE,\"\",HLOOKUP($BX55,補助!$AW$2:$BE$9,4,FALSE))","v":7},{"$f":"IF(ISERROR(HLOOKUP($BY55,補助!$AW$2:$BE$9,4,FALSE))=TRUE,\"\",HLOOKUP($BY55,補助!$AW$2:$BE$9,4,FALSE))","v":9},{"$f":"IF(ISERROR(HLOOKUP($BZ55,補助!$AW$2:$BE$9,4,FALSE))=TRUE,\"\",HLOOKUP($BZ55,補助!$AW$2:$BE$9,4,FALSE))","v":""},"679"]
[null,null,null,null,null,null,null,null,null,null,null,null,null,null,null,null,null,null,null,null,null,null,null,null,null,null,null,null,null,null,null,null,null,null,null,null,null,null,null,null,null,null,null,null,null,null,null,null,null,null,null,null,null,null,null,null,null,null,null,null,null,null,null,null,null,null,null,null,null,null,null,{"$error":"#VALUE!"},"A4",null,{"$f":"IF(ISERROR(HLOOKUP($BP56,補助!$AW$2:$BE$9,4,FALSE))=TRUE,\"\",HLOOKUP($BP56,補助!$AW$2:$BE$9,4,FALSE))","v":""},{"$f":"IF(ISERROR(HLOOKUP($BQ56,補助!$AW$2:$BE$9,4,FALSE))=TRUE,\"\",HLOOKUP($BQ56,補助!$AW$2:$BE$9,4,FALSE))","v":""},{"$f":"IF(ISERROR(HLOOKUP($BR56,補助!$AW$2:$BE$9,4,FALSE))=TRUE,\"\",HLOOKUP($BR56,補助!$AW$2:$BE$9,4,FALSE))","v":""},{"$f":"IF(ISERROR(HLOOKUP($BS56,補助!$AW$2:$BE$9,4,FALSE))=TRUE,\"\",HLOOKUP($BS56,補助!$AW$2:$BE$9,4,FALSE))","v":""},{"$f":"IF(ISERROR(HLOOKUP($BT56,補助!$AW$2:$BE$9,4,FALSE))=TRUE,\"\",HLOOKUP($BT56,補助!$AW$2:$BE$9,4,FALSE))","v":""},{"$f":"IF(ISERROR(HLOOKUP($BU56,補助!$AW$2:$BE$9,4,FALSE))=TRUE,\"\",HLOOKUP($BU56,補助!$AW$2:$BE$9,4,FALSE))","v":""},{"$f":"IF(ISERROR(HLOOKUP($BV56,補助!$AW$2:$BE$9,4,FALSE))=TRUE,\"\",HLOOKUP($BV56,補助!$AW$2:$BE$9,4,FALSE))","v":""},{"$f":"IF(ISERROR(HLOOKUP($BW56,補助!$AW$2:$BE$9,4,FALSE))=TRUE,\"\",HLOOKUP($BW56,補助!$AW$2:$BE$9,4,FALSE))","v":5},{"$f":"IF(ISERROR(HLOOKUP($BX56,補助!$AW$2:$BE$9,4,FALSE))=TRUE,\"\",HLOOKUP($BX56,補助!$AW$2:$BE$9,4,FALSE))","v":6},{"$f":"IF(ISERROR(HLOOKUP($BY56,補助!$AW$2:$BE$9,4,FALSE))=TRUE,\"\",HLOOKUP($BY56,補助!$AW$2:$BE$9,4,FALSE))","v":9},{"$f":"IF(ISERROR(HLOOKUP($BZ56,補助!$AW$2:$BE$9,4,FALSE))=TRUE,\"\",HLOOKUP($BZ56,補助!$AW$2:$BE$9,4,FALSE))","v":""},"569"]
[null,null,null,null,null,null,null,null,null,null,null,null,null,null,null,null,null,null,null,null,null,null,null,null,null,null,null,null,null,null,null,null,null,null,null,null,null,null,null,null,null,null,null,null,null,null,null,null,null,null,null,null,null,null,null,null,null,null,null,null,null,null,null,null,null,null,null,null,null,null,null,{"$error":"#VALUE!"},"A4",null,{"$f":"IF(ISERROR(HLOOKUP($BP57,補助!$AW$2:$BE$9,4,FALSE))=TRUE,\"\",HLOOKUP($BP57,補助!$AW$2:$BE$9,4,FALSE))","v":""},{"$f":"IF(ISERROR(HLOOKUP($BQ57,補助!$AW$2:$BE$9,4,FALSE))=TRUE,\"\",HLOOKUP($BQ57,補助!$AW$2:$BE$9,4,FALSE))","v":""},{"$f":"IF(ISERROR(HLOOKUP($BR57,補助!$AW$2:$BE$9,4,FALSE))=TRUE,\"\",HLOOKUP($BR57,補助!$AW$2:$BE$9,4,FALSE))","v":""},{"$f":"IF(ISERROR(HLOOKUP($BS57,補助!$AW$2:$BE$9,4,FALSE))=TRUE,\"\",HLOOKUP($BS57,補助!$AW$2:$BE$9,4,FALSE))","v":""},{"$f":"IF(ISERROR(HLOOKUP($BT57,補助!$AW$2:$BE$9,4,FALSE))=TRUE,\"\",HLOOKUP($BT57,補助!$AW$2:$BE$9,4,FALSE))","v":""},{"$f":"IF(ISERROR(HLOOKUP($BU57,補助!$AW$2:$BE$9,4,FALSE))=TRUE,\"\",HLOOKUP($BU57,補助!$AW$2:$BE$9,4,FALSE))","v":""},{"$f":"IF(ISERROR(HLOOKUP($BV57,補助!$AW$2:$BE$9,4,FALSE))=TRUE,\"\",HLOOKUP($BV57,補助!$AW$2:$BE$9,4,FALSE))","v":""},{"$f":"IF(ISERROR(HLOOKUP($BW57,補助!$AW$2:$BE$9,4,FALSE))=TRUE,\"\",HLOOKUP($BW57,補助!$AW$2:$BE$9,4,FALSE))","v":5},{"$f":"IF(ISERROR(HLOOKUP($BX57,補助!$AW$2:$BE$9,4,FALSE))=TRUE,\"\",HLOOKUP($BX57,補助!$AW$2:$BE$9,4,FALSE))","v":6},{"$f":"IF(ISERROR(HLOOKUP($BY57,補助!$AW$2:$BE$9,4,FALSE))=TRUE,\"\",HLOOKUP($BY57,補助!$AW$2:$BE$9,4,FALSE))","v":3},{"$f":"IF(ISERROR(HLOOKUP($BZ57,補助!$AW$2:$BE$9,4,FALSE))=TRUE,\"\",HLOOKUP($BZ57,補助!$AW$2:$BE$9,4,FALSE))","v":""},"563"]
[null,null,null,null,null,null,null,null,null,null,null,null,null,null,null,null,null,null,null,null,null,null,null,null,null,null,null,null,null,null,null,null,null,null,null,null,null,null,null,null,null,null,null,null,null,null,null,null,null,null,null,null,null,null,null,null,null,null,null,null,null,null,null,null,null,null,null,null,null,null,null,{"$error":"#VALUE!"},"A4",null,{"$f":"IF(ISERROR(HLOOKUP($BP58,補助!$AW$2:$BE$9,4,FALSE))=TRUE,\"\",HLOOKUP($BP58,補助!$AW$2:$BE$9,4,FALSE))","v":""},{"$f":"IF(ISERROR(HLOOKUP($BQ58,補助!$AW$2:$BE$9,4,FALSE))=TRUE,\"\",HLOOKUP($BQ58,補助!$AW$2:$BE$9,4,FALSE))","v":""},{"$f":"IF(ISERROR(HLOOKUP($BR58,補助!$AW$2:$BE$9,4,FALSE))=TRUE,\"\",HLOOKUP($BR58,補助!$AW$2:$BE$9,4,FALSE))","v":""},{"$f":"IF(ISERROR(HLOOKUP($BS58,補助!$AW$2:$BE$9,4,FALSE))=TRUE,\"\",HLOOKUP($BS58,補助!$AW$2:$BE$9,4,FALSE))","v":""},{"$f":"IF(ISERROR(HLOOKUP($BT58,補助!$AW$2:$BE$9,4,FALSE))=TRUE,\"\",HLOOKUP($BT58,補助!$AW$2:$BE$9,4,FALSE))","v":""},{"$f":"IF(ISERROR(HLOOKUP($BU58,補助!$AW$2:$BE$9,4,FALSE))=TRUE,\"\",HLOOKUP($BU58,補助!$AW$2:$BE$9,4,FALSE))","v":""},{"$f":"IF(ISERROR(HLOOKUP($BV58,補助!$AW$2:$BE$9,4,FALSE))=TRUE,\"\",HLOOKUP($BV58,補助!$AW$2:$BE$9,4,FALSE))","v":""},{"$f":"IF(ISERROR(HLOOKUP($BW58,補助!$AW$2:$BE$9,4,FALSE))=TRUE,\"\",HLOOKUP($BW58,補助!$AW$2:$BE$9,4,FALSE))","v":5},{"$f":"IF(ISERROR(HLOOKUP($BX58,補助!$AW$2:$BE$9,4,FALSE))=TRUE,\"\",HLOOKUP($BX58,補助!$AW$2:$BE$9,4,FALSE))","v":6},{"$f":"IF(ISERROR(HLOOKUP($BY58,補助!$AW$2:$BE$9,4,FALSE))=TRUE,\"\",HLOOKUP($BY58,補助!$AW$2:$BE$9,4,FALSE))","v":1},{"$f":"IF(ISERROR(HLOOKUP($BZ58,補助!$AW$2:$BE$9,4,FALSE))=TRUE,\"\",HLOOKUP($BZ58,補助!$AW$2:$BE$9,4,FALSE))","v":""},"561"]
[null,null,null,null,null,null,null,null,null,null,null,null,null,null,null,null,null,null,null,null,null,null,null,null,null,null,null,null,null,null,null,null,null,null,null,null,null,null,null,null,null,null,null,null,null,null,null,null,null,null,null,null,null,null,null,null,null,null,null,null,null,null,null,null,null,null,null,null,null,null,null,{"$error":"#VALUE!"},"A4",null,{"$f":"IF(ISERROR(HLOOKUP($BP59,補助!$AW$2:$BE$9,4,FALSE))=TRUE,\"\",HLOOKUP($BP59,補助!$AW$2:$BE$9,4,FALSE))","v":""},{"$f":"IF(ISERROR(HLOOKUP($BQ59,補助!$AW$2:$BE$9,4,FALSE))=TRUE,\"\",HLOOKUP($BQ59,補助!$AW$2:$BE$9,4,FALSE))","v":""},{"$f":"IF(ISERROR(HLOOKUP($BR59,補助!$AW$2:$BE$9,4,FALSE))=TRUE,\"\",HLOOKUP($BR59,補助!$AW$2:$BE$9,4,FALSE))","v":""},{"$f":"IF(ISERROR(HLOOKUP($BS59,補助!$AW$2:$BE$9,4,FALSE))=TRUE,\"\",HLOOKUP($BS59,補助!$AW$2:$BE$9,4,FALSE))","v":""},{"$f":"IF(ISERROR(HLOOKUP($BT59,補助!$AW$2:$BE$9,4,FALSE))=TRUE,\"\",HLOOKUP($BT59,補助!$AW$2:$BE$9,4,FALSE))","v":""},{"$f":"IF(ISERROR(HLOOKUP($BU59,補助!$AW$2:$BE$9,4,FALSE))=TRUE,\"\",HLOOKUP($BU59,補助!$AW$2:$BE$9,4,FALSE))","v":""},{"$f":"IF(ISERROR(HLOOKUP($BV59,補助!$AW$2:$BE$9,4,FALSE))=TRUE,\"\",HLOOKUP($BV59,補助!$AW$2:$BE$9,4,FALSE))","v":""},{"$f":"IF(ISERROR(HLOOKUP($BW59,補助!$AW$2:$BE$9,4,FALSE))=TRUE,\"\",HLOOKUP($BW59,補助!$AW$2:$BE$9,4,FALSE))","v":5},{"$f":"IF(ISERROR(HLOOKUP($BX59,補助!$AW$2:$BE$9,4,FALSE))=TRUE,\"\",HLOOKUP($BX59,補助!$AW$2:$BE$9,4,FALSE))","v":6},{"$f":"IF(ISERROR(HLOOKUP($BY59,補助!$AW$2:$BE$9,4,FALSE))=TRUE,\"\",HLOOKUP($BY59,補助!$AW$2:$BE$9,4,FALSE))","v":7},{"$f":"IF(ISERROR(HLOOKUP($BZ59,補助!$AW$2:$BE$9,4,FALSE))=TRUE,\"\",HLOOKUP($BZ59,補助!$AW$2:$BE$9,4,FALSE))","v":""},"567"]
[null,null,null,null,null,null,null,null,null,null,null,null,null,null,null,null,null,null,null,null,null,null,null,null,null,null,null,null,null,null,null,null,null,null,null,null,null,null,null,null,null,null,null,null,null,null,null,null,null,null,null,null,null,null,null,null,null,null,null,null,null,null,null,null,null,null,null,null,null,null,null,{"$error":"#VALUE!"},"B1",null,{"$f":"IF(ISERROR(HLOOKUP($BP2,補助!$AW$2:$BE$9,5,FALSE))=TRUE,\"\",HLOOKUP($BP2,補助!$AW$2:$BE$9,5,FALSE))","v":9},{"$f":"IF(ISERROR(HLOOKUP($BQ2,補助!$AW$2:$BE$9,5,FALSE))=TRUE,\"\",HLOOKUP($BQ2,補助!$AW$2:$BE$9,5,FALSE))","v":""},{"$f":"IF(ISERROR(HLOOKUP($BR2,補助!$AW$2:$BE$9,5,FALSE))=TRUE,\"\",HLOOKUP($BR2,補助!$AW$2:$BE$9,5,FALSE))","v":""},{"$f":"IF(ISERROR(HLOOKUP($BS2,補助!$AW$2:$BE$9,5,FALSE))=TRUE,\"\",HLOOKUP($BS2,補助!$AW$2:$BE$9,5,FALSE))","v":""},{"$f":"IF(ISERROR(HLOOKUP($BT2,補助!$AW$2:$BE$9,5,FALSE))=TRUE,\"\",HLOOKUP($BT2,補助!$AW$2:$BE$9,5,FALSE))","v":""},{"$f":"IF(ISERROR(HLOOKUP($BU2,補助!$AW$2:$BE$9,5,FALSE))=TRUE,\"\",HLOOKUP($BU2,補助!$AW$2:$BE$9,5,FALSE))","v":""},{"$f":"IF(ISERROR(HLOOKUP($BV2,補助!$AW$2:$BE$9,5,FALSE))=TRUE,\"\",HLOOKUP($BV2,補助!$AW$2:$BE$9,5,FALSE))","v":""},{"$f":"IF(ISERROR(HLOOKUP($BW2,補助!$AW$2:$BE$9,5,FALSE))=TRUE,\"\",HLOOKUP($BW2,補助!$AW$2:$BE$9,5,FALSE))","v":1},{"$f":"IF(ISERROR(HLOOKUP($BX2,補助!$AW$2:$BE$9,5,FALSE))=TRUE,\"\",HLOOKUP($BX2,補助!$AW$2:$BE$9,5,FALSE))","v":4},{"$f":"IF(ISERROR(HLOOKUP($BY2,補助!$AW$2:$BE$9,5,FALSE))=TRUE,\"\",HLOOKUP($BY2,補助!$AW$2:$BE$9,5,FALSE))","v":2},{"$f":"IF(ISERROR(HLOOKUP($BZ2,補助!$AW$2:$BE$9,5,FALSE))=TRUE,\"\",HLOOKUP($BZ2,補助!$AW$2:$BE$9,5,FALSE))","v":""},"9142"]
[null,null,null,null,null,null,null,null,null,null,null,null,null,null,null,null,null,null,null,null,null,null,null,null,null,null,null,null,null,null,null,null,null,null,null,null,null,null,null,null,null,null,null,null,null,null,null,null,null,null,null,null,null,null,null,null,null,null,null,null,null,null,null,null,null,null,null,null,null,null,null,{"$error":"#VALUE!"},"B1",null,{"$f":"IF(ISERROR(HLOOKUP($BP3,補助!$AW$2:$BE$9,5,FALSE))=TRUE,\"\",HLOOKUP($BP3,補助!$AW$2:$BE$9,5,FALSE))","v":8},{"$f":"IF(ISERROR(HLOOKUP($BQ3,補助!$AW$2:$BE$9,5,FALSE))=TRUE,\"\",HLOOKUP($BQ3,補助!$AW$2:$BE$9,5,FALSE))","v":""},{"$f":"IF(ISERROR(HLOOKUP($BR3,補助!$AW$2:$BE$9,5,FALSE))=TRUE,\"\",HLOOKUP($BR3,補助!$AW$2:$BE$9,5,FALSE))","v":""},{"$f":"IF(ISERROR(HLOOKUP($BS3,補助!$AW$2:$BE$9,5,FALSE))=TRUE,\"\",HLOOKUP($BS3,補助!$AW$2:$BE$9,5,FALSE))","v":""},{"$f":"IF(ISERROR(HLOOKUP($BT3,補助!$AW$2:$BE$9,5,FALSE))=TRUE,\"\",HLOOKUP($BT3,補助!$AW$2:$BE$9,5,FALSE))","v":""},{"$f":"IF(ISERROR(HLOOKUP($BU3,補助!$AW$2:$BE$9,5,FALSE))=TRUE,\"\",HLOOKUP($BU3,補助!$AW$2:$BE$9,5,FALSE))","v":""},{"$f":"IF(ISERROR(HLOOKUP($BV3,補助!$AW$2:$BE$9,5,FALSE))=TRUE,\"\",HLOOKUP($BV3,補助!$AW$2:$BE$9,5,FALSE))","v":""},{"$f":"IF(ISERROR(HLOOKUP($BW3,補助!$AW$2:$BE$9,5,FALSE))=TRUE,\"\",HLOOKUP($BW3,補助!$AW$2:$BE$9,5,FALSE))","v":1},{"$f":"IF(ISERROR(HLOOKUP($BX3,補助!$AW$2:$BE$9,5,FALSE))=TRUE,\"\",HLOOKUP($BX3,補助!$AW$2:$BE$9,5,FALSE))","v":4},{"$f":"IF(ISERROR(HLOOKUP($BY3,補助!$AW$2:$BE$9,5,FALSE))=TRUE,\"\",HLOOKUP($BY3,補助!$AW$2:$BE$9,5,FALSE))","v":5},{"$f":"IF(ISERROR(HLOOKUP($BZ3,補助!$AW$2:$BE$9,5,FALSE))=TRUE,\"\",HLOOKUP($BZ3,補助!$AW$2:$BE$9,5,FALSE))","v":""},"8145"]
[null,null,null,null,null,null,null,null,null,null,null,null,null,null,null,null,null,null,null,null,null,null,null,null,null,null,null,null,null,null,null,null,null,null,null,null,null,null,null,null,null,null,null,null,null,null,null,null,null,null,null,null,null,null,null,null,null,null,null,null,null,null,null,null,null,null,null,null,null,null,null,{"$error":"#VALUE!"},"B1",null,{"$f":"IF(ISERROR(HLOOKUP($BP4,補助!$AW$2:$BE$9,5,FALSE))=TRUE,\"\",HLOOKUP($BP4,補助!$AW$2:$BE$9,5,FALSE))","v":7},{"$f":"IF(ISERROR(HLOOKUP($BQ4,補助!$AW$2:$BE$9,5,FALSE))=TRUE,\"\",HLOOKUP($BQ4,補助!$AW$2:$BE$9,5,FALSE))","v":""},{"$f":"IF(ISERROR(HLOOKUP($BR4,補助!$AW$2:$BE$9,5,FALSE))=TRUE,\"\",HLOOKUP($BR4,補助!$AW$2:$BE$9,5,FALSE))","v":""},{"$f":"IF(ISERROR(HLOOKUP($BS4,補助!$AW$2:$BE$9,5,FALSE))=TRUE,\"\",HLOOKUP($BS4,補助!$AW$2:$BE$9,5,FALSE))","v":""},{"$f":"IF(ISERROR(HLOOKUP($BT4,補助!$AW$2:$BE$9,5,FALSE))=TRUE,\"\",HLOOKUP($BT4,補助!$AW$2:$BE$9,5,FALSE))","v":""},{"$f":"IF(ISERROR(HLOOKUP($BU4,補助!$AW$2:$BE$9,5,FALSE))=TRUE,\"\",HLOOKUP($BU4,補助!$AW$2:$BE$9,5,FALSE))","v":""},{"$f":"IF(ISERROR(HLOOKUP($BV4,補助!$AW$2:$BE$9,5,FALSE))=TRUE,\"\",HLOOKUP($BV4,補助!$AW$2:$BE$9,5,FALSE))","v":""},{"$f":"IF(ISERROR(HLOOKUP($BW4,補助!$AW$2:$BE$9,5,FALSE))=TRUE,\"\",HLOOKUP($BW4,補助!$AW$2:$BE$9,5,FALSE))","v":1},{"$f":"IF(ISERROR(HLOOKUP($BX4,補助!$AW$2:$BE$9,5,FALSE))=TRUE,\"\",HLOOKUP($BX4,補助!$AW$2:$BE$9,5,FALSE))","v":4},{"$f":"IF(ISERROR(HLOOKUP($BY4,補助!$AW$2:$BE$9,5,FALSE))=TRUE,\"\",HLOOKUP($BY4,補助!$AW$2:$BE$9,5,FALSE))","v":3},{"$f":"IF(ISERROR(HLOOKUP($BZ4,補助!$AW$2:$BE$9,5,FALSE))=TRUE,\"\",HLOOKUP($BZ4,補助!$AW$2:$BE$9,5,FALSE))","v":""},"7143"]
[null,null,null,null,null,null,null,null,null,null,null,null,null,null,null,null,null,null,null,null,null,null,null,null,null,null,null,null,null,null,null,null,null,null,null,null,null,null,null,null,null,null,null,null,null,null,null,null,null,null,null,null,null,null,null,null,null,null,null,null,null,null,null,null,null,null,null,null,null,null,null,{"$error":"#VALUE!"},"B1",null,{"$f":"IF(ISERROR(HLOOKUP($BP5,補助!$AW$2:$BE$9,5,FALSE))=TRUE,\"\",HLOOKUP($BP5,補助!$AW$2:$BE$9,5,FALSE))","v":""},{"$f":"IF(ISERROR(HLOOKUP($BQ5,補助!$AW$2:$BE$9,5,FALSE))=TRUE,\"\",HLOOKUP($BQ5,補助!$AW$2:$BE$9,5,FALSE))","v":""},{"$f":"IF(ISERROR(HLOOKUP($BR5,補助!$AW$2:$BE$9,5,FALSE))=TRUE,\"\",HLOOKUP($BR5,補助!$AW$2:$BE$9,5,FALSE))","v":""},{"$f":"IF(ISERROR(HLOOKUP($BS5,補助!$AW$2:$BE$9,5,FALSE))=TRUE,\"\",HLOOKUP($BS5,補助!$AW$2:$BE$9,5,FALSE))","v":""},{"$f":"IF(ISERROR(HLOOKUP($BT5,補助!$AW$2:$BE$9,5,FALSE))=TRUE,\"\",HLOOKUP($BT5,補助!$AW$2:$BE$9,5,FALSE))","v":""},{"$f":"IF(ISERROR(HLOOKUP($BU5,補助!$AW$2:$BE$9,5,FALSE))=TRUE,\"\",HLOOKUP($BU5,補助!$AW$2:$BE$9,5,FALSE))","v":""},{"$f":"IF(ISERROR(HLOOKUP($BV5,補助!$AW$2:$BE$9,5,FALSE))=TRUE,\"\",HLOOKUP($BV5,補助!$AW$2:$BE$9,5,FALSE))","v":""},{"$f":"IF(ISERROR(HLOOKUP($BW5,補助!$AW$2:$BE$9,5,FALSE))=TRUE,\"\",HLOOKUP($BW5,補助!$AW$2:$BE$9,5,FALSE))","v":1},{"$f":"IF(ISERROR(HLOOKUP($BX5,補助!$AW$2:$BE$9,5,FALSE))=TRUE,\"\",HLOOKUP($BX5,補助!$AW$2:$BE$9,5,FALSE))","v":4},{"$f":"IF(ISERROR(HLOOKUP($BY5,補助!$AW$2:$BE$9,5,FALSE))=TRUE,\"\",HLOOKUP($BY5,補助!$AW$2:$BE$9,5,FALSE))","v":7},{"$f":"IF(ISERROR(HLOOKUP($BZ5,補助!$AW$2:$BE$9,5,FALSE))=TRUE,\"\",HLOOKUP($BZ5,補助!$AW$2:$BE$9,5,FALSE))","v":2},"147"]
[null,null,null,null,null,null,null,null,null,null,null,null,null,null,null,null,null,null,null,null,null,null,null,null,null,null,null,null,null,null,null,null,null,null,null,null,null,null,null,null,null,null,null,null,null,null,null,null,null,null,null,null,null,null,null,null,null,null,null,null,null,null,null,null,null,null,null,null,null,null,null,{"$error":"#VALUE!"},"B1",null,{"$f":"IF(ISERROR(HLOOKUP($BP6,補助!$AW$2:$BE$9,5,FALSE))=TRUE,\"\",HLOOKUP($BP6,補助!$AW$2:$BE$9,5,FALSE))","v":""},{"$f":"IF(ISERROR(HLOOKUP($BQ6,補助!$AW$2:$BE$9,5,FALSE))=TRUE,\"\",HLOOKUP($BQ6,補助!$AW$2:$BE$9,5,FALSE))","v":""},{"$f":"IF(ISERROR(HLOOKUP($BR6,補助!$AW$2:$BE$9,5,FALSE))=TRUE,\"\",HLOOKUP($BR6,補助!$AW$2:$BE$9,5,FALSE))","v":""},{"$f":"IF(ISERROR(HLOOKUP($BS6,補助!$AW$2:$BE$9,5,FALSE))=TRUE,\"\",HLOOKUP($BS6,補助!$AW$2:$BE$9,5,FALSE))","v":""},{"$f":"IF(ISERROR(HLOOKUP($BT6,補助!$AW$2:$BE$9,5,FALSE))=TRUE,\"\",HLOOKUP($BT6,補助!$AW$2:$BE$9,5,FALSE))","v":""},{"$f":"IF(ISERROR(HLOOKUP($BU6,補助!$AW$2:$BE$9,5,FALSE))=TRUE,\"\",HLOOKUP($BU6,補助!$AW$2:$BE$9,5,FALSE))","v":""},{"$f":"IF(ISERROR(HLOOKUP($BV6,補助!$AW$2:$BE$9,5,FALSE))=TRUE,\"\",HLOOKUP($BV6,補助!$AW$2:$BE$9,5,FALSE))","v":""},{"$f":"IF(ISERROR(HLOOKUP($BW6,補助!$AW$2:$BE$9,5,FALSE))=TRUE,\"\",HLOOKUP($BW6,補助!$AW$2:$BE$9,5,FALSE))","v":1},{"$f":"IF(ISERROR(HLOOKUP($BX6,補助!$AW$2:$BE$9,5,FALSE))=TRUE,\"\",HLOOKUP($BX6,補助!$AW$2:$BE$9,5,FALSE))","v":4},{"$f":"IF(ISERROR(HLOOKUP($BY6,補助!$AW$2:$BE$9,5,FALSE))=TRUE,\"\",HLOOKUP($BY6,補助!$AW$2:$BE$9,5,FALSE))","v":7},{"$f":"IF(ISERROR(HLOOKUP($BZ6,補助!$AW$2:$BE$9,5,FALSE))=TRUE,\"\",HLOOKUP($BZ6,補助!$AW$2:$BE$9,5,FALSE))","v":8},"147"]
[null,null,null,null,null,null,null,null,null,null,null,null,null,null,null,null,null,null,null,null,null,null,null,null,null,null,null,null,null,null,null,null,null,null,null,null,null,null,null,null,null,null,null,null,null,null,null,null,null,null,null,null,null,null,null,null,null,null,null,null,null,null,null,null,null,null,null,null,null,null,null,{"$error":"#VALUE!"},"B1",null,{"$f":"IF(ISERROR(HLOOKUP($BP7,補助!$AW$2:$BE$9,5,FALSE))=TRUE,\"\",HLOOKUP($BP7,補助!$AW$2:$BE$9,5,FALSE))","v":""},{"$f":"IF(ISERROR(HLOOKUP($BQ7,補助!$AW$2:$BE$9,5,FALSE))=TRUE,\"\",HLOOKUP($BQ7,補助!$AW$2:$BE$9,5,FALSE))","v":""},{"$f":"IF(ISERROR(HLOOKUP($BR7,補助!$AW$2:$BE$9,5,FALSE))=TRUE,\"\",HLOOKUP($BR7,補助!$AW$2:$BE$9,5,FALSE))","v":""},{"$f":"IF(ISERROR(HLOOKUP($BS7,補助!$AW$2:$BE$9,5,FALSE))=TRUE,\"\",HLOOKUP($BS7,補助!$AW$2:$BE$9,5,FALSE))","v":""},{"$f":"IF(ISERROR(HLOOKUP($BT7,補助!$AW$2:$BE$9,5,FALSE))=TRUE,\"\",HLOOKUP($BT7,補助!$AW$2:$BE$9,5,FALSE))","v":""},{"$f":"IF(ISERROR(HLOOKUP($BU7,補助!$AW$2:$BE$9,5,FALSE))=TRUE,\"\",HLOOKUP($BU7,補助!$AW$2:$BE$9,5,FALSE))","v":""},{"$f":"IF(ISERROR(HLOOKUP($BV7,補助!$AW$2:$BE$9,5,FALSE))=TRUE,\"\",HLOOKUP($BV7,補助!$AW$2:$BE$9,5,FALSE))","v":""},{"$f":"IF(ISERROR(HLOOKUP($BW7,補助!$AW$2:$BE$9,5,FALSE))=TRUE,\"\",HLOOKUP($BW7,補助!$AW$2:$BE$9,5,FALSE))","v":1},{"$f":"IF(ISERROR(HLOOKUP($BX7,補助!$AW$2:$BE$9,5,FALSE))=TRUE,\"\",HLOOKUP($BX7,補助!$AW$2:$BE$9,5,FALSE))","v":4},{"$f":"IF(ISERROR(HLOOKUP($BY7,補助!$AW$2:$BE$9,5,FALSE))=TRUE,\"\",HLOOKUP($BY7,補助!$AW$2:$BE$9,5,FALSE))","v":7},{"$f":"IF(ISERROR(HLOOKUP($BZ7,補助!$AW$2:$BE$9,5,FALSE))=TRUE,\"\",HLOOKUP($BZ7,補助!$AW$2:$BE$9,5,FALSE))","v":3},"147"]
[null,null,null,null,null,null,null,null,null,null,null,null,null,null,null,null,null,null,null,null,null,null,null,null,null,null,null,null,null,null,null,null,null,null,null,null,null,null,null,null,null,null,null,null,null,null,null,null,null,null,null,null,null,null,null,null,null,null,null,null,null,null,null,null,null,null,null,null,null,null,null,{"$error":"#VALUE!"},"B1",null,{"$f":"IF(ISERROR(HLOOKUP($BP8,補助!$AW$2:$BE$9,5,FALSE))=TRUE,\"\",HLOOKUP($BP8,補助!$AW$2:$BE$9,5,FALSE))","v":""},{"$f":"IF(ISERROR(HLOOKUP($BQ8,補助!$AW$2:$BE$9,5,FALSE))=TRUE,\"\",HLOOKUP($BQ8,補助!$AW$2:$BE$9,5,FALSE))","v":""},{"$f":"IF(ISERROR(HLOOKUP($BR8,補助!$AW$2:$BE$9,5,FALSE))=TRUE,\"\",HLOOKUP($BR8,補助!$AW$2:$BE$9,5,FALSE))","v":""},{"$f":"IF(ISERROR(HLOOKUP($BS8,補助!$AW$2:$BE$9,5,FALSE))=TRUE,\"\",HLOOKUP($BS8,補助!$AW$2:$BE$9,5,FALSE))","v":""},{"$f":"IF(ISERROR(HLOOKUP($BT8,補助!$AW$2:$BE$9,5,FALSE))=TRUE,\"\",HLOOKUP($BT8,補助!$AW$2:$BE$9,5,FALSE))","v":""},{"$f":"IF(ISERROR(HLOOKUP($BU8,補助!$AW$2:$BE$9,5,FALSE))=TRUE,\"\",HLOOKUP($BU8,補助!$AW$2:$BE$9,5,FALSE))","v":""},{"$f":"IF(ISERROR(HLOOKUP($BV8,補助!$AW$2:$BE$9,5,FALSE))=TRUE,\"\",HLOOKUP($BV8,補助!$AW$2:$BE$9,5,FALSE))","v":""},{"$f":"IF(ISERROR(HLOOKUP($BW8,補助!$AW$2:$BE$9,5,FALSE))=TRUE,\"\",HLOOKUP($BW8,補助!$AW$2:$BE$9,5,FALSE))","v":1},{"$f":"IF(ISERROR(HLOOKUP($BX8,補助!$AW$2:$BE$9,5,FALSE))=TRUE,\"\",HLOOKUP($BX8,補助!$AW$2:$BE$9,5,FALSE))","v":4},{"$f":"IF(ISERROR(HLOOKUP($BY8,補助!$AW$2:$BE$9,5,FALSE))=TRUE,\"\",HLOOKUP($BY8,補助!$AW$2:$BE$9,5,FALSE))","v":7},{"$f":"IF(ISERROR(HLOOKUP($BZ8,補助!$AW$2:$BE$9,5,FALSE))=TRUE,\"\",HLOOKUP($BZ8,補助!$AW$2:$BE$9,5,FALSE))","v":6},"147"]
[null,null,null,null,null,null,null,null,null,null,null,null,null,null,null,null,null,null,null,null,null,null,null,null,null,null,null,null,null,null,null,null,null,null,null,null,null,null,null,null,null,null,null,null,null,null,null,null,null,null,null,null,null,null,null,null,null,null,null,null,null,null,null,null,null,null,null,null,null,null,null,{"$error":"#VALUE!"},"B1",null,{"$f":"IF(ISERROR(HLOOKUP($BP9,補助!$AW$2:$BE$9,5,FALSE))=TRUE,\"\",HLOOKUP($BP9,補助!$AW$2:$BE$9,5,FALSE))","v":""},{"$f":"IF(ISERROR(HLOOKUP($BQ9,補助!$AW$2:$BE$9,5,FALSE))=TRUE,\"\",HLOOKUP($BQ9,補助!$AW$2:$BE$9,5,FALSE))","v":""},{"$f":"IF(ISERROR(HLOOKUP($BR9,補助!$AW$2:$BE$9,5,FALSE))=TRUE,\"\",HLOOKUP($BR9,補助!$AW$2:$BE$9,5,FALSE))","v":""},{"$f":"IF(ISERROR(HLOOKUP($BS9,補助!$AW$2:$BE$9,5,FALSE))=TRUE,\"\",HLOOKUP($BS9,補助!$AW$2:$BE$9,5,FALSE))","v":""},{"$f":"IF(ISERROR(HLOOKUP($BT9,補助!$AW$2:$BE$9,5,FALSE))=TRUE,\"\",HLOOKUP($BT9,補助!$AW$2:$BE$9,5,FALSE))","v":""},{"$f":"IF(ISERROR(HLOOKUP($BU9,補助!$AW$2:$BE$9,5,FALSE))=TRUE,\"\",HLOOKUP($BU9,補助!$AW$2:$BE$9,5,FALSE))","v":""},{"$f":"IF(ISERROR(HLOOKUP($BV9,補助!$AW$2:$BE$9,5,FALSE))=TRUE,\"\",HLOOKUP($BV9,補助!$AW$2:$BE$9,5,FALSE))","v":""},{"$f":"IF(ISERROR(HLOOKUP($BW9,補助!$AW$2:$BE$9,5,FALSE))=TRUE,\"\",HLOOKUP($BW9,補助!$AW$2:$BE$9,5,FALSE))","v":1},{"$f":"IF(ISERROR(HLOOKUP($BX9,補助!$AW$2:$BE$9,5,FALSE))=TRUE,\"\",HLOOKUP($BX9,補助!$AW$2:$BE$9,5,FALSE))","v":4},{"$f":"IF(ISERROR(HLOOKUP($BY9,補助!$AW$2:$BE$9,5,FALSE))=TRUE,\"\",HLOOKUP($BY9,補助!$AW$2:$BE$9,5,FALSE))","v":7},{"$f":"IF(ISERROR(HLOOKUP($BZ9,補助!$AW$2:$BE$9,5,FALSE))=TRUE,\"\",HLOOKUP($BZ9,補助!$AW$2:$BE$9,5,FALSE))","v":9},"147"]
[null,null,null,null,null,null,null,null,null,null,null,null,null,null,null,null,null,null,null,null,null,null,null,null,null,null,null,null,null,null,null,null,null,null,null,null,null,null,null,null,null,null,null,null,null,null,null,null,null,null,null,null,null,null,null,null,null,null,null,null,null,null,null,null,null,null,null,null,null,null,null,{"$error":"#VALUE!"},"B1",null,{"$f":"IF(ISERROR(HLOOKUP($BP10,補助!$AW$2:$BE$9,5,FALSE))=TRUE,\"\",HLOOKUP($BP10,補助!$AW$2:$BE$9,5,FALSE))","v":""},{"$f":"IF(ISERROR(HLOOKUP($BQ10,補助!$AW$2:$BE$9,5,FALSE))=TRUE,\"\",HLOOKUP($BQ10,補助!$AW$2:$BE$9,5,FALSE))","v":""},{"$f":"IF(ISERROR(HLOOKUP($BR10,補助!$AW$2:$BE$9,5,FALSE))=TRUE,\"\",HLOOKUP($BR10,補助!$AW$2:$BE$9,5,FALSE))","v":""},{"$f":"IF(ISERROR(HLOOKUP($BS10,補助!$AW$2:$BE$9,5,FALSE))=TRUE,\"\",HLOOKUP($BS10,補助!$AW$2:$BE$9,5,FALSE))","v":""},{"$f":"IF(ISERROR(HLOOKUP($BT10,補助!$AW$2:$BE$9,5,FALSE))=TRUE,\"\",HLOOKUP($BT10,補助!$AW$2:$BE$9,5,FALSE))","v":""},{"$f":"IF(ISERROR(HLOOKUP($BU10,補助!$AW$2:$BE$9,5,FALSE))=TRUE,\"\",HLOOKUP($BU10,補助!$AW$2:$BE$9,5,FALSE))","v":""},{"$f":"IF(ISERROR(HLOOKUP($BV10,補助!$AW$2:$BE$9,5,FALSE))=TRUE,\"\",HLOOKUP($BV10,補助!$AW$2:$BE$9,5,FALSE))","v":""},{"$f":"IF(ISERROR(HLOOKUP($BW10,補助!$AW$2:$BE$9,5,FALSE))=TRUE,\"\",HLOOKUP($BW10,補助!$AW$2:$BE$9,5,FALSE))","v":1},{"$f":"IF(ISERROR(HLOOKUP($BX10,補助!$AW$2:$BE$9,5,FALSE))=TRUE,\"\",HLOOKUP($BX10,補助!$AW$2:$BE$9,5,FALSE))","v":4},{"$f":"IF(ISERROR(HLOOKUP($BY10,補助!$AW$2:$BE$9,5,FALSE))=TRUE,\"\",HLOOKUP($BY10,補助!$AW$2:$BE$9,5,FALSE))","v":8},{"$f":"IF(ISERROR(HLOOKUP($BZ10,補助!$AW$2:$BE$9,5,FALSE))=TRUE,\"\",HLOOKUP($BZ10,補助!$AW$2:$BE$9,5,FALSE))","v":7},"148"]
[null,null,null,null,null,null,null,null,null,null,null,null,null,null,null,null,null,null,null,null,null,null,null,null,null,null,null,null,null,null,null,null,null,null,null,null,null,null,null,null,null,null,null,null,null,null,null,null,null,null,null,null,null,null,null,null,null,null,null,null,null,null,null,null,null,null,null,null,null,null,null,{"$error":"#VALUE!"},"B1",null,{"$f":"IF(ISERROR(HLOOKUP($BP11,補助!$AW$2:$BE$9,5,FALSE))=TRUE,\"\",HLOOKUP($BP11,補助!$AW$2:$BE$9,5,FALSE))","v":""},{"$f":"IF(ISERROR(HLOOKUP($BQ11,補助!$AW$2:$BE$9,5,FALSE))=TRUE,\"\",HLOOKUP($BQ11,補助!$AW$2:$BE$9,5,FALSE))","v":""},{"$f":"IF(ISERROR(HLOOKUP($BR11,補助!$AW$2:$BE$9,5,FALSE))=TRUE,\"\",HLOOKUP($BR11,補助!$AW$2:$BE$9,5,FALSE))","v":""},{"$f":"IF(ISERROR(HLOOKUP($BS11,補助!$AW$2:$BE$9,5,FALSE))=TRUE,\"\",HLOOKUP($BS11,補助!$AW$2:$BE$9,5,FALSE))","v":""},{"$f":"IF(ISERROR(HLOOKUP($BT11,補助!$AW$2:$BE$9,5,FALSE))=TRUE,\"\",HLOOKUP($BT11,補助!$AW$2:$BE$9,5,FALSE))","v":""},{"$f":"IF(ISERROR(HLOOKUP($BU11,補助!$AW$2:$BE$9,5,FALSE))=TRUE,\"\",HLOOKUP($BU11,補助!$AW$2:$BE$9,5,FALSE))","v":""},{"$f":"IF(ISERROR(HLOOKUP($BV11,補助!$AW$2:$BE$9,5,FALSE))=TRUE,\"\",HLOOKUP($BV11,補助!$AW$2:$BE$9,5,FALSE))","v":""},{"$f":"IF(ISERROR(HLOOKUP($BW11,補助!$AW$2:$BE$9,5,FALSE))=TRUE,\"\",HLOOKUP($BW11,補助!$AW$2:$BE$9,5,FALSE))","v":1},{"$f":"IF(ISERROR(HLOOKUP($BX11,補助!$AW$2:$BE$9,5,FALSE))=TRUE,\"\",HLOOKUP($BX11,補助!$AW$2:$BE$9,5,FALSE))","v":4},{"$f":"IF(ISERROR(HLOOKUP($BY11,補助!$AW$2:$BE$9,5,FALSE))=TRUE,\"\",HLOOKUP($BY11,補助!$AW$2:$BE$9,5,FALSE))","v":8},{"$f":"IF(ISERROR(HLOOKUP($BZ11,補助!$AW$2:$BE$9,5,FALSE))=TRUE,\"\",HLOOKUP($BZ11,補助!$AW$2:$BE$9,5,FALSE))","v":2},"148"]
[null,null,null,null,null,null,null,null,null,null,null,null,null,null,null,null,null,null,null,null,null,null,null,null,null,null,null,null,null,null,null,null,null,null,null,null,null,null,null,null,null,null,null,null,null,null,null,null,null,null,null,null,null,null,null,null,null,null,null,null,null,null,null,null,null,null,null,null,null,null,null,{"$error":"#VALUE!"},"B1",null,{"$f":"IF(ISERROR(HLOOKUP($BP12,補助!$AW$2:$BE$9,5,FALSE))=TRUE,\"\",HLOOKUP($BP12,補助!$AW$2:$BE$9,5,FALSE))","v":""},{"$f":"IF(ISERROR(HLOOKUP($BQ12,補助!$AW$2:$BE$9,5,FALSE))=TRUE,\"\",HLOOKUP($BQ12,補助!$AW$2:$BE$9,5,FALSE))","v":""},{"$f":"IF(ISERROR(HLOOKUP($BR12,補助!$AW$2:$BE$9,5,FALSE))=TRUE,\"\",HLOOKUP($BR12,補助!$AW$2:$BE$9,5,FALSE))","v":""},{"$f":"IF(ISERROR(HLOOKUP($BS12,補助!$AW$2:$BE$9,5,FALSE))=TRUE,\"\",HLOOKUP($BS12,補助!$AW$2:$BE$9,5,FALSE))","v":""},{"$f":"IF(ISERROR(HLOOKUP($BT12,補助!$AW$2:$BE$9,5,FALSE))=TRUE,\"\",HLOOKUP($BT12,補助!$AW$2:$BE$9,5,FALSE))","v":""},{"$f":"IF(ISERROR(HLOOKUP($BU12,補助!$AW$2:$BE$9,5,FALSE))=TRUE,\"\",HLOOKUP($BU12,補助!$AW$2:$BE$9,5,FALSE))","v":""},{"$f":"IF(ISERROR(HLOOKUP($BV12,補助!$AW$2:$BE$9,5,FALSE))=TRUE,\"\",HLOOKUP($BV12,補助!$AW$2:$BE$9,5,FALSE))","v":""},{"$f":"IF(ISERROR(HLOOKUP($BW12,補助!$AW$2:$BE$9,5,FALSE))=TRUE,\"\",HLOOKUP($BW12,補助!$AW$2:$BE$9,5,FALSE))","v":1},{"$f":"IF(ISERROR(HLOOKUP($BX12,補助!$AW$2:$BE$9,5,FALSE))=TRUE,\"\",HLOOKUP($BX12,補助!$AW$2:$BE$9,5,FALSE))","v":4},{"$f":"IF(ISERROR(HLOOKUP($BY12,補助!$AW$2:$BE$9,5,FALSE))=TRUE,\"\",HLOOKUP($BY12,補助!$AW$2:$BE$9,5,FALSE))","v":8},{"$f":"IF(ISERROR(HLOOKUP($BZ12,補助!$AW$2:$BE$9,5,FALSE))=TRUE,\"\",HLOOKUP($BZ12,補助!$AW$2:$BE$9,5,FALSE))","v":3},"148"]
[null,null,null,null,null,null,null,null,null,null,null,null,null,null,null,null,null,null,null,null,null,null,null,null,null,null,null,null,null,null,null,null,null,null,null,null,null,null,null,null,null,null,null,null,null,null,null,null,null,null,null,null,null,null,null,null,null,null,null,null,null,null,null,null,null,null,null,null,null,null,null,{"$error":"#VALUE!"},"B1",null,{"$f":"IF(ISERROR(HLOOKUP($BP13,補助!$AW$2:$BE$9,5,FALSE))=TRUE,\"\",HLOOKUP($BP13,補助!$AW$2:$BE$9,5,FALSE))","v":""},{"$f":"IF(ISERROR(HLOOKUP($BQ13,補助!$AW$2:$BE$9,5,FALSE))=TRUE,\"\",HLOOKUP($BQ13,補助!$AW$2:$BE$9,5,FALSE))","v":""},{"$f":"IF(ISERROR(HLOOKUP($BR13,補助!$AW$2:$BE$9,5,FALSE))=TRUE,\"\",HLOOKUP($BR13,補助!$AW$2:$BE$9,5,FALSE))","v":""},{"$f":"IF(ISERROR(HLOOKUP($BS13,補助!$AW$2:$BE$9,5,FALSE))=TRUE,\"\",HLOOKUP($BS13,補助!$AW$2:$BE$9,5,FALSE))","v":""},{"$f":"IF(ISERROR(HLOOKUP($BT13,補助!$AW$2:$BE$9,5,FALSE))=TRUE,\"\",HLOOKUP($BT13,補助!$AW$2:$BE$9,5,FALSE))","v":""},{"$f":"IF(ISERROR(HLOOKUP($BU13,補助!$AW$2:$BE$9,5,FALSE))=TRUE,\"\",HLOOKUP($BU13,補助!$AW$2:$BE$9,5,FALSE))","v":""},{"$f":"IF(ISERROR(HLOOKUP($BV13,補助!$AW$2:$BE$9,5,FALSE))=TRUE,\"\",HLOOKUP($BV13,補助!$AW$2:$BE$9,5,FALSE))","v":""},{"$f":"IF(ISERROR(HLOOKUP($BW13,補助!$AW$2:$BE$9,5,FALSE))=TRUE,\"\",HLOOKUP($BW13,補助!$AW$2:$BE$9,5,FALSE))","v":1},{"$f":"IF(ISERROR(HLOOKUP($BX13,補助!$AW$2:$BE$9,5,FALSE))=TRUE,\"\",HLOOKUP($BX13,補助!$AW$2:$BE$9,5,FALSE))","v":4},{"$f":"IF(ISERROR(HLOOKUP($BY13,補助!$AW$2:$BE$9,5,FALSE))=TRUE,\"\",HLOOKUP($BY13,補助!$AW$2:$BE$9,5,FALSE))","v":8},{"$f":"IF(ISERROR(HLOOKUP($BZ13,補助!$AW$2:$BE$9,5,FALSE))=TRUE,\"\",HLOOKUP($BZ13,補助!$AW$2:$BE$9,5,FALSE))","v":6},"148"]
[null,null,null,null,null,null,null,null,null,null,null,null,null,null,null,null,null,null,null,null,null,null,null,null,null,null,null,null,null,null,null,null,null,null,null,null,null,null,null,null,null,null,null,null,null,null,null,null,null,null,null,null,null,null,null,null,null,null,null,null,null,null,null,null,null,null,null,null,null,null,null,{"$error":"#VALUE!"},"B1",null,{"$f":"IF(ISERROR(HLOOKUP($BP14,補助!$AW$2:$BE$9,5,FALSE))=TRUE,\"\",HLOOKUP($BP14,補助!$AW$2:$BE$9,5,FALSE))","v":""},{"$f":"IF(ISERROR(HLOOKUP($BQ14,補助!$AW$2:$BE$9,5,FALSE))=TRUE,\"\",HLOOKUP($BQ14,補助!$AW$2:$BE$9,5,FALSE))","v":""},{"$f":"IF(ISERROR(HLOOKUP($BR14,補助!$AW$2:$BE$9,5,FALSE))=TRUE,\"\",HLOOKUP($BR14,補助!$AW$2:$BE$9,5,FALSE))","v":""},{"$f":"IF(ISERROR(HLOOKUP($BS14,補助!$AW$2:$BE$9,5,FALSE))=TRUE,\"\",HLOOKUP($BS14,補助!$AW$2:$BE$9,5,FALSE))","v":""},{"$f":"IF(ISERROR(HLOOKUP($BT14,補助!$AW$2:$BE$9,5,FALSE))=TRUE,\"\",HLOOKUP($BT14,補助!$AW$2:$BE$9,5,FALSE))","v":""},{"$f":"IF(ISERROR(HLOOKUP($BU14,補助!$AW$2:$BE$9,5,FALSE))=TRUE,\"\",HLOOKUP($BU14,補助!$AW$2:$BE$9,5,FALSE))","v":""},{"$f":"IF(ISERROR(HLOOKUP($BV14,補助!$AW$2:$BE$9,5,FALSE))=TRUE,\"\",HLOOKUP($BV14,補助!$AW$2:$BE$9,5,FALSE))","v":""},{"$f":"IF(ISERROR(HLOOKUP($BW14,補助!$AW$2:$BE$9,5,FALSE))=TRUE,\"\",HLOOKUP($BW14,補助!$AW$2:$BE$9,5,FALSE))","v":1},{"$f":"IF(ISERROR(HLOOKUP($BX14,補助!$AW$2:$BE$9,5,FALSE))=TRUE,\"\",HLOOKUP($BX14,補助!$AW$2:$BE$9,5,FALSE))","v":4},{"$f":"IF(ISERROR(HLOOKUP($BY14,補助!$AW$2:$BE$9,5,FALSE))=TRUE,\"\",HLOOKUP($BY14,補助!$AW$2:$BE$9,5,FALSE))","v":8},{"$f":"IF(ISERROR(HLOOKUP($BZ14,補助!$AW$2:$BE$9,5,FALSE))=TRUE,\"\",HLOOKUP($BZ14,補助!$AW$2:$BE$9,5,FALSE))","v":9},"148"]
[null,null,null,null,null,null,null,null,null,null,null,null,null,null,null,null,null,null,null,null,null,null,null,null,null,null,null,null,null,null,null,null,null,null,null,null,null,null,null,null,null,null,null,null,null,null,null,null,null,null,null,null,null,null,null,null,null,null,null,null,null,null,null,null,null,null,null,null,null,null,null,{"$error":"#VALUE!"},"B1","白",{"$f":"IF(ISERROR(HLOOKUP($BP15,補助!$AW$2:$BE$9,5,FALSE))=TRUE,\"\",HLOOKUP($BP15,補助!$AW$2:$BE$9,5,FALSE))","v":""},{"$f":"IF(ISERROR(HLOOKUP($BQ15,補助!$AW$2:$BE$9,5,FALSE))=TRUE,\"\",HLOOKUP($BQ15,補助!$AW$2:$BE$9,5,FALSE))","v":""},{"$f":"IF(ISERROR(HLOOKUP($BR15,補助!$AW$2:$BE$9,5,FALSE))=TRUE,\"\",HLOOKUP($BR15,補助!$AW$2:$BE$9,5,FALSE))","v":""},{"$f":"IF(ISERROR(HLOOKUP($BS15,補助!$AW$2:$BE$9,5,FALSE))=TRUE,\"\",HLOOKUP($BS15,補助!$AW$2:$BE$9,5,FALSE))","v":""},{"$f":"IF(ISERROR(HLOOKUP($BT15,補助!$AW$2:$BE$9,5,FALSE))=TRUE,\"\",HLOOKUP($BT15,補助!$AW$2:$BE$9,5,FALSE))","v":""},{"$f":"IF(ISERROR(HLOOKUP($BU15,補助!$AW$2:$BE$9,5,FALSE))=TRUE,\"\",HLOOKUP($BU15,補助!$AW$2:$BE$9,5,FALSE))","v":""},{"$f":"IF(ISERROR(HLOOKUP($BV15,補助!$AW$2:$BE$9,5,FALSE))=TRUE,\"\",HLOOKUP($BV15,補助!$AW$2:$BE$9,5,FALSE))","v":""},{"$f":"IF(ISERROR(HLOOKUP($BW15,補助!$AW$2:$BE$9,5,FALSE))=TRUE,\"\",HLOOKUP($BW15,補助!$AW$2:$BE$9,5,FALSE))","v":1},{"$f":"IF(ISERROR(HLOOKUP($BX15,補助!$AW$2:$BE$9,5,FALSE))=TRUE,\"\",HLOOKUP($BX15,補助!$AW$2:$BE$9,5,FALSE))","v":4},{"$f":"IF(ISERROR(HLOOKUP($BY15,補助!$AW$2:$BE$9,5,FALSE))=TRUE,\"\",HLOOKUP($BY15,補助!$AW$2:$BE$9,5,FALSE))","v":8},{"$f":"IF(ISERROR(HLOOKUP($BZ15,補助!$AW$2:$BE$9,5,FALSE))=TRUE,\"\",HLOOKUP($BZ15,補助!$AW$2:$BE$9,5,FALSE))","v":5},"148"]
[null,null,null,null,null,null,null,null,null,null,null,null,null,null,null,null,null,null,null,null,null,null,null,null,null,null,null,null,null,null,null,null,null,null,null,null,null,null,null,null,null,null,null,null,null,null,null,null,null,null,null,null,null,null,null,null,null,null,null,null,null,null,null,null,null,null,null,null,null,null,null,{"$error":"#VALUE!"},"B1",null,{"$f":"IF(ISERROR(HLOOKUP($BP16,補助!$AW$2:$BE$9,5,FALSE))=TRUE,\"\",HLOOKUP($BP16,補助!$AW$2:$BE$9,5,FALSE))","v":""},{"$f":"IF(ISERROR(HLOOKUP($BQ16,補助!$AW$2:$BE$9,5,FALSE))=TRUE,\"\",HLOOKUP($BQ16,補助!$AW$2:$BE$9,5,FALSE))","v":""},{"$f":"IF(ISERROR(HLOOKUP($BR16,補助!$AW$2:$BE$9,5,FALSE))=TRUE,\"\",HLOOKUP($BR16,補助!$AW$2:$BE$9,5,FALSE))","v":""},{"$f":"IF(ISERROR(HLOOKUP($BS16,補助!$AW$2:$BE$9,5,FALSE))=TRUE,\"\",HLOOKUP($BS16,補助!$AW$2:$BE$9,5,FALSE))","v":""},{"$f":"IF(ISERROR(HLOOKUP($BT16,補助!$AW$2:$BE$9,5,FALSE))=TRUE,\"\",HLOOKUP($BT16,補助!$AW$2:$BE$9,5,FALSE))","v":""},{"$f":"IF(ISERROR(HLOOKUP($BU16,補助!$AW$2:$BE$9,5,FALSE))=TRUE,\"\",HLOOKUP($BU16,補助!$AW$2:$BE$9,5,FALSE))","v":""},{"$f":"IF(ISERROR(HLOOKUP($BV16,補助!$AW$2:$BE$9,5,FALSE))=TRUE,\"\",HLOOKUP($BV16,補助!$AW$2:$BE$9,5,FALSE))","v":""},{"$f":"IF(ISERROR(HLOOKUP($BW16,補助!$AW$2:$BE$9,5,FALSE))=TRUE,\"\",HLOOKUP($BW16,補助!$AW$2:$BE$9,5,FALSE))","v":1},{"$f":"IF(ISERROR(HLOOKUP($BX16,補助!$AW$2:$BE$9,5,FALSE))=TRUE,\"\",HLOOKUP($BX16,補助!$AW$2:$BE$9,5,FALSE))","v":4},{"$f":"IF(ISERROR(HLOOKUP($BY16,補助!$AW$2:$BE$9,5,FALSE))=TRUE,\"\",HLOOKUP($BY16,補助!$AW$2:$BE$9,5,FALSE))","v":6},{"$f":"IF(ISERROR(HLOOKUP($BZ16,補助!$AW$2:$BE$9,5,FALSE))=TRUE,\"\",HLOOKUP($BZ16,補助!$AW$2:$BE$9,5,FALSE))","v":7},"146"]
[null,null,null,null,null,null,null,null,null,null,null,null,null,null,null,null,null,null,null,null,null,null,null,null,null,null,null,null,null,null,null,null,null,null,null,null,null,null,null,null,null,null,null,null,null,null,null,null,null,null,null,null,null,null,null,null,null,null,null,null,null,null,null,null,null,null,null,null,null,null,null,{"$error":"#VALUE!"},"B1",null,{"$f":"IF(ISERROR(HLOOKUP($BP17,補助!$AW$2:$BE$9,5,FALSE))=TRUE,\"\",HLOOKUP($BP17,補助!$AW$2:$BE$9,5,FALSE))","v":""},{"$f":"IF(ISERROR(HLOOKUP($BQ17,補助!$AW$2:$BE$9,5,FALSE))=TRUE,\"\",HLOOKUP($BQ17,補助!$AW$2:$BE$9,5,FALSE))","v":""},{"$f":"IF(ISERROR(HLOOKUP($BR17,補助!$AW$2:$BE$9,5,FALSE))=TRUE,\"\",HLOOKUP($BR17,補助!$AW$2:$BE$9,5,FALSE))","v":""},{"$f":"IF(ISERROR(HLOOKUP($BS17,補助!$AW$2:$BE$9,5,FALSE))=TRUE,\"\",HLOOKUP($BS17,補助!$AW$2:$BE$9,5,FALSE))","v":""},{"$f":"IF(ISERROR(HLOOKUP($BT17,補助!$AW$2:$BE$9,5,FALSE))=TRUE,\"\",HLOOKUP($BT17,補助!$AW$2:$BE$9,5,FALSE))","v":""},{"$f":"IF(ISERROR(HLOOKUP($BU17,補助!$AW$2:$BE$9,5,FALSE))=TRUE,\"\",HLOOKUP($BU17,補助!$AW$2:$BE$9,5,FALSE))","v":""},{"$f":"IF(ISERROR(HLOOKUP($BV17,補助!$AW$2:$BE$9,5,FALSE))=TRUE,\"\",HLOOKUP($BV17,補助!$AW$2:$BE$9,5,FALSE))","v":""},{"$f":"IF(ISERROR(HLOOKUP($BW17,補助!$AW$2:$BE$9,5,FALSE))=TRUE,\"\",HLOOKUP($BW17,補助!$AW$2:$BE$9,5,FALSE))","v":1},{"$f":"IF(ISERROR(HLOOKUP($BX17,補助!$AW$2:$BE$9,5,FALSE))=TRUE,\"\",HLOOKUP($BX17,補助!$AW$2:$BE$9,5,FALSE))","v":4},{"$f":"IF(ISERROR(HLOOKUP($BY17,補助!$AW$2:$BE$9,5,FALSE))=TRUE,\"\",HLOOKUP($BY17,補助!$AW$2:$BE$9,5,FALSE))","v":6},{"$f":"IF(ISERROR(HLOOKUP($BZ17,補助!$AW$2:$BE$9,5,FALSE))=TRUE,\"\",HLOOKUP($BZ17,補助!$AW$2:$BE$9,5,FALSE))","v":2},"146"]
[null,null,null,null,null,null,null,null,null,null,null,null,null,null,null,null,null,null,null,null,null,null,null,null,null,null,null,null,null,null,null,null,null,null,null,null,null,null,null,null,null,null,null,null,null,null,null,null,null,null,null,null,null,null,null,null,null,null,null,null,null,null,null,null,null,null,null,null,null,null,null,{"$error":"#VALUE!"},"B1",null,{"$f":"IF(ISERROR(HLOOKUP($BP18,補助!$AW$2:$BE$9,5,FALSE))=TRUE,\"\",HLOOKUP($BP18,補助!$AW$2:$BE$9,5,FALSE))","v":""},{"$f":"IF(ISERROR(HLOOKUP($BQ18,補助!$AW$2:$BE$9,5,FALSE))=TRUE,\"\",HLOOKUP($BQ18,補助!$AW$2:$BE$9,5,FALSE))","v":""},{"$f":"IF(ISERROR(HLOOKUP($BR18,補助!$AW$2:$BE$9,5,FALSE))=TRUE,\"\",HLOOKUP($BR18,補助!$AW$2:$BE$9,5,FALSE))","v":""},{"$f":"IF(ISERROR(HLOOKUP($BS18,補助!$AW$2:$BE$9,5,FALSE))=TRUE,\"\",HLOOKUP($BS18,補助!$AW$2:$BE$9,5,FALSE))","v":""},{"$f":"IF(ISERROR(HLOOKUP($BT18,補助!$AW$2:$BE$9,5,FALSE))=TRUE,\"\",HLOOKUP($BT18,補助!$AW$2:$BE$9,5,FALSE))","v":""},{"$f":"IF(ISERROR(HLOOKUP($BU18,補助!$AW$2:$BE$9,5,FALSE))=TRUE,\"\",HLOOKUP($BU18,補助!$AW$2:$BE$9,5,FALSE))","v":""},{"$f":"IF(ISERROR(HLOOKUP($BV18,補助!$AW$2:$BE$9,5,FALSE))=TRUE,\"\",HLOOKUP($BV18,補助!$AW$2:$BE$9,5,FALSE))","v":""},{"$f":"IF(ISERROR(HLOOKUP($BW18,補助!$AW$2:$BE$9,5,FALSE))=TRUE,\"\",HLOOKUP($BW18,補助!$AW$2:$BE$9,5,FALSE))","v":1},{"$f":"IF(ISERROR(HLOOKUP($BX18,補助!$AW$2:$BE$9,5,FALSE))=TRUE,\"\",HLOOKUP($BX18,補助!$AW$2:$BE$9,5,FALSE))","v":4},{"$f":"IF(ISERROR(HLOOKUP($BY18,補助!$AW$2:$BE$9,5,FALSE))=TRUE,\"\",HLOOKUP($BY18,補助!$AW$2:$BE$9,5,FALSE))","v":6},{"$f":"IF(ISERROR(HLOOKUP($BZ18,補助!$AW$2:$BE$9,5,FALSE))=TRUE,\"\",HLOOKUP($BZ18,補助!$AW$2:$BE$9,5,FALSE))","v":5},"146"]
[null,null,null,null,null,null,null,null,null,null,null,null,null,null,null,null,null,null,null,null,null,null,null,null,null,null,null,null,null,null,null,null,null,null,null,null,null,null,null,null,null,null,null,null,null,null,null,null,null,null,null,null,null,null,null,null,null,null,null,null,null,null,null,null,null,null,null,null,null,null,null,{"$error":"#VALUE!"},"B1",null,{"$f":"IF(ISERROR(HLOOKUP($BP19,補助!$AW$2:$BE$9,5,FALSE))=TRUE,\"\",HLOOKUP($BP19,補助!$AW$2:$BE$9,5,FALSE))","v":""},{"$f":"IF(ISERROR(HLOOKUP($BQ19,補助!$AW$2:$BE$9,5,FALSE))=TRUE,\"\",HLOOKUP($BQ19,補助!$AW$2:$BE$9,5,FALSE))","v":""},{"$f":"IF(ISERROR(HLOOKUP($BR19,補助!$AW$2:$BE$9,5,FALSE))=TRUE,\"\",HLOOKUP($BR19,補助!$AW$2:$BE$9,5,FALSE))","v":""},{"$f":"IF(ISERROR(HLOOKUP($BS19,補助!$AW$2:$BE$9,5,FALSE))=TRUE,\"\",HLOOKUP($BS19,補助!$AW$2:$BE$9,5,FALSE))","v":""},{"$f":"IF(ISERROR(HLOOKUP($BT19,補助!$AW$2:$BE$9,5,FALSE))=TRUE,\"\",HLOOKUP($BT19,補助!$AW$2:$BE$9,5,FALSE))","v":""},{"$f":"IF(ISERROR(HLOOKUP($BU19,補助!$AW$2:$BE$9,5,FALSE))=TRUE,\"\",HLOOKUP($BU19,補助!$AW$2:$BE$9,5,FALSE))","v":""},{"$f":"IF(ISERROR(HLOOKUP($BV19,補助!$AW$2:$BE$9,5,FALSE))=TRUE,\"\",HLOOKUP($BV19,補助!$AW$2:$BE$9,5,FALSE))","v":""},{"$f":"IF(ISERROR(HLOOKUP($BW19,補助!$AW$2:$BE$9,5,FALSE))=TRUE,\"\",HLOOKUP($BW19,補助!$AW$2:$BE$9,5,FALSE))","v":1},{"$f":"IF(ISERROR(HLOOKUP($BX19,補助!$AW$2:$BE$9,5,FALSE))=TRUE,\"\",HLOOKUP($BX19,補助!$AW$2:$BE$9,5,FALSE))","v":4},{"$f":"IF(ISERROR(HLOOKUP($BY19,補助!$AW$2:$BE$9,5,FALSE))=TRUE,\"\",HLOOKUP($BY19,補助!$AW$2:$BE$9,5,FALSE))","v":6},{"$f":"IF(ISERROR(HLOOKUP($BZ19,補助!$AW$2:$BE$9,5,FALSE))=TRUE,\"\",HLOOKUP($BZ19,補助!$AW$2:$BE$9,5,FALSE))","v":8},"146"]
[null,null,null,null,null,null,null,null,null,null,null,null,null,null,null,null,null,null,null,null,null,null,null,null,null,null,null,null,null,null,null,null,null,null,null,null,null,null,null,null,null,null,null,null,null,null,null,null,null,null,null,null,null,null,null,null,null,null,null,null,null,null,null,null,null,null,null,null,null,null,null,{"$error":"#VALUE!"},"B1",null,{"$f":"IF(ISERROR(HLOOKUP($BP20,補助!$AW$2:$BE$9,5,FALSE))=TRUE,\"\",HLOOKUP($BP20,補助!$AW$2:$BE$9,5,FALSE))","v":""},{"$f":"IF(ISERROR(HLOOKUP($BQ20,補助!$AW$2:$BE$9,5,FALSE))=TRUE,\"\",HLOOKUP($BQ20,補助!$AW$2:$BE$9,5,FALSE))","v":""},{"$f":"IF(ISERROR(HLOOKUP($BR20,補助!$AW$2:$BE$9,5,FALSE))=TRUE,\"\",HLOOKUP($BR20,補助!$AW$2:$BE$9,5,FALSE))","v":""},{"$f":"IF(ISERROR(HLOOKUP($BS20,補助!$AW$2:$BE$9,5,FALSE))=TRUE,\"\",HLOOKUP($BS20,補助!$AW$2:$BE$9,5,FALSE))","v":""},{"$f":"IF(ISERROR(HLOOKUP($BT20,補助!$AW$2:$BE$9,5,FALSE))=TRUE,\"\",HLOOKUP($BT20,補助!$AW$2:$BE$9,5,FALSE))","v":""},{"$f":"IF(ISERROR(HLOOKUP($BU20,補助!$AW$2:$BE$9,5,FALSE))=TRUE,\"\",HLOOKUP($BU20,補助!$AW$2:$BE$9,5,FALSE))","v":""},{"$f":"IF(ISERROR(HLOOKUP($BV20,補助!$AW$2:$BE$9,5,FALSE))=TRUE,\"\",HLOOKUP($BV20,補助!$AW$2:$BE$9,5,FALSE))","v":""},{"$f":"IF(ISERROR(HLOOKUP($BW20,補助!$AW$2:$BE$9,5,FALSE))=TRUE,\"\",HLOOKUP($BW20,補助!$AW$2:$BE$9,5,FALSE))","v":1},{"$f":"IF(ISERROR(HLOOKUP($BX20,補助!$AW$2:$BE$9,5,FALSE))=TRUE,\"\",HLOOKUP($BX20,補助!$AW$2:$BE$9,5,FALSE))","v":4},{"$f":"IF(ISERROR(HLOOKUP($BY20,補助!$AW$2:$BE$9,5,FALSE))=TRUE,\"\",HLOOKUP($BY20,補助!$AW$2:$BE$9,5,FALSE))","v":6},{"$f":"IF(ISERROR(HLOOKUP($BZ20,補助!$AW$2:$BE$9,5,FALSE))=TRUE,\"\",HLOOKUP($BZ20,補助!$AW$2:$BE$9,5,FALSE))","v":9},"146"]
[null,null,null,null,null,null,null,null,null,null,null,null,null,null,null,null,null,null,null,null,null,null,null,null,null,null,null,null,null,null,null,null,null,null,null,null,null,null,null,null,null,null,null,null,null,null,null,null,null,null,null,null,null,null,null,null,null,null,null,null,null,null,null,null,null,null,null,null,null,null,null,{"$error":"#VALUE!"},"B1",null,{"$f":"IF(ISERROR(HLOOKUP($BP21,補助!$AW$2:$BE$9,5,FALSE))=TRUE,\"\",HLOOKUP($BP21,補助!$AW$2:$BE$9,5,FALSE))","v":""},{"$f":"IF(ISERROR(HLOOKUP($BQ21,補助!$AW$2:$BE$9,5,FALSE))=TRUE,\"\",HLOOKUP($BQ21,補助!$AW$2:$BE$9,5,FALSE))","v":""},{"$f":"IF(ISERROR(HLOOKUP($BR21,補助!$AW$2:$BE$9,5,FALSE))=TRUE,\"\",HLOOKUP($BR21,補助!$AW$2:$BE$9,5,FALSE))","v":""},{"$f":"IF(ISERROR(HLOOKUP($BS21,補助!$AW$2:$BE$9,5,FALSE))=TRUE,\"\",HLOOKUP($BS21,補助!$AW$2:$BE$9,5,FALSE))","v":""},{"$f":"IF(ISERROR(HLOOKUP($BT21,補助!$AW$2:$BE$9,5,FALSE))=TRUE,\"\",HLOOKUP($BT21,補助!$AW$2:$BE$9,5,FALSE))","v":""},{"$f":"IF(ISERROR(HLOOKUP($BU21,補助!$AW$2:$BE$9,5,FALSE))=TRUE,\"\",HLOOKUP($BU21,補助!$AW$2:$BE$9,5,FALSE))","v":""},{"$f":"IF(ISERROR(HLOOKUP($BV21,補助!$AW$2:$BE$9,5,FALSE))=TRUE,\"\",HLOOKUP($BV21,補助!$AW$2:$BE$9,5,FALSE))","v":""},{"$f":"IF(ISERROR(HLOOKUP($BW21,補助!$AW$2:$BE$9,5,FALSE))=TRUE,\"\",HLOOKUP($BW21,補助!$AW$2:$BE$9,5,FALSE))","v":1},{"$f":"IF(ISERROR(HLOOKUP($BX21,補助!$AW$2:$BE$9,5,FALSE))=TRUE,\"\",HLOOKUP($BX21,補助!$AW$2:$BE$9,5,FALSE))","v":4},{"$f":"IF(ISERROR(HLOOKUP($BY21,補助!$AW$2:$BE$9,5,FALSE))=TRUE,\"\",HLOOKUP($BY21,補助!$AW$2:$BE$9,5,FALSE))","v":6},{"$f":"IF(ISERROR(HLOOKUP($BZ21,補助!$AW$2:$BE$9,5,FALSE))=TRUE,\"\",HLOOKUP($BZ21,補助!$AW$2:$BE$9,5,FALSE))","v":9},"146"]
[null,null,null,null,null,null,null,null,null,null,null,null,null,null,null,null,null,null,null,null,null,null,null,null,null,null,null,null,null,null,null,null,null,null,null,null,null,null,null,null,null,null,null,null,null,null,null,null,null,null,null,null,null,null,null,null,null,null,null,null,null,null,null,null,null,null,null,null,null,null,null,{"$error":"#VALUE!"},"B1",null,{"$f":"IF(ISERROR(HLOOKUP($BP22,補助!$AW$2:$BE$9,5,FALSE))=TRUE,\"\",HLOOKUP($BP22,補助!$AW$2:$BE$9,5,FALSE))","v":""},{"$f":"IF(ISERROR(HLOOKUP($BQ22,補助!$AW$2:$BE$9,5,FALSE))=TRUE,\"\",HLOOKUP($BQ22,補助!$AW$2:$BE$9,5,FALSE))","v":""},{"$f":"IF(ISERROR(HLOOKUP($BR22,補助!$AW$2:$BE$9,5,FALSE))=TRUE,\"\",HLOOKUP($BR22,補助!$AW$2:$BE$9,5,FALSE))","v":""},{"$f":"IF(ISERROR(HLOOKUP($BS22,補助!$AW$2:$BE$9,5,FALSE))=TRUE,\"\",HLOOKUP($BS22,補助!$AW$2:$BE$9,5,FALSE))","v":""},{"$f":"IF(ISERROR(HLOOKUP($BT22,補助!$AW$2:$BE$9,5,FALSE))=TRUE,\"\",HLOOKUP($BT22,補助!$AW$2:$BE$9,5,FALSE))","v":""},{"$f":"IF(ISERROR(HLOOKUP($BU22,補助!$AW$2:$BE$9,5,FALSE))=TRUE,\"\",HLOOKUP($BU22,補助!$AW$2:$BE$9,5,FALSE))","v":""},{"$f":"IF(ISERROR(HLOOKUP($BV22,補助!$AW$2:$BE$9,5,FALSE))=TRUE,\"\",HLOOKUP($BV22,補助!$AW$2:$BE$9,5,FALSE))","v":""},{"$f":"IF(ISERROR(HLOOKUP($BW22,補助!$AW$2:$BE$9,5,FALSE))=TRUE,\"\",HLOOKUP($BW22,補助!$AW$2:$BE$9,5,FALSE))","v":1},{"$f":"IF(ISERROR(HLOOKUP($BX22,補助!$AW$2:$BE$9,5,FALSE))=TRUE,\"\",HLOOKUP($BX22,補助!$AW$2:$BE$9,5,FALSE))","v":7},{"$f":"IF(ISERROR(HLOOKUP($BY22,補助!$AW$2:$BE$9,5,FALSE))=TRUE,\"\",HLOOKUP($BY22,補助!$AW$2:$BE$9,5,FALSE))","v":2},{"$f":"IF(ISERROR(HLOOKUP($BZ22,補助!$AW$2:$BE$9,5,FALSE))=TRUE,\"\",HLOOKUP($BZ22,補助!$AW$2:$BE$9,5,FALSE))","v":""},"172"]
[null,null,null,null,null,null,null,null,null,null,null,null,null,null,null,null,null,null,null,null,null,null,null,null,null,null,null,null,null,null,null,null,null,null,null,null,null,null,null,null,null,null,null,null,null,null,null,null,null,null,null,null,null,null,null,null,null,null,null,null,null,null,null,null,null,null,null,null,null,null,null,{"$error":"#VALUE!"},"B1",null,{"$f":"IF(ISERROR(HLOOKUP($BP23,補助!$AW$2:$BE$9,5,FALSE))=TRUE,\"\",HLOOKUP($BP23,補助!$AW$2:$BE$9,5,FALSE))","v":""},{"$f":"IF(ISERROR(HLOOKUP($BQ23,補助!$AW$2:$BE$9,5,FALSE))=TRUE,\"\",HLOOKUP($BQ23,補助!$AW$2:$BE$9,5,FALSE))","v":""},{"$f":"IF(ISERROR(HLOOKUP($BR23,補助!$AW$2:$BE$9,5,FALSE))=TRUE,\"\",HLOOKUP($BR23,補助!$AW$2:$BE$9,5,FALSE))","v":""},{"$f":"IF(ISERROR(HLOOKUP($BS23,補助!$AW$2:$BE$9,5,FALSE))=TRUE,\"\",HLOOKUP($BS23,補助!$AW$2:$BE$9,5,FALSE))","v":""},{"$f":"IF(ISERROR(HLOOKUP($BT23,補助!$AW$2:$BE$9,5,FALSE))=TRUE,\"\",HLOOKUP($BT23,補助!$AW$2:$BE$9,5,FALSE))","v":""},{"$f":"IF(ISERROR(HLOOKUP($BU23,補助!$AW$2:$BE$9,5,FALSE))=TRUE,\"\",HLOOKUP($BU23,補助!$AW$2:$BE$9,5,FALSE))","v":""},{"$f":"IF(ISERROR(HLOOKUP($BV23,補助!$AW$2:$BE$9,5,FALSE))=TRUE,\"\",HLOOKUP($BV23,補助!$AW$2:$BE$9,5,FALSE))","v":""},{"$f":"IF(ISERROR(HLOOKUP($BW23,補助!$AW$2:$BE$9,5,FALSE))=TRUE,\"\",HLOOKUP($BW23,補助!$AW$2:$BE$9,5,FALSE))","v":1},{"$f":"IF(ISERROR(HLOOKUP($BX23,補助!$AW$2:$BE$9,5,FALSE))=TRUE,\"\",HLOOKUP($BX23,補助!$AW$2:$BE$9,5,FALSE))","v":7},{"$f":"IF(ISERROR(HLOOKUP($BY23,補助!$AW$2:$BE$9,5,FALSE))=TRUE,\"\",HLOOKUP($BY23,補助!$AW$2:$BE$9,5,FALSE))","v":3},{"$f":"IF(ISERROR(HLOOKUP($BZ23,補助!$AW$2:$BE$9,5,FALSE))=TRUE,\"\",HLOOKUP($BZ23,補助!$AW$2:$BE$9,5,FALSE))","v":""},"173"]
[null,null,null,null,null,null,null,null,null,null,null,null,null,null,null,null,null,null,null,null,null,null,null,null,null,null,null,null,null,null,null,null,null,null,null,null,null,null,null,null,null,null,null,null,null,null,null,null,null,null,null,null,null,null,null,null,null,null,null,null,null,null,null,null,null,null,null,null,null,null,null,{"$error":"#VALUE!"},"B1",null,{"$f":"IF(ISERROR(HLOOKUP($BP24,補助!$AW$2:$BE$9,5,FALSE))=TRUE,\"\",HLOOKUP($BP24,補助!$AW$2:$BE$9,5,FALSE))","v":""},{"$f":"IF(ISERROR(HLOOKUP($BQ24,補助!$AW$2:$BE$9,5,FALSE))=TRUE,\"\",HLOOKUP($BQ24,補助!$AW$2:$BE$9,5,FALSE))","v":""},{"$f":"IF(ISERROR(HLOOKUP($BR24,補助!$AW$2:$BE$9,5,FALSE))=TRUE,\"\",HLOOKUP($BR24,補助!$AW$2:$BE$9,5,FALSE))","v":""},{"$f":"IF(ISERROR(HLOOKUP($BS24,補助!$AW$2:$BE$9,5,FALSE))=TRUE,\"\",HLOOKUP($BS24,補助!$AW$2:$BE$9,5,FALSE))","v":""},{"$f":"IF(ISERROR(HLOOKUP($BT24,補助!$AW$2:$BE$9,5,FALSE))=TRUE,\"\",HLOOKUP($BT24,補助!$AW$2:$BE$9,5,FALSE))","v":""},{"$f":"IF(ISERROR(HLOOKUP($BU24,補助!$AW$2:$BE$9,5,FALSE))=TRUE,\"\",HLOOKUP($BU24,補助!$AW$2:$BE$9,5,FALSE))","v":""},{"$f":"IF(ISERROR(HLOOKUP($BV24,補助!$AW$2:$BE$9,5,FALSE))=TRUE,\"\",HLOOKUP($BV24,補助!$AW$2:$BE$9,5,FALSE))","v":""},{"$f":"IF(ISERROR(HLOOKUP($BW24,補助!$AW$2:$BE$9,5,FALSE))=TRUE,\"\",HLOOKUP($BW24,補助!$AW$2:$BE$9,5,FALSE))","v":1},{"$f":"IF(ISERROR(HLOOKUP($BX24,補助!$AW$2:$BE$9,5,FALSE))=TRUE,\"\",HLOOKUP($BX24,補助!$AW$2:$BE$9,5,FALSE))","v":7},{"$f":"IF(ISERROR(HLOOKUP($BY24,補助!$AW$2:$BE$9,5,FALSE))=TRUE,\"\",HLOOKUP($BY24,補助!$AW$2:$BE$9,5,FALSE))","v":9},{"$f":"IF(ISERROR(HLOOKUP($BZ24,補助!$AW$2:$BE$9,5,FALSE))=TRUE,\"\",HLOOKUP($BZ24,補助!$AW$2:$BE$9,5,FALSE))","v":""},"179"]
[null,null,null,null,null,null,null,null,null,null,null,null,null,null,null,null,null,null,null,null,null,null,null,null,null,null,null,null,null,null,null,null,null,null,null,null,null,null,null,null,null,null,null,null,null,null,null,null,null,null,null,null,null,null,null,null,null,null,null,null,null,null,null,null,null,null,null,null,null,null,null,{"$error":"#VALUE!"},"B1",null,{"$f":"IF(ISERROR(HLOOKUP($BP25,補助!$AW$2:$BE$9,5,FALSE))=TRUE,\"\",HLOOKUP($BP25,補助!$AW$2:$BE$9,5,FALSE))","v":""},{"$f":"IF(ISERROR(HLOOKUP($BQ25,補助!$AW$2:$BE$9,5,FALSE))=TRUE,\"\",HLOOKUP($BQ25,補助!$AW$2:$BE$9,5,FALSE))","v":""},{"$f":"IF(ISERROR(HLOOKUP($BR25,補助!$AW$2:$BE$9,5,FALSE))=TRUE,\"\",HLOOKUP($BR25,補助!$AW$2:$BE$9,5,FALSE))","v":""},{"$f":"IF(ISERROR(HLOOKUP($BS25,補助!$AW$2:$BE$9,5,FALSE))=TRUE,\"\",HLOOKUP($BS25,補助!$AW$2:$BE$9,5,FALSE))","v":""},{"$f":"IF(ISERROR(HLOOKUP($BT25,補助!$AW$2:$BE$9,5,FALSE))=TRUE,\"\",HLOOKUP($BT25,補助!$AW$2:$BE$9,5,FALSE))","v":""},{"$f":"IF(ISERROR(HLOOKUP($BU25,補助!$AW$2:$BE$9,5,FALSE))=TRUE,\"\",HLOOKUP($BU25,補助!$AW$2:$BE$9,5,FALSE))","v":""},{"$f":"IF(ISERROR(HLOOKUP($BV25,補助!$AW$2:$BE$9,5,FALSE))=TRUE,\"\",HLOOKUP($BV25,補助!$AW$2:$BE$9,5,FALSE))","v":""},{"$f":"IF(ISERROR(HLOOKUP($BW25,補助!$AW$2:$BE$9,5,FALSE))=TRUE,\"\",HLOOKUP($BW25,補助!$AW$2:$BE$9,5,FALSE))","v":1},{"$f":"IF(ISERROR(HLOOKUP($BX25,補助!$AW$2:$BE$9,5,FALSE))=TRUE,\"\",HLOOKUP($BX25,補助!$AW$2:$BE$9,5,FALSE))","v":7},{"$f":"IF(ISERROR(HLOOKUP($BY25,補助!$AW$2:$BE$9,5,FALSE))=TRUE,\"\",HLOOKUP($BY25,補助!$AW$2:$BE$9,5,FALSE))","v":4},{"$f":"IF(ISERROR(HLOOKUP($BZ25,補助!$AW$2:$BE$9,5,FALSE))=TRUE,\"\",HLOOKUP($BZ25,補助!$AW$2:$BE$9,5,FALSE))","v":2},"174"]
[null,null,null,null,null,null,null,null,null,null,null,null,null,null,null,null,null,null,null,null,null,null,null,null,null,null,null,null,null,null,null,null,null,null,null,null,null,null,null,null,null,null,null,null,null,null,null,null,null,null,null,null,null,null,null,null,null,null,null,null,null,null,null,null,null,null,null,null,null,null,null,{"$f":"IF($S$33=MID(CH258,1,$S$32),BT257+1,BT257)","v":{"$error":"#VALUE!"}},"B1",null,{"$f":"IF(ISERROR(HLOOKUP($BP26,補助!$AW$2:$BE$9,5,FALSE))=TRUE,\"\",HLOOKUP($BP26,補助!$AW$2:$BE$9,5,FALSE))","v":""},{"$f":"IF(ISERROR(HLOOKUP($BQ26,補助!$AW$2:$BE$9,5,FALSE))=TRUE,\"\",HLOOKUP($BQ26,補助!$AW$2:$BE$9,5,FALSE))","v":""},{"$f":"IF(ISERROR(HLOOKUP($BR26,補助!$AW$2:$BE$9,5,FALSE))=TRUE,\"\",HLOOKUP($BR26,補助!$AW$2:$BE$9,5,FALSE))","v":""},{"$f":"IF(ISERROR(HLOOKUP($BS26,補助!$AW$2:$BE$9,5,FALSE))=TRUE,\"\",HLOOKUP($BS26,補助!$AW$2:$BE$9,5,FALSE))","v":""},{"$f":"IF(ISERROR(HLOOKUP($BT26,補助!$AW$2:$BE$9,5,FALSE))=TRUE,\"\",HLOOKUP($BT26,補助!$AW$2:$BE$9,5,FALSE))","v":""},{"$f":"IF(ISERROR(HLOOKUP($BU26,補助!$AW$2:$BE$9,5,FALSE))=TRUE,\"\",HLOOKUP($BU26,補助!$AW$2:$BE$9,5,FALSE))","v":""},{"$f":"IF(ISERROR(HLOOKUP($BV26,補助!$AW$2:$BE$9,5,FALSE))=TRUE,\"\",HLOOKUP($BV26,補助!$AW$2:$BE$9,5,FALSE))","v":""},{"$f":"IF(ISERROR(HLOOKUP($BW26,補助!$AW$2:$BE$9,5,FALSE))=TRUE,\"\",HLOOKUP($BW26,補助!$AW$2:$BE$9,5,FALSE))","v":1},{"$f":"IF(ISERROR(HLOOKUP($BX26,補助!$AW$2:$BE$9,5,FALSE))=TRUE,\"\",HLOOKUP($BX26,補助!$AW$2:$BE$9,5,FALSE))","v":7},{"$f":"IF(ISERROR(HLOOKUP($BY26,補助!$AW$2:$BE$9,5,FALSE))=TRUE,\"\",HLOOKUP($BY26,補助!$AW$2:$BE$9,5,FALSE))","v":4},{"$f":"IF(ISERROR(HLOOKUP($BZ26,補助!$AW$2:$BE$9,5,FALSE))=TRUE,\"\",HLOOKUP($BZ26,補助!$AW$2:$BE$9,5,FALSE))","v":3},{"$f":"BW258&BX258&BY258&BZ258&CA258&CB258&CC258&CD258&CE258&CF258","v":"174"}]
[null,null,null,null,null,null,null,null,null,null,null,null,null,null,null,null,null,null,null,null,null,null,null,null,null,null,null,null,null,null,null,null,null,null,null,null,null,null,null,null,null,null,null,null,null,null,null,null,null,null,null,null,null,null,null,null,null,null,null,null,null,null,null,null,null,null,null,null,null,null,null,{"$error":"#VALUE!"},"B1","白",{"$f":"IF(ISERROR(HLOOKUP($BP27,補助!$AW$2:$BE$9,5,FALSE))=TRUE,\"\",HLOOKUP($BP27,補助!$AW$2:$BE$9,5,FALSE))","v":""},{"$f":"IF(ISERROR(HLOOKUP($BQ27,補助!$AW$2:$BE$9,5,FALSE))=TRUE,\"\",HLOOKUP($BQ27,補助!$AW$2:$BE$9,5,FALSE))","v":""},{"$f":"IF(ISERROR(HLOOKUP($BR27,補助!$AW$2:$BE$9,5,FALSE))=TRUE,\"\",HLOOKUP($BR27,補助!$AW$2:$BE$9,5,FALSE))","v":""},{"$f":"IF(ISERROR(HLOOKUP($BS27,補助!$AW$2:$BE$9,5,FALSE))=TRUE,\"\",HLOOKUP($BS27,補助!$AW$2:$BE$9,5,FALSE))","v":""},{"$f":"IF(ISERROR(HLOOKUP($BT27,補助!$AW$2:$BE$9,5,FALSE))=TRUE,\"\",HLOOKUP($BT27,補助!$AW$2:$BE$9,5,FALSE))","v":""},{"$f":"IF(ISERROR(HLOOKUP($BU27,補助!$AW$2:$BE$9,5,FALSE))=TRUE,\"\",HLOOKUP($BU27,補助!$AW$2:$BE$9,5,FALSE))","v":""},{"$f":"IF(ISERROR(HLOOKUP($BV27,補助!$AW$2:$BE$9,5,FALSE))=TRUE,\"\",HLOOKUP($BV27,補助!$AW$2:$BE$9,5,FALSE))","v":""},{"$f":"IF(ISERROR(HLOOKUP($BW27,補助!$AW$2:$BE$9,5,FALSE))=TRUE,\"\",HLOOKUP($BW27,補助!$AW$2:$BE$9,5,FALSE))","v":1},{"$f":"IF(ISERROR(HLOOKUP($BX27,補助!$AW$2:$BE$9,5,FALSE))=TRUE,\"\",HLOOKUP($BX27,補助!$AW$2:$BE$9,5,FALSE))","v":7},{"$f":"IF(ISERROR(HLOOKUP($BY27,補助!$AW$2:$BE$9,5,FALSE))=TRUE,\"\",HLOOKUP($BY27,補助!$AW$2:$BE$9,5,FALSE))","v":4},{"$f":"IF(ISERROR(HLOOKUP($BZ27,補助!$AW$2:$BE$9,5,FALSE))=TRUE,\"\",HLOOKUP($BZ27,補助!$AW$2:$BE$9,5,FALSE))","v":8},"174"]
[null,null,null,null,null,null,null,null,null,null,null,null,null,null,null,null,null,null,null,null,null,null,null,null,null,null,null,null,null,null,null,null,null,null,null,null,null,null,null,null,null,null,null,null,null,null,null,null,null,null,null,null,null,null,null,null,null,null,null,null,null,null,null,null,null,null,null,null,null,null,null,{"$error":"#VALUE!"},"B1","白",{"$f":"IF(ISERROR(HLOOKUP($BP28,補助!$AW$2:$BE$9,5,FALSE))=TRUE,\"\",HLOOKUP($BP28,補助!$AW$2:$BE$9,5,FALSE))","v":""},{"$f":"IF(ISERROR(HLOOKUP($BQ28,補助!$AW$2:$BE$9,5,FALSE))=TRUE,\"\",HLOOKUP($BQ28,補助!$AW$2:$BE$9,5,FALSE))","v":""},{"$f":"IF(ISERROR(HLOOKUP($BR28,補助!$AW$2:$BE$9,5,FALSE))=TRUE,\"\",HLOOKUP($BR28,補助!$AW$2:$BE$9,5,FALSE))","v":""},{"$f":"IF(ISERROR(HLOOKUP($BS28,補助!$AW$2:$BE$9,5,FALSE))=TRUE,\"\",HLOOKUP($BS28,補助!$AW$2:$BE$9,5,FALSE))","v":""},{"$f":"IF(ISERROR(HLOOKUP($BT28,補助!$AW$2:$BE$9,5,FALSE))=TRUE,\"\",HLOOKUP($BT28,補助!$AW$2:$BE$9,5,FALSE))","v":""},{"$f":"IF(ISERROR(HLOOKUP($BU28,補助!$AW$2:$BE$9,5,FALSE))=TRUE,\"\",HLOOKUP($BU28,補助!$AW$2:$BE$9,5,FALSE))","v":""},{"$f":"IF(ISERROR(HLOOKUP($BV28,補助!$AW$2:$BE$9,5,FALSE))=TRUE,\"\",HLOOKUP($BV28,補助!$AW$2:$BE$9,5,FALSE))","v":""},{"$f":"IF(ISERROR(HLOOKUP($BW28,補助!$AW$2:$BE$9,5,FALSE))=TRUE,\"\",HLOOKUP($BW28,補助!$AW$2:$BE$9,5,FALSE))","v":1},{"$f":"IF(ISERROR(HLOOKUP($BX28,補助!$AW$2:$BE$9,5,FALSE))=TRUE,\"\",HLOOKUP($BX28,補助!$AW$2:$BE$9,5,FALSE))","v":7},{"$f":"IF(ISERROR(HLOOKUP($BY28,補助!$AW$2:$BE$9,5,FALSE))=TRUE,\"\",HLOOKUP($BY28,補助!$AW$2:$BE$9,5,FALSE))","v":4},{"$f":"IF(ISERROR(HLOOKUP($BZ28,補助!$AW$2:$BE$9,5,FALSE))=TRUE,\"\",HLOOKUP($BZ28,補助!$AW$2:$BE$9,5,FALSE))","v":9},"174"]
[null,null,null,null,null,null,null,null,null,null,null,null,null,null,null,null,null,null,null,null,null,null,null,null,null,null,null,null,null,null,null,null,null,null,null,null,null,null,null,null,null,null,null,null,null,null,null,null,null,null,null,null,null,null,null,null,null,null,null,null,null,null,null,null,null,null,null,null,null,null,null,{"$error":"#VALUE!"},"B1",null,{"$f":"IF(ISERROR(HLOOKUP($BP29,補助!$AW$2:$BE$9,5,FALSE))=TRUE,\"\",HLOOKUP($BP29,補助!$AW$2:$BE$9,5,FALSE))","v":""},{"$f":"IF(ISERROR(HLOOKUP($BQ29,補助!$AW$2:$BE$9,5,FALSE))=TRUE,\"\",HLOOKUP($BQ29,補助!$AW$2:$BE$9,5,FALSE))","v":""},{"$f":"IF(ISERROR(HLOOKUP($BR29,補助!$AW$2:$BE$9,5,FALSE))=TRUE,\"\",HLOOKUP($BR29,補助!$AW$2:$BE$9,5,FALSE))","v":""},{"$f":"IF(ISERROR(HLOOKUP($BS29,補助!$AW$2:$BE$9,5,FALSE))=TRUE,\"\",HLOOKUP($BS29,補助!$AW$2:$BE$9,5,FALSE))","v":""},{"$f":"IF(ISERROR(HLOOKUP($BT29,補助!$AW$2:$BE$9,5,FALSE))=TRUE,\"\",HLOOKUP($BT29,補助!$AW$2:$BE$9,5,FALSE))","v":""},{"$f":"IF(ISERROR(HLOOKUP($BU29,補助!$AW$2:$BE$9,5,FALSE))=TRUE,\"\",HLOOKUP($BU29,補助!$AW$2:$BE$9,5,FALSE))","v":""},{"$f":"IF(ISERROR(HLOOKUP($BV29,補助!$AW$2:$BE$9,5,FALSE))=TRUE,\"\",HLOOKUP($BV29,補助!$AW$2:$BE$9,5,FALSE))","v":""},{"$f":"IF(ISERROR(HLOOKUP($BW29,補助!$AW$2:$BE$9,5,FALSE))=TRUE,\"\",HLOOKUP($BW29,補助!$AW$2:$BE$9,5,FALSE))","v":1},{"$f":"IF(ISERROR(HLOOKUP($BX29,補助!$AW$2:$BE$9,5,FALSE))=TRUE,\"\",HLOOKUP($BX29,補助!$AW$2:$BE$9,5,FALSE))","v":7},{"$f":"IF(ISERROR(HLOOKUP($BY29,補助!$AW$2:$BE$9,5,FALSE))=TRUE,\"\",HLOOKUP($BY29,補助!$AW$2:$BE$9,5,FALSE))","v":6},{"$f":"IF(ISERROR(HLOOKUP($BZ29,補助!$AW$2:$BE$9,5,FALSE))=TRUE,\"\",HLOOKUP($BZ29,補助!$AW$2:$BE$9,5,FALSE))","v":4},"176"]
[null,null,null,null,null,null,null,null,null,null,null,null,null,null,null,null,null,null,null,null,null,null,null,null,null,null,null,null,null,null,null,null,null,null,null,null,null,null,null,null,null,null,null,null,null,null,null,null,null,null,null,null,null,null,null,null,null,null,null,null,null,null,null,null,null,null,null,null,null,null,null,{"$error":"#VALUE!"},"B1",null,{"$f":"IF(ISERROR(HLOOKUP($BP30,補助!$AW$2:$BE$9,5,FALSE))=TRUE,\"\",HLOOKUP($BP30,補助!$AW$2:$BE$9,5,FALSE))","v":""},{"$f":"IF(ISERROR(HLOOKUP($BQ30,補助!$AW$2:$BE$9,5,FALSE))=TRUE,\"\",HLOOKUP($BQ30,補助!$AW$2:$BE$9,5,FALSE))","v":""},{"$f":"IF(ISERROR(HLOOKUP($BR30,補助!$AW$2:$BE$9,5,FALSE))=TRUE,\"\",HLOOKUP($BR30,補助!$AW$2:$BE$9,5,FALSE))","v":""},{"$f":"IF(ISERROR(HLOOKUP($BS30,補助!$AW$2:$BE$9,5,FALSE))=TRUE,\"\",HLOOKUP($BS30,補助!$AW$2:$BE$9,5,FALSE))","v":""},{"$f":"IF(ISERROR(HLOOKUP($BT30,補助!$AW$2:$BE$9,5,FALSE))=TRUE,\"\",HLOOKUP($BT30,補助!$AW$2:$BE$9,5,FALSE))","v":""},{"$f":"IF(ISERROR(HLOOKUP($BU30,補助!$AW$2:$BE$9,5,FALSE))=TRUE,\"\",HLOOKUP($BU30,補助!$AW$2:$BE$9,5,FALSE))","v":""},{"$f":"IF(ISERROR(HLOOKUP($BV30,補助!$AW$2:$BE$9,5,FALSE))=TRUE,\"\",HLOOKUP($BV30,補助!$AW$2:$BE$9,5,FALSE))","v":""},{"$f":"IF(ISERROR(HLOOKUP($BW30,補助!$AW$2:$BE$9,5,FALSE))=TRUE,\"\",HLOOKUP($BW30,補助!$AW$2:$BE$9,5,FALSE))","v":1},{"$f":"IF(ISERROR(HLOOKUP($BX30,補助!$AW$2:$BE$9,5,FALSE))=TRUE,\"\",HLOOKUP($BX30,補助!$AW$2:$BE$9,5,FALSE))","v":7},{"$f":"IF(ISERROR(HLOOKUP($BY30,補助!$AW$2:$BE$9,5,FALSE))=TRUE,\"\",HLOOKUP($BY30,補助!$AW$2:$BE$9,5,FALSE))","v":6},{"$f":"IF(ISERROR(HLOOKUP($BZ30,補助!$AW$2:$BE$9,5,FALSE))=TRUE,\"\",HLOOKUP($BZ30,補助!$AW$2:$BE$9,5,FALSE))","v":2},"176"]
[null,null,null,null,null,null,null,null,null,null,null,null,null,null,null,null,null,null,null,null,null,null,null,null,null,null,null,null,null,null,null,null,null,null,null,null,null,null,null,null,null,null,null,null,null,null,null,null,null,null,null,null,null,null,null,null,null,null,null,null,null,null,null,null,null,null,null,null,null,null,null,{"$error":"#VALUE!"},"B1",null,{"$f":"IF(ISERROR(HLOOKUP($BP31,補助!$AW$2:$BE$9,5,FALSE))=TRUE,\"\",HLOOKUP($BP31,補助!$AW$2:$BE$9,5,FALSE))","v":""},{"$f":"IF(ISERROR(HLOOKUP($BQ31,補助!$AW$2:$BE$9,5,FALSE))=TRUE,\"\",HLOOKUP($BQ31,補助!$AW$2:$BE$9,5,FALSE))","v":""},{"$f":"IF(ISERROR(HLOOKUP($BR31,補助!$AW$2:$BE$9,5,FALSE))=TRUE,\"\",HLOOKUP($BR31,補助!$AW$2:$BE$9,5,FALSE))","v":""},{"$f":"IF(ISERROR(HLOOKUP($BS31,補助!$AW$2:$BE$9,5,FALSE))=TRUE,\"\",HLOOKUP($BS31,補助!$AW$2:$BE$9,5,FALSE))","v":""},{"$f":"IF(ISERROR(HLOOKUP($BT31,補助!$AW$2:$BE$9,5,FALSE))=TRUE,\"\",HLOOKUP($BT31,補助!$AW$2:$BE$9,5,FALSE))","v":""},{"$f":"IF(ISERROR(HLOOKUP($BU31,補助!$AW$2:$BE$9,5,FALSE))=TRUE,\"\",HLOOKUP($BU31,補助!$AW$2:$BE$9,5,FALSE))","v":""},{"$f":"IF(ISERROR(HLOOKUP($BV31,補助!$AW$2:$BE$9,5,FALSE))=TRUE,\"\",HLOOKUP($BV31,補助!$AW$2:$BE$9,5,FALSE))","v":""},{"$f":"IF(ISERROR(HLOOKUP($BW31,補助!$AW$2:$BE$9,5,FALSE))=TRUE,\"\",HLOOKUP($BW31,補助!$AW$2:$BE$9,5,FALSE))","v":1},{"$f":"IF(ISERROR(HLOOKUP($BX31,補助!$AW$2:$BE$9,5,FALSE))=TRUE,\"\",HLOOKUP($BX31,補助!$AW$2:$BE$9,5,FALSE))","v":7},{"$f":"IF(ISERROR(HLOOKUP($BY31,補助!$AW$2:$BE$9,5,FALSE))=TRUE,\"\",HLOOKUP($BY31,補助!$AW$2:$BE$9,5,FALSE))","v":6},{"$f":"IF(ISERROR(HLOOKUP($BZ31,補助!$AW$2:$BE$9,5,FALSE))=TRUE,\"\",HLOOKUP($BZ31,補助!$AW$2:$BE$9,5,FALSE))","v":5},"176"]
[null,null,null,null,null,null,null,null,null,null,null,null,null,null,null,null,null,null,null,null,null,null,null,null,null,null,null,null,null,null,null,null,null,null,null,null,null,null,null,null,null,null,null,null,null,null,null,null,null,null,null,null,null,null,null,null,null,null,null,null,null,null,null,null,null,null,null,null,null,null,null,{"$error":"#VALUE!"},"B1",null,{"$f":"IF(ISERROR(HLOOKUP($BP32,補助!$AW$2:$BE$9,5,FALSE))=TRUE,\"\",HLOOKUP($BP32,補助!$AW$2:$BE$9,5,FALSE))","v":""},{"$f":"IF(ISERROR(HLOOKUP($BQ32,補助!$AW$2:$BE$9,5,FALSE))=TRUE,\"\",HLOOKUP($BQ32,補助!$AW$2:$BE$9,5,FALSE))","v":""},{"$f":"IF(ISERROR(HLOOKUP($BR32,補助!$AW$2:$BE$9,5,FALSE))=TRUE,\"\",HLOOKUP($BR32,補助!$AW$2:$BE$9,5,FALSE))","v":""},{"$f":"IF(ISERROR(HLOOKUP($BS32,補助!$AW$2:$BE$9,5,FALSE))=TRUE,\"\",HLOOKUP($BS32,補助!$AW$2:$BE$9,5,FALSE))","v":""},{"$f":"IF(ISERROR(HLOOKUP($BT32,補助!$AW$2:$BE$9,5,FALSE))=TRUE,\"\",HLOOKUP($BT32,補助!$AW$2:$BE$9,5,FALSE))","v":""},{"$f":"IF(ISERROR(HLOOKUP($BU32,補助!$AW$2:$BE$9,5,FALSE))=TRUE,\"\",HLOOKUP($BU32,補助!$AW$2:$BE$9,5,FALSE))","v":""},{"$f":"IF(ISERROR(HLOOKUP($BV32,補助!$AW$2:$BE$9,5,FALSE))=TRUE,\"\",HLOOKUP($BV32,補助!$AW$2:$BE$9,5,FALSE))","v":""},{"$f":"IF(ISERROR(HLOOKUP($BW32,補助!$AW$2:$BE$9,5,FALSE))=TRUE,\"\",HLOOKUP($BW32,補助!$AW$2:$BE$9,5,FALSE))","v":1},{"$f":"IF(ISERROR(HLOOKUP($BX32,補助!$AW$2:$BE$9,5,FALSE))=TRUE,\"\",HLOOKUP($BX32,補助!$AW$2:$BE$9,5,FALSE))","v":7},{"$f":"IF(ISERROR(HLOOKUP($BY32,補助!$AW$2:$BE$9,5,FALSE))=TRUE,\"\",HLOOKUP($BY32,補助!$AW$2:$BE$9,5,FALSE))","v":6},{"$f":"IF(ISERROR(HLOOKUP($BZ32,補助!$AW$2:$BE$9,5,FALSE))=TRUE,\"\",HLOOKUP($BZ32,補助!$AW$2:$BE$9,5,FALSE))","v":8},"176"]
[null,null,null,null,null,null,null,null,null,null,null,null,null,null,null,null,null,null,null,null,null,null,null,null,null,null,null,null,null,null,null,null,null,null,null,null,null,null,null,null,null,null,null,null,null,null,null,null,null,null,null,null,null,null,null,null,null,null,null,null,null,null,null,null,null,null,null,null,null,null,null,{"$error":"#VALUE!"},"B1",null,{"$f":"IF(ISERROR(HLOOKUP($BP33,補助!$AW$2:$BE$9,5,FALSE))=TRUE,\"\",HLOOKUP($BP33,補助!$AW$2:$BE$9,5,FALSE))","v":""},{"$f":"IF(ISERROR(HLOOKUP($BQ33,補助!$AW$2:$BE$9,5,FALSE))=TRUE,\"\",HLOOKUP($BQ33,補助!$AW$2:$BE$9,5,FALSE))","v":""},{"$f":"IF(ISERROR(HLOOKUP($BR33,補助!$AW$2:$BE$9,5,FALSE))=TRUE,\"\",HLOOKUP($BR33,補助!$AW$2:$BE$9,5,FALSE))","v":""},{"$f":"IF(ISERROR(HLOOKUP($BS33,補助!$AW$2:$BE$9,5,FALSE))=TRUE,\"\",HLOOKUP($BS33,補助!$AW$2:$BE$9,5,FALSE))","v":""},{"$f":"IF(ISERROR(HLOOKUP($BT33,補助!$AW$2:$BE$9,5,FALSE))=TRUE,\"\",HLOOKUP($BT33,補助!$AW$2:$BE$9,5,FALSE))","v":""},{"$f":"IF(ISERROR(HLOOKUP($BU33,補助!$AW$2:$BE$9,5,FALSE))=TRUE,\"\",HLOOKUP($BU33,補助!$AW$2:$BE$9,5,FALSE))","v":""},{"$f":"IF(ISERROR(HLOOKUP($BV33,補助!$AW$2:$BE$9,5,FALSE))=TRUE,\"\",HLOOKUP($BV33,補助!$AW$2:$BE$9,5,FALSE))","v":""},{"$f":"IF(ISERROR(HLOOKUP($BW33,補助!$AW$2:$BE$9,5,FALSE))=TRUE,\"\",HLOOKUP($BW33,補助!$AW$2:$BE$9,5,FALSE))","v":1},{"$f":"IF(ISERROR(HLOOKUP($BX33,補助!$AW$2:$BE$9,5,FALSE))=TRUE,\"\",HLOOKUP($BX33,補助!$AW$2:$BE$9,5,FALSE))","v":7},{"$f":"IF(ISERROR(HLOOKUP($BY33,補助!$AW$2:$BE$9,5,FALSE))=TRUE,\"\",HLOOKUP($BY33,補助!$AW$2:$BE$9,5,FALSE))","v":6},{"$f":"IF(ISERROR(HLOOKUP($BZ33,補助!$AW$2:$BE$9,5,FALSE))=TRUE,\"\",HLOOKUP($BZ33,補助!$AW$2:$BE$9,5,FALSE))","v":3},"176"]
[null,null,null,null,null,null,null,null,null,null,null,null,null,null,null,null,null,null,null,null,null,null,null,null,null,null,null,null,null,null,null,null,null,null,null,null,null,null,null,null,null,null,null,null,null,null,null,null,null,null,null,null,null,null,null,null,null,null,null,null,null,null,null,null,null,null,null,null,null,null,null,{"$error":"#VALUE!"},"B1",null,{"$f":"IF(ISERROR(HLOOKUP($BP34,補助!$AW$2:$BE$9,5,FALSE))=TRUE,\"\",HLOOKUP($BP34,補助!$AW$2:$BE$9,5,FALSE))","v":""},{"$f":"IF(ISERROR(HLOOKUP($BQ34,補助!$AW$2:$BE$9,5,FALSE))=TRUE,\"\",HLOOKUP($BQ34,補助!$AW$2:$BE$9,5,FALSE))","v":""},{"$f":"IF(ISERROR(HLOOKUP($BR34,補助!$AW$2:$BE$9,5,FALSE))=TRUE,\"\",HLOOKUP($BR34,補助!$AW$2:$BE$9,5,FALSE))","v":""},{"$f":"IF(ISERROR(HLOOKUP($BS34,補助!$AW$2:$BE$9,5,FALSE))=TRUE,\"\",HLOOKUP($BS34,補助!$AW$2:$BE$9,5,FALSE))","v":""},{"$f":"IF(ISERROR(HLOOKUP($BT34,補助!$AW$2:$BE$9,5,FALSE))=TRUE,\"\",HLOOKUP($BT34,補助!$AW$2:$BE$9,5,FALSE))","v":""},{"$f":"IF(ISERROR(HLOOKUP($BU34,補助!$AW$2:$BE$9,5,FALSE))=TRUE,\"\",HLOOKUP($BU34,補助!$AW$2:$BE$9,5,FALSE))","v":""},{"$f":"IF(ISERROR(HLOOKUP($BV34,補助!$AW$2:$BE$9,5,FALSE))=TRUE,\"\",HLOOKUP($BV34,補助!$AW$2:$BE$9,5,FALSE))","v":""},{"$f":"IF(ISERROR(HLOOKUP($BW34,補助!$AW$2:$BE$9,5,FALSE))=TRUE,\"\",HLOOKUP($BW34,補助!$AW$2:$BE$9,5,FALSE))","v":1},{"$f":"IF(ISERROR(HLOOKUP($BX34,補助!$AW$2:$BE$9,5,FALSE))=TRUE,\"\",HLOOKUP($BX34,補助!$AW$2:$BE$9,5,FALSE))","v":7},{"$f":"IF(ISERROR(HLOOKUP($BY34,補助!$AW$2:$BE$9,5,FALSE))=TRUE,\"\",HLOOKUP($BY34,補助!$AW$2:$BE$9,5,FALSE))","v":8},{"$f":"IF(ISERROR(HLOOKUP($BZ34,補助!$AW$2:$BE$9,5,FALSE))=TRUE,\"\",HLOOKUP($BZ34,補助!$AW$2:$BE$9,5,FALSE))","v":4},"178"]
[null,null,null,null,null,null,null,null,null,null,null,null,null,null,null,null,null,null,null,null,null,null,null,null,null,null,null,null,null,null,null,null,null,null,null,null,null,null,null,null,null,null,null,null,null,null,null,null,null,null,null,null,null,null,null,null,null,null,null,null,null,null,null,null,null,null,null,null,null,null,null,{"$error":"#VALUE!"},"B1",null,{"$f":"IF(ISERROR(HLOOKUP($BP35,補助!$AW$2:$BE$9,5,FALSE))=TRUE,\"\",HLOOKUP($BP35,補助!$AW$2:$BE$9,5,FALSE))","v":""},{"$f":"IF(ISERROR(HLOOKUP($BQ35,補助!$AW$2:$BE$9,5,FALSE))=TRUE,\"\",HLOOKUP($BQ35,補助!$AW$2:$BE$9,5,FALSE))","v":""},{"$f":"IF(ISERROR(HLOOKUP($BR35,補助!$AW$2:$BE$9,5,FALSE))=TRUE,\"\",HLOOKUP($BR35,補助!$AW$2:$BE$9,5,FALSE))","v":""},{"$f":"IF(ISERROR(HLOOKUP($BS35,補助!$AW$2:$BE$9,5,FALSE))=TRUE,\"\",HLOOKUP($BS35,補助!$AW$2:$BE$9,5,FALSE))","v":""},{"$f":"IF(ISERROR(HLOOKUP($BT35,補助!$AW$2:$BE$9,5,FALSE))=TRUE,\"\",HLOOKUP($BT35,補助!$AW$2:$BE$9,5,FALSE))","v":""},{"$f":"IF(ISERROR(HLOOKUP($BU35,補助!$AW$2:$BE$9,5,FALSE))=TRUE,\"\",HLOOKUP($BU35,補助!$AW$2:$BE$9,5,FALSE))","v":""},{"$f":"IF(ISERROR(HLOOKUP($BV35,補助!$AW$2:$BE$9,5,FALSE))=TRUE,\"\",HLOOKUP($BV35,補助!$AW$2:$BE$9,5,FALSE))","v":""},{"$f":"IF(ISERROR(HLOOKUP($BW35,補助!$AW$2:$BE$9,5,FALSE))=TRUE,\"\",HLOOKUP($BW35,補助!$AW$2:$BE$9,5,FALSE))","v":1},{"$f":"IF(ISERROR(HLOOKUP($BX35,補助!$AW$2:$BE$9,5,FALSE))=TRUE,\"\",HLOOKUP($BX35,補助!$AW$2:$BE$9,5,FALSE))","v":7},{"$f":"IF(ISERROR(HLOOKUP($BY35,補助!$AW$2:$BE$9,5,FALSE))=TRUE,\"\",HLOOKUP($BY35,補助!$AW$2:$BE$9,5,FALSE))","v":8},{"$f":"IF(ISERROR(HLOOKUP($BZ35,補助!$AW$2:$BE$9,5,FALSE))=TRUE,\"\",HLOOKUP($BZ35,補助!$AW$2:$BE$9,5,FALSE))","v":6},"178"]
[null,null,null,null,null,null,null,null,null,null,null,null,null,null,null,null,null,null,null,null,null,null,null,null,null,null,null,null,null,null,null,null,null,null,null,null,null,null,null,null,null,null,null,null,null,null,null,null,null,null,null,null,null,null,null,null,null,null,null,null,null,null,null,null,null,null,null,null,null,null,null,{"$error":"#VALUE!"},"B1",null,{"$f":"IF(ISERROR(HLOOKUP($BP36,補助!$AW$2:$BE$9,5,FALSE))=TRUE,\"\",HLOOKUP($BP36,補助!$AW$2:$BE$9,5,FALSE))","v":""},{"$f":"IF(ISERROR(HLOOKUP($BQ36,補助!$AW$2:$BE$9,5,FALSE))=TRUE,\"\",HLOOKUP($BQ36,補助!$AW$2:$BE$9,5,FALSE))","v":""},{"$f":"IF(ISERROR(HLOOKUP($BR36,補助!$AW$2:$BE$9,5,FALSE))=TRUE,\"\",HLOOKUP($BR36,補助!$AW$2:$BE$9,5,FALSE))","v":""},{"$f":"IF(ISERROR(HLOOKUP($BS36,補助!$AW$2:$BE$9,5,FALSE))=TRUE,\"\",HLOOKUP($BS36,補助!$AW$2:$BE$9,5,FALSE))","v":""},{"$f":"IF(ISERROR(HLOOKUP($BT36,補助!$AW$2:$BE$9,5,FALSE))=TRUE,\"\",HLOOKUP($BT36,補助!$AW$2:$BE$9,5,FALSE))","v":""},{"$f":"IF(ISERROR(HLOOKUP($BU36,補助!$AW$2:$BE$9,5,FALSE))=TRUE,\"\",HLOOKUP($BU36,補助!$AW$2:$BE$9,5,FALSE))","v":""},{"$f":"IF(ISERROR(HLOOKUP($BV36,補助!$AW$2:$BE$9,5,FALSE))=TRUE,\"\",HLOOKUP($BV36,補助!$AW$2:$BE$9,5,FALSE))","v":""},{"$f":"IF(ISERROR(HLOOKUP($BW36,補助!$AW$2:$BE$9,5,FALSE))=TRUE,\"\",HLOOKUP($BW36,補助!$AW$2:$BE$9,5,FALSE))","v":1},{"$f":"IF(ISERROR(HLOOKUP($BX36,補助!$AW$2:$BE$9,5,FALSE))=TRUE,\"\",HLOOKUP($BX36,補助!$AW$2:$BE$9,5,FALSE))","v":7},{"$f":"IF(ISERROR(HLOOKUP($BY36,補助!$AW$2:$BE$9,5,FALSE))=TRUE,\"\",HLOOKUP($BY36,補助!$AW$2:$BE$9,5,FALSE))","v":8},{"$f":"IF(ISERROR(HLOOKUP($BZ36,補助!$AW$2:$BE$9,5,FALSE))=TRUE,\"\",HLOOKUP($BZ36,補助!$AW$2:$BE$9,5,FALSE))","v":9},"178"]
[null,null,null,null,null,null,null,null,null,null,null,null,null,null,null,null,null,null,null,null,null,null,null,null,null,null,null,null,null,null,null,null,null,null,null,null,null,null,null,null,null,null,null,null,null,null,null,null,null,null,null,null,null,null,null,null,null,null,null,null,null,null,null,null,null,null,null,null,null,null,null,{"$error":"#VALUE!"},"B1",null,{"$f":"IF(ISERROR(HLOOKUP($BP37,補助!$AW$2:$BE$9,5,FALSE))=TRUE,\"\",HLOOKUP($BP37,補助!$AW$2:$BE$9,5,FALSE))","v":""},{"$f":"IF(ISERROR(HLOOKUP($BQ37,補助!$AW$2:$BE$9,5,FALSE))=TRUE,\"\",HLOOKUP($BQ37,補助!$AW$2:$BE$9,5,FALSE))","v":""},{"$f":"IF(ISERROR(HLOOKUP($BR37,補助!$AW$2:$BE$9,5,FALSE))=TRUE,\"\",HLOOKUP($BR37,補助!$AW$2:$BE$9,5,FALSE))","v":""},{"$f":"IF(ISERROR(HLOOKUP($BS37,補助!$AW$2:$BE$9,5,FALSE))=TRUE,\"\",HLOOKUP($BS37,補助!$AW$2:$BE$9,5,FALSE))","v":""},{"$f":"IF(ISERROR(HLOOKUP($BT37,補助!$AW$2:$BE$9,5,FALSE))=TRUE,\"\",HLOOKUP($BT37,補助!$AW$2:$BE$9,5,FALSE))","v":""},{"$f":"IF(ISERROR(HLOOKUP($BU37,補助!$AW$2:$BE$9,5,FALSE))=TRUE,\"\",HLOOKUP($BU37,補助!$AW$2:$BE$9,5,FALSE))","v":""},{"$f":"IF(ISERROR(HLOOKUP($BV37,補助!$AW$2:$BE$9,5,FALSE))=TRUE,\"\",HLOOKUP($BV37,補助!$AW$2:$BE$9,5,FALSE))","v":""},{"$f":"IF(ISERROR(HLOOKUP($BW37,補助!$AW$2:$BE$9,5,FALSE))=TRUE,\"\",HLOOKUP($BW37,補助!$AW$2:$BE$9,5,FALSE))","v":1},{"$f":"IF(ISERROR(HLOOKUP($BX37,補助!$AW$2:$BE$9,5,FALSE))=TRUE,\"\",HLOOKUP($BX37,補助!$AW$2:$BE$9,5,FALSE))","v":8},{"$f":"IF(ISERROR(HLOOKUP($BY37,補助!$AW$2:$BE$9,5,FALSE))=TRUE,\"\",HLOOKUP($BY37,補助!$AW$2:$BE$9,5,FALSE))","v":7},{"$f":"IF(ISERROR(HLOOKUP($BZ37,補助!$AW$2:$BE$9,5,FALSE))=TRUE,\"\",HLOOKUP($BZ37,補助!$AW$2:$BE$9,5,FALSE))","v":""},"187"]
[null,null,null,null,null,null,null,null,null,null,null,null,null,null,null,null,null,null,null,null,null,null,null,null,null,null,null,null,null,null,null,null,null,null,null,null,null,null,null,null,null,null,null,null,null,null,null,null,null,null,null,null,null,null,null,null,null,null,null,null,null,null,null,null,null,null,null,null,null,null,null,{"$error":"#VALUE!"},"B1",null,{"$f":"IF(ISERROR(HLOOKUP($BP38,補助!$AW$2:$BE$9,5,FALSE))=TRUE,\"\",HLOOKUP($BP38,補助!$AW$2:$BE$9,5,FALSE))","v":""},{"$f":"IF(ISERROR(HLOOKUP($BQ38,補助!$AW$2:$BE$9,5,FALSE))=TRUE,\"\",HLOOKUP($BQ38,補助!$AW$2:$BE$9,5,FALSE))","v":""},{"$f":"IF(ISERROR(HLOOKUP($BR38,補助!$AW$2:$BE$9,5,FALSE))=TRUE,\"\",HLOOKUP($BR38,補助!$AW$2:$BE$9,5,FALSE))","v":""},{"$f":"IF(ISERROR(HLOOKUP($BS38,補助!$AW$2:$BE$9,5,FALSE))=TRUE,\"\",HLOOKUP($BS38,補助!$AW$2:$BE$9,5,FALSE))","v":""},{"$f":"IF(ISERROR(HLOOKUP($BT38,補助!$AW$2:$BE$9,5,FALSE))=TRUE,\"\",HLOOKUP($BT38,補助!$AW$2:$BE$9,5,FALSE))","v":""},{"$f":"IF(ISERROR(HLOOKUP($BU38,補助!$AW$2:$BE$9,5,FALSE))=TRUE,\"\",HLOOKUP($BU38,補助!$AW$2:$BE$9,5,FALSE))","v":""},{"$f":"IF(ISERROR(HLOOKUP($BV38,補助!$AW$2:$BE$9,5,FALSE))=TRUE,\"\",HLOOKUP($BV38,補助!$AW$2:$BE$9,5,FALSE))","v":""},{"$f":"IF(ISERROR(HLOOKUP($BW38,補助!$AW$2:$BE$9,5,FALSE))=TRUE,\"\",HLOOKUP($BW38,補助!$AW$2:$BE$9,5,FALSE))","v":1},{"$f":"IF(ISERROR(HLOOKUP($BX38,補助!$AW$2:$BE$9,5,FALSE))=TRUE,\"\",HLOOKUP($BX38,補助!$AW$2:$BE$9,5,FALSE))","v":8},{"$f":"IF(ISERROR(HLOOKUP($BY38,補助!$AW$2:$BE$9,5,FALSE))=TRUE,\"\",HLOOKUP($BY38,補助!$AW$2:$BE$9,5,FALSE))","v":5},{"$f":"IF(ISERROR(HLOOKUP($BZ38,補助!$AW$2:$BE$9,5,FALSE))=TRUE,\"\",HLOOKUP($BZ38,補助!$AW$2:$BE$9,5,FALSE))","v":""},"185"]
[null,null,null,null,null,null,null,null,null,null,null,null,null,null,null,null,null,null,null,null,null,null,null,null,null,null,null,null,null,null,null,null,null,null,null,null,null,null,null,null,null,null,null,null,null,null,null,null,null,null,null,null,null,null,null,null,null,null,null,null,null,null,null,null,null,null,null,null,null,null,null,{"$error":"#VALUE!"},"B1",null,{"$f":"IF(ISERROR(HLOOKUP($BP39,補助!$AW$2:$BE$9,5,FALSE))=TRUE,\"\",HLOOKUP($BP39,補助!$AW$2:$BE$9,5,FALSE))","v":""},{"$f":"IF(ISERROR(HLOOKUP($BQ39,補助!$AW$2:$BE$9,5,FALSE))=TRUE,\"\",HLOOKUP($BQ39,補助!$AW$2:$BE$9,5,FALSE))","v":""},{"$f":"IF(ISERROR(HLOOKUP($BR39,補助!$AW$2:$BE$9,5,FALSE))=TRUE,\"\",HLOOKUP($BR39,補助!$AW$2:$BE$9,5,FALSE))","v":""},{"$f":"IF(ISERROR(HLOOKUP($BS39,補助!$AW$2:$BE$9,5,FALSE))=TRUE,\"\",HLOOKUP($BS39,補助!$AW$2:$BE$9,5,FALSE))","v":""},{"$f":"IF(ISERROR(HLOOKUP($BT39,補助!$AW$2:$BE$9,5,FALSE))=TRUE,\"\",HLOOKUP($BT39,補助!$AW$2:$BE$9,5,FALSE))","v":""},{"$f":"IF(ISERROR(HLOOKUP($BU39,補助!$AW$2:$BE$9,5,FALSE))=TRUE,\"\",HLOOKUP($BU39,補助!$AW$2:$BE$9,5,FALSE))","v":""},{"$f":"IF(ISERROR(HLOOKUP($BV39,補助!$AW$2:$BE$9,5,FALSE))=TRUE,\"\",HLOOKUP($BV39,補助!$AW$2:$BE$9,5,FALSE))","v":""},{"$f":"IF(ISERROR(HLOOKUP($BW39,補助!$AW$2:$BE$9,5,FALSE))=TRUE,\"\",HLOOKUP($BW39,補助!$AW$2:$BE$9,5,FALSE))","v":1},{"$f":"IF(ISERROR(HLOOKUP($BX39,補助!$AW$2:$BE$9,5,FALSE))=TRUE,\"\",HLOOKUP($BX39,補助!$AW$2:$BE$9,5,FALSE))","v":8},{"$f":"IF(ISERROR(HLOOKUP($BY39,補助!$AW$2:$BE$9,5,FALSE))=TRUE,\"\",HLOOKUP($BY39,補助!$AW$2:$BE$9,5,FALSE))","v":3},{"$f":"IF(ISERROR(HLOOKUP($BZ39,補助!$AW$2:$BE$9,5,FALSE))=TRUE,\"\",HLOOKUP($BZ39,補助!$AW$2:$BE$9,5,FALSE))","v":""},"183"]
[null,null,null,null,null,null,null,null,null,null,null,null,null,null,null,null,null,null,null,null,null,null,null,null,null,null,null,null,null,null,null,null,null,null,null,null,null,null,null,null,null,null,null,null,null,null,null,null,null,null,null,null,null,null,null,null,null,null,null,null,null,null,null,null,null,null,null,null,null,null,null,{"$error":"#VALUE!"},"B1","白",{"$f":"IF(ISERROR(HLOOKUP($BP40,補助!$AW$2:$BE$9,5,FALSE))=TRUE,\"\",HLOOKUP($BP40,補助!$AW$2:$BE$9,5,FALSE))","v":""},{"$f":"IF(ISERROR(HLOOKUP($BQ40,補助!$AW$2:$BE$9,5,FALSE))=TRUE,\"\",HLOOKUP($BQ40,補助!$AW$2:$BE$9,5,FALSE))","v":""},{"$f":"IF(ISERROR(HLOOKUP($BR40,補助!$AW$2:$BE$9,5,FALSE))=TRUE,\"\",HLOOKUP($BR40,補助!$AW$2:$BE$9,5,FALSE))","v":""},{"$f":"IF(ISERROR(HLOOKUP($BS40,補助!$AW$2:$BE$9,5,FALSE))=TRUE,\"\",HLOOKUP($BS40,補助!$AW$2:$BE$9,5,FALSE))","v":""},{"$f":"IF(ISERROR(HLOOKUP($BT40,補助!$AW$2:$BE$9,5,FALSE))=TRUE,\"\",HLOOKUP($BT40,補助!$AW$2:$BE$9,5,FALSE))","v":""},{"$f":"IF(ISERROR(HLOOKUP($BU40,補助!$AW$2:$BE$9,5,FALSE))=TRUE,\"\",HLOOKUP($BU40,補助!$AW$2:$BE$9,5,FALSE))","v":""},{"$f":"IF(ISERROR(HLOOKUP($BV40,補助!$AW$2:$BE$9,5,FALSE))=TRUE,\"\",HLOOKUP($BV40,補助!$AW$2:$BE$9,5,FALSE))","v":""},{"$f":"IF(ISERROR(HLOOKUP($BW40,補助!$AW$2:$BE$9,5,FALSE))=TRUE,\"\",HLOOKUP($BW40,補助!$AW$2:$BE$9,5,FALSE))","v":1},{"$f":"IF(ISERROR(HLOOKUP($BX40,補助!$AW$2:$BE$9,5,FALSE))=TRUE,\"\",HLOOKUP($BX40,補助!$AW$2:$BE$9,5,FALSE))","v":8},{"$f":"IF(ISERROR(HLOOKUP($BY40,補助!$AW$2:$BE$9,5,FALSE))=TRUE,\"\",HLOOKUP($BY40,補助!$AW$2:$BE$9,5,FALSE))","v":2},{"$f":"IF(ISERROR(HLOOKUP($BZ40,補助!$AW$2:$BE$9,5,FALSE))=TRUE,\"\",HLOOKUP($BZ40,補助!$AW$2:$BE$9,5,FALSE))","v":3},"182"]
[null,null,null,null,null,null,null,null,null,null,null,null,null,null,null,null,null,null,null,null,null,null,null,null,null,null,null,null,null,null,null,null,null,null,null,null,null,null,null,null,null,null,null,null,null,null,null,null,null,null,null,null,null,null,null,null,null,null,null,null,null,null,null,null,null,null,null,null,null,null,null,{"$error":"#VALUE!"},"B1","白",{"$f":"IF(ISERROR(HLOOKUP($BP41,補助!$AW$2:$BE$9,5,FALSE))=TRUE,\"\",HLOOKUP($BP41,補助!$AW$2:$BE$9,5,FALSE))","v":""},{"$f":"IF(ISERROR(HLOOKUP($BQ41,補助!$AW$2:$BE$9,5,FALSE))=TRUE,\"\",HLOOKUP($BQ41,補助!$AW$2:$BE$9,5,FALSE))","v":""},{"$f":"IF(ISERROR(HLOOKUP($BR41,補助!$AW$2:$BE$9,5,FALSE))=TRUE,\"\",HLOOKUP($BR41,補助!$AW$2:$BE$9,5,FALSE))","v":""},{"$f":"IF(ISERROR(HLOOKUP($BS41,補助!$AW$2:$BE$9,5,FALSE))=TRUE,\"\",HLOOKUP($BS41,補助!$AW$2:$BE$9,5,FALSE))","v":""},{"$f":"IF(ISERROR(HLOOKUP($BT41,補助!$AW$2:$BE$9,5,FALSE))=TRUE,\"\",HLOOKUP($BT41,補助!$AW$2:$BE$9,5,FALSE))","v":""},{"$f":"IF(ISERROR(HLOOKUP($BU41,補助!$AW$2:$BE$9,5,FALSE))=TRUE,\"\",HLOOKUP($BU41,補助!$AW$2:$BE$9,5,FALSE))","v":""},{"$f":"IF(ISERROR(HLOOKUP($BV41,補助!$AW$2:$BE$9,5,FALSE))=TRUE,\"\",HLOOKUP($BV41,補助!$AW$2:$BE$9,5,FALSE))","v":""},{"$f":"IF(ISERROR(HLOOKUP($BW41,補助!$AW$2:$BE$9,5,FALSE))=TRUE,\"\",HLOOKUP($BW41,補助!$AW$2:$BE$9,5,FALSE))","v":1},{"$f":"IF(ISERROR(HLOOKUP($BX41,補助!$AW$2:$BE$9,5,FALSE))=TRUE,\"\",HLOOKUP($BX41,補助!$AW$2:$BE$9,5,FALSE))","v":8},{"$f":"IF(ISERROR(HLOOKUP($BY41,補助!$AW$2:$BE$9,5,FALSE))=TRUE,\"\",HLOOKUP($BY41,補助!$AW$2:$BE$9,5,FALSE))","v":2},{"$f":"IF(ISERROR(HLOOKUP($BZ41,補助!$AW$2:$BE$9,5,FALSE))=TRUE,\"\",HLOOKUP($BZ41,補助!$AW$2:$BE$9,5,FALSE))","v":3},"182"]
[null,null,null,null,null,null,null,null,null,null,null,null,null,null,null,null,null,null,null,null,null,null,null,null,null,null,null,null,null,null,null,null,null,null,null,null,null,null,null,null,null,null,null,null,null,null,null,null,null,null,null,null,null,null,null,null,null,null,null,null,null,null,null,null,null,null,null,null,null,null,null,{"$error":"#VALUE!"},"B1","白",{"$f":"IF(ISERROR(HLOOKUP($BP42,補助!$AW$2:$BE$9,5,FALSE))=TRUE,\"\",HLOOKUP($BP42,補助!$AW$2:$BE$9,5,FALSE))","v":""},{"$f":"IF(ISERROR(HLOOKUP($BQ42,補助!$AW$2:$BE$9,5,FALSE))=TRUE,\"\",HLOOKUP($BQ42,補助!$AW$2:$BE$9,5,FALSE))","v":""},{"$f":"IF(ISERROR(HLOOKUP($BR42,補助!$AW$2:$BE$9,5,FALSE))=TRUE,\"\",HLOOKUP($BR42,補助!$AW$2:$BE$9,5,FALSE))","v":""},{"$f":"IF(ISERROR(HLOOKUP($BS42,補助!$AW$2:$BE$9,5,FALSE))=TRUE,\"\",HLOOKUP($BS42,補助!$AW$2:$BE$9,5,FALSE))","v":""},{"$f":"IF(ISERROR(HLOOKUP($BT42,補助!$AW$2:$BE$9,5,FALSE))=TRUE,\"\",HLOOKUP($BT42,補助!$AW$2:$BE$9,5,FALSE))","v":""},{"$f":"IF(ISERROR(HLOOKUP($BU42,補助!$AW$2:$BE$9,5,FALSE))=TRUE,\"\",HLOOKUP($BU42,補助!$AW$2:$BE$9,5,FALSE))","v":""},{"$f":"IF(ISERROR(HLOOKUP($BV42,補助!$AW$2:$BE$9,5,FALSE))=TRUE,\"\",HLOOKUP($BV42,補助!$AW$2:$BE$9,5,FALSE))","v":""},{"$f":"IF(ISERROR(HLOOKUP($BW42,補助!$AW$2:$BE$9,5,FALSE))=TRUE,\"\",HLOOKUP($BW42,補助!$AW$2:$BE$9,5,FALSE))","v":1},{"$f":"IF(ISERROR(HLOOKUP($BX42,補助!$AW$2:$BE$9,5,FALSE))=TRUE,\"\",HLOOKUP($BX42,補助!$AW$2:$BE$9,5,FALSE))","v":8},{"$f":"IF(ISERROR(HLOOKUP($BY42,補助!$AW$2:$BE$9,5,FALSE))=TRUE,\"\",HLOOKUP($BY42,補助!$AW$2:$BE$9,5,FALSE))","v":2},{"$f":"IF(ISERROR(HLOOKUP($BZ42,補助!$AW$2:$BE$9,5,FALSE))=TRUE,\"\",HLOOKUP($BZ42,補助!$AW$2:$BE$9,5,FALSE))","v":3},"182"]
[null,null,null,null,null,null,null,null,null,null,null,null,null,null,null,null,null,null,null,null,null,null,null,null,null,null,null,null,null,null,null,null,null,null,null,null,null,null,null,null,null,null,null,null,null,null,null,null,null,null,null,null,null,null,null,null,null,null,null,null,null,null,null,null,null,null,null,null,null,null,null,{"$error":"#VALUE!"},"B1",null,{"$f":"IF(ISERROR(HLOOKUP($BP43,補助!$AW$2:$BE$9,5,FALSE))=TRUE,\"\",HLOOKUP($BP43,補助!$AW$2:$BE$9,5,FALSE))","v":""},{"$f":"IF(ISERROR(HLOOKUP($BQ43,補助!$AW$2:$BE$9,5,FALSE))=TRUE,\"\",HLOOKUP($BQ43,補助!$AW$2:$BE$9,5,FALSE))","v":""},{"$f":"IF(ISERROR(HLOOKUP($BR43,補助!$AW$2:$BE$9,5,FALSE))=TRUE,\"\",HLOOKUP($BR43,補助!$AW$2:$BE$9,5,FALSE))","v":""},{"$f":"IF(ISERROR(HLOOKUP($BS43,補助!$AW$2:$BE$9,5,FALSE))=TRUE,\"\",HLOOKUP($BS43,補助!$AW$2:$BE$9,5,FALSE))","v":""},{"$f":"IF(ISERROR(HLOOKUP($BT43,補助!$AW$2:$BE$9,5,FALSE))=TRUE,\"\",HLOOKUP($BT43,補助!$AW$2:$BE$9,5,FALSE))","v":""},{"$f":"IF(ISERROR(HLOOKUP($BU43,補助!$AW$2:$BE$9,5,FALSE))=TRUE,\"\",HLOOKUP($BU43,補助!$AW$2:$BE$9,5,FALSE))","v":""},{"$f":"IF(ISERROR(HLOOKUP($BV43,補助!$AW$2:$BE$9,5,FALSE))=TRUE,\"\",HLOOKUP($BV43,補助!$AW$2:$BE$9,5,FALSE))","v":""},{"$f":"IF(ISERROR(HLOOKUP($BW43,補助!$AW$2:$BE$9,5,FALSE))=TRUE,\"\",HLOOKUP($BW43,補助!$AW$2:$BE$9,5,FALSE))","v":1},{"$f":"IF(ISERROR(HLOOKUP($BX43,補助!$AW$2:$BE$9,5,FALSE))=TRUE,\"\",HLOOKUP($BX43,補助!$AW$2:$BE$9,5,FALSE))","v":8},{"$f":"IF(ISERROR(HLOOKUP($BY43,補助!$AW$2:$BE$9,5,FALSE))=TRUE,\"\",HLOOKUP($BY43,補助!$AW$2:$BE$9,5,FALSE))","v":6},{"$f":"IF(ISERROR(HLOOKUP($BZ43,補助!$AW$2:$BE$9,5,FALSE))=TRUE,\"\",HLOOKUP($BZ43,補助!$AW$2:$BE$9,5,FALSE))","v":4},"186"]
[null,null,null,null,null,null,null,null,null,null,null,null,null,null,null,null,null,null,null,null,null,null,null,null,null,null,null,null,null,null,null,null,null,null,null,null,null,null,null,null,null,null,null,null,null,null,null,null,null,null,null,null,null,null,null,null,null,null,null,null,null,null,null,null,null,null,null,null,null,null,null,{"$error":"#VALUE!"},"B1",null,{"$f":"IF(ISERROR(HLOOKUP($BP44,補助!$AW$2:$BE$9,5,FALSE))=TRUE,\"\",HLOOKUP($BP44,補助!$AW$2:$BE$9,5,FALSE))","v":""},{"$f":"IF(ISERROR(HLOOKUP($BQ44,補助!$AW$2:$BE$9,5,FALSE))=TRUE,\"\",HLOOKUP($BQ44,補助!$AW$2:$BE$9,5,FALSE))","v":""},{"$f":"IF(ISERROR(HLOOKUP($BR44,補助!$AW$2:$BE$9,5,FALSE))=TRUE,\"\",HLOOKUP($BR44,補助!$AW$2:$BE$9,5,FALSE))","v":""},{"$f":"IF(ISERROR(HLOOKUP($BS44,補助!$AW$2:$BE$9,5,FALSE))=TRUE,\"\",HLOOKUP($BS44,補助!$AW$2:$BE$9,5,FALSE))","v":""},{"$f":"IF(ISERROR(HLOOKUP($BT44,補助!$AW$2:$BE$9,5,FALSE))=TRUE,\"\",HLOOKUP($BT44,補助!$AW$2:$BE$9,5,FALSE))","v":""},{"$f":"IF(ISERROR(HLOOKUP($BU44,補助!$AW$2:$BE$9,5,FALSE))=TRUE,\"\",HLOOKUP($BU44,補助!$AW$2:$BE$9,5,FALSE))","v":""},{"$f":"IF(ISERROR(HLOOKUP($BV44,補助!$AW$2:$BE$9,5,FALSE))=TRUE,\"\",HLOOKUP($BV44,補助!$AW$2:$BE$9,5,FALSE))","v":""},{"$f":"IF(ISERROR(HLOOKUP($BW44,補助!$AW$2:$BE$9,5,FALSE))=TRUE,\"\",HLOOKUP($BW44,補助!$AW$2:$BE$9,5,FALSE))","v":1},{"$f":"IF(ISERROR(HLOOKUP($BX44,補助!$AW$2:$BE$9,5,FALSE))=TRUE,\"\",HLOOKUP($BX44,補助!$AW$2:$BE$9,5,FALSE))","v":8},{"$f":"IF(ISERROR(HLOOKUP($BY44,補助!$AW$2:$BE$9,5,FALSE))=TRUE,\"\",HLOOKUP($BY44,補助!$AW$2:$BE$9,5,FALSE))","v":6},{"$f":"IF(ISERROR(HLOOKUP($BZ44,補助!$AW$2:$BE$9,5,FALSE))=TRUE,\"\",HLOOKUP($BZ44,補助!$AW$2:$BE$9,5,FALSE))","v":7},"186"]
[null,null,null,null,null,null,null,null,null,null,null,null,null,null,null,null,null,null,null,null,null,null,null,null,null,null,null,null,null,null,null,null,null,null,null,null,null,null,null,null,null,null,null,null,null,null,null,null,null,null,null,null,null,null,null,null,null,null,null,null,null,null,null,null,null,null,null,null,null,null,null,{"$error":"#VALUE!"},"B1",null,{"$f":"IF(ISERROR(HLOOKUP($BP45,補助!$AW$2:$BE$9,5,FALSE))=TRUE,\"\",HLOOKUP($BP45,補助!$AW$2:$BE$9,5,FALSE))","v":""},{"$f":"IF(ISERROR(HLOOKUP($BQ45,補助!$AW$2:$BE$9,5,FALSE))=TRUE,\"\",HLOOKUP($BQ45,補助!$AW$2:$BE$9,5,FALSE))","v":""},{"$f":"IF(ISERROR(HLOOKUP($BR45,補助!$AW$2:$BE$9,5,FALSE))=TRUE,\"\",HLOOKUP($BR45,補助!$AW$2:$BE$9,5,FALSE))","v":""},{"$f":"IF(ISERROR(HLOOKUP($BS45,補助!$AW$2:$BE$9,5,FALSE))=TRUE,\"\",HLOOKUP($BS45,補助!$AW$2:$BE$9,5,FALSE))","v":""},{"$f":"IF(ISERROR(HLOOKUP($BT45,補助!$AW$2:$BE$9,5,FALSE))=TRUE,\"\",HLOOKUP($BT45,補助!$AW$2:$BE$9,5,FALSE))","v":""},{"$f":"IF(ISERROR(HLOOKUP($BU45,補助!$AW$2:$BE$9,5,FALSE))=TRUE,\"\",HLOOKUP($BU45,補助!$AW$2:$BE$9,5,FALSE))","v":""},{"$f":"IF(ISERROR(HLOOKUP($BV45,補助!$AW$2:$BE$9,5,FALSE))=TRUE,\"\",HLOOKUP($BV45,補助!$AW$2:$BE$9,5,FALSE))","v":""},{"$f":"IF(ISERROR(HLOOKUP($BW45,補助!$AW$2:$BE$9,5,FALSE))=TRUE,\"\",HLOOKUP($BW45,補助!$AW$2:$BE$9,5,FALSE))","v":1},{"$f":"IF(ISERROR(HLOOKUP($BX45,補助!$AW$2:$BE$9,5,FALSE))=TRUE,\"\",HLOOKUP($BX45,補助!$AW$2:$BE$9,5,FALSE))","v":8},{"$f":"IF(ISERROR(HLOOKUP($BY45,補助!$AW$2:$BE$9,5,FALSE))=TRUE,\"\",HLOOKUP($BY45,補助!$AW$2:$BE$9,5,FALSE))","v":6},{"$f":"IF(ISERROR(HLOOKUP($BZ45,補助!$AW$2:$BE$9,5,FALSE))=TRUE,\"\",HLOOKUP($BZ45,補助!$AW$2:$BE$9,5,FALSE))","v":2},"186"]
[null,null,null,null,null,null,null,null,null,null,null,null,null,null,null,null,null,null,null,null,null,null,null,null,null,null,null,null,null,null,null,null,null,null,null,null,null,null,null,null,null,null,null,null,null,null,null,null,null,null,null,null,null,null,null,null,null,null,null,null,null,null,null,null,null,null,null,null,null,null,null,{"$error":"#VALUE!"},"B1",null,{"$f":"IF(ISERROR(HLOOKUP($BP46,補助!$AW$2:$BE$9,5,FALSE))=TRUE,\"\",HLOOKUP($BP46,補助!$AW$2:$BE$9,5,FALSE))","v":""},{"$f":"IF(ISERROR(HLOOKUP($BQ46,補助!$AW$2:$BE$9,5,FALSE))=TRUE,\"\",HLOOKUP($BQ46,補助!$AW$2:$BE$9,5,FALSE))","v":""},{"$f":"IF(ISERROR(HLOOKUP($BR46,補助!$AW$2:$BE$9,5,FALSE))=TRUE,\"\",HLOOKUP($BR46,補助!$AW$2:$BE$9,5,FALSE))","v":""},{"$f":"IF(ISERROR(HLOOKUP($BS46,補助!$AW$2:$BE$9,5,FALSE))=TRUE,\"\",HLOOKUP($BS46,補助!$AW$2:$BE$9,5,FALSE))","v":""},{"$f":"IF(ISERROR(HLOOKUP($BT46,補助!$AW$2:$BE$9,5,FALSE))=TRUE,\"\",HLOOKUP($BT46,補助!$AW$2:$BE$9,5,FALSE))","v":""},{"$f":"IF(ISERROR(HLOOKUP($BU46,補助!$AW$2:$BE$9,5,FALSE))=TRUE,\"\",HLOOKUP($BU46,補助!$AW$2:$BE$9,5,FALSE))","v":""},{"$f":"IF(ISERROR(HLOOKUP($BV46,補助!$AW$2:$BE$9,5,FALSE))=TRUE,\"\",HLOOKUP($BV46,補助!$AW$2:$BE$9,5,FALSE))","v":""},{"$f":"IF(ISERROR(HLOOKUP($BW46,補助!$AW$2:$BE$9,5,FALSE))=TRUE,\"\",HLOOKUP($BW46,補助!$AW$2:$BE$9,5,FALSE))","v":1},{"$f":"IF(ISERROR(HLOOKUP($BX46,補助!$AW$2:$BE$9,5,FALSE))=TRUE,\"\",HLOOKUP($BX46,補助!$AW$2:$BE$9,5,FALSE))","v":8},{"$f":"IF(ISERROR(HLOOKUP($BY46,補助!$AW$2:$BE$9,5,FALSE))=TRUE,\"\",HLOOKUP($BY46,補助!$AW$2:$BE$9,5,FALSE))","v":6},{"$f":"IF(ISERROR(HLOOKUP($BZ46,補助!$AW$2:$BE$9,5,FALSE))=TRUE,\"\",HLOOKUP($BZ46,補助!$AW$2:$BE$9,5,FALSE))","v":3},"186"]
[null,null,null,null,null,null,null,null,null,null,null,null,null,null,null,null,null,null,null,null,null,null,null,null,null,null,null,null,null,null,null,null,null,null,null,null,null,null,null,null,null,null,null,null,null,null,null,null,null,null,null,null,null,null,null,null,null,null,null,null,null,null,null,null,null,null,null,null,null,null,null,{"$error":"#VALUE!"},"B1",null,{"$f":"IF(ISERROR(HLOOKUP($BP47,補助!$AW$2:$BE$9,5,FALSE))=TRUE,\"\",HLOOKUP($BP47,補助!$AW$2:$BE$9,5,FALSE))","v":""},{"$f":"IF(ISERROR(HLOOKUP($BQ47,補助!$AW$2:$BE$9,5,FALSE))=TRUE,\"\",HLOOKUP($BQ47,補助!$AW$2:$BE$9,5,FALSE))","v":""},{"$f":"IF(ISERROR(HLOOKUP($BR47,補助!$AW$2:$BE$9,5,FALSE))=TRUE,\"\",HLOOKUP($BR47,補助!$AW$2:$BE$9,5,FALSE))","v":""},{"$f":"IF(ISERROR(HLOOKUP($BS47,補助!$AW$2:$BE$9,5,FALSE))=TRUE,\"\",HLOOKUP($BS47,補助!$AW$2:$BE$9,5,FALSE))","v":""},{"$f":"IF(ISERROR(HLOOKUP($BT47,補助!$AW$2:$BE$9,5,FALSE))=TRUE,\"\",HLOOKUP($BT47,補助!$AW$2:$BE$9,5,FALSE))","v":""},{"$f":"IF(ISERROR(HLOOKUP($BU47,補助!$AW$2:$BE$9,5,FALSE))=TRUE,\"\",HLOOKUP($BU47,補助!$AW$2:$BE$9,5,FALSE))","v":""},{"$f":"IF(ISERROR(HLOOKUP($BV47,補助!$AW$2:$BE$9,5,FALSE))=TRUE,\"\",HLOOKUP($BV47,補助!$AW$2:$BE$9,5,FALSE))","v":""},{"$f":"IF(ISERROR(HLOOKUP($BW47,補助!$AW$2:$BE$9,5,FALSE))=TRUE,\"\",HLOOKUP($BW47,補助!$AW$2:$BE$9,5,FALSE))","v":1},{"$f":"IF(ISERROR(HLOOKUP($BX47,補助!$AW$2:$BE$9,5,FALSE))=TRUE,\"\",HLOOKUP($BX47,補助!$AW$2:$BE$9,5,FALSE))","v":8},{"$f":"IF(ISERROR(HLOOKUP($BY47,補助!$AW$2:$BE$9,5,FALSE))=TRUE,\"\",HLOOKUP($BY47,補助!$AW$2:$BE$9,5,FALSE))","v":6},{"$f":"IF(ISERROR(HLOOKUP($BZ47,補助!$AW$2:$BE$9,5,FALSE))=TRUE,\"\",HLOOKUP($BZ47,補助!$AW$2:$BE$9,5,FALSE))","v":9},"186"]
[null,null,null,null,null,null,null,null,null,null,null,null,null,null,null,null,null,null,null,null,null,null,null,null,null,null,null,null,null,null,null,null,null,null,null,null,null,null,null,null,null,null,null,null,null,null,null,null,null,null,null,null,null,null,null,null,null,null,null,null,null,null,null,null,null,null,null,null,null,null,null,{"$error":"#VALUE!"},"B1",null,{"$f":"IF(ISERROR(HLOOKUP($BP48,補助!$AW$2:$BE$9,5,FALSE))=TRUE,\"\",HLOOKUP($BP48,補助!$AW$2:$BE$9,5,FALSE))","v":""},{"$f":"IF(ISERROR(HLOOKUP($BQ48,補助!$AW$2:$BE$9,5,FALSE))=TRUE,\"\",HLOOKUP($BQ48,補助!$AW$2:$BE$9,5,FALSE))","v":""},{"$f":"IF(ISERROR(HLOOKUP($BR48,補助!$AW$2:$BE$9,5,FALSE))=TRUE,\"\",HLOOKUP($BR48,補助!$AW$2:$BE$9,5,FALSE))","v":""},{"$f":"IF(ISERROR(HLOOKUP($BS48,補助!$AW$2:$BE$9,5,FALSE))=TRUE,\"\",HLOOKUP($BS48,補助!$AW$2:$BE$9,5,FALSE))","v":""},{"$f":"IF(ISERROR(HLOOKUP($BT48,補助!$AW$2:$BE$9,5,FALSE))=TRUE,\"\",HLOOKUP($BT48,補助!$AW$2:$BE$9,5,FALSE))","v":""},{"$f":"IF(ISERROR(HLOOKUP($BU48,補助!$AW$2:$BE$9,5,FALSE))=TRUE,\"\",HLOOKUP($BU48,補助!$AW$2:$BE$9,5,FALSE))","v":""},{"$f":"IF(ISERROR(HLOOKUP($BV48,補助!$AW$2:$BE$9,5,FALSE))=TRUE,\"\",HLOOKUP($BV48,補助!$AW$2:$BE$9,5,FALSE))","v":""},{"$f":"IF(ISERROR(HLOOKUP($BW48,補助!$AW$2:$BE$9,5,FALSE))=TRUE,\"\",HLOOKUP($BW48,補助!$AW$2:$BE$9,5,FALSE))","v":1},{"$f":"IF(ISERROR(HLOOKUP($BX48,補助!$AW$2:$BE$9,5,FALSE))=TRUE,\"\",HLOOKUP($BX48,補助!$AW$2:$BE$9,5,FALSE))","v":9},{"$f":"IF(ISERROR(HLOOKUP($BY48,補助!$AW$2:$BE$9,5,FALSE))=TRUE,\"\",HLOOKUP($BY48,補助!$AW$2:$BE$9,5,FALSE))","v":7},{"$f":"IF(ISERROR(HLOOKUP($BZ48,補助!$AW$2:$BE$9,5,FALSE))=TRUE,\"\",HLOOKUP($BZ48,補助!$AW$2:$BE$9,5,FALSE))","v":""},"197"]
[null,null,null,null,null,null,null,null,null,null,null,null,null,null,null,null,null,null,null,null,null,null,null,null,null,null,null,null,null,null,null,null,null,null,null,null,null,null,null,null,null,null,null,null,null,null,null,null,null,null,null,null,null,null,null,null,null,null,null,null,null,null,null,null,null,null,null,null,null,null,null,{"$error":"#VALUE!"},"B1",null,{"$f":"IF(ISERROR(HLOOKUP($BP49,補助!$AW$2:$BE$9,5,FALSE))=TRUE,\"\",HLOOKUP($BP49,補助!$AW$2:$BE$9,5,FALSE))","v":""},{"$f":"IF(ISERROR(HLOOKUP($BQ49,補助!$AW$2:$BE$9,5,FALSE))=TRUE,\"\",HLOOKUP($BQ49,補助!$AW$2:$BE$9,5,FALSE))","v":""},{"$f":"IF(ISERROR(HLOOKUP($BR49,補助!$AW$2:$BE$9,5,FALSE))=TRUE,\"\",HLOOKUP($BR49,補助!$AW$2:$BE$9,5,FALSE))","v":""},{"$f":"IF(ISERROR(HLOOKUP($BS49,補助!$AW$2:$BE$9,5,FALSE))=TRUE,\"\",HLOOKUP($BS49,補助!$AW$2:$BE$9,5,FALSE))","v":""},{"$f":"IF(ISERROR(HLOOKUP($BT49,補助!$AW$2:$BE$9,5,FALSE))=TRUE,\"\",HLOOKUP($BT49,補助!$AW$2:$BE$9,5,FALSE))","v":""},{"$f":"IF(ISERROR(HLOOKUP($BU49,補助!$AW$2:$BE$9,5,FALSE))=TRUE,\"\",HLOOKUP($BU49,補助!$AW$2:$BE$9,5,FALSE))","v":""},{"$f":"IF(ISERROR(HLOOKUP($BV49,補助!$AW$2:$BE$9,5,FALSE))=TRUE,\"\",HLOOKUP($BV49,補助!$AW$2:$BE$9,5,FALSE))","v":""},{"$f":"IF(ISERROR(HLOOKUP($BW49,補助!$AW$2:$BE$9,5,FALSE))=TRUE,\"\",HLOOKUP($BW49,補助!$AW$2:$BE$9,5,FALSE))","v":1},{"$f":"IF(ISERROR(HLOOKUP($BX49,補助!$AW$2:$BE$9,5,FALSE))=TRUE,\"\",HLOOKUP($BX49,補助!$AW$2:$BE$9,5,FALSE))","v":9},{"$f":"IF(ISERROR(HLOOKUP($BY49,補助!$AW$2:$BE$9,5,FALSE))=TRUE,\"\",HLOOKUP($BY49,補助!$AW$2:$BE$9,5,FALSE))","v":3},{"$f":"IF(ISERROR(HLOOKUP($BZ49,補助!$AW$2:$BE$9,5,FALSE))=TRUE,\"\",HLOOKUP($BZ49,補助!$AW$2:$BE$9,5,FALSE))","v":""},"193"]
[null,null,null,null,null,null,null,null,null,null,null,null,null,null,null,null,null,null,null,null,null,null,null,null,null,null,null,null,null,null,null,null,null,null,null,null,null,null,null,null,null,null,null,null,null,null,null,null,null,null,null,null,null,null,null,null,null,null,null,null,null,null,null,null,null,null,null,null,null,null,null,{"$error":"#VALUE!"},"B1","白",{"$f":"IF(ISERROR(HLOOKUP($BP50,補助!$AW$2:$BE$9,5,FALSE))=TRUE,\"\",HLOOKUP($BP50,補助!$AW$2:$BE$9,5,FALSE))","v":""},{"$f":"IF(ISERROR(HLOOKUP($BQ50,補助!$AW$2:$BE$9,5,FALSE))=TRUE,\"\",HLOOKUP($BQ50,補助!$AW$2:$BE$9,5,FALSE))","v":""},{"$f":"IF(ISERROR(HLOOKUP($BR50,補助!$AW$2:$BE$9,5,FALSE))=TRUE,\"\",HLOOKUP($BR50,補助!$AW$2:$BE$9,5,FALSE))","v":""},{"$f":"IF(ISERROR(HLOOKUP($BS50,補助!$AW$2:$BE$9,5,FALSE))=TRUE,\"\",HLOOKUP($BS50,補助!$AW$2:$BE$9,5,FALSE))","v":""},{"$f":"IF(ISERROR(HLOOKUP($BT50,補助!$AW$2:$BE$9,5,FALSE))=TRUE,\"\",HLOOKUP($BT50,補助!$AW$2:$BE$9,5,FALSE))","v":""},{"$f":"IF(ISERROR(HLOOKUP($BU50,補助!$AW$2:$BE$9,5,FALSE))=TRUE,\"\",HLOOKUP($BU50,補助!$AW$2:$BE$9,5,FALSE))","v":""},{"$f":"IF(ISERROR(HLOOKUP($BV50,補助!$AW$2:$BE$9,5,FALSE))=TRUE,\"\",HLOOKUP($BV50,補助!$AW$2:$BE$9,5,FALSE))","v":""},{"$f":"IF(ISERROR(HLOOKUP($BW50,補助!$AW$2:$BE$9,5,FALSE))=TRUE,\"\",HLOOKUP($BW50,補助!$AW$2:$BE$9,5,FALSE))","v":1},{"$f":"IF(ISERROR(HLOOKUP($BX50,補助!$AW$2:$BE$9,5,FALSE))=TRUE,\"\",HLOOKUP($BX50,補助!$AW$2:$BE$9,5,FALSE))","v":9},{"$f":"IF(ISERROR(HLOOKUP($BY50,補助!$AW$2:$BE$9,5,FALSE))=TRUE,\"\",HLOOKUP($BY50,補助!$AW$2:$BE$9,5,FALSE))","v":4},{"$f":"IF(ISERROR(HLOOKUP($BZ50,補助!$AW$2:$BE$9,5,FALSE))=TRUE,\"\",HLOOKUP($BZ50,補助!$AW$2:$BE$9,5,FALSE))","v":""},"194"]
[null,null,null,null,null,null,null,null,null,null,null,null,null,null,null,null,null,null,null,null,null,null,null,null,null,null,null,null,null,null,null,null,null,null,null,null,null,null,null,null,null,null,null,null,null,null,null,null,null,null,null,null,null,null,null,null,null,null,null,null,null,null,null,null,null,null,null,null,null,null,null,{"$error":"#VALUE!"},"B1","白",{"$f":"IF(ISERROR(HLOOKUP($BP51,補助!$AW$2:$BE$9,5,FALSE))=TRUE,\"\",HLOOKUP($BP51,補助!$AW$2:$BE$9,5,FALSE))","v":""},{"$f":"IF(ISERROR(HLOOKUP($BQ51,補助!$AW$2:$BE$9,5,FALSE))=TRUE,\"\",HLOOKUP($BQ51,補助!$AW$2:$BE$9,5,FALSE))","v":""},{"$f":"IF(ISERROR(HLOOKUP($BR51,補助!$AW$2:$BE$9,5,FALSE))=TRUE,\"\",HLOOKUP($BR51,補助!$AW$2:$BE$9,5,FALSE))","v":""},{"$f":"IF(ISERROR(HLOOKUP($BS51,補助!$AW$2:$BE$9,5,FALSE))=TRUE,\"\",HLOOKUP($BS51,補助!$AW$2:$BE$9,5,FALSE))","v":""},{"$f":"IF(ISERROR(HLOOKUP($BT51,補助!$AW$2:$BE$9,5,FALSE))=TRUE,\"\",HLOOKUP($BT51,補助!$AW$2:$BE$9,5,FALSE))","v":""},{"$f":"IF(ISERROR(HLOOKUP($BU51,補助!$AW$2:$BE$9,5,FALSE))=TRUE,\"\",HLOOKUP($BU51,補助!$AW$2:$BE$9,5,FALSE))","v":""},{"$f":"IF(ISERROR(HLOOKUP($BV51,補助!$AW$2:$BE$9,5,FALSE))=TRUE,\"\",HLOOKUP($BV51,補助!$AW$2:$BE$9,5,FALSE))","v":""},{"$f":"IF(ISERROR(HLOOKUP($BW51,補助!$AW$2:$BE$9,5,FALSE))=TRUE,\"\",HLOOKUP($BW51,補助!$AW$2:$BE$9,5,FALSE))","v":1},{"$f":"IF(ISERROR(HLOOKUP($BX51,補助!$AW$2:$BE$9,5,FALSE))=TRUE,\"\",HLOOKUP($BX51,補助!$AW$2:$BE$9,5,FALSE))","v":9},{"$f":"IF(ISERROR(HLOOKUP($BY51,補助!$AW$2:$BE$9,5,FALSE))=TRUE,\"\",HLOOKUP($BY51,補助!$AW$2:$BE$9,5,FALSE))","v":2},{"$f":"IF(ISERROR(HLOOKUP($BZ51,補助!$AW$2:$BE$9,5,FALSE))=TRUE,\"\",HLOOKUP($BZ51,補助!$AW$2:$BE$9,5,FALSE))","v":""},"192"]
[null,null,null,null,null,null,null,null,null,null,null,null,null,null,null,null,null,null,null,null,null,null,null,null,null,null,null,null,null,null,null,null,null,null,null,null,null,null,null,null,null,null,null,null,null,null,null,null,null,null,null,null,null,null,null,null,null,null,null,null,null,null,null,null,null,null,null,null,null,null,null,{"$error":"#VALUE!"},"B1",null,{"$f":"IF(ISERROR(HLOOKUP($BP52,補助!$AW$2:$BE$9,5,FALSE))=TRUE,\"\",HLOOKUP($BP52,補助!$AW$2:$BE$9,5,FALSE))","v":""},{"$f":"IF(ISERROR(HLOOKUP($BQ52,補助!$AW$2:$BE$9,5,FALSE))=TRUE,\"\",HLOOKUP($BQ52,補助!$AW$2:$BE$9,5,FALSE))","v":""},{"$f":"IF(ISERROR(HLOOKUP($BR52,補助!$AW$2:$BE$9,5,FALSE))=TRUE,\"\",HLOOKUP($BR52,補助!$AW$2:$BE$9,5,FALSE))","v":""},{"$f":"IF(ISERROR(HLOOKUP($BS52,補助!$AW$2:$BE$9,5,FALSE))=TRUE,\"\",HLOOKUP($BS52,補助!$AW$2:$BE$9,5,FALSE))","v":""},{"$f":"IF(ISERROR(HLOOKUP($BT52,補助!$AW$2:$BE$9,5,FALSE))=TRUE,\"\",HLOOKUP($BT52,補助!$AW$2:$BE$9,5,FALSE))","v":""},{"$f":"IF(ISERROR(HLOOKUP($BU52,補助!$AW$2:$BE$9,5,FALSE))=TRUE,\"\",HLOOKUP($BU52,補助!$AW$2:$BE$9,5,FALSE))","v":""},{"$f":"IF(ISERROR(HLOOKUP($BV52,補助!$AW$2:$BE$9,5,FALSE))=TRUE,\"\",HLOOKUP($BV52,補助!$AW$2:$BE$9,5,FALSE))","v":""},{"$f":"IF(ISERROR(HLOOKUP($BW52,補助!$AW$2:$BE$9,5,FALSE))=TRUE,\"\",HLOOKUP($BW52,補助!$AW$2:$BE$9,5,FALSE))","v":4},{"$f":"IF(ISERROR(HLOOKUP($BX52,補助!$AW$2:$BE$9,5,FALSE))=TRUE,\"\",HLOOKUP($BX52,補助!$AW$2:$BE$9,5,FALSE))","v":2},{"$f":"IF(ISERROR(HLOOKUP($BY52,補助!$AW$2:$BE$9,5,FALSE))=TRUE,\"\",HLOOKUP($BY52,補助!$AW$2:$BE$9,5,FALSE))","v":5},{"$f":"IF(ISERROR(HLOOKUP($BZ52,補助!$AW$2:$BE$9,5,FALSE))=TRUE,\"\",HLOOKUP($BZ52,補助!$AW$2:$BE$9,5,FALSE))","v":""},"425"]
[null,null,null,null,null,null,null,null,null,null,null,null,null,null,null,null,null,null,null,null,null,null,null,null,null,null,null,null,null,null,null,null,null,null,null,null,null,null,null,null,null,null,null,null,null,null,null,null,null,null,null,null,null,null,null,null,null,null,null,null,null,null,null,null,null,null,null,null,null,null,null,{"$error":"#VALUE!"},"B1",null,{"$f":"IF(ISERROR(HLOOKUP($BP53,補助!$AW$2:$BE$9,5,FALSE))=TRUE,\"\",HLOOKUP($BP53,補助!$AW$2:$BE$9,5,FALSE))","v":""},{"$f":"IF(ISERROR(HLOOKUP($BQ53,補助!$AW$2:$BE$9,5,FALSE))=TRUE,\"\",HLOOKUP($BQ53,補助!$AW$2:$BE$9,5,FALSE))","v":""},{"$f":"IF(ISERROR(HLOOKUP($BR53,補助!$AW$2:$BE$9,5,FALSE))=TRUE,\"\",HLOOKUP($BR53,補助!$AW$2:$BE$9,5,FALSE))","v":""},{"$f":"IF(ISERROR(HLOOKUP($BS53,補助!$AW$2:$BE$9,5,FALSE))=TRUE,\"\",HLOOKUP($BS53,補助!$AW$2:$BE$9,5,FALSE))","v":""},{"$f":"IF(ISERROR(HLOOKUP($BT53,補助!$AW$2:$BE$9,5,FALSE))=TRUE,\"\",HLOOKUP($BT53,補助!$AW$2:$BE$9,5,FALSE))","v":""},{"$f":"IF(ISERROR(HLOOKUP($BU53,補助!$AW$2:$BE$9,5,FALSE))=TRUE,\"\",HLOOKUP($BU53,補助!$AW$2:$BE$9,5,FALSE))","v":""},{"$f":"IF(ISERROR(HLOOKUP($BV53,補助!$AW$2:$BE$9,5,FALSE))=TRUE,\"\",HLOOKUP($BV53,補助!$AW$2:$BE$9,5,FALSE))","v":""},{"$f":"IF(ISERROR(HLOOKUP($BW53,補助!$AW$2:$BE$9,5,FALSE))=TRUE,\"\",HLOOKUP($BW53,補助!$AW$2:$BE$9,5,FALSE))","v":4},{"$f":"IF(ISERROR(HLOOKUP($BX53,補助!$AW$2:$BE$9,5,FALSE))=TRUE,\"\",HLOOKUP($BX53,補助!$AW$2:$BE$9,5,FALSE))","v":8},{"$f":"IF(ISERROR(HLOOKUP($BY53,補助!$AW$2:$BE$9,5,FALSE))=TRUE,\"\",HLOOKUP($BY53,補助!$AW$2:$BE$9,5,FALSE))","v":5},{"$f":"IF(ISERROR(HLOOKUP($BZ53,補助!$AW$2:$BE$9,5,FALSE))=TRUE,\"\",HLOOKUP($BZ53,補助!$AW$2:$BE$9,5,FALSE))","v":""},"485"]
[null,null,null,null,null,null,null,null,null,null,null,null,null,null,null,null,null,null,null,null,null,null,null,null,null,null,null,null,null,null,null,null,null,null,null,null,null,null,null,null,null,null,null,null,null,null,null,null,null,null,null,null,null,null,null,null,null,null,null,null,null,null,null,null,null,null,null,null,null,null,null,{"$error":"#VALUE!"},"B1",null,{"$f":"IF(ISERROR(HLOOKUP($BP54,補助!$AW$2:$BE$9,5,FALSE))=TRUE,\"\",HLOOKUP($BP54,補助!$AW$2:$BE$9,5,FALSE))","v":""},{"$f":"IF(ISERROR(HLOOKUP($BQ54,補助!$AW$2:$BE$9,5,FALSE))=TRUE,\"\",HLOOKUP($BQ54,補助!$AW$2:$BE$9,5,FALSE))","v":""},{"$f":"IF(ISERROR(HLOOKUP($BR54,補助!$AW$2:$BE$9,5,FALSE))=TRUE,\"\",HLOOKUP($BR54,補助!$AW$2:$BE$9,5,FALSE))","v":""},{"$f":"IF(ISERROR(HLOOKUP($BS54,補助!$AW$2:$BE$9,5,FALSE))=TRUE,\"\",HLOOKUP($BS54,補助!$AW$2:$BE$9,5,FALSE))","v":""},{"$f":"IF(ISERROR(HLOOKUP($BT54,補助!$AW$2:$BE$9,5,FALSE))=TRUE,\"\",HLOOKUP($BT54,補助!$AW$2:$BE$9,5,FALSE))","v":""},{"$f":"IF(ISERROR(HLOOKUP($BU54,補助!$AW$2:$BE$9,5,FALSE))=TRUE,\"\",HLOOKUP($BU54,補助!$AW$2:$BE$9,5,FALSE))","v":""},{"$f":"IF(ISERROR(HLOOKUP($BV54,補助!$AW$2:$BE$9,5,FALSE))=TRUE,\"\",HLOOKUP($BV54,補助!$AW$2:$BE$9,5,FALSE))","v":""},{"$f":"IF(ISERROR(HLOOKUP($BW54,補助!$AW$2:$BE$9,5,FALSE))=TRUE,\"\",HLOOKUP($BW54,補助!$AW$2:$BE$9,5,FALSE))","v":4},{"$f":"IF(ISERROR(HLOOKUP($BX54,補助!$AW$2:$BE$9,5,FALSE))=TRUE,\"\",HLOOKUP($BX54,補助!$AW$2:$BE$9,5,FALSE))","v":3},{"$f":"IF(ISERROR(HLOOKUP($BY54,補助!$AW$2:$BE$9,5,FALSE))=TRUE,\"\",HLOOKUP($BY54,補助!$AW$2:$BE$9,5,FALSE))","v":1},{"$f":"IF(ISERROR(HLOOKUP($BZ54,補助!$AW$2:$BE$9,5,FALSE))=TRUE,\"\",HLOOKUP($BZ54,補助!$AW$2:$BE$9,5,FALSE))","v":""},"431"]
[null,null,null,null,null,null,null,null,null,null,null,null,null,null,null,null,null,null,null,null,null,null,null,null,null,null,null,null,null,null,null,null,null,null,null,null,null,null,null,null,null,null,null,null,null,null,null,null,null,null,null,null,null,null,null,null,null,null,null,null,null,null,null,null,null,null,null,null,null,null,null,{"$error":"#VALUE!"},"B1",null,{"$f":"IF(ISERROR(HLOOKUP($BP55,補助!$AW$2:$BE$9,5,FALSE))=TRUE,\"\",HLOOKUP($BP55,補助!$AW$2:$BE$9,5,FALSE))","v":""},{"$f":"IF(ISERROR(HLOOKUP($BQ55,補助!$AW$2:$BE$9,5,FALSE))=TRUE,\"\",HLOOKUP($BQ55,補助!$AW$2:$BE$9,5,FALSE))","v":""},{"$f":"IF(ISERROR(HLOOKUP($BR55,補助!$AW$2:$BE$9,5,FALSE))=TRUE,\"\",HLOOKUP($BR55,補助!$AW$2:$BE$9,5,FALSE))","v":""},{"$f":"IF(ISERROR(HLOOKUP($BS55,補助!$AW$2:$BE$9,5,FALSE))=TRUE,\"\",HLOOKUP($BS55,補助!$AW$2:$BE$9,5,FALSE))","v":""},{"$f":"IF(ISERROR(HLOOKUP($BT55,補助!$AW$2:$BE$9,5,FALSE))=TRUE,\"\",HLOOKUP($BT55,補助!$AW$2:$BE$9,5,FALSE))","v":""},{"$f":"IF(ISERROR(HLOOKUP($BU55,補助!$AW$2:$BE$9,5,FALSE))=TRUE,\"\",HLOOKUP($BU55,補助!$AW$2:$BE$9,5,FALSE))","v":""},{"$f":"IF(ISERROR(HLOOKUP($BV55,補助!$AW$2:$BE$9,5,FALSE))=TRUE,\"\",HLOOKUP($BV55,補助!$AW$2:$BE$9,5,FALSE))","v":""},{"$f":"IF(ISERROR(HLOOKUP($BW55,補助!$AW$2:$BE$9,5,FALSE))=TRUE,\"\",HLOOKUP($BW55,補助!$AW$2:$BE$9,5,FALSE))","v":4},{"$f":"IF(ISERROR(HLOOKUP($BX55,補助!$AW$2:$BE$9,5,FALSE))=TRUE,\"\",HLOOKUP($BX55,補助!$AW$2:$BE$9,5,FALSE))","v":9},{"$f":"IF(ISERROR(HLOOKUP($BY55,補助!$AW$2:$BE$9,5,FALSE))=TRUE,\"\",HLOOKUP($BY55,補助!$AW$2:$BE$9,5,FALSE))","v":7},{"$f":"IF(ISERROR(HLOOKUP($BZ55,補助!$AW$2:$BE$9,5,FALSE))=TRUE,\"\",HLOOKUP($BZ55,補助!$AW$2:$BE$9,5,FALSE))","v":""},"497"]
[null,null,null,null,null,null,null,null,null,null,null,null,null,null,null,null,null,null,null,null,null,null,null,null,null,null,null,null,null,null,null,null,null,null,null,null,null,null,null,null,null,null,null,null,null,null,null,null,null,null,null,null,null,null,null,null,null,null,null,null,null,null,null,null,null,null,null,null,null,null,null,{"$error":"#VALUE!"},"B1",null,{"$f":"IF(ISERROR(HLOOKUP($BP56,補助!$AW$2:$BE$9,5,FALSE))=TRUE,\"\",HLOOKUP($BP56,補助!$AW$2:$BE$9,5,FALSE))","v":""},{"$f":"IF(ISERROR(HLOOKUP($BQ56,補助!$AW$2:$BE$9,5,FALSE))=TRUE,\"\",HLOOKUP($BQ56,補助!$AW$2:$BE$9,5,FALSE))","v":""},{"$f":"IF(ISERROR(HLOOKUP($BR56,補助!$AW$2:$BE$9,5,FALSE))=TRUE,\"\",HLOOKUP($BR56,補助!$AW$2:$BE$9,5,FALSE))","v":""},{"$f":"IF(ISERROR(HLOOKUP($BS56,補助!$AW$2:$BE$9,5,FALSE))=TRUE,\"\",HLOOKUP($BS56,補助!$AW$2:$BE$9,5,FALSE))","v":""},{"$f":"IF(ISERROR(HLOOKUP($BT56,補助!$AW$2:$BE$9,5,FALSE))=TRUE,\"\",HLOOKUP($BT56,補助!$AW$2:$BE$9,5,FALSE))","v":""},{"$f":"IF(ISERROR(HLOOKUP($BU56,補助!$AW$2:$BE$9,5,FALSE))=TRUE,\"\",HLOOKUP($BU56,補助!$AW$2:$BE$9,5,FALSE))","v":""},{"$f":"IF(ISERROR(HLOOKUP($BV56,補助!$AW$2:$BE$9,5,FALSE))=TRUE,\"\",HLOOKUP($BV56,補助!$AW$2:$BE$9,5,FALSE))","v":""},{"$f":"IF(ISERROR(HLOOKUP($BW56,補助!$AW$2:$BE$9,5,FALSE))=TRUE,\"\",HLOOKUP($BW56,補助!$AW$2:$BE$9,5,FALSE))","v":5},{"$f":"IF(ISERROR(HLOOKUP($BX56,補助!$AW$2:$BE$9,5,FALSE))=TRUE,\"\",HLOOKUP($BX56,補助!$AW$2:$BE$9,5,FALSE))","v":4},{"$f":"IF(ISERROR(HLOOKUP($BY56,補助!$AW$2:$BE$9,5,FALSE))=TRUE,\"\",HLOOKUP($BY56,補助!$AW$2:$BE$9,5,FALSE))","v":7},{"$f":"IF(ISERROR(HLOOKUP($BZ56,補助!$AW$2:$BE$9,5,FALSE))=TRUE,\"\",HLOOKUP($BZ56,補助!$AW$2:$BE$9,5,FALSE))","v":""},"547"]
[null,null,null,null,null,null,null,null,null,null,null,null,null,null,null,null,null,null,null,null,null,null,null,null,null,null,null,null,null,null,null,null,null,null,null,null,null,null,null,null,null,null,null,null,null,null,null,null,null,null,null,null,null,null,null,null,null,null,null,null,null,null,null,null,null,null,null,null,null,null,null,{"$error":"#VALUE!"},"B1",null,{"$f":"IF(ISERROR(HLOOKUP($BP57,補助!$AW$2:$BE$9,5,FALSE))=TRUE,\"\",HLOOKUP($BP57,補助!$AW$2:$BE$9,5,FALSE))","v":""},{"$f":"IF(ISERROR(HLOOKUP($BQ57,補助!$AW$2:$BE$9,5,FALSE))=TRUE,\"\",HLOOKUP($BQ57,補助!$AW$2:$BE$9,5,FALSE))","v":""},{"$f":"IF(ISERROR(HLOOKUP($BR57,補助!$AW$2:$BE$9,5,FALSE))=TRUE,\"\",HLOOKUP($BR57,補助!$AW$2:$BE$9,5,FALSE))","v":""},{"$f":"IF(ISERROR(HLOOKUP($BS57,補助!$AW$2:$BE$9,5,FALSE))=TRUE,\"\",HLOOKUP($BS57,補助!$AW$2:$BE$9,5,FALSE))","v":""},{"$f":"IF(ISERROR(HLOOKUP($BT57,補助!$AW$2:$BE$9,5,FALSE))=TRUE,\"\",HLOOKUP($BT57,補助!$AW$2:$BE$9,5,FALSE))","v":""},{"$f":"IF(ISERROR(HLOOKUP($BU57,補助!$AW$2:$BE$9,5,FALSE))=TRUE,\"\",HLOOKUP($BU57,補助!$AW$2:$BE$9,5,FALSE))","v":""},{"$f":"IF(ISERROR(HLOOKUP($BV57,補助!$AW$2:$BE$9,5,FALSE))=TRUE,\"\",HLOOKUP($BV57,補助!$AW$2:$BE$9,5,FALSE))","v":""},{"$f":"IF(ISERROR(HLOOKUP($BW57,補助!$AW$2:$BE$9,5,FALSE))=TRUE,\"\",HLOOKUP($BW57,補助!$AW$2:$BE$9,5,FALSE))","v":5},{"$f":"IF(ISERROR(HLOOKUP($BX57,補助!$AW$2:$BE$9,5,FALSE))=TRUE,\"\",HLOOKUP($BX57,補助!$AW$2:$BE$9,5,FALSE))","v":4},{"$f":"IF(ISERROR(HLOOKUP($BY57,補助!$AW$2:$BE$9,5,FALSE))=TRUE,\"\",HLOOKUP($BY57,補助!$AW$2:$BE$9,5,FALSE))","v":1},{"$f":"IF(ISERROR(HLOOKUP($BZ57,補助!$AW$2:$BE$9,5,FALSE))=TRUE,\"\",HLOOKUP($BZ57,補助!$AW$2:$BE$9,5,FALSE))","v":""},"541"]
[null,null,null,null,null,null,null,null,null,null,null,null,null,null,null,null,null,null,null,null,null,null,null,null,null,null,null,null,null,null,null,null,null,null,null,null,null,null,null,null,null,null,null,null,null,null,null,null,null,null,null,null,null,null,null,null,null,null,null,null,null,null,null,null,null,null,null,null,null,null,null,{"$error":"#VALUE!"},"B1",null,{"$f":"IF(ISERROR(HLOOKUP($BP58,補助!$AW$2:$BE$9,5,FALSE))=TRUE,\"\",HLOOKUP($BP58,補助!$AW$2:$BE$9,5,FALSE))","v":""},{"$f":"IF(ISERROR(HLOOKUP($BQ58,補助!$AW$2:$BE$9,5,FALSE))=TRUE,\"\",HLOOKUP($BQ58,補助!$AW$2:$BE$9,5,FALSE))","v":""},{"$f":"IF(ISERROR(HLOOKUP($BR58,補助!$AW$2:$BE$9,5,FALSE))=TRUE,\"\",HLOOKUP($BR58,補助!$AW$2:$BE$9,5,FALSE))","v":""},{"$f":"IF(ISERROR(HLOOKUP($BS58,補助!$AW$2:$BE$9,5,FALSE))=TRUE,\"\",HLOOKUP($BS58,補助!$AW$2:$BE$9,5,FALSE))","v":""},{"$f":"IF(ISERROR(HLOOKUP($BT58,補助!$AW$2:$BE$9,5,FALSE))=TRUE,\"\",HLOOKUP($BT58,補助!$AW$2:$BE$9,5,FALSE))","v":""},{"$f":"IF(ISERROR(HLOOKUP($BU58,補助!$AW$2:$BE$9,5,FALSE))=TRUE,\"\",HLOOKUP($BU58,補助!$AW$2:$BE$9,5,FALSE))","v":""},{"$f":"IF(ISERROR(HLOOKUP($BV58,補助!$AW$2:$BE$9,5,FALSE))=TRUE,\"\",HLOOKUP($BV58,補助!$AW$2:$BE$9,5,FALSE))","v":""},{"$f":"IF(ISERROR(HLOOKUP($BW58,補助!$AW$2:$BE$9,5,FALSE))=TRUE,\"\",HLOOKUP($BW58,補助!$AW$2:$BE$9,5,FALSE))","v":5},{"$f":"IF(ISERROR(HLOOKUP($BX58,補助!$AW$2:$BE$9,5,FALSE))=TRUE,\"\",HLOOKUP($BX58,補助!$AW$2:$BE$9,5,FALSE))","v":4},{"$f":"IF(ISERROR(HLOOKUP($BY58,補助!$AW$2:$BE$9,5,FALSE))=TRUE,\"\",HLOOKUP($BY58,補助!$AW$2:$BE$9,5,FALSE))","v":3},{"$f":"IF(ISERROR(HLOOKUP($BZ58,補助!$AW$2:$BE$9,5,FALSE))=TRUE,\"\",HLOOKUP($BZ58,補助!$AW$2:$BE$9,5,FALSE))","v":""},"543"]
[null,null,null,null,null,null,null,null,null,null,null,null,null,null,null,null,null,null,null,null,null,null,null,null,null,null,null,null,null,null,null,null,null,null,null,null,null,null,null,null,null,null,null,null,null,null,null,null,null,null,null,null,null,null,null,null,null,null,null,null,null,null,null,null,null,null,null,null,null,null,null,{"$error":"#VALUE!"},"B1",null,{"$f":"IF(ISERROR(HLOOKUP($BP59,補助!$AW$2:$BE$9,5,FALSE))=TRUE,\"\",HLOOKUP($BP59,補助!$AW$2:$BE$9,5,FALSE))","v":""},{"$f":"IF(ISERROR(HLOOKUP($BQ59,補助!$AW$2:$BE$9,5,FALSE))=TRUE,\"\",HLOOKUP($BQ59,補助!$AW$2:$BE$9,5,FALSE))","v":""},{"$f":"IF(ISERROR(HLOOKUP($BR59,補助!$AW$2:$BE$9,5,FALSE))=TRUE,\"\",HLOOKUP($BR59,補助!$AW$2:$BE$9,5,FALSE))","v":""},{"$f":"IF(ISERROR(HLOOKUP($BS59,補助!$AW$2:$BE$9,5,FALSE))=TRUE,\"\",HLOOKUP($BS59,補助!$AW$2:$BE$9,5,FALSE))","v":""},{"$f":"IF(ISERROR(HLOOKUP($BT59,補助!$AW$2:$BE$9,5,FALSE))=TRUE,\"\",HLOOKUP($BT59,補助!$AW$2:$BE$9,5,FALSE))","v":""},{"$f":"IF(ISERROR(HLOOKUP($BU59,補助!$AW$2:$BE$9,5,FALSE))=TRUE,\"\",HLOOKUP($BU59,補助!$AW$2:$BE$9,5,FALSE))","v":""},{"$f":"IF(ISERROR(HLOOKUP($BV59,補助!$AW$2:$BE$9,5,FALSE))=TRUE,\"\",HLOOKUP($BV59,補助!$AW$2:$BE$9,5,FALSE))","v":""},{"$f":"IF(ISERROR(HLOOKUP($BW59,補助!$AW$2:$BE$9,5,FALSE))=TRUE,\"\",HLOOKUP($BW59,補助!$AW$2:$BE$9,5,FALSE))","v":5},{"$f":"IF(ISERROR(HLOOKUP($BX59,補助!$AW$2:$BE$9,5,FALSE))=TRUE,\"\",HLOOKUP($BX59,補助!$AW$2:$BE$9,5,FALSE))","v":4},{"$f":"IF(ISERROR(HLOOKUP($BY59,補助!$AW$2:$BE$9,5,FALSE))=TRUE,\"\",HLOOKUP($BY59,補助!$AW$2:$BE$9,5,FALSE))","v":9},{"$f":"IF(ISERROR(HLOOKUP($BZ59,補助!$AW$2:$BE$9,5,FALSE))=TRUE,\"\",HLOOKUP($BZ59,補助!$AW$2:$BE$9,5,FALSE))","v":""},"549"]
[null,null,null,null,null,null,null,null,null,null,null,null,null,null,null,null,null,null,null,null,null,null,null,null,null,null,null,null,null,null,null,null,null,null,null,null,null,null,null,null,null,null,null,null,null,null,null,null,null,null,null,null,null,null,null,null,null,null,null,null,null,null,null,null,null,null,null,null,null,null,null,{"$error":"#VALUE!"},"B2",null,{"$f":"IF(ISERROR(HLOOKUP($BP2,補助!$AW$2:$BE$9,6,FALSE))=TRUE,\"\",HLOOKUP($BP2,補助!$AW$2:$BE$9,6,FALSE))","v":7},{"$f":"IF(ISERROR(HLOOKUP($BQ2,補助!$AW$2:$BE$9,6,FALSE))=TRUE,\"\",HLOOKUP($BQ2,補助!$AW$2:$BE$9,6,FALSE))","v":""},{"$f":"IF(ISERROR(HLOOKUP($BR2,補助!$AW$2:$BE$9,6,FALSE))=TRUE,\"\",HLOOKUP($BR2,補助!$AW$2:$BE$9,6,FALSE))","v":""},{"$f":"IF(ISERROR(HLOOKUP($BS2,補助!$AW$2:$BE$9,6,FALSE))=TRUE,\"\",HLOOKUP($BS2,補助!$AW$2:$BE$9,6,FALSE))","v":""},{"$f":"IF(ISERROR(HLOOKUP($BT2,補助!$AW$2:$BE$9,6,FALSE))=TRUE,\"\",HLOOKUP($BT2,補助!$AW$2:$BE$9,6,FALSE))","v":""},{"$f":"IF(ISERROR(HLOOKUP($BU2,補助!$AW$2:$BE$9,6,FALSE))=TRUE,\"\",HLOOKUP($BU2,補助!$AW$2:$BE$9,6,FALSE))","v":""},{"$f":"IF(ISERROR(HLOOKUP($BV2,補助!$AW$2:$BE$9,6,FALSE))=TRUE,\"\",HLOOKUP($BV2,補助!$AW$2:$BE$9,6,FALSE))","v":""},{"$f":"IF(ISERROR(HLOOKUP($BW2,補助!$AW$2:$BE$9,6,FALSE))=TRUE,\"\",HLOOKUP($BW2,補助!$AW$2:$BE$9,6,FALSE))","v":3},{"$f":"IF(ISERROR(HLOOKUP($BX2,補助!$AW$2:$BE$9,6,FALSE))=TRUE,\"\",HLOOKUP($BX2,補助!$AW$2:$BE$9,6,FALSE))","v":2},{"$f":"IF(ISERROR(HLOOKUP($BY2,補助!$AW$2:$BE$9,6,FALSE))=TRUE,\"\",HLOOKUP($BY2,補助!$AW$2:$BE$9,6,FALSE))","v":6},{"$f":"IF(ISERROR(HLOOKUP($BZ2,補助!$AW$2:$BE$9,6,FALSE))=TRUE,\"\",HLOOKUP($BZ2,補助!$AW$2:$BE$9,6,FALSE))","v":""},"7326"]
[null,null,null,null,null,null,null,null,null,null,null,null,null,null,null,null,null,null,null,null,null,null,null,null,null,null,null,null,null,null,null,null,null,null,null,null,null,null,null,null,null,null,null,null,null,null,null,null,null,null,null,null,null,null,null,null,null,null,null,null,null,null,null,null,null,null,null,null,null,null,null,{"$error":"#VALUE!"},"B2",null,{"$f":"IF(ISERROR(HLOOKUP($BP3,補助!$AW$2:$BE$9,6,FALSE))=TRUE,\"\",HLOOKUP($BP3,補助!$AW$2:$BE$9,6,FALSE))","v":4},{"$f":"IF(ISERROR(HLOOKUP($BQ3,補助!$AW$2:$BE$9,6,FALSE))=TRUE,\"\",HLOOKUP($BQ3,補助!$AW$2:$BE$9,6,FALSE))","v":""},{"$f":"IF(ISERROR(HLOOKUP($BR3,補助!$AW$2:$BE$9,6,FALSE))=TRUE,\"\",HLOOKUP($BR3,補助!$AW$2:$BE$9,6,FALSE))","v":""},{"$f":"IF(ISERROR(HLOOKUP($BS3,補助!$AW$2:$BE$9,6,FALSE))=TRUE,\"\",HLOOKUP($BS3,補助!$AW$2:$BE$9,6,FALSE))","v":""},{"$f":"IF(ISERROR(HLOOKUP($BT3,補助!$AW$2:$BE$9,6,FALSE))=TRUE,\"\",HLOOKUP($BT3,補助!$AW$2:$BE$9,6,FALSE))","v":""},{"$f":"IF(ISERROR(HLOOKUP($BU3,補助!$AW$2:$BE$9,6,FALSE))=TRUE,\"\",HLOOKUP($BU3,補助!$AW$2:$BE$9,6,FALSE))","v":""},{"$f":"IF(ISERROR(HLOOKUP($BV3,補助!$AW$2:$BE$9,6,FALSE))=TRUE,\"\",HLOOKUP($BV3,補助!$AW$2:$BE$9,6,FALSE))","v":""},{"$f":"IF(ISERROR(HLOOKUP($BW3,補助!$AW$2:$BE$9,6,FALSE))=TRUE,\"\",HLOOKUP($BW3,補助!$AW$2:$BE$9,6,FALSE))","v":3},{"$f":"IF(ISERROR(HLOOKUP($BX3,補助!$AW$2:$BE$9,6,FALSE))=TRUE,\"\",HLOOKUP($BX3,補助!$AW$2:$BE$9,6,FALSE))","v":2},{"$f":"IF(ISERROR(HLOOKUP($BY3,補助!$AW$2:$BE$9,6,FALSE))=TRUE,\"\",HLOOKUP($BY3,補助!$AW$2:$BE$9,6,FALSE))","v":5},{"$f":"IF(ISERROR(HLOOKUP($BZ3,補助!$AW$2:$BE$9,6,FALSE))=TRUE,\"\",HLOOKUP($BZ3,補助!$AW$2:$BE$9,6,FALSE))","v":""},"4325"]
[null,null,null,null,null,null,null,null,null,null,null,null,null,null,null,null,null,null,null,null,null,null,null,null,null,null,null,null,null,null,null,null,null,null,null,null,null,null,null,null,null,null,null,null,null,null,null,null,null,null,null,null,null,null,null,null,null,null,null,null,null,null,null,null,null,null,null,null,null,null,null,{"$error":"#VALUE!"},"B2",null,{"$f":"IF(ISERROR(HLOOKUP($BP4,補助!$AW$2:$BE$9,6,FALSE))=TRUE,\"\",HLOOKUP($BP4,補助!$AW$2:$BE$9,6,FALSE))","v":1},{"$f":"IF(ISERROR(HLOOKUP($BQ4,補助!$AW$2:$BE$9,6,FALSE))=TRUE,\"\",HLOOKUP($BQ4,補助!$AW$2:$BE$9,6,FALSE))","v":""},{"$f":"IF(ISERROR(HLOOKUP($BR4,補助!$AW$2:$BE$9,6,FALSE))=TRUE,\"\",HLOOKUP($BR4,補助!$AW$2:$BE$9,6,FALSE))","v":""},{"$f":"IF(ISERROR(HLOOKUP($BS4,補助!$AW$2:$BE$9,6,FALSE))=TRUE,\"\",HLOOKUP($BS4,補助!$AW$2:$BE$9,6,FALSE))","v":""},{"$f":"IF(ISERROR(HLOOKUP($BT4,補助!$AW$2:$BE$9,6,FALSE))=TRUE,\"\",HLOOKUP($BT4,補助!$AW$2:$BE$9,6,FALSE))","v":""},{"$f":"IF(ISERROR(HLOOKUP($BU4,補助!$AW$2:$BE$9,6,FALSE))=TRUE,\"\",HLOOKUP($BU4,補助!$AW$2:$BE$9,6,FALSE))","v":""},{"$f":"IF(ISERROR(HLOOKUP($BV4,補助!$AW$2:$BE$9,6,FALSE))=TRUE,\"\",HLOOKUP($BV4,補助!$AW$2:$BE$9,6,FALSE))","v":""},{"$f":"IF(ISERROR(HLOOKUP($BW4,補助!$AW$2:$BE$9,6,FALSE))=TRUE,\"\",HLOOKUP($BW4,補助!$AW$2:$BE$9,6,FALSE))","v":3},{"$f":"IF(ISERROR(HLOOKUP($BX4,補助!$AW$2:$BE$9,6,FALSE))=TRUE,\"\",HLOOKUP($BX4,補助!$AW$2:$BE$9,6,FALSE))","v":2},{"$f":"IF(ISERROR(HLOOKUP($BY4,補助!$AW$2:$BE$9,6,FALSE))=TRUE,\"\",HLOOKUP($BY4,補助!$AW$2:$BE$9,6,FALSE))","v":9},{"$f":"IF(ISERROR(HLOOKUP($BZ4,補助!$AW$2:$BE$9,6,FALSE))=TRUE,\"\",HLOOKUP($BZ4,補助!$AW$2:$BE$9,6,FALSE))","v":""},"1329"]
[null,null,null,null,null,null,null,null,null,null,null,null,null,null,null,null,null,null,null,null,null,null,null,null,null,null,null,null,null,null,null,null,null,null,null,null,null,null,null,null,null,null,null,null,null,null,null,null,null,null,null,null,null,null,null,null,null,null,null,null,null,null,null,null,null,null,null,null,null,null,null,{"$error":"#VALUE!"},"B2",null,{"$f":"IF(ISERROR(HLOOKUP($BP5,補助!$AW$2:$BE$9,6,FALSE))=TRUE,\"\",HLOOKUP($BP5,補助!$AW$2:$BE$9,6,FALSE))","v":""},{"$f":"IF(ISERROR(HLOOKUP($BQ5,補助!$AW$2:$BE$9,6,FALSE))=TRUE,\"\",HLOOKUP($BQ5,補助!$AW$2:$BE$9,6,FALSE))","v":""},{"$f":"IF(ISERROR(HLOOKUP($BR5,補助!$AW$2:$BE$9,6,FALSE))=TRUE,\"\",HLOOKUP($BR5,補助!$AW$2:$BE$9,6,FALSE))","v":""},{"$f":"IF(ISERROR(HLOOKUP($BS5,補助!$AW$2:$BE$9,6,FALSE))=TRUE,\"\",HLOOKUP($BS5,補助!$AW$2:$BE$9,6,FALSE))","v":""},{"$f":"IF(ISERROR(HLOOKUP($BT5,補助!$AW$2:$BE$9,6,FALSE))=TRUE,\"\",HLOOKUP($BT5,補助!$AW$2:$BE$9,6,FALSE))","v":""},{"$f":"IF(ISERROR(HLOOKUP($BU5,補助!$AW$2:$BE$9,6,FALSE))=TRUE,\"\",HLOOKUP($BU5,補助!$AW$2:$BE$9,6,FALSE))","v":""},{"$f":"IF(ISERROR(HLOOKUP($BV5,補助!$AW$2:$BE$9,6,FALSE))=TRUE,\"\",HLOOKUP($BV5,補助!$AW$2:$BE$9,6,FALSE))","v":""},{"$f":"IF(ISERROR(HLOOKUP($BW5,補助!$AW$2:$BE$9,6,FALSE))=TRUE,\"\",HLOOKUP($BW5,補助!$AW$2:$BE$9,6,FALSE))","v":3},{"$f":"IF(ISERROR(HLOOKUP($BX5,補助!$AW$2:$BE$9,6,FALSE))=TRUE,\"\",HLOOKUP($BX5,補助!$AW$2:$BE$9,6,FALSE))","v":2},{"$f":"IF(ISERROR(HLOOKUP($BY5,補助!$AW$2:$BE$9,6,FALSE))=TRUE,\"\",HLOOKUP($BY5,補助!$AW$2:$BE$9,6,FALSE))","v":1},{"$f":"IF(ISERROR(HLOOKUP($BZ5,補助!$AW$2:$BE$9,6,FALSE))=TRUE,\"\",HLOOKUP($BZ5,補助!$AW$2:$BE$9,6,FALSE))","v":6},"321"]
[null,null,null,null,null,null,null,null,null,null,null,null,null,null,null,null,null,null,null,null,null,null,null,null,null,null,null,null,null,null,null,null,null,null,null,null,null,null,null,null,null,null,null,null,null,null,null,null,null,null,null,null,null,null,null,null,null,null,null,null,null,null,null,null,null,null,null,null,null,null,null,{"$error":"#VALUE!"},"B2",null,{"$f":"IF(ISERROR(HLOOKUP($BP6,補助!$AW$2:$BE$9,6,FALSE))=TRUE,\"\",HLOOKUP($BP6,補助!$AW$2:$BE$9,6,FALSE))","v":""},{"$f":"IF(ISERROR(HLOOKUP($BQ6,補助!$AW$2:$BE$9,6,FALSE))=TRUE,\"\",HLOOKUP($BQ6,補助!$AW$2:$BE$9,6,FALSE))","v":""},{"$f":"IF(ISERROR(HLOOKUP($BR6,補助!$AW$2:$BE$9,6,FALSE))=TRUE,\"\",HLOOKUP($BR6,補助!$AW$2:$BE$9,6,FALSE))","v":""},{"$f":"IF(ISERROR(HLOOKUP($BS6,補助!$AW$2:$BE$9,6,FALSE))=TRUE,\"\",HLOOKUP($BS6,補助!$AW$2:$BE$9,6,FALSE))","v":""},{"$f":"IF(ISERROR(HLOOKUP($BT6,補助!$AW$2:$BE$9,6,FALSE))=TRUE,\"\",HLOOKUP($BT6,補助!$AW$2:$BE$9,6,FALSE))","v":""},{"$f":"IF(ISERROR(HLOOKUP($BU6,補助!$AW$2:$BE$9,6,FALSE))=TRUE,\"\",HLOOKUP($BU6,補助!$AW$2:$BE$9,6,FALSE))","v":""},{"$f":"IF(ISERROR(HLOOKUP($BV6,補助!$AW$2:$BE$9,6,FALSE))=TRUE,\"\",HLOOKUP($BV6,補助!$AW$2:$BE$9,6,FALSE))","v":""},{"$f":"IF(ISERROR(HLOOKUP($BW6,補助!$AW$2:$BE$9,6,FALSE))=TRUE,\"\",HLOOKUP($BW6,補助!$AW$2:$BE$9,6,FALSE))","v":3},{"$f":"IF(ISERROR(HLOOKUP($BX6,補助!$AW$2:$BE$9,6,FALSE))=TRUE,\"\",HLOOKUP($BX6,補助!$AW$2:$BE$9,6,FALSE))","v":2},{"$f":"IF(ISERROR(HLOOKUP($BY6,補助!$AW$2:$BE$9,6,FALSE))=TRUE,\"\",HLOOKUP($BY6,補助!$AW$2:$BE$9,6,FALSE))","v":1},{"$f":"IF(ISERROR(HLOOKUP($BZ6,補助!$AW$2:$BE$9,6,FALSE))=TRUE,\"\",HLOOKUP($BZ6,補助!$AW$2:$BE$9,6,FALSE))","v":4},"321"]
[null,null,null,null,null,null,null,null,null,null,null,null,null,null,null,null,null,null,null,null,null,null,null,null,null,null,null,null,null,null,null,null,null,null,null,null,null,null,null,null,null,null,null,null,null,null,null,null,null,null,null,null,null,null,null,null,null,null,null,null,null,null,null,null,null,null,null,null,null,null,null,{"$error":"#VALUE!"},"B2",null,{"$f":"IF(ISERROR(HLOOKUP($BP7,補助!$AW$2:$BE$9,6,FALSE))=TRUE,\"\",HLOOKUP($BP7,補助!$AW$2:$BE$9,6,FALSE))","v":""},{"$f":"IF(ISERROR(HLOOKUP($BQ7,補助!$AW$2:$BE$9,6,FALSE))=TRUE,\"\",HLOOKUP($BQ7,補助!$AW$2:$BE$9,6,FALSE))","v":""},{"$f":"IF(ISERROR(HLOOKUP($BR7,補助!$AW$2:$BE$9,6,FALSE))=TRUE,\"\",HLOOKUP($BR7,補助!$AW$2:$BE$9,6,FALSE))","v":""},{"$f":"IF(ISERROR(HLOOKUP($BS7,補助!$AW$2:$BE$9,6,FALSE))=TRUE,\"\",HLOOKUP($BS7,補助!$AW$2:$BE$9,6,FALSE))","v":""},{"$f":"IF(ISERROR(HLOOKUP($BT7,補助!$AW$2:$BE$9,6,FALSE))=TRUE,\"\",HLOOKUP($BT7,補助!$AW$2:$BE$9,6,FALSE))","v":""},{"$f":"IF(ISERROR(HLOOKUP($BU7,補助!$AW$2:$BE$9,6,FALSE))=TRUE,\"\",HLOOKUP($BU7,補助!$AW$2:$BE$9,6,FALSE))","v":""},{"$f":"IF(ISERROR(HLOOKUP($BV7,補助!$AW$2:$BE$9,6,FALSE))=TRUE,\"\",HLOOKUP($BV7,補助!$AW$2:$BE$9,6,FALSE))","v":""},{"$f":"IF(ISERROR(HLOOKUP($BW7,補助!$AW$2:$BE$9,6,FALSE))=TRUE,\"\",HLOOKUP($BW7,補助!$AW$2:$BE$9,6,FALSE))","v":3},{"$f":"IF(ISERROR(HLOOKUP($BX7,補助!$AW$2:$BE$9,6,FALSE))=TRUE,\"\",HLOOKUP($BX7,補助!$AW$2:$BE$9,6,FALSE))","v":2},{"$f":"IF(ISERROR(HLOOKUP($BY7,補助!$AW$2:$BE$9,6,FALSE))=TRUE,\"\",HLOOKUP($BY7,補助!$AW$2:$BE$9,6,FALSE))","v":1},{"$f":"IF(ISERROR(HLOOKUP($BZ7,補助!$AW$2:$BE$9,6,FALSE))=TRUE,\"\",HLOOKUP($BZ7,補助!$AW$2:$BE$9,6,FALSE))","v":9},"321"]
[null,null,null,null,null,null,null,null,null,null,null,null,null,null,null,null,null,null,null,null,null,null,null,null,null,null,null,null,null,null,null,null,null,null,null,null,null,null,null,null,null,null,null,null,null,null,null,null,null,null,null,null,null,null,null,null,null,null,null,null,null,null,null,null,null,null,null,null,null,null,null,{"$error":"#VALUE!"},"B2",null,{"$f":"IF(ISERROR(HLOOKUP($BP8,補助!$AW$2:$BE$9,6,FALSE))=TRUE,\"\",HLOOKUP($BP8,補助!$AW$2:$BE$9,6,FALSE))","v":""},{"$f":"IF(ISERROR(HLOOKUP($BQ8,補助!$AW$2:$BE$9,6,FALSE))=TRUE,\"\",HLOOKUP($BQ8,補助!$AW$2:$BE$9,6,FALSE))","v":""},{"$f":"IF(ISERROR(HLOOKUP($BR8,補助!$AW$2:$BE$9,6,FALSE))=TRUE,\"\",HLOOKUP($BR8,補助!$AW$2:$BE$9,6,FALSE))","v":""},{"$f":"IF(ISERROR(HLOOKUP($BS8,補助!$AW$2:$BE$9,6,FALSE))=TRUE,\"\",HLOOKUP($BS8,補助!$AW$2:$BE$9,6,FALSE))","v":""},{"$f":"IF(ISERROR(HLOOKUP($BT8,補助!$AW$2:$BE$9,6,FALSE))=TRUE,\"\",HLOOKUP($BT8,補助!$AW$2:$BE$9,6,FALSE))","v":""},{"$f":"IF(ISERROR(HLOOKUP($BU8,補助!$AW$2:$BE$9,6,FALSE))=TRUE,\"\",HLOOKUP($BU8,補助!$AW$2:$BE$9,6,FALSE))","v":""},{"$f":"IF(ISERROR(HLOOKUP($BV8,補助!$AW$2:$BE$9,6,FALSE))=TRUE,\"\",HLOOKUP($BV8,補助!$AW$2:$BE$9,6,FALSE))","v":""},{"$f":"IF(ISERROR(HLOOKUP($BW8,補助!$AW$2:$BE$9,6,FALSE))=TRUE,\"\",HLOOKUP($BW8,補助!$AW$2:$BE$9,6,FALSE))","v":3},{"$f":"IF(ISERROR(HLOOKUP($BX8,補助!$AW$2:$BE$9,6,FALSE))=TRUE,\"\",HLOOKUP($BX8,補助!$AW$2:$BE$9,6,FALSE))","v":2},{"$f":"IF(ISERROR(HLOOKUP($BY8,補助!$AW$2:$BE$9,6,FALSE))=TRUE,\"\",HLOOKUP($BY8,補助!$AW$2:$BE$9,6,FALSE))","v":1},{"$f":"IF(ISERROR(HLOOKUP($BZ8,補助!$AW$2:$BE$9,6,FALSE))=TRUE,\"\",HLOOKUP($BZ8,補助!$AW$2:$BE$9,6,FALSE))","v":8},"321"]
[null,null,null,null,null,null,null,null,null,null,null,null,null,null,null,null,null,null,null,null,null,null,null,null,null,null,null,null,null,null,null,null,null,null,null,null,null,null,null,null,null,null,null,null,null,null,null,null,null,null,null,null,null,null,null,null,null,null,null,null,null,null,null,null,null,null,null,null,null,null,null,{"$error":"#VALUE!"},"B2",null,{"$f":"IF(ISERROR(HLOOKUP($BP9,補助!$AW$2:$BE$9,6,FALSE))=TRUE,\"\",HLOOKUP($BP9,補助!$AW$2:$BE$9,6,FALSE))","v":""},{"$f":"IF(ISERROR(HLOOKUP($BQ9,補助!$AW$2:$BE$9,6,FALSE))=TRUE,\"\",HLOOKUP($BQ9,補助!$AW$2:$BE$9,6,FALSE))","v":""},{"$f":"IF(ISERROR(HLOOKUP($BR9,補助!$AW$2:$BE$9,6,FALSE))=TRUE,\"\",HLOOKUP($BR9,補助!$AW$2:$BE$9,6,FALSE))","v":""},{"$f":"IF(ISERROR(HLOOKUP($BS9,補助!$AW$2:$BE$9,6,FALSE))=TRUE,\"\",HLOOKUP($BS9,補助!$AW$2:$BE$9,6,FALSE))","v":""},{"$f":"IF(ISERROR(HLOOKUP($BT9,補助!$AW$2:$BE$9,6,FALSE))=TRUE,\"\",HLOOKUP($BT9,補助!$AW$2:$BE$9,6,FALSE))","v":""},{"$f":"IF(ISERROR(HLOOKUP($BU9,補助!$AW$2:$BE$9,6,FALSE))=TRUE,\"\",HLOOKUP($BU9,補助!$AW$2:$BE$9,6,FALSE))","v":""},{"$f":"IF(ISERROR(HLOOKUP($BV9,補助!$AW$2:$BE$9,6,FALSE))=TRUE,\"\",HLOOKUP($BV9,補助!$AW$2:$BE$9,6,FALSE))","v":""},{"$f":"IF(ISERROR(HLOOKUP($BW9,補助!$AW$2:$BE$9,6,FALSE))=TRUE,\"\",HLOOKUP($BW9,補助!$AW$2:$BE$9,6,FALSE))","v":3},{"$f":"IF(ISERROR(HLOOKUP($BX9,補助!$AW$2:$BE$9,6,FALSE))=TRUE,\"\",HLOOKUP($BX9,補助!$AW$2:$BE$9,6,FALSE))","v":2},{"$f":"IF(ISERROR(HLOOKUP($BY9,補助!$AW$2:$BE$9,6,FALSE))=TRUE,\"\",HLOOKUP($BY9,補助!$AW$2:$BE$9,6,FALSE))","v":1},{"$f":"IF(ISERROR(HLOOKUP($BZ9,補助!$AW$2:$BE$9,6,FALSE))=TRUE,\"\",HLOOKUP($BZ9,補助!$AW$2:$BE$9,6,FALSE))","v":7},"321"]
[null,null,null,null,null,null,null,null,null,null,null,null,null,null,null,null,null,null,null,null,null,null,null,null,null,null,null,null,null,null,null,null,null,null,null,null,null,null,null,null,null,null,null,null,null,null,null,null,null,null,null,null,null,null,null,null,null,null,null,null,null,null,null,null,null,null,null,null,null,null,null,{"$error":"#VALUE!"},"B2",null,{"$f":"IF(ISERROR(HLOOKUP($BP10,補助!$AW$2:$BE$9,6,FALSE))=TRUE,\"\",HLOOKUP($BP10,補助!$AW$2:$BE$9,6,FALSE))","v":""},{"$f":"IF(ISERROR(HLOOKUP($BQ10,補助!$AW$2:$BE$9,6,FALSE))=TRUE,\"\",HLOOKUP($BQ10,補助!$AW$2:$BE$9,6,FALSE))","v":""},{"$f":"IF(ISERROR(HLOOKUP($BR10,補助!$AW$2:$BE$9,6,FALSE))=TRUE,\"\",HLOOKUP($BR10,補助!$AW$2:$BE$9,6,FALSE))","v":""},{"$f":"IF(ISERROR(HLOOKUP($BS10,補助!$AW$2:$BE$9,6,FALSE))=TRUE,\"\",HLOOKUP($BS10,補助!$AW$2:$BE$9,6,FALSE))","v":""},{"$f":"IF(ISERROR(HLOOKUP($BT10,補助!$AW$2:$BE$9,6,FALSE))=TRUE,\"\",HLOOKUP($BT10,補助!$AW$2:$BE$9,6,FALSE))","v":""},{"$f":"IF(ISERROR(HLOOKUP($BU10,補助!$AW$2:$BE$9,6,FALSE))=TRUE,\"\",HLOOKUP($BU10,補助!$AW$2:$BE$9,6,FALSE))","v":""},{"$f":"IF(ISERROR(HLOOKUP($BV10,補助!$AW$2:$BE$9,6,FALSE))=TRUE,\"\",HLOOKUP($BV10,補助!$AW$2:$BE$9,6,FALSE))","v":""},{"$f":"IF(ISERROR(HLOOKUP($BW10,補助!$AW$2:$BE$9,6,FALSE))=TRUE,\"\",HLOOKUP($BW10,補助!$AW$2:$BE$9,6,FALSE))","v":3},{"$f":"IF(ISERROR(HLOOKUP($BX10,補助!$AW$2:$BE$9,6,FALSE))=TRUE,\"\",HLOOKUP($BX10,補助!$AW$2:$BE$9,6,FALSE))","v":2},{"$f":"IF(ISERROR(HLOOKUP($BY10,補助!$AW$2:$BE$9,6,FALSE))=TRUE,\"\",HLOOKUP($BY10,補助!$AW$2:$BE$9,6,FALSE))","v":4},{"$f":"IF(ISERROR(HLOOKUP($BZ10,補助!$AW$2:$BE$9,6,FALSE))=TRUE,\"\",HLOOKUP($BZ10,補助!$AW$2:$BE$9,6,FALSE))","v":1},"324"]
[null,null,null,null,null,null,null,null,null,null,null,null,null,null,null,null,null,null,null,null,null,null,null,null,null,null,null,null,null,null,null,null,null,null,null,null,null,null,null,null,null,null,null,null,null,null,null,null,null,null,null,null,null,null,null,null,null,null,null,null,null,null,null,null,null,null,null,null,null,null,null,{"$error":"#VALUE!"},"B2",null,{"$f":"IF(ISERROR(HLOOKUP($BP11,補助!$AW$2:$BE$9,6,FALSE))=TRUE,\"\",HLOOKUP($BP11,補助!$AW$2:$BE$9,6,FALSE))","v":""},{"$f":"IF(ISERROR(HLOOKUP($BQ11,補助!$AW$2:$BE$9,6,FALSE))=TRUE,\"\",HLOOKUP($BQ11,補助!$AW$2:$BE$9,6,FALSE))","v":""},{"$f":"IF(ISERROR(HLOOKUP($BR11,補助!$AW$2:$BE$9,6,FALSE))=TRUE,\"\",HLOOKUP($BR11,補助!$AW$2:$BE$9,6,FALSE))","v":""},{"$f":"IF(ISERROR(HLOOKUP($BS11,補助!$AW$2:$BE$9,6,FALSE))=TRUE,\"\",HLOOKUP($BS11,補助!$AW$2:$BE$9,6,FALSE))","v":""},{"$f":"IF(ISERROR(HLOOKUP($BT11,補助!$AW$2:$BE$9,6,FALSE))=TRUE,\"\",HLOOKUP($BT11,補助!$AW$2:$BE$9,6,FALSE))","v":""},{"$f":"IF(ISERROR(HLOOKUP($BU11,補助!$AW$2:$BE$9,6,FALSE))=TRUE,\"\",HLOOKUP($BU11,補助!$AW$2:$BE$9,6,FALSE))","v":""},{"$f":"IF(ISERROR(HLOOKUP($BV11,補助!$AW$2:$BE$9,6,FALSE))=TRUE,\"\",HLOOKUP($BV11,補助!$AW$2:$BE$9,6,FALSE))","v":""},{"$f":"IF(ISERROR(HLOOKUP($BW11,補助!$AW$2:$BE$9,6,FALSE))=TRUE,\"\",HLOOKUP($BW11,補助!$AW$2:$BE$9,6,FALSE))","v":3},{"$f":"IF(ISERROR(HLOOKUP($BX11,補助!$AW$2:$BE$9,6,FALSE))=TRUE,\"\",HLOOKUP($BX11,補助!$AW$2:$BE$9,6,FALSE))","v":2},{"$f":"IF(ISERROR(HLOOKUP($BY11,補助!$AW$2:$BE$9,6,FALSE))=TRUE,\"\",HLOOKUP($BY11,補助!$AW$2:$BE$9,6,FALSE))","v":4},{"$f":"IF(ISERROR(HLOOKUP($BZ11,補助!$AW$2:$BE$9,6,FALSE))=TRUE,\"\",HLOOKUP($BZ11,補助!$AW$2:$BE$9,6,FALSE))","v":6},"324"]
[null,null,null,null,null,null,null,null,null,null,null,null,null,null,null,null,null,null,null,null,null,null,null,null,null,null,null,null,null,null,null,null,null,null,null,null,null,null,null,null,null,null,null,null,null,null,null,null,null,null,null,null,null,null,null,null,null,null,null,null,null,null,null,null,null,null,null,null,null,null,null,{"$error":"#VALUE!"},"B2",null,{"$f":"IF(ISERROR(HLOOKUP($BP12,補助!$AW$2:$BE$9,6,FALSE))=TRUE,\"\",HLOOKUP($BP12,補助!$AW$2:$BE$9,6,FALSE))","v":""},{"$f":"IF(ISERROR(HLOOKUP($BQ12,補助!$AW$2:$BE$9,6,FALSE))=TRUE,\"\",HLOOKUP($BQ12,補助!$AW$2:$BE$9,6,FALSE))","v":""},{"$f":"IF(ISERROR(HLOOKUP($BR12,補助!$AW$2:$BE$9,6,FALSE))=TRUE,\"\",HLOOKUP($BR12,補助!$AW$2:$BE$9,6,FALSE))","v":""},{"$f":"IF(ISERROR(HLOOKUP($BS12,補助!$AW$2:$BE$9,6,FALSE))=TRUE,\"\",HLOOKUP($BS12,補助!$AW$2:$BE$9,6,FALSE))","v":""},{"$f":"IF(ISERROR(HLOOKUP($BT12,補助!$AW$2:$BE$9,6,FALSE))=TRUE,\"\",HLOOKUP($BT12,補助!$AW$2:$BE$9,6,FALSE))","v":""},{"$f":"IF(ISERROR(HLOOKUP($BU12,補助!$AW$2:$BE$9,6,FALSE))=TRUE,\"\",HLOOKUP($BU12,補助!$AW$2:$BE$9,6,FALSE))","v":""},{"$f":"IF(ISERROR(HLOOKUP($BV12,補助!$AW$2:$BE$9,6,FALSE))=TRUE,\"\",HLOOKUP($BV12,補助!$AW$2:$BE$9,6,FALSE))","v":""},{"$f":"IF(ISERROR(HLOOKUP($BW12,補助!$AW$2:$BE$9,6,FALSE))=TRUE,\"\",HLOOKUP($BW12,補助!$AW$2:$BE$9,6,FALSE))","v":3},{"$f":"IF(ISERROR(HLOOKUP($BX12,補助!$AW$2:$BE$9,6,FALSE))=TRUE,\"\",HLOOKUP($BX12,補助!$AW$2:$BE$9,6,FALSE))","v":2},{"$f":"IF(ISERROR(HLOOKUP($BY12,補助!$AW$2:$BE$9,6,FALSE))=TRUE,\"\",HLOOKUP($BY12,補助!$AW$2:$BE$9,6,FALSE))","v":4},{"$f":"IF(ISERROR(HLOOKUP($BZ12,補助!$AW$2:$BE$9,6,FALSE))=TRUE,\"\",HLOOKUP($BZ12,補助!$AW$2:$BE$9,6,FALSE))","v":9},"324"]
[null,null,null,null,null,null,null,null,null,null,null,null,null,null,null,null,null,null,null,null,null,null,null,null,null,null,null,null,null,null,null,null,null,null,null,null,null,null,null,null,null,null,null,null,null,null,null,null,null,null,null,null,null,null,null,null,null,null,null,null,null,null,null,null,null,null,null,null,null,null,null,{"$error":"#VALUE!"},"B2",null,{"$f":"IF(ISERROR(HLOOKUP($BP13,補助!$AW$2:$BE$9,6,FALSE))=TRUE,\"\",HLOOKUP($BP13,補助!$AW$2:$BE$9,6,FALSE))","v":""},{"$f":"IF(ISERROR(HLOOKUP($BQ13,補助!$AW$2:$BE$9,6,FALSE))=TRUE,\"\",HLOOKUP($BQ13,補助!$AW$2:$BE$9,6,FALSE))","v":""},{"$f":"IF(ISERROR(HLOOKUP($BR13,補助!$AW$2:$BE$9,6,FALSE))=TRUE,\"\",HLOOKUP($BR13,補助!$AW$2:$BE$9,6,FALSE))","v":""},{"$f":"IF(ISERROR(HLOOKUP($BS13,補助!$AW$2:$BE$9,6,FALSE))=TRUE,\"\",HLOOKUP($BS13,補助!$AW$2:$BE$9,6,FALSE))","v":""},{"$f":"IF(ISERROR(HLOOKUP($BT13,補助!$AW$2:$BE$9,6,FALSE))=TRUE,\"\",HLOOKUP($BT13,補助!$AW$2:$BE$9,6,FALSE))","v":""},{"$f":"IF(ISERROR(HLOOKUP($BU13,補助!$AW$2:$BE$9,6,FALSE))=TRUE,\"\",HLOOKUP($BU13,補助!$AW$2:$BE$9,6,FALSE))","v":""},{"$f":"IF(ISERROR(HLOOKUP($BV13,補助!$AW$2:$BE$9,6,FALSE))=TRUE,\"\",HLOOKUP($BV13,補助!$AW$2:$BE$9,6,FALSE))","v":""},{"$f":"IF(ISERROR(HLOOKUP($BW13,補助!$AW$2:$BE$9,6,FALSE))=TRUE,\"\",HLOOKUP($BW13,補助!$AW$2:$BE$9,6,FALSE))","v":3},{"$f":"IF(ISERROR(HLOOKUP($BX13,補助!$AW$2:$BE$9,6,FALSE))=TRUE,\"\",HLOOKUP($BX13,補助!$AW$2:$BE$9,6,FALSE))","v":2},{"$f":"IF(ISERROR(HLOOKUP($BY13,補助!$AW$2:$BE$9,6,FALSE))=TRUE,\"\",HLOOKUP($BY13,補助!$AW$2:$BE$9,6,FALSE))","v":4},{"$f":"IF(ISERROR(HLOOKUP($BZ13,補助!$AW$2:$BE$9,6,FALSE))=TRUE,\"\",HLOOKUP($BZ13,補助!$AW$2:$BE$9,6,FALSE))","v":8},"324"]
[null,null,null,null,null,null,null,null,null,null,null,null,null,null,null,null,null,null,null,null,null,null,null,null,null,null,null,null,null,null,null,null,null,null,null,null,null,null,null,null,null,null,null,null,null,null,null,null,null,null,null,null,null,null,null,null,null,null,null,null,null,null,null,null,null,null,null,null,null,null,null,{"$error":"#VALUE!"},"B2",null,{"$f":"IF(ISERROR(HLOOKUP($BP14,補助!$AW$2:$BE$9,6,FALSE))=TRUE,\"\",HLOOKUP($BP14,補助!$AW$2:$BE$9,6,FALSE))","v":""},{"$f":"IF(ISERROR(HLOOKUP($BQ14,補助!$AW$2:$BE$9,6,FALSE))=TRUE,\"\",HLOOKUP($BQ14,補助!$AW$2:$BE$9,6,FALSE))","v":""},{"$f":"IF(ISERROR(HLOOKUP($BR14,補助!$AW$2:$BE$9,6,FALSE))=TRUE,\"\",HLOOKUP($BR14,補助!$AW$2:$BE$9,6,FALSE))","v":""},{"$f":"IF(ISERROR(HLOOKUP($BS14,補助!$AW$2:$BE$9,6,FALSE))=TRUE,\"\",HLOOKUP($BS14,補助!$AW$2:$BE$9,6,FALSE))","v":""},{"$f":"IF(ISERROR(HLOOKUP($BT14,補助!$AW$2:$BE$9,6,FALSE))=TRUE,\"\",HLOOKUP($BT14,補助!$AW$2:$BE$9,6,FALSE))","v":""},{"$f":"IF(ISERROR(HLOOKUP($BU14,補助!$AW$2:$BE$9,6,FALSE))=TRUE,\"\",HLOOKUP($BU14,補助!$AW$2:$BE$9,6,FALSE))","v":""},{"$f":"IF(ISERROR(HLOOKUP($BV14,補助!$AW$2:$BE$9,6,FALSE))=TRUE,\"\",HLOOKUP($BV14,補助!$AW$2:$BE$9,6,FALSE))","v":""},{"$f":"IF(ISERROR(HLOOKUP($BW14,補助!$AW$2:$BE$9,6,FALSE))=TRUE,\"\",HLOOKUP($BW14,補助!$AW$2:$BE$9,6,FALSE))","v":3},{"$f":"IF(ISERROR(HLOOKUP($BX14,補助!$AW$2:$BE$9,6,FALSE))=TRUE,\"\",HLOOKUP($BX14,補助!$AW$2:$BE$9,6,FALSE))","v":2},{"$f":"IF(ISERROR(HLOOKUP($BY14,補助!$AW$2:$BE$9,6,FALSE))=TRUE,\"\",HLOOKUP($BY14,補助!$AW$2:$BE$9,6,FALSE))","v":4},{"$f":"IF(ISERROR(HLOOKUP($BZ14,補助!$AW$2:$BE$9,6,FALSE))=TRUE,\"\",HLOOKUP($BZ14,補助!$AW$2:$BE$9,6,FALSE))","v":7},"324"]
[null,null,null,null,null,null,null,null,null,null,null,null,null,null,null,null,null,null,null,null,null,null,null,null,null,null,null,null,null,null,null,null,null,null,null,null,null,null,null,null,null,null,null,null,null,null,null,null,null,null,null,null,null,null,null,null,null,null,null,null,null,null,null,null,null,null,null,null,null,null,null,{"$error":"#VALUE!"},"B2","白",{"$f":"IF(ISERROR(HLOOKUP($BP15,補助!$AW$2:$BE$9,6,FALSE))=TRUE,\"\",HLOOKUP($BP15,補助!$AW$2:$BE$9,6,FALSE))","v":""},{"$f":"IF(ISERROR(HLOOKUP($BQ15,補助!$AW$2:$BE$9,6,FALSE))=TRUE,\"\",HLOOKUP($BQ15,補助!$AW$2:$BE$9,6,FALSE))","v":""},{"$f":"IF(ISERROR(HLOOKUP($BR15,補助!$AW$2:$BE$9,6,FALSE))=TRUE,\"\",HLOOKUP($BR15,補助!$AW$2:$BE$9,6,FALSE))","v":""},{"$f":"IF(ISERROR(HLOOKUP($BS15,補助!$AW$2:$BE$9,6,FALSE))=TRUE,\"\",HLOOKUP($BS15,補助!$AW$2:$BE$9,6,FALSE))","v":""},{"$f":"IF(ISERROR(HLOOKUP($BT15,補助!$AW$2:$BE$9,6,FALSE))=TRUE,\"\",HLOOKUP($BT15,補助!$AW$2:$BE$9,6,FALSE))","v":""},{"$f":"IF(ISERROR(HLOOKUP($BU15,補助!$AW$2:$BE$9,6,FALSE))=TRUE,\"\",HLOOKUP($BU15,補助!$AW$2:$BE$9,6,FALSE))","v":""},{"$f":"IF(ISERROR(HLOOKUP($BV15,補助!$AW$2:$BE$9,6,FALSE))=TRUE,\"\",HLOOKUP($BV15,補助!$AW$2:$BE$9,6,FALSE))","v":""},{"$f":"IF(ISERROR(HLOOKUP($BW15,補助!$AW$2:$BE$9,6,FALSE))=TRUE,\"\",HLOOKUP($BW15,補助!$AW$2:$BE$9,6,FALSE))","v":3},{"$f":"IF(ISERROR(HLOOKUP($BX15,補助!$AW$2:$BE$9,6,FALSE))=TRUE,\"\",HLOOKUP($BX15,補助!$AW$2:$BE$9,6,FALSE))","v":2},{"$f":"IF(ISERROR(HLOOKUP($BY15,補助!$AW$2:$BE$9,6,FALSE))=TRUE,\"\",HLOOKUP($BY15,補助!$AW$2:$BE$9,6,FALSE))","v":4},{"$f":"IF(ISERROR(HLOOKUP($BZ15,補助!$AW$2:$BE$9,6,FALSE))=TRUE,\"\",HLOOKUP($BZ15,補助!$AW$2:$BE$9,6,FALSE))","v":5},"324"]
[null,null,null,null,null,null,null,null,null,null,null,null,null,null,null,null,null,null,null,null,null,null,null,null,null,null,null,null,null,null,null,null,null,null,null,null,null,null,null,null,null,null,null,null,null,null,null,null,null,null,null,null,null,null,null,null,null,null,null,null,null,null,null,null,null,null,null,null,null,null,null,{"$error":"#VALUE!"},"B2",null,{"$f":"IF(ISERROR(HLOOKUP($BP16,補助!$AW$2:$BE$9,6,FALSE))=TRUE,\"\",HLOOKUP($BP16,補助!$AW$2:$BE$9,6,FALSE))","v":""},{"$f":"IF(ISERROR(HLOOKUP($BQ16,補助!$AW$2:$BE$9,6,FALSE))=TRUE,\"\",HLOOKUP($BQ16,補助!$AW$2:$BE$9,6,FALSE))","v":""},{"$f":"IF(ISERROR(HLOOKUP($BR16,補助!$AW$2:$BE$9,6,FALSE))=TRUE,\"\",HLOOKUP($BR16,補助!$AW$2:$BE$9,6,FALSE))","v":""},{"$f":"IF(ISERROR(HLOOKUP($BS16,補助!$AW$2:$BE$9,6,FALSE))=TRUE,\"\",HLOOKUP($BS16,補助!$AW$2:$BE$9,6,FALSE))","v":""},{"$f":"IF(ISERROR(HLOOKUP($BT16,補助!$AW$2:$BE$9,6,FALSE))=TRUE,\"\",HLOOKUP($BT16,補助!$AW$2:$BE$9,6,FALSE))","v":""},{"$f":"IF(ISERROR(HLOOKUP($BU16,補助!$AW$2:$BE$9,6,FALSE))=TRUE,\"\",HLOOKUP($BU16,補助!$AW$2:$BE$9,6,FALSE))","v":""},{"$f":"IF(ISERROR(HLOOKUP($BV16,補助!$AW$2:$BE$9,6,FALSE))=TRUE,\"\",HLOOKUP($BV16,補助!$AW$2:$BE$9,6,FALSE))","v":""},{"$f":"IF(ISERROR(HLOOKUP($BW16,補助!$AW$2:$BE$9,6,FALSE))=TRUE,\"\",HLOOKUP($BW16,補助!$AW$2:$BE$9,6,FALSE))","v":3},{"$f":"IF(ISERROR(HLOOKUP($BX16,補助!$AW$2:$BE$9,6,FALSE))=TRUE,\"\",HLOOKUP($BX16,補助!$AW$2:$BE$9,6,FALSE))","v":2},{"$f":"IF(ISERROR(HLOOKUP($BY16,補助!$AW$2:$BE$9,6,FALSE))=TRUE,\"\",HLOOKUP($BY16,補助!$AW$2:$BE$9,6,FALSE))","v":8},{"$f":"IF(ISERROR(HLOOKUP($BZ16,補助!$AW$2:$BE$9,6,FALSE))=TRUE,\"\",HLOOKUP($BZ16,補助!$AW$2:$BE$9,6,FALSE))","v":1},"328"]
[null,null,null,null,null,null,null,null,null,null,null,null,null,null,null,null,null,null,null,null,null,null,null,null,null,null,null,null,null,null,null,null,null,null,null,null,null,null,null,null,null,null,null,null,null,null,null,null,null,null,null,null,null,null,null,null,null,null,null,null,null,null,null,null,null,null,null,null,null,null,null,{"$error":"#VALUE!"},"B2",null,{"$f":"IF(ISERROR(HLOOKUP($BP17,補助!$AW$2:$BE$9,6,FALSE))=TRUE,\"\",HLOOKUP($BP17,補助!$AW$2:$BE$9,6,FALSE))","v":""},{"$f":"IF(ISERROR(HLOOKUP($BQ17,補助!$AW$2:$BE$9,6,FALSE))=TRUE,\"\",HLOOKUP($BQ17,補助!$AW$2:$BE$9,6,FALSE))","v":""},{"$f":"IF(ISERROR(HLOOKUP($BR17,補助!$AW$2:$BE$9,6,FALSE))=TRUE,\"\",HLOOKUP($BR17,補助!$AW$2:$BE$9,6,FALSE))","v":""},{"$f":"IF(ISERROR(HLOOKUP($BS17,補助!$AW$2:$BE$9,6,FALSE))=TRUE,\"\",HLOOKUP($BS17,補助!$AW$2:$BE$9,6,FALSE))","v":""},{"$f":"IF(ISERROR(HLOOKUP($BT17,補助!$AW$2:$BE$9,6,FALSE))=TRUE,\"\",HLOOKUP($BT17,補助!$AW$2:$BE$9,6,FALSE))","v":""},{"$f":"IF(ISERROR(HLOOKUP($BU17,補助!$AW$2:$BE$9,6,FALSE))=TRUE,\"\",HLOOKUP($BU17,補助!$AW$2:$BE$9,6,FALSE))","v":""},{"$f":"IF(ISERROR(HLOOKUP($BV17,補助!$AW$2:$BE$9,6,FALSE))=TRUE,\"\",HLOOKUP($BV17,補助!$AW$2:$BE$9,6,FALSE))","v":""},{"$f":"IF(ISERROR(HLOOKUP($BW17,補助!$AW$2:$BE$9,6,FALSE))=TRUE,\"\",HLOOKUP($BW17,補助!$AW$2:$BE$9,6,FALSE))","v":3},{"$f":"IF(ISERROR(HLOOKUP($BX17,補助!$AW$2:$BE$9,6,FALSE))=TRUE,\"\",HLOOKUP($BX17,補助!$AW$2:$BE$9,6,FALSE))","v":2},{"$f":"IF(ISERROR(HLOOKUP($BY17,補助!$AW$2:$BE$9,6,FALSE))=TRUE,\"\",HLOOKUP($BY17,補助!$AW$2:$BE$9,6,FALSE))","v":8},{"$f":"IF(ISERROR(HLOOKUP($BZ17,補助!$AW$2:$BE$9,6,FALSE))=TRUE,\"\",HLOOKUP($BZ17,補助!$AW$2:$BE$9,6,FALSE))","v":6},"328"]
[null,null,null,null,null,null,null,null,null,null,null,null,null,null,null,null,null,null,null,null,null,null,null,null,null,null,null,null,null,null,null,null,null,null,null,null,null,null,null,null,null,null,null,null,null,null,null,null,null,null,null,null,null,null,null,null,null,null,null,null,null,null,null,null,null,null,null,null,null,null,null,{"$error":"#VALUE!"},"B2",null,{"$f":"IF(ISERROR(HLOOKUP($BP18,補助!$AW$2:$BE$9,6,FALSE))=TRUE,\"\",HLOOKUP($BP18,補助!$AW$2:$BE$9,6,FALSE))","v":""},{"$f":"IF(ISERROR(HLOOKUP($BQ18,補助!$AW$2:$BE$9,6,FALSE))=TRUE,\"\",HLOOKUP($BQ18,補助!$AW$2:$BE$9,6,FALSE))","v":""},{"$f":"IF(ISERROR(HLOOKUP($BR18,補助!$AW$2:$BE$9,6,FALSE))=TRUE,\"\",HLOOKUP($BR18,補助!$AW$2:$BE$9,6,FALSE))","v":""},{"$f":"IF(ISERROR(HLOOKUP($BS18,補助!$AW$2:$BE$9,6,FALSE))=TRUE,\"\",HLOOKUP($BS18,補助!$AW$2:$BE$9,6,FALSE))","v":""},{"$f":"IF(ISERROR(HLOOKUP($BT18,補助!$AW$2:$BE$9,6,FALSE))=TRUE,\"\",HLOOKUP($BT18,補助!$AW$2:$BE$9,6,FALSE))","v":""},{"$f":"IF(ISERROR(HLOOKUP($BU18,補助!$AW$2:$BE$9,6,FALSE))=TRUE,\"\",HLOOKUP($BU18,補助!$AW$2:$BE$9,6,FALSE))","v":""},{"$f":"IF(ISERROR(HLOOKUP($BV18,補助!$AW$2:$BE$9,6,FALSE))=TRUE,\"\",HLOOKUP($BV18,補助!$AW$2:$BE$9,6,FALSE))","v":""},{"$f":"IF(ISERROR(HLOOKUP($BW18,補助!$AW$2:$BE$9,6,FALSE))=TRUE,\"\",HLOOKUP($BW18,補助!$AW$2:$BE$9,6,FALSE))","v":3},{"$f":"IF(ISERROR(HLOOKUP($BX18,補助!$AW$2:$BE$9,6,FALSE))=TRUE,\"\",HLOOKUP($BX18,補助!$AW$2:$BE$9,6,FALSE))","v":2},{"$f":"IF(ISERROR(HLOOKUP($BY18,補助!$AW$2:$BE$9,6,FALSE))=TRUE,\"\",HLOOKUP($BY18,補助!$AW$2:$BE$9,6,FALSE))","v":8},{"$f":"IF(ISERROR(HLOOKUP($BZ18,補助!$AW$2:$BE$9,6,FALSE))=TRUE,\"\",HLOOKUP($BZ18,補助!$AW$2:$BE$9,6,FALSE))","v":5},"328"]
[null,null,null,null,null,null,null,null,null,null,null,null,null,null,null,null,null,null,null,null,null,null,null,null,null,null,null,null,null,null,null,null,null,null,null,null,null,null,null,null,null,null,null,null,null,null,null,null,null,null,null,null,null,null,null,null,null,null,null,null,null,null,null,null,null,null,null,null,null,null,null,{"$error":"#VALUE!"},"B2",null,{"$f":"IF(ISERROR(HLOOKUP($BP19,補助!$AW$2:$BE$9,6,FALSE))=TRUE,\"\",HLOOKUP($BP19,補助!$AW$2:$BE$9,6,FALSE))","v":""},{"$f":"IF(ISERROR(HLOOKUP($BQ19,補助!$AW$2:$BE$9,6,FALSE))=TRUE,\"\",HLOOKUP($BQ19,補助!$AW$2:$BE$9,6,FALSE))","v":""},{"$f":"IF(ISERROR(HLOOKUP($BR19,補助!$AW$2:$BE$9,6,FALSE))=TRUE,\"\",HLOOKUP($BR19,補助!$AW$2:$BE$9,6,FALSE))","v":""},{"$f":"IF(ISERROR(HLOOKUP($BS19,補助!$AW$2:$BE$9,6,FALSE))=TRUE,\"\",HLOOKUP($BS19,補助!$AW$2:$BE$9,6,FALSE))","v":""},{"$f":"IF(ISERROR(HLOOKUP($BT19,補助!$AW$2:$BE$9,6,FALSE))=TRUE,\"\",HLOOKUP($BT19,補助!$AW$2:$BE$9,6,FALSE))","v":""},{"$f":"IF(ISERROR(HLOOKUP($BU19,補助!$AW$2:$BE$9,6,FALSE))=TRUE,\"\",HLOOKUP($BU19,補助!$AW$2:$BE$9,6,FALSE))","v":""},{"$f":"IF(ISERROR(HLOOKUP($BV19,補助!$AW$2:$BE$9,6,FALSE))=TRUE,\"\",HLOOKUP($BV19,補助!$AW$2:$BE$9,6,FALSE))","v":""},{"$f":"IF(ISERROR(HLOOKUP($BW19,補助!$AW$2:$BE$9,6,FALSE))=TRUE,\"\",HLOOKUP($BW19,補助!$AW$2:$BE$9,6,FALSE))","v":3},{"$f":"IF(ISERROR(HLOOKUP($BX19,補助!$AW$2:$BE$9,6,FALSE))=TRUE,\"\",HLOOKUP($BX19,補助!$AW$2:$BE$9,6,FALSE))","v":2},{"$f":"IF(ISERROR(HLOOKUP($BY19,補助!$AW$2:$BE$9,6,FALSE))=TRUE,\"\",HLOOKUP($BY19,補助!$AW$2:$BE$9,6,FALSE))","v":8},{"$f":"IF(ISERROR(HLOOKUP($BZ19,補助!$AW$2:$BE$9,6,FALSE))=TRUE,\"\",HLOOKUP($BZ19,補助!$AW$2:$BE$9,6,FALSE))","v":4},"328"]
[null,null,null,null,null,null,null,null,null,null,null,null,null,null,null,null,null,null,null,null,null,null,null,null,null,null,null,null,null,null,null,null,null,null,null,null,null,null,null,null,null,null,null,null,null,null,null,null,null,null,null,null,null,null,null,null,null,null,null,null,null,null,null,null,null,null,null,null,null,null,null,{"$error":"#VALUE!"},"B2",null,{"$f":"IF(ISERROR(HLOOKUP($BP20,補助!$AW$2:$BE$9,6,FALSE))=TRUE,\"\",HLOOKUP($BP20,補助!$AW$2:$BE$9,6,FALSE))","v":""},{"$f":"IF(ISERROR(HLOOKUP($BQ20,補助!$AW$2:$BE$9,6,FALSE))=TRUE,\"\",HLOOKUP($BQ20,補助!$AW$2:$BE$9,6,FALSE))","v":""},{"$f":"IF(ISERROR(HLOOKUP($BR20,補助!$AW$2:$BE$9,6,FALSE))=TRUE,\"\",HLOOKUP($BR20,補助!$AW$2:$BE$9,6,FALSE))","v":""},{"$f":"IF(ISERROR(HLOOKUP($BS20,補助!$AW$2:$BE$9,6,FALSE))=TRUE,\"\",HLOOKUP($BS20,補助!$AW$2:$BE$9,6,FALSE))","v":""},{"$f":"IF(ISERROR(HLOOKUP($BT20,補助!$AW$2:$BE$9,6,FALSE))=TRUE,\"\",HLOOKUP($BT20,補助!$AW$2:$BE$9,6,FALSE))","v":""},{"$f":"IF(ISERROR(HLOOKUP($BU20,補助!$AW$2:$BE$9,6,FALSE))=TRUE,\"\",HLOOKUP($BU20,補助!$AW$2:$BE$9,6,FALSE))","v":""},{"$f":"IF(ISERROR(HLOOKUP($BV20,補助!$AW$2:$BE$9,6,FALSE))=TRUE,\"\",HLOOKUP($BV20,補助!$AW$2:$BE$9,6,FALSE))","v":""},{"$f":"IF(ISERROR(HLOOKUP($BW20,補助!$AW$2:$BE$9,6,FALSE))=TRUE,\"\",HLOOKUP($BW20,補助!$AW$2:$BE$9,6,FALSE))","v":3},{"$f":"IF(ISERROR(HLOOKUP($BX20,補助!$AW$2:$BE$9,6,FALSE))=TRUE,\"\",HLOOKUP($BX20,補助!$AW$2:$BE$9,6,FALSE))","v":2},{"$f":"IF(ISERROR(HLOOKUP($BY20,補助!$AW$2:$BE$9,6,FALSE))=TRUE,\"\",HLOOKUP($BY20,補助!$AW$2:$BE$9,6,FALSE))","v":8},{"$f":"IF(ISERROR(HLOOKUP($BZ20,補助!$AW$2:$BE$9,6,FALSE))=TRUE,\"\",HLOOKUP($BZ20,補助!$AW$2:$BE$9,6,FALSE))","v":7},"328"]
[null,null,null,null,null,null,null,null,null,null,null,null,null,null,null,null,null,null,null,null,null,null,null,null,null,null,null,null,null,null,null,null,null,null,null,null,null,null,null,null,null,null,null,null,null,null,null,null,null,null,null,null,null,null,null,null,null,null,null,null,null,null,null,null,null,null,null,null,null,null,null,{"$error":"#VALUE!"},"B2",null,{"$f":"IF(ISERROR(HLOOKUP($BP21,補助!$AW$2:$BE$9,6,FALSE))=TRUE,\"\",HLOOKUP($BP21,補助!$AW$2:$BE$9,6,FALSE))","v":""},{"$f":"IF(ISERROR(HLOOKUP($BQ21,補助!$AW$2:$BE$9,6,FALSE))=TRUE,\"\",HLOOKUP($BQ21,補助!$AW$2:$BE$9,6,FALSE))","v":""},{"$f":"IF(ISERROR(HLOOKUP($BR21,補助!$AW$2:$BE$9,6,FALSE))=TRUE,\"\",HLOOKUP($BR21,補助!$AW$2:$BE$9,6,FALSE))","v":""},{"$f":"IF(ISERROR(HLOOKUP($BS21,補助!$AW$2:$BE$9,6,FALSE))=TRUE,\"\",HLOOKUP($BS21,補助!$AW$2:$BE$9,6,FALSE))","v":""},{"$f":"IF(ISERROR(HLOOKUP($BT21,補助!$AW$2:$BE$9,6,FALSE))=TRUE,\"\",HLOOKUP($BT21,補助!$AW$2:$BE$9,6,FALSE))","v":""},{"$f":"IF(ISERROR(HLOOKUP($BU21,補助!$AW$2:$BE$9,6,FALSE))=TRUE,\"\",HLOOKUP($BU21,補助!$AW$2:$BE$9,6,FALSE))","v":""},{"$f":"IF(ISERROR(HLOOKUP($BV21,補助!$AW$2:$BE$9,6,FALSE))=TRUE,\"\",HLOOKUP($BV21,補助!$AW$2:$BE$9,6,FALSE))","v":""},{"$f":"IF(ISERROR(HLOOKUP($BW21,補助!$AW$2:$BE$9,6,FALSE))=TRUE,\"\",HLOOKUP($BW21,補助!$AW$2:$BE$9,6,FALSE))","v":3},{"$f":"IF(ISERROR(HLOOKUP($BX21,補助!$AW$2:$BE$9,6,FALSE))=TRUE,\"\",HLOOKUP($BX21,補助!$AW$2:$BE$9,6,FALSE))","v":2},{"$f":"IF(ISERROR(HLOOKUP($BY21,補助!$AW$2:$BE$9,6,FALSE))=TRUE,\"\",HLOOKUP($BY21,補助!$AW$2:$BE$9,6,FALSE))","v":8},{"$f":"IF(ISERROR(HLOOKUP($BZ21,補助!$AW$2:$BE$9,6,FALSE))=TRUE,\"\",HLOOKUP($BZ21,補助!$AW$2:$BE$9,6,FALSE))","v":7},"328"]
[null,null,null,null,null,null,null,null,null,null,null,null,null,null,null,null,null,null,null,null,null,null,null,null,null,null,null,null,null,null,null,null,null,null,null,null,null,null,null,null,null,null,null,null,null,null,null,null,null,null,null,null,null,null,null,null,null,null,null,null,null,null,null,null,null,null,null,null,null,null,null,{"$error":"#VALUE!"},"B2",null,{"$f":"IF(ISERROR(HLOOKUP($BP22,補助!$AW$2:$BE$9,6,FALSE))=TRUE,\"\",HLOOKUP($BP22,補助!$AW$2:$BE$9,6,FALSE))","v":""},{"$f":"IF(ISERROR(HLOOKUP($BQ22,補助!$AW$2:$BE$9,6,FALSE))=TRUE,\"\",HLOOKUP($BQ22,補助!$AW$2:$BE$9,6,FALSE))","v":""},{"$f":"IF(ISERROR(HLOOKUP($BR22,補助!$AW$2:$BE$9,6,FALSE))=TRUE,\"\",HLOOKUP($BR22,補助!$AW$2:$BE$9,6,FALSE))","v":""},{"$f":"IF(ISERROR(HLOOKUP($BS22,補助!$AW$2:$BE$9,6,FALSE))=TRUE,\"\",HLOOKUP($BS22,補助!$AW$2:$BE$9,6,FALSE))","v":""},{"$f":"IF(ISERROR(HLOOKUP($BT22,補助!$AW$2:$BE$9,6,FALSE))=TRUE,\"\",HLOOKUP($BT22,補助!$AW$2:$BE$9,6,FALSE))","v":""},{"$f":"IF(ISERROR(HLOOKUP($BU22,補助!$AW$2:$BE$9,6,FALSE))=TRUE,\"\",HLOOKUP($BU22,補助!$AW$2:$BE$9,6,FALSE))","v":""},{"$f":"IF(ISERROR(HLOOKUP($BV22,補助!$AW$2:$BE$9,6,FALSE))=TRUE,\"\",HLOOKUP($BV22,補助!$AW$2:$BE$9,6,FALSE))","v":""},{"$f":"IF(ISERROR(HLOOKUP($BW22,補助!$AW$2:$BE$9,6,FALSE))=TRUE,\"\",HLOOKUP($BW22,補助!$AW$2:$BE$9,6,FALSE))","v":3},{"$f":"IF(ISERROR(HLOOKUP($BX22,補助!$AW$2:$BE$9,6,FALSE))=TRUE,\"\",HLOOKUP($BX22,補助!$AW$2:$BE$9,6,FALSE))","v":1},{"$f":"IF(ISERROR(HLOOKUP($BY22,補助!$AW$2:$BE$9,6,FALSE))=TRUE,\"\",HLOOKUP($BY22,補助!$AW$2:$BE$9,6,FALSE))","v":6},{"$f":"IF(ISERROR(HLOOKUP($BZ22,補助!$AW$2:$BE$9,6,FALSE))=TRUE,\"\",HLOOKUP($BZ22,補助!$AW$2:$BE$9,6,FALSE))","v":""},"316"]
[null,null,null,null,null,null,null,null,null,null,null,null,null,null,null,null,null,null,null,null,null,null,null,null,null,null,null,null,null,null,null,null,null,null,null,null,null,null,null,null,null,null,null,null,null,null,null,null,null,null,null,null,null,null,null,null,null,null,null,null,null,null,null,null,null,null,null,null,null,null,null,{"$error":"#VALUE!"},"B2",null,{"$f":"IF(ISERROR(HLOOKUP($BP23,補助!$AW$2:$BE$9,6,FALSE))=TRUE,\"\",HLOOKUP($BP23,補助!$AW$2:$BE$9,6,FALSE))","v":""},{"$f":"IF(ISERROR(HLOOKUP($BQ23,補助!$AW$2:$BE$9,6,FALSE))=TRUE,\"\",HLOOKUP($BQ23,補助!$AW$2:$BE$9,6,FALSE))","v":""},{"$f":"IF(ISERROR(HLOOKUP($BR23,補助!$AW$2:$BE$9,6,FALSE))=TRUE,\"\",HLOOKUP($BR23,補助!$AW$2:$BE$9,6,FALSE))","v":""},{"$f":"IF(ISERROR(HLOOKUP($BS23,補助!$AW$2:$BE$9,6,FALSE))=TRUE,\"\",HLOOKUP($BS23,補助!$AW$2:$BE$9,6,FALSE))","v":""},{"$f":"IF(ISERROR(HLOOKUP($BT23,補助!$AW$2:$BE$9,6,FALSE))=TRUE,\"\",HLOOKUP($BT23,補助!$AW$2:$BE$9,6,FALSE))","v":""},{"$f":"IF(ISERROR(HLOOKUP($BU23,補助!$AW$2:$BE$9,6,FALSE))=TRUE,\"\",HLOOKUP($BU23,補助!$AW$2:$BE$9,6,FALSE))","v":""},{"$f":"IF(ISERROR(HLOOKUP($BV23,補助!$AW$2:$BE$9,6,FALSE))=TRUE,\"\",HLOOKUP($BV23,補助!$AW$2:$BE$9,6,FALSE))","v":""},{"$f":"IF(ISERROR(HLOOKUP($BW23,補助!$AW$2:$BE$9,6,FALSE))=TRUE,\"\",HLOOKUP($BW23,補助!$AW$2:$BE$9,6,FALSE))","v":3},{"$f":"IF(ISERROR(HLOOKUP($BX23,補助!$AW$2:$BE$9,6,FALSE))=TRUE,\"\",HLOOKUP($BX23,補助!$AW$2:$BE$9,6,FALSE))","v":1},{"$f":"IF(ISERROR(HLOOKUP($BY23,補助!$AW$2:$BE$9,6,FALSE))=TRUE,\"\",HLOOKUP($BY23,補助!$AW$2:$BE$9,6,FALSE))","v":9},{"$f":"IF(ISERROR(HLOOKUP($BZ23,補助!$AW$2:$BE$9,6,FALSE))=TRUE,\"\",HLOOKUP($BZ23,補助!$AW$2:$BE$9,6,FALSE))","v":""},"319"]
[null,null,null,null,null,null,null,null,null,null,null,null,null,null,null,null,null,null,null,null,null,null,null,null,null,null,null,null,null,null,null,null,null,null,null,null,null,null,null,null,null,null,null,null,null,null,null,null,null,null,null,null,null,null,null,null,null,null,null,null,null,null,null,null,null,null,null,null,null,null,null,{"$error":"#VALUE!"},"B2",null,{"$f":"IF(ISERROR(HLOOKUP($BP24,補助!$AW$2:$BE$9,6,FALSE))=TRUE,\"\",HLOOKUP($BP24,補助!$AW$2:$BE$9,6,FALSE))","v":""},{"$f":"IF(ISERROR(HLOOKUP($BQ24,補助!$AW$2:$BE$9,6,FALSE))=TRUE,\"\",HLOOKUP($BQ24,補助!$AW$2:$BE$9,6,FALSE))","v":""},{"$f":"IF(ISERROR(HLOOKUP($BR24,補助!$AW$2:$BE$9,6,FALSE))=TRUE,\"\",HLOOKUP($BR24,補助!$AW$2:$BE$9,6,FALSE))","v":""},{"$f":"IF(ISERROR(HLOOKUP($BS24,補助!$AW$2:$BE$9,6,FALSE))=TRUE,\"\",HLOOKUP($BS24,補助!$AW$2:$BE$9,6,FALSE))","v":""},{"$f":"IF(ISERROR(HLOOKUP($BT24,補助!$AW$2:$BE$9,6,FALSE))=TRUE,\"\",HLOOKUP($BT24,補助!$AW$2:$BE$9,6,FALSE))","v":""},{"$f":"IF(ISERROR(HLOOKUP($BU24,補助!$AW$2:$BE$9,6,FALSE))=TRUE,\"\",HLOOKUP($BU24,補助!$AW$2:$BE$9,6,FALSE))","v":""},{"$f":"IF(ISERROR(HLOOKUP($BV24,補助!$AW$2:$BE$9,6,FALSE))=TRUE,\"\",HLOOKUP($BV24,補助!$AW$2:$BE$9,6,FALSE))","v":""},{"$f":"IF(ISERROR(HLOOKUP($BW24,補助!$AW$2:$BE$9,6,FALSE))=TRUE,\"\",HLOOKUP($BW24,補助!$AW$2:$BE$9,6,FALSE))","v":3},{"$f":"IF(ISERROR(HLOOKUP($BX24,補助!$AW$2:$BE$9,6,FALSE))=TRUE,\"\",HLOOKUP($BX24,補助!$AW$2:$BE$9,6,FALSE))","v":1},{"$f":"IF(ISERROR(HLOOKUP($BY24,補助!$AW$2:$BE$9,6,FALSE))=TRUE,\"\",HLOOKUP($BY24,補助!$AW$2:$BE$9,6,FALSE))","v":7},{"$f":"IF(ISERROR(HLOOKUP($BZ24,補助!$AW$2:$BE$9,6,FALSE))=TRUE,\"\",HLOOKUP($BZ24,補助!$AW$2:$BE$9,6,FALSE))","v":""},"317"]
[null,null,null,null,null,null,null,null,null,null,null,null,null,null,null,null,null,null,null,null,null,null,null,null,null,null,null,null,null,null,null,null,null,null,null,null,null,null,null,null,null,null,null,null,null,null,null,null,null,null,null,null,null,null,null,null,null,null,null,null,null,null,null,null,null,null,null,null,null,null,null,{"$error":"#VALUE!"},"B2",null,{"$f":"IF(ISERROR(HLOOKUP($BP25,補助!$AW$2:$BE$9,6,FALSE))=TRUE,\"\",HLOOKUP($BP25,補助!$AW$2:$BE$9,6,FALSE))","v":""},{"$f":"IF(ISERROR(HLOOKUP($BQ25,補助!$AW$2:$BE$9,6,FALSE))=TRUE,\"\",HLOOKUP($BQ25,補助!$AW$2:$BE$9,6,FALSE))","v":""},{"$f":"IF(ISERROR(HLOOKUP($BR25,補助!$AW$2:$BE$9,6,FALSE))=TRUE,\"\",HLOOKUP($BR25,補助!$AW$2:$BE$9,6,FALSE))","v":""},{"$f":"IF(ISERROR(HLOOKUP($BS25,補助!$AW$2:$BE$9,6,FALSE))=TRUE,\"\",HLOOKUP($BS25,補助!$AW$2:$BE$9,6,FALSE))","v":""},{"$f":"IF(ISERROR(HLOOKUP($BT25,補助!$AW$2:$BE$9,6,FALSE))=TRUE,\"\",HLOOKUP($BT25,補助!$AW$2:$BE$9,6,FALSE))","v":""},{"$f":"IF(ISERROR(HLOOKUP($BU25,補助!$AW$2:$BE$9,6,FALSE))=TRUE,\"\",HLOOKUP($BU25,補助!$AW$2:$BE$9,6,FALSE))","v":""},{"$f":"IF(ISERROR(HLOOKUP($BV25,補助!$AW$2:$BE$9,6,FALSE))=TRUE,\"\",HLOOKUP($BV25,補助!$AW$2:$BE$9,6,FALSE))","v":""},{"$f":"IF(ISERROR(HLOOKUP($BW25,補助!$AW$2:$BE$9,6,FALSE))=TRUE,\"\",HLOOKUP($BW25,補助!$AW$2:$BE$9,6,FALSE))","v":3},{"$f":"IF(ISERROR(HLOOKUP($BX25,補助!$AW$2:$BE$9,6,FALSE))=TRUE,\"\",HLOOKUP($BX25,補助!$AW$2:$BE$9,6,FALSE))","v":1},{"$f":"IF(ISERROR(HLOOKUP($BY25,補助!$AW$2:$BE$9,6,FALSE))=TRUE,\"\",HLOOKUP($BY25,補助!$AW$2:$BE$9,6,FALSE))","v":2},{"$f":"IF(ISERROR(HLOOKUP($BZ25,補助!$AW$2:$BE$9,6,FALSE))=TRUE,\"\",HLOOKUP($BZ25,補助!$AW$2:$BE$9,6,FALSE))","v":6},"312"]
[null,null,null,null,null,null,null,null,null,null,null,null,null,null,null,null,null,null,null,null,null,null,null,null,null,null,null,null,null,null,null,null,null,null,null,null,null,null,null,null,null,null,null,null,null,null,null,null,null,null,null,null,null,null,null,null,null,null,null,null,null,null,null,null,null,null,null,null,null,null,null,{"$error":"#VALUE!"},"B2",null,{"$f":"IF(ISERROR(HLOOKUP($BP26,補助!$AW$2:$BE$9,6,FALSE))=TRUE,\"\",HLOOKUP($BP26,補助!$AW$2:$BE$9,6,FALSE))","v":""},{"$f":"IF(ISERROR(HLOOKUP($BQ26,補助!$AW$2:$BE$9,6,FALSE))=TRUE,\"\",HLOOKUP($BQ26,補助!$AW$2:$BE$9,6,FALSE))","v":""},{"$f":"IF(ISERROR(HLOOKUP($BR26,補助!$AW$2:$BE$9,6,FALSE))=TRUE,\"\",HLOOKUP($BR26,補助!$AW$2:$BE$9,6,FALSE))","v":""},{"$f":"IF(ISERROR(HLOOKUP($BS26,補助!$AW$2:$BE$9,6,FALSE))=TRUE,\"\",HLOOKUP($BS26,補助!$AW$2:$BE$9,6,FALSE))","v":""},{"$f":"IF(ISERROR(HLOOKUP($BT26,補助!$AW$2:$BE$9,6,FALSE))=TRUE,\"\",HLOOKUP($BT26,補助!$AW$2:$BE$9,6,FALSE))","v":""},{"$f":"IF(ISERROR(HLOOKUP($BU26,補助!$AW$2:$BE$9,6,FALSE))=TRUE,\"\",HLOOKUP($BU26,補助!$AW$2:$BE$9,6,FALSE))","v":""},{"$f":"IF(ISERROR(HLOOKUP($BV26,補助!$AW$2:$BE$9,6,FALSE))=TRUE,\"\",HLOOKUP($BV26,補助!$AW$2:$BE$9,6,FALSE))","v":""},{"$f":"IF(ISERROR(HLOOKUP($BW26,補助!$AW$2:$BE$9,6,FALSE))=TRUE,\"\",HLOOKUP($BW26,補助!$AW$2:$BE$9,6,FALSE))","v":3},{"$f":"IF(ISERROR(HLOOKUP($BX26,補助!$AW$2:$BE$9,6,FALSE))=TRUE,\"\",HLOOKUP($BX26,補助!$AW$2:$BE$9,6,FALSE))","v":1},{"$f":"IF(ISERROR(HLOOKUP($BY26,補助!$AW$2:$BE$9,6,FALSE))=TRUE,\"\",HLOOKUP($BY26,補助!$AW$2:$BE$9,6,FALSE))","v":2},{"$f":"IF(ISERROR(HLOOKUP($BZ26,補助!$AW$2:$BE$9,6,FALSE))=TRUE,\"\",HLOOKUP($BZ26,補助!$AW$2:$BE$9,6,FALSE))","v":9},"312"]
[null,null,null,null,null,null,null,null,null,null,null,null,null,null,null,null,null,null,null,null,null,null,null,null,null,null,null,null,null,null,null,null,null,null,null,null,null,null,null,null,null,null,null,null,null,null,null,null,null,null,null,null,null,null,null,null,null,null,null,null,null,null,null,null,null,null,null,null,null,null,null,{"$error":"#VALUE!"},"B2","白",{"$f":"IF(ISERROR(HLOOKUP($BP27,補助!$AW$2:$BE$9,6,FALSE))=TRUE,\"\",HLOOKUP($BP27,補助!$AW$2:$BE$9,6,FALSE))","v":""},{"$f":"IF(ISERROR(HLOOKUP($BQ27,補助!$AW$2:$BE$9,6,FALSE))=TRUE,\"\",HLOOKUP($BQ27,補助!$AW$2:$BE$9,6,FALSE))","v":""},{"$f":"IF(ISERROR(HLOOKUP($BR27,補助!$AW$2:$BE$9,6,FALSE))=TRUE,\"\",HLOOKUP($BR27,補助!$AW$2:$BE$9,6,FALSE))","v":""},{"$f":"IF(ISERROR(HLOOKUP($BS27,補助!$AW$2:$BE$9,6,FALSE))=TRUE,\"\",HLOOKUP($BS27,補助!$AW$2:$BE$9,6,FALSE))","v":""},{"$f":"IF(ISERROR(HLOOKUP($BT27,補助!$AW$2:$BE$9,6,FALSE))=TRUE,\"\",HLOOKUP($BT27,補助!$AW$2:$BE$9,6,FALSE))","v":""},{"$f":"IF(ISERROR(HLOOKUP($BU27,補助!$AW$2:$BE$9,6,FALSE))=TRUE,\"\",HLOOKUP($BU27,補助!$AW$2:$BE$9,6,FALSE))","v":""},{"$f":"IF(ISERROR(HLOOKUP($BV27,補助!$AW$2:$BE$9,6,FALSE))=TRUE,\"\",HLOOKUP($BV27,補助!$AW$2:$BE$9,6,FALSE))","v":""},{"$f":"IF(ISERROR(HLOOKUP($BW27,補助!$AW$2:$BE$9,6,FALSE))=TRUE,\"\",HLOOKUP($BW27,補助!$AW$2:$BE$9,6,FALSE))","v":3},{"$f":"IF(ISERROR(HLOOKUP($BX27,補助!$AW$2:$BE$9,6,FALSE))=TRUE,\"\",HLOOKUP($BX27,補助!$AW$2:$BE$9,6,FALSE))","v":1},{"$f":"IF(ISERROR(HLOOKUP($BY27,補助!$AW$2:$BE$9,6,FALSE))=TRUE,\"\",HLOOKUP($BY27,補助!$AW$2:$BE$9,6,FALSE))","v":2},{"$f":"IF(ISERROR(HLOOKUP($BZ27,補助!$AW$2:$BE$9,6,FALSE))=TRUE,\"\",HLOOKUP($BZ27,補助!$AW$2:$BE$9,6,FALSE))","v":4},"312"]
[null,null,null,null,null,null,null,null,null,null,null,null,null,null,null,null,null,null,null,null,null,null,null,null,null,null,null,null,null,null,null,null,null,null,null,null,null,null,null,null,null,null,null,null,null,null,null,null,null,null,null,null,null,null,null,null,null,null,null,null,null,null,null,null,null,null,null,null,null,null,null,{"$error":"#VALUE!"},"B2","白",{"$f":"IF(ISERROR(HLOOKUP($BP28,補助!$AW$2:$BE$9,6,FALSE))=TRUE,\"\",HLOOKUP($BP28,補助!$AW$2:$BE$9,6,FALSE))","v":""},{"$f":"IF(ISERROR(HLOOKUP($BQ28,補助!$AW$2:$BE$9,6,FALSE))=TRUE,\"\",HLOOKUP($BQ28,補助!$AW$2:$BE$9,6,FALSE))","v":""},{"$f":"IF(ISERROR(HLOOKUP($BR28,補助!$AW$2:$BE$9,6,FALSE))=TRUE,\"\",HLOOKUP($BR28,補助!$AW$2:$BE$9,6,FALSE))","v":""},{"$f":"IF(ISERROR(HLOOKUP($BS28,補助!$AW$2:$BE$9,6,FALSE))=TRUE,\"\",HLOOKUP($BS28,補助!$AW$2:$BE$9,6,FALSE))","v":""},{"$f":"IF(ISERROR(HLOOKUP($BT28,補助!$AW$2:$BE$9,6,FALSE))=TRUE,\"\",HLOOKUP($BT28,補助!$AW$2:$BE$9,6,FALSE))","v":""},{"$f":"IF(ISERROR(HLOOKUP($BU28,補助!$AW$2:$BE$9,6,FALSE))=TRUE,\"\",HLOOKUP($BU28,補助!$AW$2:$BE$9,6,FALSE))","v":""},{"$f":"IF(ISERROR(HLOOKUP($BV28,補助!$AW$2:$BE$9,6,FALSE))=TRUE,\"\",HLOOKUP($BV28,補助!$AW$2:$BE$9,6,FALSE))","v":""},{"$f":"IF(ISERROR(HLOOKUP($BW28,補助!$AW$2:$BE$9,6,FALSE))=TRUE,\"\",HLOOKUP($BW28,補助!$AW$2:$BE$9,6,FALSE))","v":3},{"$f":"IF(ISERROR(HLOOKUP($BX28,補助!$AW$2:$BE$9,6,FALSE))=TRUE,\"\",HLOOKUP($BX28,補助!$AW$2:$BE$9,6,FALSE))","v":1},{"$f":"IF(ISERROR(HLOOKUP($BY28,補助!$AW$2:$BE$9,6,FALSE))=TRUE,\"\",HLOOKUP($BY28,補助!$AW$2:$BE$9,6,FALSE))","v":2},{"$f":"IF(ISERROR(HLOOKUP($BZ28,補助!$AW$2:$BE$9,6,FALSE))=TRUE,\"\",HLOOKUP($BZ28,補助!$AW$2:$BE$9,6,FALSE))","v":7},"312"]
[null,null,null,null,null,null,null,null,null,null,null,null,null,null,null,null,null,null,null,null,null,null,null,null,null,null,null,null,null,null,null,null,null,null,null,null,null,null,null,null,null,null,null,null,null,null,null,null,null,null,null,null,null,null,null,null,null,null,null,null,null,null,null,null,null,null,null,null,null,null,null,{"$error":"#VALUE!"},"B2",null,{"$f":"IF(ISERROR(HLOOKUP($BP29,補助!$AW$2:$BE$9,6,FALSE))=TRUE,\"\",HLOOKUP($BP29,補助!$AW$2:$BE$9,6,FALSE))","v":""},{"$f":"IF(ISERROR(HLOOKUP($BQ29,補助!$AW$2:$BE$9,6,FALSE))=TRUE,\"\",HLOOKUP($BQ29,補助!$AW$2:$BE$9,6,FALSE))","v":""},{"$f":"IF(ISERROR(HLOOKUP($BR29,補助!$AW$2:$BE$9,6,FALSE))=TRUE,\"\",HLOOKUP($BR29,補助!$AW$2:$BE$9,6,FALSE))","v":""},{"$f":"IF(ISERROR(HLOOKUP($BS29,補助!$AW$2:$BE$9,6,FALSE))=TRUE,\"\",HLOOKUP($BS29,補助!$AW$2:$BE$9,6,FALSE))","v":""},{"$f":"IF(ISERROR(HLOOKUP($BT29,補助!$AW$2:$BE$9,6,FALSE))=TRUE,\"\",HLOOKUP($BT29,補助!$AW$2:$BE$9,6,FALSE))","v":""},{"$f":"IF(ISERROR(HLOOKUP($BU29,補助!$AW$2:$BE$9,6,FALSE))=TRUE,\"\",HLOOKUP($BU29,補助!$AW$2:$BE$9,6,FALSE))","v":""},{"$f":"IF(ISERROR(HLOOKUP($BV29,補助!$AW$2:$BE$9,6,FALSE))=TRUE,\"\",HLOOKUP($BV29,補助!$AW$2:$BE$9,6,FALSE))","v":""},{"$f":"IF(ISERROR(HLOOKUP($BW29,補助!$AW$2:$BE$9,6,FALSE))=TRUE,\"\",HLOOKUP($BW29,補助!$AW$2:$BE$9,6,FALSE))","v":3},{"$f":"IF(ISERROR(HLOOKUP($BX29,補助!$AW$2:$BE$9,6,FALSE))=TRUE,\"\",HLOOKUP($BX29,補助!$AW$2:$BE$9,6,FALSE))","v":1},{"$f":"IF(ISERROR(HLOOKUP($BY29,補助!$AW$2:$BE$9,6,FALSE))=TRUE,\"\",HLOOKUP($BY29,補助!$AW$2:$BE$9,6,FALSE))","v":8},{"$f":"IF(ISERROR(HLOOKUP($BZ29,補助!$AW$2:$BE$9,6,FALSE))=TRUE,\"\",HLOOKUP($BZ29,補助!$AW$2:$BE$9,6,FALSE))","v":2},"318"]
[null,null,null,null,null,null,null,null,null,null,null,null,null,null,null,null,null,null,null,null,null,null,null,null,null,null,null,null,null,null,null,null,null,null,null,null,null,null,null,null,null,null,null,null,null,null,null,null,null,null,null,null,null,null,null,null,null,null,null,null,null,null,null,null,null,null,null,null,null,null,null,{"$error":"#VALUE!"},"B2",null,{"$f":"IF(ISERROR(HLOOKUP($BP30,補助!$AW$2:$BE$9,6,FALSE))=TRUE,\"\",HLOOKUP($BP30,補助!$AW$2:$BE$9,6,FALSE))","v":""},{"$f":"IF(ISERROR(HLOOKUP($BQ30,補助!$AW$2:$BE$9,6,FALSE))=TRUE,\"\",HLOOKUP($BQ30,補助!$AW$2:$BE$9,6,FALSE))","v":""},{"$f":"IF(ISERROR(HLOOKUP($BR30,補助!$AW$2:$BE$9,6,FALSE))=TRUE,\"\",HLOOKUP($BR30,補助!$AW$2:$BE$9,6,FALSE))","v":""},{"$f":"IF(ISERROR(HLOOKUP($BS30,補助!$AW$2:$BE$9,6,FALSE))=TRUE,\"\",HLOOKUP($BS30,補助!$AW$2:$BE$9,6,FALSE))","v":""},{"$f":"IF(ISERROR(HLOOKUP($BT30,補助!$AW$2:$BE$9,6,FALSE))=TRUE,\"\",HLOOKUP($BT30,補助!$AW$2:$BE$9,6,FALSE))","v":""},{"$f":"IF(ISERROR(HLOOKUP($BU30,補助!$AW$2:$BE$9,6,FALSE))=TRUE,\"\",HLOOKUP($BU30,補助!$AW$2:$BE$9,6,FALSE))","v":""},{"$f":"IF(ISERROR(HLOOKUP($BV30,補助!$AW$2:$BE$9,6,FALSE))=TRUE,\"\",HLOOKUP($BV30,補助!$AW$2:$BE$9,6,FALSE))","v":""},{"$f":"IF(ISERROR(HLOOKUP($BW30,補助!$AW$2:$BE$9,6,FALSE))=TRUE,\"\",HLOOKUP($BW30,補助!$AW$2:$BE$9,6,FALSE))","v":3},{"$f":"IF(ISERROR(HLOOKUP($BX30,補助!$AW$2:$BE$9,6,FALSE))=TRUE,\"\",HLOOKUP($BX30,補助!$AW$2:$BE$9,6,FALSE))","v":1},{"$f":"IF(ISERROR(HLOOKUP($BY30,補助!$AW$2:$BE$9,6,FALSE))=TRUE,\"\",HLOOKUP($BY30,補助!$AW$2:$BE$9,6,FALSE))","v":8},{"$f":"IF(ISERROR(HLOOKUP($BZ30,補助!$AW$2:$BE$9,6,FALSE))=TRUE,\"\",HLOOKUP($BZ30,補助!$AW$2:$BE$9,6,FALSE))","v":6},"318"]
[null,null,null,null,null,null,null,null,null,null,null,null,null,null,null,null,null,null,null,null,null,null,null,null,null,null,null,null,null,null,null,null,null,null,null,null,null,null,null,null,null,null,null,null,null,null,null,null,null,null,null,null,null,null,null,null,null,null,null,null,null,null,null,null,null,null,null,null,null,null,null,{"$error":"#VALUE!"},"B2",null,{"$f":"IF(ISERROR(HLOOKUP($BP31,補助!$AW$2:$BE$9,6,FALSE))=TRUE,\"\",HLOOKUP($BP31,補助!$AW$2:$BE$9,6,FALSE))","v":""},{"$f":"IF(ISERROR(HLOOKUP($BQ31,補助!$AW$2:$BE$9,6,FALSE))=TRUE,\"\",HLOOKUP($BQ31,補助!$AW$2:$BE$9,6,FALSE))","v":""},{"$f":"IF(ISERROR(HLOOKUP($BR31,補助!$AW$2:$BE$9,6,FALSE))=TRUE,\"\",HLOOKUP($BR31,補助!$AW$2:$BE$9,6,FALSE))","v":""},{"$f":"IF(ISERROR(HLOOKUP($BS31,補助!$AW$2:$BE$9,6,FALSE))=TRUE,\"\",HLOOKUP($BS31,補助!$AW$2:$BE$9,6,FALSE))","v":""},{"$f":"IF(ISERROR(HLOOKUP($BT31,補助!$AW$2:$BE$9,6,FALSE))=TRUE,\"\",HLOOKUP($BT31,補助!$AW$2:$BE$9,6,FALSE))","v":""},{"$f":"IF(ISERROR(HLOOKUP($BU31,補助!$AW$2:$BE$9,6,FALSE))=TRUE,\"\",HLOOKUP($BU31,補助!$AW$2:$BE$9,6,FALSE))","v":""},{"$f":"IF(ISERROR(HLOOKUP($BV31,補助!$AW$2:$BE$9,6,FALSE))=TRUE,\"\",HLOOKUP($BV31,補助!$AW$2:$BE$9,6,FALSE))","v":""},{"$f":"IF(ISERROR(HLOOKUP($BW31,補助!$AW$2:$BE$9,6,FALSE))=TRUE,\"\",HLOOKUP($BW31,補助!$AW$2:$BE$9,6,FALSE))","v":3},{"$f":"IF(ISERROR(HLOOKUP($BX31,補助!$AW$2:$BE$9,6,FALSE))=TRUE,\"\",HLOOKUP($BX31,補助!$AW$2:$BE$9,6,FALSE))","v":1},{"$f":"IF(ISERROR(HLOOKUP($BY31,補助!$AW$2:$BE$9,6,FALSE))=TRUE,\"\",HLOOKUP($BY31,補助!$AW$2:$BE$9,6,FALSE))","v":8},{"$f":"IF(ISERROR(HLOOKUP($BZ31,補助!$AW$2:$BE$9,6,FALSE))=TRUE,\"\",HLOOKUP($BZ31,補助!$AW$2:$BE$9,6,FALSE))","v":5},"318"]
[null,null,null,null,null,null,null,null,null,null,null,null,null,null,null,null,null,null,null,null,null,null,null,null,null,null,null,null,null,null,null,null,null,null,null,null,null,null,null,null,null,null,null,null,null,null,null,null,null,null,null,null,null,null,null,null,null,null,null,null,null,null,null,null,null,null,null,null,null,null,null,{"$f":"IF($S$33=MID(CH322,1,$S$32),BT321+1,BT321)","v":{"$error":"#VALUE!"}},"B2",null,{"$f":"IF(ISERROR(HLOOKUP($BP32,補助!$AW$2:$BE$9,6,FALSE))=TRUE,\"\",HLOOKUP($BP32,補助!$AW$2:$BE$9,6,FALSE))","v":""},{"$f":"IF(ISERROR(HLOOKUP($BQ32,補助!$AW$2:$BE$9,6,FALSE))=TRUE,\"\",HLOOKUP($BQ32,補助!$AW$2:$BE$9,6,FALSE))","v":""},{"$f":"IF(ISERROR(HLOOKUP($BR32,補助!$AW$2:$BE$9,6,FALSE))=TRUE,\"\",HLOOKUP($BR32,補助!$AW$2:$BE$9,6,FALSE))","v":""},{"$f":"IF(ISERROR(HLOOKUP($BS32,補助!$AW$2:$BE$9,6,FALSE))=TRUE,\"\",HLOOKUP($BS32,補助!$AW$2:$BE$9,6,FALSE))","v":""},{"$f":"IF(ISERROR(HLOOKUP($BT32,補助!$AW$2:$BE$9,6,FALSE))=TRUE,\"\",HLOOKUP($BT32,補助!$AW$2:$BE$9,6,FALSE))","v":""},{"$f":"IF(ISERROR(HLOOKUP($BU32,補助!$AW$2:$BE$9,6,FALSE))=TRUE,\"\",HLOOKUP($BU32,補助!$AW$2:$BE$9,6,FALSE))","v":""},{"$f":"IF(ISERROR(HLOOKUP($BV32,補助!$AW$2:$BE$9,6,FALSE))=TRUE,\"\",HLOOKUP($BV32,補助!$AW$2:$BE$9,6,FALSE))","v":""},{"$f":"IF(ISERROR(HLOOKUP($BW32,補助!$AW$2:$BE$9,6,FALSE))=TRUE,\"\",HLOOKUP($BW32,補助!$AW$2:$BE$9,6,FALSE))","v":3},{"$f":"IF(ISERROR(HLOOKUP($BX32,補助!$AW$2:$BE$9,6,FALSE))=TRUE,\"\",HLOOKUP($BX32,補助!$AW$2:$BE$9,6,FALSE))","v":1},{"$f":"IF(ISERROR(HLOOKUP($BY32,補助!$AW$2:$BE$9,6,FALSE))=TRUE,\"\",HLOOKUP($BY32,補助!$AW$2:$BE$9,6,FALSE))","v":8},{"$f":"IF(ISERROR(HLOOKUP($BZ32,補助!$AW$2:$BE$9,6,FALSE))=TRUE,\"\",HLOOKUP($BZ32,補助!$AW$2:$BE$9,6,FALSE))","v":4},{"$f":"BW322&BX322&BY322&BZ322&CA322&CB322&CC322&CD322&CE322&CF322","v":"318"}]
[null,null,null,null,null,null,null,null,null,null,null,null,null,null,null,null,null,null,null,null,null,null,null,null,null,null,null,null,null,null,null,null,null,null,null,null,null,null,null,null,null,null,null,null,null,null,null,null,null,null,null,null,null,null,null,null,null,null,null,null,null,null,null,null,null,null,null,null,null,null,null,{"$error":"#VALUE!"},"B2",null,{"$f":"IF(ISERROR(HLOOKUP($BP33,補助!$AW$2:$BE$9,6,FALSE))=TRUE,\"\",HLOOKUP($BP33,補助!$AW$2:$BE$9,6,FALSE))","v":""},{"$f":"IF(ISERROR(HLOOKUP($BQ33,補助!$AW$2:$BE$9,6,FALSE))=TRUE,\"\",HLOOKUP($BQ33,補助!$AW$2:$BE$9,6,FALSE))","v":""},{"$f":"IF(ISERROR(HLOOKUP($BR33,補助!$AW$2:$BE$9,6,FALSE))=TRUE,\"\",HLOOKUP($BR33,補助!$AW$2:$BE$9,6,FALSE))","v":""},{"$f":"IF(ISERROR(HLOOKUP($BS33,補助!$AW$2:$BE$9,6,FALSE))=TRUE,\"\",HLOOKUP($BS33,補助!$AW$2:$BE$9,6,FALSE))","v":""},{"$f":"IF(ISERROR(HLOOKUP($BT33,補助!$AW$2:$BE$9,6,FALSE))=TRUE,\"\",HLOOKUP($BT33,補助!$AW$2:$BE$9,6,FALSE))","v":""},{"$f":"IF(ISERROR(HLOOKUP($BU33,補助!$AW$2:$BE$9,6,FALSE))=TRUE,\"\",HLOOKUP($BU33,補助!$AW$2:$BE$9,6,FALSE))","v":""},{"$f":"IF(ISERROR(HLOOKUP($BV33,補助!$AW$2:$BE$9,6,FALSE))=TRUE,\"\",HLOOKUP($BV33,補助!$AW$2:$BE$9,6,FALSE))","v":""},{"$f":"IF(ISERROR(HLOOKUP($BW33,補助!$AW$2:$BE$9,6,FALSE))=TRUE,\"\",HLOOKUP($BW33,補助!$AW$2:$BE$9,6,FALSE))","v":3},{"$f":"IF(ISERROR(HLOOKUP($BX33,補助!$AW$2:$BE$9,6,FALSE))=TRUE,\"\",HLOOKUP($BX33,補助!$AW$2:$BE$9,6,FALSE))","v":1},{"$f":"IF(ISERROR(HLOOKUP($BY33,補助!$AW$2:$BE$9,6,FALSE))=TRUE,\"\",HLOOKUP($BY33,補助!$AW$2:$BE$9,6,FALSE))","v":8},{"$f":"IF(ISERROR(HLOOKUP($BZ33,補助!$AW$2:$BE$9,6,FALSE))=TRUE,\"\",HLOOKUP($BZ33,補助!$AW$2:$BE$9,6,FALSE))","v":9},"318"]
[null,null,null,null,null,null,null,null,null,null,null,null,null,null,null,null,null,null,null,null,null,null,null,null,null,null,null,null,null,null,null,null,null,null,null,null,null,null,null,null,null,null,null,null,null,null,null,null,null,null,null,null,null,null,null,null,null,null,null,null,null,null,null,null,null,null,null,null,null,null,null,{"$error":"#VALUE!"},"B2",null,{"$f":"IF(ISERROR(HLOOKUP($BP34,補助!$AW$2:$BE$9,6,FALSE))=TRUE,\"\",HLOOKUP($BP34,補助!$AW$2:$BE$9,6,FALSE))","v":""},{"$f":"IF(ISERROR(HLOOKUP($BQ34,補助!$AW$2:$BE$9,6,FALSE))=TRUE,\"\",HLOOKUP($BQ34,補助!$AW$2:$BE$9,6,FALSE))","v":""},{"$f":"IF(ISERROR(HLOOKUP($BR34,補助!$AW$2:$BE$9,6,FALSE))=TRUE,\"\",HLOOKUP($BR34,補助!$AW$2:$BE$9,6,FALSE))","v":""},{"$f":"IF(ISERROR(HLOOKUP($BS34,補助!$AW$2:$BE$9,6,FALSE))=TRUE,\"\",HLOOKUP($BS34,補助!$AW$2:$BE$9,6,FALSE))","v":""},{"$f":"IF(ISERROR(HLOOKUP($BT34,補助!$AW$2:$BE$9,6,FALSE))=TRUE,\"\",HLOOKUP($BT34,補助!$AW$2:$BE$9,6,FALSE))","v":""},{"$f":"IF(ISERROR(HLOOKUP($BU34,補助!$AW$2:$BE$9,6,FALSE))=TRUE,\"\",HLOOKUP($BU34,補助!$AW$2:$BE$9,6,FALSE))","v":""},{"$f":"IF(ISERROR(HLOOKUP($BV34,補助!$AW$2:$BE$9,6,FALSE))=TRUE,\"\",HLOOKUP($BV34,補助!$AW$2:$BE$9,6,FALSE))","v":""},{"$f":"IF(ISERROR(HLOOKUP($BW34,補助!$AW$2:$BE$9,6,FALSE))=TRUE,\"\",HLOOKUP($BW34,補助!$AW$2:$BE$9,6,FALSE))","v":3},{"$f":"IF(ISERROR(HLOOKUP($BX34,補助!$AW$2:$BE$9,6,FALSE))=TRUE,\"\",HLOOKUP($BX34,補助!$AW$2:$BE$9,6,FALSE))","v":1},{"$f":"IF(ISERROR(HLOOKUP($BY34,補助!$AW$2:$BE$9,6,FALSE))=TRUE,\"\",HLOOKUP($BY34,補助!$AW$2:$BE$9,6,FALSE))","v":4},{"$f":"IF(ISERROR(HLOOKUP($BZ34,補助!$AW$2:$BE$9,6,FALSE))=TRUE,\"\",HLOOKUP($BZ34,補助!$AW$2:$BE$9,6,FALSE))","v":2},"314"]
[null,null,null,null,null,null,null,null,null,null,null,null,null,null,null,null,null,null,null,null,null,null,null,null,null,null,null,null,null,null,null,null,null,null,null,null,null,null,null,null,null,null,null,null,null,null,null,null,null,null,null,null,null,null,null,null,null,null,null,null,null,null,null,null,null,null,null,null,null,null,null,{"$error":"#VALUE!"},"B2",null,{"$f":"IF(ISERROR(HLOOKUP($BP35,補助!$AW$2:$BE$9,6,FALSE))=TRUE,\"\",HLOOKUP($BP35,補助!$AW$2:$BE$9,6,FALSE))","v":""},{"$f":"IF(ISERROR(HLOOKUP($BQ35,補助!$AW$2:$BE$9,6,FALSE))=TRUE,\"\",HLOOKUP($BQ35,補助!$AW$2:$BE$9,6,FALSE))","v":""},{"$f":"IF(ISERROR(HLOOKUP($BR35,補助!$AW$2:$BE$9,6,FALSE))=TRUE,\"\",HLOOKUP($BR35,補助!$AW$2:$BE$9,6,FALSE))","v":""},{"$f":"IF(ISERROR(HLOOKUP($BS35,補助!$AW$2:$BE$9,6,FALSE))=TRUE,\"\",HLOOKUP($BS35,補助!$AW$2:$BE$9,6,FALSE))","v":""},{"$f":"IF(ISERROR(HLOOKUP($BT35,補助!$AW$2:$BE$9,6,FALSE))=TRUE,\"\",HLOOKUP($BT35,補助!$AW$2:$BE$9,6,FALSE))","v":""},{"$f":"IF(ISERROR(HLOOKUP($BU35,補助!$AW$2:$BE$9,6,FALSE))=TRUE,\"\",HLOOKUP($BU35,補助!$AW$2:$BE$9,6,FALSE))","v":""},{"$f":"IF(ISERROR(HLOOKUP($BV35,補助!$AW$2:$BE$9,6,FALSE))=TRUE,\"\",HLOOKUP($BV35,補助!$AW$2:$BE$9,6,FALSE))","v":""},{"$f":"IF(ISERROR(HLOOKUP($BW35,補助!$AW$2:$BE$9,6,FALSE))=TRUE,\"\",HLOOKUP($BW35,補助!$AW$2:$BE$9,6,FALSE))","v":3},{"$f":"IF(ISERROR(HLOOKUP($BX35,補助!$AW$2:$BE$9,6,FALSE))=TRUE,\"\",HLOOKUP($BX35,補助!$AW$2:$BE$9,6,FALSE))","v":1},{"$f":"IF(ISERROR(HLOOKUP($BY35,補助!$AW$2:$BE$9,6,FALSE))=TRUE,\"\",HLOOKUP($BY35,補助!$AW$2:$BE$9,6,FALSE))","v":4},{"$f":"IF(ISERROR(HLOOKUP($BZ35,補助!$AW$2:$BE$9,6,FALSE))=TRUE,\"\",HLOOKUP($BZ35,補助!$AW$2:$BE$9,6,FALSE))","v":8},"314"]
[null,null,null,null,null,null,null,null,null,null,null,null,null,null,null,null,null,null,null,null,null,null,null,null,null,null,null,null,null,null,null,null,null,null,null,null,null,null,null,null,null,null,null,null,null,null,null,null,null,null,null,null,null,null,null,null,null,null,null,null,null,null,null,null,null,null,null,null,null,null,null,{"$error":"#VALUE!"},"B2",null,{"$f":"IF(ISERROR(HLOOKUP($BP36,補助!$AW$2:$BE$9,6,FALSE))=TRUE,\"\",HLOOKUP($BP36,補助!$AW$2:$BE$9,6,FALSE))","v":""},{"$f":"IF(ISERROR(HLOOKUP($BQ36,補助!$AW$2:$BE$9,6,FALSE))=TRUE,\"\",HLOOKUP($BQ36,補助!$AW$2:$BE$9,6,FALSE))","v":""},{"$f":"IF(ISERROR(HLOOKUP($BR36,補助!$AW$2:$BE$9,6,FALSE))=TRUE,\"\",HLOOKUP($BR36,補助!$AW$2:$BE$9,6,FALSE))","v":""},{"$f":"IF(ISERROR(HLOOKUP($BS36,補助!$AW$2:$BE$9,6,FALSE))=TRUE,\"\",HLOOKUP($BS36,補助!$AW$2:$BE$9,6,FALSE))","v":""},{"$f":"IF(ISERROR(HLOOKUP($BT36,補助!$AW$2:$BE$9,6,FALSE))=TRUE,\"\",HLOOKUP($BT36,補助!$AW$2:$BE$9,6,FALSE))","v":""},{"$f":"IF(ISERROR(HLOOKUP($BU36,補助!$AW$2:$BE$9,6,FALSE))=TRUE,\"\",HLOOKUP($BU36,補助!$AW$2:$BE$9,6,FALSE))","v":""},{"$f":"IF(ISERROR(HLOOKUP($BV36,補助!$AW$2:$BE$9,6,FALSE))=TRUE,\"\",HLOOKUP($BV36,補助!$AW$2:$BE$9,6,FALSE))","v":""},{"$f":"IF(ISERROR(HLOOKUP($BW36,補助!$AW$2:$BE$9,6,FALSE))=TRUE,\"\",HLOOKUP($BW36,補助!$AW$2:$BE$9,6,FALSE))","v":3},{"$f":"IF(ISERROR(HLOOKUP($BX36,補助!$AW$2:$BE$9,6,FALSE))=TRUE,\"\",HLOOKUP($BX36,補助!$AW$2:$BE$9,6,FALSE))","v":1},{"$f":"IF(ISERROR(HLOOKUP($BY36,補助!$AW$2:$BE$9,6,FALSE))=TRUE,\"\",HLOOKUP($BY36,補助!$AW$2:$BE$9,6,FALSE))","v":4},{"$f":"IF(ISERROR(HLOOKUP($BZ36,補助!$AW$2:$BE$9,6,FALSE))=TRUE,\"\",HLOOKUP($BZ36,補助!$AW$2:$BE$9,6,FALSE))","v":7},"314"]
[null,null,null,null,null,null,null,null,null,null,null,null,null,null,null,null,null,null,null,null,null,null,null,null,null,null,null,null,null,null,null,null,null,null,null,null,null,null,null,null,null,null,null,null,null,null,null,null,null,null,null,null,null,null,null,null,null,null,null,null,null,null,null,null,null,null,null,null,null,null,null,{"$error":"#VALUE!"},"B2",null,{"$f":"IF(ISERROR(HLOOKUP($BP37,補助!$AW$2:$BE$9,6,FALSE))=TRUE,\"\",HLOOKUP($BP37,補助!$AW$2:$BE$9,6,FALSE))","v":""},{"$f":"IF(ISERROR(HLOOKUP($BQ37,補助!$AW$2:$BE$9,6,FALSE))=TRUE,\"\",HLOOKUP($BQ37,補助!$AW$2:$BE$9,6,FALSE))","v":""},{"$f":"IF(ISERROR(HLOOKUP($BR37,補助!$AW$2:$BE$9,6,FALSE))=TRUE,\"\",HLOOKUP($BR37,補助!$AW$2:$BE$9,6,FALSE))","v":""},{"$f":"IF(ISERROR(HLOOKUP($BS37,補助!$AW$2:$BE$9,6,FALSE))=TRUE,\"\",HLOOKUP($BS37,補助!$AW$2:$BE$9,6,FALSE))","v":""},{"$f":"IF(ISERROR(HLOOKUP($BT37,補助!$AW$2:$BE$9,6,FALSE))=TRUE,\"\",HLOOKUP($BT37,補助!$AW$2:$BE$9,6,FALSE))","v":""},{"$f":"IF(ISERROR(HLOOKUP($BU37,補助!$AW$2:$BE$9,6,FALSE))=TRUE,\"\",HLOOKUP($BU37,補助!$AW$2:$BE$9,6,FALSE))","v":""},{"$f":"IF(ISERROR(HLOOKUP($BV37,補助!$AW$2:$BE$9,6,FALSE))=TRUE,\"\",HLOOKUP($BV37,補助!$AW$2:$BE$9,6,FALSE))","v":""},{"$f":"IF(ISERROR(HLOOKUP($BW37,補助!$AW$2:$BE$9,6,FALSE))=TRUE,\"\",HLOOKUP($BW37,補助!$AW$2:$BE$9,6,FALSE))","v":3},{"$f":"IF(ISERROR(HLOOKUP($BX37,補助!$AW$2:$BE$9,6,FALSE))=TRUE,\"\",HLOOKUP($BX37,補助!$AW$2:$BE$9,6,FALSE))","v":4},{"$f":"IF(ISERROR(HLOOKUP($BY37,補助!$AW$2:$BE$9,6,FALSE))=TRUE,\"\",HLOOKUP($BY37,補助!$AW$2:$BE$9,6,FALSE))","v":1},{"$f":"IF(ISERROR(HLOOKUP($BZ37,補助!$AW$2:$BE$9,6,FALSE))=TRUE,\"\",HLOOKUP($BZ37,補助!$AW$2:$BE$9,6,FALSE))","v":""},"341"]
[null,null,null,null,null,null,null,null,null,null,null,null,null,null,null,null,null,null,null,null,null,null,null,null,null,null,null,null,null,null,null,null,null,null,null,null,null,null,null,null,null,null,null,null,null,null,null,null,null,null,null,null,null,null,null,null,null,null,null,null,null,null,null,null,null,null,null,null,null,null,null,{"$error":"#VALUE!"},"B2",null,{"$f":"IF(ISERROR(HLOOKUP($BP38,補助!$AW$2:$BE$9,6,FALSE))=TRUE,\"\",HLOOKUP($BP38,補助!$AW$2:$BE$9,6,FALSE))","v":""},{"$f":"IF(ISERROR(HLOOKUP($BQ38,補助!$AW$2:$BE$9,6,FALSE))=TRUE,\"\",HLOOKUP($BQ38,補助!$AW$2:$BE$9,6,FALSE))","v":""},{"$f":"IF(ISERROR(HLOOKUP($BR38,補助!$AW$2:$BE$9,6,FALSE))=TRUE,\"\",HLOOKUP($BR38,補助!$AW$2:$BE$9,6,FALSE))","v":""},{"$f":"IF(ISERROR(HLOOKUP($BS38,補助!$AW$2:$BE$9,6,FALSE))=TRUE,\"\",HLOOKUP($BS38,補助!$AW$2:$BE$9,6,FALSE))","v":""},{"$f":"IF(ISERROR(HLOOKUP($BT38,補助!$AW$2:$BE$9,6,FALSE))=TRUE,\"\",HLOOKUP($BT38,補助!$AW$2:$BE$9,6,FALSE))","v":""},{"$f":"IF(ISERROR(HLOOKUP($BU38,補助!$AW$2:$BE$9,6,FALSE))=TRUE,\"\",HLOOKUP($BU38,補助!$AW$2:$BE$9,6,FALSE))","v":""},{"$f":"IF(ISERROR(HLOOKUP($BV38,補助!$AW$2:$BE$9,6,FALSE))=TRUE,\"\",HLOOKUP($BV38,補助!$AW$2:$BE$9,6,FALSE))","v":""},{"$f":"IF(ISERROR(HLOOKUP($BW38,補助!$AW$2:$BE$9,6,FALSE))=TRUE,\"\",HLOOKUP($BW38,補助!$AW$2:$BE$9,6,FALSE))","v":3},{"$f":"IF(ISERROR(HLOOKUP($BX38,補助!$AW$2:$BE$9,6,FALSE))=TRUE,\"\",HLOOKUP($BX38,補助!$AW$2:$BE$9,6,FALSE))","v":4},{"$f":"IF(ISERROR(HLOOKUP($BY38,補助!$AW$2:$BE$9,6,FALSE))=TRUE,\"\",HLOOKUP($BY38,補助!$AW$2:$BE$9,6,FALSE))","v":5},{"$f":"IF(ISERROR(HLOOKUP($BZ38,補助!$AW$2:$BE$9,6,FALSE))=TRUE,\"\",HLOOKUP($BZ38,補助!$AW$2:$BE$9,6,FALSE))","v":""},"345"]
[null,null,null,null,null,null,null,null,null,null,null,null,null,null,null,null,null,null,null,null,null,null,null,null,null,null,null,null,null,null,null,null,null,null,null,null,null,null,null,null,null,null,null,null,null,null,null,null,null,null,null,null,null,null,null,null,null,null,null,null,null,null,null,null,null,null,null,null,null,null,null,{"$error":"#VALUE!"},"B2",null,{"$f":"IF(ISERROR(HLOOKUP($BP39,補助!$AW$2:$BE$9,6,FALSE))=TRUE,\"\",HLOOKUP($BP39,補助!$AW$2:$BE$9,6,FALSE))","v":""},{"$f":"IF(ISERROR(HLOOKUP($BQ39,補助!$AW$2:$BE$9,6,FALSE))=TRUE,\"\",HLOOKUP($BQ39,補助!$AW$2:$BE$9,6,FALSE))","v":""},{"$f":"IF(ISERROR(HLOOKUP($BR39,補助!$AW$2:$BE$9,6,FALSE))=TRUE,\"\",HLOOKUP($BR39,補助!$AW$2:$BE$9,6,FALSE))","v":""},{"$f":"IF(ISERROR(HLOOKUP($BS39,補助!$AW$2:$BE$9,6,FALSE))=TRUE,\"\",HLOOKUP($BS39,補助!$AW$2:$BE$9,6,FALSE))","v":""},{"$f":"IF(ISERROR(HLOOKUP($BT39,補助!$AW$2:$BE$9,6,FALSE))=TRUE,\"\",HLOOKUP($BT39,補助!$AW$2:$BE$9,6,FALSE))","v":""},{"$f":"IF(ISERROR(HLOOKUP($BU39,補助!$AW$2:$BE$9,6,FALSE))=TRUE,\"\",HLOOKUP($BU39,補助!$AW$2:$BE$9,6,FALSE))","v":""},{"$f":"IF(ISERROR(HLOOKUP($BV39,補助!$AW$2:$BE$9,6,FALSE))=TRUE,\"\",HLOOKUP($BV39,補助!$AW$2:$BE$9,6,FALSE))","v":""},{"$f":"IF(ISERROR(HLOOKUP($BW39,補助!$AW$2:$BE$9,6,FALSE))=TRUE,\"\",HLOOKUP($BW39,補助!$AW$2:$BE$9,6,FALSE))","v":3},{"$f":"IF(ISERROR(HLOOKUP($BX39,補助!$AW$2:$BE$9,6,FALSE))=TRUE,\"\",HLOOKUP($BX39,補助!$AW$2:$BE$9,6,FALSE))","v":4},{"$f":"IF(ISERROR(HLOOKUP($BY39,補助!$AW$2:$BE$9,6,FALSE))=TRUE,\"\",HLOOKUP($BY39,補助!$AW$2:$BE$9,6,FALSE))","v":9},{"$f":"IF(ISERROR(HLOOKUP($BZ39,補助!$AW$2:$BE$9,6,FALSE))=TRUE,\"\",HLOOKUP($BZ39,補助!$AW$2:$BE$9,6,FALSE))","v":""},"349"]
[null,null,null,null,null,null,null,null,null,null,null,null,null,null,null,null,null,null,null,null,null,null,null,null,null,null,null,null,null,null,null,null,null,null,null,null,null,null,null,null,null,null,null,null,null,null,null,null,null,null,null,null,null,null,null,null,null,null,null,null,null,null,null,null,null,null,null,null,null,null,null,{"$error":"#VALUE!"},"B2","白",{"$f":"IF(ISERROR(HLOOKUP($BP40,補助!$AW$2:$BE$9,6,FALSE))=TRUE,\"\",HLOOKUP($BP40,補助!$AW$2:$BE$9,6,FALSE))","v":""},{"$f":"IF(ISERROR(HLOOKUP($BQ40,補助!$AW$2:$BE$9,6,FALSE))=TRUE,\"\",HLOOKUP($BQ40,補助!$AW$2:$BE$9,6,FALSE))","v":""},{"$f":"IF(ISERROR(HLOOKUP($BR40,補助!$AW$2:$BE$9,6,FALSE))=TRUE,\"\",HLOOKUP($BR40,補助!$AW$2:$BE$9,6,FALSE))","v":""},{"$f":"IF(ISERROR(HLOOKUP($BS40,補助!$AW$2:$BE$9,6,FALSE))=TRUE,\"\",HLOOKUP($BS40,補助!$AW$2:$BE$9,6,FALSE))","v":""},{"$f":"IF(ISERROR(HLOOKUP($BT40,補助!$AW$2:$BE$9,6,FALSE))=TRUE,\"\",HLOOKUP($BT40,補助!$AW$2:$BE$9,6,FALSE))","v":""},{"$f":"IF(ISERROR(HLOOKUP($BU40,補助!$AW$2:$BE$9,6,FALSE))=TRUE,\"\",HLOOKUP($BU40,補助!$AW$2:$BE$9,6,FALSE))","v":""},{"$f":"IF(ISERROR(HLOOKUP($BV40,補助!$AW$2:$BE$9,6,FALSE))=TRUE,\"\",HLOOKUP($BV40,補助!$AW$2:$BE$9,6,FALSE))","v":""},{"$f":"IF(ISERROR(HLOOKUP($BW40,補助!$AW$2:$BE$9,6,FALSE))=TRUE,\"\",HLOOKUP($BW40,補助!$AW$2:$BE$9,6,FALSE))","v":3},{"$f":"IF(ISERROR(HLOOKUP($BX40,補助!$AW$2:$BE$9,6,FALSE))=TRUE,\"\",HLOOKUP($BX40,補助!$AW$2:$BE$9,6,FALSE))","v":4},{"$f":"IF(ISERROR(HLOOKUP($BY40,補助!$AW$2:$BE$9,6,FALSE))=TRUE,\"\",HLOOKUP($BY40,補助!$AW$2:$BE$9,6,FALSE))","v":6},{"$f":"IF(ISERROR(HLOOKUP($BZ40,補助!$AW$2:$BE$9,6,FALSE))=TRUE,\"\",HLOOKUP($BZ40,補助!$AW$2:$BE$9,6,FALSE))","v":9},"346"]
[null,null,null,null,null,null,null,null,null,null,null,null,null,null,null,null,null,null,null,null,null,null,null,null,null,null,null,null,null,null,null,null,null,null,null,null,null,null,null,null,null,null,null,null,null,null,null,null,null,null,null,null,null,null,null,null,null,null,null,null,null,null,null,null,null,null,null,null,null,null,null,{"$error":"#VALUE!"},"B2","白",{"$f":"IF(ISERROR(HLOOKUP($BP41,補助!$AW$2:$BE$9,6,FALSE))=TRUE,\"\",HLOOKUP($BP41,補助!$AW$2:$BE$9,6,FALSE))","v":""},{"$f":"IF(ISERROR(HLOOKUP($BQ41,補助!$AW$2:$BE$9,6,FALSE))=TRUE,\"\",HLOOKUP($BQ41,補助!$AW$2:$BE$9,6,FALSE))","v":""},{"$f":"IF(ISERROR(HLOOKUP($BR41,補助!$AW$2:$BE$9,6,FALSE))=TRUE,\"\",HLOOKUP($BR41,補助!$AW$2:$BE$9,6,FALSE))","v":""},{"$f":"IF(ISERROR(HLOOKUP($BS41,補助!$AW$2:$BE$9,6,FALSE))=TRUE,\"\",HLOOKUP($BS41,補助!$AW$2:$BE$9,6,FALSE))","v":""},{"$f":"IF(ISERROR(HLOOKUP($BT41,補助!$AW$2:$BE$9,6,FALSE))=TRUE,\"\",HLOOKUP($BT41,補助!$AW$2:$BE$9,6,FALSE))","v":""},{"$f":"IF(ISERROR(HLOOKUP($BU41,補助!$AW$2:$BE$9,6,FALSE))=TRUE,\"\",HLOOKUP($BU41,補助!$AW$2:$BE$9,6,FALSE))","v":""},{"$f":"IF(ISERROR(HLOOKUP($BV41,補助!$AW$2:$BE$9,6,FALSE))=TRUE,\"\",HLOOKUP($BV41,補助!$AW$2:$BE$9,6,FALSE))","v":""},{"$f":"IF(ISERROR(HLOOKUP($BW41,補助!$AW$2:$BE$9,6,FALSE))=TRUE,\"\",HLOOKUP($BW41,補助!$AW$2:$BE$9,6,FALSE))","v":3},{"$f":"IF(ISERROR(HLOOKUP($BX41,補助!$AW$2:$BE$9,6,FALSE))=TRUE,\"\",HLOOKUP($BX41,補助!$AW$2:$BE$9,6,FALSE))","v":4},{"$f":"IF(ISERROR(HLOOKUP($BY41,補助!$AW$2:$BE$9,6,FALSE))=TRUE,\"\",HLOOKUP($BY41,補助!$AW$2:$BE$9,6,FALSE))","v":6},{"$f":"IF(ISERROR(HLOOKUP($BZ41,補助!$AW$2:$BE$9,6,FALSE))=TRUE,\"\",HLOOKUP($BZ41,補助!$AW$2:$BE$9,6,FALSE))","v":9},"346"]
[null,null,null,null,null,null,null,null,null,null,null,null,null,null,null,null,null,null,null,null,null,null,null,null,null,null,null,null,null,null,null,null,null,null,null,null,null,null,null,null,null,null,null,null,null,null,null,null,null,null,null,null,null,null,null,null,null,null,null,null,null,null,null,null,null,null,null,null,null,null,null,{"$error":"#VALUE!"},"B2","白",{"$f":"IF(ISERROR(HLOOKUP($BP42,補助!$AW$2:$BE$9,6,FALSE))=TRUE,\"\",HLOOKUP($BP42,補助!$AW$2:$BE$9,6,FALSE))","v":""},{"$f":"IF(ISERROR(HLOOKUP($BQ42,補助!$AW$2:$BE$9,6,FALSE))=TRUE,\"\",HLOOKUP($BQ42,補助!$AW$2:$BE$9,6,FALSE))","v":""},{"$f":"IF(ISERROR(HLOOKUP($BR42,補助!$AW$2:$BE$9,6,FALSE))=TRUE,\"\",HLOOKUP($BR42,補助!$AW$2:$BE$9,6,FALSE))","v":""},{"$f":"IF(ISERROR(HLOOKUP($BS42,補助!$AW$2:$BE$9,6,FALSE))=TRUE,\"\",HLOOKUP($BS42,補助!$AW$2:$BE$9,6,FALSE))","v":""},{"$f":"IF(ISERROR(HLOOKUP($BT42,補助!$AW$2:$BE$9,6,FALSE))=TRUE,\"\",HLOOKUP($BT42,補助!$AW$2:$BE$9,6,FALSE))","v":""},{"$f":"IF(ISERROR(HLOOKUP($BU42,補助!$AW$2:$BE$9,6,FALSE))=TRUE,\"\",HLOOKUP($BU42,補助!$AW$2:$BE$9,6,FALSE))","v":""},{"$f":"IF(ISERROR(HLOOKUP($BV42,補助!$AW$2:$BE$9,6,FALSE))=TRUE,\"\",HLOOKUP($BV42,補助!$AW$2:$BE$9,6,FALSE))","v":""},{"$f":"IF(ISERROR(HLOOKUP($BW42,補助!$AW$2:$BE$9,6,FALSE))=TRUE,\"\",HLOOKUP($BW42,補助!$AW$2:$BE$9,6,FALSE))","v":3},{"$f":"IF(ISERROR(HLOOKUP($BX42,補助!$AW$2:$BE$9,6,FALSE))=TRUE,\"\",HLOOKUP($BX42,補助!$AW$2:$BE$9,6,FALSE))","v":4},{"$f":"IF(ISERROR(HLOOKUP($BY42,補助!$AW$2:$BE$9,6,FALSE))=TRUE,\"\",HLOOKUP($BY42,補助!$AW$2:$BE$9,6,FALSE))","v":6},{"$f":"IF(ISERROR(HLOOKUP($BZ42,補助!$AW$2:$BE$9,6,FALSE))=TRUE,\"\",HLOOKUP($BZ42,補助!$AW$2:$BE$9,6,FALSE))","v":9},"346"]
[null,null,null,null,null,null,null,null,null,null,null,null,null,null,null,null,null,null,null,null,null,null,null,null,null,null,null,null,null,null,null,null,null,null,null,null,null,null,null,null,null,null,null,null,null,null,null,null,null,null,null,null,null,null,null,null,null,null,null,null,null,null,null,null,null,null,null,null,null,null,null,{"$error":"#VALUE!"},"B2",null,{"$f":"IF(ISERROR(HLOOKUP($BP43,補助!$AW$2:$BE$9,6,FALSE))=TRUE,\"\",HLOOKUP($BP43,補助!$AW$2:$BE$9,6,FALSE))","v":""},{"$f":"IF(ISERROR(HLOOKUP($BQ43,補助!$AW$2:$BE$9,6,FALSE))=TRUE,\"\",HLOOKUP($BQ43,補助!$AW$2:$BE$9,6,FALSE))","v":""},{"$f":"IF(ISERROR(HLOOKUP($BR43,補助!$AW$2:$BE$9,6,FALSE))=TRUE,\"\",HLOOKUP($BR43,補助!$AW$2:$BE$9,6,FALSE))","v":""},{"$f":"IF(ISERROR(HLOOKUP($BS43,補助!$AW$2:$BE$9,6,FALSE))=TRUE,\"\",HLOOKUP($BS43,補助!$AW$2:$BE$9,6,FALSE))","v":""},{"$f":"IF(ISERROR(HLOOKUP($BT43,補助!$AW$2:$BE$9,6,FALSE))=TRUE,\"\",HLOOKUP($BT43,補助!$AW$2:$BE$9,6,FALSE))","v":""},{"$f":"IF(ISERROR(HLOOKUP($BU43,補助!$AW$2:$BE$9,6,FALSE))=TRUE,\"\",HLOOKUP($BU43,補助!$AW$2:$BE$9,6,FALSE))","v":""},{"$f":"IF(ISERROR(HLOOKUP($BV43,補助!$AW$2:$BE$9,6,FALSE))=TRUE,\"\",HLOOKUP($BV43,補助!$AW$2:$BE$9,6,FALSE))","v":""},{"$f":"IF(ISERROR(HLOOKUP($BW43,補助!$AW$2:$BE$9,6,FALSE))=TRUE,\"\",HLOOKUP($BW43,補助!$AW$2:$BE$9,6,FALSE))","v":3},{"$f":"IF(ISERROR(HLOOKUP($BX43,補助!$AW$2:$BE$9,6,FALSE))=TRUE,\"\",HLOOKUP($BX43,補助!$AW$2:$BE$9,6,FALSE))","v":4},{"$f":"IF(ISERROR(HLOOKUP($BY43,補助!$AW$2:$BE$9,6,FALSE))=TRUE,\"\",HLOOKUP($BY43,補助!$AW$2:$BE$9,6,FALSE))","v":8},{"$f":"IF(ISERROR(HLOOKUP($BZ43,補助!$AW$2:$BE$9,6,FALSE))=TRUE,\"\",HLOOKUP($BZ43,補助!$AW$2:$BE$9,6,FALSE))","v":2},"348"]
[null,null,null,null,null,null,null,null,null,null,null,null,null,null,null,null,null,null,null,null,null,null,null,null,null,null,null,null,null,null,null,null,null,null,null,null,null,null,null,null,null,null,null,null,null,null,null,null,null,null,null,null,null,null,null,null,null,null,null,null,null,null,null,null,null,null,null,null,null,null,null,{"$error":"#VALUE!"},"B2",null,{"$f":"IF(ISERROR(HLOOKUP($BP44,補助!$AW$2:$BE$9,6,FALSE))=TRUE,\"\",HLOOKUP($BP44,補助!$AW$2:$BE$9,6,FALSE))","v":""},{"$f":"IF(ISERROR(HLOOKUP($BQ44,補助!$AW$2:$BE$9,6,FALSE))=TRUE,\"\",HLOOKUP($BQ44,補助!$AW$2:$BE$9,6,FALSE))","v":""},{"$f":"IF(ISERROR(HLOOKUP($BR44,補助!$AW$2:$BE$9,6,FALSE))=TRUE,\"\",HLOOKUP($BR44,補助!$AW$2:$BE$9,6,FALSE))","v":""},{"$f":"IF(ISERROR(HLOOKUP($BS44,補助!$AW$2:$BE$9,6,FALSE))=TRUE,\"\",HLOOKUP($BS44,補助!$AW$2:$BE$9,6,FALSE))","v":""},{"$f":"IF(ISERROR(HLOOKUP($BT44,補助!$AW$2:$BE$9,6,FALSE))=TRUE,\"\",HLOOKUP($BT44,補助!$AW$2:$BE$9,6,FALSE))","v":""},{"$f":"IF(ISERROR(HLOOKUP($BU44,補助!$AW$2:$BE$9,6,FALSE))=TRUE,\"\",HLOOKUP($BU44,補助!$AW$2:$BE$9,6,FALSE))","v":""},{"$f":"IF(ISERROR(HLOOKUP($BV44,補助!$AW$2:$BE$9,6,FALSE))=TRUE,\"\",HLOOKUP($BV44,補助!$AW$2:$BE$9,6,FALSE))","v":""},{"$f":"IF(ISERROR(HLOOKUP($BW44,補助!$AW$2:$BE$9,6,FALSE))=TRUE,\"\",HLOOKUP($BW44,補助!$AW$2:$BE$9,6,FALSE))","v":3},{"$f":"IF(ISERROR(HLOOKUP($BX44,補助!$AW$2:$BE$9,6,FALSE))=TRUE,\"\",HLOOKUP($BX44,補助!$AW$2:$BE$9,6,FALSE))","v":4},{"$f":"IF(ISERROR(HLOOKUP($BY44,補助!$AW$2:$BE$9,6,FALSE))=TRUE,\"\",HLOOKUP($BY44,補助!$AW$2:$BE$9,6,FALSE))","v":8},{"$f":"IF(ISERROR(HLOOKUP($BZ44,補助!$AW$2:$BE$9,6,FALSE))=TRUE,\"\",HLOOKUP($BZ44,補助!$AW$2:$BE$9,6,FALSE))","v":1},"348"]
[null,null,null,null,null,null,null,null,null,null,null,null,null,null,null,null,null,null,null,null,null,null,null,null,null,null,null,null,null,null,null,null,null,null,null,null,null,null,null,null,null,null,null,null,null,null,null,null,null,null,null,null,null,null,null,null,null,null,null,null,null,null,null,null,null,null,null,null,null,null,null,{"$error":"#VALUE!"},"B2",null,{"$f":"IF(ISERROR(HLOOKUP($BP45,補助!$AW$2:$BE$9,6,FALSE))=TRUE,\"\",HLOOKUP($BP45,補助!$AW$2:$BE$9,6,FALSE))","v":""},{"$f":"IF(ISERROR(HLOOKUP($BQ45,補助!$AW$2:$BE$9,6,FALSE))=TRUE,\"\",HLOOKUP($BQ45,補助!$AW$2:$BE$9,6,FALSE))","v":""},{"$f":"IF(ISERROR(HLOOKUP($BR45,補助!$AW$2:$BE$9,6,FALSE))=TRUE,\"\",HLOOKUP($BR45,補助!$AW$2:$BE$9,6,FALSE))","v":""},{"$f":"IF(ISERROR(HLOOKUP($BS45,補助!$AW$2:$BE$9,6,FALSE))=TRUE,\"\",HLOOKUP($BS45,補助!$AW$2:$BE$9,6,FALSE))","v":""},{"$f":"IF(ISERROR(HLOOKUP($BT45,補助!$AW$2:$BE$9,6,FALSE))=TRUE,\"\",HLOOKUP($BT45,補助!$AW$2:$BE$9,6,FALSE))","v":""},{"$f":"IF(ISERROR(HLOOKUP($BU45,補助!$AW$2:$BE$9,6,FALSE))=TRUE,\"\",HLOOKUP($BU45,補助!$AW$2:$BE$9,6,FALSE))","v":""},{"$f":"IF(ISERROR(HLOOKUP($BV45,補助!$AW$2:$BE$9,6,FALSE))=TRUE,\"\",HLOOKUP($BV45,補助!$AW$2:$BE$9,6,FALSE))","v":""},{"$f":"IF(ISERROR(HLOOKUP($BW45,補助!$AW$2:$BE$9,6,FALSE))=TRUE,\"\",HLOOKUP($BW45,補助!$AW$2:$BE$9,6,FALSE))","v":3},{"$f":"IF(ISERROR(HLOOKUP($BX45,補助!$AW$2:$BE$9,6,FALSE))=TRUE,\"\",HLOOKUP($BX45,補助!$AW$2:$BE$9,6,FALSE))","v":4},{"$f":"IF(ISERROR(HLOOKUP($BY45,補助!$AW$2:$BE$9,6,FALSE))=TRUE,\"\",HLOOKUP($BY45,補助!$AW$2:$BE$9,6,FALSE))","v":8},{"$f":"IF(ISERROR(HLOOKUP($BZ45,補助!$AW$2:$BE$9,6,FALSE))=TRUE,\"\",HLOOKUP($BZ45,補助!$AW$2:$BE$9,6,FALSE))","v":6},"348"]
[null,null,null,null,null,null,null,null,null,null,null,null,null,null,null,null,null,null,null,null,null,null,null,null,null,null,null,null,null,null,null,null,null,null,null,null,null,null,null,null,null,null,null,null,null,null,null,null,null,null,null,null,null,null,null,null,null,null,null,null,null,null,null,null,null,null,null,null,null,null,null,{"$error":"#VALUE!"},"B2",null,{"$f":"IF(ISERROR(HLOOKUP($BP46,補助!$AW$2:$BE$9,6,FALSE))=TRUE,\"\",HLOOKUP($BP46,補助!$AW$2:$BE$9,6,FALSE))","v":""},{"$f":"IF(ISERROR(HLOOKUP($BQ46,補助!$AW$2:$BE$9,6,FALSE))=TRUE,\"\",HLOOKUP($BQ46,補助!$AW$2:$BE$9,6,FALSE))","v":""},{"$f":"IF(ISERROR(HLOOKUP($BR46,補助!$AW$2:$BE$9,6,FALSE))=TRUE,\"\",HLOOKUP($BR46,補助!$AW$2:$BE$9,6,FALSE))","v":""},{"$f":"IF(ISERROR(HLOOKUP($BS46,補助!$AW$2:$BE$9,6,FALSE))=TRUE,\"\",HLOOKUP($BS46,補助!$AW$2:$BE$9,6,FALSE))","v":""},{"$f":"IF(ISERROR(HLOOKUP($BT46,補助!$AW$2:$BE$9,6,FALSE))=TRUE,\"\",HLOOKUP($BT46,補助!$AW$2:$BE$9,6,FALSE))","v":""},{"$f":"IF(ISERROR(HLOOKUP($BU46,補助!$AW$2:$BE$9,6,FALSE))=TRUE,\"\",HLOOKUP($BU46,補助!$AW$2:$BE$9,6,FALSE))","v":""},{"$f":"IF(ISERROR(HLOOKUP($BV46,補助!$AW$2:$BE$9,6,FALSE))=TRUE,\"\",HLOOKUP($BV46,補助!$AW$2:$BE$9,6,FALSE))","v":""},{"$f":"IF(ISERROR(HLOOKUP($BW46,補助!$AW$2:$BE$9,6,FALSE))=TRUE,\"\",HLOOKUP($BW46,補助!$AW$2:$BE$9,6,FALSE))","v":3},{"$f":"IF(ISERROR(HLOOKUP($BX46,補助!$AW$2:$BE$9,6,FALSE))=TRUE,\"\",HLOOKUP($BX46,補助!$AW$2:$BE$9,6,FALSE))","v":4},{"$f":"IF(ISERROR(HLOOKUP($BY46,補助!$AW$2:$BE$9,6,FALSE))=TRUE,\"\",HLOOKUP($BY46,補助!$AW$2:$BE$9,6,FALSE))","v":8},{"$f":"IF(ISERROR(HLOOKUP($BZ46,補助!$AW$2:$BE$9,6,FALSE))=TRUE,\"\",HLOOKUP($BZ46,補助!$AW$2:$BE$9,6,FALSE))","v":9},"348"]
[null,null,null,null,null,null,null,null,null,null,null,null,null,null,null,null,null,null,null,null,null,null,null,null,null,null,null,null,null,null,null,null,null,null,null,null,null,null,null,null,null,null,null,null,null,null,null,null,null,null,null,null,null,null,null,null,null,null,null,null,null,null,null,null,null,null,null,null,null,null,null,{"$error":"#VALUE!"},"B2",null,{"$f":"IF(ISERROR(HLOOKUP($BP47,補助!$AW$2:$BE$9,6,FALSE))=TRUE,\"\",HLOOKUP($BP47,補助!$AW$2:$BE$9,6,FALSE))","v":""},{"$f":"IF(ISERROR(HLOOKUP($BQ47,補助!$AW$2:$BE$9,6,FALSE))=TRUE,\"\",HLOOKUP($BQ47,補助!$AW$2:$BE$9,6,FALSE))","v":""},{"$f":"IF(ISERROR(HLOOKUP($BR47,補助!$AW$2:$BE$9,6,FALSE))=TRUE,\"\",HLOOKUP($BR47,補助!$AW$2:$BE$9,6,FALSE))","v":""},{"$f":"IF(ISERROR(HLOOKUP($BS47,補助!$AW$2:$BE$9,6,FALSE))=TRUE,\"\",HLOOKUP($BS47,補助!$AW$2:$BE$9,6,FALSE))","v":""},{"$f":"IF(ISERROR(HLOOKUP($BT47,補助!$AW$2:$BE$9,6,FALSE))=TRUE,\"\",HLOOKUP($BT47,補助!$AW$2:$BE$9,6,FALSE))","v":""},{"$f":"IF(ISERROR(HLOOKUP($BU47,補助!$AW$2:$BE$9,6,FALSE))=TRUE,\"\",HLOOKUP($BU47,補助!$AW$2:$BE$9,6,FALSE))","v":""},{"$f":"IF(ISERROR(HLOOKUP($BV47,補助!$AW$2:$BE$9,6,FALSE))=TRUE,\"\",HLOOKUP($BV47,補助!$AW$2:$BE$9,6,FALSE))","v":""},{"$f":"IF(ISERROR(HLOOKUP($BW47,補助!$AW$2:$BE$9,6,FALSE))=TRUE,\"\",HLOOKUP($BW47,補助!$AW$2:$BE$9,6,FALSE))","v":3},{"$f":"IF(ISERROR(HLOOKUP($BX47,補助!$AW$2:$BE$9,6,FALSE))=TRUE,\"\",HLOOKUP($BX47,補助!$AW$2:$BE$9,6,FALSE))","v":4},{"$f":"IF(ISERROR(HLOOKUP($BY47,補助!$AW$2:$BE$9,6,FALSE))=TRUE,\"\",HLOOKUP($BY47,補助!$AW$2:$BE$9,6,FALSE))","v":8},{"$f":"IF(ISERROR(HLOOKUP($BZ47,補助!$AW$2:$BE$9,6,FALSE))=TRUE,\"\",HLOOKUP($BZ47,補助!$AW$2:$BE$9,6,FALSE))","v":7},"348"]
[null,null,null,null,null,null,null,null,null,null,null,null,null,null,null,null,null,null,null,null,null,null,null,null,null,null,null,null,null,null,null,null,null,null,null,null,null,null,null,null,null,null,null,null,null,null,null,null,null,null,null,null,null,null,null,null,null,null,null,null,null,null,null,null,null,null,null,null,null,null,null,{"$error":"#VALUE!"},"B2",null,{"$f":"IF(ISERROR(HLOOKUP($BP48,補助!$AW$2:$BE$9,6,FALSE))=TRUE,\"\",HLOOKUP($BP48,補助!$AW$2:$BE$9,6,FALSE))","v":""},{"$f":"IF(ISERROR(HLOOKUP($BQ48,補助!$AW$2:$BE$9,6,FALSE))=TRUE,\"\",HLOOKUP($BQ48,補助!$AW$2:$BE$9,6,FALSE))","v":""},{"$f":"IF(ISERROR(HLOOKUP($BR48,補助!$AW$2:$BE$9,6,FALSE))=TRUE,\"\",HLOOKUP($BR48,補助!$AW$2:$BE$9,6,FALSE))","v":""},{"$f":"IF(ISERROR(HLOOKUP($BS48,補助!$AW$2:$BE$9,6,FALSE))=TRUE,\"\",HLOOKUP($BS48,補助!$AW$2:$BE$9,6,FALSE))","v":""},{"$f":"IF(ISERROR(HLOOKUP($BT48,補助!$AW$2:$BE$9,6,FALSE))=TRUE,\"\",HLOOKUP($BT48,補助!$AW$2:$BE$9,6,FALSE))","v":""},{"$f":"IF(ISERROR(HLOOKUP($BU48,補助!$AW$2:$BE$9,6,FALSE))=TRUE,\"\",HLOOKUP($BU48,補助!$AW$2:$BE$9,6,FALSE))","v":""},{"$f":"IF(ISERROR(HLOOKUP($BV48,補助!$AW$2:$BE$9,6,FALSE))=TRUE,\"\",HLOOKUP($BV48,補助!$AW$2:$BE$9,6,FALSE))","v":""},{"$f":"IF(ISERROR(HLOOKUP($BW48,補助!$AW$2:$BE$9,6,FALSE))=TRUE,\"\",HLOOKUP($BW48,補助!$AW$2:$BE$9,6,FALSE))","v":3},{"$f":"IF(ISERROR(HLOOKUP($BX48,補助!$AW$2:$BE$9,6,FALSE))=TRUE,\"\",HLOOKUP($BX48,補助!$AW$2:$BE$9,6,FALSE))","v":7},{"$f":"IF(ISERROR(HLOOKUP($BY48,補助!$AW$2:$BE$9,6,FALSE))=TRUE,\"\",HLOOKUP($BY48,補助!$AW$2:$BE$9,6,FALSE))","v":1},{"$f":"IF(ISERROR(HLOOKUP($BZ48,補助!$AW$2:$BE$9,6,FALSE))=TRUE,\"\",HLOOKUP($BZ48,補助!$AW$2:$BE$9,6,FALSE))","v":""},"371"]
[null,null,null,null,null,null,null,null,null,null,null,null,null,null,null,null,null,null,null,null,null,null,null,null,null,null,null,null,null,null,null,null,null,null,null,null,null,null,null,null,null,null,null,null,null,null,null,null,null,null,null,null,null,null,null,null,null,null,null,null,null,null,null,null,null,null,null,null,null,null,null,{"$error":"#VALUE!"},"B2",null,{"$f":"IF(ISERROR(HLOOKUP($BP49,補助!$AW$2:$BE$9,6,FALSE))=TRUE,\"\",HLOOKUP($BP49,補助!$AW$2:$BE$9,6,FALSE))","v":""},{"$f":"IF(ISERROR(HLOOKUP($BQ49,補助!$AW$2:$BE$9,6,FALSE))=TRUE,\"\",HLOOKUP($BQ49,補助!$AW$2:$BE$9,6,FALSE))","v":""},{"$f":"IF(ISERROR(HLOOKUP($BR49,補助!$AW$2:$BE$9,6,FALSE))=TRUE,\"\",HLOOKUP($BR49,補助!$AW$2:$BE$9,6,FALSE))","v":""},{"$f":"IF(ISERROR(HLOOKUP($BS49,補助!$AW$2:$BE$9,6,FALSE))=TRUE,\"\",HLOOKUP($BS49,補助!$AW$2:$BE$9,6,FALSE))","v":""},{"$f":"IF(ISERROR(HLOOKUP($BT49,補助!$AW$2:$BE$9,6,FALSE))=TRUE,\"\",HLOOKUP($BT49,補助!$AW$2:$BE$9,6,FALSE))","v":""},{"$f":"IF(ISERROR(HLOOKUP($BU49,補助!$AW$2:$BE$9,6,FALSE))=TRUE,\"\",HLOOKUP($BU49,補助!$AW$2:$BE$9,6,FALSE))","v":""},{"$f":"IF(ISERROR(HLOOKUP($BV49,補助!$AW$2:$BE$9,6,FALSE))=TRUE,\"\",HLOOKUP($BV49,補助!$AW$2:$BE$9,6,FALSE))","v":""},{"$f":"IF(ISERROR(HLOOKUP($BW49,補助!$AW$2:$BE$9,6,FALSE))=TRUE,\"\",HLOOKUP($BW49,補助!$AW$2:$BE$9,6,FALSE))","v":3},{"$f":"IF(ISERROR(HLOOKUP($BX49,補助!$AW$2:$BE$9,6,FALSE))=TRUE,\"\",HLOOKUP($BX49,補助!$AW$2:$BE$9,6,FALSE))","v":7},{"$f":"IF(ISERROR(HLOOKUP($BY49,補助!$AW$2:$BE$9,6,FALSE))=TRUE,\"\",HLOOKUP($BY49,補助!$AW$2:$BE$9,6,FALSE))","v":9},{"$f":"IF(ISERROR(HLOOKUP($BZ49,補助!$AW$2:$BE$9,6,FALSE))=TRUE,\"\",HLOOKUP($BZ49,補助!$AW$2:$BE$9,6,FALSE))","v":""},"379"]
[null,null,null,null,null,null,null,null,null,null,null,null,null,null,null,null,null,null,null,null,null,null,null,null,null,null,null,null,null,null,null,null,null,null,null,null,null,null,null,null,null,null,null,null,null,null,null,null,null,null,null,null,null,null,null,null,null,null,null,null,null,null,null,null,null,null,null,null,null,null,null,{"$error":"#VALUE!"},"B2","白",{"$f":"IF(ISERROR(HLOOKUP($BP50,補助!$AW$2:$BE$9,6,FALSE))=TRUE,\"\",HLOOKUP($BP50,補助!$AW$2:$BE$9,6,FALSE))","v":""},{"$f":"IF(ISERROR(HLOOKUP($BQ50,補助!$AW$2:$BE$9,6,FALSE))=TRUE,\"\",HLOOKUP($BQ50,補助!$AW$2:$BE$9,6,FALSE))","v":""},{"$f":"IF(ISERROR(HLOOKUP($BR50,補助!$AW$2:$BE$9,6,FALSE))=TRUE,\"\",HLOOKUP($BR50,補助!$AW$2:$BE$9,6,FALSE))","v":""},{"$f":"IF(ISERROR(HLOOKUP($BS50,補助!$AW$2:$BE$9,6,FALSE))=TRUE,\"\",HLOOKUP($BS50,補助!$AW$2:$BE$9,6,FALSE))","v":""},{"$f":"IF(ISERROR(HLOOKUP($BT50,補助!$AW$2:$BE$9,6,FALSE))=TRUE,\"\",HLOOKUP($BT50,補助!$AW$2:$BE$9,6,FALSE))","v":""},{"$f":"IF(ISERROR(HLOOKUP($BU50,補助!$AW$2:$BE$9,6,FALSE))=TRUE,\"\",HLOOKUP($BU50,補助!$AW$2:$BE$9,6,FALSE))","v":""},{"$f":"IF(ISERROR(HLOOKUP($BV50,補助!$AW$2:$BE$9,6,FALSE))=TRUE,\"\",HLOOKUP($BV50,補助!$AW$2:$BE$9,6,FALSE))","v":""},{"$f":"IF(ISERROR(HLOOKUP($BW50,補助!$AW$2:$BE$9,6,FALSE))=TRUE,\"\",HLOOKUP($BW50,補助!$AW$2:$BE$9,6,FALSE))","v":3},{"$f":"IF(ISERROR(HLOOKUP($BX50,補助!$AW$2:$BE$9,6,FALSE))=TRUE,\"\",HLOOKUP($BX50,補助!$AW$2:$BE$9,6,FALSE))","v":7},{"$f":"IF(ISERROR(HLOOKUP($BY50,補助!$AW$2:$BE$9,6,FALSE))=TRUE,\"\",HLOOKUP($BY50,補助!$AW$2:$BE$9,6,FALSE))","v":2},{"$f":"IF(ISERROR(HLOOKUP($BZ50,補助!$AW$2:$BE$9,6,FALSE))=TRUE,\"\",HLOOKUP($BZ50,補助!$AW$2:$BE$9,6,FALSE))","v":""},"372"]
[null,null,null,null,null,null,null,null,null,null,null,null,null,null,null,null,null,null,null,null,null,null,null,null,null,null,null,null,null,null,null,null,null,null,null,null,null,null,null,null,null,null,null,null,null,null,null,null,null,null,null,null,null,null,null,null,null,null,null,null,null,null,null,null,null,null,null,null,null,null,null,{"$error":"#VALUE!"},"B2","白",{"$f":"IF(ISERROR(HLOOKUP($BP51,補助!$AW$2:$BE$9,6,FALSE))=TRUE,\"\",HLOOKUP($BP51,補助!$AW$2:$BE$9,6,FALSE))","v":""},{"$f":"IF(ISERROR(HLOOKUP($BQ51,補助!$AW$2:$BE$9,6,FALSE))=TRUE,\"\",HLOOKUP($BQ51,補助!$AW$2:$BE$9,6,FALSE))","v":""},{"$f":"IF(ISERROR(HLOOKUP($BR51,補助!$AW$2:$BE$9,6,FALSE))=TRUE,\"\",HLOOKUP($BR51,補助!$AW$2:$BE$9,6,FALSE))","v":""},{"$f":"IF(ISERROR(HLOOKUP($BS51,補助!$AW$2:$BE$9,6,FALSE))=TRUE,\"\",HLOOKUP($BS51,補助!$AW$2:$BE$9,6,FALSE))","v":""},{"$f":"IF(ISERROR(HLOOKUP($BT51,補助!$AW$2:$BE$9,6,FALSE))=TRUE,\"\",HLOOKUP($BT51,補助!$AW$2:$BE$9,6,FALSE))","v":""},{"$f":"IF(ISERROR(HLOOKUP($BU51,補助!$AW$2:$BE$9,6,FALSE))=TRUE,\"\",HLOOKUP($BU51,補助!$AW$2:$BE$9,6,FALSE))","v":""},{"$f":"IF(ISERROR(HLOOKUP($BV51,補助!$AW$2:$BE$9,6,FALSE))=TRUE,\"\",HLOOKUP($BV51,補助!$AW$2:$BE$9,6,FALSE))","v":""},{"$f":"IF(ISERROR(HLOOKUP($BW51,補助!$AW$2:$BE$9,6,FALSE))=TRUE,\"\",HLOOKUP($BW51,補助!$AW$2:$BE$9,6,FALSE))","v":3},{"$f":"IF(ISERROR(HLOOKUP($BX51,補助!$AW$2:$BE$9,6,FALSE))=TRUE,\"\",HLOOKUP($BX51,補助!$AW$2:$BE$9,6,FALSE))","v":7},{"$f":"IF(ISERROR(HLOOKUP($BY51,補助!$AW$2:$BE$9,6,FALSE))=TRUE,\"\",HLOOKUP($BY51,補助!$AW$2:$BE$9,6,FALSE))","v":6},{"$f":"IF(ISERROR(HLOOKUP($BZ51,補助!$AW$2:$BE$9,6,FALSE))=TRUE,\"\",HLOOKUP($BZ51,補助!$AW$2:$BE$9,6,FALSE))","v":""},"376"]
[null,null,null,null,null,null,null,null,null,null,null,null,null,null,null,null,null,null,null,null,null,null,null,null,null,null,null,null,null,null,null,null,null,null,null,null,null,null,null,null,null,null,null,null,null,null,null,null,null,null,null,null,null,null,null,null,null,null,null,null,null,null,null,null,null,null,null,null,null,null,null,{"$error":"#VALUE!"},"B2",null,{"$f":"IF(ISERROR(HLOOKUP($BP52,補助!$AW$2:$BE$9,6,FALSE))=TRUE,\"\",HLOOKUP($BP52,補助!$AW$2:$BE$9,6,FALSE))","v":""},{"$f":"IF(ISERROR(HLOOKUP($BQ52,補助!$AW$2:$BE$9,6,FALSE))=TRUE,\"\",HLOOKUP($BQ52,補助!$AW$2:$BE$9,6,FALSE))","v":""},{"$f":"IF(ISERROR(HLOOKUP($BR52,補助!$AW$2:$BE$9,6,FALSE))=TRUE,\"\",HLOOKUP($BR52,補助!$AW$2:$BE$9,6,FALSE))","v":""},{"$f":"IF(ISERROR(HLOOKUP($BS52,補助!$AW$2:$BE$9,6,FALSE))=TRUE,\"\",HLOOKUP($BS52,補助!$AW$2:$BE$9,6,FALSE))","v":""},{"$f":"IF(ISERROR(HLOOKUP($BT52,補助!$AW$2:$BE$9,6,FALSE))=TRUE,\"\",HLOOKUP($BT52,補助!$AW$2:$BE$9,6,FALSE))","v":""},{"$f":"IF(ISERROR(HLOOKUP($BU52,補助!$AW$2:$BE$9,6,FALSE))=TRUE,\"\",HLOOKUP($BU52,補助!$AW$2:$BE$9,6,FALSE))","v":""},{"$f":"IF(ISERROR(HLOOKUP($BV52,補助!$AW$2:$BE$9,6,FALSE))=TRUE,\"\",HLOOKUP($BV52,補助!$AW$2:$BE$9,6,FALSE))","v":""},{"$f":"IF(ISERROR(HLOOKUP($BW52,補助!$AW$2:$BE$9,6,FALSE))=TRUE,\"\",HLOOKUP($BW52,補助!$AW$2:$BE$9,6,FALSE))","v":2},{"$f":"IF(ISERROR(HLOOKUP($BX52,補助!$AW$2:$BE$9,6,FALSE))=TRUE,\"\",HLOOKUP($BX52,補助!$AW$2:$BE$9,6,FALSE))","v":6},{"$f":"IF(ISERROR(HLOOKUP($BY52,補助!$AW$2:$BE$9,6,FALSE))=TRUE,\"\",HLOOKUP($BY52,補助!$AW$2:$BE$9,6,FALSE))","v":5},{"$f":"IF(ISERROR(HLOOKUP($BZ52,補助!$AW$2:$BE$9,6,FALSE))=TRUE,\"\",HLOOKUP($BZ52,補助!$AW$2:$BE$9,6,FALSE))","v":""},"265"]
[null,null,null,null,null,null,null,null,null,null,null,null,null,null,null,null,null,null,null,null,null,null,null,null,null,null,null,null,null,null,null,null,null,null,null,null,null,null,null,null,null,null,null,null,null,null,null,null,null,null,null,null,null,null,null,null,null,null,null,null,null,null,null,null,null,null,null,null,null,null,null,{"$error":"#VALUE!"},"B2",null,{"$f":"IF(ISERROR(HLOOKUP($BP53,補助!$AW$2:$BE$9,6,FALSE))=TRUE,\"\",HLOOKUP($BP53,補助!$AW$2:$BE$9,6,FALSE))","v":""},{"$f":"IF(ISERROR(HLOOKUP($BQ53,補助!$AW$2:$BE$9,6,FALSE))=TRUE,\"\",HLOOKUP($BQ53,補助!$AW$2:$BE$9,6,FALSE))","v":""},{"$f":"IF(ISERROR(HLOOKUP($BR53,補助!$AW$2:$BE$9,6,FALSE))=TRUE,\"\",HLOOKUP($BR53,補助!$AW$2:$BE$9,6,FALSE))","v":""},{"$f":"IF(ISERROR(HLOOKUP($BS53,補助!$AW$2:$BE$9,6,FALSE))=TRUE,\"\",HLOOKUP($BS53,補助!$AW$2:$BE$9,6,FALSE))","v":""},{"$f":"IF(ISERROR(HLOOKUP($BT53,補助!$AW$2:$BE$9,6,FALSE))=TRUE,\"\",HLOOKUP($BT53,補助!$AW$2:$BE$9,6,FALSE))","v":""},{"$f":"IF(ISERROR(HLOOKUP($BU53,補助!$AW$2:$BE$9,6,FALSE))=TRUE,\"\",HLOOKUP($BU53,補助!$AW$2:$BE$9,6,FALSE))","v":""},{"$f":"IF(ISERROR(HLOOKUP($BV53,補助!$AW$2:$BE$9,6,FALSE))=TRUE,\"\",HLOOKUP($BV53,補助!$AW$2:$BE$9,6,FALSE))","v":""},{"$f":"IF(ISERROR(HLOOKUP($BW53,補助!$AW$2:$BE$9,6,FALSE))=TRUE,\"\",HLOOKUP($BW53,補助!$AW$2:$BE$9,6,FALSE))","v":2},{"$f":"IF(ISERROR(HLOOKUP($BX53,補助!$AW$2:$BE$9,6,FALSE))=TRUE,\"\",HLOOKUP($BX53,補助!$AW$2:$BE$9,6,FALSE))","v":4},{"$f":"IF(ISERROR(HLOOKUP($BY53,補助!$AW$2:$BE$9,6,FALSE))=TRUE,\"\",HLOOKUP($BY53,補助!$AW$2:$BE$9,6,FALSE))","v":5},{"$f":"IF(ISERROR(HLOOKUP($BZ53,補助!$AW$2:$BE$9,6,FALSE))=TRUE,\"\",HLOOKUP($BZ53,補助!$AW$2:$BE$9,6,FALSE))","v":""},"245"]
[null,null,null,null,null,null,null,null,null,null,null,null,null,null,null,null,null,null,null,null,null,null,null,null,null,null,null,null,null,null,null,null,null,null,null,null,null,null,null,null,null,null,null,null,null,null,null,null,null,null,null,null,null,null,null,null,null,null,null,null,null,null,null,null,null,null,null,null,null,null,null,{"$error":"#VALUE!"},"B2",null,{"$f":"IF(ISERROR(HLOOKUP($BP54,補助!$AW$2:$BE$9,6,FALSE))=TRUE,\"\",HLOOKUP($BP54,補助!$AW$2:$BE$9,6,FALSE))","v":""},{"$f":"IF(ISERROR(HLOOKUP($BQ54,補助!$AW$2:$BE$9,6,FALSE))=TRUE,\"\",HLOOKUP($BQ54,補助!$AW$2:$BE$9,6,FALSE))","v":""},{"$f":"IF(ISERROR(HLOOKUP($BR54,補助!$AW$2:$BE$9,6,FALSE))=TRUE,\"\",HLOOKUP($BR54,補助!$AW$2:$BE$9,6,FALSE))","v":""},{"$f":"IF(ISERROR(HLOOKUP($BS54,補助!$AW$2:$BE$9,6,FALSE))=TRUE,\"\",HLOOKUP($BS54,補助!$AW$2:$BE$9,6,FALSE))","v":""},{"$f":"IF(ISERROR(HLOOKUP($BT54,補助!$AW$2:$BE$9,6,FALSE))=TRUE,\"\",HLOOKUP($BT54,補助!$AW$2:$BE$9,6,FALSE))","v":""},{"$f":"IF(ISERROR(HLOOKUP($BU54,補助!$AW$2:$BE$9,6,FALSE))=TRUE,\"\",HLOOKUP($BU54,補助!$AW$2:$BE$9,6,FALSE))","v":""},{"$f":"IF(ISERROR(HLOOKUP($BV54,補助!$AW$2:$BE$9,6,FALSE))=TRUE,\"\",HLOOKUP($BV54,補助!$AW$2:$BE$9,6,FALSE))","v":""},{"$f":"IF(ISERROR(HLOOKUP($BW54,補助!$AW$2:$BE$9,6,FALSE))=TRUE,\"\",HLOOKUP($BW54,補助!$AW$2:$BE$9,6,FALSE))","v":2},{"$f":"IF(ISERROR(HLOOKUP($BX54,補助!$AW$2:$BE$9,6,FALSE))=TRUE,\"\",HLOOKUP($BX54,補助!$AW$2:$BE$9,6,FALSE))","v":9},{"$f":"IF(ISERROR(HLOOKUP($BY54,補助!$AW$2:$BE$9,6,FALSE))=TRUE,\"\",HLOOKUP($BY54,補助!$AW$2:$BE$9,6,FALSE))","v":3},{"$f":"IF(ISERROR(HLOOKUP($BZ54,補助!$AW$2:$BE$9,6,FALSE))=TRUE,\"\",HLOOKUP($BZ54,補助!$AW$2:$BE$9,6,FALSE))","v":""},"293"]
[null,null,null,null,null,null,null,null,null,null,null,null,null,null,null,null,null,null,null,null,null,null,null,null,null,null,null,null,null,null,null,null,null,null,null,null,null,null,null,null,null,null,null,null,null,null,null,null,null,null,null,null,null,null,null,null,null,null,null,null,null,null,null,null,null,null,null,null,null,null,null,{"$error":"#VALUE!"},"B2",null,{"$f":"IF(ISERROR(HLOOKUP($BP55,補助!$AW$2:$BE$9,6,FALSE))=TRUE,\"\",HLOOKUP($BP55,補助!$AW$2:$BE$9,6,FALSE))","v":""},{"$f":"IF(ISERROR(HLOOKUP($BQ55,補助!$AW$2:$BE$9,6,FALSE))=TRUE,\"\",HLOOKUP($BQ55,補助!$AW$2:$BE$9,6,FALSE))","v":""},{"$f":"IF(ISERROR(HLOOKUP($BR55,補助!$AW$2:$BE$9,6,FALSE))=TRUE,\"\",HLOOKUP($BR55,補助!$AW$2:$BE$9,6,FALSE))","v":""},{"$f":"IF(ISERROR(HLOOKUP($BS55,補助!$AW$2:$BE$9,6,FALSE))=TRUE,\"\",HLOOKUP($BS55,補助!$AW$2:$BE$9,6,FALSE))","v":""},{"$f":"IF(ISERROR(HLOOKUP($BT55,補助!$AW$2:$BE$9,6,FALSE))=TRUE,\"\",HLOOKUP($BT55,補助!$AW$2:$BE$9,6,FALSE))","v":""},{"$f":"IF(ISERROR(HLOOKUP($BU55,補助!$AW$2:$BE$9,6,FALSE))=TRUE,\"\",HLOOKUP($BU55,補助!$AW$2:$BE$9,6,FALSE))","v":""},{"$f":"IF(ISERROR(HLOOKUP($BV55,補助!$AW$2:$BE$9,6,FALSE))=TRUE,\"\",HLOOKUP($BV55,補助!$AW$2:$BE$9,6,FALSE))","v":""},{"$f":"IF(ISERROR(HLOOKUP($BW55,補助!$AW$2:$BE$9,6,FALSE))=TRUE,\"\",HLOOKUP($BW55,補助!$AW$2:$BE$9,6,FALSE))","v":2},{"$f":"IF(ISERROR(HLOOKUP($BX55,補助!$AW$2:$BE$9,6,FALSE))=TRUE,\"\",HLOOKUP($BX55,補助!$AW$2:$BE$9,6,FALSE))","v":7},{"$f":"IF(ISERROR(HLOOKUP($BY55,補助!$AW$2:$BE$9,6,FALSE))=TRUE,\"\",HLOOKUP($BY55,補助!$AW$2:$BE$9,6,FALSE))","v":1},{"$f":"IF(ISERROR(HLOOKUP($BZ55,補助!$AW$2:$BE$9,6,FALSE))=TRUE,\"\",HLOOKUP($BZ55,補助!$AW$2:$BE$9,6,FALSE))","v":""},"271"]
[null,null,null,null,null,null,null,null,null,null,null,null,null,null,null,null,null,null,null,null,null,null,null,null,null,null,null,null,null,null,null,null,null,null,null,null,null,null,null,null,null,null,null,null,null,null,null,null,null,null,null,null,null,null,null,null,null,null,null,null,null,null,null,null,null,null,null,null,null,null,null,{"$error":"#VALUE!"},"B2",null,{"$f":"IF(ISERROR(HLOOKUP($BP56,補助!$AW$2:$BE$9,6,FALSE))=TRUE,\"\",HLOOKUP($BP56,補助!$AW$2:$BE$9,6,FALSE))","v":""},{"$f":"IF(ISERROR(HLOOKUP($BQ56,補助!$AW$2:$BE$9,6,FALSE))=TRUE,\"\",HLOOKUP($BQ56,補助!$AW$2:$BE$9,6,FALSE))","v":""},{"$f":"IF(ISERROR(HLOOKUP($BR56,補助!$AW$2:$BE$9,6,FALSE))=TRUE,\"\",HLOOKUP($BR56,補助!$AW$2:$BE$9,6,FALSE))","v":""},{"$f":"IF(ISERROR(HLOOKUP($BS56,補助!$AW$2:$BE$9,6,FALSE))=TRUE,\"\",HLOOKUP($BS56,補助!$AW$2:$BE$9,6,FALSE))","v":""},{"$f":"IF(ISERROR(HLOOKUP($BT56,補助!$AW$2:$BE$9,6,FALSE))=TRUE,\"\",HLOOKUP($BT56,補助!$AW$2:$BE$9,6,FALSE))","v":""},{"$f":"IF(ISERROR(HLOOKUP($BU56,補助!$AW$2:$BE$9,6,FALSE))=TRUE,\"\",HLOOKUP($BU56,補助!$AW$2:$BE$9,6,FALSE))","v":""},{"$f":"IF(ISERROR(HLOOKUP($BV56,補助!$AW$2:$BE$9,6,FALSE))=TRUE,\"\",HLOOKUP($BV56,補助!$AW$2:$BE$9,6,FALSE))","v":""},{"$f":"IF(ISERROR(HLOOKUP($BW56,補助!$AW$2:$BE$9,6,FALSE))=TRUE,\"\",HLOOKUP($BW56,補助!$AW$2:$BE$9,6,FALSE))","v":5},{"$f":"IF(ISERROR(HLOOKUP($BX56,補助!$AW$2:$BE$9,6,FALSE))=TRUE,\"\",HLOOKUP($BX56,補助!$AW$2:$BE$9,6,FALSE))","v":2},{"$f":"IF(ISERROR(HLOOKUP($BY56,補助!$AW$2:$BE$9,6,FALSE))=TRUE,\"\",HLOOKUP($BY56,補助!$AW$2:$BE$9,6,FALSE))","v":1},{"$f":"IF(ISERROR(HLOOKUP($BZ56,補助!$AW$2:$BE$9,6,FALSE))=TRUE,\"\",HLOOKUP($BZ56,補助!$AW$2:$BE$9,6,FALSE))","v":""},"521"]
[null,null,null,null,null,null,null,null,null,null,null,null,null,null,null,null,null,null,null,null,null,null,null,null,null,null,null,null,null,null,null,null,null,null,null,null,null,null,null,null,null,null,null,null,null,null,null,null,null,null,null,null,null,null,null,null,null,null,null,null,null,null,null,null,null,null,null,null,null,null,null,{"$error":"#VALUE!"},"B2",null,{"$f":"IF(ISERROR(HLOOKUP($BP57,補助!$AW$2:$BE$9,6,FALSE))=TRUE,\"\",HLOOKUP($BP57,補助!$AW$2:$BE$9,6,FALSE))","v":""},{"$f":"IF(ISERROR(HLOOKUP($BQ57,補助!$AW$2:$BE$9,6,FALSE))=TRUE,\"\",HLOOKUP($BQ57,補助!$AW$2:$BE$9,6,FALSE))","v":""},{"$f":"IF(ISERROR(HLOOKUP($BR57,補助!$AW$2:$BE$9,6,FALSE))=TRUE,\"\",HLOOKUP($BR57,補助!$AW$2:$BE$9,6,FALSE))","v":""},{"$f":"IF(ISERROR(HLOOKUP($BS57,補助!$AW$2:$BE$9,6,FALSE))=TRUE,\"\",HLOOKUP($BS57,補助!$AW$2:$BE$9,6,FALSE))","v":""},{"$f":"IF(ISERROR(HLOOKUP($BT57,補助!$AW$2:$BE$9,6,FALSE))=TRUE,\"\",HLOOKUP($BT57,補助!$AW$2:$BE$9,6,FALSE))","v":""},{"$f":"IF(ISERROR(HLOOKUP($BU57,補助!$AW$2:$BE$9,6,FALSE))=TRUE,\"\",HLOOKUP($BU57,補助!$AW$2:$BE$9,6,FALSE))","v":""},{"$f":"IF(ISERROR(HLOOKUP($BV57,補助!$AW$2:$BE$9,6,FALSE))=TRUE,\"\",HLOOKUP($BV57,補助!$AW$2:$BE$9,6,FALSE))","v":""},{"$f":"IF(ISERROR(HLOOKUP($BW57,補助!$AW$2:$BE$9,6,FALSE))=TRUE,\"\",HLOOKUP($BW57,補助!$AW$2:$BE$9,6,FALSE))","v":5},{"$f":"IF(ISERROR(HLOOKUP($BX57,補助!$AW$2:$BE$9,6,FALSE))=TRUE,\"\",HLOOKUP($BX57,補助!$AW$2:$BE$9,6,FALSE))","v":2},{"$f":"IF(ISERROR(HLOOKUP($BY57,補助!$AW$2:$BE$9,6,FALSE))=TRUE,\"\",HLOOKUP($BY57,補助!$AW$2:$BE$9,6,FALSE))","v":3},{"$f":"IF(ISERROR(HLOOKUP($BZ57,補助!$AW$2:$BE$9,6,FALSE))=TRUE,\"\",HLOOKUP($BZ57,補助!$AW$2:$BE$9,6,FALSE))","v":""},"523"]
[null,null,null,null,null,null,null,null,null,null,null,null,null,null,null,null,null,null,null,null,null,null,null,null,null,null,null,null,null,null,null,null,null,null,null,null,null,null,null,null,null,null,null,null,null,null,null,null,null,null,null,null,null,null,null,null,null,null,null,null,null,null,null,null,null,null,null,null,null,null,null,{"$error":"#VALUE!"},"B2",null,{"$f":"IF(ISERROR(HLOOKUP($BP58,補助!$AW$2:$BE$9,6,FALSE))=TRUE,\"\",HLOOKUP($BP58,補助!$AW$2:$BE$9,6,FALSE))","v":""},{"$f":"IF(ISERROR(HLOOKUP($BQ58,補助!$AW$2:$BE$9,6,FALSE))=TRUE,\"\",HLOOKUP($BQ58,補助!$AW$2:$BE$9,6,FALSE))","v":""},{"$f":"IF(ISERROR(HLOOKUP($BR58,補助!$AW$2:$BE$9,6,FALSE))=TRUE,\"\",HLOOKUP($BR58,補助!$AW$2:$BE$9,6,FALSE))","v":""},{"$f":"IF(ISERROR(HLOOKUP($BS58,補助!$AW$2:$BE$9,6,FALSE))=TRUE,\"\",HLOOKUP($BS58,補助!$AW$2:$BE$9,6,FALSE))","v":""},{"$f":"IF(ISERROR(HLOOKUP($BT58,補助!$AW$2:$BE$9,6,FALSE))=TRUE,\"\",HLOOKUP($BT58,補助!$AW$2:$BE$9,6,FALSE))","v":""},{"$f":"IF(ISERROR(HLOOKUP($BU58,補助!$AW$2:$BE$9,6,FALSE))=TRUE,\"\",HLOOKUP($BU58,補助!$AW$2:$BE$9,6,FALSE))","v":""},{"$f":"IF(ISERROR(HLOOKUP($BV58,補助!$AW$2:$BE$9,6,FALSE))=TRUE,\"\",HLOOKUP($BV58,補助!$AW$2:$BE$9,6,FALSE))","v":""},{"$f":"IF(ISERROR(HLOOKUP($BW58,補助!$AW$2:$BE$9,6,FALSE))=TRUE,\"\",HLOOKUP($BW58,補助!$AW$2:$BE$9,6,FALSE))","v":5},{"$f":"IF(ISERROR(HLOOKUP($BX58,補助!$AW$2:$BE$9,6,FALSE))=TRUE,\"\",HLOOKUP($BX58,補助!$AW$2:$BE$9,6,FALSE))","v":2},{"$f":"IF(ISERROR(HLOOKUP($BY58,補助!$AW$2:$BE$9,6,FALSE))=TRUE,\"\",HLOOKUP($BY58,補助!$AW$2:$BE$9,6,FALSE))","v":9},{"$f":"IF(ISERROR(HLOOKUP($BZ58,補助!$AW$2:$BE$9,6,FALSE))=TRUE,\"\",HLOOKUP($BZ58,補助!$AW$2:$BE$9,6,FALSE))","v":""},"529"]
[null,null,null,null,null,null,null,null,null,null,null,null,null,null,null,null,null,null,null,null,null,null,null,null,null,null,null,null,null,null,null,null,null,null,null,null,null,null,null,null,null,null,null,null,null,null,null,null,null,null,null,null,null,null,null,null,null,null,null,null,null,null,null,null,null,null,null,null,null,null,null,{"$error":"#VALUE!"},"B2",null,{"$f":"IF(ISERROR(HLOOKUP($BP59,補助!$AW$2:$BE$9,6,FALSE))=TRUE,\"\",HLOOKUP($BP59,補助!$AW$2:$BE$9,6,FALSE))","v":""},{"$f":"IF(ISERROR(HLOOKUP($BQ59,補助!$AW$2:$BE$9,6,FALSE))=TRUE,\"\",HLOOKUP($BQ59,補助!$AW$2:$BE$9,6,FALSE))","v":""},{"$f":"IF(ISERROR(HLOOKUP($BR59,補助!$AW$2:$BE$9,6,FALSE))=TRUE,\"\",HLOOKUP($BR59,補助!$AW$2:$BE$9,6,FALSE))","v":""},{"$f":"IF(ISERROR(HLOOKUP($BS59,補助!$AW$2:$BE$9,6,FALSE))=TRUE,\"\",HLOOKUP($BS59,補助!$AW$2:$BE$9,6,FALSE))","v":""},{"$f":"IF(ISERROR(HLOOKUP($BT59,補助!$AW$2:$BE$9,6,FALSE))=TRUE,\"\",HLOOKUP($BT59,補助!$AW$2:$BE$9,6,FALSE))","v":""},{"$f":"IF(ISERROR(HLOOKUP($BU59,補助!$AW$2:$BE$9,6,FALSE))=TRUE,\"\",HLOOKUP($BU59,補助!$AW$2:$BE$9,6,FALSE))","v":""},{"$f":"IF(ISERROR(HLOOKUP($BV59,補助!$AW$2:$BE$9,6,FALSE))=TRUE,\"\",HLOOKUP($BV59,補助!$AW$2:$BE$9,6,FALSE))","v":""},{"$f":"IF(ISERROR(HLOOKUP($BW59,補助!$AW$2:$BE$9,6,FALSE))=TRUE,\"\",HLOOKUP($BW59,補助!$AW$2:$BE$9,6,FALSE))","v":5},{"$f":"IF(ISERROR(HLOOKUP($BX59,補助!$AW$2:$BE$9,6,FALSE))=TRUE,\"\",HLOOKUP($BX59,補助!$AW$2:$BE$9,6,FALSE))","v":2},{"$f":"IF(ISERROR(HLOOKUP($BY59,補助!$AW$2:$BE$9,6,FALSE))=TRUE,\"\",HLOOKUP($BY59,補助!$AW$2:$BE$9,6,FALSE))","v":7},{"$f":"IF(ISERROR(HLOOKUP($BZ59,補助!$AW$2:$BE$9,6,FALSE))=TRUE,\"\",HLOOKUP($BZ59,補助!$AW$2:$BE$9,6,FALSE))","v":""},"527"]
[null,null,null,null,null,null,null,null,null,null,null,null,null,null,null,null,null,null,null,null,null,null,null,null,null,null,null,null,null,null,null,null,null,null,null,null,null,null,null,null,null,null,null,null,null,null,null,null,null,null,null,null,null,null,null,null,null,null,null,null,null,null,null,null,null,null,null,null,null,null,null,{"$error":"#VALUE!"},"B3",null,{"$f":"IF(ISERROR(HLOOKUP($BP2,補助!$AW$2:$BE$9,7,FALSE))=TRUE,\"\",HLOOKUP($BP2,補助!$AW$2:$BE$9,7,FALSE))","v":1},{"$f":"IF(ISERROR(HLOOKUP($BQ2,補助!$AW$2:$BE$9,7,FALSE))=TRUE,\"\",HLOOKUP($BQ2,補助!$AW$2:$BE$9,7,FALSE))","v":""},{"$f":"IF(ISERROR(HLOOKUP($BR2,補助!$AW$2:$BE$9,7,FALSE))=TRUE,\"\",HLOOKUP($BR2,補助!$AW$2:$BE$9,7,FALSE))","v":""},{"$f":"IF(ISERROR(HLOOKUP($BS2,補助!$AW$2:$BE$9,7,FALSE))=TRUE,\"\",HLOOKUP($BS2,補助!$AW$2:$BE$9,7,FALSE))","v":""},{"$f":"IF(ISERROR(HLOOKUP($BT2,補助!$AW$2:$BE$9,7,FALSE))=TRUE,\"\",HLOOKUP($BT2,補助!$AW$2:$BE$9,7,FALSE))","v":""},{"$f":"IF(ISERROR(HLOOKUP($BU2,補助!$AW$2:$BE$9,7,FALSE))=TRUE,\"\",HLOOKUP($BU2,補助!$AW$2:$BE$9,7,FALSE))","v":""},{"$f":"IF(ISERROR(HLOOKUP($BV2,補助!$AW$2:$BE$9,7,FALSE))=TRUE,\"\",HLOOKUP($BV2,補助!$AW$2:$BE$9,7,FALSE))","v":""},{"$f":"IF(ISERROR(HLOOKUP($BW2,補助!$AW$2:$BE$9,7,FALSE))=TRUE,\"\",HLOOKUP($BW2,補助!$AW$2:$BE$9,7,FALSE))","v":9},{"$f":"IF(ISERROR(HLOOKUP($BX2,補助!$AW$2:$BE$9,7,FALSE))=TRUE,\"\",HLOOKUP($BX2,補助!$AW$2:$BE$9,7,FALSE))","v":6},{"$f":"IF(ISERROR(HLOOKUP($BY2,補助!$AW$2:$BE$9,7,FALSE))=TRUE,\"\",HLOOKUP($BY2,補助!$AW$2:$BE$9,7,FALSE))","v":8},{"$f":"IF(ISERROR(HLOOKUP($BZ2,補助!$AW$2:$BE$9,7,FALSE))=TRUE,\"\",HLOOKUP($BZ2,補助!$AW$2:$BE$9,7,FALSE))","v":""},"1968"]
[null,null,null,null,null,null,null,null,null,null,null,null,null,null,null,null,null,null,null,null,null,null,null,null,null,null,null,null,null,null,null,null,null,null,null,null,null,null,null,null,null,null,null,null,null,null,null,null,null,null,null,null,null,null,null,null,null,null,null,null,null,null,null,null,null,null,null,null,null,null,null,{"$error":"#VALUE!"},"B3",null,{"$f":"IF(ISERROR(HLOOKUP($BP3,補助!$AW$2:$BE$9,7,FALSE))=TRUE,\"\",HLOOKUP($BP3,補助!$AW$2:$BE$9,7,FALSE))","v":2},{"$f":"IF(ISERROR(HLOOKUP($BQ3,補助!$AW$2:$BE$9,7,FALSE))=TRUE,\"\",HLOOKUP($BQ3,補助!$AW$2:$BE$9,7,FALSE))","v":""},{"$f":"IF(ISERROR(HLOOKUP($BR3,補助!$AW$2:$BE$9,7,FALSE))=TRUE,\"\",HLOOKUP($BR3,補助!$AW$2:$BE$9,7,FALSE))","v":""},{"$f":"IF(ISERROR(HLOOKUP($BS3,補助!$AW$2:$BE$9,7,FALSE))=TRUE,\"\",HLOOKUP($BS3,補助!$AW$2:$BE$9,7,FALSE))","v":""},{"$f":"IF(ISERROR(HLOOKUP($BT3,補助!$AW$2:$BE$9,7,FALSE))=TRUE,\"\",HLOOKUP($BT3,補助!$AW$2:$BE$9,7,FALSE))","v":""},{"$f":"IF(ISERROR(HLOOKUP($BU3,補助!$AW$2:$BE$9,7,FALSE))=TRUE,\"\",HLOOKUP($BU3,補助!$AW$2:$BE$9,7,FALSE))","v":""},{"$f":"IF(ISERROR(HLOOKUP($BV3,補助!$AW$2:$BE$9,7,FALSE))=TRUE,\"\",HLOOKUP($BV3,補助!$AW$2:$BE$9,7,FALSE))","v":""},{"$f":"IF(ISERROR(HLOOKUP($BW3,補助!$AW$2:$BE$9,7,FALSE))=TRUE,\"\",HLOOKUP($BW3,補助!$AW$2:$BE$9,7,FALSE))","v":9},{"$f":"IF(ISERROR(HLOOKUP($BX3,補助!$AW$2:$BE$9,7,FALSE))=TRUE,\"\",HLOOKUP($BX3,補助!$AW$2:$BE$9,7,FALSE))","v":6},{"$f":"IF(ISERROR(HLOOKUP($BY3,補助!$AW$2:$BE$9,7,FALSE))=TRUE,\"\",HLOOKUP($BY3,補助!$AW$2:$BE$9,7,FALSE))","v":5},{"$f":"IF(ISERROR(HLOOKUP($BZ3,補助!$AW$2:$BE$9,7,FALSE))=TRUE,\"\",HLOOKUP($BZ3,補助!$AW$2:$BE$9,7,FALSE))","v":""},"2965"]
[null,null,null,null,null,null,null,null,null,null,null,null,null,null,null,null,null,null,null,null,null,null,null,null,null,null,null,null,null,null,null,null,null,null,null,null,null,null,null,null,null,null,null,null,null,null,null,null,null,null,null,null,null,null,null,null,null,null,null,null,null,null,null,null,null,null,null,null,null,null,null,{"$error":"#VALUE!"},"B3",null,{"$f":"IF(ISERROR(HLOOKUP($BP4,補助!$AW$2:$BE$9,7,FALSE))=TRUE,\"\",HLOOKUP($BP4,補助!$AW$2:$BE$9,7,FALSE))","v":3},{"$f":"IF(ISERROR(HLOOKUP($BQ4,補助!$AW$2:$BE$9,7,FALSE))=TRUE,\"\",HLOOKUP($BQ4,補助!$AW$2:$BE$9,7,FALSE))","v":""},{"$f":"IF(ISERROR(HLOOKUP($BR4,補助!$AW$2:$BE$9,7,FALSE))=TRUE,\"\",HLOOKUP($BR4,補助!$AW$2:$BE$9,7,FALSE))","v":""},{"$f":"IF(ISERROR(HLOOKUP($BS4,補助!$AW$2:$BE$9,7,FALSE))=TRUE,\"\",HLOOKUP($BS4,補助!$AW$2:$BE$9,7,FALSE))","v":""},{"$f":"IF(ISERROR(HLOOKUP($BT4,補助!$AW$2:$BE$9,7,FALSE))=TRUE,\"\",HLOOKUP($BT4,補助!$AW$2:$BE$9,7,FALSE))","v":""},{"$f":"IF(ISERROR(HLOOKUP($BU4,補助!$AW$2:$BE$9,7,FALSE))=TRUE,\"\",HLOOKUP($BU4,補助!$AW$2:$BE$9,7,FALSE))","v":""},{"$f":"IF(ISERROR(HLOOKUP($BV4,補助!$AW$2:$BE$9,7,FALSE))=TRUE,\"\",HLOOKUP($BV4,補助!$AW$2:$BE$9,7,FALSE))","v":""},{"$f":"IF(ISERROR(HLOOKUP($BW4,補助!$AW$2:$BE$9,7,FALSE))=TRUE,\"\",HLOOKUP($BW4,補助!$AW$2:$BE$9,7,FALSE))","v":9},{"$f":"IF(ISERROR(HLOOKUP($BX4,補助!$AW$2:$BE$9,7,FALSE))=TRUE,\"\",HLOOKUP($BX4,補助!$AW$2:$BE$9,7,FALSE))","v":6},{"$f":"IF(ISERROR(HLOOKUP($BY4,補助!$AW$2:$BE$9,7,FALSE))=TRUE,\"\",HLOOKUP($BY4,補助!$AW$2:$BE$9,7,FALSE))","v":7},{"$f":"IF(ISERROR(HLOOKUP($BZ4,補助!$AW$2:$BE$9,7,FALSE))=TRUE,\"\",HLOOKUP($BZ4,補助!$AW$2:$BE$9,7,FALSE))","v":""},"3967"]
[null,null,null,null,null,null,null,null,null,null,null,null,null,null,null,null,null,null,null,null,null,null,null,null,null,null,null,null,null,null,null,null,null,null,null,null,null,null,null,null,null,null,null,null,null,null,null,null,null,null,null,null,null,null,null,null,null,null,null,null,null,null,null,null,null,null,null,null,null,null,null,{"$error":"#VALUE!"},"B3",null,{"$f":"IF(ISERROR(HLOOKUP($BP5,補助!$AW$2:$BE$9,7,FALSE))=TRUE,\"\",HLOOKUP($BP5,補助!$AW$2:$BE$9,7,FALSE))","v":""},{"$f":"IF(ISERROR(HLOOKUP($BQ5,補助!$AW$2:$BE$9,7,FALSE))=TRUE,\"\",HLOOKUP($BQ5,補助!$AW$2:$BE$9,7,FALSE))","v":""},{"$f":"IF(ISERROR(HLOOKUP($BR5,補助!$AW$2:$BE$9,7,FALSE))=TRUE,\"\",HLOOKUP($BR5,補助!$AW$2:$BE$9,7,FALSE))","v":""},{"$f":"IF(ISERROR(HLOOKUP($BS5,補助!$AW$2:$BE$9,7,FALSE))=TRUE,\"\",HLOOKUP($BS5,補助!$AW$2:$BE$9,7,FALSE))","v":""},{"$f":"IF(ISERROR(HLOOKUP($BT5,補助!$AW$2:$BE$9,7,FALSE))=TRUE,\"\",HLOOKUP($BT5,補助!$AW$2:$BE$9,7,FALSE))","v":""},{"$f":"IF(ISERROR(HLOOKUP($BU5,補助!$AW$2:$BE$9,7,FALSE))=TRUE,\"\",HLOOKUP($BU5,補助!$AW$2:$BE$9,7,FALSE))","v":""},{"$f":"IF(ISERROR(HLOOKUP($BV5,補助!$AW$2:$BE$9,7,FALSE))=TRUE,\"\",HLOOKUP($BV5,補助!$AW$2:$BE$9,7,FALSE))","v":""},{"$f":"IF(ISERROR(HLOOKUP($BW5,補助!$AW$2:$BE$9,7,FALSE))=TRUE,\"\",HLOOKUP($BW5,補助!$AW$2:$BE$9,7,FALSE))","v":9},{"$f":"IF(ISERROR(HLOOKUP($BX5,補助!$AW$2:$BE$9,7,FALSE))=TRUE,\"\",HLOOKUP($BX5,補助!$AW$2:$BE$9,7,FALSE))","v":6},{"$f":"IF(ISERROR(HLOOKUP($BY5,補助!$AW$2:$BE$9,7,FALSE))=TRUE,\"\",HLOOKUP($BY5,補助!$AW$2:$BE$9,7,FALSE))","v":3},{"$f":"IF(ISERROR(HLOOKUP($BZ5,補助!$AW$2:$BE$9,7,FALSE))=TRUE,\"\",HLOOKUP($BZ5,補助!$AW$2:$BE$9,7,FALSE))","v":8},"963"]
[null,null,null,null,null,null,null,null,null,null,null,null,null,null,null,null,null,null,null,null,null,null,null,null,null,null,null,null,null,null,null,null,null,null,null,null,null,null,null,null,null,null,null,null,null,null,null,null,null,null,null,null,null,null,null,null,null,null,null,null,null,null,null,null,null,null,null,null,null,null,null,{"$error":"#VALUE!"},"B3",null,{"$f":"IF(ISERROR(HLOOKUP($BP6,補助!$AW$2:$BE$9,7,FALSE))=TRUE,\"\",HLOOKUP($BP6,補助!$AW$2:$BE$9,7,FALSE))","v":""},{"$f":"IF(ISERROR(HLOOKUP($BQ6,補助!$AW$2:$BE$9,7,FALSE))=TRUE,\"\",HLOOKUP($BQ6,補助!$AW$2:$BE$9,7,FALSE))","v":""},{"$f":"IF(ISERROR(HLOOKUP($BR6,補助!$AW$2:$BE$9,7,FALSE))=TRUE,\"\",HLOOKUP($BR6,補助!$AW$2:$BE$9,7,FALSE))","v":""},{"$f":"IF(ISERROR(HLOOKUP($BS6,補助!$AW$2:$BE$9,7,FALSE))=TRUE,\"\",HLOOKUP($BS6,補助!$AW$2:$BE$9,7,FALSE))","v":""},{"$f":"IF(ISERROR(HLOOKUP($BT6,補助!$AW$2:$BE$9,7,FALSE))=TRUE,\"\",HLOOKUP($BT6,補助!$AW$2:$BE$9,7,FALSE))","v":""},{"$f":"IF(ISERROR(HLOOKUP($BU6,補助!$AW$2:$BE$9,7,FALSE))=TRUE,\"\",HLOOKUP($BU6,補助!$AW$2:$BE$9,7,FALSE))","v":""},{"$f":"IF(ISERROR(HLOOKUP($BV6,補助!$AW$2:$BE$9,7,FALSE))=TRUE,\"\",HLOOKUP($BV6,補助!$AW$2:$BE$9,7,FALSE))","v":""},{"$f":"IF(ISERROR(HLOOKUP($BW6,補助!$AW$2:$BE$9,7,FALSE))=TRUE,\"\",HLOOKUP($BW6,補助!$AW$2:$BE$9,7,FALSE))","v":9},{"$f":"IF(ISERROR(HLOOKUP($BX6,補助!$AW$2:$BE$9,7,FALSE))=TRUE,\"\",HLOOKUP($BX6,補助!$AW$2:$BE$9,7,FALSE))","v":6},{"$f":"IF(ISERROR(HLOOKUP($BY6,補助!$AW$2:$BE$9,7,FALSE))=TRUE,\"\",HLOOKUP($BY6,補助!$AW$2:$BE$9,7,FALSE))","v":3},{"$f":"IF(ISERROR(HLOOKUP($BZ6,補助!$AW$2:$BE$9,7,FALSE))=TRUE,\"\",HLOOKUP($BZ6,補助!$AW$2:$BE$9,7,FALSE))","v":2},"963"]
[null,null,null,null,null,null,null,null,null,null,null,null,null,null,null,null,null,null,null,null,null,null,null,null,null,null,null,null,null,null,null,null,null,null,null,null,null,null,null,null,null,null,null,null,null,null,null,null,null,null,null,null,null,null,null,null,null,null,null,null,null,null,null,null,null,null,null,null,null,null,null,{"$error":"#VALUE!"},"B3",null,{"$f":"IF(ISERROR(HLOOKUP($BP7,補助!$AW$2:$BE$9,7,FALSE))=TRUE,\"\",HLOOKUP($BP7,補助!$AW$2:$BE$9,7,FALSE))","v":""},{"$f":"IF(ISERROR(HLOOKUP($BQ7,補助!$AW$2:$BE$9,7,FALSE))=TRUE,\"\",HLOOKUP($BQ7,補助!$AW$2:$BE$9,7,FALSE))","v":""},{"$f":"IF(ISERROR(HLOOKUP($BR7,補助!$AW$2:$BE$9,7,FALSE))=TRUE,\"\",HLOOKUP($BR7,補助!$AW$2:$BE$9,7,FALSE))","v":""},{"$f":"IF(ISERROR(HLOOKUP($BS7,補助!$AW$2:$BE$9,7,FALSE))=TRUE,\"\",HLOOKUP($BS7,補助!$AW$2:$BE$9,7,FALSE))","v":""},{"$f":"IF(ISERROR(HLOOKUP($BT7,補助!$AW$2:$BE$9,7,FALSE))=TRUE,\"\",HLOOKUP($BT7,補助!$AW$2:$BE$9,7,FALSE))","v":""},{"$f":"IF(ISERROR(HLOOKUP($BU7,補助!$AW$2:$BE$9,7,FALSE))=TRUE,\"\",HLOOKUP($BU7,補助!$AW$2:$BE$9,7,FALSE))","v":""},{"$f":"IF(ISERROR(HLOOKUP($BV7,補助!$AW$2:$BE$9,7,FALSE))=TRUE,\"\",HLOOKUP($BV7,補助!$AW$2:$BE$9,7,FALSE))","v":""},{"$f":"IF(ISERROR(HLOOKUP($BW7,補助!$AW$2:$BE$9,7,FALSE))=TRUE,\"\",HLOOKUP($BW7,補助!$AW$2:$BE$9,7,FALSE))","v":9},{"$f":"IF(ISERROR(HLOOKUP($BX7,補助!$AW$2:$BE$9,7,FALSE))=TRUE,\"\",HLOOKUP($BX7,補助!$AW$2:$BE$9,7,FALSE))","v":6},{"$f":"IF(ISERROR(HLOOKUP($BY7,補助!$AW$2:$BE$9,7,FALSE))=TRUE,\"\",HLOOKUP($BY7,補助!$AW$2:$BE$9,7,FALSE))","v":3},{"$f":"IF(ISERROR(HLOOKUP($BZ7,補助!$AW$2:$BE$9,7,FALSE))=TRUE,\"\",HLOOKUP($BZ7,補助!$AW$2:$BE$9,7,FALSE))","v":7},"963"]
[null,null,null,null,null,null,null,null,null,null,null,null,null,null,null,null,null,null,null,null,null,null,null,null,null,null,null,null,null,null,null,null,null,null,null,null,null,null,null,null,null,null,null,null,null,null,null,null,null,null,null,null,null,null,null,null,null,null,null,null,null,null,null,null,null,null,null,null,null,null,null,{"$error":"#VALUE!"},"B3",null,{"$f":"IF(ISERROR(HLOOKUP($BP8,補助!$AW$2:$BE$9,7,FALSE))=TRUE,\"\",HLOOKUP($BP8,補助!$AW$2:$BE$9,7,FALSE))","v":""},{"$f":"IF(ISERROR(HLOOKUP($BQ8,補助!$AW$2:$BE$9,7,FALSE))=TRUE,\"\",HLOOKUP($BQ8,補助!$AW$2:$BE$9,7,FALSE))","v":""},{"$f":"IF(ISERROR(HLOOKUP($BR8,補助!$AW$2:$BE$9,7,FALSE))=TRUE,\"\",HLOOKUP($BR8,補助!$AW$2:$BE$9,7,FALSE))","v":""},{"$f":"IF(ISERROR(HLOOKUP($BS8,補助!$AW$2:$BE$9,7,FALSE))=TRUE,\"\",HLOOKUP($BS8,補助!$AW$2:$BE$9,7,FALSE))","v":""},{"$f":"IF(ISERROR(HLOOKUP($BT8,補助!$AW$2:$BE$9,7,FALSE))=TRUE,\"\",HLOOKUP($BT8,補助!$AW$2:$BE$9,7,FALSE))","v":""},{"$f":"IF(ISERROR(HLOOKUP($BU8,補助!$AW$2:$BE$9,7,FALSE))=TRUE,\"\",HLOOKUP($BU8,補助!$AW$2:$BE$9,7,FALSE))","v":""},{"$f":"IF(ISERROR(HLOOKUP($BV8,補助!$AW$2:$BE$9,7,FALSE))=TRUE,\"\",HLOOKUP($BV8,補助!$AW$2:$BE$9,7,FALSE))","v":""},{"$f":"IF(ISERROR(HLOOKUP($BW8,補助!$AW$2:$BE$9,7,FALSE))=TRUE,\"\",HLOOKUP($BW8,補助!$AW$2:$BE$9,7,FALSE))","v":9},{"$f":"IF(ISERROR(HLOOKUP($BX8,補助!$AW$2:$BE$9,7,FALSE))=TRUE,\"\",HLOOKUP($BX8,補助!$AW$2:$BE$9,7,FALSE))","v":6},{"$f":"IF(ISERROR(HLOOKUP($BY8,補助!$AW$2:$BE$9,7,FALSE))=TRUE,\"\",HLOOKUP($BY8,補助!$AW$2:$BE$9,7,FALSE))","v":3},{"$f":"IF(ISERROR(HLOOKUP($BZ8,補助!$AW$2:$BE$9,7,FALSE))=TRUE,\"\",HLOOKUP($BZ8,補助!$AW$2:$BE$9,7,FALSE))","v":4},"963"]
[null,null,null,null,null,null,null,null,null,null,null,null,null,null,null,null,null,null,null,null,null,null,null,null,null,null,null,null,null,null,null,null,null,null,null,null,null,null,null,null,null,null,null,null,null,null,null,null,null,null,null,null,null,null,null,null,null,null,null,null,null,null,null,null,null,null,null,null,null,null,null,{"$error":"#VALUE!"},"B3",null,{"$f":"IF(ISERROR(HLOOKUP($BP9,補助!$AW$2:$BE$9,7,FALSE))=TRUE,\"\",HLOOKUP($BP9,補助!$AW$2:$BE$9,7,FALSE))","v":""},{"$f":"IF(ISERROR(HLOOKUP($BQ9,補助!$AW$2:$BE$9,7,FALSE))=TRUE,\"\",HLOOKUP($BQ9,補助!$AW$2:$BE$9,7,FALSE))","v":""},{"$f":"IF(ISERROR(HLOOKUP($BR9,補助!$AW$2:$BE$9,7,FALSE))=TRUE,\"\",HLOOKUP($BR9,補助!$AW$2:$BE$9,7,FALSE))","v":""},{"$f":"IF(ISERROR(HLOOKUP($BS9,補助!$AW$2:$BE$9,7,FALSE))=TRUE,\"\",HLOOKUP($BS9,補助!$AW$2:$BE$9,7,FALSE))","v":""},{"$f":"IF(ISERROR(HLOOKUP($BT9,補助!$AW$2:$BE$9,7,FALSE))=TRUE,\"\",HLOOKUP($BT9,補助!$AW$2:$BE$9,7,FALSE))","v":""},{"$f":"IF(ISERROR(HLOOKUP($BU9,補助!$AW$2:$BE$9,7,FALSE))=TRUE,\"\",HLOOKUP($BU9,補助!$AW$2:$BE$9,7,FALSE))","v":""},{"$f":"IF(ISERROR(HLOOKUP($BV9,補助!$AW$2:$BE$9,7,FALSE))=TRUE,\"\",HLOOKUP($BV9,補助!$AW$2:$BE$9,7,FALSE))","v":""},{"$f":"IF(ISERROR(HLOOKUP($BW9,補助!$AW$2:$BE$9,7,FALSE))=TRUE,\"\",HLOOKUP($BW9,補助!$AW$2:$BE$9,7,FALSE))","v":9},{"$f":"IF(ISERROR(HLOOKUP($BX9,補助!$AW$2:$BE$9,7,FALSE))=TRUE,\"\",HLOOKUP($BX9,補助!$AW$2:$BE$9,7,FALSE))","v":6},{"$f":"IF(ISERROR(HLOOKUP($BY9,補助!$AW$2:$BE$9,7,FALSE))=TRUE,\"\",HLOOKUP($BY9,補助!$AW$2:$BE$9,7,FALSE))","v":3},{"$f":"IF(ISERROR(HLOOKUP($BZ9,補助!$AW$2:$BE$9,7,FALSE))=TRUE,\"\",HLOOKUP($BZ9,補助!$AW$2:$BE$9,7,FALSE))","v":1},"963"]
[null,null,null,null,null,null,null,null,null,null,null,null,null,null,null,null,null,null,null,null,null,null,null,null,null,null,null,null,null,null,null,null,null,null,null,null,null,null,null,null,null,null,null,null,null,null,null,null,null,null,null,null,null,null,null,null,null,null,null,null,null,null,null,null,null,null,null,null,null,null,null,{"$error":"#VALUE!"},"B3",null,{"$f":"IF(ISERROR(HLOOKUP($BP10,補助!$AW$2:$BE$9,7,FALSE))=TRUE,\"\",HLOOKUP($BP10,補助!$AW$2:$BE$9,7,FALSE))","v":""},{"$f":"IF(ISERROR(HLOOKUP($BQ10,補助!$AW$2:$BE$9,7,FALSE))=TRUE,\"\",HLOOKUP($BQ10,補助!$AW$2:$BE$9,7,FALSE))","v":""},{"$f":"IF(ISERROR(HLOOKUP($BR10,補助!$AW$2:$BE$9,7,FALSE))=TRUE,\"\",HLOOKUP($BR10,補助!$AW$2:$BE$9,7,FALSE))","v":""},{"$f":"IF(ISERROR(HLOOKUP($BS10,補助!$AW$2:$BE$9,7,FALSE))=TRUE,\"\",HLOOKUP($BS10,補助!$AW$2:$BE$9,7,FALSE))","v":""},{"$f":"IF(ISERROR(HLOOKUP($BT10,補助!$AW$2:$BE$9,7,FALSE))=TRUE,\"\",HLOOKUP($BT10,補助!$AW$2:$BE$9,7,FALSE))","v":""},{"$f":"IF(ISERROR(HLOOKUP($BU10,補助!$AW$2:$BE$9,7,FALSE))=TRUE,\"\",HLOOKUP($BU10,補助!$AW$2:$BE$9,7,FALSE))","v":""},{"$f":"IF(ISERROR(HLOOKUP($BV10,補助!$AW$2:$BE$9,7,FALSE))=TRUE,\"\",HLOOKUP($BV10,補助!$AW$2:$BE$9,7,FALSE))","v":""},{"$f":"IF(ISERROR(HLOOKUP($BW10,補助!$AW$2:$BE$9,7,FALSE))=TRUE,\"\",HLOOKUP($BW10,補助!$AW$2:$BE$9,7,FALSE))","v":9},{"$f":"IF(ISERROR(HLOOKUP($BX10,補助!$AW$2:$BE$9,7,FALSE))=TRUE,\"\",HLOOKUP($BX10,補助!$AW$2:$BE$9,7,FALSE))","v":6},{"$f":"IF(ISERROR(HLOOKUP($BY10,補助!$AW$2:$BE$9,7,FALSE))=TRUE,\"\",HLOOKUP($BY10,補助!$AW$2:$BE$9,7,FALSE))","v":2},{"$f":"IF(ISERROR(HLOOKUP($BZ10,補助!$AW$2:$BE$9,7,FALSE))=TRUE,\"\",HLOOKUP($BZ10,補助!$AW$2:$BE$9,7,FALSE))","v":3},"962"]
[null,null,null,null,null,null,null,null,null,null,null,null,null,null,null,null,null,null,null,null,null,null,null,null,null,null,null,null,null,null,null,null,null,null,null,null,null,null,null,null,null,null,null,null,null,null,null,null,null,null,null,null,null,null,null,null,null,null,null,null,null,null,null,null,null,null,null,null,null,null,null,{"$error":"#VALUE!"},"B3",null,{"$f":"IF(ISERROR(HLOOKUP($BP11,補助!$AW$2:$BE$9,7,FALSE))=TRUE,\"\",HLOOKUP($BP11,補助!$AW$2:$BE$9,7,FALSE))","v":""},{"$f":"IF(ISERROR(HLOOKUP($BQ11,補助!$AW$2:$BE$9,7,FALSE))=TRUE,\"\",HLOOKUP($BQ11,補助!$AW$2:$BE$9,7,FALSE))","v":""},{"$f":"IF(ISERROR(HLOOKUP($BR11,補助!$AW$2:$BE$9,7,FALSE))=TRUE,\"\",HLOOKUP($BR11,補助!$AW$2:$BE$9,7,FALSE))","v":""},{"$f":"IF(ISERROR(HLOOKUP($BS11,補助!$AW$2:$BE$9,7,FALSE))=TRUE,\"\",HLOOKUP($BS11,補助!$AW$2:$BE$9,7,FALSE))","v":""},{"$f":"IF(ISERROR(HLOOKUP($BT11,補助!$AW$2:$BE$9,7,FALSE))=TRUE,\"\",HLOOKUP($BT11,補助!$AW$2:$BE$9,7,FALSE))","v":""},{"$f":"IF(ISERROR(HLOOKUP($BU11,補助!$AW$2:$BE$9,7,FALSE))=TRUE,\"\",HLOOKUP($BU11,補助!$AW$2:$BE$9,7,FALSE))","v":""},{"$f":"IF(ISERROR(HLOOKUP($BV11,補助!$AW$2:$BE$9,7,FALSE))=TRUE,\"\",HLOOKUP($BV11,補助!$AW$2:$BE$9,7,FALSE))","v":""},{"$f":"IF(ISERROR(HLOOKUP($BW11,補助!$AW$2:$BE$9,7,FALSE))=TRUE,\"\",HLOOKUP($BW11,補助!$AW$2:$BE$9,7,FALSE))","v":9},{"$f":"IF(ISERROR(HLOOKUP($BX11,補助!$AW$2:$BE$9,7,FALSE))=TRUE,\"\",HLOOKUP($BX11,補助!$AW$2:$BE$9,7,FALSE))","v":6},{"$f":"IF(ISERROR(HLOOKUP($BY11,補助!$AW$2:$BE$9,7,FALSE))=TRUE,\"\",HLOOKUP($BY11,補助!$AW$2:$BE$9,7,FALSE))","v":2},{"$f":"IF(ISERROR(HLOOKUP($BZ11,補助!$AW$2:$BE$9,7,FALSE))=TRUE,\"\",HLOOKUP($BZ11,補助!$AW$2:$BE$9,7,FALSE))","v":8},"962"]
[null,null,null,null,null,null,null,null,null,null,null,null,null,null,null,null,null,null,null,null,null,null,null,null,null,null,null,null,null,null,null,null,null,null,null,null,null,null,null,null,null,null,null,null,null,null,null,null,null,null,null,null,null,null,null,null,null,null,null,null,null,null,null,null,null,null,null,null,null,null,null,{"$error":"#VALUE!"},"B3",null,{"$f":"IF(ISERROR(HLOOKUP($BP12,補助!$AW$2:$BE$9,7,FALSE))=TRUE,\"\",HLOOKUP($BP12,補助!$AW$2:$BE$9,7,FALSE))","v":""},{"$f":"IF(ISERROR(HLOOKUP($BQ12,補助!$AW$2:$BE$9,7,FALSE))=TRUE,\"\",HLOOKUP($BQ12,補助!$AW$2:$BE$9,7,FALSE))","v":""},{"$f":"IF(ISERROR(HLOOKUP($BR12,補助!$AW$2:$BE$9,7,FALSE))=TRUE,\"\",HLOOKUP($BR12,補助!$AW$2:$BE$9,7,FALSE))","v":""},{"$f":"IF(ISERROR(HLOOKUP($BS12,補助!$AW$2:$BE$9,7,FALSE))=TRUE,\"\",HLOOKUP($BS12,補助!$AW$2:$BE$9,7,FALSE))","v":""},{"$f":"IF(ISERROR(HLOOKUP($BT12,補助!$AW$2:$BE$9,7,FALSE))=TRUE,\"\",HLOOKUP($BT12,補助!$AW$2:$BE$9,7,FALSE))","v":""},{"$f":"IF(ISERROR(HLOOKUP($BU12,補助!$AW$2:$BE$9,7,FALSE))=TRUE,\"\",HLOOKUP($BU12,補助!$AW$2:$BE$9,7,FALSE))","v":""},{"$f":"IF(ISERROR(HLOOKUP($BV12,補助!$AW$2:$BE$9,7,FALSE))=TRUE,\"\",HLOOKUP($BV12,補助!$AW$2:$BE$9,7,FALSE))","v":""},{"$f":"IF(ISERROR(HLOOKUP($BW12,補助!$AW$2:$BE$9,7,FALSE))=TRUE,\"\",HLOOKUP($BW12,補助!$AW$2:$BE$9,7,FALSE))","v":9},{"$f":"IF(ISERROR(HLOOKUP($BX12,補助!$AW$2:$BE$9,7,FALSE))=TRUE,\"\",HLOOKUP($BX12,補助!$AW$2:$BE$9,7,FALSE))","v":6},{"$f":"IF(ISERROR(HLOOKUP($BY12,補助!$AW$2:$BE$9,7,FALSE))=TRUE,\"\",HLOOKUP($BY12,補助!$AW$2:$BE$9,7,FALSE))","v":2},{"$f":"IF(ISERROR(HLOOKUP($BZ12,補助!$AW$2:$BE$9,7,FALSE))=TRUE,\"\",HLOOKUP($BZ12,補助!$AW$2:$BE$9,7,FALSE))","v":7},"962"]
[null,null,null,null,null,null,null,null,null,null,null,null,null,null,null,null,null,null,null,null,null,null,null,null,null,null,null,null,null,null,null,null,null,null,null,null,null,null,null,null,null,null,null,null,null,null,null,null,null,null,null,null,null,null,null,null,null,null,null,null,null,null,null,null,null,null,null,null,null,null,null,{"$error":"#VALUE!"},"B3",null,{"$f":"IF(ISERROR(HLOOKUP($BP13,補助!$AW$2:$BE$9,7,FALSE))=TRUE,\"\",HLOOKUP($BP13,補助!$AW$2:$BE$9,7,FALSE))","v":""},{"$f":"IF(ISERROR(HLOOKUP($BQ13,補助!$AW$2:$BE$9,7,FALSE))=TRUE,\"\",HLOOKUP($BQ13,補助!$AW$2:$BE$9,7,FALSE))","v":""},{"$f":"IF(ISERROR(HLOOKUP($BR13,補助!$AW$2:$BE$9,7,FALSE))=TRUE,\"\",HLOOKUP($BR13,補助!$AW$2:$BE$9,7,FALSE))","v":""},{"$f":"IF(ISERROR(HLOOKUP($BS13,補助!$AW$2:$BE$9,7,FALSE))=TRUE,\"\",HLOOKUP($BS13,補助!$AW$2:$BE$9,7,FALSE))","v":""},{"$f":"IF(ISERROR(HLOOKUP($BT13,補助!$AW$2:$BE$9,7,FALSE))=TRUE,\"\",HLOOKUP($BT13,補助!$AW$2:$BE$9,7,FALSE))","v":""},{"$f":"IF(ISERROR(HLOOKUP($BU13,補助!$AW$2:$BE$9,7,FALSE))=TRUE,\"\",HLOOKUP($BU13,補助!$AW$2:$BE$9,7,FALSE))","v":""},{"$f":"IF(ISERROR(HLOOKUP($BV13,補助!$AW$2:$BE$9,7,FALSE))=TRUE,\"\",HLOOKUP($BV13,補助!$AW$2:$BE$9,7,FALSE))","v":""},{"$f":"IF(ISERROR(HLOOKUP($BW13,補助!$AW$2:$BE$9,7,FALSE))=TRUE,\"\",HLOOKUP($BW13,補助!$AW$2:$BE$9,7,FALSE))","v":9},{"$f":"IF(ISERROR(HLOOKUP($BX13,補助!$AW$2:$BE$9,7,FALSE))=TRUE,\"\",HLOOKUP($BX13,補助!$AW$2:$BE$9,7,FALSE))","v":6},{"$f":"IF(ISERROR(HLOOKUP($BY13,補助!$AW$2:$BE$9,7,FALSE))=TRUE,\"\",HLOOKUP($BY13,補助!$AW$2:$BE$9,7,FALSE))","v":2},{"$f":"IF(ISERROR(HLOOKUP($BZ13,補助!$AW$2:$BE$9,7,FALSE))=TRUE,\"\",HLOOKUP($BZ13,補助!$AW$2:$BE$9,7,FALSE))","v":4},"962"]
[null,null,null,null,null,null,null,null,null,null,null,null,null,null,null,null,null,null,null,null,null,null,null,null,null,null,null,null,null,null,null,null,null,null,null,null,null,null,null,null,null,null,null,null,null,null,null,null,null,null,null,null,null,null,null,null,null,null,null,null,null,null,null,null,null,null,null,null,null,null,null,{"$error":"#VALUE!"},"B3",null,{"$f":"IF(ISERROR(HLOOKUP($BP14,補助!$AW$2:$BE$9,7,FALSE))=TRUE,\"\",HLOOKUP($BP14,補助!$AW$2:$BE$9,7,FALSE))","v":""},{"$f":"IF(ISERROR(HLOOKUP($BQ14,補助!$AW$2:$BE$9,7,FALSE))=TRUE,\"\",HLOOKUP($BQ14,補助!$AW$2:$BE$9,7,FALSE))","v":""},{"$f":"IF(ISERROR(HLOOKUP($BR14,補助!$AW$2:$BE$9,7,FALSE))=TRUE,\"\",HLOOKUP($BR14,補助!$AW$2:$BE$9,7,FALSE))","v":""},{"$f":"IF(ISERROR(HLOOKUP($BS14,補助!$AW$2:$BE$9,7,FALSE))=TRUE,\"\",HLOOKUP($BS14,補助!$AW$2:$BE$9,7,FALSE))","v":""},{"$f":"IF(ISERROR(HLOOKUP($BT14,補助!$AW$2:$BE$9,7,FALSE))=TRUE,\"\",HLOOKUP($BT14,補助!$AW$2:$BE$9,7,FALSE))","v":""},{"$f":"IF(ISERROR(HLOOKUP($BU14,補助!$AW$2:$BE$9,7,FALSE))=TRUE,\"\",HLOOKUP($BU14,補助!$AW$2:$BE$9,7,FALSE))","v":""},{"$f":"IF(ISERROR(HLOOKUP($BV14,補助!$AW$2:$BE$9,7,FALSE))=TRUE,\"\",HLOOKUP($BV14,補助!$AW$2:$BE$9,7,FALSE))","v":""},{"$f":"IF(ISERROR(HLOOKUP($BW14,補助!$AW$2:$BE$9,7,FALSE))=TRUE,\"\",HLOOKUP($BW14,補助!$AW$2:$BE$9,7,FALSE))","v":9},{"$f":"IF(ISERROR(HLOOKUP($BX14,補助!$AW$2:$BE$9,7,FALSE))=TRUE,\"\",HLOOKUP($BX14,補助!$AW$2:$BE$9,7,FALSE))","v":6},{"$f":"IF(ISERROR(HLOOKUP($BY14,補助!$AW$2:$BE$9,7,FALSE))=TRUE,\"\",HLOOKUP($BY14,補助!$AW$2:$BE$9,7,FALSE))","v":2},{"$f":"IF(ISERROR(HLOOKUP($BZ14,補助!$AW$2:$BE$9,7,FALSE))=TRUE,\"\",HLOOKUP($BZ14,補助!$AW$2:$BE$9,7,FALSE))","v":1},"962"]
[null,null,null,null,null,null,null,null,null,null,null,null,null,null,null,null,null,null,null,null,null,null,null,null,null,null,null,null,null,null,null,null,null,null,null,null,null,null,null,null,null,null,null,null,null,null,null,null,null,null,null,null,null,null,null,null,null,null,null,null,null,null,null,null,null,null,null,null,null,null,null,{"$error":"#VALUE!"},"B3","白",{"$f":"IF(ISERROR(HLOOKUP($BP15,補助!$AW$2:$BE$9,7,FALSE))=TRUE,\"\",HLOOKUP($BP15,補助!$AW$2:$BE$9,7,FALSE))","v":""},{"$f":"IF(ISERROR(HLOOKUP($BQ15,補助!$AW$2:$BE$9,7,FALSE))=TRUE,\"\",HLOOKUP($BQ15,補助!$AW$2:$BE$9,7,FALSE))","v":""},{"$f":"IF(ISERROR(HLOOKUP($BR15,補助!$AW$2:$BE$9,7,FALSE))=TRUE,\"\",HLOOKUP($BR15,補助!$AW$2:$BE$9,7,FALSE))","v":""},{"$f":"IF(ISERROR(HLOOKUP($BS15,補助!$AW$2:$BE$9,7,FALSE))=TRUE,\"\",HLOOKUP($BS15,補助!$AW$2:$BE$9,7,FALSE))","v":""},{"$f":"IF(ISERROR(HLOOKUP($BT15,補助!$AW$2:$BE$9,7,FALSE))=TRUE,\"\",HLOOKUP($BT15,補助!$AW$2:$BE$9,7,FALSE))","v":""},{"$f":"IF(ISERROR(HLOOKUP($BU15,補助!$AW$2:$BE$9,7,FALSE))=TRUE,\"\",HLOOKUP($BU15,補助!$AW$2:$BE$9,7,FALSE))","v":""},{"$f":"IF(ISERROR(HLOOKUP($BV15,補助!$AW$2:$BE$9,7,FALSE))=TRUE,\"\",HLOOKUP($BV15,補助!$AW$2:$BE$9,7,FALSE))","v":""},{"$f":"IF(ISERROR(HLOOKUP($BW15,補助!$AW$2:$BE$9,7,FALSE))=TRUE,\"\",HLOOKUP($BW15,補助!$AW$2:$BE$9,7,FALSE))","v":9},{"$f":"IF(ISERROR(HLOOKUP($BX15,補助!$AW$2:$BE$9,7,FALSE))=TRUE,\"\",HLOOKUP($BX15,補助!$AW$2:$BE$9,7,FALSE))","v":6},{"$f":"IF(ISERROR(HLOOKUP($BY15,補助!$AW$2:$BE$9,7,FALSE))=TRUE,\"\",HLOOKUP($BY15,補助!$AW$2:$BE$9,7,FALSE))","v":2},{"$f":"IF(ISERROR(HLOOKUP($BZ15,補助!$AW$2:$BE$9,7,FALSE))=TRUE,\"\",HLOOKUP($BZ15,補助!$AW$2:$BE$9,7,FALSE))","v":5},"962"]
[null,null,null,null,null,null,null,null,null,null,null,null,null,null,null,null,null,null,null,null,null,null,null,null,null,null,null,null,null,null,null,null,null,null,null,null,null,null,null,null,null,null,null,null,null,null,null,null,null,null,null,null,null,null,null,null,null,null,null,null,null,null,null,null,null,null,null,null,null,null,null,{"$error":"#VALUE!"},"B3",null,{"$f":"IF(ISERROR(HLOOKUP($BP16,補助!$AW$2:$BE$9,7,FALSE))=TRUE,\"\",HLOOKUP($BP16,補助!$AW$2:$BE$9,7,FALSE))","v":""},{"$f":"IF(ISERROR(HLOOKUP($BQ16,補助!$AW$2:$BE$9,7,FALSE))=TRUE,\"\",HLOOKUP($BQ16,補助!$AW$2:$BE$9,7,FALSE))","v":""},{"$f":"IF(ISERROR(HLOOKUP($BR16,補助!$AW$2:$BE$9,7,FALSE))=TRUE,\"\",HLOOKUP($BR16,補助!$AW$2:$BE$9,7,FALSE))","v":""},{"$f":"IF(ISERROR(HLOOKUP($BS16,補助!$AW$2:$BE$9,7,FALSE))=TRUE,\"\",HLOOKUP($BS16,補助!$AW$2:$BE$9,7,FALSE))","v":""},{"$f":"IF(ISERROR(HLOOKUP($BT16,補助!$AW$2:$BE$9,7,FALSE))=TRUE,\"\",HLOOKUP($BT16,補助!$AW$2:$BE$9,7,FALSE))","v":""},{"$f":"IF(ISERROR(HLOOKUP($BU16,補助!$AW$2:$BE$9,7,FALSE))=TRUE,\"\",HLOOKUP($BU16,補助!$AW$2:$BE$9,7,FALSE))","v":""},{"$f":"IF(ISERROR(HLOOKUP($BV16,補助!$AW$2:$BE$9,7,FALSE))=TRUE,\"\",HLOOKUP($BV16,補助!$AW$2:$BE$9,7,FALSE))","v":""},{"$f":"IF(ISERROR(HLOOKUP($BW16,補助!$AW$2:$BE$9,7,FALSE))=TRUE,\"\",HLOOKUP($BW16,補助!$AW$2:$BE$9,7,FALSE))","v":9},{"$f":"IF(ISERROR(HLOOKUP($BX16,補助!$AW$2:$BE$9,7,FALSE))=TRUE,\"\",HLOOKUP($BX16,補助!$AW$2:$BE$9,7,FALSE))","v":6},{"$f":"IF(ISERROR(HLOOKUP($BY16,補助!$AW$2:$BE$9,7,FALSE))=TRUE,\"\",HLOOKUP($BY16,補助!$AW$2:$BE$9,7,FALSE))","v":4},{"$f":"IF(ISERROR(HLOOKUP($BZ16,補助!$AW$2:$BE$9,7,FALSE))=TRUE,\"\",HLOOKUP($BZ16,補助!$AW$2:$BE$9,7,FALSE))","v":3},"964"]
[null,null,null,null,null,null,null,null,null,null,null,null,null,null,null,null,null,null,null,null,null,null,null,null,null,null,null,null,null,null,null,null,null,null,null,null,null,null,null,null,null,null,null,null,null,null,null,null,null,null,null,null,null,null,null,null,null,null,null,null,null,null,null,null,null,null,null,null,null,null,null,{"$error":"#VALUE!"},"B3",null,{"$f":"IF(ISERROR(HLOOKUP($BP17,補助!$AW$2:$BE$9,7,FALSE))=TRUE,\"\",HLOOKUP($BP17,補助!$AW$2:$BE$9,7,FALSE))","v":""},{"$f":"IF(ISERROR(HLOOKUP($BQ17,補助!$AW$2:$BE$9,7,FALSE))=TRUE,\"\",HLOOKUP($BQ17,補助!$AW$2:$BE$9,7,FALSE))","v":""},{"$f":"IF(ISERROR(HLOOKUP($BR17,補助!$AW$2:$BE$9,7,FALSE))=TRUE,\"\",HLOOKUP($BR17,補助!$AW$2:$BE$9,7,FALSE))","v":""},{"$f":"IF(ISERROR(HLOOKUP($BS17,補助!$AW$2:$BE$9,7,FALSE))=TRUE,\"\",HLOOKUP($BS17,補助!$AW$2:$BE$9,7,FALSE))","v":""},{"$f":"IF(ISERROR(HLOOKUP($BT17,補助!$AW$2:$BE$9,7,FALSE))=TRUE,\"\",HLOOKUP($BT17,補助!$AW$2:$BE$9,7,FALSE))","v":""},{"$f":"IF(ISERROR(HLOOKUP($BU17,補助!$AW$2:$BE$9,7,FALSE))=TRUE,\"\",HLOOKUP($BU17,補助!$AW$2:$BE$9,7,FALSE))","v":""},{"$f":"IF(ISERROR(HLOOKUP($BV17,補助!$AW$2:$BE$9,7,FALSE))=TRUE,\"\",HLOOKUP($BV17,補助!$AW$2:$BE$9,7,FALSE))","v":""},{"$f":"IF(ISERROR(HLOOKUP($BW17,補助!$AW$2:$BE$9,7,FALSE))=TRUE,\"\",HLOOKUP($BW17,補助!$AW$2:$BE$9,7,FALSE))","v":9},{"$f":"IF(ISERROR(HLOOKUP($BX17,補助!$AW$2:$BE$9,7,FALSE))=TRUE,\"\",HLOOKUP($BX17,補助!$AW$2:$BE$9,7,FALSE))","v":6},{"$f":"IF(ISERROR(HLOOKUP($BY17,補助!$AW$2:$BE$9,7,FALSE))=TRUE,\"\",HLOOKUP($BY17,補助!$AW$2:$BE$9,7,FALSE))","v":4},{"$f":"IF(ISERROR(HLOOKUP($BZ17,補助!$AW$2:$BE$9,7,FALSE))=TRUE,\"\",HLOOKUP($BZ17,補助!$AW$2:$BE$9,7,FALSE))","v":8},"964"]
[null,null,null,null,null,null,null,null,null,null,null,null,null,null,null,null,null,null,null,null,null,null,null,null,null,null,null,null,null,null,null,null,null,null,null,null,null,null,null,null,null,null,null,null,null,null,null,null,null,null,null,null,null,null,null,null,null,null,null,null,null,null,null,null,null,null,null,null,null,null,null,{"$error":"#VALUE!"},"B3",null,{"$f":"IF(ISERROR(HLOOKUP($BP18,補助!$AW$2:$BE$9,7,FALSE))=TRUE,\"\",HLOOKUP($BP18,補助!$AW$2:$BE$9,7,FALSE))","v":""},{"$f":"IF(ISERROR(HLOOKUP($BQ18,補助!$AW$2:$BE$9,7,FALSE))=TRUE,\"\",HLOOKUP($BQ18,補助!$AW$2:$BE$9,7,FALSE))","v":""},{"$f":"IF(ISERROR(HLOOKUP($BR18,補助!$AW$2:$BE$9,7,FALSE))=TRUE,\"\",HLOOKUP($BR18,補助!$AW$2:$BE$9,7,FALSE))","v":""},{"$f":"IF(ISERROR(HLOOKUP($BS18,補助!$AW$2:$BE$9,7,FALSE))=TRUE,\"\",HLOOKUP($BS18,補助!$AW$2:$BE$9,7,FALSE))","v":""},{"$f":"IF(ISERROR(HLOOKUP($BT18,補助!$AW$2:$BE$9,7,FALSE))=TRUE,\"\",HLOOKUP($BT18,補助!$AW$2:$BE$9,7,FALSE))","v":""},{"$f":"IF(ISERROR(HLOOKUP($BU18,補助!$AW$2:$BE$9,7,FALSE))=TRUE,\"\",HLOOKUP($BU18,補助!$AW$2:$BE$9,7,FALSE))","v":""},{"$f":"IF(ISERROR(HLOOKUP($BV18,補助!$AW$2:$BE$9,7,FALSE))=TRUE,\"\",HLOOKUP($BV18,補助!$AW$2:$BE$9,7,FALSE))","v":""},{"$f":"IF(ISERROR(HLOOKUP($BW18,補助!$AW$2:$BE$9,7,FALSE))=TRUE,\"\",HLOOKUP($BW18,補助!$AW$2:$BE$9,7,FALSE))","v":9},{"$f":"IF(ISERROR(HLOOKUP($BX18,補助!$AW$2:$BE$9,7,FALSE))=TRUE,\"\",HLOOKUP($BX18,補助!$AW$2:$BE$9,7,FALSE))","v":6},{"$f":"IF(ISERROR(HLOOKUP($BY18,補助!$AW$2:$BE$9,7,FALSE))=TRUE,\"\",HLOOKUP($BY18,補助!$AW$2:$BE$9,7,FALSE))","v":4},{"$f":"IF(ISERROR(HLOOKUP($BZ18,補助!$AW$2:$BE$9,7,FALSE))=TRUE,\"\",HLOOKUP($BZ18,補助!$AW$2:$BE$9,7,FALSE))","v":5},"964"]
[null,null,null,null,null,null,null,null,null,null,null,null,null,null,null,null,null,null,null,null,null,null,null,null,null,null,null,null,null,null,null,null,null,null,null,null,null,null,null,null,null,null,null,null,null,null,null,null,null,null,null,null,null,null,null,null,null,null,null,null,null,null,null,null,null,null,null,null,null,null,null,{"$error":"#VALUE!"},"B3",null,{"$f":"IF(ISERROR(HLOOKUP($BP19,補助!$AW$2:$BE$9,7,FALSE))=TRUE,\"\",HLOOKUP($BP19,補助!$AW$2:$BE$9,7,FALSE))","v":""},{"$f":"IF(ISERROR(HLOOKUP($BQ19,補助!$AW$2:$BE$9,7,FALSE))=TRUE,\"\",HLOOKUP($BQ19,補助!$AW$2:$BE$9,7,FALSE))","v":""},{"$f":"IF(ISERROR(HLOOKUP($BR19,補助!$AW$2:$BE$9,7,FALSE))=TRUE,\"\",HLOOKUP($BR19,補助!$AW$2:$BE$9,7,FALSE))","v":""},{"$f":"IF(ISERROR(HLOOKUP($BS19,補助!$AW$2:$BE$9,7,FALSE))=TRUE,\"\",HLOOKUP($BS19,補助!$AW$2:$BE$9,7,FALSE))","v":""},{"$f":"IF(ISERROR(HLOOKUP($BT19,補助!$AW$2:$BE$9,7,FALSE))=TRUE,\"\",HLOOKUP($BT19,補助!$AW$2:$BE$9,7,FALSE))","v":""},{"$f":"IF(ISERROR(HLOOKUP($BU19,補助!$AW$2:$BE$9,7,FALSE))=TRUE,\"\",HLOOKUP($BU19,補助!$AW$2:$BE$9,7,FALSE))","v":""},{"$f":"IF(ISERROR(HLOOKUP($BV19,補助!$AW$2:$BE$9,7,FALSE))=TRUE,\"\",HLOOKUP($BV19,補助!$AW$2:$BE$9,7,FALSE))","v":""},{"$f":"IF(ISERROR(HLOOKUP($BW19,補助!$AW$2:$BE$9,7,FALSE))=TRUE,\"\",HLOOKUP($BW19,補助!$AW$2:$BE$9,7,FALSE))","v":9},{"$f":"IF(ISERROR(HLOOKUP($BX19,補助!$AW$2:$BE$9,7,FALSE))=TRUE,\"\",HLOOKUP($BX19,補助!$AW$2:$BE$9,7,FALSE))","v":6},{"$f":"IF(ISERROR(HLOOKUP($BY19,補助!$AW$2:$BE$9,7,FALSE))=TRUE,\"\",HLOOKUP($BY19,補助!$AW$2:$BE$9,7,FALSE))","v":4},{"$f":"IF(ISERROR(HLOOKUP($BZ19,補助!$AW$2:$BE$9,7,FALSE))=TRUE,\"\",HLOOKUP($BZ19,補助!$AW$2:$BE$9,7,FALSE))","v":2},"964"]
[null,null,null,null,null,null,null,null,null,null,null,null,null,null,null,null,null,null,null,null,null,null,null,null,null,null,null,null,null,null,null,null,null,null,null,null,null,null,null,null,null,null,null,null,null,null,null,null,null,null,null,null,null,null,null,null,null,null,null,null,null,null,null,null,null,null,null,null,null,null,null,{"$error":"#VALUE!"},"B3",null,{"$f":"IF(ISERROR(HLOOKUP($BP20,補助!$AW$2:$BE$9,7,FALSE))=TRUE,\"\",HLOOKUP($BP20,補助!$AW$2:$BE$9,7,FALSE))","v":""},{"$f":"IF(ISERROR(HLOOKUP($BQ20,補助!$AW$2:$BE$9,7,FALSE))=TRUE,\"\",HLOOKUP($BQ20,補助!$AW$2:$BE$9,7,FALSE))","v":""},{"$f":"IF(ISERROR(HLOOKUP($BR20,補助!$AW$2:$BE$9,7,FALSE))=TRUE,\"\",HLOOKUP($BR20,補助!$AW$2:$BE$9,7,FALSE))","v":""},{"$f":"IF(ISERROR(HLOOKUP($BS20,補助!$AW$2:$BE$9,7,FALSE))=TRUE,\"\",HLOOKUP($BS20,補助!$AW$2:$BE$9,7,FALSE))","v":""},{"$f":"IF(ISERROR(HLOOKUP($BT20,補助!$AW$2:$BE$9,7,FALSE))=TRUE,\"\",HLOOKUP($BT20,補助!$AW$2:$BE$9,7,FALSE))","v":""},{"$f":"IF(ISERROR(HLOOKUP($BU20,補助!$AW$2:$BE$9,7,FALSE))=TRUE,\"\",HLOOKUP($BU20,補助!$AW$2:$BE$9,7,FALSE))","v":""},{"$f":"IF(ISERROR(HLOOKUP($BV20,補助!$AW$2:$BE$9,7,FALSE))=TRUE,\"\",HLOOKUP($BV20,補助!$AW$2:$BE$9,7,FALSE))","v":""},{"$f":"IF(ISERROR(HLOOKUP($BW20,補助!$AW$2:$BE$9,7,FALSE))=TRUE,\"\",HLOOKUP($BW20,補助!$AW$2:$BE$9,7,FALSE))","v":9},{"$f":"IF(ISERROR(HLOOKUP($BX20,補助!$AW$2:$BE$9,7,FALSE))=TRUE,\"\",HLOOKUP($BX20,補助!$AW$2:$BE$9,7,FALSE))","v":6},{"$f":"IF(ISERROR(HLOOKUP($BY20,補助!$AW$2:$BE$9,7,FALSE))=TRUE,\"\",HLOOKUP($BY20,補助!$AW$2:$BE$9,7,FALSE))","v":4},{"$f":"IF(ISERROR(HLOOKUP($BZ20,補助!$AW$2:$BE$9,7,FALSE))=TRUE,\"\",HLOOKUP($BZ20,補助!$AW$2:$BE$9,7,FALSE))","v":1},"964"]
[null,null,null,null,null,null,null,null,null,null,null,null,null,null,null,null,null,null,null,null,null,null,null,null,null,null,null,null,null,null,null,null,null,null,null,null,null,null,null,null,null,null,null,null,null,null,null,null,null,null,null,null,null,null,null,null,null,null,null,null,null,null,null,null,null,null,null,null,null,null,null,{"$error":"#VALUE!"},"B3",null,{"$f":"IF(ISERROR(HLOOKUP($BP21,補助!$AW$2:$BE$9,7,FALSE))=TRUE,\"\",HLOOKUP($BP21,補助!$AW$2:$BE$9,7,FALSE))","v":""},{"$f":"IF(ISERROR(HLOOKUP($BQ21,補助!$AW$2:$BE$9,7,FALSE))=TRUE,\"\",HLOOKUP($BQ21,補助!$AW$2:$BE$9,7,FALSE))","v":""},{"$f":"IF(ISERROR(HLOOKUP($BR21,補助!$AW$2:$BE$9,7,FALSE))=TRUE,\"\",HLOOKUP($BR21,補助!$AW$2:$BE$9,7,FALSE))","v":""},{"$f":"IF(ISERROR(HLOOKUP($BS21,補助!$AW$2:$BE$9,7,FALSE))=TRUE,\"\",HLOOKUP($BS21,補助!$AW$2:$BE$9,7,FALSE))","v":""},{"$f":"IF(ISERROR(HLOOKUP($BT21,補助!$AW$2:$BE$9,7,FALSE))=TRUE,\"\",HLOOKUP($BT21,補助!$AW$2:$BE$9,7,FALSE))","v":""},{"$f":"IF(ISERROR(HLOOKUP($BU21,補助!$AW$2:$BE$9,7,FALSE))=TRUE,\"\",HLOOKUP($BU21,補助!$AW$2:$BE$9,7,FALSE))","v":""},{"$f":"IF(ISERROR(HLOOKUP($BV21,補助!$AW$2:$BE$9,7,FALSE))=TRUE,\"\",HLOOKUP($BV21,補助!$AW$2:$BE$9,7,FALSE))","v":""},{"$f":"IF(ISERROR(HLOOKUP($BW21,補助!$AW$2:$BE$9,7,FALSE))=TRUE,\"\",HLOOKUP($BW21,補助!$AW$2:$BE$9,7,FALSE))","v":9},{"$f":"IF(ISERROR(HLOOKUP($BX21,補助!$AW$2:$BE$9,7,FALSE))=TRUE,\"\",HLOOKUP($BX21,補助!$AW$2:$BE$9,7,FALSE))","v":6},{"$f":"IF(ISERROR(HLOOKUP($BY21,補助!$AW$2:$BE$9,7,FALSE))=TRUE,\"\",HLOOKUP($BY21,補助!$AW$2:$BE$9,7,FALSE))","v":4},{"$f":"IF(ISERROR(HLOOKUP($BZ21,補助!$AW$2:$BE$9,7,FALSE))=TRUE,\"\",HLOOKUP($BZ21,補助!$AW$2:$BE$9,7,FALSE))","v":1},"964"]
[null,null,null,null,null,null,null,null,null,null,null,null,null,null,null,null,null,null,null,null,null,null,null,null,null,null,null,null,null,null,null,null,null,null,null,null,null,null,null,null,null,null,null,null,null,null,null,null,null,null,null,null,null,null,null,null,null,null,null,null,null,null,null,null,null,null,null,null,null,null,null,{"$error":"#VALUE!"},"B3",null,{"$f":"IF(ISERROR(HLOOKUP($BP22,補助!$AW$2:$BE$9,7,FALSE))=TRUE,\"\",HLOOKUP($BP22,補助!$AW$2:$BE$9,7,FALSE))","v":""},{"$f":"IF(ISERROR(HLOOKUP($BQ22,補助!$AW$2:$BE$9,7,FALSE))=TRUE,\"\",HLOOKUP($BQ22,補助!$AW$2:$BE$9,7,FALSE))","v":""},{"$f":"IF(ISERROR(HLOOKUP($BR22,補助!$AW$2:$BE$9,7,FALSE))=TRUE,\"\",HLOOKUP($BR22,補助!$AW$2:$BE$9,7,FALSE))","v":""},{"$f":"IF(ISERROR(HLOOKUP($BS22,補助!$AW$2:$BE$9,7,FALSE))=TRUE,\"\",HLOOKUP($BS22,補助!$AW$2:$BE$9,7,FALSE))","v":""},{"$f":"IF(ISERROR(HLOOKUP($BT22,補助!$AW$2:$BE$9,7,FALSE))=TRUE,\"\",HLOOKUP($BT22,補助!$AW$2:$BE$9,7,FALSE))","v":""},{"$f":"IF(ISERROR(HLOOKUP($BU22,補助!$AW$2:$BE$9,7,FALSE))=TRUE,\"\",HLOOKUP($BU22,補助!$AW$2:$BE$9,7,FALSE))","v":""},{"$f":"IF(ISERROR(HLOOKUP($BV22,補助!$AW$2:$BE$9,7,FALSE))=TRUE,\"\",HLOOKUP($BV22,補助!$AW$2:$BE$9,7,FALSE))","v":""},{"$f":"IF(ISERROR(HLOOKUP($BW22,補助!$AW$2:$BE$9,7,FALSE))=TRUE,\"\",HLOOKUP($BW22,補助!$AW$2:$BE$9,7,FALSE))","v":9},{"$f":"IF(ISERROR(HLOOKUP($BX22,補助!$AW$2:$BE$9,7,FALSE))=TRUE,\"\",HLOOKUP($BX22,補助!$AW$2:$BE$9,7,FALSE))","v":3},{"$f":"IF(ISERROR(HLOOKUP($BY22,補助!$AW$2:$BE$9,7,FALSE))=TRUE,\"\",HLOOKUP($BY22,補助!$AW$2:$BE$9,7,FALSE))","v":8},{"$f":"IF(ISERROR(HLOOKUP($BZ22,補助!$AW$2:$BE$9,7,FALSE))=TRUE,\"\",HLOOKUP($BZ22,補助!$AW$2:$BE$9,7,FALSE))","v":""},"938"]
[null,null,null,null,null,null,null,null,null,null,null,null,null,null,null,null,null,null,null,null,null,null,null,null,null,null,null,null,null,null,null,null,null,null,null,null,null,null,null,null,null,null,null,null,null,null,null,null,null,null,null,null,null,null,null,null,null,null,null,null,null,null,null,null,null,null,null,null,null,null,null,{"$error":"#VALUE!"},"B3",null,{"$f":"IF(ISERROR(HLOOKUP($BP23,補助!$AW$2:$BE$9,7,FALSE))=TRUE,\"\",HLOOKUP($BP23,補助!$AW$2:$BE$9,7,FALSE))","v":""},{"$f":"IF(ISERROR(HLOOKUP($BQ23,補助!$AW$2:$BE$9,7,FALSE))=TRUE,\"\",HLOOKUP($BQ23,補助!$AW$2:$BE$9,7,FALSE))","v":""},{"$f":"IF(ISERROR(HLOOKUP($BR23,補助!$AW$2:$BE$9,7,FALSE))=TRUE,\"\",HLOOKUP($BR23,補助!$AW$2:$BE$9,7,FALSE))","v":""},{"$f":"IF(ISERROR(HLOOKUP($BS23,補助!$AW$2:$BE$9,7,FALSE))=TRUE,\"\",HLOOKUP($BS23,補助!$AW$2:$BE$9,7,FALSE))","v":""},{"$f":"IF(ISERROR(HLOOKUP($BT23,補助!$AW$2:$BE$9,7,FALSE))=TRUE,\"\",HLOOKUP($BT23,補助!$AW$2:$BE$9,7,FALSE))","v":""},{"$f":"IF(ISERROR(HLOOKUP($BU23,補助!$AW$2:$BE$9,7,FALSE))=TRUE,\"\",HLOOKUP($BU23,補助!$AW$2:$BE$9,7,FALSE))","v":""},{"$f":"IF(ISERROR(HLOOKUP($BV23,補助!$AW$2:$BE$9,7,FALSE))=TRUE,\"\",HLOOKUP($BV23,補助!$AW$2:$BE$9,7,FALSE))","v":""},{"$f":"IF(ISERROR(HLOOKUP($BW23,補助!$AW$2:$BE$9,7,FALSE))=TRUE,\"\",HLOOKUP($BW23,補助!$AW$2:$BE$9,7,FALSE))","v":9},{"$f":"IF(ISERROR(HLOOKUP($BX23,補助!$AW$2:$BE$9,7,FALSE))=TRUE,\"\",HLOOKUP($BX23,補助!$AW$2:$BE$9,7,FALSE))","v":3},{"$f":"IF(ISERROR(HLOOKUP($BY23,補助!$AW$2:$BE$9,7,FALSE))=TRUE,\"\",HLOOKUP($BY23,補助!$AW$2:$BE$9,7,FALSE))","v":7},{"$f":"IF(ISERROR(HLOOKUP($BZ23,補助!$AW$2:$BE$9,7,FALSE))=TRUE,\"\",HLOOKUP($BZ23,補助!$AW$2:$BE$9,7,FALSE))","v":""},"937"]
[null,null,null,null,null,null,null,null,null,null,null,null,null,null,null,null,null,null,null,null,null,null,null,null,null,null,null,null,null,null,null,null,null,null,null,null,null,null,null,null,null,null,null,null,null,null,null,null,null,null,null,null,null,null,null,null,null,null,null,null,null,null,null,null,null,null,null,null,null,null,null,{"$error":"#VALUE!"},"B3",null,{"$f":"IF(ISERROR(HLOOKUP($BP24,補助!$AW$2:$BE$9,7,FALSE))=TRUE,\"\",HLOOKUP($BP24,補助!$AW$2:$BE$9,7,FALSE))","v":""},{"$f":"IF(ISERROR(HLOOKUP($BQ24,補助!$AW$2:$BE$9,7,FALSE))=TRUE,\"\",HLOOKUP($BQ24,補助!$AW$2:$BE$9,7,FALSE))","v":""},{"$f":"IF(ISERROR(HLOOKUP($BR24,補助!$AW$2:$BE$9,7,FALSE))=TRUE,\"\",HLOOKUP($BR24,補助!$AW$2:$BE$9,7,FALSE))","v":""},{"$f":"IF(ISERROR(HLOOKUP($BS24,補助!$AW$2:$BE$9,7,FALSE))=TRUE,\"\",HLOOKUP($BS24,補助!$AW$2:$BE$9,7,FALSE))","v":""},{"$f":"IF(ISERROR(HLOOKUP($BT24,補助!$AW$2:$BE$9,7,FALSE))=TRUE,\"\",HLOOKUP($BT24,補助!$AW$2:$BE$9,7,FALSE))","v":""},{"$f":"IF(ISERROR(HLOOKUP($BU24,補助!$AW$2:$BE$9,7,FALSE))=TRUE,\"\",HLOOKUP($BU24,補助!$AW$2:$BE$9,7,FALSE))","v":""},{"$f":"IF(ISERROR(HLOOKUP($BV24,補助!$AW$2:$BE$9,7,FALSE))=TRUE,\"\",HLOOKUP($BV24,補助!$AW$2:$BE$9,7,FALSE))","v":""},{"$f":"IF(ISERROR(HLOOKUP($BW24,補助!$AW$2:$BE$9,7,FALSE))=TRUE,\"\",HLOOKUP($BW24,補助!$AW$2:$BE$9,7,FALSE))","v":9},{"$f":"IF(ISERROR(HLOOKUP($BX24,補助!$AW$2:$BE$9,7,FALSE))=TRUE,\"\",HLOOKUP($BX24,補助!$AW$2:$BE$9,7,FALSE))","v":3},{"$f":"IF(ISERROR(HLOOKUP($BY24,補助!$AW$2:$BE$9,7,FALSE))=TRUE,\"\",HLOOKUP($BY24,補助!$AW$2:$BE$9,7,FALSE))","v":1},{"$f":"IF(ISERROR(HLOOKUP($BZ24,補助!$AW$2:$BE$9,7,FALSE))=TRUE,\"\",HLOOKUP($BZ24,補助!$AW$2:$BE$9,7,FALSE))","v":""},"931"]
[null,null,null,null,null,null,null,null,null,null,null,null,null,null,null,null,null,null,null,null,null,null,null,null,null,null,null,null,null,null,null,null,null,null,null,null,null,null,null,null,null,null,null,null,null,null,null,null,null,null,null,null,null,null,null,null,null,null,null,null,null,null,null,null,null,null,null,null,null,null,null,{"$error":"#VALUE!"},"B3",null,{"$f":"IF(ISERROR(HLOOKUP($BP25,補助!$AW$2:$BE$9,7,FALSE))=TRUE,\"\",HLOOKUP($BP25,補助!$AW$2:$BE$9,7,FALSE))","v":""},{"$f":"IF(ISERROR(HLOOKUP($BQ25,補助!$AW$2:$BE$9,7,FALSE))=TRUE,\"\",HLOOKUP($BQ25,補助!$AW$2:$BE$9,7,FALSE))","v":""},{"$f":"IF(ISERROR(HLOOKUP($BR25,補助!$AW$2:$BE$9,7,FALSE))=TRUE,\"\",HLOOKUP($BR25,補助!$AW$2:$BE$9,7,FALSE))","v":""},{"$f":"IF(ISERROR(HLOOKUP($BS25,補助!$AW$2:$BE$9,7,FALSE))=TRUE,\"\",HLOOKUP($BS25,補助!$AW$2:$BE$9,7,FALSE))","v":""},{"$f":"IF(ISERROR(HLOOKUP($BT25,補助!$AW$2:$BE$9,7,FALSE))=TRUE,\"\",HLOOKUP($BT25,補助!$AW$2:$BE$9,7,FALSE))","v":""},{"$f":"IF(ISERROR(HLOOKUP($BU25,補助!$AW$2:$BE$9,7,FALSE))=TRUE,\"\",HLOOKUP($BU25,補助!$AW$2:$BE$9,7,FALSE))","v":""},{"$f":"IF(ISERROR(HLOOKUP($BV25,補助!$AW$2:$BE$9,7,FALSE))=TRUE,\"\",HLOOKUP($BV25,補助!$AW$2:$BE$9,7,FALSE))","v":""},{"$f":"IF(ISERROR(HLOOKUP($BW25,補助!$AW$2:$BE$9,7,FALSE))=TRUE,\"\",HLOOKUP($BW25,補助!$AW$2:$BE$9,7,FALSE))","v":9},{"$f":"IF(ISERROR(HLOOKUP($BX25,補助!$AW$2:$BE$9,7,FALSE))=TRUE,\"\",HLOOKUP($BX25,補助!$AW$2:$BE$9,7,FALSE))","v":3},{"$f":"IF(ISERROR(HLOOKUP($BY25,補助!$AW$2:$BE$9,7,FALSE))=TRUE,\"\",HLOOKUP($BY25,補助!$AW$2:$BE$9,7,FALSE))","v":6},{"$f":"IF(ISERROR(HLOOKUP($BZ25,補助!$AW$2:$BE$9,7,FALSE))=TRUE,\"\",HLOOKUP($BZ25,補助!$AW$2:$BE$9,7,FALSE))","v":8},"936"]
[null,null,null,null,null,null,null,null,null,null,null,null,null,null,null,null,null,null,null,null,null,null,null,null,null,null,null,null,null,null,null,null,null,null,null,null,null,null,null,null,null,null,null,null,null,null,null,null,null,null,null,null,null,null,null,null,null,null,null,null,null,null,null,null,null,null,null,null,null,null,null,{"$error":"#VALUE!"},"B3",null,{"$f":"IF(ISERROR(HLOOKUP($BP26,補助!$AW$2:$BE$9,7,FALSE))=TRUE,\"\",HLOOKUP($BP26,補助!$AW$2:$BE$9,7,FALSE))","v":""},{"$f":"IF(ISERROR(HLOOKUP($BQ26,補助!$AW$2:$BE$9,7,FALSE))=TRUE,\"\",HLOOKUP($BQ26,補助!$AW$2:$BE$9,7,FALSE))","v":""},{"$f":"IF(ISERROR(HLOOKUP($BR26,補助!$AW$2:$BE$9,7,FALSE))=TRUE,\"\",HLOOKUP($BR26,補助!$AW$2:$BE$9,7,FALSE))","v":""},{"$f":"IF(ISERROR(HLOOKUP($BS26,補助!$AW$2:$BE$9,7,FALSE))=TRUE,\"\",HLOOKUP($BS26,補助!$AW$2:$BE$9,7,FALSE))","v":""},{"$f":"IF(ISERROR(HLOOKUP($BT26,補助!$AW$2:$BE$9,7,FALSE))=TRUE,\"\",HLOOKUP($BT26,補助!$AW$2:$BE$9,7,FALSE))","v":""},{"$f":"IF(ISERROR(HLOOKUP($BU26,補助!$AW$2:$BE$9,7,FALSE))=TRUE,\"\",HLOOKUP($BU26,補助!$AW$2:$BE$9,7,FALSE))","v":""},{"$f":"IF(ISERROR(HLOOKUP($BV26,補助!$AW$2:$BE$9,7,FALSE))=TRUE,\"\",HLOOKUP($BV26,補助!$AW$2:$BE$9,7,FALSE))","v":""},{"$f":"IF(ISERROR(HLOOKUP($BW26,補助!$AW$2:$BE$9,7,FALSE))=TRUE,\"\",HLOOKUP($BW26,補助!$AW$2:$BE$9,7,FALSE))","v":9},{"$f":"IF(ISERROR(HLOOKUP($BX26,補助!$AW$2:$BE$9,7,FALSE))=TRUE,\"\",HLOOKUP($BX26,補助!$AW$2:$BE$9,7,FALSE))","v":3},{"$f":"IF(ISERROR(HLOOKUP($BY26,補助!$AW$2:$BE$9,7,FALSE))=TRUE,\"\",HLOOKUP($BY26,補助!$AW$2:$BE$9,7,FALSE))","v":6},{"$f":"IF(ISERROR(HLOOKUP($BZ26,補助!$AW$2:$BE$9,7,FALSE))=TRUE,\"\",HLOOKUP($BZ26,補助!$AW$2:$BE$9,7,FALSE))","v":7},"936"]
[null,null,null,null,null,null,null,null,null,null,null,null,null,null,null,null,null,null,null,null,null,null,null,null,null,null,null,null,null,null,null,null,null,null,null,null,null,null,null,null,null,null,null,null,null,null,null,null,null,null,null,null,null,null,null,null,null,null,null,null,null,null,null,null,null,null,null,null,null,null,null,{"$error":"#VALUE!"},"B3","白",{"$f":"IF(ISERROR(HLOOKUP($BP27,補助!$AW$2:$BE$9,7,FALSE))=TRUE,\"\",HLOOKUP($BP27,補助!$AW$2:$BE$9,7,FALSE))","v":""},{"$f":"IF(ISERROR(HLOOKUP($BQ27,補助!$AW$2:$BE$9,7,FALSE))=TRUE,\"\",HLOOKUP($BQ27,補助!$AW$2:$BE$9,7,FALSE))","v":""},{"$f":"IF(ISERROR(HLOOKUP($BR27,補助!$AW$2:$BE$9,7,FALSE))=TRUE,\"\",HLOOKUP($BR27,補助!$AW$2:$BE$9,7,FALSE))","v":""},{"$f":"IF(ISERROR(HLOOKUP($BS27,補助!$AW$2:$BE$9,7,FALSE))=TRUE,\"\",HLOOKUP($BS27,補助!$AW$2:$BE$9,7,FALSE))","v":""},{"$f":"IF(ISERROR(HLOOKUP($BT27,補助!$AW$2:$BE$9,7,FALSE))=TRUE,\"\",HLOOKUP($BT27,補助!$AW$2:$BE$9,7,FALSE))","v":""},{"$f":"IF(ISERROR(HLOOKUP($BU27,補助!$AW$2:$BE$9,7,FALSE))=TRUE,\"\",HLOOKUP($BU27,補助!$AW$2:$BE$9,7,FALSE))","v":""},{"$f":"IF(ISERROR(HLOOKUP($BV27,補助!$AW$2:$BE$9,7,FALSE))=TRUE,\"\",HLOOKUP($BV27,補助!$AW$2:$BE$9,7,FALSE))","v":""},{"$f":"IF(ISERROR(HLOOKUP($BW27,補助!$AW$2:$BE$9,7,FALSE))=TRUE,\"\",HLOOKUP($BW27,補助!$AW$2:$BE$9,7,FALSE))","v":9},{"$f":"IF(ISERROR(HLOOKUP($BX27,補助!$AW$2:$BE$9,7,FALSE))=TRUE,\"\",HLOOKUP($BX27,補助!$AW$2:$BE$9,7,FALSE))","v":3},{"$f":"IF(ISERROR(HLOOKUP($BY27,補助!$AW$2:$BE$9,7,FALSE))=TRUE,\"\",HLOOKUP($BY27,補助!$AW$2:$BE$9,7,FALSE))","v":6},{"$f":"IF(ISERROR(HLOOKUP($BZ27,補助!$AW$2:$BE$9,7,FALSE))=TRUE,\"\",HLOOKUP($BZ27,補助!$AW$2:$BE$9,7,FALSE))","v":2},"936"]
[null,null,null,null,null,null,null,null,null,null,null,null,null,null,null,null,null,null,null,null,null,null,null,null,null,null,null,null,null,null,null,null,null,null,null,null,null,null,null,null,null,null,null,null,null,null,null,null,null,null,null,null,null,null,null,null,null,null,null,null,null,null,null,null,null,null,null,null,null,null,null,{"$error":"#VALUE!"},"B3","白",{"$f":"IF(ISERROR(HLOOKUP($BP28,補助!$AW$2:$BE$9,7,FALSE))=TRUE,\"\",HLOOKUP($BP28,補助!$AW$2:$BE$9,7,FALSE))","v":""},{"$f":"IF(ISERROR(HLOOKUP($BQ28,補助!$AW$2:$BE$9,7,FALSE))=TRUE,\"\",HLOOKUP($BQ28,補助!$AW$2:$BE$9,7,FALSE))","v":""},{"$f":"IF(ISERROR(HLOOKUP($BR28,補助!$AW$2:$BE$9,7,FALSE))=TRUE,\"\",HLOOKUP($BR28,補助!$AW$2:$BE$9,7,FALSE))","v":""},{"$f":"IF(ISERROR(HLOOKUP($BS28,補助!$AW$2:$BE$9,7,FALSE))=TRUE,\"\",HLOOKUP($BS28,補助!$AW$2:$BE$9,7,FALSE))","v":""},{"$f":"IF(ISERROR(HLOOKUP($BT28,補助!$AW$2:$BE$9,7,FALSE))=TRUE,\"\",HLOOKUP($BT28,補助!$AW$2:$BE$9,7,FALSE))","v":""},{"$f":"IF(ISERROR(HLOOKUP($BU28,補助!$AW$2:$BE$9,7,FALSE))=TRUE,\"\",HLOOKUP($BU28,補助!$AW$2:$BE$9,7,FALSE))","v":""},{"$f":"IF(ISERROR(HLOOKUP($BV28,補助!$AW$2:$BE$9,7,FALSE))=TRUE,\"\",HLOOKUP($BV28,補助!$AW$2:$BE$9,7,FALSE))","v":""},{"$f":"IF(ISERROR(HLOOKUP($BW28,補助!$AW$2:$BE$9,7,FALSE))=TRUE,\"\",HLOOKUP($BW28,補助!$AW$2:$BE$9,7,FALSE))","v":9},{"$f":"IF(ISERROR(HLOOKUP($BX28,補助!$AW$2:$BE$9,7,FALSE))=TRUE,\"\",HLOOKUP($BX28,補助!$AW$2:$BE$9,7,FALSE))","v":3},{"$f":"IF(ISERROR(HLOOKUP($BY28,補助!$AW$2:$BE$9,7,FALSE))=TRUE,\"\",HLOOKUP($BY28,補助!$AW$2:$BE$9,7,FALSE))","v":6},{"$f":"IF(ISERROR(HLOOKUP($BZ28,補助!$AW$2:$BE$9,7,FALSE))=TRUE,\"\",HLOOKUP($BZ28,補助!$AW$2:$BE$9,7,FALSE))","v":1},"936"]
[null,null,null,null,null,null,null,null,null,null,null,null,null,null,null,null,null,null,null,null,null,null,null,null,null,null,null,null,null,null,null,null,null,null,null,null,null,null,null,null,null,null,null,null,null,null,null,null,null,null,null,null,null,null,null,null,null,null,null,null,null,null,null,null,null,null,null,null,null,null,null,{"$error":"#VALUE!"},"B3",null,{"$f":"IF(ISERROR(HLOOKUP($BP29,補助!$AW$2:$BE$9,7,FALSE))=TRUE,\"\",HLOOKUP($BP29,補助!$AW$2:$BE$9,7,FALSE))","v":""},{"$f":"IF(ISERROR(HLOOKUP($BQ29,補助!$AW$2:$BE$9,7,FALSE))=TRUE,\"\",HLOOKUP($BQ29,補助!$AW$2:$BE$9,7,FALSE))","v":""},{"$f":"IF(ISERROR(HLOOKUP($BR29,補助!$AW$2:$BE$9,7,FALSE))=TRUE,\"\",HLOOKUP($BR29,補助!$AW$2:$BE$9,7,FALSE))","v":""},{"$f":"IF(ISERROR(HLOOKUP($BS29,補助!$AW$2:$BE$9,7,FALSE))=TRUE,\"\",HLOOKUP($BS29,補助!$AW$2:$BE$9,7,FALSE))","v":""},{"$f":"IF(ISERROR(HLOOKUP($BT29,補助!$AW$2:$BE$9,7,FALSE))=TRUE,\"\",HLOOKUP($BT29,補助!$AW$2:$BE$9,7,FALSE))","v":""},{"$f":"IF(ISERROR(HLOOKUP($BU29,補助!$AW$2:$BE$9,7,FALSE))=TRUE,\"\",HLOOKUP($BU29,補助!$AW$2:$BE$9,7,FALSE))","v":""},{"$f":"IF(ISERROR(HLOOKUP($BV29,補助!$AW$2:$BE$9,7,FALSE))=TRUE,\"\",HLOOKUP($BV29,補助!$AW$2:$BE$9,7,FALSE))","v":""},{"$f":"IF(ISERROR(HLOOKUP($BW29,補助!$AW$2:$BE$9,7,FALSE))=TRUE,\"\",HLOOKUP($BW29,補助!$AW$2:$BE$9,7,FALSE))","v":9},{"$f":"IF(ISERROR(HLOOKUP($BX29,補助!$AW$2:$BE$9,7,FALSE))=TRUE,\"\",HLOOKUP($BX29,補助!$AW$2:$BE$9,7,FALSE))","v":3},{"$f":"IF(ISERROR(HLOOKUP($BY29,補助!$AW$2:$BE$9,7,FALSE))=TRUE,\"\",HLOOKUP($BY29,補助!$AW$2:$BE$9,7,FALSE))","v":4},{"$f":"IF(ISERROR(HLOOKUP($BZ29,補助!$AW$2:$BE$9,7,FALSE))=TRUE,\"\",HLOOKUP($BZ29,補助!$AW$2:$BE$9,7,FALSE))","v":6},"934"]
[null,null,null,null,null,null,null,null,null,null,null,null,null,null,null,null,null,null,null,null,null,null,null,null,null,null,null,null,null,null,null,null,null,null,null,null,null,null,null,null,null,null,null,null,null,null,null,null,null,null,null,null,null,null,null,null,null,null,null,null,null,null,null,null,null,null,null,null,null,null,null,{"$error":"#VALUE!"},"B3",null,{"$f":"IF(ISERROR(HLOOKUP($BP30,補助!$AW$2:$BE$9,7,FALSE))=TRUE,\"\",HLOOKUP($BP30,補助!$AW$2:$BE$9,7,FALSE))","v":""},{"$f":"IF(ISERROR(HLOOKUP($BQ30,補助!$AW$2:$BE$9,7,FALSE))=TRUE,\"\",HLOOKUP($BQ30,補助!$AW$2:$BE$9,7,FALSE))","v":""},{"$f":"IF(ISERROR(HLOOKUP($BR30,補助!$AW$2:$BE$9,7,FALSE))=TRUE,\"\",HLOOKUP($BR30,補助!$AW$2:$BE$9,7,FALSE))","v":""},{"$f":"IF(ISERROR(HLOOKUP($BS30,補助!$AW$2:$BE$9,7,FALSE))=TRUE,\"\",HLOOKUP($BS30,補助!$AW$2:$BE$9,7,FALSE))","v":""},{"$f":"IF(ISERROR(HLOOKUP($BT30,補助!$AW$2:$BE$9,7,FALSE))=TRUE,\"\",HLOOKUP($BT30,補助!$AW$2:$BE$9,7,FALSE))","v":""},{"$f":"IF(ISERROR(HLOOKUP($BU30,補助!$AW$2:$BE$9,7,FALSE))=TRUE,\"\",HLOOKUP($BU30,補助!$AW$2:$BE$9,7,FALSE))","v":""},{"$f":"IF(ISERROR(HLOOKUP($BV30,補助!$AW$2:$BE$9,7,FALSE))=TRUE,\"\",HLOOKUP($BV30,補助!$AW$2:$BE$9,7,FALSE))","v":""},{"$f":"IF(ISERROR(HLOOKUP($BW30,補助!$AW$2:$BE$9,7,FALSE))=TRUE,\"\",HLOOKUP($BW30,補助!$AW$2:$BE$9,7,FALSE))","v":9},{"$f":"IF(ISERROR(HLOOKUP($BX30,補助!$AW$2:$BE$9,7,FALSE))=TRUE,\"\",HLOOKUP($BX30,補助!$AW$2:$BE$9,7,FALSE))","v":3},{"$f":"IF(ISERROR(HLOOKUP($BY30,補助!$AW$2:$BE$9,7,FALSE))=TRUE,\"\",HLOOKUP($BY30,補助!$AW$2:$BE$9,7,FALSE))","v":4},{"$f":"IF(ISERROR(HLOOKUP($BZ30,補助!$AW$2:$BE$9,7,FALSE))=TRUE,\"\",HLOOKUP($BZ30,補助!$AW$2:$BE$9,7,FALSE))","v":8},"934"]
[null,null,null,null,null,null,null,null,null,null,null,null,null,null,null,null,null,null,null,null,null,null,null,null,null,null,null,null,null,null,null,null,null,null,null,null,null,null,null,null,null,null,null,null,null,null,null,null,null,null,null,null,null,null,null,null,null,null,null,null,null,null,null,null,null,null,null,null,null,null,null,{"$error":"#VALUE!"},"B3",null,{"$f":"IF(ISERROR(HLOOKUP($BP31,補助!$AW$2:$BE$9,7,FALSE))=TRUE,\"\",HLOOKUP($BP31,補助!$AW$2:$BE$9,7,FALSE))","v":""},{"$f":"IF(ISERROR(HLOOKUP($BQ31,補助!$AW$2:$BE$9,7,FALSE))=TRUE,\"\",HLOOKUP($BQ31,補助!$AW$2:$BE$9,7,FALSE))","v":""},{"$f":"IF(ISERROR(HLOOKUP($BR31,補助!$AW$2:$BE$9,7,FALSE))=TRUE,\"\",HLOOKUP($BR31,補助!$AW$2:$BE$9,7,FALSE))","v":""},{"$f":"IF(ISERROR(HLOOKUP($BS31,補助!$AW$2:$BE$9,7,FALSE))=TRUE,\"\",HLOOKUP($BS31,補助!$AW$2:$BE$9,7,FALSE))","v":""},{"$f":"IF(ISERROR(HLOOKUP($BT31,補助!$AW$2:$BE$9,7,FALSE))=TRUE,\"\",HLOOKUP($BT31,補助!$AW$2:$BE$9,7,FALSE))","v":""},{"$f":"IF(ISERROR(HLOOKUP($BU31,補助!$AW$2:$BE$9,7,FALSE))=TRUE,\"\",HLOOKUP($BU31,補助!$AW$2:$BE$9,7,FALSE))","v":""},{"$f":"IF(ISERROR(HLOOKUP($BV31,補助!$AW$2:$BE$9,7,FALSE))=TRUE,\"\",HLOOKUP($BV31,補助!$AW$2:$BE$9,7,FALSE))","v":""},{"$f":"IF(ISERROR(HLOOKUP($BW31,補助!$AW$2:$BE$9,7,FALSE))=TRUE,\"\",HLOOKUP($BW31,補助!$AW$2:$BE$9,7,FALSE))","v":9},{"$f":"IF(ISERROR(HLOOKUP($BX31,補助!$AW$2:$BE$9,7,FALSE))=TRUE,\"\",HLOOKUP($BX31,補助!$AW$2:$BE$9,7,FALSE))","v":3},{"$f":"IF(ISERROR(HLOOKUP($BY31,補助!$AW$2:$BE$9,7,FALSE))=TRUE,\"\",HLOOKUP($BY31,補助!$AW$2:$BE$9,7,FALSE))","v":4},{"$f":"IF(ISERROR(HLOOKUP($BZ31,補助!$AW$2:$BE$9,7,FALSE))=TRUE,\"\",HLOOKUP($BZ31,補助!$AW$2:$BE$9,7,FALSE))","v":5},"934"]
[null,null,null,null,null,null,null,null,null,null,null,null,null,null,null,null,null,null,null,null,null,null,null,null,null,null,null,null,null,null,null,null,null,null,null,null,null,null,null,null,null,null,null,null,null,null,null,null,null,null,null,null,null,null,null,null,null,null,null,null,null,null,null,null,null,null,null,null,null,null,null,{"$error":"#VALUE!"},"B3",null,{"$f":"IF(ISERROR(HLOOKUP($BP32,補助!$AW$2:$BE$9,7,FALSE))=TRUE,\"\",HLOOKUP($BP32,補助!$AW$2:$BE$9,7,FALSE))","v":""},{"$f":"IF(ISERROR(HLOOKUP($BQ32,補助!$AW$2:$BE$9,7,FALSE))=TRUE,\"\",HLOOKUP($BQ32,補助!$AW$2:$BE$9,7,FALSE))","v":""},{"$f":"IF(ISERROR(HLOOKUP($BR32,補助!$AW$2:$BE$9,7,FALSE))=TRUE,\"\",HLOOKUP($BR32,補助!$AW$2:$BE$9,7,FALSE))","v":""},{"$f":"IF(ISERROR(HLOOKUP($BS32,補助!$AW$2:$BE$9,7,FALSE))=TRUE,\"\",HLOOKUP($BS32,補助!$AW$2:$BE$9,7,FALSE))","v":""},{"$f":"IF(ISERROR(HLOOKUP($BT32,補助!$AW$2:$BE$9,7,FALSE))=TRUE,\"\",HLOOKUP($BT32,補助!$AW$2:$BE$9,7,FALSE))","v":""},{"$f":"IF(ISERROR(HLOOKUP($BU32,補助!$AW$2:$BE$9,7,FALSE))=TRUE,\"\",HLOOKUP($BU32,補助!$AW$2:$BE$9,7,FALSE))","v":""},{"$f":"IF(ISERROR(HLOOKUP($BV32,補助!$AW$2:$BE$9,7,FALSE))=TRUE,\"\",HLOOKUP($BV32,補助!$AW$2:$BE$9,7,FALSE))","v":""},{"$f":"IF(ISERROR(HLOOKUP($BW32,補助!$AW$2:$BE$9,7,FALSE))=TRUE,\"\",HLOOKUP($BW32,補助!$AW$2:$BE$9,7,FALSE))","v":9},{"$f":"IF(ISERROR(HLOOKUP($BX32,補助!$AW$2:$BE$9,7,FALSE))=TRUE,\"\",HLOOKUP($BX32,補助!$AW$2:$BE$9,7,FALSE))","v":3},{"$f":"IF(ISERROR(HLOOKUP($BY32,補助!$AW$2:$BE$9,7,FALSE))=TRUE,\"\",HLOOKUP($BY32,補助!$AW$2:$BE$9,7,FALSE))","v":4},{"$f":"IF(ISERROR(HLOOKUP($BZ32,補助!$AW$2:$BE$9,7,FALSE))=TRUE,\"\",HLOOKUP($BZ32,補助!$AW$2:$BE$9,7,FALSE))","v":2},"934"]
[null,null,null,null,null,null,null,null,null,null,null,null,null,null,null,null,null,null,null,null,null,null,null,null,null,null,null,null,null,null,null,null,null,null,null,null,null,null,null,null,null,null,null,null,null,null,null,null,null,null,null,null,null,null,null,null,null,null,null,null,null,null,null,null,null,null,null,null,null,null,null,{"$error":"#VALUE!"},"B3",null,{"$f":"IF(ISERROR(HLOOKUP($BP33,補助!$AW$2:$BE$9,7,FALSE))=TRUE,\"\",HLOOKUP($BP33,補助!$AW$2:$BE$9,7,FALSE))","v":""},{"$f":"IF(ISERROR(HLOOKUP($BQ33,補助!$AW$2:$BE$9,7,FALSE))=TRUE,\"\",HLOOKUP($BQ33,補助!$AW$2:$BE$9,7,FALSE))","v":""},{"$f":"IF(ISERROR(HLOOKUP($BR33,補助!$AW$2:$BE$9,7,FALSE))=TRUE,\"\",HLOOKUP($BR33,補助!$AW$2:$BE$9,7,FALSE))","v":""},{"$f":"IF(ISERROR(HLOOKUP($BS33,補助!$AW$2:$BE$9,7,FALSE))=TRUE,\"\",HLOOKUP($BS33,補助!$AW$2:$BE$9,7,FALSE))","v":""},{"$f":"IF(ISERROR(HLOOKUP($BT33,補助!$AW$2:$BE$9,7,FALSE))=TRUE,\"\",HLOOKUP($BT33,補助!$AW$2:$BE$9,7,FALSE))","v":""},{"$f":"IF(ISERROR(HLOOKUP($BU33,補助!$AW$2:$BE$9,7,FALSE))=TRUE,\"\",HLOOKUP($BU33,補助!$AW$2:$BE$9,7,FALSE))","v":""},{"$f":"IF(ISERROR(HLOOKUP($BV33,補助!$AW$2:$BE$9,7,FALSE))=TRUE,\"\",HLOOKUP($BV33,補助!$AW$2:$BE$9,7,FALSE))","v":""},{"$f":"IF(ISERROR(HLOOKUP($BW33,補助!$AW$2:$BE$9,7,FALSE))=TRUE,\"\",HLOOKUP($BW33,補助!$AW$2:$BE$9,7,FALSE))","v":9},{"$f":"IF(ISERROR(HLOOKUP($BX33,補助!$AW$2:$BE$9,7,FALSE))=TRUE,\"\",HLOOKUP($BX33,補助!$AW$2:$BE$9,7,FALSE))","v":3},{"$f":"IF(ISERROR(HLOOKUP($BY33,補助!$AW$2:$BE$9,7,FALSE))=TRUE,\"\",HLOOKUP($BY33,補助!$AW$2:$BE$9,7,FALSE))","v":4},{"$f":"IF(ISERROR(HLOOKUP($BZ33,補助!$AW$2:$BE$9,7,FALSE))=TRUE,\"\",HLOOKUP($BZ33,補助!$AW$2:$BE$9,7,FALSE))","v":7},"934"]
[null,null,null,null,null,null,null,null,null,null,null,null,null,null,null,null,null,null,null,null,null,null,null,null,null,null,null,null,null,null,null,null,null,null,null,null,null,null,null,null,null,null,null,null,null,null,null,null,null,null,null,null,null,null,null,null,null,null,null,null,null,null,null,null,null,null,null,null,null,null,null,{"$error":"#VALUE!"},"B3",null,{"$f":"IF(ISERROR(HLOOKUP($BP34,補助!$AW$2:$BE$9,7,FALSE))=TRUE,\"\",HLOOKUP($BP34,補助!$AW$2:$BE$9,7,FALSE))","v":""},{"$f":"IF(ISERROR(HLOOKUP($BQ34,補助!$AW$2:$BE$9,7,FALSE))=TRUE,\"\",HLOOKUP($BQ34,補助!$AW$2:$BE$9,7,FALSE))","v":""},{"$f":"IF(ISERROR(HLOOKUP($BR34,補助!$AW$2:$BE$9,7,FALSE))=TRUE,\"\",HLOOKUP($BR34,補助!$AW$2:$BE$9,7,FALSE))","v":""},{"$f":"IF(ISERROR(HLOOKUP($BS34,補助!$AW$2:$BE$9,7,FALSE))=TRUE,\"\",HLOOKUP($BS34,補助!$AW$2:$BE$9,7,FALSE))","v":""},{"$f":"IF(ISERROR(HLOOKUP($BT34,補助!$AW$2:$BE$9,7,FALSE))=TRUE,\"\",HLOOKUP($BT34,補助!$AW$2:$BE$9,7,FALSE))","v":""},{"$f":"IF(ISERROR(HLOOKUP($BU34,補助!$AW$2:$BE$9,7,FALSE))=TRUE,\"\",HLOOKUP($BU34,補助!$AW$2:$BE$9,7,FALSE))","v":""},{"$f":"IF(ISERROR(HLOOKUP($BV34,補助!$AW$2:$BE$9,7,FALSE))=TRUE,\"\",HLOOKUP($BV34,補助!$AW$2:$BE$9,7,FALSE))","v":""},{"$f":"IF(ISERROR(HLOOKUP($BW34,補助!$AW$2:$BE$9,7,FALSE))=TRUE,\"\",HLOOKUP($BW34,補助!$AW$2:$BE$9,7,FALSE))","v":9},{"$f":"IF(ISERROR(HLOOKUP($BX34,補助!$AW$2:$BE$9,7,FALSE))=TRUE,\"\",HLOOKUP($BX34,補助!$AW$2:$BE$9,7,FALSE))","v":3},{"$f":"IF(ISERROR(HLOOKUP($BY34,補助!$AW$2:$BE$9,7,FALSE))=TRUE,\"\",HLOOKUP($BY34,補助!$AW$2:$BE$9,7,FALSE))","v":2},{"$f":"IF(ISERROR(HLOOKUP($BZ34,補助!$AW$2:$BE$9,7,FALSE))=TRUE,\"\",HLOOKUP($BZ34,補助!$AW$2:$BE$9,7,FALSE))","v":6},"932"]
[null,null,null,null,null,null,null,null,null,null,null,null,null,null,null,null,null,null,null,null,null,null,null,null,null,null,null,null,null,null,null,null,null,null,null,null,null,null,null,null,null,null,null,null,null,null,null,null,null,null,null,null,null,null,null,null,null,null,null,null,null,null,null,null,null,null,null,null,null,null,null,{"$error":"#VALUE!"},"B3",null,{"$f":"IF(ISERROR(HLOOKUP($BP35,補助!$AW$2:$BE$9,7,FALSE))=TRUE,\"\",HLOOKUP($BP35,補助!$AW$2:$BE$9,7,FALSE))","v":""},{"$f":"IF(ISERROR(HLOOKUP($BQ35,補助!$AW$2:$BE$9,7,FALSE))=TRUE,\"\",HLOOKUP($BQ35,補助!$AW$2:$BE$9,7,FALSE))","v":""},{"$f":"IF(ISERROR(HLOOKUP($BR35,補助!$AW$2:$BE$9,7,FALSE))=TRUE,\"\",HLOOKUP($BR35,補助!$AW$2:$BE$9,7,FALSE))","v":""},{"$f":"IF(ISERROR(HLOOKUP($BS35,補助!$AW$2:$BE$9,7,FALSE))=TRUE,\"\",HLOOKUP($BS35,補助!$AW$2:$BE$9,7,FALSE))","v":""},{"$f":"IF(ISERROR(HLOOKUP($BT35,補助!$AW$2:$BE$9,7,FALSE))=TRUE,\"\",HLOOKUP($BT35,補助!$AW$2:$BE$9,7,FALSE))","v":""},{"$f":"IF(ISERROR(HLOOKUP($BU35,補助!$AW$2:$BE$9,7,FALSE))=TRUE,\"\",HLOOKUP($BU35,補助!$AW$2:$BE$9,7,FALSE))","v":""},{"$f":"IF(ISERROR(HLOOKUP($BV35,補助!$AW$2:$BE$9,7,FALSE))=TRUE,\"\",HLOOKUP($BV35,補助!$AW$2:$BE$9,7,FALSE))","v":""},{"$f":"IF(ISERROR(HLOOKUP($BW35,補助!$AW$2:$BE$9,7,FALSE))=TRUE,\"\",HLOOKUP($BW35,補助!$AW$2:$BE$9,7,FALSE))","v":9},{"$f":"IF(ISERROR(HLOOKUP($BX35,補助!$AW$2:$BE$9,7,FALSE))=TRUE,\"\",HLOOKUP($BX35,補助!$AW$2:$BE$9,7,FALSE))","v":3},{"$f":"IF(ISERROR(HLOOKUP($BY35,補助!$AW$2:$BE$9,7,FALSE))=TRUE,\"\",HLOOKUP($BY35,補助!$AW$2:$BE$9,7,FALSE))","v":2},{"$f":"IF(ISERROR(HLOOKUP($BZ35,補助!$AW$2:$BE$9,7,FALSE))=TRUE,\"\",HLOOKUP($BZ35,補助!$AW$2:$BE$9,7,FALSE))","v":4},"932"]
[null,null,null,null,null,null,null,null,null,null,null,null,null,null,null,null,null,null,null,null,null,null,null,null,null,null,null,null,null,null,null,null,null,null,null,null,null,null,null,null,null,null,null,null,null,null,null,null,null,null,null,null,null,null,null,null,null,null,null,null,null,null,null,null,null,null,null,null,null,null,null,{"$error":"#VALUE!"},"B3",null,{"$f":"IF(ISERROR(HLOOKUP($BP36,補助!$AW$2:$BE$9,7,FALSE))=TRUE,\"\",HLOOKUP($BP36,補助!$AW$2:$BE$9,7,FALSE))","v":""},{"$f":"IF(ISERROR(HLOOKUP($BQ36,補助!$AW$2:$BE$9,7,FALSE))=TRUE,\"\",HLOOKUP($BQ36,補助!$AW$2:$BE$9,7,FALSE))","v":""},{"$f":"IF(ISERROR(HLOOKUP($BR36,補助!$AW$2:$BE$9,7,FALSE))=TRUE,\"\",HLOOKUP($BR36,補助!$AW$2:$BE$9,7,FALSE))","v":""},{"$f":"IF(ISERROR(HLOOKUP($BS36,補助!$AW$2:$BE$9,7,FALSE))=TRUE,\"\",HLOOKUP($BS36,補助!$AW$2:$BE$9,7,FALSE))","v":""},{"$f":"IF(ISERROR(HLOOKUP($BT36,補助!$AW$2:$BE$9,7,FALSE))=TRUE,\"\",HLOOKUP($BT36,補助!$AW$2:$BE$9,7,FALSE))","v":""},{"$f":"IF(ISERROR(HLOOKUP($BU36,補助!$AW$2:$BE$9,7,FALSE))=TRUE,\"\",HLOOKUP($BU36,補助!$AW$2:$BE$9,7,FALSE))","v":""},{"$f":"IF(ISERROR(HLOOKUP($BV36,補助!$AW$2:$BE$9,7,FALSE))=TRUE,\"\",HLOOKUP($BV36,補助!$AW$2:$BE$9,7,FALSE))","v":""},{"$f":"IF(ISERROR(HLOOKUP($BW36,補助!$AW$2:$BE$9,7,FALSE))=TRUE,\"\",HLOOKUP($BW36,補助!$AW$2:$BE$9,7,FALSE))","v":9},{"$f":"IF(ISERROR(HLOOKUP($BX36,補助!$AW$2:$BE$9,7,FALSE))=TRUE,\"\",HLOOKUP($BX36,補助!$AW$2:$BE$9,7,FALSE))","v":3},{"$f":"IF(ISERROR(HLOOKUP($BY36,補助!$AW$2:$BE$9,7,FALSE))=TRUE,\"\",HLOOKUP($BY36,補助!$AW$2:$BE$9,7,FALSE))","v":2},{"$f":"IF(ISERROR(HLOOKUP($BZ36,補助!$AW$2:$BE$9,7,FALSE))=TRUE,\"\",HLOOKUP($BZ36,補助!$AW$2:$BE$9,7,FALSE))","v":1},"932"]
[null,null,null,null,null,null,null,null,null,null,null,null,null,null,null,null,null,null,null,null,null,null,null,null,null,null,null,null,null,null,null,null,null,null,null,null,null,null,null,null,null,null,null,null,null,null,null,null,null,null,null,null,null,null,null,null,null,null,null,null,null,null,null,null,null,null,null,null,null,null,null,{"$error":"#VALUE!"},"B3",null,{"$f":"IF(ISERROR(HLOOKUP($BP37,補助!$AW$2:$BE$9,7,FALSE))=TRUE,\"\",HLOOKUP($BP37,補助!$AW$2:$BE$9,7,FALSE))","v":""},{"$f":"IF(ISERROR(HLOOKUP($BQ37,補助!$AW$2:$BE$9,7,FALSE))=TRUE,\"\",HLOOKUP($BQ37,補助!$AW$2:$BE$9,7,FALSE))","v":""},{"$f":"IF(ISERROR(HLOOKUP($BR37,補助!$AW$2:$BE$9,7,FALSE))=TRUE,\"\",HLOOKUP($BR37,補助!$AW$2:$BE$9,7,FALSE))","v":""},{"$f":"IF(ISERROR(HLOOKUP($BS37,補助!$AW$2:$BE$9,7,FALSE))=TRUE,\"\",HLOOKUP($BS37,補助!$AW$2:$BE$9,7,FALSE))","v":""},{"$f":"IF(ISERROR(HLOOKUP($BT37,補助!$AW$2:$BE$9,7,FALSE))=TRUE,\"\",HLOOKUP($BT37,補助!$AW$2:$BE$9,7,FALSE))","v":""},{"$f":"IF(ISERROR(HLOOKUP($BU37,補助!$AW$2:$BE$9,7,FALSE))=TRUE,\"\",HLOOKUP($BU37,補助!$AW$2:$BE$9,7,FALSE))","v":""},{"$f":"IF(ISERROR(HLOOKUP($BV37,補助!$AW$2:$BE$9,7,FALSE))=TRUE,\"\",HLOOKUP($BV37,補助!$AW$2:$BE$9,7,FALSE))","v":""},{"$f":"IF(ISERROR(HLOOKUP($BW37,補助!$AW$2:$BE$9,7,FALSE))=TRUE,\"\",HLOOKUP($BW37,補助!$AW$2:$BE$9,7,FALSE))","v":9},{"$f":"IF(ISERROR(HLOOKUP($BX37,補助!$AW$2:$BE$9,7,FALSE))=TRUE,\"\",HLOOKUP($BX37,補助!$AW$2:$BE$9,7,FALSE))","v":2},{"$f":"IF(ISERROR(HLOOKUP($BY37,補助!$AW$2:$BE$9,7,FALSE))=TRUE,\"\",HLOOKUP($BY37,補助!$AW$2:$BE$9,7,FALSE))","v":3},{"$f":"IF(ISERROR(HLOOKUP($BZ37,補助!$AW$2:$BE$9,7,FALSE))=TRUE,\"\",HLOOKUP($BZ37,補助!$AW$2:$BE$9,7,FALSE))","v":""},"923"]
[null,null,null,null,null,null,null,null,null,null,null,null,null,null,null,null,null,null,null,null,null,null,null,null,null,null,null,null,null,null,null,null,null,null,null,null,null,null,null,null,null,null,null,null,null,null,null,null,null,null,null,null,null,null,null,null,null,null,null,null,null,null,null,null,null,null,null,null,null,null,null,{"$f":"IF($S$33=MID(CH386,1,$S$32),BT385+1,BT385)","v":{"$error":"#VALUE!"}},"B3",null,{"$f":"IF(ISERROR(HLOOKUP($BP38,補助!$AW$2:$BE$9,7,FALSE))=TRUE,\"\",HLOOKUP($BP38,補助!$AW$2:$BE$9,7,FALSE))","v":""},{"$f":"IF(ISERROR(HLOOKUP($BQ38,補助!$AW$2:$BE$9,7,FALSE))=TRUE,\"\",HLOOKUP($BQ38,補助!$AW$2:$BE$9,7,FALSE))","v":""},{"$f":"IF(ISERROR(HLOOKUP($BR38,補助!$AW$2:$BE$9,7,FALSE))=TRUE,\"\",HLOOKUP($BR38,補助!$AW$2:$BE$9,7,FALSE))","v":""},{"$f":"IF(ISERROR(HLOOKUP($BS38,補助!$AW$2:$BE$9,7,FALSE))=TRUE,\"\",HLOOKUP($BS38,補助!$AW$2:$BE$9,7,FALSE))","v":""},{"$f":"IF(ISERROR(HLOOKUP($BT38,補助!$AW$2:$BE$9,7,FALSE))=TRUE,\"\",HLOOKUP($BT38,補助!$AW$2:$BE$9,7,FALSE))","v":""},{"$f":"IF(ISERROR(HLOOKUP($BU38,補助!$AW$2:$BE$9,7,FALSE))=TRUE,\"\",HLOOKUP($BU38,補助!$AW$2:$BE$9,7,FALSE))","v":""},{"$f":"IF(ISERROR(HLOOKUP($BV38,補助!$AW$2:$BE$9,7,FALSE))=TRUE,\"\",HLOOKUP($BV38,補助!$AW$2:$BE$9,7,FALSE))","v":""},{"$f":"IF(ISERROR(HLOOKUP($BW38,補助!$AW$2:$BE$9,7,FALSE))=TRUE,\"\",HLOOKUP($BW38,補助!$AW$2:$BE$9,7,FALSE))","v":9},{"$f":"IF(ISERROR(HLOOKUP($BX38,補助!$AW$2:$BE$9,7,FALSE))=TRUE,\"\",HLOOKUP($BX38,補助!$AW$2:$BE$9,7,FALSE))","v":2},{"$f":"IF(ISERROR(HLOOKUP($BY38,補助!$AW$2:$BE$9,7,FALSE))=TRUE,\"\",HLOOKUP($BY38,補助!$AW$2:$BE$9,7,FALSE))","v":5},{"$f":"IF(ISERROR(HLOOKUP($BZ38,補助!$AW$2:$BE$9,7,FALSE))=TRUE,\"\",HLOOKUP($BZ38,補助!$AW$2:$BE$9,7,FALSE))","v":""},{"$f":"BW386&BX386&BY386&BZ386&CA386&CB386&CC386&CD386&CE386&CF386","v":"925"}]
[null,null,null,null,null,null,null,null,null,null,null,null,null,null,null,null,null,null,null,null,null,null,null,null,null,null,null,null,null,null,null,null,null,null,null,null,null,null,null,null,null,null,null,null,null,null,null,null,null,null,null,null,null,null,null,null,null,null,null,null,null,null,null,null,null,null,null,null,null,null,null,{"$error":"#VALUE!"},"B3",null,{"$f":"IF(ISERROR(HLOOKUP($BP39,補助!$AW$2:$BE$9,7,FALSE))=TRUE,\"\",HLOOKUP($BP39,補助!$AW$2:$BE$9,7,FALSE))","v":""},{"$f":"IF(ISERROR(HLOOKUP($BQ39,補助!$AW$2:$BE$9,7,FALSE))=TRUE,\"\",HLOOKUP($BQ39,補助!$AW$2:$BE$9,7,FALSE))","v":""},{"$f":"IF(ISERROR(HLOOKUP($BR39,補助!$AW$2:$BE$9,7,FALSE))=TRUE,\"\",HLOOKUP($BR39,補助!$AW$2:$BE$9,7,FALSE))","v":""},{"$f":"IF(ISERROR(HLOOKUP($BS39,補助!$AW$2:$BE$9,7,FALSE))=TRUE,\"\",HLOOKUP($BS39,補助!$AW$2:$BE$9,7,FALSE))","v":""},{"$f":"IF(ISERROR(HLOOKUP($BT39,補助!$AW$2:$BE$9,7,FALSE))=TRUE,\"\",HLOOKUP($BT39,補助!$AW$2:$BE$9,7,FALSE))","v":""},{"$f":"IF(ISERROR(HLOOKUP($BU39,補助!$AW$2:$BE$9,7,FALSE))=TRUE,\"\",HLOOKUP($BU39,補助!$AW$2:$BE$9,7,FALSE))","v":""},{"$f":"IF(ISERROR(HLOOKUP($BV39,補助!$AW$2:$BE$9,7,FALSE))=TRUE,\"\",HLOOKUP($BV39,補助!$AW$2:$BE$9,7,FALSE))","v":""},{"$f":"IF(ISERROR(HLOOKUP($BW39,補助!$AW$2:$BE$9,7,FALSE))=TRUE,\"\",HLOOKUP($BW39,補助!$AW$2:$BE$9,7,FALSE))","v":9},{"$f":"IF(ISERROR(HLOOKUP($BX39,補助!$AW$2:$BE$9,7,FALSE))=TRUE,\"\",HLOOKUP($BX39,補助!$AW$2:$BE$9,7,FALSE))","v":2},{"$f":"IF(ISERROR(HLOOKUP($BY39,補助!$AW$2:$BE$9,7,FALSE))=TRUE,\"\",HLOOKUP($BY39,補助!$AW$2:$BE$9,7,FALSE))","v":7},{"$f":"IF(ISERROR(HLOOKUP($BZ39,補助!$AW$2:$BE$9,7,FALSE))=TRUE,\"\",HLOOKUP($BZ39,補助!$AW$2:$BE$9,7,FALSE))","v":""},"927"]
[null,null,null,null,null,null,null,null,null,null,null,null,null,null,null,null,null,null,null,null,null,null,null,null,null,null,null,null,null,null,null,null,null,null,null,null,null,null,null,null,null,null,null,null,null,null,null,null,null,null,null,null,null,null,null,null,null,null,null,null,null,null,null,null,null,null,null,null,null,null,null,{"$error":"#VALUE!"},"B3","白",{"$f":"IF(ISERROR(HLOOKUP($BP40,補助!$AW$2:$BE$9,7,FALSE))=TRUE,\"\",HLOOKUP($BP40,補助!$AW$2:$BE$9,7,FALSE))","v":""},{"$f":"IF(ISERROR(HLOOKUP($BQ40,補助!$AW$2:$BE$9,7,FALSE))=TRUE,\"\",HLOOKUP($BQ40,補助!$AW$2:$BE$9,7,FALSE))","v":""},{"$f":"IF(ISERROR(HLOOKUP($BR40,補助!$AW$2:$BE$9,7,FALSE))=TRUE,\"\",HLOOKUP($BR40,補助!$AW$2:$BE$9,7,FALSE))","v":""},{"$f":"IF(ISERROR(HLOOKUP($BS40,補助!$AW$2:$BE$9,7,FALSE))=TRUE,\"\",HLOOKUP($BS40,補助!$AW$2:$BE$9,7,FALSE))","v":""},{"$f":"IF(ISERROR(HLOOKUP($BT40,補助!$AW$2:$BE$9,7,FALSE))=TRUE,\"\",HLOOKUP($BT40,補助!$AW$2:$BE$9,7,FALSE))","v":""},{"$f":"IF(ISERROR(HLOOKUP($BU40,補助!$AW$2:$BE$9,7,FALSE))=TRUE,\"\",HLOOKUP($BU40,補助!$AW$2:$BE$9,7,FALSE))","v":""},{"$f":"IF(ISERROR(HLOOKUP($BV40,補助!$AW$2:$BE$9,7,FALSE))=TRUE,\"\",HLOOKUP($BV40,補助!$AW$2:$BE$9,7,FALSE))","v":""},{"$f":"IF(ISERROR(HLOOKUP($BW40,補助!$AW$2:$BE$9,7,FALSE))=TRUE,\"\",HLOOKUP($BW40,補助!$AW$2:$BE$9,7,FALSE))","v":9},{"$f":"IF(ISERROR(HLOOKUP($BX40,補助!$AW$2:$BE$9,7,FALSE))=TRUE,\"\",HLOOKUP($BX40,補助!$AW$2:$BE$9,7,FALSE))","v":2},{"$f":"IF(ISERROR(HLOOKUP($BY40,補助!$AW$2:$BE$9,7,FALSE))=TRUE,\"\",HLOOKUP($BY40,補助!$AW$2:$BE$9,7,FALSE))","v":8},{"$f":"IF(ISERROR(HLOOKUP($BZ40,補助!$AW$2:$BE$9,7,FALSE))=TRUE,\"\",HLOOKUP($BZ40,補助!$AW$2:$BE$9,7,FALSE))","v":7},"928"]
[null,null,null,null,null,null,null,null,null,null,null,null,null,null,null,null,null,null,null,null,null,null,null,null,null,null,null,null,null,null,null,null,null,null,null,null,null,null,null,null,null,null,null,null,null,null,null,null,null,null,null,null,null,null,null,null,null,null,null,null,null,null,null,null,null,null,null,null,null,null,null,{"$error":"#VALUE!"},"B3","白",{"$f":"IF(ISERROR(HLOOKUP($BP41,補助!$AW$2:$BE$9,7,FALSE))=TRUE,\"\",HLOOKUP($BP41,補助!$AW$2:$BE$9,7,FALSE))","v":""},{"$f":"IF(ISERROR(HLOOKUP($BQ41,補助!$AW$2:$BE$9,7,FALSE))=TRUE,\"\",HLOOKUP($BQ41,補助!$AW$2:$BE$9,7,FALSE))","v":""},{"$f":"IF(ISERROR(HLOOKUP($BR41,補助!$AW$2:$BE$9,7,FALSE))=TRUE,\"\",HLOOKUP($BR41,補助!$AW$2:$BE$9,7,FALSE))","v":""},{"$f":"IF(ISERROR(HLOOKUP($BS41,補助!$AW$2:$BE$9,7,FALSE))=TRUE,\"\",HLOOKUP($BS41,補助!$AW$2:$BE$9,7,FALSE))","v":""},{"$f":"IF(ISERROR(HLOOKUP($BT41,補助!$AW$2:$BE$9,7,FALSE))=TRUE,\"\",HLOOKUP($BT41,補助!$AW$2:$BE$9,7,FALSE))","v":""},{"$f":"IF(ISERROR(HLOOKUP($BU41,補助!$AW$2:$BE$9,7,FALSE))=TRUE,\"\",HLOOKUP($BU41,補助!$AW$2:$BE$9,7,FALSE))","v":""},{"$f":"IF(ISERROR(HLOOKUP($BV41,補助!$AW$2:$BE$9,7,FALSE))=TRUE,\"\",HLOOKUP($BV41,補助!$AW$2:$BE$9,7,FALSE))","v":""},{"$f":"IF(ISERROR(HLOOKUP($BW41,補助!$AW$2:$BE$9,7,FALSE))=TRUE,\"\",HLOOKUP($BW41,補助!$AW$2:$BE$9,7,FALSE))","v":9},{"$f":"IF(ISERROR(HLOOKUP($BX41,補助!$AW$2:$BE$9,7,FALSE))=TRUE,\"\",HLOOKUP($BX41,補助!$AW$2:$BE$9,7,FALSE))","v":2},{"$f":"IF(ISERROR(HLOOKUP($BY41,補助!$AW$2:$BE$9,7,FALSE))=TRUE,\"\",HLOOKUP($BY41,補助!$AW$2:$BE$9,7,FALSE))","v":8},{"$f":"IF(ISERROR(HLOOKUP($BZ41,補助!$AW$2:$BE$9,7,FALSE))=TRUE,\"\",HLOOKUP($BZ41,補助!$AW$2:$BE$9,7,FALSE))","v":7},"928"]
[null,null,null,null,null,null,null,null,null,null,null,null,null,null,null,null,null,null,null,null,null,null,null,null,null,null,null,null,null,null,null,null,null,null,null,null,null,null,null,null,null,null,null,null,null,null,null,null,null,null,null,null,null,null,null,null,null,null,null,null,null,null,null,null,null,null,null,null,null,null,null,{"$error":"#VALUE!"},"B3","白",{"$f":"IF(ISERROR(HLOOKUP($BP42,補助!$AW$2:$BE$9,7,FALSE))=TRUE,\"\",HLOOKUP($BP42,補助!$AW$2:$BE$9,7,FALSE))","v":""},{"$f":"IF(ISERROR(HLOOKUP($BQ42,補助!$AW$2:$BE$9,7,FALSE))=TRUE,\"\",HLOOKUP($BQ42,補助!$AW$2:$BE$9,7,FALSE))","v":""},{"$f":"IF(ISERROR(HLOOKUP($BR42,補助!$AW$2:$BE$9,7,FALSE))=TRUE,\"\",HLOOKUP($BR42,補助!$AW$2:$BE$9,7,FALSE))","v":""},{"$f":"IF(ISERROR(HLOOKUP($BS42,補助!$AW$2:$BE$9,7,FALSE))=TRUE,\"\",HLOOKUP($BS42,補助!$AW$2:$BE$9,7,FALSE))","v":""},{"$f":"IF(ISERROR(HLOOKUP($BT42,補助!$AW$2:$BE$9,7,FALSE))=TRUE,\"\",HLOOKUP($BT42,補助!$AW$2:$BE$9,7,FALSE))","v":""},{"$f":"IF(ISERROR(HLOOKUP($BU42,補助!$AW$2:$BE$9,7,FALSE))=TRUE,\"\",HLOOKUP($BU42,補助!$AW$2:$BE$9,7,FALSE))","v":""},{"$f":"IF(ISERROR(HLOOKUP($BV42,補助!$AW$2:$BE$9,7,FALSE))=TRUE,\"\",HLOOKUP($BV42,補助!$AW$2:$BE$9,7,FALSE))","v":""},{"$f":"IF(ISERROR(HLOOKUP($BW42,補助!$AW$2:$BE$9,7,FALSE))=TRUE,\"\",HLOOKUP($BW42,補助!$AW$2:$BE$9,7,FALSE))","v":9},{"$f":"IF(ISERROR(HLOOKUP($BX42,補助!$AW$2:$BE$9,7,FALSE))=TRUE,\"\",HLOOKUP($BX42,補助!$AW$2:$BE$9,7,FALSE))","v":2},{"$f":"IF(ISERROR(HLOOKUP($BY42,補助!$AW$2:$BE$9,7,FALSE))=TRUE,\"\",HLOOKUP($BY42,補助!$AW$2:$BE$9,7,FALSE))","v":8},{"$f":"IF(ISERROR(HLOOKUP($BZ42,補助!$AW$2:$BE$9,7,FALSE))=TRUE,\"\",HLOOKUP($BZ42,補助!$AW$2:$BE$9,7,FALSE))","v":7},"928"]
[null,null,null,null,null,null,null,null,null,null,null,null,null,null,null,null,null,null,null,null,null,null,null,null,null,null,null,null,null,null,null,null,null,null,null,null,null,null,null,null,null,null,null,null,null,null,null,null,null,null,null,null,null,null,null,null,null,null,null,null,null,null,null,null,null,null,null,null,null,null,null,{"$error":"#VALUE!"},"B3",null,{"$f":"IF(ISERROR(HLOOKUP($BP43,補助!$AW$2:$BE$9,7,FALSE))=TRUE,\"\",HLOOKUP($BP43,補助!$AW$2:$BE$9,7,FALSE))","v":""},{"$f":"IF(ISERROR(HLOOKUP($BQ43,補助!$AW$2:$BE$9,7,FALSE))=TRUE,\"\",HLOOKUP($BQ43,補助!$AW$2:$BE$9,7,FALSE))","v":""},{"$f":"IF(ISERROR(HLOOKUP($BR43,補助!$AW$2:$BE$9,7,FALSE))=TRUE,\"\",HLOOKUP($BR43,補助!$AW$2:$BE$9,7,FALSE))","v":""},{"$f":"IF(ISERROR(HLOOKUP($BS43,補助!$AW$2:$BE$9,7,FALSE))=TRUE,\"\",HLOOKUP($BS43,補助!$AW$2:$BE$9,7,FALSE))","v":""},{"$f":"IF(ISERROR(HLOOKUP($BT43,補助!$AW$2:$BE$9,7,FALSE))=TRUE,\"\",HLOOKUP($BT43,補助!$AW$2:$BE$9,7,FALSE))","v":""},{"$f":"IF(ISERROR(HLOOKUP($BU43,補助!$AW$2:$BE$9,7,FALSE))=TRUE,\"\",HLOOKUP($BU43,補助!$AW$2:$BE$9,7,FALSE))","v":""},{"$f":"IF(ISERROR(HLOOKUP($BV43,補助!$AW$2:$BE$9,7,FALSE))=TRUE,\"\",HLOOKUP($BV43,補助!$AW$2:$BE$9,7,FALSE))","v":""},{"$f":"IF(ISERROR(HLOOKUP($BW43,補助!$AW$2:$BE$9,7,FALSE))=TRUE,\"\",HLOOKUP($BW43,補助!$AW$2:$BE$9,7,FALSE))","v":9},{"$f":"IF(ISERROR(HLOOKUP($BX43,補助!$AW$2:$BE$9,7,FALSE))=TRUE,\"\",HLOOKUP($BX43,補助!$AW$2:$BE$9,7,FALSE))","v":2},{"$f":"IF(ISERROR(HLOOKUP($BY43,補助!$AW$2:$BE$9,7,FALSE))=TRUE,\"\",HLOOKUP($BY43,補助!$AW$2:$BE$9,7,FALSE))","v":4},{"$f":"IF(ISERROR(HLOOKUP($BZ43,補助!$AW$2:$BE$9,7,FALSE))=TRUE,\"\",HLOOKUP($BZ43,補助!$AW$2:$BE$9,7,FALSE))","v":6},"924"]
[null,null,null,null,null,null,null,null,null,null,null,null,null,null,null,null,null,null,null,null,null,null,null,null,null,null,null,null,null,null,null,null,null,null,null,null,null,null,null,null,null,null,null,null,null,null,null,null,null,null,null,null,null,null,null,null,null,null,null,null,null,null,null,null,null,null,null,null,null,null,null,{"$error":"#VALUE!"},"B3",null,{"$f":"IF(ISERROR(HLOOKUP($BP44,補助!$AW$2:$BE$9,7,FALSE))=TRUE,\"\",HLOOKUP($BP44,補助!$AW$2:$BE$9,7,FALSE))","v":""},{"$f":"IF(ISERROR(HLOOKUP($BQ44,補助!$AW$2:$BE$9,7,FALSE))=TRUE,\"\",HLOOKUP($BQ44,補助!$AW$2:$BE$9,7,FALSE))","v":""},{"$f":"IF(ISERROR(HLOOKUP($BR44,補助!$AW$2:$BE$9,7,FALSE))=TRUE,\"\",HLOOKUP($BR44,補助!$AW$2:$BE$9,7,FALSE))","v":""},{"$f":"IF(ISERROR(HLOOKUP($BS44,補助!$AW$2:$BE$9,7,FALSE))=TRUE,\"\",HLOOKUP($BS44,補助!$AW$2:$BE$9,7,FALSE))","v":""},{"$f":"IF(ISERROR(HLOOKUP($BT44,補助!$AW$2:$BE$9,7,FALSE))=TRUE,\"\",HLOOKUP($BT44,補助!$AW$2:$BE$9,7,FALSE))","v":""},{"$f":"IF(ISERROR(HLOOKUP($BU44,補助!$AW$2:$BE$9,7,FALSE))=TRUE,\"\",HLOOKUP($BU44,補助!$AW$2:$BE$9,7,FALSE))","v":""},{"$f":"IF(ISERROR(HLOOKUP($BV44,補助!$AW$2:$BE$9,7,FALSE))=TRUE,\"\",HLOOKUP($BV44,補助!$AW$2:$BE$9,7,FALSE))","v":""},{"$f":"IF(ISERROR(HLOOKUP($BW44,補助!$AW$2:$BE$9,7,FALSE))=TRUE,\"\",HLOOKUP($BW44,補助!$AW$2:$BE$9,7,FALSE))","v":9},{"$f":"IF(ISERROR(HLOOKUP($BX44,補助!$AW$2:$BE$9,7,FALSE))=TRUE,\"\",HLOOKUP($BX44,補助!$AW$2:$BE$9,7,FALSE))","v":2},{"$f":"IF(ISERROR(HLOOKUP($BY44,補助!$AW$2:$BE$9,7,FALSE))=TRUE,\"\",HLOOKUP($BY44,補助!$AW$2:$BE$9,7,FALSE))","v":4},{"$f":"IF(ISERROR(HLOOKUP($BZ44,補助!$AW$2:$BE$9,7,FALSE))=TRUE,\"\",HLOOKUP($BZ44,補助!$AW$2:$BE$9,7,FALSE))","v":3},"924"]
[null,null,null,null,null,null,null,null,null,null,null,null,null,null,null,null,null,null,null,null,null,null,null,null,null,null,null,null,null,null,null,null,null,null,null,null,null,null,null,null,null,null,null,null,null,null,null,null,null,null,null,null,null,null,null,null,null,null,null,null,null,null,null,null,null,null,null,null,null,null,null,{"$error":"#VALUE!"},"B3",null,{"$f":"IF(ISERROR(HLOOKUP($BP45,補助!$AW$2:$BE$9,7,FALSE))=TRUE,\"\",HLOOKUP($BP45,補助!$AW$2:$BE$9,7,FALSE))","v":""},{"$f":"IF(ISERROR(HLOOKUP($BQ45,補助!$AW$2:$BE$9,7,FALSE))=TRUE,\"\",HLOOKUP($BQ45,補助!$AW$2:$BE$9,7,FALSE))","v":""},{"$f":"IF(ISERROR(HLOOKUP($BR45,補助!$AW$2:$BE$9,7,FALSE))=TRUE,\"\",HLOOKUP($BR45,補助!$AW$2:$BE$9,7,FALSE))","v":""},{"$f":"IF(ISERROR(HLOOKUP($BS45,補助!$AW$2:$BE$9,7,FALSE))=TRUE,\"\",HLOOKUP($BS45,補助!$AW$2:$BE$9,7,FALSE))","v":""},{"$f":"IF(ISERROR(HLOOKUP($BT45,補助!$AW$2:$BE$9,7,FALSE))=TRUE,\"\",HLOOKUP($BT45,補助!$AW$2:$BE$9,7,FALSE))","v":""},{"$f":"IF(ISERROR(HLOOKUP($BU45,補助!$AW$2:$BE$9,7,FALSE))=TRUE,\"\",HLOOKUP($BU45,補助!$AW$2:$BE$9,7,FALSE))","v":""},{"$f":"IF(ISERROR(HLOOKUP($BV45,補助!$AW$2:$BE$9,7,FALSE))=TRUE,\"\",HLOOKUP($BV45,補助!$AW$2:$BE$9,7,FALSE))","v":""},{"$f":"IF(ISERROR(HLOOKUP($BW45,補助!$AW$2:$BE$9,7,FALSE))=TRUE,\"\",HLOOKUP($BW45,補助!$AW$2:$BE$9,7,FALSE))","v":9},{"$f":"IF(ISERROR(HLOOKUP($BX45,補助!$AW$2:$BE$9,7,FALSE))=TRUE,\"\",HLOOKUP($BX45,補助!$AW$2:$BE$9,7,FALSE))","v":2},{"$f":"IF(ISERROR(HLOOKUP($BY45,補助!$AW$2:$BE$9,7,FALSE))=TRUE,\"\",HLOOKUP($BY45,補助!$AW$2:$BE$9,7,FALSE))","v":4},{"$f":"IF(ISERROR(HLOOKUP($BZ45,補助!$AW$2:$BE$9,7,FALSE))=TRUE,\"\",HLOOKUP($BZ45,補助!$AW$2:$BE$9,7,FALSE))","v":8},"924"]
[null,null,null,null,null,null,null,null,null,null,null,null,null,null,null,null,null,null,null,null,null,null,null,null,null,null,null,null,null,null,null,null,null,null,null,null,null,null,null,null,null,null,null,null,null,null,null,null,null,null,null,null,null,null,null,null,null,null,null,null,null,null,null,null,null,null,null,null,null,null,null,{"$error":"#VALUE!"},"B3",null,{"$f":"IF(ISERROR(HLOOKUP($BP46,補助!$AW$2:$BE$9,7,FALSE))=TRUE,\"\",HLOOKUP($BP46,補助!$AW$2:$BE$9,7,FALSE))","v":""},{"$f":"IF(ISERROR(HLOOKUP($BQ46,補助!$AW$2:$BE$9,7,FALSE))=TRUE,\"\",HLOOKUP($BQ46,補助!$AW$2:$BE$9,7,FALSE))","v":""},{"$f":"IF(ISERROR(HLOOKUP($BR46,補助!$AW$2:$BE$9,7,FALSE))=TRUE,\"\",HLOOKUP($BR46,補助!$AW$2:$BE$9,7,FALSE))","v":""},{"$f":"IF(ISERROR(HLOOKUP($BS46,補助!$AW$2:$BE$9,7,FALSE))=TRUE,\"\",HLOOKUP($BS46,補助!$AW$2:$BE$9,7,FALSE))","v":""},{"$f":"IF(ISERROR(HLOOKUP($BT46,補助!$AW$2:$BE$9,7,FALSE))=TRUE,\"\",HLOOKUP($BT46,補助!$AW$2:$BE$9,7,FALSE))","v":""},{"$f":"IF(ISERROR(HLOOKUP($BU46,補助!$AW$2:$BE$9,7,FALSE))=TRUE,\"\",HLOOKUP($BU46,補助!$AW$2:$BE$9,7,FALSE))","v":""},{"$f":"IF(ISERROR(HLOOKUP($BV46,補助!$AW$2:$BE$9,7,FALSE))=TRUE,\"\",HLOOKUP($BV46,補助!$AW$2:$BE$9,7,FALSE))","v":""},{"$f":"IF(ISERROR(HLOOKUP($BW46,補助!$AW$2:$BE$9,7,FALSE))=TRUE,\"\",HLOOKUP($BW46,補助!$AW$2:$BE$9,7,FALSE))","v":9},{"$f":"IF(ISERROR(HLOOKUP($BX46,補助!$AW$2:$BE$9,7,FALSE))=TRUE,\"\",HLOOKUP($BX46,補助!$AW$2:$BE$9,7,FALSE))","v":2},{"$f":"IF(ISERROR(HLOOKUP($BY46,補助!$AW$2:$BE$9,7,FALSE))=TRUE,\"\",HLOOKUP($BY46,補助!$AW$2:$BE$9,7,FALSE))","v":4},{"$f":"IF(ISERROR(HLOOKUP($BZ46,補助!$AW$2:$BE$9,7,FALSE))=TRUE,\"\",HLOOKUP($BZ46,補助!$AW$2:$BE$9,7,FALSE))","v":7},"924"]
[null,null,null,null,null,null,null,null,null,null,null,null,null,null,null,null,null,null,null,null,null,null,null,null,null,null,null,null,null,null,null,null,null,null,null,null,null,null,null,null,null,null,null,null,null,null,null,null,null,null,null,null,null,null,null,null,null,null,null,null,null,null,null,null,null,null,null,null,null,null,null,{"$error":"#VALUE!"},"B3",null,{"$f":"IF(ISERROR(HLOOKUP($BP47,補助!$AW$2:$BE$9,7,FALSE))=TRUE,\"\",HLOOKUP($BP47,補助!$AW$2:$BE$9,7,FALSE))","v":""},{"$f":"IF(ISERROR(HLOOKUP($BQ47,補助!$AW$2:$BE$9,7,FALSE))=TRUE,\"\",HLOOKUP($BQ47,補助!$AW$2:$BE$9,7,FALSE))","v":""},{"$f":"IF(ISERROR(HLOOKUP($BR47,補助!$AW$2:$BE$9,7,FALSE))=TRUE,\"\",HLOOKUP($BR47,補助!$AW$2:$BE$9,7,FALSE))","v":""},{"$f":"IF(ISERROR(HLOOKUP($BS47,補助!$AW$2:$BE$9,7,FALSE))=TRUE,\"\",HLOOKUP($BS47,補助!$AW$2:$BE$9,7,FALSE))","v":""},{"$f":"IF(ISERROR(HLOOKUP($BT47,補助!$AW$2:$BE$9,7,FALSE))=TRUE,\"\",HLOOKUP($BT47,補助!$AW$2:$BE$9,7,FALSE))","v":""},{"$f":"IF(ISERROR(HLOOKUP($BU47,補助!$AW$2:$BE$9,7,FALSE))=TRUE,\"\",HLOOKUP($BU47,補助!$AW$2:$BE$9,7,FALSE))","v":""},{"$f":"IF(ISERROR(HLOOKUP($BV47,補助!$AW$2:$BE$9,7,FALSE))=TRUE,\"\",HLOOKUP($BV47,補助!$AW$2:$BE$9,7,FALSE))","v":""},{"$f":"IF(ISERROR(HLOOKUP($BW47,補助!$AW$2:$BE$9,7,FALSE))=TRUE,\"\",HLOOKUP($BW47,補助!$AW$2:$BE$9,7,FALSE))","v":9},{"$f":"IF(ISERROR(HLOOKUP($BX47,補助!$AW$2:$BE$9,7,FALSE))=TRUE,\"\",HLOOKUP($BX47,補助!$AW$2:$BE$9,7,FALSE))","v":2},{"$f":"IF(ISERROR(HLOOKUP($BY47,補助!$AW$2:$BE$9,7,FALSE))=TRUE,\"\",HLOOKUP($BY47,補助!$AW$2:$BE$9,7,FALSE))","v":4},{"$f":"IF(ISERROR(HLOOKUP($BZ47,補助!$AW$2:$BE$9,7,FALSE))=TRUE,\"\",HLOOKUP($BZ47,補助!$AW$2:$BE$9,7,FALSE))","v":1},"924"]
[null,null,null,null,null,null,null,null,null,null,null,null,null,null,null,null,null,null,null,null,null,null,null,null,null,null,null,null,null,null,null,null,null,null,null,null,null,null,null,null,null,null,null,null,null,null,null,null,null,null,null,null,null,null,null,null,null,null,null,null,null,null,null,null,null,null,null,null,null,null,null,{"$error":"#VALUE!"},"B3",null,{"$f":"IF(ISERROR(HLOOKUP($BP48,補助!$AW$2:$BE$9,7,FALSE))=TRUE,\"\",HLOOKUP($BP48,補助!$AW$2:$BE$9,7,FALSE))","v":""},{"$f":"IF(ISERROR(HLOOKUP($BQ48,補助!$AW$2:$BE$9,7,FALSE))=TRUE,\"\",HLOOKUP($BQ48,補助!$AW$2:$BE$9,7,FALSE))","v":""},{"$f":"IF(ISERROR(HLOOKUP($BR48,補助!$AW$2:$BE$9,7,FALSE))=TRUE,\"\",HLOOKUP($BR48,補助!$AW$2:$BE$9,7,FALSE))","v":""},{"$f":"IF(ISERROR(HLOOKUP($BS48,補助!$AW$2:$BE$9,7,FALSE))=TRUE,\"\",HLOOKUP($BS48,補助!$AW$2:$BE$9,7,FALSE))","v":""},{"$f":"IF(ISERROR(HLOOKUP($BT48,補助!$AW$2:$BE$9,7,FALSE))=TRUE,\"\",HLOOKUP($BT48,補助!$AW$2:$BE$9,7,FALSE))","v":""},{"$f":"IF(ISERROR(HLOOKUP($BU48,補助!$AW$2:$BE$9,7,FALSE))=TRUE,\"\",HLOOKUP($BU48,補助!$AW$2:$BE$9,7,FALSE))","v":""},{"$f":"IF(ISERROR(HLOOKUP($BV48,補助!$AW$2:$BE$9,7,FALSE))=TRUE,\"\",HLOOKUP($BV48,補助!$AW$2:$BE$9,7,FALSE))","v":""},{"$f":"IF(ISERROR(HLOOKUP($BW48,補助!$AW$2:$BE$9,7,FALSE))=TRUE,\"\",HLOOKUP($BW48,補助!$AW$2:$BE$9,7,FALSE))","v":9},{"$f":"IF(ISERROR(HLOOKUP($BX48,補助!$AW$2:$BE$9,7,FALSE))=TRUE,\"\",HLOOKUP($BX48,補助!$AW$2:$BE$9,7,FALSE))","v":1},{"$f":"IF(ISERROR(HLOOKUP($BY48,補助!$AW$2:$BE$9,7,FALSE))=TRUE,\"\",HLOOKUP($BY48,補助!$AW$2:$BE$9,7,FALSE))","v":3},{"$f":"IF(ISERROR(HLOOKUP($BZ48,補助!$AW$2:$BE$9,7,FALSE))=TRUE,\"\",HLOOKUP($BZ48,補助!$AW$2:$BE$9,7,FALSE))","v":""},"913"]
[null,null,null,null,null,null,null,null,null,null,null,null,null,null,null,null,null,null,null,null,null,null,null,null,null,null,null,null,null,null,null,null,null,null,null,null,null,null,null,null,null,null,null,null,null,null,null,null,null,null,null,null,null,null,null,null,null,null,null,null,null,null,null,null,null,null,null,null,null,null,null,{"$error":"#VALUE!"},"B3",null,{"$f":"IF(ISERROR(HLOOKUP($BP49,補助!$AW$2:$BE$9,7,FALSE))=TRUE,\"\",HLOOKUP($BP49,補助!$AW$2:$BE$9,7,FALSE))","v":""},{"$f":"IF(ISERROR(HLOOKUP($BQ49,補助!$AW$2:$BE$9,7,FALSE))=TRUE,\"\",HLOOKUP($BQ49,補助!$AW$2:$BE$9,7,FALSE))","v":""},{"$f":"IF(ISERROR(HLOOKUP($BR49,補助!$AW$2:$BE$9,7,FALSE))=TRUE,\"\",HLOOKUP($BR49,補助!$AW$2:$BE$9,7,FALSE))","v":""},{"$f":"IF(ISERROR(HLOOKUP($BS49,補助!$AW$2:$BE$9,7,FALSE))=TRUE,\"\",HLOOKUP($BS49,補助!$AW$2:$BE$9,7,FALSE))","v":""},{"$f":"IF(ISERROR(HLOOKUP($BT49,補助!$AW$2:$BE$9,7,FALSE))=TRUE,\"\",HLOOKUP($BT49,補助!$AW$2:$BE$9,7,FALSE))","v":""},{"$f":"IF(ISERROR(HLOOKUP($BU49,補助!$AW$2:$BE$9,7,FALSE))=TRUE,\"\",HLOOKUP($BU49,補助!$AW$2:$BE$9,7,FALSE))","v":""},{"$f":"IF(ISERROR(HLOOKUP($BV49,補助!$AW$2:$BE$9,7,FALSE))=TRUE,\"\",HLOOKUP($BV49,補助!$AW$2:$BE$9,7,FALSE))","v":""},{"$f":"IF(ISERROR(HLOOKUP($BW49,補助!$AW$2:$BE$9,7,FALSE))=TRUE,\"\",HLOOKUP($BW49,補助!$AW$2:$BE$9,7,FALSE))","v":9},{"$f":"IF(ISERROR(HLOOKUP($BX49,補助!$AW$2:$BE$9,7,FALSE))=TRUE,\"\",HLOOKUP($BX49,補助!$AW$2:$BE$9,7,FALSE))","v":1},{"$f":"IF(ISERROR(HLOOKUP($BY49,補助!$AW$2:$BE$9,7,FALSE))=TRUE,\"\",HLOOKUP($BY49,補助!$AW$2:$BE$9,7,FALSE))","v":7},{"$f":"IF(ISERROR(HLOOKUP($BZ49,補助!$AW$2:$BE$9,7,FALSE))=TRUE,\"\",HLOOKUP($BZ49,補助!$AW$2:$BE$9,7,FALSE))","v":""},"917"]
[null,null,null,null,null,null,null,null,null,null,null,null,null,null,null,null,null,null,null,null,null,null,null,null,null,null,null,null,null,null,null,null,null,null,null,null,null,null,null,null,null,null,null,null,null,null,null,null,null,null,null,null,null,null,null,null,null,null,null,null,null,null,null,null,null,null,null,null,null,null,null,{"$error":"#VALUE!"},"B3","白",{"$f":"IF(ISERROR(HLOOKUP($BP50,補助!$AW$2:$BE$9,7,FALSE))=TRUE,\"\",HLOOKUP($BP50,補助!$AW$2:$BE$9,7,FALSE))","v":""},{"$f":"IF(ISERROR(HLOOKUP($BQ50,補助!$AW$2:$BE$9,7,FALSE))=TRUE,\"\",HLOOKUP($BQ50,補助!$AW$2:$BE$9,7,FALSE))","v":""},{"$f":"IF(ISERROR(HLOOKUP($BR50,補助!$AW$2:$BE$9,7,FALSE))=TRUE,\"\",HLOOKUP($BR50,補助!$AW$2:$BE$9,7,FALSE))","v":""},{"$f":"IF(ISERROR(HLOOKUP($BS50,補助!$AW$2:$BE$9,7,FALSE))=TRUE,\"\",HLOOKUP($BS50,補助!$AW$2:$BE$9,7,FALSE))","v":""},{"$f":"IF(ISERROR(HLOOKUP($BT50,補助!$AW$2:$BE$9,7,FALSE))=TRUE,\"\",HLOOKUP($BT50,補助!$AW$2:$BE$9,7,FALSE))","v":""},{"$f":"IF(ISERROR(HLOOKUP($BU50,補助!$AW$2:$BE$9,7,FALSE))=TRUE,\"\",HLOOKUP($BU50,補助!$AW$2:$BE$9,7,FALSE))","v":""},{"$f":"IF(ISERROR(HLOOKUP($BV50,補助!$AW$2:$BE$9,7,FALSE))=TRUE,\"\",HLOOKUP($BV50,補助!$AW$2:$BE$9,7,FALSE))","v":""},{"$f":"IF(ISERROR(HLOOKUP($BW50,補助!$AW$2:$BE$9,7,FALSE))=TRUE,\"\",HLOOKUP($BW50,補助!$AW$2:$BE$9,7,FALSE))","v":9},{"$f":"IF(ISERROR(HLOOKUP($BX50,補助!$AW$2:$BE$9,7,FALSE))=TRUE,\"\",HLOOKUP($BX50,補助!$AW$2:$BE$9,7,FALSE))","v":1},{"$f":"IF(ISERROR(HLOOKUP($BY50,補助!$AW$2:$BE$9,7,FALSE))=TRUE,\"\",HLOOKUP($BY50,補助!$AW$2:$BE$9,7,FALSE))","v":6},{"$f":"IF(ISERROR(HLOOKUP($BZ50,補助!$AW$2:$BE$9,7,FALSE))=TRUE,\"\",HLOOKUP($BZ50,補助!$AW$2:$BE$9,7,FALSE))","v":""},"916"]
[null,null,null,null,null,null,null,null,null,null,null,null,null,null,null,null,null,null,null,null,null,null,null,null,null,null,null,null,null,null,null,null,null,null,null,null,null,null,null,null,null,null,null,null,null,null,null,null,null,null,null,null,null,null,null,null,null,null,null,null,null,null,null,null,null,null,null,null,null,null,null,{"$error":"#VALUE!"},"B3","白",{"$f":"IF(ISERROR(HLOOKUP($BP51,補助!$AW$2:$BE$9,7,FALSE))=TRUE,\"\",HLOOKUP($BP51,補助!$AW$2:$BE$9,7,FALSE))","v":""},{"$f":"IF(ISERROR(HLOOKUP($BQ51,補助!$AW$2:$BE$9,7,FALSE))=TRUE,\"\",HLOOKUP($BQ51,補助!$AW$2:$BE$9,7,FALSE))","v":""},{"$f":"IF(ISERROR(HLOOKUP($BR51,補助!$AW$2:$BE$9,7,FALSE))=TRUE,\"\",HLOOKUP($BR51,補助!$AW$2:$BE$9,7,FALSE))","v":""},{"$f":"IF(ISERROR(HLOOKUP($BS51,補助!$AW$2:$BE$9,7,FALSE))=TRUE,\"\",HLOOKUP($BS51,補助!$AW$2:$BE$9,7,FALSE))","v":""},{"$f":"IF(ISERROR(HLOOKUP($BT51,補助!$AW$2:$BE$9,7,FALSE))=TRUE,\"\",HLOOKUP($BT51,補助!$AW$2:$BE$9,7,FALSE))","v":""},{"$f":"IF(ISERROR(HLOOKUP($BU51,補助!$AW$2:$BE$9,7,FALSE))=TRUE,\"\",HLOOKUP($BU51,補助!$AW$2:$BE$9,7,FALSE))","v":""},{"$f":"IF(ISERROR(HLOOKUP($BV51,補助!$AW$2:$BE$9,7,FALSE))=TRUE,\"\",HLOOKUP($BV51,補助!$AW$2:$BE$9,7,FALSE))","v":""},{"$f":"IF(ISERROR(HLOOKUP($BW51,補助!$AW$2:$BE$9,7,FALSE))=TRUE,\"\",HLOOKUP($BW51,補助!$AW$2:$BE$9,7,FALSE))","v":9},{"$f":"IF(ISERROR(HLOOKUP($BX51,補助!$AW$2:$BE$9,7,FALSE))=TRUE,\"\",HLOOKUP($BX51,補助!$AW$2:$BE$9,7,FALSE))","v":1},{"$f":"IF(ISERROR(HLOOKUP($BY51,補助!$AW$2:$BE$9,7,FALSE))=TRUE,\"\",HLOOKUP($BY51,補助!$AW$2:$BE$9,7,FALSE))","v":8},{"$f":"IF(ISERROR(HLOOKUP($BZ51,補助!$AW$2:$BE$9,7,FALSE))=TRUE,\"\",HLOOKUP($BZ51,補助!$AW$2:$BE$9,7,FALSE))","v":""},"918"]
[null,null,null,null,null,null,null,null,null,null,null,null,null,null,null,null,null,null,null,null,null,null,null,null,null,null,null,null,null,null,null,null,null,null,null,null,null,null,null,null,null,null,null,null,null,null,null,null,null,null,null,null,null,null,null,null,null,null,null,null,null,null,null,null,null,null,null,null,null,null,null,{"$error":"#VALUE!"},"B3",null,{"$f":"IF(ISERROR(HLOOKUP($BP52,補助!$AW$2:$BE$9,7,FALSE))=TRUE,\"\",HLOOKUP($BP52,補助!$AW$2:$BE$9,7,FALSE))","v":""},{"$f":"IF(ISERROR(HLOOKUP($BQ52,補助!$AW$2:$BE$9,7,FALSE))=TRUE,\"\",HLOOKUP($BQ52,補助!$AW$2:$BE$9,7,FALSE))","v":""},{"$f":"IF(ISERROR(HLOOKUP($BR52,補助!$AW$2:$BE$9,7,FALSE))=TRUE,\"\",HLOOKUP($BR52,補助!$AW$2:$BE$9,7,FALSE))","v":""},{"$f":"IF(ISERROR(HLOOKUP($BS52,補助!$AW$2:$BE$9,7,FALSE))=TRUE,\"\",HLOOKUP($BS52,補助!$AW$2:$BE$9,7,FALSE))","v":""},{"$f":"IF(ISERROR(HLOOKUP($BT52,補助!$AW$2:$BE$9,7,FALSE))=TRUE,\"\",HLOOKUP($BT52,補助!$AW$2:$BE$9,7,FALSE))","v":""},{"$f":"IF(ISERROR(HLOOKUP($BU52,補助!$AW$2:$BE$9,7,FALSE))=TRUE,\"\",HLOOKUP($BU52,補助!$AW$2:$BE$9,7,FALSE))","v":""},{"$f":"IF(ISERROR(HLOOKUP($BV52,補助!$AW$2:$BE$9,7,FALSE))=TRUE,\"\",HLOOKUP($BV52,補助!$AW$2:$BE$9,7,FALSE))","v":""},{"$f":"IF(ISERROR(HLOOKUP($BW52,補助!$AW$2:$BE$9,7,FALSE))=TRUE,\"\",HLOOKUP($BW52,補助!$AW$2:$BE$9,7,FALSE))","v":6},{"$f":"IF(ISERROR(HLOOKUP($BX52,補助!$AW$2:$BE$9,7,FALSE))=TRUE,\"\",HLOOKUP($BX52,補助!$AW$2:$BE$9,7,FALSE))","v":8},{"$f":"IF(ISERROR(HLOOKUP($BY52,補助!$AW$2:$BE$9,7,FALSE))=TRUE,\"\",HLOOKUP($BY52,補助!$AW$2:$BE$9,7,FALSE))","v":5},{"$f":"IF(ISERROR(HLOOKUP($BZ52,補助!$AW$2:$BE$9,7,FALSE))=TRUE,\"\",HLOOKUP($BZ52,補助!$AW$2:$BE$9,7,FALSE))","v":""},"685"]
[null,null,null,null,null,null,null,null,null,null,null,null,null,null,null,null,null,null,null,null,null,null,null,null,null,null,null,null,null,null,null,null,null,null,null,null,null,null,null,null,null,null,null,null,null,null,null,null,null,null,null,null,null,null,null,null,null,null,null,null,null,null,null,null,null,null,null,null,null,null,null,{"$error":"#VALUE!"},"B3",null,{"$f":"IF(ISERROR(HLOOKUP($BP53,補助!$AW$2:$BE$9,7,FALSE))=TRUE,\"\",HLOOKUP($BP53,補助!$AW$2:$BE$9,7,FALSE))","v":""},{"$f":"IF(ISERROR(HLOOKUP($BQ53,補助!$AW$2:$BE$9,7,FALSE))=TRUE,\"\",HLOOKUP($BQ53,補助!$AW$2:$BE$9,7,FALSE))","v":""},{"$f":"IF(ISERROR(HLOOKUP($BR53,補助!$AW$2:$BE$9,7,FALSE))=TRUE,\"\",HLOOKUP($BR53,補助!$AW$2:$BE$9,7,FALSE))","v":""},{"$f":"IF(ISERROR(HLOOKUP($BS53,補助!$AW$2:$BE$9,7,FALSE))=TRUE,\"\",HLOOKUP($BS53,補助!$AW$2:$BE$9,7,FALSE))","v":""},{"$f":"IF(ISERROR(HLOOKUP($BT53,補助!$AW$2:$BE$9,7,FALSE))=TRUE,\"\",HLOOKUP($BT53,補助!$AW$2:$BE$9,7,FALSE))","v":""},{"$f":"IF(ISERROR(HLOOKUP($BU53,補助!$AW$2:$BE$9,7,FALSE))=TRUE,\"\",HLOOKUP($BU53,補助!$AW$2:$BE$9,7,FALSE))","v":""},{"$f":"IF(ISERROR(HLOOKUP($BV53,補助!$AW$2:$BE$9,7,FALSE))=TRUE,\"\",HLOOKUP($BV53,補助!$AW$2:$BE$9,7,FALSE))","v":""},{"$f":"IF(ISERROR(HLOOKUP($BW53,補助!$AW$2:$BE$9,7,FALSE))=TRUE,\"\",HLOOKUP($BW53,補助!$AW$2:$BE$9,7,FALSE))","v":6},{"$f":"IF(ISERROR(HLOOKUP($BX53,補助!$AW$2:$BE$9,7,FALSE))=TRUE,\"\",HLOOKUP($BX53,補助!$AW$2:$BE$9,7,FALSE))","v":2},{"$f":"IF(ISERROR(HLOOKUP($BY53,補助!$AW$2:$BE$9,7,FALSE))=TRUE,\"\",HLOOKUP($BY53,補助!$AW$2:$BE$9,7,FALSE))","v":5},{"$f":"IF(ISERROR(HLOOKUP($BZ53,補助!$AW$2:$BE$9,7,FALSE))=TRUE,\"\",HLOOKUP($BZ53,補助!$AW$2:$BE$9,7,FALSE))","v":""},"625"]
[null,null,null,null,null,null,null,null,null,null,null,null,null,null,null,null,null,null,null,null,null,null,null,null,null,null,null,null,null,null,null,null,null,null,null,null,null,null,null,null,null,null,null,null,null,null,null,null,null,null,null,null,null,null,null,null,null,null,null,null,null,null,null,null,null,null,null,null,null,null,null,{"$error":"#VALUE!"},"B3",null,{"$f":"IF(ISERROR(HLOOKUP($BP54,補助!$AW$2:$BE$9,7,FALSE))=TRUE,\"\",HLOOKUP($BP54,補助!$AW$2:$BE$9,7,FALSE))","v":""},{"$f":"IF(ISERROR(HLOOKUP($BQ54,補助!$AW$2:$BE$9,7,FALSE))=TRUE,\"\",HLOOKUP($BQ54,補助!$AW$2:$BE$9,7,FALSE))","v":""},{"$f":"IF(ISERROR(HLOOKUP($BR54,補助!$AW$2:$BE$9,7,FALSE))=TRUE,\"\",HLOOKUP($BR54,補助!$AW$2:$BE$9,7,FALSE))","v":""},{"$f":"IF(ISERROR(HLOOKUP($BS54,補助!$AW$2:$BE$9,7,FALSE))=TRUE,\"\",HLOOKUP($BS54,補助!$AW$2:$BE$9,7,FALSE))","v":""},{"$f":"IF(ISERROR(HLOOKUP($BT54,補助!$AW$2:$BE$9,7,FALSE))=TRUE,\"\",HLOOKUP($BT54,補助!$AW$2:$BE$9,7,FALSE))","v":""},{"$f":"IF(ISERROR(HLOOKUP($BU54,補助!$AW$2:$BE$9,7,FALSE))=TRUE,\"\",HLOOKUP($BU54,補助!$AW$2:$BE$9,7,FALSE))","v":""},{"$f":"IF(ISERROR(HLOOKUP($BV54,補助!$AW$2:$BE$9,7,FALSE))=TRUE,\"\",HLOOKUP($BV54,補助!$AW$2:$BE$9,7,FALSE))","v":""},{"$f":"IF(ISERROR(HLOOKUP($BW54,補助!$AW$2:$BE$9,7,FALSE))=TRUE,\"\",HLOOKUP($BW54,補助!$AW$2:$BE$9,7,FALSE))","v":6},{"$f":"IF(ISERROR(HLOOKUP($BX54,補助!$AW$2:$BE$9,7,FALSE))=TRUE,\"\",HLOOKUP($BX54,補助!$AW$2:$BE$9,7,FALSE))","v":7},{"$f":"IF(ISERROR(HLOOKUP($BY54,補助!$AW$2:$BE$9,7,FALSE))=TRUE,\"\",HLOOKUP($BY54,補助!$AW$2:$BE$9,7,FALSE))","v":9},{"$f":"IF(ISERROR(HLOOKUP($BZ54,補助!$AW$2:$BE$9,7,FALSE))=TRUE,\"\",HLOOKUP($BZ54,補助!$AW$2:$BE$9,7,FALSE))","v":""},"679"]
[null,null,null,null,null,null,null,null,null,null,null,null,null,null,null,null,null,null,null,null,null,null,null,null,null,null,null,null,null,null,null,null,null,null,null,null,null,null,null,null,null,null,null,null,null,null,null,null,null,null,null,null,null,null,null,null,null,null,null,null,null,null,null,null,null,null,null,null,null,null,null,{"$error":"#VALUE!"},"B3",null,{"$f":"IF(ISERROR(HLOOKUP($BP55,補助!$AW$2:$BE$9,7,FALSE))=TRUE,\"\",HLOOKUP($BP55,補助!$AW$2:$BE$9,7,FALSE))","v":""},{"$f":"IF(ISERROR(HLOOKUP($BQ55,補助!$AW$2:$BE$9,7,FALSE))=TRUE,\"\",HLOOKUP($BQ55,補助!$AW$2:$BE$9,7,FALSE))","v":""},{"$f":"IF(ISERROR(HLOOKUP($BR55,補助!$AW$2:$BE$9,7,FALSE))=TRUE,\"\",HLOOKUP($BR55,補助!$AW$2:$BE$9,7,FALSE))","v":""},{"$f":"IF(ISERROR(HLOOKUP($BS55,補助!$AW$2:$BE$9,7,FALSE))=TRUE,\"\",HLOOKUP($BS55,補助!$AW$2:$BE$9,7,FALSE))","v":""},{"$f":"IF(ISERROR(HLOOKUP($BT55,補助!$AW$2:$BE$9,7,FALSE))=TRUE,\"\",HLOOKUP($BT55,補助!$AW$2:$BE$9,7,FALSE))","v":""},{"$f":"IF(ISERROR(HLOOKUP($BU55,補助!$AW$2:$BE$9,7,FALSE))=TRUE,\"\",HLOOKUP($BU55,補助!$AW$2:$BE$9,7,FALSE))","v":""},{"$f":"IF(ISERROR(HLOOKUP($BV55,補助!$AW$2:$BE$9,7,FALSE))=TRUE,\"\",HLOOKUP($BV55,補助!$AW$2:$BE$9,7,FALSE))","v":""},{"$f":"IF(ISERROR(HLOOKUP($BW55,補助!$AW$2:$BE$9,7,FALSE))=TRUE,\"\",HLOOKUP($BW55,補助!$AW$2:$BE$9,7,FALSE))","v":6},{"$f":"IF(ISERROR(HLOOKUP($BX55,補助!$AW$2:$BE$9,7,FALSE))=TRUE,\"\",HLOOKUP($BX55,補助!$AW$2:$BE$9,7,FALSE))","v":1},{"$f":"IF(ISERROR(HLOOKUP($BY55,補助!$AW$2:$BE$9,7,FALSE))=TRUE,\"\",HLOOKUP($BY55,補助!$AW$2:$BE$9,7,FALSE))","v":3},{"$f":"IF(ISERROR(HLOOKUP($BZ55,補助!$AW$2:$BE$9,7,FALSE))=TRUE,\"\",HLOOKUP($BZ55,補助!$AW$2:$BE$9,7,FALSE))","v":""},"613"]
[null,null,null,null,null,null,null,null,null,null,null,null,null,null,null,null,null,null,null,null,null,null,null,null,null,null,null,null,null,null,null,null,null,null,null,null,null,null,null,null,null,null,null,null,null,null,null,null,null,null,null,null,null,null,null,null,null,null,null,null,null,null,null,null,null,null,null,null,null,null,null,{"$error":"#VALUE!"},"B3",null,{"$f":"IF(ISERROR(HLOOKUP($BP56,補助!$AW$2:$BE$9,7,FALSE))=TRUE,\"\",HLOOKUP($BP56,補助!$AW$2:$BE$9,7,FALSE))","v":""},{"$f":"IF(ISERROR(HLOOKUP($BQ56,補助!$AW$2:$BE$9,7,FALSE))=TRUE,\"\",HLOOKUP($BQ56,補助!$AW$2:$BE$9,7,FALSE))","v":""},{"$f":"IF(ISERROR(HLOOKUP($BR56,補助!$AW$2:$BE$9,7,FALSE))=TRUE,\"\",HLOOKUP($BR56,補助!$AW$2:$BE$9,7,FALSE))","v":""},{"$f":"IF(ISERROR(HLOOKUP($BS56,補助!$AW$2:$BE$9,7,FALSE))=TRUE,\"\",HLOOKUP($BS56,補助!$AW$2:$BE$9,7,FALSE))","v":""},{"$f":"IF(ISERROR(HLOOKUP($BT56,補助!$AW$2:$BE$9,7,FALSE))=TRUE,\"\",HLOOKUP($BT56,補助!$AW$2:$BE$9,7,FALSE))","v":""},{"$f":"IF(ISERROR(HLOOKUP($BU56,補助!$AW$2:$BE$9,7,FALSE))=TRUE,\"\",HLOOKUP($BU56,補助!$AW$2:$BE$9,7,FALSE))","v":""},{"$f":"IF(ISERROR(HLOOKUP($BV56,補助!$AW$2:$BE$9,7,FALSE))=TRUE,\"\",HLOOKUP($BV56,補助!$AW$2:$BE$9,7,FALSE))","v":""},{"$f":"IF(ISERROR(HLOOKUP($BW56,補助!$AW$2:$BE$9,7,FALSE))=TRUE,\"\",HLOOKUP($BW56,補助!$AW$2:$BE$9,7,FALSE))","v":5},{"$f":"IF(ISERROR(HLOOKUP($BX56,補助!$AW$2:$BE$9,7,FALSE))=TRUE,\"\",HLOOKUP($BX56,補助!$AW$2:$BE$9,7,FALSE))","v":6},{"$f":"IF(ISERROR(HLOOKUP($BY56,補助!$AW$2:$BE$9,7,FALSE))=TRUE,\"\",HLOOKUP($BY56,補助!$AW$2:$BE$9,7,FALSE))","v":3},{"$f":"IF(ISERROR(HLOOKUP($BZ56,補助!$AW$2:$BE$9,7,FALSE))=TRUE,\"\",HLOOKUP($BZ56,補助!$AW$2:$BE$9,7,FALSE))","v":""},"563"]
[null,null,null,null,null,null,null,null,null,null,null,null,null,null,null,null,null,null,null,null,null,null,null,null,null,null,null,null,null,null,null,null,null,null,null,null,null,null,null,null,null,null,null,null,null,null,null,null,null,null,null,null,null,null,null,null,null,null,null,null,null,null,null,null,null,null,null,null,null,null,null,{"$error":"#VALUE!"},"B3",null,{"$f":"IF(ISERROR(HLOOKUP($BP57,補助!$AW$2:$BE$9,7,FALSE))=TRUE,\"\",HLOOKUP($BP57,補助!$AW$2:$BE$9,7,FALSE))","v":""},{"$f":"IF(ISERROR(HLOOKUP($BQ57,補助!$AW$2:$BE$9,7,FALSE))=TRUE,\"\",HLOOKUP($BQ57,補助!$AW$2:$BE$9,7,FALSE))","v":""},{"$f":"IF(ISERROR(HLOOKUP($BR57,補助!$AW$2:$BE$9,7,FALSE))=TRUE,\"\",HLOOKUP($BR57,補助!$AW$2:$BE$9,7,FALSE))","v":""},{"$f":"IF(ISERROR(HLOOKUP($BS57,補助!$AW$2:$BE$9,7,FALSE))=TRUE,\"\",HLOOKUP($BS57,補助!$AW$2:$BE$9,7,FALSE))","v":""},{"$f":"IF(ISERROR(HLOOKUP($BT57,補助!$AW$2:$BE$9,7,FALSE))=TRUE,\"\",HLOOKUP($BT57,補助!$AW$2:$BE$9,7,FALSE))","v":""},{"$f":"IF(ISERROR(HLOOKUP($BU57,補助!$AW$2:$BE$9,7,FALSE))=TRUE,\"\",HLOOKUP($BU57,補助!$AW$2:$BE$9,7,FALSE))","v":""},{"$f":"IF(ISERROR(HLOOKUP($BV57,補助!$AW$2:$BE$9,7,FALSE))=TRUE,\"\",HLOOKUP($BV57,補助!$AW$2:$BE$9,7,FALSE))","v":""},{"$f":"IF(ISERROR(HLOOKUP($BW57,補助!$AW$2:$BE$9,7,FALSE))=TRUE,\"\",HLOOKUP($BW57,補助!$AW$2:$BE$9,7,FALSE))","v":5},{"$f":"IF(ISERROR(HLOOKUP($BX57,補助!$AW$2:$BE$9,7,FALSE))=TRUE,\"\",HLOOKUP($BX57,補助!$AW$2:$BE$9,7,FALSE))","v":6},{"$f":"IF(ISERROR(HLOOKUP($BY57,補助!$AW$2:$BE$9,7,FALSE))=TRUE,\"\",HLOOKUP($BY57,補助!$AW$2:$BE$9,7,FALSE))","v":9},{"$f":"IF(ISERROR(HLOOKUP($BZ57,補助!$AW$2:$BE$9,7,FALSE))=TRUE,\"\",HLOOKUP($BZ57,補助!$AW$2:$BE$9,7,FALSE))","v":""},"569"]
[null,null,null,null,null,null,null,null,null,null,null,null,null,null,null,null,null,null,null,null,null,null,null,null,null,null,null,null,null,null,null,null,null,null,null,null,null,null,null,null,null,null,null,null,null,null,null,null,null,null,null,null,null,null,null,null,null,null,null,null,null,null,null,null,null,null,null,null,null,null,null,{"$error":"#VALUE!"},"B3",null,{"$f":"IF(ISERROR(HLOOKUP($BP58,補助!$AW$2:$BE$9,7,FALSE))=TRUE,\"\",HLOOKUP($BP58,補助!$AW$2:$BE$9,7,FALSE))","v":""},{"$f":"IF(ISERROR(HLOOKUP($BQ58,補助!$AW$2:$BE$9,7,FALSE))=TRUE,\"\",HLOOKUP($BQ58,補助!$AW$2:$BE$9,7,FALSE))","v":""},{"$f":"IF(ISERROR(HLOOKUP($BR58,補助!$AW$2:$BE$9,7,FALSE))=TRUE,\"\",HLOOKUP($BR58,補助!$AW$2:$BE$9,7,FALSE))","v":""},{"$f":"IF(ISERROR(HLOOKUP($BS58,補助!$AW$2:$BE$9,7,FALSE))=TRUE,\"\",HLOOKUP($BS58,補助!$AW$2:$BE$9,7,FALSE))","v":""},{"$f":"IF(ISERROR(HLOOKUP($BT58,補助!$AW$2:$BE$9,7,FALSE))=TRUE,\"\",HLOOKUP($BT58,補助!$AW$2:$BE$9,7,FALSE))","v":""},{"$f":"IF(ISERROR(HLOOKUP($BU58,補助!$AW$2:$BE$9,7,FALSE))=TRUE,\"\",HLOOKUP($BU58,補助!$AW$2:$BE$9,7,FALSE))","v":""},{"$f":"IF(ISERROR(HLOOKUP($BV58,補助!$AW$2:$BE$9,7,FALSE))=TRUE,\"\",HLOOKUP($BV58,補助!$AW$2:$BE$9,7,FALSE))","v":""},{"$f":"IF(ISERROR(HLOOKUP($BW58,補助!$AW$2:$BE$9,7,FALSE))=TRUE,\"\",HLOOKUP($BW58,補助!$AW$2:$BE$9,7,FALSE))","v":5},{"$f":"IF(ISERROR(HLOOKUP($BX58,補助!$AW$2:$BE$9,7,FALSE))=TRUE,\"\",HLOOKUP($BX58,補助!$AW$2:$BE$9,7,FALSE))","v":6},{"$f":"IF(ISERROR(HLOOKUP($BY58,補助!$AW$2:$BE$9,7,FALSE))=TRUE,\"\",HLOOKUP($BY58,補助!$AW$2:$BE$9,7,FALSE))","v":7},{"$f":"IF(ISERROR(HLOOKUP($BZ58,補助!$AW$2:$BE$9,7,FALSE))=TRUE,\"\",HLOOKUP($BZ58,補助!$AW$2:$BE$9,7,FALSE))","v":""},"567"]
[null,null,null,null,null,null,null,null,null,null,null,null,null,null,null,null,null,null,null,null,null,null,null,null,null,null,null,null,null,null,null,null,null,null,null,null,null,null,null,null,null,null,null,null,null,null,null,null,null,null,null,null,null,null,null,null,null,null,null,null,null,null,null,null,null,null,null,null,null,null,null,{"$error":"#VALUE!"},"B3",null,{"$f":"IF(ISERROR(HLOOKUP($BP59,補助!$AW$2:$BE$9,7,FALSE))=TRUE,\"\",HLOOKUP($BP59,補助!$AW$2:$BE$9,7,FALSE))","v":""},{"$f":"IF(ISERROR(HLOOKUP($BQ59,補助!$AW$2:$BE$9,7,FALSE))=TRUE,\"\",HLOOKUP($BQ59,補助!$AW$2:$BE$9,7,FALSE))","v":""},{"$f":"IF(ISERROR(HLOOKUP($BR59,補助!$AW$2:$BE$9,7,FALSE))=TRUE,\"\",HLOOKUP($BR59,補助!$AW$2:$BE$9,7,FALSE))","v":""},{"$f":"IF(ISERROR(HLOOKUP($BS59,補助!$AW$2:$BE$9,7,FALSE))=TRUE,\"\",HLOOKUP($BS59,補助!$AW$2:$BE$9,7,FALSE))","v":""},{"$f":"IF(ISERROR(HLOOKUP($BT59,補助!$AW$2:$BE$9,7,FALSE))=TRUE,\"\",HLOOKUP($BT59,補助!$AW$2:$BE$9,7,FALSE))","v":""},{"$f":"IF(ISERROR(HLOOKUP($BU59,補助!$AW$2:$BE$9,7,FALSE))=TRUE,\"\",HLOOKUP($BU59,補助!$AW$2:$BE$9,7,FALSE))","v":""},{"$f":"IF(ISERROR(HLOOKUP($BV59,補助!$AW$2:$BE$9,7,FALSE))=TRUE,\"\",HLOOKUP($BV59,補助!$AW$2:$BE$9,7,FALSE))","v":""},{"$f":"IF(ISERROR(HLOOKUP($BW59,補助!$AW$2:$BE$9,7,FALSE))=TRUE,\"\",HLOOKUP($BW59,補助!$AW$2:$BE$9,7,FALSE))","v":5},{"$f":"IF(ISERROR(HLOOKUP($BX59,補助!$AW$2:$BE$9,7,FALSE))=TRUE,\"\",HLOOKUP($BX59,補助!$AW$2:$BE$9,7,FALSE))","v":6},{"$f":"IF(ISERROR(HLOOKUP($BY59,補助!$AW$2:$BE$9,7,FALSE))=TRUE,\"\",HLOOKUP($BY59,補助!$AW$2:$BE$9,7,FALSE))","v":1},{"$f":"IF(ISERROR(HLOOKUP($BZ59,補助!$AW$2:$BE$9,7,FALSE))=TRUE,\"\",HLOOKUP($BZ59,補助!$AW$2:$BE$9,7,FALSE))","v":""},"561"]
[null,null,null,null,null,null,null,null,null,null,null,null,null,null,null,null,null,null,null,null,null,null,null,null,null,null,null,null,null,null,null,null,null,null,null,null,null,null,null,null,null,null,null,null,null,null,null,null,null,null,null,null,null,null,null,null,null,null,null,null,null,null,null,null,null,null,null,null,null,null,null,{"$error":"#VALUE!"},"B4",null,{"$f":"IF(ISERROR(HLOOKUP($BP2,補助!$AW$2:$BE$9,8,FALSE))=TRUE,\"\",HLOOKUP($BP2,補助!$AW$2:$BE$9,8,FALSE))","v":3},{"$f":"IF(ISERROR(HLOOKUP($BQ2,補助!$AW$2:$BE$9,8,FALSE))=TRUE,\"\",HLOOKUP($BQ2,補助!$AW$2:$BE$9,8,FALSE))","v":""},{"$f":"IF(ISERROR(HLOOKUP($BR2,補助!$AW$2:$BE$9,8,FALSE))=TRUE,\"\",HLOOKUP($BR2,補助!$AW$2:$BE$9,8,FALSE))","v":""},{"$f":"IF(ISERROR(HLOOKUP($BS2,補助!$AW$2:$BE$9,8,FALSE))=TRUE,\"\",HLOOKUP($BS2,補助!$AW$2:$BE$9,8,FALSE))","v":""},{"$f":"IF(ISERROR(HLOOKUP($BT2,補助!$AW$2:$BE$9,8,FALSE))=TRUE,\"\",HLOOKUP($BT2,補助!$AW$2:$BE$9,8,FALSE))","v":""},{"$f":"IF(ISERROR(HLOOKUP($BU2,補助!$AW$2:$BE$9,8,FALSE))=TRUE,\"\",HLOOKUP($BU2,補助!$AW$2:$BE$9,8,FALSE))","v":""},{"$f":"IF(ISERROR(HLOOKUP($BV2,補助!$AW$2:$BE$9,8,FALSE))=TRUE,\"\",HLOOKUP($BV2,補助!$AW$2:$BE$9,8,FALSE))","v":""},{"$f":"IF(ISERROR(HLOOKUP($BW2,補助!$AW$2:$BE$9,8,FALSE))=TRUE,\"\",HLOOKUP($BW2,補助!$AW$2:$BE$9,8,FALSE))","v":7},{"$f":"IF(ISERROR(HLOOKUP($BX2,補助!$AW$2:$BE$9,8,FALSE))=TRUE,\"\",HLOOKUP($BX2,補助!$AW$2:$BE$9,8,FALSE))","v":8},{"$f":"IF(ISERROR(HLOOKUP($BY2,補助!$AW$2:$BE$9,8,FALSE))=TRUE,\"\",HLOOKUP($BY2,補助!$AW$2:$BE$9,8,FALSE))","v":4},{"$f":"IF(ISERROR(HLOOKUP($BZ2,補助!$AW$2:$BE$9,8,FALSE))=TRUE,\"\",HLOOKUP($BZ2,補助!$AW$2:$BE$9,8,FALSE))","v":""},"3784"]
[null,null,null,null,null,null,null,null,null,null,null,null,null,null,null,null,null,null,null,null,null,null,null,null,null,null,null,null,null,null,null,null,null,null,null,null,null,null,null,null,null,null,null,null,null,null,null,null,null,null,null,null,null,null,null,null,null,null,null,null,null,null,null,null,null,null,null,null,null,null,null,{"$error":"#VALUE!"},"B4",null,{"$f":"IF(ISERROR(HLOOKUP($BP3,補助!$AW$2:$BE$9,8,FALSE))=TRUE,\"\",HLOOKUP($BP3,補助!$AW$2:$BE$9,8,FALSE))","v":6},{"$f":"IF(ISERROR(HLOOKUP($BQ3,補助!$AW$2:$BE$9,8,FALSE))=TRUE,\"\",HLOOKUP($BQ3,補助!$AW$2:$BE$9,8,FALSE))","v":""},{"$f":"IF(ISERROR(HLOOKUP($BR3,補助!$AW$2:$BE$9,8,FALSE))=TRUE,\"\",HLOOKUP($BR3,補助!$AW$2:$BE$9,8,FALSE))","v":""},{"$f":"IF(ISERROR(HLOOKUP($BS3,補助!$AW$2:$BE$9,8,FALSE))=TRUE,\"\",HLOOKUP($BS3,補助!$AW$2:$BE$9,8,FALSE))","v":""},{"$f":"IF(ISERROR(HLOOKUP($BT3,補助!$AW$2:$BE$9,8,FALSE))=TRUE,\"\",HLOOKUP($BT3,補助!$AW$2:$BE$9,8,FALSE))","v":""},{"$f":"IF(ISERROR(HLOOKUP($BU3,補助!$AW$2:$BE$9,8,FALSE))=TRUE,\"\",HLOOKUP($BU3,補助!$AW$2:$BE$9,8,FALSE))","v":""},{"$f":"IF(ISERROR(HLOOKUP($BV3,補助!$AW$2:$BE$9,8,FALSE))=TRUE,\"\",HLOOKUP($BV3,補助!$AW$2:$BE$9,8,FALSE))","v":""},{"$f":"IF(ISERROR(HLOOKUP($BW3,補助!$AW$2:$BE$9,8,FALSE))=TRUE,\"\",HLOOKUP($BW3,補助!$AW$2:$BE$9,8,FALSE))","v":7},{"$f":"IF(ISERROR(HLOOKUP($BX3,補助!$AW$2:$BE$9,8,FALSE))=TRUE,\"\",HLOOKUP($BX3,補助!$AW$2:$BE$9,8,FALSE))","v":8},{"$f":"IF(ISERROR(HLOOKUP($BY3,補助!$AW$2:$BE$9,8,FALSE))=TRUE,\"\",HLOOKUP($BY3,補助!$AW$2:$BE$9,8,FALSE))","v":5},{"$f":"IF(ISERROR(HLOOKUP($BZ3,補助!$AW$2:$BE$9,8,FALSE))=TRUE,\"\",HLOOKUP($BZ3,補助!$AW$2:$BE$9,8,FALSE))","v":""},"6785"]
[null,null,null,null,null,null,null,null,null,null,null,null,null,null,null,null,null,null,null,null,null,null,null,null,null,null,null,null,null,null,null,null,null,null,null,null,null,null,null,null,null,null,null,null,null,null,null,null,null,null,null,null,null,null,null,null,null,null,null,null,null,null,null,null,null,null,null,null,null,null,null,{"$error":"#VALUE!"},"B4",null,{"$f":"IF(ISERROR(HLOOKUP($BP4,補助!$AW$2:$BE$9,8,FALSE))=TRUE,\"\",HLOOKUP($BP4,補助!$AW$2:$BE$9,8,FALSE))","v":9},{"$f":"IF(ISERROR(HLOOKUP($BQ4,補助!$AW$2:$BE$9,8,FALSE))=TRUE,\"\",HLOOKUP($BQ4,補助!$AW$2:$BE$9,8,FALSE))","v":""},{"$f":"IF(ISERROR(HLOOKUP($BR4,補助!$AW$2:$BE$9,8,FALSE))=TRUE,\"\",HLOOKUP($BR4,補助!$AW$2:$BE$9,8,FALSE))","v":""},{"$f":"IF(ISERROR(HLOOKUP($BS4,補助!$AW$2:$BE$9,8,FALSE))=TRUE,\"\",HLOOKUP($BS4,補助!$AW$2:$BE$9,8,FALSE))","v":""},{"$f":"IF(ISERROR(HLOOKUP($BT4,補助!$AW$2:$BE$9,8,FALSE))=TRUE,\"\",HLOOKUP($BT4,補助!$AW$2:$BE$9,8,FALSE))","v":""},{"$f":"IF(ISERROR(HLOOKUP($BU4,補助!$AW$2:$BE$9,8,FALSE))=TRUE,\"\",HLOOKUP($BU4,補助!$AW$2:$BE$9,8,FALSE))","v":""},{"$f":"IF(ISERROR(HLOOKUP($BV4,補助!$AW$2:$BE$9,8,FALSE))=TRUE,\"\",HLOOKUP($BV4,補助!$AW$2:$BE$9,8,FALSE))","v":""},{"$f":"IF(ISERROR(HLOOKUP($BW4,補助!$AW$2:$BE$9,8,FALSE))=TRUE,\"\",HLOOKUP($BW4,補助!$AW$2:$BE$9,8,FALSE))","v":7},{"$f":"IF(ISERROR(HLOOKUP($BX4,補助!$AW$2:$BE$9,8,FALSE))=TRUE,\"\",HLOOKUP($BX4,補助!$AW$2:$BE$9,8,FALSE))","v":8},{"$f":"IF(ISERROR(HLOOKUP($BY4,補助!$AW$2:$BE$9,8,FALSE))=TRUE,\"\",HLOOKUP($BY4,補助!$AW$2:$BE$9,8,FALSE))","v":1},{"$f":"IF(ISERROR(HLOOKUP($BZ4,補助!$AW$2:$BE$9,8,FALSE))=TRUE,\"\",HLOOKUP($BZ4,補助!$AW$2:$BE$9,8,FALSE))","v":""},"9781"]
[null,null,null,null,null,null,null,null,null,null,null,null,null,null,null,null,null,null,null,null,null,null,null,null,null,null,null,null,null,null,null,null,null,null,null,null,null,null,null,null,null,null,null,null,null,null,null,null,null,null,null,null,null,null,null,null,null,null,null,null,null,null,null,null,null,null,null,null,null,null,null,{"$error":"#VALUE!"},"B4",null,{"$f":"IF(ISERROR(HLOOKUP($BP5,補助!$AW$2:$BE$9,8,FALSE))=TRUE,\"\",HLOOKUP($BP5,補助!$AW$2:$BE$9,8,FALSE))","v":""},{"$f":"IF(ISERROR(HLOOKUP($BQ5,補助!$AW$2:$BE$9,8,FALSE))=TRUE,\"\",HLOOKUP($BQ5,補助!$AW$2:$BE$9,8,FALSE))","v":""},{"$f":"IF(ISERROR(HLOOKUP($BR5,補助!$AW$2:$BE$9,8,FALSE))=TRUE,\"\",HLOOKUP($BR5,補助!$AW$2:$BE$9,8,FALSE))","v":""},{"$f":"IF(ISERROR(HLOOKUP($BS5,補助!$AW$2:$BE$9,8,FALSE))=TRUE,\"\",HLOOKUP($BS5,補助!$AW$2:$BE$9,8,FALSE))","v":""},{"$f":"IF(ISERROR(HLOOKUP($BT5,補助!$AW$2:$BE$9,8,FALSE))=TRUE,\"\",HLOOKUP($BT5,補助!$AW$2:$BE$9,8,FALSE))","v":""},{"$f":"IF(ISERROR(HLOOKUP($BU5,補助!$AW$2:$BE$9,8,FALSE))=TRUE,\"\",HLOOKUP($BU5,補助!$AW$2:$BE$9,8,FALSE))","v":""},{"$f":"IF(ISERROR(HLOOKUP($BV5,補助!$AW$2:$BE$9,8,FALSE))=TRUE,\"\",HLOOKUP($BV5,補助!$AW$2:$BE$9,8,FALSE))","v":""},{"$f":"IF(ISERROR(HLOOKUP($BW5,補助!$AW$2:$BE$9,8,FALSE))=TRUE,\"\",HLOOKUP($BW5,補助!$AW$2:$BE$9,8,FALSE))","v":7},{"$f":"IF(ISERROR(HLOOKUP($BX5,補助!$AW$2:$BE$9,8,FALSE))=TRUE,\"\",HLOOKUP($BX5,補助!$AW$2:$BE$9,8,FALSE))","v":8},{"$f":"IF(ISERROR(HLOOKUP($BY5,補助!$AW$2:$BE$9,8,FALSE))=TRUE,\"\",HLOOKUP($BY5,補助!$AW$2:$BE$9,8,FALSE))","v":9},{"$f":"IF(ISERROR(HLOOKUP($BZ5,補助!$AW$2:$BE$9,8,FALSE))=TRUE,\"\",HLOOKUP($BZ5,補助!$AW$2:$BE$9,8,FALSE))","v":4},"789"]
[null,null,null,null,null,null,null,null,null,null,null,null,null,null,null,null,null,null,null,null,null,null,null,null,null,null,null,null,null,null,null,null,null,null,null,null,null,null,null,null,null,null,null,null,null,null,null,null,null,null,null,null,null,null,null,null,null,null,null,null,null,null,null,null,null,null,null,null,null,null,null,{"$error":"#VALUE!"},"B4",null,{"$f":"IF(ISERROR(HLOOKUP($BP6,補助!$AW$2:$BE$9,8,FALSE))=TRUE,\"\",HLOOKUP($BP6,補助!$AW$2:$BE$9,8,FALSE))","v":""},{"$f":"IF(ISERROR(HLOOKUP($BQ6,補助!$AW$2:$BE$9,8,FALSE))=TRUE,\"\",HLOOKUP($BQ6,補助!$AW$2:$BE$9,8,FALSE))","v":""},{"$f":"IF(ISERROR(HLOOKUP($BR6,補助!$AW$2:$BE$9,8,FALSE))=TRUE,\"\",HLOOKUP($BR6,補助!$AW$2:$BE$9,8,FALSE))","v":""},{"$f":"IF(ISERROR(HLOOKUP($BS6,補助!$AW$2:$BE$9,8,FALSE))=TRUE,\"\",HLOOKUP($BS6,補助!$AW$2:$BE$9,8,FALSE))","v":""},{"$f":"IF(ISERROR(HLOOKUP($BT6,補助!$AW$2:$BE$9,8,FALSE))=TRUE,\"\",HLOOKUP($BT6,補助!$AW$2:$BE$9,8,FALSE))","v":""},{"$f":"IF(ISERROR(HLOOKUP($BU6,補助!$AW$2:$BE$9,8,FALSE))=TRUE,\"\",HLOOKUP($BU6,補助!$AW$2:$BE$9,8,FALSE))","v":""},{"$f":"IF(ISERROR(HLOOKUP($BV6,補助!$AW$2:$BE$9,8,FALSE))=TRUE,\"\",HLOOKUP($BV6,補助!$AW$2:$BE$9,8,FALSE))","v":""},{"$f":"IF(ISERROR(HLOOKUP($BW6,補助!$AW$2:$BE$9,8,FALSE))=TRUE,\"\",HLOOKUP($BW6,補助!$AW$2:$BE$9,8,FALSE))","v":7},{"$f":"IF(ISERROR(HLOOKUP($BX6,補助!$AW$2:$BE$9,8,FALSE))=TRUE,\"\",HLOOKUP($BX6,補助!$AW$2:$BE$9,8,FALSE))","v":8},{"$f":"IF(ISERROR(HLOOKUP($BY6,補助!$AW$2:$BE$9,8,FALSE))=TRUE,\"\",HLOOKUP($BY6,補助!$AW$2:$BE$9,8,FALSE))","v":9},{"$f":"IF(ISERROR(HLOOKUP($BZ6,補助!$AW$2:$BE$9,8,FALSE))=TRUE,\"\",HLOOKUP($BZ6,補助!$AW$2:$BE$9,8,FALSE))","v":6},"789"]
[null,null,null,null,null,null,null,null,null,null,null,null,null,null,null,null,null,null,null,null,null,null,null,null,null,null,null,null,null,null,null,null,null,null,null,null,null,null,null,null,null,null,null,null,null,null,null,null,null,null,null,null,null,null,null,null,null,null,null,null,null,null,null,null,null,null,null,null,null,null,null,{"$error":"#VALUE!"},"B4",null,{"$f":"IF(ISERROR(HLOOKUP($BP7,補助!$AW$2:$BE$9,8,FALSE))=TRUE,\"\",HLOOKUP($BP7,補助!$AW$2:$BE$9,8,FALSE))","v":""},{"$f":"IF(ISERROR(HLOOKUP($BQ7,補助!$AW$2:$BE$9,8,FALSE))=TRUE,\"\",HLOOKUP($BQ7,補助!$AW$2:$BE$9,8,FALSE))","v":""},{"$f":"IF(ISERROR(HLOOKUP($BR7,補助!$AW$2:$BE$9,8,FALSE))=TRUE,\"\",HLOOKUP($BR7,補助!$AW$2:$BE$9,8,FALSE))","v":""},{"$f":"IF(ISERROR(HLOOKUP($BS7,補助!$AW$2:$BE$9,8,FALSE))=TRUE,\"\",HLOOKUP($BS7,補助!$AW$2:$BE$9,8,FALSE))","v":""},{"$f":"IF(ISERROR(HLOOKUP($BT7,補助!$AW$2:$BE$9,8,FALSE))=TRUE,\"\",HLOOKUP($BT7,補助!$AW$2:$BE$9,8,FALSE))","v":""},{"$f":"IF(ISERROR(HLOOKUP($BU7,補助!$AW$2:$BE$9,8,FALSE))=TRUE,\"\",HLOOKUP($BU7,補助!$AW$2:$BE$9,8,FALSE))","v":""},{"$f":"IF(ISERROR(HLOOKUP($BV7,補助!$AW$2:$BE$9,8,FALSE))=TRUE,\"\",HLOOKUP($BV7,補助!$AW$2:$BE$9,8,FALSE))","v":""},{"$f":"IF(ISERROR(HLOOKUP($BW7,補助!$AW$2:$BE$9,8,FALSE))=TRUE,\"\",HLOOKUP($BW7,補助!$AW$2:$BE$9,8,FALSE))","v":7},{"$f":"IF(ISERROR(HLOOKUP($BX7,補助!$AW$2:$BE$9,8,FALSE))=TRUE,\"\",HLOOKUP($BX7,補助!$AW$2:$BE$9,8,FALSE))","v":8},{"$f":"IF(ISERROR(HLOOKUP($BY7,補助!$AW$2:$BE$9,8,FALSE))=TRUE,\"\",HLOOKUP($BY7,補助!$AW$2:$BE$9,8,FALSE))","v":9},{"$f":"IF(ISERROR(HLOOKUP($BZ7,補助!$AW$2:$BE$9,8,FALSE))=TRUE,\"\",HLOOKUP($BZ7,補助!$AW$2:$BE$9,8,FALSE))","v":1},"789"]
[null,null,null,null,null,null,null,null,null,null,null,null,null,null,null,null,null,null,null,null,null,null,null,null,null,null,null,null,null,null,null,null,null,null,null,null,null,null,null,null,null,null,null,null,null,null,null,null,null,null,null,null,null,null,null,null,null,null,null,null,null,null,null,null,null,null,null,null,null,null,null,{"$error":"#VALUE!"},"B4",null,{"$f":"IF(ISERROR(HLOOKUP($BP8,補助!$AW$2:$BE$9,8,FALSE))=TRUE,\"\",HLOOKUP($BP8,補助!$AW$2:$BE$9,8,FALSE))","v":""},{"$f":"IF(ISERROR(HLOOKUP($BQ8,補助!$AW$2:$BE$9,8,FALSE))=TRUE,\"\",HLOOKUP($BQ8,補助!$AW$2:$BE$9,8,FALSE))","v":""},{"$f":"IF(ISERROR(HLOOKUP($BR8,補助!$AW$2:$BE$9,8,FALSE))=TRUE,\"\",HLOOKUP($BR8,補助!$AW$2:$BE$9,8,FALSE))","v":""},{"$f":"IF(ISERROR(HLOOKUP($BS8,補助!$AW$2:$BE$9,8,FALSE))=TRUE,\"\",HLOOKUP($BS8,補助!$AW$2:$BE$9,8,FALSE))","v":""},{"$f":"IF(ISERROR(HLOOKUP($BT8,補助!$AW$2:$BE$9,8,FALSE))=TRUE,\"\",HLOOKUP($BT8,補助!$AW$2:$BE$9,8,FALSE))","v":""},{"$f":"IF(ISERROR(HLOOKUP($BU8,補助!$AW$2:$BE$9,8,FALSE))=TRUE,\"\",HLOOKUP($BU8,補助!$AW$2:$BE$9,8,FALSE))","v":""},{"$f":"IF(ISERROR(HLOOKUP($BV8,補助!$AW$2:$BE$9,8,FALSE))=TRUE,\"\",HLOOKUP($BV8,補助!$AW$2:$BE$9,8,FALSE))","v":""},{"$f":"IF(ISERROR(HLOOKUP($BW8,補助!$AW$2:$BE$9,8,FALSE))=TRUE,\"\",HLOOKUP($BW8,補助!$AW$2:$BE$9,8,FALSE))","v":7},{"$f":"IF(ISERROR(HLOOKUP($BX8,補助!$AW$2:$BE$9,8,FALSE))=TRUE,\"\",HLOOKUP($BX8,補助!$AW$2:$BE$9,8,FALSE))","v":8},{"$f":"IF(ISERROR(HLOOKUP($BY8,補助!$AW$2:$BE$9,8,FALSE))=TRUE,\"\",HLOOKUP($BY8,補助!$AW$2:$BE$9,8,FALSE))","v":9},{"$f":"IF(ISERROR(HLOOKUP($BZ8,補助!$AW$2:$BE$9,8,FALSE))=TRUE,\"\",HLOOKUP($BZ8,補助!$AW$2:$BE$9,8,FALSE))","v":2},"789"]
[null,null,null,null,null,null,null,null,null,null,null,null,null,null,null,null,null,null,null,null,null,null,null,null,null,null,null,null,null,null,null,null,null,null,null,null,null,null,null,null,null,null,null,null,null,null,null,null,null,null,null,null,null,null,null,null,null,null,null,null,null,null,null,null,null,null,null,null,null,null,null,{"$error":"#VALUE!"},"B4",null,{"$f":"IF(ISERROR(HLOOKUP($BP9,補助!$AW$2:$BE$9,8,FALSE))=TRUE,\"\",HLOOKUP($BP9,補助!$AW$2:$BE$9,8,FALSE))","v":""},{"$f":"IF(ISERROR(HLOOKUP($BQ9,補助!$AW$2:$BE$9,8,FALSE))=TRUE,\"\",HLOOKUP($BQ9,補助!$AW$2:$BE$9,8,FALSE))","v":""},{"$f":"IF(ISERROR(HLOOKUP($BR9,補助!$AW$2:$BE$9,8,FALSE))=TRUE,\"\",HLOOKUP($BR9,補助!$AW$2:$BE$9,8,FALSE))","v":""},{"$f":"IF(ISERROR(HLOOKUP($BS9,補助!$AW$2:$BE$9,8,FALSE))=TRUE,\"\",HLOOKUP($BS9,補助!$AW$2:$BE$9,8,FALSE))","v":""},{"$f":"IF(ISERROR(HLOOKUP($BT9,補助!$AW$2:$BE$9,8,FALSE))=TRUE,\"\",HLOOKUP($BT9,補助!$AW$2:$BE$9,8,FALSE))","v":""},{"$f":"IF(ISERROR(HLOOKUP($BU9,補助!$AW$2:$BE$9,8,FALSE))=TRUE,\"\",HLOOKUP($BU9,補助!$AW$2:$BE$9,8,FALSE))","v":""},{"$f":"IF(ISERROR(HLOOKUP($BV9,補助!$AW$2:$BE$9,8,FALSE))=TRUE,\"\",HLOOKUP($BV9,補助!$AW$2:$BE$9,8,FALSE))","v":""},{"$f":"IF(ISERROR(HLOOKUP($BW9,補助!$AW$2:$BE$9,8,FALSE))=TRUE,\"\",HLOOKUP($BW9,補助!$AW$2:$BE$9,8,FALSE))","v":7},{"$f":"IF(ISERROR(HLOOKUP($BX9,補助!$AW$2:$BE$9,8,FALSE))=TRUE,\"\",HLOOKUP($BX9,補助!$AW$2:$BE$9,8,FALSE))","v":8},{"$f":"IF(ISERROR(HLOOKUP($BY9,補助!$AW$2:$BE$9,8,FALSE))=TRUE,\"\",HLOOKUP($BY9,補助!$AW$2:$BE$9,8,FALSE))","v":9},{"$f":"IF(ISERROR(HLOOKUP($BZ9,補助!$AW$2:$BE$9,8,FALSE))=TRUE,\"\",HLOOKUP($BZ9,補助!$AW$2:$BE$9,8,FALSE))","v":3},"789"]
[null,null,null,null,null,null,null,null,null,null,null,null,null,null,null,null,null,null,null,null,null,null,null,null,null,null,null,null,null,null,null,null,null,null,null,null,null,null,null,null,null,null,null,null,null,null,null,null,null,null,null,null,null,null,null,null,null,null,null,null,null,null,null,null,null,null,null,null,null,null,null,{"$error":"#VALUE!"},"B4",null,{"$f":"IF(ISERROR(HLOOKUP($BP10,補助!$AW$2:$BE$9,8,FALSE))=TRUE,\"\",HLOOKUP($BP10,補助!$AW$2:$BE$9,8,FALSE))","v":""},{"$f":"IF(ISERROR(HLOOKUP($BQ10,補助!$AW$2:$BE$9,8,FALSE))=TRUE,\"\",HLOOKUP($BQ10,補助!$AW$2:$BE$9,8,FALSE))","v":""},{"$f":"IF(ISERROR(HLOOKUP($BR10,補助!$AW$2:$BE$9,8,FALSE))=TRUE,\"\",HLOOKUP($BR10,補助!$AW$2:$BE$9,8,FALSE))","v":""},{"$f":"IF(ISERROR(HLOOKUP($BS10,補助!$AW$2:$BE$9,8,FALSE))=TRUE,\"\",HLOOKUP($BS10,補助!$AW$2:$BE$9,8,FALSE))","v":""},{"$f":"IF(ISERROR(HLOOKUP($BT10,補助!$AW$2:$BE$9,8,FALSE))=TRUE,\"\",HLOOKUP($BT10,補助!$AW$2:$BE$9,8,FALSE))","v":""},{"$f":"IF(ISERROR(HLOOKUP($BU10,補助!$AW$2:$BE$9,8,FALSE))=TRUE,\"\",HLOOKUP($BU10,補助!$AW$2:$BE$9,8,FALSE))","v":""},{"$f":"IF(ISERROR(HLOOKUP($BV10,補助!$AW$2:$BE$9,8,FALSE))=TRUE,\"\",HLOOKUP($BV10,補助!$AW$2:$BE$9,8,FALSE))","v":""},{"$f":"IF(ISERROR(HLOOKUP($BW10,補助!$AW$2:$BE$9,8,FALSE))=TRUE,\"\",HLOOKUP($BW10,補助!$AW$2:$BE$9,8,FALSE))","v":7},{"$f":"IF(ISERROR(HLOOKUP($BX10,補助!$AW$2:$BE$9,8,FALSE))=TRUE,\"\",HLOOKUP($BX10,補助!$AW$2:$BE$9,8,FALSE))","v":8},{"$f":"IF(ISERROR(HLOOKUP($BY10,補助!$AW$2:$BE$9,8,FALSE))=TRUE,\"\",HLOOKUP($BY10,補助!$AW$2:$BE$9,8,FALSE))","v":6},{"$f":"IF(ISERROR(HLOOKUP($BZ10,補助!$AW$2:$BE$9,8,FALSE))=TRUE,\"\",HLOOKUP($BZ10,補助!$AW$2:$BE$9,8,FALSE))","v":9},"786"]
[null,null,null,null,null,null,null,null,null,null,null,null,null,null,null,null,null,null,null,null,null,null,null,null,null,null,null,null,null,null,null,null,null,null,null,null,null,null,null,null,null,null,null,null,null,null,null,null,null,null,null,null,null,null,null,null,null,null,null,null,null,null,null,null,null,null,null,null,null,null,null,{"$error":"#VALUE!"},"B4",null,{"$f":"IF(ISERROR(HLOOKUP($BP11,補助!$AW$2:$BE$9,8,FALSE))=TRUE,\"\",HLOOKUP($BP11,補助!$AW$2:$BE$9,8,FALSE))","v":""},{"$f":"IF(ISERROR(HLOOKUP($BQ11,補助!$AW$2:$BE$9,8,FALSE))=TRUE,\"\",HLOOKUP($BQ11,補助!$AW$2:$BE$9,8,FALSE))","v":""},{"$f":"IF(ISERROR(HLOOKUP($BR11,補助!$AW$2:$BE$9,8,FALSE))=TRUE,\"\",HLOOKUP($BR11,補助!$AW$2:$BE$9,8,FALSE))","v":""},{"$f":"IF(ISERROR(HLOOKUP($BS11,補助!$AW$2:$BE$9,8,FALSE))=TRUE,\"\",HLOOKUP($BS11,補助!$AW$2:$BE$9,8,FALSE))","v":""},{"$f":"IF(ISERROR(HLOOKUP($BT11,補助!$AW$2:$BE$9,8,FALSE))=TRUE,\"\",HLOOKUP($BT11,補助!$AW$2:$BE$9,8,FALSE))","v":""},{"$f":"IF(ISERROR(HLOOKUP($BU11,補助!$AW$2:$BE$9,8,FALSE))=TRUE,\"\",HLOOKUP($BU11,補助!$AW$2:$BE$9,8,FALSE))","v":""},{"$f":"IF(ISERROR(HLOOKUP($BV11,補助!$AW$2:$BE$9,8,FALSE))=TRUE,\"\",HLOOKUP($BV11,補助!$AW$2:$BE$9,8,FALSE))","v":""},{"$f":"IF(ISERROR(HLOOKUP($BW11,補助!$AW$2:$BE$9,8,FALSE))=TRUE,\"\",HLOOKUP($BW11,補助!$AW$2:$BE$9,8,FALSE))","v":7},{"$f":"IF(ISERROR(HLOOKUP($BX11,補助!$AW$2:$BE$9,8,FALSE))=TRUE,\"\",HLOOKUP($BX11,補助!$AW$2:$BE$9,8,FALSE))","v":8},{"$f":"IF(ISERROR(HLOOKUP($BY11,補助!$AW$2:$BE$9,8,FALSE))=TRUE,\"\",HLOOKUP($BY11,補助!$AW$2:$BE$9,8,FALSE))","v":6},{"$f":"IF(ISERROR(HLOOKUP($BZ11,補助!$AW$2:$BE$9,8,FALSE))=TRUE,\"\",HLOOKUP($BZ11,補助!$AW$2:$BE$9,8,FALSE))","v":4},"786"]
[null,null,null,null,null,null,null,null,null,null,null,null,null,null,null,null,null,null,null,null,null,null,null,null,null,null,null,null,null,null,null,null,null,null,null,null,null,null,null,null,null,null,null,null,null,null,null,null,null,null,null,null,null,null,null,null,null,null,null,null,null,null,null,null,null,null,null,null,null,null,null,{"$error":"#VALUE!"},"B4",null,{"$f":"IF(ISERROR(HLOOKUP($BP12,補助!$AW$2:$BE$9,8,FALSE))=TRUE,\"\",HLOOKUP($BP12,補助!$AW$2:$BE$9,8,FALSE))","v":""},{"$f":"IF(ISERROR(HLOOKUP($BQ12,補助!$AW$2:$BE$9,8,FALSE))=TRUE,\"\",HLOOKUP($BQ12,補助!$AW$2:$BE$9,8,FALSE))","v":""},{"$f":"IF(ISERROR(HLOOKUP($BR12,補助!$AW$2:$BE$9,8,FALSE))=TRUE,\"\",HLOOKUP($BR12,補助!$AW$2:$BE$9,8,FALSE))","v":""},{"$f":"IF(ISERROR(HLOOKUP($BS12,補助!$AW$2:$BE$9,8,FALSE))=TRUE,\"\",HLOOKUP($BS12,補助!$AW$2:$BE$9,8,FALSE))","v":""},{"$f":"IF(ISERROR(HLOOKUP($BT12,補助!$AW$2:$BE$9,8,FALSE))=TRUE,\"\",HLOOKUP($BT12,補助!$AW$2:$BE$9,8,FALSE))","v":""},{"$f":"IF(ISERROR(HLOOKUP($BU12,補助!$AW$2:$BE$9,8,FALSE))=TRUE,\"\",HLOOKUP($BU12,補助!$AW$2:$BE$9,8,FALSE))","v":""},{"$f":"IF(ISERROR(HLOOKUP($BV12,補助!$AW$2:$BE$9,8,FALSE))=TRUE,\"\",HLOOKUP($BV12,補助!$AW$2:$BE$9,8,FALSE))","v":""},{"$f":"IF(ISERROR(HLOOKUP($BW12,補助!$AW$2:$BE$9,8,FALSE))=TRUE,\"\",HLOOKUP($BW12,補助!$AW$2:$BE$9,8,FALSE))","v":7},{"$f":"IF(ISERROR(HLOOKUP($BX12,補助!$AW$2:$BE$9,8,FALSE))=TRUE,\"\",HLOOKUP($BX12,補助!$AW$2:$BE$9,8,FALSE))","v":8},{"$f":"IF(ISERROR(HLOOKUP($BY12,補助!$AW$2:$BE$9,8,FALSE))=TRUE,\"\",HLOOKUP($BY12,補助!$AW$2:$BE$9,8,FALSE))","v":6},{"$f":"IF(ISERROR(HLOOKUP($BZ12,補助!$AW$2:$BE$9,8,FALSE))=TRUE,\"\",HLOOKUP($BZ12,補助!$AW$2:$BE$9,8,FALSE))","v":1},"786"]
[null,null,null,null,null,null,null,null,null,null,null,null,null,null,null,null,null,null,null,null,null,null,null,null,null,null,null,null,null,null,null,null,null,null,null,null,null,null,null,null,null,null,null,null,null,null,null,null,null,null,null,null,null,null,null,null,null,null,null,null,null,null,null,null,null,null,null,null,null,null,null,{"$error":"#VALUE!"},"B4",null,{"$f":"IF(ISERROR(HLOOKUP($BP13,補助!$AW$2:$BE$9,8,FALSE))=TRUE,\"\",HLOOKUP($BP13,補助!$AW$2:$BE$9,8,FALSE))","v":""},{"$f":"IF(ISERROR(HLOOKUP($BQ13,補助!$AW$2:$BE$9,8,FALSE))=TRUE,\"\",HLOOKUP($BQ13,補助!$AW$2:$BE$9,8,FALSE))","v":""},{"$f":"IF(ISERROR(HLOOKUP($BR13,補助!$AW$2:$BE$9,8,FALSE))=TRUE,\"\",HLOOKUP($BR13,補助!$AW$2:$BE$9,8,FALSE))","v":""},{"$f":"IF(ISERROR(HLOOKUP($BS13,補助!$AW$2:$BE$9,8,FALSE))=TRUE,\"\",HLOOKUP($BS13,補助!$AW$2:$BE$9,8,FALSE))","v":""},{"$f":"IF(ISERROR(HLOOKUP($BT13,補助!$AW$2:$BE$9,8,FALSE))=TRUE,\"\",HLOOKUP($BT13,補助!$AW$2:$BE$9,8,FALSE))","v":""},{"$f":"IF(ISERROR(HLOOKUP($BU13,補助!$AW$2:$BE$9,8,FALSE))=TRUE,\"\",HLOOKUP($BU13,補助!$AW$2:$BE$9,8,FALSE))","v":""},{"$f":"IF(ISERROR(HLOOKUP($BV13,補助!$AW$2:$BE$9,8,FALSE))=TRUE,\"\",HLOOKUP($BV13,補助!$AW$2:$BE$9,8,FALSE))","v":""},{"$f":"IF(ISERROR(HLOOKUP($BW13,補助!$AW$2:$BE$9,8,FALSE))=TRUE,\"\",HLOOKUP($BW13,補助!$AW$2:$BE$9,8,FALSE))","v":7},{"$f":"IF(ISERROR(HLOOKUP($BX13,補助!$AW$2:$BE$9,8,FALSE))=TRUE,\"\",HLOOKUP($BX13,補助!$AW$2:$BE$9,8,FALSE))","v":8},{"$f":"IF(ISERROR(HLOOKUP($BY13,補助!$AW$2:$BE$9,8,FALSE))=TRUE,\"\",HLOOKUP($BY13,補助!$AW$2:$BE$9,8,FALSE))","v":6},{"$f":"IF(ISERROR(HLOOKUP($BZ13,補助!$AW$2:$BE$9,8,FALSE))=TRUE,\"\",HLOOKUP($BZ13,補助!$AW$2:$BE$9,8,FALSE))","v":2},"786"]
[null,null,null,null,null,null,null,null,null,null,null,null,null,null,null,null,null,null,null,null,null,null,null,null,null,null,null,null,null,null,null,null,null,null,null,null,null,null,null,null,null,null,null,null,null,null,null,null,null,null,null,null,null,null,null,null,null,null,null,null,null,null,null,null,null,null,null,null,null,null,null,{"$error":"#VALUE!"},"B4",null,{"$f":"IF(ISERROR(HLOOKUP($BP14,補助!$AW$2:$BE$9,8,FALSE))=TRUE,\"\",HLOOKUP($BP14,補助!$AW$2:$BE$9,8,FALSE))","v":""},{"$f":"IF(ISERROR(HLOOKUP($BQ14,補助!$AW$2:$BE$9,8,FALSE))=TRUE,\"\",HLOOKUP($BQ14,補助!$AW$2:$BE$9,8,FALSE))","v":""},{"$f":"IF(ISERROR(HLOOKUP($BR14,補助!$AW$2:$BE$9,8,FALSE))=TRUE,\"\",HLOOKUP($BR14,補助!$AW$2:$BE$9,8,FALSE))","v":""},{"$f":"IF(ISERROR(HLOOKUP($BS14,補助!$AW$2:$BE$9,8,FALSE))=TRUE,\"\",HLOOKUP($BS14,補助!$AW$2:$BE$9,8,FALSE))","v":""},{"$f":"IF(ISERROR(HLOOKUP($BT14,補助!$AW$2:$BE$9,8,FALSE))=TRUE,\"\",HLOOKUP($BT14,補助!$AW$2:$BE$9,8,FALSE))","v":""},{"$f":"IF(ISERROR(HLOOKUP($BU14,補助!$AW$2:$BE$9,8,FALSE))=TRUE,\"\",HLOOKUP($BU14,補助!$AW$2:$BE$9,8,FALSE))","v":""},{"$f":"IF(ISERROR(HLOOKUP($BV14,補助!$AW$2:$BE$9,8,FALSE))=TRUE,\"\",HLOOKUP($BV14,補助!$AW$2:$BE$9,8,FALSE))","v":""},{"$f":"IF(ISERROR(HLOOKUP($BW14,補助!$AW$2:$BE$9,8,FALSE))=TRUE,\"\",HLOOKUP($BW14,補助!$AW$2:$BE$9,8,FALSE))","v":7},{"$f":"IF(ISERROR(HLOOKUP($BX14,補助!$AW$2:$BE$9,8,FALSE))=TRUE,\"\",HLOOKUP($BX14,補助!$AW$2:$BE$9,8,FALSE))","v":8},{"$f":"IF(ISERROR(HLOOKUP($BY14,補助!$AW$2:$BE$9,8,FALSE))=TRUE,\"\",HLOOKUP($BY14,補助!$AW$2:$BE$9,8,FALSE))","v":6},{"$f":"IF(ISERROR(HLOOKUP($BZ14,補助!$AW$2:$BE$9,8,FALSE))=TRUE,\"\",HLOOKUP($BZ14,補助!$AW$2:$BE$9,8,FALSE))","v":3},"786"]
[null,null,null,null,null,null,null,null,null,null,null,null,null,null,null,null,null,null,null,null,null,null,null,null,null,null,null,null,null,null,null,null,null,null,null,null,null,null,null,null,null,null,null,null,null,null,null,null,null,null,null,null,null,null,null,null,null,null,null,null,null,null,null,null,null,null,null,null,null,null,null,{"$error":"#VALUE!"},"B4","白",{"$f":"IF(ISERROR(HLOOKUP($BP15,補助!$AW$2:$BE$9,8,FALSE))=TRUE,\"\",HLOOKUP($BP15,補助!$AW$2:$BE$9,8,FALSE))","v":""},{"$f":"IF(ISERROR(HLOOKUP($BQ15,補助!$AW$2:$BE$9,8,FALSE))=TRUE,\"\",HLOOKUP($BQ15,補助!$AW$2:$BE$9,8,FALSE))","v":""},{"$f":"IF(ISERROR(HLOOKUP($BR15,補助!$AW$2:$BE$9,8,FALSE))=TRUE,\"\",HLOOKUP($BR15,補助!$AW$2:$BE$9,8,FALSE))","v":""},{"$f":"IF(ISERROR(HLOOKUP($BS15,補助!$AW$2:$BE$9,8,FALSE))=TRUE,\"\",HLOOKUP($BS15,補助!$AW$2:$BE$9,8,FALSE))","v":""},{"$f":"IF(ISERROR(HLOOKUP($BT15,補助!$AW$2:$BE$9,8,FALSE))=TRUE,\"\",HLOOKUP($BT15,補助!$AW$2:$BE$9,8,FALSE))","v":""},{"$f":"IF(ISERROR(HLOOKUP($BU15,補助!$AW$2:$BE$9,8,FALSE))=TRUE,\"\",HLOOKUP($BU15,補助!$AW$2:$BE$9,8,FALSE))","v":""},{"$f":"IF(ISERROR(HLOOKUP($BV15,補助!$AW$2:$BE$9,8,FALSE))=TRUE,\"\",HLOOKUP($BV15,補助!$AW$2:$BE$9,8,FALSE))","v":""},{"$f":"IF(ISERROR(HLOOKUP($BW15,補助!$AW$2:$BE$9,8,FALSE))=TRUE,\"\",HLOOKUP($BW15,補助!$AW$2:$BE$9,8,FALSE))","v":7},{"$f":"IF(ISERROR(HLOOKUP($BX15,補助!$AW$2:$BE$9,8,FALSE))=TRUE,\"\",HLOOKUP($BX15,補助!$AW$2:$BE$9,8,FALSE))","v":8},{"$f":"IF(ISERROR(HLOOKUP($BY15,補助!$AW$2:$BE$9,8,FALSE))=TRUE,\"\",HLOOKUP($BY15,補助!$AW$2:$BE$9,8,FALSE))","v":6},{"$f":"IF(ISERROR(HLOOKUP($BZ15,補助!$AW$2:$BE$9,8,FALSE))=TRUE,\"\",HLOOKUP($BZ15,補助!$AW$2:$BE$9,8,FALSE))","v":5},"786"]
[null,null,null,null,null,null,null,null,null,null,null,null,null,null,null,null,null,null,null,null,null,null,null,null,null,null,null,null,null,null,null,null,null,null,null,null,null,null,null,null,null,null,null,null,null,null,null,null,null,null,null,null,null,null,null,null,null,null,null,null,null,null,null,null,null,null,null,null,null,null,null,{"$error":"#VALUE!"},"B4",null,{"$f":"IF(ISERROR(HLOOKUP($BP16,補助!$AW$2:$BE$9,8,FALSE))=TRUE,\"\",HLOOKUP($BP16,補助!$AW$2:$BE$9,8,FALSE))","v":""},{"$f":"IF(ISERROR(HLOOKUP($BQ16,補助!$AW$2:$BE$9,8,FALSE))=TRUE,\"\",HLOOKUP($BQ16,補助!$AW$2:$BE$9,8,FALSE))","v":""},{"$f":"IF(ISERROR(HLOOKUP($BR16,補助!$AW$2:$BE$9,8,FALSE))=TRUE,\"\",HLOOKUP($BR16,補助!$AW$2:$BE$9,8,FALSE))","v":""},{"$f":"IF(ISERROR(HLOOKUP($BS16,補助!$AW$2:$BE$9,8,FALSE))=TRUE,\"\",HLOOKUP($BS16,補助!$AW$2:$BE$9,8,FALSE))","v":""},{"$f":"IF(ISERROR(HLOOKUP($BT16,補助!$AW$2:$BE$9,8,FALSE))=TRUE,\"\",HLOOKUP($BT16,補助!$AW$2:$BE$9,8,FALSE))","v":""},{"$f":"IF(ISERROR(HLOOKUP($BU16,補助!$AW$2:$BE$9,8,FALSE))=TRUE,\"\",HLOOKUP($BU16,補助!$AW$2:$BE$9,8,FALSE))","v":""},{"$f":"IF(ISERROR(HLOOKUP($BV16,補助!$AW$2:$BE$9,8,FALSE))=TRUE,\"\",HLOOKUP($BV16,補助!$AW$2:$BE$9,8,FALSE))","v":""},{"$f":"IF(ISERROR(HLOOKUP($BW16,補助!$AW$2:$BE$9,8,FALSE))=TRUE,\"\",HLOOKUP($BW16,補助!$AW$2:$BE$9,8,FALSE))","v":7},{"$f":"IF(ISERROR(HLOOKUP($BX16,補助!$AW$2:$BE$9,8,FALSE))=TRUE,\"\",HLOOKUP($BX16,補助!$AW$2:$BE$9,8,FALSE))","v":8},{"$f":"IF(ISERROR(HLOOKUP($BY16,補助!$AW$2:$BE$9,8,FALSE))=TRUE,\"\",HLOOKUP($BY16,補助!$AW$2:$BE$9,8,FALSE))","v":2},{"$f":"IF(ISERROR(HLOOKUP($BZ16,補助!$AW$2:$BE$9,8,FALSE))=TRUE,\"\",HLOOKUP($BZ16,補助!$AW$2:$BE$9,8,FALSE))","v":9},"782"]
[null,null,null,null,null,null,null,null,null,null,null,null,null,null,null,null,null,null,null,null,null,null,null,null,null,null,null,null,null,null,null,null,null,null,null,null,null,null,null,null,null,null,null,null,null,null,null,null,null,null,null,null,null,null,null,null,null,null,null,null,null,null,null,null,null,null,null,null,null,null,null,{"$error":"#VALUE!"},"B4",null,{"$f":"IF(ISERROR(HLOOKUP($BP17,補助!$AW$2:$BE$9,8,FALSE))=TRUE,\"\",HLOOKUP($BP17,補助!$AW$2:$BE$9,8,FALSE))","v":""},{"$f":"IF(ISERROR(HLOOKUP($BQ17,補助!$AW$2:$BE$9,8,FALSE))=TRUE,\"\",HLOOKUP($BQ17,補助!$AW$2:$BE$9,8,FALSE))","v":""},{"$f":"IF(ISERROR(HLOOKUP($BR17,補助!$AW$2:$BE$9,8,FALSE))=TRUE,\"\",HLOOKUP($BR17,補助!$AW$2:$BE$9,8,FALSE))","v":""},{"$f":"IF(ISERROR(HLOOKUP($BS17,補助!$AW$2:$BE$9,8,FALSE))=TRUE,\"\",HLOOKUP($BS17,補助!$AW$2:$BE$9,8,FALSE))","v":""},{"$f":"IF(ISERROR(HLOOKUP($BT17,補助!$AW$2:$BE$9,8,FALSE))=TRUE,\"\",HLOOKUP($BT17,補助!$AW$2:$BE$9,8,FALSE))","v":""},{"$f":"IF(ISERROR(HLOOKUP($BU17,補助!$AW$2:$BE$9,8,FALSE))=TRUE,\"\",HLOOKUP($BU17,補助!$AW$2:$BE$9,8,FALSE))","v":""},{"$f":"IF(ISERROR(HLOOKUP($BV17,補助!$AW$2:$BE$9,8,FALSE))=TRUE,\"\",HLOOKUP($BV17,補助!$AW$2:$BE$9,8,FALSE))","v":""},{"$f":"IF(ISERROR(HLOOKUP($BW17,補助!$AW$2:$BE$9,8,FALSE))=TRUE,\"\",HLOOKUP($BW17,補助!$AW$2:$BE$9,8,FALSE))","v":7},{"$f":"IF(ISERROR(HLOOKUP($BX17,補助!$AW$2:$BE$9,8,FALSE))=TRUE,\"\",HLOOKUP($BX17,補助!$AW$2:$BE$9,8,FALSE))","v":8},{"$f":"IF(ISERROR(HLOOKUP($BY17,補助!$AW$2:$BE$9,8,FALSE))=TRUE,\"\",HLOOKUP($BY17,補助!$AW$2:$BE$9,8,FALSE))","v":2},{"$f":"IF(ISERROR(HLOOKUP($BZ17,補助!$AW$2:$BE$9,8,FALSE))=TRUE,\"\",HLOOKUP($BZ17,補助!$AW$2:$BE$9,8,FALSE))","v":4},"782"]
[null,null,null,null,null,null,null,null,null,null,null,null,null,null,null,null,null,null,null,null,null,null,null,null,null,null,null,null,null,null,null,null,null,null,null,null,null,null,null,null,null,null,null,null,null,null,null,null,null,null,null,null,null,null,null,null,null,null,null,null,null,null,null,null,null,null,null,null,null,null,null,{"$error":"#VALUE!"},"B4",null,{"$f":"IF(ISERROR(HLOOKUP($BP18,補助!$AW$2:$BE$9,8,FALSE))=TRUE,\"\",HLOOKUP($BP18,補助!$AW$2:$BE$9,8,FALSE))","v":""},{"$f":"IF(ISERROR(HLOOKUP($BQ18,補助!$AW$2:$BE$9,8,FALSE))=TRUE,\"\",HLOOKUP($BQ18,補助!$AW$2:$BE$9,8,FALSE))","v":""},{"$f":"IF(ISERROR(HLOOKUP($BR18,補助!$AW$2:$BE$9,8,FALSE))=TRUE,\"\",HLOOKUP($BR18,補助!$AW$2:$BE$9,8,FALSE))","v":""},{"$f":"IF(ISERROR(HLOOKUP($BS18,補助!$AW$2:$BE$9,8,FALSE))=TRUE,\"\",HLOOKUP($BS18,補助!$AW$2:$BE$9,8,FALSE))","v":""},{"$f":"IF(ISERROR(HLOOKUP($BT18,補助!$AW$2:$BE$9,8,FALSE))=TRUE,\"\",HLOOKUP($BT18,補助!$AW$2:$BE$9,8,FALSE))","v":""},{"$f":"IF(ISERROR(HLOOKUP($BU18,補助!$AW$2:$BE$9,8,FALSE))=TRUE,\"\",HLOOKUP($BU18,補助!$AW$2:$BE$9,8,FALSE))","v":""},{"$f":"IF(ISERROR(HLOOKUP($BV18,補助!$AW$2:$BE$9,8,FALSE))=TRUE,\"\",HLOOKUP($BV18,補助!$AW$2:$BE$9,8,FALSE))","v":""},{"$f":"IF(ISERROR(HLOOKUP($BW18,補助!$AW$2:$BE$9,8,FALSE))=TRUE,\"\",HLOOKUP($BW18,補助!$AW$2:$BE$9,8,FALSE))","v":7},{"$f":"IF(ISERROR(HLOOKUP($BX18,補助!$AW$2:$BE$9,8,FALSE))=TRUE,\"\",HLOOKUP($BX18,補助!$AW$2:$BE$9,8,FALSE))","v":8},{"$f":"IF(ISERROR(HLOOKUP($BY18,補助!$AW$2:$BE$9,8,FALSE))=TRUE,\"\",HLOOKUP($BY18,補助!$AW$2:$BE$9,8,FALSE))","v":2},{"$f":"IF(ISERROR(HLOOKUP($BZ18,補助!$AW$2:$BE$9,8,FALSE))=TRUE,\"\",HLOOKUP($BZ18,補助!$AW$2:$BE$9,8,FALSE))","v":5},"782"]
[null,null,null,null,null,null,null,null,null,null,null,null,null,null,null,null,null,null,null,null,null,null,null,null,null,null,null,null,null,null,null,null,null,null,null,null,null,null,null,null,null,null,null,null,null,null,null,null,null,null,null,null,null,null,null,null,null,null,null,null,null,null,null,null,null,null,null,null,null,null,null,{"$error":"#VALUE!"},"B4",null,{"$f":"IF(ISERROR(HLOOKUP($BP19,補助!$AW$2:$BE$9,8,FALSE))=TRUE,\"\",HLOOKUP($BP19,補助!$AW$2:$BE$9,8,FALSE))","v":""},{"$f":"IF(ISERROR(HLOOKUP($BQ19,補助!$AW$2:$BE$9,8,FALSE))=TRUE,\"\",HLOOKUP($BQ19,補助!$AW$2:$BE$9,8,FALSE))","v":""},{"$f":"IF(ISERROR(HLOOKUP($BR19,補助!$AW$2:$BE$9,8,FALSE))=TRUE,\"\",HLOOKUP($BR19,補助!$AW$2:$BE$9,8,FALSE))","v":""},{"$f":"IF(ISERROR(HLOOKUP($BS19,補助!$AW$2:$BE$9,8,FALSE))=TRUE,\"\",HLOOKUP($BS19,補助!$AW$2:$BE$9,8,FALSE))","v":""},{"$f":"IF(ISERROR(HLOOKUP($BT19,補助!$AW$2:$BE$9,8,FALSE))=TRUE,\"\",HLOOKUP($BT19,補助!$AW$2:$BE$9,8,FALSE))","v":""},{"$f":"IF(ISERROR(HLOOKUP($BU19,補助!$AW$2:$BE$9,8,FALSE))=TRUE,\"\",HLOOKUP($BU19,補助!$AW$2:$BE$9,8,FALSE))","v":""},{"$f":"IF(ISERROR(HLOOKUP($BV19,補助!$AW$2:$BE$9,8,FALSE))=TRUE,\"\",HLOOKUP($BV19,補助!$AW$2:$BE$9,8,FALSE))","v":""},{"$f":"IF(ISERROR(HLOOKUP($BW19,補助!$AW$2:$BE$9,8,FALSE))=TRUE,\"\",HLOOKUP($BW19,補助!$AW$2:$BE$9,8,FALSE))","v":7},{"$f":"IF(ISERROR(HLOOKUP($BX19,補助!$AW$2:$BE$9,8,FALSE))=TRUE,\"\",HLOOKUP($BX19,補助!$AW$2:$BE$9,8,FALSE))","v":8},{"$f":"IF(ISERROR(HLOOKUP($BY19,補助!$AW$2:$BE$9,8,FALSE))=TRUE,\"\",HLOOKUP($BY19,補助!$AW$2:$BE$9,8,FALSE))","v":2},{"$f":"IF(ISERROR(HLOOKUP($BZ19,補助!$AW$2:$BE$9,8,FALSE))=TRUE,\"\",HLOOKUP($BZ19,補助!$AW$2:$BE$9,8,FALSE))","v":6},"782"]
[null,null,null,null,null,null,null,null,null,null,null,null,null,null,null,null,null,null,null,null,null,null,null,null,null,null,null,null,null,null,null,null,null,null,null,null,null,null,null,null,null,null,null,null,null,null,null,null,null,null,null,null,null,null,null,null,null,null,null,null,null,null,null,null,null,null,null,null,null,null,null,{"$error":"#VALUE!"},"B4",null,{"$f":"IF(ISERROR(HLOOKUP($BP20,補助!$AW$2:$BE$9,8,FALSE))=TRUE,\"\",HLOOKUP($BP20,補助!$AW$2:$BE$9,8,FALSE))","v":""},{"$f":"IF(ISERROR(HLOOKUP($BQ20,補助!$AW$2:$BE$9,8,FALSE))=TRUE,\"\",HLOOKUP($BQ20,補助!$AW$2:$BE$9,8,FALSE))","v":""},{"$f":"IF(ISERROR(HLOOKUP($BR20,補助!$AW$2:$BE$9,8,FALSE))=TRUE,\"\",HLOOKUP($BR20,補助!$AW$2:$BE$9,8,FALSE))","v":""},{"$f":"IF(ISERROR(HLOOKUP($BS20,補助!$AW$2:$BE$9,8,FALSE))=TRUE,\"\",HLOOKUP($BS20,補助!$AW$2:$BE$9,8,FALSE))","v":""},{"$f":"IF(ISERROR(HLOOKUP($BT20,補助!$AW$2:$BE$9,8,FALSE))=TRUE,\"\",HLOOKUP($BT20,補助!$AW$2:$BE$9,8,FALSE))","v":""},{"$f":"IF(ISERROR(HLOOKUP($BU20,補助!$AW$2:$BE$9,8,FALSE))=TRUE,\"\",HLOOKUP($BU20,補助!$AW$2:$BE$9,8,FALSE))","v":""},{"$f":"IF(ISERROR(HLOOKUP($BV20,補助!$AW$2:$BE$9,8,FALSE))=TRUE,\"\",HLOOKUP($BV20,補助!$AW$2:$BE$9,8,FALSE))","v":""},{"$f":"IF(ISERROR(HLOOKUP($BW20,補助!$AW$2:$BE$9,8,FALSE))=TRUE,\"\",HLOOKUP($BW20,補助!$AW$2:$BE$9,8,FALSE))","v":7},{"$f":"IF(ISERROR(HLOOKUP($BX20,補助!$AW$2:$BE$9,8,FALSE))=TRUE,\"\",HLOOKUP($BX20,補助!$AW$2:$BE$9,8,FALSE))","v":8},{"$f":"IF(ISERROR(HLOOKUP($BY20,補助!$AW$2:$BE$9,8,FALSE))=TRUE,\"\",HLOOKUP($BY20,補助!$AW$2:$BE$9,8,FALSE))","v":2},{"$f":"IF(ISERROR(HLOOKUP($BZ20,補助!$AW$2:$BE$9,8,FALSE))=TRUE,\"\",HLOOKUP($BZ20,補助!$AW$2:$BE$9,8,FALSE))","v":3},"782"]
[null,null,null,null,null,null,null,null,null,null,null,null,null,null,null,null,null,null,null,null,null,null,null,null,null,null,null,null,null,null,null,null,null,null,null,null,null,null,null,null,null,null,null,null,null,null,null,null,null,null,null,null,null,null,null,null,null,null,null,null,null,null,null,null,null,null,null,null,null,null,null,{"$error":"#VALUE!"},"B4",null,{"$f":"IF(ISERROR(HLOOKUP($BP21,補助!$AW$2:$BE$9,8,FALSE))=TRUE,\"\",HLOOKUP($BP21,補助!$AW$2:$BE$9,8,FALSE))","v":""},{"$f":"IF(ISERROR(HLOOKUP($BQ21,補助!$AW$2:$BE$9,8,FALSE))=TRUE,\"\",HLOOKUP($BQ21,補助!$AW$2:$BE$9,8,FALSE))","v":""},{"$f":"IF(ISERROR(HLOOKUP($BR21,補助!$AW$2:$BE$9,8,FALSE))=TRUE,\"\",HLOOKUP($BR21,補助!$AW$2:$BE$9,8,FALSE))","v":""},{"$f":"IF(ISERROR(HLOOKUP($BS21,補助!$AW$2:$BE$9,8,FALSE))=TRUE,\"\",HLOOKUP($BS21,補助!$AW$2:$BE$9,8,FALSE))","v":""},{"$f":"IF(ISERROR(HLOOKUP($BT21,補助!$AW$2:$BE$9,8,FALSE))=TRUE,\"\",HLOOKUP($BT21,補助!$AW$2:$BE$9,8,FALSE))","v":""},{"$f":"IF(ISERROR(HLOOKUP($BU21,補助!$AW$2:$BE$9,8,FALSE))=TRUE,\"\",HLOOKUP($BU21,補助!$AW$2:$BE$9,8,FALSE))","v":""},{"$f":"IF(ISERROR(HLOOKUP($BV21,補助!$AW$2:$BE$9,8,FALSE))=TRUE,\"\",HLOOKUP($BV21,補助!$AW$2:$BE$9,8,FALSE))","v":""},{"$f":"IF(ISERROR(HLOOKUP($BW21,補助!$AW$2:$BE$9,8,FALSE))=TRUE,\"\",HLOOKUP($BW21,補助!$AW$2:$BE$9,8,FALSE))","v":7},{"$f":"IF(ISERROR(HLOOKUP($BX21,補助!$AW$2:$BE$9,8,FALSE))=TRUE,\"\",HLOOKUP($BX21,補助!$AW$2:$BE$9,8,FALSE))","v":8},{"$f":"IF(ISERROR(HLOOKUP($BY21,補助!$AW$2:$BE$9,8,FALSE))=TRUE,\"\",HLOOKUP($BY21,補助!$AW$2:$BE$9,8,FALSE))","v":2},{"$f":"IF(ISERROR(HLOOKUP($BZ21,補助!$AW$2:$BE$9,8,FALSE))=TRUE,\"\",HLOOKUP($BZ21,補助!$AW$2:$BE$9,8,FALSE))","v":3},"782"]
[null,null,null,null,null,null,null,null,null,null,null,null,null,null,null,null,null,null,null,null,null,null,null,null,null,null,null,null,null,null,null,null,null,null,null,null,null,null,null,null,null,null,null,null,null,null,null,null,null,null,null,null,null,null,null,null,null,null,null,null,null,null,null,null,null,null,null,null,null,null,null,{"$error":"#VALUE!"},"B4",null,{"$f":"IF(ISERROR(HLOOKUP($BP22,補助!$AW$2:$BE$9,8,FALSE))=TRUE,\"\",HLOOKUP($BP22,補助!$AW$2:$BE$9,8,FALSE))","v":""},{"$f":"IF(ISERROR(HLOOKUP($BQ22,補助!$AW$2:$BE$9,8,FALSE))=TRUE,\"\",HLOOKUP($BQ22,補助!$AW$2:$BE$9,8,FALSE))","v":""},{"$f":"IF(ISERROR(HLOOKUP($BR22,補助!$AW$2:$BE$9,8,FALSE))=TRUE,\"\",HLOOKUP($BR22,補助!$AW$2:$BE$9,8,FALSE))","v":""},{"$f":"IF(ISERROR(HLOOKUP($BS22,補助!$AW$2:$BE$9,8,FALSE))=TRUE,\"\",HLOOKUP($BS22,補助!$AW$2:$BE$9,8,FALSE))","v":""},{"$f":"IF(ISERROR(HLOOKUP($BT22,補助!$AW$2:$BE$9,8,FALSE))=TRUE,\"\",HLOOKUP($BT22,補助!$AW$2:$BE$9,8,FALSE))","v":""},{"$f":"IF(ISERROR(HLOOKUP($BU22,補助!$AW$2:$BE$9,8,FALSE))=TRUE,\"\",HLOOKUP($BU22,補助!$AW$2:$BE$9,8,FALSE))","v":""},{"$f":"IF(ISERROR(HLOOKUP($BV22,補助!$AW$2:$BE$9,8,FALSE))=TRUE,\"\",HLOOKUP($BV22,補助!$AW$2:$BE$9,8,FALSE))","v":""},{"$f":"IF(ISERROR(HLOOKUP($BW22,補助!$AW$2:$BE$9,8,FALSE))=TRUE,\"\",HLOOKUP($BW22,補助!$AW$2:$BE$9,8,FALSE))","v":7},{"$f":"IF(ISERROR(HLOOKUP($BX22,補助!$AW$2:$BE$9,8,FALSE))=TRUE,\"\",HLOOKUP($BX22,補助!$AW$2:$BE$9,8,FALSE))","v":9},{"$f":"IF(ISERROR(HLOOKUP($BY22,補助!$AW$2:$BE$9,8,FALSE))=TRUE,\"\",HLOOKUP($BY22,補助!$AW$2:$BE$9,8,FALSE))","v":4},{"$f":"IF(ISERROR(HLOOKUP($BZ22,補助!$AW$2:$BE$9,8,FALSE))=TRUE,\"\",HLOOKUP($BZ22,補助!$AW$2:$BE$9,8,FALSE))","v":""},"794"]
[null,null,null,null,null,null,null,null,null,null,null,null,null,null,null,null,null,null,null,null,null,null,null,null,null,null,null,null,null,null,null,null,null,null,null,null,null,null,null,null,null,null,null,null,null,null,null,null,null,null,null,null,null,null,null,null,null,null,null,null,null,null,null,null,null,null,null,null,null,null,null,{"$error":"#VALUE!"},"B4",null,{"$f":"IF(ISERROR(HLOOKUP($BP23,補助!$AW$2:$BE$9,8,FALSE))=TRUE,\"\",HLOOKUP($BP23,補助!$AW$2:$BE$9,8,FALSE))","v":""},{"$f":"IF(ISERROR(HLOOKUP($BQ23,補助!$AW$2:$BE$9,8,FALSE))=TRUE,\"\",HLOOKUP($BQ23,補助!$AW$2:$BE$9,8,FALSE))","v":""},{"$f":"IF(ISERROR(HLOOKUP($BR23,補助!$AW$2:$BE$9,8,FALSE))=TRUE,\"\",HLOOKUP($BR23,補助!$AW$2:$BE$9,8,FALSE))","v":""},{"$f":"IF(ISERROR(HLOOKUP($BS23,補助!$AW$2:$BE$9,8,FALSE))=TRUE,\"\",HLOOKUP($BS23,補助!$AW$2:$BE$9,8,FALSE))","v":""},{"$f":"IF(ISERROR(HLOOKUP($BT23,補助!$AW$2:$BE$9,8,FALSE))=TRUE,\"\",HLOOKUP($BT23,補助!$AW$2:$BE$9,8,FALSE))","v":""},{"$f":"IF(ISERROR(HLOOKUP($BU23,補助!$AW$2:$BE$9,8,FALSE))=TRUE,\"\",HLOOKUP($BU23,補助!$AW$2:$BE$9,8,FALSE))","v":""},{"$f":"IF(ISERROR(HLOOKUP($BV23,補助!$AW$2:$BE$9,8,FALSE))=TRUE,\"\",HLOOKUP($BV23,補助!$AW$2:$BE$9,8,FALSE))","v":""},{"$f":"IF(ISERROR(HLOOKUP($BW23,補助!$AW$2:$BE$9,8,FALSE))=TRUE,\"\",HLOOKUP($BW23,補助!$AW$2:$BE$9,8,FALSE))","v":7},{"$f":"IF(ISERROR(HLOOKUP($BX23,補助!$AW$2:$BE$9,8,FALSE))=TRUE,\"\",HLOOKUP($BX23,補助!$AW$2:$BE$9,8,FALSE))","v":9},{"$f":"IF(ISERROR(HLOOKUP($BY23,補助!$AW$2:$BE$9,8,FALSE))=TRUE,\"\",HLOOKUP($BY23,補助!$AW$2:$BE$9,8,FALSE))","v":1},{"$f":"IF(ISERROR(HLOOKUP($BZ23,補助!$AW$2:$BE$9,8,FALSE))=TRUE,\"\",HLOOKUP($BZ23,補助!$AW$2:$BE$9,8,FALSE))","v":""},"791"]
[null,null,null,null,null,null,null,null,null,null,null,null,null,null,null,null,null,null,null,null,null,null,null,null,null,null,null,null,null,null,null,null,null,null,null,null,null,null,null,null,null,null,null,null,null,null,null,null,null,null,null,null,null,null,null,null,null,null,null,null,null,null,null,null,null,null,null,null,null,null,null,{"$error":"#VALUE!"},"B4",null,{"$f":"IF(ISERROR(HLOOKUP($BP24,補助!$AW$2:$BE$9,8,FALSE))=TRUE,\"\",HLOOKUP($BP24,補助!$AW$2:$BE$9,8,FALSE))","v":""},{"$f":"IF(ISERROR(HLOOKUP($BQ24,補助!$AW$2:$BE$9,8,FALSE))=TRUE,\"\",HLOOKUP($BQ24,補助!$AW$2:$BE$9,8,FALSE))","v":""},{"$f":"IF(ISERROR(HLOOKUP($BR24,補助!$AW$2:$BE$9,8,FALSE))=TRUE,\"\",HLOOKUP($BR24,補助!$AW$2:$BE$9,8,FALSE))","v":""},{"$f":"IF(ISERROR(HLOOKUP($BS24,補助!$AW$2:$BE$9,8,FALSE))=TRUE,\"\",HLOOKUP($BS24,補助!$AW$2:$BE$9,8,FALSE))","v":""},{"$f":"IF(ISERROR(HLOOKUP($BT24,補助!$AW$2:$BE$9,8,FALSE))=TRUE,\"\",HLOOKUP($BT24,補助!$AW$2:$BE$9,8,FALSE))","v":""},{"$f":"IF(ISERROR(HLOOKUP($BU24,補助!$AW$2:$BE$9,8,FALSE))=TRUE,\"\",HLOOKUP($BU24,補助!$AW$2:$BE$9,8,FALSE))","v":""},{"$f":"IF(ISERROR(HLOOKUP($BV24,補助!$AW$2:$BE$9,8,FALSE))=TRUE,\"\",HLOOKUP($BV24,補助!$AW$2:$BE$9,8,FALSE))","v":""},{"$f":"IF(ISERROR(HLOOKUP($BW24,補助!$AW$2:$BE$9,8,FALSE))=TRUE,\"\",HLOOKUP($BW24,補助!$AW$2:$BE$9,8,FALSE))","v":7},{"$f":"IF(ISERROR(HLOOKUP($BX24,補助!$AW$2:$BE$9,8,FALSE))=TRUE,\"\",HLOOKUP($BX24,補助!$AW$2:$BE$9,8,FALSE))","v":9},{"$f":"IF(ISERROR(HLOOKUP($BY24,補助!$AW$2:$BE$9,8,FALSE))=TRUE,\"\",HLOOKUP($BY24,補助!$AW$2:$BE$9,8,FALSE))","v":3},{"$f":"IF(ISERROR(HLOOKUP($BZ24,補助!$AW$2:$BE$9,8,FALSE))=TRUE,\"\",HLOOKUP($BZ24,補助!$AW$2:$BE$9,8,FALSE))","v":""},"793"]
[null,null,null,null,null,null,null,null,null,null,null,null,null,null,null,null,null,null,null,null,null,null,null,null,null,null,null,null,null,null,null,null,null,null,null,null,null,null,null,null,null,null,null,null,null,null,null,null,null,null,null,null,null,null,null,null,null,null,null,null,null,null,null,null,null,null,null,null,null,null,null,{"$error":"#VALUE!"},"B4",null,{"$f":"IF(ISERROR(HLOOKUP($BP25,補助!$AW$2:$BE$9,8,FALSE))=TRUE,\"\",HLOOKUP($BP25,補助!$AW$2:$BE$9,8,FALSE))","v":""},{"$f":"IF(ISERROR(HLOOKUP($BQ25,補助!$AW$2:$BE$9,8,FALSE))=TRUE,\"\",HLOOKUP($BQ25,補助!$AW$2:$BE$9,8,FALSE))","v":""},{"$f":"IF(ISERROR(HLOOKUP($BR25,補助!$AW$2:$BE$9,8,FALSE))=TRUE,\"\",HLOOKUP($BR25,補助!$AW$2:$BE$9,8,FALSE))","v":""},{"$f":"IF(ISERROR(HLOOKUP($BS25,補助!$AW$2:$BE$9,8,FALSE))=TRUE,\"\",HLOOKUP($BS25,補助!$AW$2:$BE$9,8,FALSE))","v":""},{"$f":"IF(ISERROR(HLOOKUP($BT25,補助!$AW$2:$BE$9,8,FALSE))=TRUE,\"\",HLOOKUP($BT25,補助!$AW$2:$BE$9,8,FALSE))","v":""},{"$f":"IF(ISERROR(HLOOKUP($BU25,補助!$AW$2:$BE$9,8,FALSE))=TRUE,\"\",HLOOKUP($BU25,補助!$AW$2:$BE$9,8,FALSE))","v":""},{"$f":"IF(ISERROR(HLOOKUP($BV25,補助!$AW$2:$BE$9,8,FALSE))=TRUE,\"\",HLOOKUP($BV25,補助!$AW$2:$BE$9,8,FALSE))","v":""},{"$f":"IF(ISERROR(HLOOKUP($BW25,補助!$AW$2:$BE$9,8,FALSE))=TRUE,\"\",HLOOKUP($BW25,補助!$AW$2:$BE$9,8,FALSE))","v":7},{"$f":"IF(ISERROR(HLOOKUP($BX25,補助!$AW$2:$BE$9,8,FALSE))=TRUE,\"\",HLOOKUP($BX25,補助!$AW$2:$BE$9,8,FALSE))","v":9},{"$f":"IF(ISERROR(HLOOKUP($BY25,補助!$AW$2:$BE$9,8,FALSE))=TRUE,\"\",HLOOKUP($BY25,補助!$AW$2:$BE$9,8,FALSE))","v":8},{"$f":"IF(ISERROR(HLOOKUP($BZ25,補助!$AW$2:$BE$9,8,FALSE))=TRUE,\"\",HLOOKUP($BZ25,補助!$AW$2:$BE$9,8,FALSE))","v":4},"798"]
[null,null,null,null,null,null,null,null,null,null,null,null,null,null,null,null,null,null,null,null,null,null,null,null,null,null,null,null,null,null,null,null,null,null,null,null,null,null,null,null,null,null,null,null,null,null,null,null,null,null,null,null,null,null,null,null,null,null,null,null,null,null,null,null,null,null,null,null,null,null,null,{"$error":"#VALUE!"},"B4",null,{"$f":"IF(ISERROR(HLOOKUP($BP26,補助!$AW$2:$BE$9,8,FALSE))=TRUE,\"\",HLOOKUP($BP26,補助!$AW$2:$BE$9,8,FALSE))","v":""},{"$f":"IF(ISERROR(HLOOKUP($BQ26,補助!$AW$2:$BE$9,8,FALSE))=TRUE,\"\",HLOOKUP($BQ26,補助!$AW$2:$BE$9,8,FALSE))","v":""},{"$f":"IF(ISERROR(HLOOKUP($BR26,補助!$AW$2:$BE$9,8,FALSE))=TRUE,\"\",HLOOKUP($BR26,補助!$AW$2:$BE$9,8,FALSE))","v":""},{"$f":"IF(ISERROR(HLOOKUP($BS26,補助!$AW$2:$BE$9,8,FALSE))=TRUE,\"\",HLOOKUP($BS26,補助!$AW$2:$BE$9,8,FALSE))","v":""},{"$f":"IF(ISERROR(HLOOKUP($BT26,補助!$AW$2:$BE$9,8,FALSE))=TRUE,\"\",HLOOKUP($BT26,補助!$AW$2:$BE$9,8,FALSE))","v":""},{"$f":"IF(ISERROR(HLOOKUP($BU26,補助!$AW$2:$BE$9,8,FALSE))=TRUE,\"\",HLOOKUP($BU26,補助!$AW$2:$BE$9,8,FALSE))","v":""},{"$f":"IF(ISERROR(HLOOKUP($BV26,補助!$AW$2:$BE$9,8,FALSE))=TRUE,\"\",HLOOKUP($BV26,補助!$AW$2:$BE$9,8,FALSE))","v":""},{"$f":"IF(ISERROR(HLOOKUP($BW26,補助!$AW$2:$BE$9,8,FALSE))=TRUE,\"\",HLOOKUP($BW26,補助!$AW$2:$BE$9,8,FALSE))","v":7},{"$f":"IF(ISERROR(HLOOKUP($BX26,補助!$AW$2:$BE$9,8,FALSE))=TRUE,\"\",HLOOKUP($BX26,補助!$AW$2:$BE$9,8,FALSE))","v":9},{"$f":"IF(ISERROR(HLOOKUP($BY26,補助!$AW$2:$BE$9,8,FALSE))=TRUE,\"\",HLOOKUP($BY26,補助!$AW$2:$BE$9,8,FALSE))","v":8},{"$f":"IF(ISERROR(HLOOKUP($BZ26,補助!$AW$2:$BE$9,8,FALSE))=TRUE,\"\",HLOOKUP($BZ26,補助!$AW$2:$BE$9,8,FALSE))","v":1},"798"]
[null,null,null,null,null,null,null,null,null,null,null,null,null,null,null,null,null,null,null,null,null,null,null,null,null,null,null,null,null,null,null,null,null,null,null,null,null,null,null,null,null,null,null,null,null,null,null,null,null,null,null,null,null,null,null,null,null,null,null,null,null,null,null,null,null,null,null,null,null,null,null,{"$error":"#VALUE!"},"B4","白",{"$f":"IF(ISERROR(HLOOKUP($BP27,補助!$AW$2:$BE$9,8,FALSE))=TRUE,\"\",HLOOKUP($BP27,補助!$AW$2:$BE$9,8,FALSE))","v":""},{"$f":"IF(ISERROR(HLOOKUP($BQ27,補助!$AW$2:$BE$9,8,FALSE))=TRUE,\"\",HLOOKUP($BQ27,補助!$AW$2:$BE$9,8,FALSE))","v":""},{"$f":"IF(ISERROR(HLOOKUP($BR27,補助!$AW$2:$BE$9,8,FALSE))=TRUE,\"\",HLOOKUP($BR27,補助!$AW$2:$BE$9,8,FALSE))","v":""},{"$f":"IF(ISERROR(HLOOKUP($BS27,補助!$AW$2:$BE$9,8,FALSE))=TRUE,\"\",HLOOKUP($BS27,補助!$AW$2:$BE$9,8,FALSE))","v":""},{"$f":"IF(ISERROR(HLOOKUP($BT27,補助!$AW$2:$BE$9,8,FALSE))=TRUE,\"\",HLOOKUP($BT27,補助!$AW$2:$BE$9,8,FALSE))","v":""},{"$f":"IF(ISERROR(HLOOKUP($BU27,補助!$AW$2:$BE$9,8,FALSE))=TRUE,\"\",HLOOKUP($BU27,補助!$AW$2:$BE$9,8,FALSE))","v":""},{"$f":"IF(ISERROR(HLOOKUP($BV27,補助!$AW$2:$BE$9,8,FALSE))=TRUE,\"\",HLOOKUP($BV27,補助!$AW$2:$BE$9,8,FALSE))","v":""},{"$f":"IF(ISERROR(HLOOKUP($BW27,補助!$AW$2:$BE$9,8,FALSE))=TRUE,\"\",HLOOKUP($BW27,補助!$AW$2:$BE$9,8,FALSE))","v":7},{"$f":"IF(ISERROR(HLOOKUP($BX27,補助!$AW$2:$BE$9,8,FALSE))=TRUE,\"\",HLOOKUP($BX27,補助!$AW$2:$BE$9,8,FALSE))","v":9},{"$f":"IF(ISERROR(HLOOKUP($BY27,補助!$AW$2:$BE$9,8,FALSE))=TRUE,\"\",HLOOKUP($BY27,補助!$AW$2:$BE$9,8,FALSE))","v":8},{"$f":"IF(ISERROR(HLOOKUP($BZ27,補助!$AW$2:$BE$9,8,FALSE))=TRUE,\"\",HLOOKUP($BZ27,補助!$AW$2:$BE$9,8,FALSE))","v":6},"798"]
[null,null,null,null,null,null,null,null,null,null,null,null,null,null,null,null,null,null,null,null,null,null,null,null,null,null,null,null,null,null,null,null,null,null,null,null,null,null,null,null,null,null,null,null,null,null,null,null,null,null,null,null,null,null,null,null,null,null,null,null,null,null,null,null,null,null,null,null,null,null,null,{"$error":"#VALUE!"},"B4","白",{"$f":"IF(ISERROR(HLOOKUP($BP28,補助!$AW$2:$BE$9,8,FALSE))=TRUE,\"\",HLOOKUP($BP28,補助!$AW$2:$BE$9,8,FALSE))","v":""},{"$f":"IF(ISERROR(HLOOKUP($BQ28,補助!$AW$2:$BE$9,8,FALSE))=TRUE,\"\",HLOOKUP($BQ28,補助!$AW$2:$BE$9,8,FALSE))","v":""},{"$f":"IF(ISERROR(HLOOKUP($BR28,補助!$AW$2:$BE$9,8,FALSE))=TRUE,\"\",HLOOKUP($BR28,補助!$AW$2:$BE$9,8,FALSE))","v":""},{"$f":"IF(ISERROR(HLOOKUP($BS28,補助!$AW$2:$BE$9,8,FALSE))=TRUE,\"\",HLOOKUP($BS28,補助!$AW$2:$BE$9,8,FALSE))","v":""},{"$f":"IF(ISERROR(HLOOKUP($BT28,補助!$AW$2:$BE$9,8,FALSE))=TRUE,\"\",HLOOKUP($BT28,補助!$AW$2:$BE$9,8,FALSE))","v":""},{"$f":"IF(ISERROR(HLOOKUP($BU28,補助!$AW$2:$BE$9,8,FALSE))=TRUE,\"\",HLOOKUP($BU28,補助!$AW$2:$BE$9,8,FALSE))","v":""},{"$f":"IF(ISERROR(HLOOKUP($BV28,補助!$AW$2:$BE$9,8,FALSE))=TRUE,\"\",HLOOKUP($BV28,補助!$AW$2:$BE$9,8,FALSE))","v":""},{"$f":"IF(ISERROR(HLOOKUP($BW28,補助!$AW$2:$BE$9,8,FALSE))=TRUE,\"\",HLOOKUP($BW28,補助!$AW$2:$BE$9,8,FALSE))","v":7},{"$f":"IF(ISERROR(HLOOKUP($BX28,補助!$AW$2:$BE$9,8,FALSE))=TRUE,\"\",HLOOKUP($BX28,補助!$AW$2:$BE$9,8,FALSE))","v":9},{"$f":"IF(ISERROR(HLOOKUP($BY28,補助!$AW$2:$BE$9,8,FALSE))=TRUE,\"\",HLOOKUP($BY28,補助!$AW$2:$BE$9,8,FALSE))","v":8},{"$f":"IF(ISERROR(HLOOKUP($BZ28,補助!$AW$2:$BE$9,8,FALSE))=TRUE,\"\",HLOOKUP($BZ28,補助!$AW$2:$BE$9,8,FALSE))","v":3},"798"]
[null,null,null,null,null,null,null,null,null,null,null,null,null,null,null,null,null,null,null,null,null,null,null,null,null,null,null,null,null,null,null,null,null,null,null,null,null,null,null,null,null,null,null,null,null,null,null,null,null,null,null,null,null,null,null,null,null,null,null,null,null,null,null,null,null,null,null,null,null,null,null,{"$error":"#VALUE!"},"B4",null,{"$f":"IF(ISERROR(HLOOKUP($BP29,補助!$AW$2:$BE$9,8,FALSE))=TRUE,\"\",HLOOKUP($BP29,補助!$AW$2:$BE$9,8,FALSE))","v":""},{"$f":"IF(ISERROR(HLOOKUP($BQ29,補助!$AW$2:$BE$9,8,FALSE))=TRUE,\"\",HLOOKUP($BQ29,補助!$AW$2:$BE$9,8,FALSE))","v":""},{"$f":"IF(ISERROR(HLOOKUP($BR29,補助!$AW$2:$BE$9,8,FALSE))=TRUE,\"\",HLOOKUP($BR29,補助!$AW$2:$BE$9,8,FALSE))","v":""},{"$f":"IF(ISERROR(HLOOKUP($BS29,補助!$AW$2:$BE$9,8,FALSE))=TRUE,\"\",HLOOKUP($BS29,補助!$AW$2:$BE$9,8,FALSE))","v":""},{"$f":"IF(ISERROR(HLOOKUP($BT29,補助!$AW$2:$BE$9,8,FALSE))=TRUE,\"\",HLOOKUP($BT29,補助!$AW$2:$BE$9,8,FALSE))","v":""},{"$f":"IF(ISERROR(HLOOKUP($BU29,補助!$AW$2:$BE$9,8,FALSE))=TRUE,\"\",HLOOKUP($BU29,補助!$AW$2:$BE$9,8,FALSE))","v":""},{"$f":"IF(ISERROR(HLOOKUP($BV29,補助!$AW$2:$BE$9,8,FALSE))=TRUE,\"\",HLOOKUP($BV29,補助!$AW$2:$BE$9,8,FALSE))","v":""},{"$f":"IF(ISERROR(HLOOKUP($BW29,補助!$AW$2:$BE$9,8,FALSE))=TRUE,\"\",HLOOKUP($BW29,補助!$AW$2:$BE$9,8,FALSE))","v":7},{"$f":"IF(ISERROR(HLOOKUP($BX29,補助!$AW$2:$BE$9,8,FALSE))=TRUE,\"\",HLOOKUP($BX29,補助!$AW$2:$BE$9,8,FALSE))","v":9},{"$f":"IF(ISERROR(HLOOKUP($BY29,補助!$AW$2:$BE$9,8,FALSE))=TRUE,\"\",HLOOKUP($BY29,補助!$AW$2:$BE$9,8,FALSE))","v":2},{"$f":"IF(ISERROR(HLOOKUP($BZ29,補助!$AW$2:$BE$9,8,FALSE))=TRUE,\"\",HLOOKUP($BZ29,補助!$AW$2:$BE$9,8,FALSE))","v":8},"792"]
[null,null,null,null,null,null,null,null,null,null,null,null,null,null,null,null,null,null,null,null,null,null,null,null,null,null,null,null,null,null,null,null,null,null,null,null,null,null,null,null,null,null,null,null,null,null,null,null,null,null,null,null,null,null,null,null,null,null,null,null,null,null,null,null,null,null,null,null,null,null,null,{"$error":"#VALUE!"},"B4",null,{"$f":"IF(ISERROR(HLOOKUP($BP30,補助!$AW$2:$BE$9,8,FALSE))=TRUE,\"\",HLOOKUP($BP30,補助!$AW$2:$BE$9,8,FALSE))","v":""},{"$f":"IF(ISERROR(HLOOKUP($BQ30,補助!$AW$2:$BE$9,8,FALSE))=TRUE,\"\",HLOOKUP($BQ30,補助!$AW$2:$BE$9,8,FALSE))","v":""},{"$f":"IF(ISERROR(HLOOKUP($BR30,補助!$AW$2:$BE$9,8,FALSE))=TRUE,\"\",HLOOKUP($BR30,補助!$AW$2:$BE$9,8,FALSE))","v":""},{"$f":"IF(ISERROR(HLOOKUP($BS30,補助!$AW$2:$BE$9,8,FALSE))=TRUE,\"\",HLOOKUP($BS30,補助!$AW$2:$BE$9,8,FALSE))","v":""},{"$f":"IF(ISERROR(HLOOKUP($BT30,補助!$AW$2:$BE$9,8,FALSE))=TRUE,\"\",HLOOKUP($BT30,補助!$AW$2:$BE$9,8,FALSE))","v":""},{"$f":"IF(ISERROR(HLOOKUP($BU30,補助!$AW$2:$BE$9,8,FALSE))=TRUE,\"\",HLOOKUP($BU30,補助!$AW$2:$BE$9,8,FALSE))","v":""},{"$f":"IF(ISERROR(HLOOKUP($BV30,補助!$AW$2:$BE$9,8,FALSE))=TRUE,\"\",HLOOKUP($BV30,補助!$AW$2:$BE$9,8,FALSE))","v":""},{"$f":"IF(ISERROR(HLOOKUP($BW30,補助!$AW$2:$BE$9,8,FALSE))=TRUE,\"\",HLOOKUP($BW30,補助!$AW$2:$BE$9,8,FALSE))","v":7},{"$f":"IF(ISERROR(HLOOKUP($BX30,補助!$AW$2:$BE$9,8,FALSE))=TRUE,\"\",HLOOKUP($BX30,補助!$AW$2:$BE$9,8,FALSE))","v":9},{"$f":"IF(ISERROR(HLOOKUP($BY30,補助!$AW$2:$BE$9,8,FALSE))=TRUE,\"\",HLOOKUP($BY30,補助!$AW$2:$BE$9,8,FALSE))","v":2},{"$f":"IF(ISERROR(HLOOKUP($BZ30,補助!$AW$2:$BE$9,8,FALSE))=TRUE,\"\",HLOOKUP($BZ30,補助!$AW$2:$BE$9,8,FALSE))","v":4},"792"]
[null,null,null,null,null,null,null,null,null,null,null,null,null,null,null,null,null,null,null,null,null,null,null,null,null,null,null,null,null,null,null,null,null,null,null,null,null,null,null,null,null,null,null,null,null,null,null,null,null,null,null,null,null,null,null,null,null,null,null,null,null,null,null,null,null,null,null,null,null,null,null,{"$error":"#VALUE!"},"B4",null,{"$f":"IF(ISERROR(HLOOKUP($BP31,補助!$AW$2:$BE$9,8,FALSE))=TRUE,\"\",HLOOKUP($BP31,補助!$AW$2:$BE$9,8,FALSE))","v":""},{"$f":"IF(ISERROR(HLOOKUP($BQ31,補助!$AW$2:$BE$9,8,FALSE))=TRUE,\"\",HLOOKUP($BQ31,補助!$AW$2:$BE$9,8,FALSE))","v":""},{"$f":"IF(ISERROR(HLOOKUP($BR31,補助!$AW$2:$BE$9,8,FALSE))=TRUE,\"\",HLOOKUP($BR31,補助!$AW$2:$BE$9,8,FALSE))","v":""},{"$f":"IF(ISERROR(HLOOKUP($BS31,補助!$AW$2:$BE$9,8,FALSE))=TRUE,\"\",HLOOKUP($BS31,補助!$AW$2:$BE$9,8,FALSE))","v":""},{"$f":"IF(ISERROR(HLOOKUP($BT31,補助!$AW$2:$BE$9,8,FALSE))=TRUE,\"\",HLOOKUP($BT31,補助!$AW$2:$BE$9,8,FALSE))","v":""},{"$f":"IF(ISERROR(HLOOKUP($BU31,補助!$AW$2:$BE$9,8,FALSE))=TRUE,\"\",HLOOKUP($BU31,補助!$AW$2:$BE$9,8,FALSE))","v":""},{"$f":"IF(ISERROR(HLOOKUP($BV31,補助!$AW$2:$BE$9,8,FALSE))=TRUE,\"\",HLOOKUP($BV31,補助!$AW$2:$BE$9,8,FALSE))","v":""},{"$f":"IF(ISERROR(HLOOKUP($BW31,補助!$AW$2:$BE$9,8,FALSE))=TRUE,\"\",HLOOKUP($BW31,補助!$AW$2:$BE$9,8,FALSE))","v":7},{"$f":"IF(ISERROR(HLOOKUP($BX31,補助!$AW$2:$BE$9,8,FALSE))=TRUE,\"\",HLOOKUP($BX31,補助!$AW$2:$BE$9,8,FALSE))","v":9},{"$f":"IF(ISERROR(HLOOKUP($BY31,補助!$AW$2:$BE$9,8,FALSE))=TRUE,\"\",HLOOKUP($BY31,補助!$AW$2:$BE$9,8,FALSE))","v":2},{"$f":"IF(ISERROR(HLOOKUP($BZ31,補助!$AW$2:$BE$9,8,FALSE))=TRUE,\"\",HLOOKUP($BZ31,補助!$AW$2:$BE$9,8,FALSE))","v":5},"792"]
[null,null,null,null,null,null,null,null,null,null,null,null,null,null,null,null,null,null,null,null,null,null,null,null,null,null,null,null,null,null,null,null,null,null,null,null,null,null,null,null,null,null,null,null,null,null,null,null,null,null,null,null,null,null,null,null,null,null,null,null,null,null,null,null,null,null,null,null,null,null,null,{"$error":"#VALUE!"},"B4",null,{"$f":"IF(ISERROR(HLOOKUP($BP32,補助!$AW$2:$BE$9,8,FALSE))=TRUE,\"\",HLOOKUP($BP32,補助!$AW$2:$BE$9,8,FALSE))","v":""},{"$f":"IF(ISERROR(HLOOKUP($BQ32,補助!$AW$2:$BE$9,8,FALSE))=TRUE,\"\",HLOOKUP($BQ32,補助!$AW$2:$BE$9,8,FALSE))","v":""},{"$f":"IF(ISERROR(HLOOKUP($BR32,補助!$AW$2:$BE$9,8,FALSE))=TRUE,\"\",HLOOKUP($BR32,補助!$AW$2:$BE$9,8,FALSE))","v":""},{"$f":"IF(ISERROR(HLOOKUP($BS32,補助!$AW$2:$BE$9,8,FALSE))=TRUE,\"\",HLOOKUP($BS32,補助!$AW$2:$BE$9,8,FALSE))","v":""},{"$f":"IF(ISERROR(HLOOKUP($BT32,補助!$AW$2:$BE$9,8,FALSE))=TRUE,\"\",HLOOKUP($BT32,補助!$AW$2:$BE$9,8,FALSE))","v":""},{"$f":"IF(ISERROR(HLOOKUP($BU32,補助!$AW$2:$BE$9,8,FALSE))=TRUE,\"\",HLOOKUP($BU32,補助!$AW$2:$BE$9,8,FALSE))","v":""},{"$f":"IF(ISERROR(HLOOKUP($BV32,補助!$AW$2:$BE$9,8,FALSE))=TRUE,\"\",HLOOKUP($BV32,補助!$AW$2:$BE$9,8,FALSE))","v":""},{"$f":"IF(ISERROR(HLOOKUP($BW32,補助!$AW$2:$BE$9,8,FALSE))=TRUE,\"\",HLOOKUP($BW32,補助!$AW$2:$BE$9,8,FALSE))","v":7},{"$f":"IF(ISERROR(HLOOKUP($BX32,補助!$AW$2:$BE$9,8,FALSE))=TRUE,\"\",HLOOKUP($BX32,補助!$AW$2:$BE$9,8,FALSE))","v":9},{"$f":"IF(ISERROR(HLOOKUP($BY32,補助!$AW$2:$BE$9,8,FALSE))=TRUE,\"\",HLOOKUP($BY32,補助!$AW$2:$BE$9,8,FALSE))","v":2},{"$f":"IF(ISERROR(HLOOKUP($BZ32,補助!$AW$2:$BE$9,8,FALSE))=TRUE,\"\",HLOOKUP($BZ32,補助!$AW$2:$BE$9,8,FALSE))","v":6},"792"]
[null,null,null,null,null,null,null,null,null,null,null,null,null,null,null,null,null,null,null,null,null,null,null,null,null,null,null,null,null,null,null,null,null,null,null,null,null,null,null,null,null,null,null,null,null,null,null,null,null,null,null,null,null,null,null,null,null,null,null,null,null,null,null,null,null,null,null,null,null,null,null,{"$error":"#VALUE!"},"B4",null,{"$f":"IF(ISERROR(HLOOKUP($BP33,補助!$AW$2:$BE$9,8,FALSE))=TRUE,\"\",HLOOKUP($BP33,補助!$AW$2:$BE$9,8,FALSE))","v":""},{"$f":"IF(ISERROR(HLOOKUP($BQ33,補助!$AW$2:$BE$9,8,FALSE))=TRUE,\"\",HLOOKUP($BQ33,補助!$AW$2:$BE$9,8,FALSE))","v":""},{"$f":"IF(ISERROR(HLOOKUP($BR33,補助!$AW$2:$BE$9,8,FALSE))=TRUE,\"\",HLOOKUP($BR33,補助!$AW$2:$BE$9,8,FALSE))","v":""},{"$f":"IF(ISERROR(HLOOKUP($BS33,補助!$AW$2:$BE$9,8,FALSE))=TRUE,\"\",HLOOKUP($BS33,補助!$AW$2:$BE$9,8,FALSE))","v":""},{"$f":"IF(ISERROR(HLOOKUP($BT33,補助!$AW$2:$BE$9,8,FALSE))=TRUE,\"\",HLOOKUP($BT33,補助!$AW$2:$BE$9,8,FALSE))","v":""},{"$f":"IF(ISERROR(HLOOKUP($BU33,補助!$AW$2:$BE$9,8,FALSE))=TRUE,\"\",HLOOKUP($BU33,補助!$AW$2:$BE$9,8,FALSE))","v":""},{"$f":"IF(ISERROR(HLOOKUP($BV33,補助!$AW$2:$BE$9,8,FALSE))=TRUE,\"\",HLOOKUP($BV33,補助!$AW$2:$BE$9,8,FALSE))","v":""},{"$f":"IF(ISERROR(HLOOKUP($BW33,補助!$AW$2:$BE$9,8,FALSE))=TRUE,\"\",HLOOKUP($BW33,補助!$AW$2:$BE$9,8,FALSE))","v":7},{"$f":"IF(ISERROR(HLOOKUP($BX33,補助!$AW$2:$BE$9,8,FALSE))=TRUE,\"\",HLOOKUP($BX33,補助!$AW$2:$BE$9,8,FALSE))","v":9},{"$f":"IF(ISERROR(HLOOKUP($BY33,補助!$AW$2:$BE$9,8,FALSE))=TRUE,\"\",HLOOKUP($BY33,補助!$AW$2:$BE$9,8,FALSE))","v":2},{"$f":"IF(ISERROR(HLOOKUP($BZ33,補助!$AW$2:$BE$9,8,FALSE))=TRUE,\"\",HLOOKUP($BZ33,補助!$AW$2:$BE$9,8,FALSE))","v":1},"792"]
[null,null,null,null,null,null,null,null,null,null,null,null,null,null,null,null,null,null,null,null,null,null,null,null,null,null,null,null,null,null,null,null,null,null,null,null,null,null,null,null,null,null,null,null,null,null,null,null,null,null,null,null,null,null,null,null,null,null,null,null,null,null,null,null,null,null,null,null,null,null,null,{"$error":"#VALUE!"},"B4",null,{"$f":"IF(ISERROR(HLOOKUP($BP34,補助!$AW$2:$BE$9,8,FALSE))=TRUE,\"\",HLOOKUP($BP34,補助!$AW$2:$BE$9,8,FALSE))","v":""},{"$f":"IF(ISERROR(HLOOKUP($BQ34,補助!$AW$2:$BE$9,8,FALSE))=TRUE,\"\",HLOOKUP($BQ34,補助!$AW$2:$BE$9,8,FALSE))","v":""},{"$f":"IF(ISERROR(HLOOKUP($BR34,補助!$AW$2:$BE$9,8,FALSE))=TRUE,\"\",HLOOKUP($BR34,補助!$AW$2:$BE$9,8,FALSE))","v":""},{"$f":"IF(ISERROR(HLOOKUP($BS34,補助!$AW$2:$BE$9,8,FALSE))=TRUE,\"\",HLOOKUP($BS34,補助!$AW$2:$BE$9,8,FALSE))","v":""},{"$f":"IF(ISERROR(HLOOKUP($BT34,補助!$AW$2:$BE$9,8,FALSE))=TRUE,\"\",HLOOKUP($BT34,補助!$AW$2:$BE$9,8,FALSE))","v":""},{"$f":"IF(ISERROR(HLOOKUP($BU34,補助!$AW$2:$BE$9,8,FALSE))=TRUE,\"\",HLOOKUP($BU34,補助!$AW$2:$BE$9,8,FALSE))","v":""},{"$f":"IF(ISERROR(HLOOKUP($BV34,補助!$AW$2:$BE$9,8,FALSE))=TRUE,\"\",HLOOKUP($BV34,補助!$AW$2:$BE$9,8,FALSE))","v":""},{"$f":"IF(ISERROR(HLOOKUP($BW34,補助!$AW$2:$BE$9,8,FALSE))=TRUE,\"\",HLOOKUP($BW34,補助!$AW$2:$BE$9,8,FALSE))","v":7},{"$f":"IF(ISERROR(HLOOKUP($BX34,補助!$AW$2:$BE$9,8,FALSE))=TRUE,\"\",HLOOKUP($BX34,補助!$AW$2:$BE$9,8,FALSE))","v":9},{"$f":"IF(ISERROR(HLOOKUP($BY34,補助!$AW$2:$BE$9,8,FALSE))=TRUE,\"\",HLOOKUP($BY34,補助!$AW$2:$BE$9,8,FALSE))","v":6},{"$f":"IF(ISERROR(HLOOKUP($BZ34,補助!$AW$2:$BE$9,8,FALSE))=TRUE,\"\",HLOOKUP($BZ34,補助!$AW$2:$BE$9,8,FALSE))","v":8},"796"]
[null,null,null,null,null,null,null,null,null,null,null,null,null,null,null,null,null,null,null,null,null,null,null,null,null,null,null,null,null,null,null,null,null,null,null,null,null,null,null,null,null,null,null,null,null,null,null,null,null,null,null,null,null,null,null,null,null,null,null,null,null,null,null,null,null,null,null,null,null,null,null,{"$error":"#VALUE!"},"B4",null,{"$f":"IF(ISERROR(HLOOKUP($BP35,補助!$AW$2:$BE$9,8,FALSE))=TRUE,\"\",HLOOKUP($BP35,補助!$AW$2:$BE$9,8,FALSE))","v":""},{"$f":"IF(ISERROR(HLOOKUP($BQ35,補助!$AW$2:$BE$9,8,FALSE))=TRUE,\"\",HLOOKUP($BQ35,補助!$AW$2:$BE$9,8,FALSE))","v":""},{"$f":"IF(ISERROR(HLOOKUP($BR35,補助!$AW$2:$BE$9,8,FALSE))=TRUE,\"\",HLOOKUP($BR35,補助!$AW$2:$BE$9,8,FALSE))","v":""},{"$f":"IF(ISERROR(HLOOKUP($BS35,補助!$AW$2:$BE$9,8,FALSE))=TRUE,\"\",HLOOKUP($BS35,補助!$AW$2:$BE$9,8,FALSE))","v":""},{"$f":"IF(ISERROR(HLOOKUP($BT35,補助!$AW$2:$BE$9,8,FALSE))=TRUE,\"\",HLOOKUP($BT35,補助!$AW$2:$BE$9,8,FALSE))","v":""},{"$f":"IF(ISERROR(HLOOKUP($BU35,補助!$AW$2:$BE$9,8,FALSE))=TRUE,\"\",HLOOKUP($BU35,補助!$AW$2:$BE$9,8,FALSE))","v":""},{"$f":"IF(ISERROR(HLOOKUP($BV35,補助!$AW$2:$BE$9,8,FALSE))=TRUE,\"\",HLOOKUP($BV35,補助!$AW$2:$BE$9,8,FALSE))","v":""},{"$f":"IF(ISERROR(HLOOKUP($BW35,補助!$AW$2:$BE$9,8,FALSE))=TRUE,\"\",HLOOKUP($BW35,補助!$AW$2:$BE$9,8,FALSE))","v":7},{"$f":"IF(ISERROR(HLOOKUP($BX35,補助!$AW$2:$BE$9,8,FALSE))=TRUE,\"\",HLOOKUP($BX35,補助!$AW$2:$BE$9,8,FALSE))","v":9},{"$f":"IF(ISERROR(HLOOKUP($BY35,補助!$AW$2:$BE$9,8,FALSE))=TRUE,\"\",HLOOKUP($BY35,補助!$AW$2:$BE$9,8,FALSE))","v":6},{"$f":"IF(ISERROR(HLOOKUP($BZ35,補助!$AW$2:$BE$9,8,FALSE))=TRUE,\"\",HLOOKUP($BZ35,補助!$AW$2:$BE$9,8,FALSE))","v":2},"796"]
[null,null,null,null,null,null,null,null,null,null,null,null,null,null,null,null,null,null,null,null,null,null,null,null,null,null,null,null,null,null,null,null,null,null,null,null,null,null,null,null,null,null,null,null,null,null,null,null,null,null,null,null,null,null,null,null,null,null,null,null,null,null,null,null,null,null,null,null,null,null,null,{"$error":"#VALUE!"},"B4",null,{"$f":"IF(ISERROR(HLOOKUP($BP36,補助!$AW$2:$BE$9,8,FALSE))=TRUE,\"\",HLOOKUP($BP36,補助!$AW$2:$BE$9,8,FALSE))","v":""},{"$f":"IF(ISERROR(HLOOKUP($BQ36,補助!$AW$2:$BE$9,8,FALSE))=TRUE,\"\",HLOOKUP($BQ36,補助!$AW$2:$BE$9,8,FALSE))","v":""},{"$f":"IF(ISERROR(HLOOKUP($BR36,補助!$AW$2:$BE$9,8,FALSE))=TRUE,\"\",HLOOKUP($BR36,補助!$AW$2:$BE$9,8,FALSE))","v":""},{"$f":"IF(ISERROR(HLOOKUP($BS36,補助!$AW$2:$BE$9,8,FALSE))=TRUE,\"\",HLOOKUP($BS36,補助!$AW$2:$BE$9,8,FALSE))","v":""},{"$f":"IF(ISERROR(HLOOKUP($BT36,補助!$AW$2:$BE$9,8,FALSE))=TRUE,\"\",HLOOKUP($BT36,補助!$AW$2:$BE$9,8,FALSE))","v":""},{"$f":"IF(ISERROR(HLOOKUP($BU36,補助!$AW$2:$BE$9,8,FALSE))=TRUE,\"\",HLOOKUP($BU36,補助!$AW$2:$BE$9,8,FALSE))","v":""},{"$f":"IF(ISERROR(HLOOKUP($BV36,補助!$AW$2:$BE$9,8,FALSE))=TRUE,\"\",HLOOKUP($BV36,補助!$AW$2:$BE$9,8,FALSE))","v":""},{"$f":"IF(ISERROR(HLOOKUP($BW36,補助!$AW$2:$BE$9,8,FALSE))=TRUE,\"\",HLOOKUP($BW36,補助!$AW$2:$BE$9,8,FALSE))","v":7},{"$f":"IF(ISERROR(HLOOKUP($BX36,補助!$AW$2:$BE$9,8,FALSE))=TRUE,\"\",HLOOKUP($BX36,補助!$AW$2:$BE$9,8,FALSE))","v":9},{"$f":"IF(ISERROR(HLOOKUP($BY36,補助!$AW$2:$BE$9,8,FALSE))=TRUE,\"\",HLOOKUP($BY36,補助!$AW$2:$BE$9,8,FALSE))","v":6},{"$f":"IF(ISERROR(HLOOKUP($BZ36,補助!$AW$2:$BE$9,8,FALSE))=TRUE,\"\",HLOOKUP($BZ36,補助!$AW$2:$BE$9,8,FALSE))","v":3},"796"]
[null,null,null,null,null,null,null,null,null,null,null,null,null,null,null,null,null,null,null,null,null,null,null,null,null,null,null,null,null,null,null,null,null,null,null,null,null,null,null,null,null,null,null,null,null,null,null,null,null,null,null,null,null,null,null,null,null,null,null,null,null,null,null,null,null,null,null,null,null,null,null,{"$error":"#VALUE!"},"B4",null,{"$f":"IF(ISERROR(HLOOKUP($BP37,補助!$AW$2:$BE$9,8,FALSE))=TRUE,\"\",HLOOKUP($BP37,補助!$AW$2:$BE$9,8,FALSE))","v":""},{"$f":"IF(ISERROR(HLOOKUP($BQ37,補助!$AW$2:$BE$9,8,FALSE))=TRUE,\"\",HLOOKUP($BQ37,補助!$AW$2:$BE$9,8,FALSE))","v":""},{"$f":"IF(ISERROR(HLOOKUP($BR37,補助!$AW$2:$BE$9,8,FALSE))=TRUE,\"\",HLOOKUP($BR37,補助!$AW$2:$BE$9,8,FALSE))","v":""},{"$f":"IF(ISERROR(HLOOKUP($BS37,補助!$AW$2:$BE$9,8,FALSE))=TRUE,\"\",HLOOKUP($BS37,補助!$AW$2:$BE$9,8,FALSE))","v":""},{"$f":"IF(ISERROR(HLOOKUP($BT37,補助!$AW$2:$BE$9,8,FALSE))=TRUE,\"\",HLOOKUP($BT37,補助!$AW$2:$BE$9,8,FALSE))","v":""},{"$f":"IF(ISERROR(HLOOKUP($BU37,補助!$AW$2:$BE$9,8,FALSE))=TRUE,\"\",HLOOKUP($BU37,補助!$AW$2:$BE$9,8,FALSE))","v":""},{"$f":"IF(ISERROR(HLOOKUP($BV37,補助!$AW$2:$BE$9,8,FALSE))=TRUE,\"\",HLOOKUP($BV37,補助!$AW$2:$BE$9,8,FALSE))","v":""},{"$f":"IF(ISERROR(HLOOKUP($BW37,補助!$AW$2:$BE$9,8,FALSE))=TRUE,\"\",HLOOKUP($BW37,補助!$AW$2:$BE$9,8,FALSE))","v":7},{"$f":"IF(ISERROR(HLOOKUP($BX37,補助!$AW$2:$BE$9,8,FALSE))=TRUE,\"\",HLOOKUP($BX37,補助!$AW$2:$BE$9,8,FALSE))","v":6},{"$f":"IF(ISERROR(HLOOKUP($BY37,補助!$AW$2:$BE$9,8,FALSE))=TRUE,\"\",HLOOKUP($BY37,補助!$AW$2:$BE$9,8,FALSE))","v":9},{"$f":"IF(ISERROR(HLOOKUP($BZ37,補助!$AW$2:$BE$9,8,FALSE))=TRUE,\"\",HLOOKUP($BZ37,補助!$AW$2:$BE$9,8,FALSE))","v":""},"769"]
[null,null,null,null,null,null,null,null,null,null,null,null,null,null,null,null,null,null,null,null,null,null,null,null,null,null,null,null,null,null,null,null,null,null,null,null,null,null,null,null,null,null,null,null,null,null,null,null,null,null,null,null,null,null,null,null,null,null,null,null,null,null,null,null,null,null,null,null,null,null,null,{"$error":"#VALUE!"},"B4",null,{"$f":"IF(ISERROR(HLOOKUP($BP38,補助!$AW$2:$BE$9,8,FALSE))=TRUE,\"\",HLOOKUP($BP38,補助!$AW$2:$BE$9,8,FALSE))","v":""},{"$f":"IF(ISERROR(HLOOKUP($BQ38,補助!$AW$2:$BE$9,8,FALSE))=TRUE,\"\",HLOOKUP($BQ38,補助!$AW$2:$BE$9,8,FALSE))","v":""},{"$f":"IF(ISERROR(HLOOKUP($BR38,補助!$AW$2:$BE$9,8,FALSE))=TRUE,\"\",HLOOKUP($BR38,補助!$AW$2:$BE$9,8,FALSE))","v":""},{"$f":"IF(ISERROR(HLOOKUP($BS38,補助!$AW$2:$BE$9,8,FALSE))=TRUE,\"\",HLOOKUP($BS38,補助!$AW$2:$BE$9,8,FALSE))","v":""},{"$f":"IF(ISERROR(HLOOKUP($BT38,補助!$AW$2:$BE$9,8,FALSE))=TRUE,\"\",HLOOKUP($BT38,補助!$AW$2:$BE$9,8,FALSE))","v":""},{"$f":"IF(ISERROR(HLOOKUP($BU38,補助!$AW$2:$BE$9,8,FALSE))=TRUE,\"\",HLOOKUP($BU38,補助!$AW$2:$BE$9,8,FALSE))","v":""},{"$f":"IF(ISERROR(HLOOKUP($BV38,補助!$AW$2:$BE$9,8,FALSE))=TRUE,\"\",HLOOKUP($BV38,補助!$AW$2:$BE$9,8,FALSE))","v":""},{"$f":"IF(ISERROR(HLOOKUP($BW38,補助!$AW$2:$BE$9,8,FALSE))=TRUE,\"\",HLOOKUP($BW38,補助!$AW$2:$BE$9,8,FALSE))","v":7},{"$f":"IF(ISERROR(HLOOKUP($BX38,補助!$AW$2:$BE$9,8,FALSE))=TRUE,\"\",HLOOKUP($BX38,補助!$AW$2:$BE$9,8,FALSE))","v":6},{"$f":"IF(ISERROR(HLOOKUP($BY38,補助!$AW$2:$BE$9,8,FALSE))=TRUE,\"\",HLOOKUP($BY38,補助!$AW$2:$BE$9,8,FALSE))","v":5},{"$f":"IF(ISERROR(HLOOKUP($BZ38,補助!$AW$2:$BE$9,8,FALSE))=TRUE,\"\",HLOOKUP($BZ38,補助!$AW$2:$BE$9,8,FALSE))","v":""},"765"]
[null,null,null,null,null,null,null,null,null,null,null,null,null,null,null,null,null,null,null,null,null,null,null,null,null,null,null,null,null,null,null,null,null,null,null,null,null,null,null,null,null,null,null,null,null,null,null,null,null,null,null,null,null,null,null,null,null,null,null,null,null,null,null,null,null,null,null,null,null,null,null,{"$error":"#VALUE!"},"B4",null,{"$f":"IF(ISERROR(HLOOKUP($BP39,補助!$AW$2:$BE$9,8,FALSE))=TRUE,\"\",HLOOKUP($BP39,補助!$AW$2:$BE$9,8,FALSE))","v":""},{"$f":"IF(ISERROR(HLOOKUP($BQ39,補助!$AW$2:$BE$9,8,FALSE))=TRUE,\"\",HLOOKUP($BQ39,補助!$AW$2:$BE$9,8,FALSE))","v":""},{"$f":"IF(ISERROR(HLOOKUP($BR39,補助!$AW$2:$BE$9,8,FALSE))=TRUE,\"\",HLOOKUP($BR39,補助!$AW$2:$BE$9,8,FALSE))","v":""},{"$f":"IF(ISERROR(HLOOKUP($BS39,補助!$AW$2:$BE$9,8,FALSE))=TRUE,\"\",HLOOKUP($BS39,補助!$AW$2:$BE$9,8,FALSE))","v":""},{"$f":"IF(ISERROR(HLOOKUP($BT39,補助!$AW$2:$BE$9,8,FALSE))=TRUE,\"\",HLOOKUP($BT39,補助!$AW$2:$BE$9,8,FALSE))","v":""},{"$f":"IF(ISERROR(HLOOKUP($BU39,補助!$AW$2:$BE$9,8,FALSE))=TRUE,\"\",HLOOKUP($BU39,補助!$AW$2:$BE$9,8,FALSE))","v":""},{"$f":"IF(ISERROR(HLOOKUP($BV39,補助!$AW$2:$BE$9,8,FALSE))=TRUE,\"\",HLOOKUP($BV39,補助!$AW$2:$BE$9,8,FALSE))","v":""},{"$f":"IF(ISERROR(HLOOKUP($BW39,補助!$AW$2:$BE$9,8,FALSE))=TRUE,\"\",HLOOKUP($BW39,補助!$AW$2:$BE$9,8,FALSE))","v":7},{"$f":"IF(ISERROR(HLOOKUP($BX39,補助!$AW$2:$BE$9,8,FALSE))=TRUE,\"\",HLOOKUP($BX39,補助!$AW$2:$BE$9,8,FALSE))","v":6},{"$f":"IF(ISERROR(HLOOKUP($BY39,補助!$AW$2:$BE$9,8,FALSE))=TRUE,\"\",HLOOKUP($BY39,補助!$AW$2:$BE$9,8,FALSE))","v":1},{"$f":"IF(ISERROR(HLOOKUP($BZ39,補助!$AW$2:$BE$9,8,FALSE))=TRUE,\"\",HLOOKUP($BZ39,補助!$AW$2:$BE$9,8,FALSE))","v":""},"761"]
[null,null,null,null,null,null,null,null,null,null,null,null,null,null,null,null,null,null,null,null,null,null,null,null,null,null,null,null,null,null,null,null,null,null,null,null,null,null,null,null,null,null,null,null,null,null,null,null,null,null,null,null,null,null,null,null,null,null,null,null,null,null,null,null,null,null,null,null,null,null,null,{"$error":"#VALUE!"},"B4","白",{"$f":"IF(ISERROR(HLOOKUP($BP40,補助!$AW$2:$BE$9,8,FALSE))=TRUE,\"\",HLOOKUP($BP40,補助!$AW$2:$BE$9,8,FALSE))","v":""},{"$f":"IF(ISERROR(HLOOKUP($BQ40,補助!$AW$2:$BE$9,8,FALSE))=TRUE,\"\",HLOOKUP($BQ40,補助!$AW$2:$BE$9,8,FALSE))","v":""},{"$f":"IF(ISERROR(HLOOKUP($BR40,補助!$AW$2:$BE$9,8,FALSE))=TRUE,\"\",HLOOKUP($BR40,補助!$AW$2:$BE$9,8,FALSE))","v":""},{"$f":"IF(ISERROR(HLOOKUP($BS40,補助!$AW$2:$BE$9,8,FALSE))=TRUE,\"\",HLOOKUP($BS40,補助!$AW$2:$BE$9,8,FALSE))","v":""},{"$f":"IF(ISERROR(HLOOKUP($BT40,補助!$AW$2:$BE$9,8,FALSE))=TRUE,\"\",HLOOKUP($BT40,補助!$AW$2:$BE$9,8,FALSE))","v":""},{"$f":"IF(ISERROR(HLOOKUP($BU40,補助!$AW$2:$BE$9,8,FALSE))=TRUE,\"\",HLOOKUP($BU40,補助!$AW$2:$BE$9,8,FALSE))","v":""},{"$f":"IF(ISERROR(HLOOKUP($BV40,補助!$AW$2:$BE$9,8,FALSE))=TRUE,\"\",HLOOKUP($BV40,補助!$AW$2:$BE$9,8,FALSE))","v":""},{"$f":"IF(ISERROR(HLOOKUP($BW40,補助!$AW$2:$BE$9,8,FALSE))=TRUE,\"\",HLOOKUP($BW40,補助!$AW$2:$BE$9,8,FALSE))","v":7},{"$f":"IF(ISERROR(HLOOKUP($BX40,補助!$AW$2:$BE$9,8,FALSE))=TRUE,\"\",HLOOKUP($BX40,補助!$AW$2:$BE$9,8,FALSE))","v":6},{"$f":"IF(ISERROR(HLOOKUP($BY40,補助!$AW$2:$BE$9,8,FALSE))=TRUE,\"\",HLOOKUP($BY40,補助!$AW$2:$BE$9,8,FALSE))","v":4},{"$f":"IF(ISERROR(HLOOKUP($BZ40,補助!$AW$2:$BE$9,8,FALSE))=TRUE,\"\",HLOOKUP($BZ40,補助!$AW$2:$BE$9,8,FALSE))","v":1},"764"]
[null,null,null,null,null,null,null,null,null,null,null,null,null,null,null,null,null,null,null,null,null,null,null,null,null,null,null,null,null,null,null,null,null,null,null,null,null,null,null,null,null,null,null,null,null,null,null,null,null,null,null,null,null,null,null,null,null,null,null,null,null,null,null,null,null,null,null,null,null,null,null,{"$error":"#VALUE!"},"B4","白",{"$f":"IF(ISERROR(HLOOKUP($BP41,補助!$AW$2:$BE$9,8,FALSE))=TRUE,\"\",HLOOKUP($BP41,補助!$AW$2:$BE$9,8,FALSE))","v":""},{"$f":"IF(ISERROR(HLOOKUP($BQ41,補助!$AW$2:$BE$9,8,FALSE))=TRUE,\"\",HLOOKUP($BQ41,補助!$AW$2:$BE$9,8,FALSE))","v":""},{"$f":"IF(ISERROR(HLOOKUP($BR41,補助!$AW$2:$BE$9,8,FALSE))=TRUE,\"\",HLOOKUP($BR41,補助!$AW$2:$BE$9,8,FALSE))","v":""},{"$f":"IF(ISERROR(HLOOKUP($BS41,補助!$AW$2:$BE$9,8,FALSE))=TRUE,\"\",HLOOKUP($BS41,補助!$AW$2:$BE$9,8,FALSE))","v":""},{"$f":"IF(ISERROR(HLOOKUP($BT41,補助!$AW$2:$BE$9,8,FALSE))=TRUE,\"\",HLOOKUP($BT41,補助!$AW$2:$BE$9,8,FALSE))","v":""},{"$f":"IF(ISERROR(HLOOKUP($BU41,補助!$AW$2:$BE$9,8,FALSE))=TRUE,\"\",HLOOKUP($BU41,補助!$AW$2:$BE$9,8,FALSE))","v":""},{"$f":"IF(ISERROR(HLOOKUP($BV41,補助!$AW$2:$BE$9,8,FALSE))=TRUE,\"\",HLOOKUP($BV41,補助!$AW$2:$BE$9,8,FALSE))","v":""},{"$f":"IF(ISERROR(HLOOKUP($BW41,補助!$AW$2:$BE$9,8,FALSE))=TRUE,\"\",HLOOKUP($BW41,補助!$AW$2:$BE$9,8,FALSE))","v":7},{"$f":"IF(ISERROR(HLOOKUP($BX41,補助!$AW$2:$BE$9,8,FALSE))=TRUE,\"\",HLOOKUP($BX41,補助!$AW$2:$BE$9,8,FALSE))","v":6},{"$f":"IF(ISERROR(HLOOKUP($BY41,補助!$AW$2:$BE$9,8,FALSE))=TRUE,\"\",HLOOKUP($BY41,補助!$AW$2:$BE$9,8,FALSE))","v":4},{"$f":"IF(ISERROR(HLOOKUP($BZ41,補助!$AW$2:$BE$9,8,FALSE))=TRUE,\"\",HLOOKUP($BZ41,補助!$AW$2:$BE$9,8,FALSE))","v":1},"764"]
[null,null,null,null,null,null,null,null,null,null,null,null,null,null,null,null,null,null,null,null,null,null,null,null,null,null,null,null,null,null,null,null,null,null,null,null,null,null,null,null,null,null,null,null,null,null,null,null,null,null,null,null,null,null,null,null,null,null,null,null,null,null,null,null,null,null,null,null,null,null,null,{"$error":"#VALUE!"},"B4","白",{"$f":"IF(ISERROR(HLOOKUP($BP42,補助!$AW$2:$BE$9,8,FALSE))=TRUE,\"\",HLOOKUP($BP42,補助!$AW$2:$BE$9,8,FALSE))","v":""},{"$f":"IF(ISERROR(HLOOKUP($BQ42,補助!$AW$2:$BE$9,8,FALSE))=TRUE,\"\",HLOOKUP($BQ42,補助!$AW$2:$BE$9,8,FALSE))","v":""},{"$f":"IF(ISERROR(HLOOKUP($BR42,補助!$AW$2:$BE$9,8,FALSE))=TRUE,\"\",HLOOKUP($BR42,補助!$AW$2:$BE$9,8,FALSE))","v":""},{"$f":"IF(ISERROR(HLOOKUP($BS42,補助!$AW$2:$BE$9,8,FALSE))=TRUE,\"\",HLOOKUP($BS42,補助!$AW$2:$BE$9,8,FALSE))","v":""},{"$f":"IF(ISERROR(HLOOKUP($BT42,補助!$AW$2:$BE$9,8,FALSE))=TRUE,\"\",HLOOKUP($BT42,補助!$AW$2:$BE$9,8,FALSE))","v":""},{"$f":"IF(ISERROR(HLOOKUP($BU42,補助!$AW$2:$BE$9,8,FALSE))=TRUE,\"\",HLOOKUP($BU42,補助!$AW$2:$BE$9,8,FALSE))","v":""},{"$f":"IF(ISERROR(HLOOKUP($BV42,補助!$AW$2:$BE$9,8,FALSE))=TRUE,\"\",HLOOKUP($BV42,補助!$AW$2:$BE$9,8,FALSE))","v":""},{"$f":"IF(ISERROR(HLOOKUP($BW42,補助!$AW$2:$BE$9,8,FALSE))=TRUE,\"\",HLOOKUP($BW42,補助!$AW$2:$BE$9,8,FALSE))","v":7},{"$f":"IF(ISERROR(HLOOKUP($BX42,補助!$AW$2:$BE$9,8,FALSE))=TRUE,\"\",HLOOKUP($BX42,補助!$AW$2:$BE$9,8,FALSE))","v":6},{"$f":"IF(ISERROR(HLOOKUP($BY42,補助!$AW$2:$BE$9,8,FALSE))=TRUE,\"\",HLOOKUP($BY42,補助!$AW$2:$BE$9,8,FALSE))","v":4},{"$f":"IF(ISERROR(HLOOKUP($BZ42,補助!$AW$2:$BE$9,8,FALSE))=TRUE,\"\",HLOOKUP($BZ42,補助!$AW$2:$BE$9,8,FALSE))","v":1},"764"]
[null,null,null,null,null,null,null,null,null,null,null,null,null,null,null,null,null,null,null,null,null,null,null,null,null,null,null,null,null,null,null,null,null,null,null,null,null,null,null,null,null,null,null,null,null,null,null,null,null,null,null,null,null,null,null,null,null,null,null,null,null,null,null,null,null,null,null,null,null,null,null,{"$error":"#VALUE!"},"B4",null,{"$f":"IF(ISERROR(HLOOKUP($BP43,補助!$AW$2:$BE$9,8,FALSE))=TRUE,\"\",HLOOKUP($BP43,補助!$AW$2:$BE$9,8,FALSE))","v":""},{"$f":"IF(ISERROR(HLOOKUP($BQ43,補助!$AW$2:$BE$9,8,FALSE))=TRUE,\"\",HLOOKUP($BQ43,補助!$AW$2:$BE$9,8,FALSE))","v":""},{"$f":"IF(ISERROR(HLOOKUP($BR43,補助!$AW$2:$BE$9,8,FALSE))=TRUE,\"\",HLOOKUP($BR43,補助!$AW$2:$BE$9,8,FALSE))","v":""},{"$f":"IF(ISERROR(HLOOKUP($BS43,補助!$AW$2:$BE$9,8,FALSE))=TRUE,\"\",HLOOKUP($BS43,補助!$AW$2:$BE$9,8,FALSE))","v":""},{"$f":"IF(ISERROR(HLOOKUP($BT43,補助!$AW$2:$BE$9,8,FALSE))=TRUE,\"\",HLOOKUP($BT43,補助!$AW$2:$BE$9,8,FALSE))","v":""},{"$f":"IF(ISERROR(HLOOKUP($BU43,補助!$AW$2:$BE$9,8,FALSE))=TRUE,\"\",HLOOKUP($BU43,補助!$AW$2:$BE$9,8,FALSE))","v":""},{"$f":"IF(ISERROR(HLOOKUP($BV43,補助!$AW$2:$BE$9,8,FALSE))=TRUE,\"\",HLOOKUP($BV43,補助!$AW$2:$BE$9,8,FALSE))","v":""},{"$f":"IF(ISERROR(HLOOKUP($BW43,補助!$AW$2:$BE$9,8,FALSE))=TRUE,\"\",HLOOKUP($BW43,補助!$AW$2:$BE$9,8,FALSE))","v":7},{"$f":"IF(ISERROR(HLOOKUP($BX43,補助!$AW$2:$BE$9,8,FALSE))=TRUE,\"\",HLOOKUP($BX43,補助!$AW$2:$BE$9,8,FALSE))","v":6},{"$f":"IF(ISERROR(HLOOKUP($BY43,補助!$AW$2:$BE$9,8,FALSE))=TRUE,\"\",HLOOKUP($BY43,補助!$AW$2:$BE$9,8,FALSE))","v":2},{"$f":"IF(ISERROR(HLOOKUP($BZ43,補助!$AW$2:$BE$9,8,FALSE))=TRUE,\"\",HLOOKUP($BZ43,補助!$AW$2:$BE$9,8,FALSE))","v":8},"762"]
[null,null,null,null,null,null,null,null,null,null,null,null,null,null,null,null,null,null,null,null,null,null,null,null,null,null,null,null,null,null,null,null,null,null,null,null,null,null,null,null,null,null,null,null,null,null,null,null,null,null,null,null,null,null,null,null,null,null,null,null,null,null,null,null,null,null,null,null,null,null,null,{"$f":"IF($S$33=MID(CH450,1,$S$32),BT449+1,BT449)","v":{"$error":"#VALUE!"}},"B4",null,{"$f":"IF(ISERROR(HLOOKUP($BP44,補助!$AW$2:$BE$9,8,FALSE))=TRUE,\"\",HLOOKUP($BP44,補助!$AW$2:$BE$9,8,FALSE))","v":""},{"$f":"IF(ISERROR(HLOOKUP($BQ44,補助!$AW$2:$BE$9,8,FALSE))=TRUE,\"\",HLOOKUP($BQ44,補助!$AW$2:$BE$9,8,FALSE))","v":""},{"$f":"IF(ISERROR(HLOOKUP($BR44,補助!$AW$2:$BE$9,8,FALSE))=TRUE,\"\",HLOOKUP($BR44,補助!$AW$2:$BE$9,8,FALSE))","v":""},{"$f":"IF(ISERROR(HLOOKUP($BS44,補助!$AW$2:$BE$9,8,FALSE))=TRUE,\"\",HLOOKUP($BS44,補助!$AW$2:$BE$9,8,FALSE))","v":""},{"$f":"IF(ISERROR(HLOOKUP($BT44,補助!$AW$2:$BE$9,8,FALSE))=TRUE,\"\",HLOOKUP($BT44,補助!$AW$2:$BE$9,8,FALSE))","v":""},{"$f":"IF(ISERROR(HLOOKUP($BU44,補助!$AW$2:$BE$9,8,FALSE))=TRUE,\"\",HLOOKUP($BU44,補助!$AW$2:$BE$9,8,FALSE))","v":""},{"$f":"IF(ISERROR(HLOOKUP($BV44,補助!$AW$2:$BE$9,8,FALSE))=TRUE,\"\",HLOOKUP($BV44,補助!$AW$2:$BE$9,8,FALSE))","v":""},{"$f":"IF(ISERROR(HLOOKUP($BW44,補助!$AW$2:$BE$9,8,FALSE))=TRUE,\"\",HLOOKUP($BW44,補助!$AW$2:$BE$9,8,FALSE))","v":7},{"$f":"IF(ISERROR(HLOOKUP($BX44,補助!$AW$2:$BE$9,8,FALSE))=TRUE,\"\",HLOOKUP($BX44,補助!$AW$2:$BE$9,8,FALSE))","v":6},{"$f":"IF(ISERROR(HLOOKUP($BY44,補助!$AW$2:$BE$9,8,FALSE))=TRUE,\"\",HLOOKUP($BY44,補助!$AW$2:$BE$9,8,FALSE))","v":2},{"$f":"IF(ISERROR(HLOOKUP($BZ44,補助!$AW$2:$BE$9,8,FALSE))=TRUE,\"\",HLOOKUP($BZ44,補助!$AW$2:$BE$9,8,FALSE))","v":9},{"$f":"BW450&BX450&BY450&BZ450&CA450&CB450&CC450&CD450&CE450&CF450","v":"762"}]
[null,null,null,null,null,null,null,null,null,null,null,null,null,null,null,null,null,null,null,null,null,null,null,null,null,null,null,null,null,null,null,null,null,null,null,null,null,null,null,null,null,null,null,null,null,null,null,null,null,null,null,null,null,null,null,null,null,null,null,null,null,null,null,null,null,null,null,null,null,null,null,{"$error":"#VALUE!"},"B4",null,{"$f":"IF(ISERROR(HLOOKUP($BP45,補助!$AW$2:$BE$9,8,FALSE))=TRUE,\"\",HLOOKUP($BP45,補助!$AW$2:$BE$9,8,FALSE))","v":""},{"$f":"IF(ISERROR(HLOOKUP($BQ45,補助!$AW$2:$BE$9,8,FALSE))=TRUE,\"\",HLOOKUP($BQ45,補助!$AW$2:$BE$9,8,FALSE))","v":""},{"$f":"IF(ISERROR(HLOOKUP($BR45,補助!$AW$2:$BE$9,8,FALSE))=TRUE,\"\",HLOOKUP($BR45,補助!$AW$2:$BE$9,8,FALSE))","v":""},{"$f":"IF(ISERROR(HLOOKUP($BS45,補助!$AW$2:$BE$9,8,FALSE))=TRUE,\"\",HLOOKUP($BS45,補助!$AW$2:$BE$9,8,FALSE))","v":""},{"$f":"IF(ISERROR(HLOOKUP($BT45,補助!$AW$2:$BE$9,8,FALSE))=TRUE,\"\",HLOOKUP($BT45,補助!$AW$2:$BE$9,8,FALSE))","v":""},{"$f":"IF(ISERROR(HLOOKUP($BU45,補助!$AW$2:$BE$9,8,FALSE))=TRUE,\"\",HLOOKUP($BU45,補助!$AW$2:$BE$9,8,FALSE))","v":""},{"$f":"IF(ISERROR(HLOOKUP($BV45,補助!$AW$2:$BE$9,8,FALSE))=TRUE,\"\",HLOOKUP($BV45,補助!$AW$2:$BE$9,8,FALSE))","v":""},{"$f":"IF(ISERROR(HLOOKUP($BW45,補助!$AW$2:$BE$9,8,FALSE))=TRUE,\"\",HLOOKUP($BW45,補助!$AW$2:$BE$9,8,FALSE))","v":7},{"$f":"IF(ISERROR(HLOOKUP($BX45,補助!$AW$2:$BE$9,8,FALSE))=TRUE,\"\",HLOOKUP($BX45,補助!$AW$2:$BE$9,8,FALSE))","v":6},{"$f":"IF(ISERROR(HLOOKUP($BY45,補助!$AW$2:$BE$9,8,FALSE))=TRUE,\"\",HLOOKUP($BY45,補助!$AW$2:$BE$9,8,FALSE))","v":2},{"$f":"IF(ISERROR(HLOOKUP($BZ45,補助!$AW$2:$BE$9,8,FALSE))=TRUE,\"\",HLOOKUP($BZ45,補助!$AW$2:$BE$9,8,FALSE))","v":4},"762"]
[null,null,null,null,null,null,null,null,null,null,null,null,null,null,null,null,null,null,null,null,null,null,null,null,null,null,null,null,null,null,null,null,null,null,null,null,null,null,null,null,null,null,null,null,null,null,null,null,null,null,null,null,null,null,null,null,null,null,null,null,null,null,null,null,null,null,null,null,null,null,null,{"$error":"#VALUE!"},"B4",null,{"$f":"IF(ISERROR(HLOOKUP($BP46,補助!$AW$2:$BE$9,8,FALSE))=TRUE,\"\",HLOOKUP($BP46,補助!$AW$2:$BE$9,8,FALSE))","v":""},{"$f":"IF(ISERROR(HLOOKUP($BQ46,補助!$AW$2:$BE$9,8,FALSE))=TRUE,\"\",HLOOKUP($BQ46,補助!$AW$2:$BE$9,8,FALSE))","v":""},{"$f":"IF(ISERROR(HLOOKUP($BR46,補助!$AW$2:$BE$9,8,FALSE))=TRUE,\"\",HLOOKUP($BR46,補助!$AW$2:$BE$9,8,FALSE))","v":""},{"$f":"IF(ISERROR(HLOOKUP($BS46,補助!$AW$2:$BE$9,8,FALSE))=TRUE,\"\",HLOOKUP($BS46,補助!$AW$2:$BE$9,8,FALSE))","v":""},{"$f":"IF(ISERROR(HLOOKUP($BT46,補助!$AW$2:$BE$9,8,FALSE))=TRUE,\"\",HLOOKUP($BT46,補助!$AW$2:$BE$9,8,FALSE))","v":""},{"$f":"IF(ISERROR(HLOOKUP($BU46,補助!$AW$2:$BE$9,8,FALSE))=TRUE,\"\",HLOOKUP($BU46,補助!$AW$2:$BE$9,8,FALSE))","v":""},{"$f":"IF(ISERROR(HLOOKUP($BV46,補助!$AW$2:$BE$9,8,FALSE))=TRUE,\"\",HLOOKUP($BV46,補助!$AW$2:$BE$9,8,FALSE))","v":""},{"$f":"IF(ISERROR(HLOOKUP($BW46,補助!$AW$2:$BE$9,8,FALSE))=TRUE,\"\",HLOOKUP($BW46,補助!$AW$2:$BE$9,8,FALSE))","v":7},{"$f":"IF(ISERROR(HLOOKUP($BX46,補助!$AW$2:$BE$9,8,FALSE))=TRUE,\"\",HLOOKUP($BX46,補助!$AW$2:$BE$9,8,FALSE))","v":6},{"$f":"IF(ISERROR(HLOOKUP($BY46,補助!$AW$2:$BE$9,8,FALSE))=TRUE,\"\",HLOOKUP($BY46,補助!$AW$2:$BE$9,8,FALSE))","v":2},{"$f":"IF(ISERROR(HLOOKUP($BZ46,補助!$AW$2:$BE$9,8,FALSE))=TRUE,\"\",HLOOKUP($BZ46,補助!$AW$2:$BE$9,8,FALSE))","v":1},"762"]
[null,null,null,null,null,null,null,null,null,null,null,null,null,null,null,null,null,null,null,null,null,null,null,null,null,null,null,null,null,null,null,null,null,null,null,null,null,null,null,null,null,null,null,null,null,null,null,null,null,null,null,null,null,null,null,null,null,null,null,null,null,null,null,null,null,null,null,null,null,null,null,{"$error":"#VALUE!"},"B4",null,{"$f":"IF(ISERROR(HLOOKUP($BP47,補助!$AW$2:$BE$9,8,FALSE))=TRUE,\"\",HLOOKUP($BP47,補助!$AW$2:$BE$9,8,FALSE))","v":""},{"$f":"IF(ISERROR(HLOOKUP($BQ47,補助!$AW$2:$BE$9,8,FALSE))=TRUE,\"\",HLOOKUP($BQ47,補助!$AW$2:$BE$9,8,FALSE))","v":""},{"$f":"IF(ISERROR(HLOOKUP($BR47,補助!$AW$2:$BE$9,8,FALSE))=TRUE,\"\",HLOOKUP($BR47,補助!$AW$2:$BE$9,8,FALSE))","v":""},{"$f":"IF(ISERROR(HLOOKUP($BS47,補助!$AW$2:$BE$9,8,FALSE))=TRUE,\"\",HLOOKUP($BS47,補助!$AW$2:$BE$9,8,FALSE))","v":""},{"$f":"IF(ISERROR(HLOOKUP($BT47,補助!$AW$2:$BE$9,8,FALSE))=TRUE,\"\",HLOOKUP($BT47,補助!$AW$2:$BE$9,8,FALSE))","v":""},{"$f":"IF(ISERROR(HLOOKUP($BU47,補助!$AW$2:$BE$9,8,FALSE))=TRUE,\"\",HLOOKUP($BU47,補助!$AW$2:$BE$9,8,FALSE))","v":""},{"$f":"IF(ISERROR(HLOOKUP($BV47,補助!$AW$2:$BE$9,8,FALSE))=TRUE,\"\",HLOOKUP($BV47,補助!$AW$2:$BE$9,8,FALSE))","v":""},{"$f":"IF(ISERROR(HLOOKUP($BW47,補助!$AW$2:$BE$9,8,FALSE))=TRUE,\"\",HLOOKUP($BW47,補助!$AW$2:$BE$9,8,FALSE))","v":7},{"$f":"IF(ISERROR(HLOOKUP($BX47,補助!$AW$2:$BE$9,8,FALSE))=TRUE,\"\",HLOOKUP($BX47,補助!$AW$2:$BE$9,8,FALSE))","v":6},{"$f":"IF(ISERROR(HLOOKUP($BY47,補助!$AW$2:$BE$9,8,FALSE))=TRUE,\"\",HLOOKUP($BY47,補助!$AW$2:$BE$9,8,FALSE))","v":2},{"$f":"IF(ISERROR(HLOOKUP($BZ47,補助!$AW$2:$BE$9,8,FALSE))=TRUE,\"\",HLOOKUP($BZ47,補助!$AW$2:$BE$9,8,FALSE))","v":3},"762"]
[null,null,null,null,null,null,null,null,null,null,null,null,null,null,null,null,null,null,null,null,null,null,null,null,null,null,null,null,null,null,null,null,null,null,null,null,null,null,null,null,null,null,null,null,null,null,null,null,null,null,null,null,null,null,null,null,null,null,null,null,null,null,null,null,null,null,null,null,null,null,null,{"$error":"#VALUE!"},"B4",null,{"$f":"IF(ISERROR(HLOOKUP($BP48,補助!$AW$2:$BE$9,8,FALSE))=TRUE,\"\",HLOOKUP($BP48,補助!$AW$2:$BE$9,8,FALSE))","v":""},{"$f":"IF(ISERROR(HLOOKUP($BQ48,補助!$AW$2:$BE$9,8,FALSE))=TRUE,\"\",HLOOKUP($BQ48,補助!$AW$2:$BE$9,8,FALSE))","v":""},{"$f":"IF(ISERROR(HLOOKUP($BR48,補助!$AW$2:$BE$9,8,FALSE))=TRUE,\"\",HLOOKUP($BR48,補助!$AW$2:$BE$9,8,FALSE))","v":""},{"$f":"IF(ISERROR(HLOOKUP($BS48,補助!$AW$2:$BE$9,8,FALSE))=TRUE,\"\",HLOOKUP($BS48,補助!$AW$2:$BE$9,8,FALSE))","v":""},{"$f":"IF(ISERROR(HLOOKUP($BT48,補助!$AW$2:$BE$9,8,FALSE))=TRUE,\"\",HLOOKUP($BT48,補助!$AW$2:$BE$9,8,FALSE))","v":""},{"$f":"IF(ISERROR(HLOOKUP($BU48,補助!$AW$2:$BE$9,8,FALSE))=TRUE,\"\",HLOOKUP($BU48,補助!$AW$2:$BE$9,8,FALSE))","v":""},{"$f":"IF(ISERROR(HLOOKUP($BV48,補助!$AW$2:$BE$9,8,FALSE))=TRUE,\"\",HLOOKUP($BV48,補助!$AW$2:$BE$9,8,FALSE))","v":""},{"$f":"IF(ISERROR(HLOOKUP($BW48,補助!$AW$2:$BE$9,8,FALSE))=TRUE,\"\",HLOOKUP($BW48,補助!$AW$2:$BE$9,8,FALSE))","v":7},{"$f":"IF(ISERROR(HLOOKUP($BX48,補助!$AW$2:$BE$9,8,FALSE))=TRUE,\"\",HLOOKUP($BX48,補助!$AW$2:$BE$9,8,FALSE))","v":3},{"$f":"IF(ISERROR(HLOOKUP($BY48,補助!$AW$2:$BE$9,8,FALSE))=TRUE,\"\",HLOOKUP($BY48,補助!$AW$2:$BE$9,8,FALSE))","v":9},{"$f":"IF(ISERROR(HLOOKUP($BZ48,補助!$AW$2:$BE$9,8,FALSE))=TRUE,\"\",HLOOKUP($BZ48,補助!$AW$2:$BE$9,8,FALSE))","v":""},"739"]
[null,null,null,null,null,null,null,null,null,null,null,null,null,null,null,null,null,null,null,null,null,null,null,null,null,null,null,null,null,null,null,null,null,null,null,null,null,null,null,null,null,null,null,null,null,null,null,null,null,null,null,null,null,null,null,null,null,null,null,null,null,null,null,null,null,null,null,null,null,null,null,{"$error":"#VALUE!"},"B4",null,{"$f":"IF(ISERROR(HLOOKUP($BP49,補助!$AW$2:$BE$9,8,FALSE))=TRUE,\"\",HLOOKUP($BP49,補助!$AW$2:$BE$9,8,FALSE))","v":""},{"$f":"IF(ISERROR(HLOOKUP($BQ49,補助!$AW$2:$BE$9,8,FALSE))=TRUE,\"\",HLOOKUP($BQ49,補助!$AW$2:$BE$9,8,FALSE))","v":""},{"$f":"IF(ISERROR(HLOOKUP($BR49,補助!$AW$2:$BE$9,8,FALSE))=TRUE,\"\",HLOOKUP($BR49,補助!$AW$2:$BE$9,8,FALSE))","v":""},{"$f":"IF(ISERROR(HLOOKUP($BS49,補助!$AW$2:$BE$9,8,FALSE))=TRUE,\"\",HLOOKUP($BS49,補助!$AW$2:$BE$9,8,FALSE))","v":""},{"$f":"IF(ISERROR(HLOOKUP($BT49,補助!$AW$2:$BE$9,8,FALSE))=TRUE,\"\",HLOOKUP($BT49,補助!$AW$2:$BE$9,8,FALSE))","v":""},{"$f":"IF(ISERROR(HLOOKUP($BU49,補助!$AW$2:$BE$9,8,FALSE))=TRUE,\"\",HLOOKUP($BU49,補助!$AW$2:$BE$9,8,FALSE))","v":""},{"$f":"IF(ISERROR(HLOOKUP($BV49,補助!$AW$2:$BE$9,8,FALSE))=TRUE,\"\",HLOOKUP($BV49,補助!$AW$2:$BE$9,8,FALSE))","v":""},{"$f":"IF(ISERROR(HLOOKUP($BW49,補助!$AW$2:$BE$9,8,FALSE))=TRUE,\"\",HLOOKUP($BW49,補助!$AW$2:$BE$9,8,FALSE))","v":7},{"$f":"IF(ISERROR(HLOOKUP($BX49,補助!$AW$2:$BE$9,8,FALSE))=TRUE,\"\",HLOOKUP($BX49,補助!$AW$2:$BE$9,8,FALSE))","v":3},{"$f":"IF(ISERROR(HLOOKUP($BY49,補助!$AW$2:$BE$9,8,FALSE))=TRUE,\"\",HLOOKUP($BY49,補助!$AW$2:$BE$9,8,FALSE))","v":1},{"$f":"IF(ISERROR(HLOOKUP($BZ49,補助!$AW$2:$BE$9,8,FALSE))=TRUE,\"\",HLOOKUP($BZ49,補助!$AW$2:$BE$9,8,FALSE))","v":""},"731"]
[null,null,null,null,null,null,null,null,null,null,null,null,null,null,null,null,null,null,null,null,null,null,null,null,null,null,null,null,null,null,null,null,null,null,null,null,null,null,null,null,null,null,null,null,null,null,null,null,null,null,null,null,null,null,null,null,null,null,null,null,null,null,null,null,null,null,null,null,null,null,null,{"$error":"#VALUE!"},"B4","白",{"$f":"IF(ISERROR(HLOOKUP($BP50,補助!$AW$2:$BE$9,8,FALSE))=TRUE,\"\",HLOOKUP($BP50,補助!$AW$2:$BE$9,8,FALSE))","v":""},{"$f":"IF(ISERROR(HLOOKUP($BQ50,補助!$AW$2:$BE$9,8,FALSE))=TRUE,\"\",HLOOKUP($BQ50,補助!$AW$2:$BE$9,8,FALSE))","v":""},{"$f":"IF(ISERROR(HLOOKUP($BR50,補助!$AW$2:$BE$9,8,FALSE))=TRUE,\"\",HLOOKUP($BR50,補助!$AW$2:$BE$9,8,FALSE))","v":""},{"$f":"IF(ISERROR(HLOOKUP($BS50,補助!$AW$2:$BE$9,8,FALSE))=TRUE,\"\",HLOOKUP($BS50,補助!$AW$2:$BE$9,8,FALSE))","v":""},{"$f":"IF(ISERROR(HLOOKUP($BT50,補助!$AW$2:$BE$9,8,FALSE))=TRUE,\"\",HLOOKUP($BT50,補助!$AW$2:$BE$9,8,FALSE))","v":""},{"$f":"IF(ISERROR(HLOOKUP($BU50,補助!$AW$2:$BE$9,8,FALSE))=TRUE,\"\",HLOOKUP($BU50,補助!$AW$2:$BE$9,8,FALSE))","v":""},{"$f":"IF(ISERROR(HLOOKUP($BV50,補助!$AW$2:$BE$9,8,FALSE))=TRUE,\"\",HLOOKUP($BV50,補助!$AW$2:$BE$9,8,FALSE))","v":""},{"$f":"IF(ISERROR(HLOOKUP($BW50,補助!$AW$2:$BE$9,8,FALSE))=TRUE,\"\",HLOOKUP($BW50,補助!$AW$2:$BE$9,8,FALSE))","v":7},{"$f":"IF(ISERROR(HLOOKUP($BX50,補助!$AW$2:$BE$9,8,FALSE))=TRUE,\"\",HLOOKUP($BX50,補助!$AW$2:$BE$9,8,FALSE))","v":3},{"$f":"IF(ISERROR(HLOOKUP($BY50,補助!$AW$2:$BE$9,8,FALSE))=TRUE,\"\",HLOOKUP($BY50,補助!$AW$2:$BE$9,8,FALSE))","v":8},{"$f":"IF(ISERROR(HLOOKUP($BZ50,補助!$AW$2:$BE$9,8,FALSE))=TRUE,\"\",HLOOKUP($BZ50,補助!$AW$2:$BE$9,8,FALSE))","v":""},"738"]
[null,null,null,null,null,null,null,null,null,null,null,null,null,null,null,null,null,null,null,null,null,null,null,null,null,null,null,null,null,null,null,null,null,null,null,null,null,null,null,null,null,null,null,null,null,null,null,null,null,null,null,null,null,null,null,null,null,null,null,null,null,null,null,null,null,null,null,null,null,null,null,{"$error":"#VALUE!"},"B4","白",{"$f":"IF(ISERROR(HLOOKUP($BP51,補助!$AW$2:$BE$9,8,FALSE))=TRUE,\"\",HLOOKUP($BP51,補助!$AW$2:$BE$9,8,FALSE))","v":""},{"$f":"IF(ISERROR(HLOOKUP($BQ51,補助!$AW$2:$BE$9,8,FALSE))=TRUE,\"\",HLOOKUP($BQ51,補助!$AW$2:$BE$9,8,FALSE))","v":""},{"$f":"IF(ISERROR(HLOOKUP($BR51,補助!$AW$2:$BE$9,8,FALSE))=TRUE,\"\",HLOOKUP($BR51,補助!$AW$2:$BE$9,8,FALSE))","v":""},{"$f":"IF(ISERROR(HLOOKUP($BS51,補助!$AW$2:$BE$9,8,FALSE))=TRUE,\"\",HLOOKUP($BS51,補助!$AW$2:$BE$9,8,FALSE))","v":""},{"$f":"IF(ISERROR(HLOOKUP($BT51,補助!$AW$2:$BE$9,8,FALSE))=TRUE,\"\",HLOOKUP($BT51,補助!$AW$2:$BE$9,8,FALSE))","v":""},{"$f":"IF(ISERROR(HLOOKUP($BU51,補助!$AW$2:$BE$9,8,FALSE))=TRUE,\"\",HLOOKUP($BU51,補助!$AW$2:$BE$9,8,FALSE))","v":""},{"$f":"IF(ISERROR(HLOOKUP($BV51,補助!$AW$2:$BE$9,8,FALSE))=TRUE,\"\",HLOOKUP($BV51,補助!$AW$2:$BE$9,8,FALSE))","v":""},{"$f":"IF(ISERROR(HLOOKUP($BW51,補助!$AW$2:$BE$9,8,FALSE))=TRUE,\"\",HLOOKUP($BW51,補助!$AW$2:$BE$9,8,FALSE))","v":7},{"$f":"IF(ISERROR(HLOOKUP($BX51,補助!$AW$2:$BE$9,8,FALSE))=TRUE,\"\",HLOOKUP($BX51,補助!$AW$2:$BE$9,8,FALSE))","v":3},{"$f":"IF(ISERROR(HLOOKUP($BY51,補助!$AW$2:$BE$9,8,FALSE))=TRUE,\"\",HLOOKUP($BY51,補助!$AW$2:$BE$9,8,FALSE))","v":4},{"$f":"IF(ISERROR(HLOOKUP($BZ51,補助!$AW$2:$BE$9,8,FALSE))=TRUE,\"\",HLOOKUP($BZ51,補助!$AW$2:$BE$9,8,FALSE))","v":""},"734"]
[null,null,null,null,null,null,null,null,null,null,null,null,null,null,null,null,null,null,null,null,null,null,null,null,null,null,null,null,null,null,null,null,null,null,null,null,null,null,null,null,null,null,null,null,null,null,null,null,null,null,null,null,null,null,null,null,null,null,null,null,null,null,null,null,null,null,null,null,null,null,null,{"$error":"#VALUE!"},"B4",null,{"$f":"IF(ISERROR(HLOOKUP($BP52,補助!$AW$2:$BE$9,8,FALSE))=TRUE,\"\",HLOOKUP($BP52,補助!$AW$2:$BE$9,8,FALSE))","v":""},{"$f":"IF(ISERROR(HLOOKUP($BQ52,補助!$AW$2:$BE$9,8,FALSE))=TRUE,\"\",HLOOKUP($BQ52,補助!$AW$2:$BE$9,8,FALSE))","v":""},{"$f":"IF(ISERROR(HLOOKUP($BR52,補助!$AW$2:$BE$9,8,FALSE))=TRUE,\"\",HLOOKUP($BR52,補助!$AW$2:$BE$9,8,FALSE))","v":""},{"$f":"IF(ISERROR(HLOOKUP($BS52,補助!$AW$2:$BE$9,8,FALSE))=TRUE,\"\",HLOOKUP($BS52,補助!$AW$2:$BE$9,8,FALSE))","v":""},{"$f":"IF(ISERROR(HLOOKUP($BT52,補助!$AW$2:$BE$9,8,FALSE))=TRUE,\"\",HLOOKUP($BT52,補助!$AW$2:$BE$9,8,FALSE))","v":""},{"$f":"IF(ISERROR(HLOOKUP($BU52,補助!$AW$2:$BE$9,8,FALSE))=TRUE,\"\",HLOOKUP($BU52,補助!$AW$2:$BE$9,8,FALSE))","v":""},{"$f":"IF(ISERROR(HLOOKUP($BV52,補助!$AW$2:$BE$9,8,FALSE))=TRUE,\"\",HLOOKUP($BV52,補助!$AW$2:$BE$9,8,FALSE))","v":""},{"$f":"IF(ISERROR(HLOOKUP($BW52,補助!$AW$2:$BE$9,8,FALSE))=TRUE,\"\",HLOOKUP($BW52,補助!$AW$2:$BE$9,8,FALSE))","v":8},{"$f":"IF(ISERROR(HLOOKUP($BX52,補助!$AW$2:$BE$9,8,FALSE))=TRUE,\"\",HLOOKUP($BX52,補助!$AW$2:$BE$9,8,FALSE))","v":4},{"$f":"IF(ISERROR(HLOOKUP($BY52,補助!$AW$2:$BE$9,8,FALSE))=TRUE,\"\",HLOOKUP($BY52,補助!$AW$2:$BE$9,8,FALSE))","v":5},{"$f":"IF(ISERROR(HLOOKUP($BZ52,補助!$AW$2:$BE$9,8,FALSE))=TRUE,\"\",HLOOKUP($BZ52,補助!$AW$2:$BE$9,8,FALSE))","v":""},"845"]
[null,null,null,null,null,null,null,null,null,null,null,null,null,null,null,null,null,null,null,null,null,null,null,null,null,null,null,null,null,null,null,null,null,null,null,null,null,null,null,null,null,null,null,null,null,null,null,null,null,null,null,null,null,null,null,null,null,null,null,null,null,null,null,null,null,null,null,null,null,null,null,{"$error":"#VALUE!"},"B4",null,{"$f":"IF(ISERROR(HLOOKUP($BP53,補助!$AW$2:$BE$9,8,FALSE))=TRUE,\"\",HLOOKUP($BP53,補助!$AW$2:$BE$9,8,FALSE))","v":""},{"$f":"IF(ISERROR(HLOOKUP($BQ53,補助!$AW$2:$BE$9,8,FALSE))=TRUE,\"\",HLOOKUP($BQ53,補助!$AW$2:$BE$9,8,FALSE))","v":""},{"$f":"IF(ISERROR(HLOOKUP($BR53,補助!$AW$2:$BE$9,8,FALSE))=TRUE,\"\",HLOOKUP($BR53,補助!$AW$2:$BE$9,8,FALSE))","v":""},{"$f":"IF(ISERROR(HLOOKUP($BS53,補助!$AW$2:$BE$9,8,FALSE))=TRUE,\"\",HLOOKUP($BS53,補助!$AW$2:$BE$9,8,FALSE))","v":""},{"$f":"IF(ISERROR(HLOOKUP($BT53,補助!$AW$2:$BE$9,8,FALSE))=TRUE,\"\",HLOOKUP($BT53,補助!$AW$2:$BE$9,8,FALSE))","v":""},{"$f":"IF(ISERROR(HLOOKUP($BU53,補助!$AW$2:$BE$9,8,FALSE))=TRUE,\"\",HLOOKUP($BU53,補助!$AW$2:$BE$9,8,FALSE))","v":""},{"$f":"IF(ISERROR(HLOOKUP($BV53,補助!$AW$2:$BE$9,8,FALSE))=TRUE,\"\",HLOOKUP($BV53,補助!$AW$2:$BE$9,8,FALSE))","v":""},{"$f":"IF(ISERROR(HLOOKUP($BW53,補助!$AW$2:$BE$9,8,FALSE))=TRUE,\"\",HLOOKUP($BW53,補助!$AW$2:$BE$9,8,FALSE))","v":8},{"$f":"IF(ISERROR(HLOOKUP($BX53,補助!$AW$2:$BE$9,8,FALSE))=TRUE,\"\",HLOOKUP($BX53,補助!$AW$2:$BE$9,8,FALSE))","v":6},{"$f":"IF(ISERROR(HLOOKUP($BY53,補助!$AW$2:$BE$9,8,FALSE))=TRUE,\"\",HLOOKUP($BY53,補助!$AW$2:$BE$9,8,FALSE))","v":5},{"$f":"IF(ISERROR(HLOOKUP($BZ53,補助!$AW$2:$BE$9,8,FALSE))=TRUE,\"\",HLOOKUP($BZ53,補助!$AW$2:$BE$9,8,FALSE))","v":""},"865"]
[null,null,null,null,null,null,null,null,null,null,null,null,null,null,null,null,null,null,null,null,null,null,null,null,null,null,null,null,null,null,null,null,null,null,null,null,null,null,null,null,null,null,null,null,null,null,null,null,null,null,null,null,null,null,null,null,null,null,null,null,null,null,null,null,null,null,null,null,null,null,null,{"$error":"#VALUE!"},"B4",null,{"$f":"IF(ISERROR(HLOOKUP($BP54,補助!$AW$2:$BE$9,8,FALSE))=TRUE,\"\",HLOOKUP($BP54,補助!$AW$2:$BE$9,8,FALSE))","v":""},{"$f":"IF(ISERROR(HLOOKUP($BQ54,補助!$AW$2:$BE$9,8,FALSE))=TRUE,\"\",HLOOKUP($BQ54,補助!$AW$2:$BE$9,8,FALSE))","v":""},{"$f":"IF(ISERROR(HLOOKUP($BR54,補助!$AW$2:$BE$9,8,FALSE))=TRUE,\"\",HLOOKUP($BR54,補助!$AW$2:$BE$9,8,FALSE))","v":""},{"$f":"IF(ISERROR(HLOOKUP($BS54,補助!$AW$2:$BE$9,8,FALSE))=TRUE,\"\",HLOOKUP($BS54,補助!$AW$2:$BE$9,8,FALSE))","v":""},{"$f":"IF(ISERROR(HLOOKUP($BT54,補助!$AW$2:$BE$9,8,FALSE))=TRUE,\"\",HLOOKUP($BT54,補助!$AW$2:$BE$9,8,FALSE))","v":""},{"$f":"IF(ISERROR(HLOOKUP($BU54,補助!$AW$2:$BE$9,8,FALSE))=TRUE,\"\",HLOOKUP($BU54,補助!$AW$2:$BE$9,8,FALSE))","v":""},{"$f":"IF(ISERROR(HLOOKUP($BV54,補助!$AW$2:$BE$9,8,FALSE))=TRUE,\"\",HLOOKUP($BV54,補助!$AW$2:$BE$9,8,FALSE))","v":""},{"$f":"IF(ISERROR(HLOOKUP($BW54,補助!$AW$2:$BE$9,8,FALSE))=TRUE,\"\",HLOOKUP($BW54,補助!$AW$2:$BE$9,8,FALSE))","v":8},{"$f":"IF(ISERROR(HLOOKUP($BX54,補助!$AW$2:$BE$9,8,FALSE))=TRUE,\"\",HLOOKUP($BX54,補助!$AW$2:$BE$9,8,FALSE))","v":1},{"$f":"IF(ISERROR(HLOOKUP($BY54,補助!$AW$2:$BE$9,8,FALSE))=TRUE,\"\",HLOOKUP($BY54,補助!$AW$2:$BE$9,8,FALSE))","v":7},{"$f":"IF(ISERROR(HLOOKUP($BZ54,補助!$AW$2:$BE$9,8,FALSE))=TRUE,\"\",HLOOKUP($BZ54,補助!$AW$2:$BE$9,8,FALSE))","v":""},"817"]
[null,null,null,null,null,null,null,null,null,null,null,null,null,null,null,null,null,null,null,null,null,null,null,null,null,null,null,null,null,null,null,null,null,null,null,null,null,null,null,null,null,null,null,null,null,null,null,null,null,null,null,null,null,null,null,null,null,null,null,null,null,null,null,null,null,null,null,null,null,null,null,{"$error":"#VALUE!"},"B4",null,{"$f":"IF(ISERROR(HLOOKUP($BP55,補助!$AW$2:$BE$9,8,FALSE))=TRUE,\"\",HLOOKUP($BP55,補助!$AW$2:$BE$9,8,FALSE))","v":""},{"$f":"IF(ISERROR(HLOOKUP($BQ55,補助!$AW$2:$BE$9,8,FALSE))=TRUE,\"\",HLOOKUP($BQ55,補助!$AW$2:$BE$9,8,FALSE))","v":""},{"$f":"IF(ISERROR(HLOOKUP($BR55,補助!$AW$2:$BE$9,8,FALSE))=TRUE,\"\",HLOOKUP($BR55,補助!$AW$2:$BE$9,8,FALSE))","v":""},{"$f":"IF(ISERROR(HLOOKUP($BS55,補助!$AW$2:$BE$9,8,FALSE))=TRUE,\"\",HLOOKUP($BS55,補助!$AW$2:$BE$9,8,FALSE))","v":""},{"$f":"IF(ISERROR(HLOOKUP($BT55,補助!$AW$2:$BE$9,8,FALSE))=TRUE,\"\",HLOOKUP($BT55,補助!$AW$2:$BE$9,8,FALSE))","v":""},{"$f":"IF(ISERROR(HLOOKUP($BU55,補助!$AW$2:$BE$9,8,FALSE))=TRUE,\"\",HLOOKUP($BU55,補助!$AW$2:$BE$9,8,FALSE))","v":""},{"$f":"IF(ISERROR(HLOOKUP($BV55,補助!$AW$2:$BE$9,8,FALSE))=TRUE,\"\",HLOOKUP($BV55,補助!$AW$2:$BE$9,8,FALSE))","v":""},{"$f":"IF(ISERROR(HLOOKUP($BW55,補助!$AW$2:$BE$9,8,FALSE))=TRUE,\"\",HLOOKUP($BW55,補助!$AW$2:$BE$9,8,FALSE))","v":8},{"$f":"IF(ISERROR(HLOOKUP($BX55,補助!$AW$2:$BE$9,8,FALSE))=TRUE,\"\",HLOOKUP($BX55,補助!$AW$2:$BE$9,8,FALSE))","v":3},{"$f":"IF(ISERROR(HLOOKUP($BY55,補助!$AW$2:$BE$9,8,FALSE))=TRUE,\"\",HLOOKUP($BY55,補助!$AW$2:$BE$9,8,FALSE))","v":9},{"$f":"IF(ISERROR(HLOOKUP($BZ55,補助!$AW$2:$BE$9,8,FALSE))=TRUE,\"\",HLOOKUP($BZ55,補助!$AW$2:$BE$9,8,FALSE))","v":""},"839"]
[null,null,null,null,null,null,null,null,null,null,null,null,null,null,null,null,null,null,null,null,null,null,null,null,null,null,null,null,null,null,null,null,null,null,null,null,null,null,null,null,null,null,null,null,null,null,null,null,null,null,null,null,null,null,null,null,null,null,null,null,null,null,null,null,null,null,null,null,null,null,null,{"$error":"#VALUE!"},"B4",null,{"$f":"IF(ISERROR(HLOOKUP($BP56,補助!$AW$2:$BE$9,8,FALSE))=TRUE,\"\",HLOOKUP($BP56,補助!$AW$2:$BE$9,8,FALSE))","v":""},{"$f":"IF(ISERROR(HLOOKUP($BQ56,補助!$AW$2:$BE$9,8,FALSE))=TRUE,\"\",HLOOKUP($BQ56,補助!$AW$2:$BE$9,8,FALSE))","v":""},{"$f":"IF(ISERROR(HLOOKUP($BR56,補助!$AW$2:$BE$9,8,FALSE))=TRUE,\"\",HLOOKUP($BR56,補助!$AW$2:$BE$9,8,FALSE))","v":""},{"$f":"IF(ISERROR(HLOOKUP($BS56,補助!$AW$2:$BE$9,8,FALSE))=TRUE,\"\",HLOOKUP($BS56,補助!$AW$2:$BE$9,8,FALSE))","v":""},{"$f":"IF(ISERROR(HLOOKUP($BT56,補助!$AW$2:$BE$9,8,FALSE))=TRUE,\"\",HLOOKUP($BT56,補助!$AW$2:$BE$9,8,FALSE))","v":""},{"$f":"IF(ISERROR(HLOOKUP($BU56,補助!$AW$2:$BE$9,8,FALSE))=TRUE,\"\",HLOOKUP($BU56,補助!$AW$2:$BE$9,8,FALSE))","v":""},{"$f":"IF(ISERROR(HLOOKUP($BV56,補助!$AW$2:$BE$9,8,FALSE))=TRUE,\"\",HLOOKUP($BV56,補助!$AW$2:$BE$9,8,FALSE))","v":""},{"$f":"IF(ISERROR(HLOOKUP($BW56,補助!$AW$2:$BE$9,8,FALSE))=TRUE,\"\",HLOOKUP($BW56,補助!$AW$2:$BE$9,8,FALSE))","v":5},{"$f":"IF(ISERROR(HLOOKUP($BX56,補助!$AW$2:$BE$9,8,FALSE))=TRUE,\"\",HLOOKUP($BX56,補助!$AW$2:$BE$9,8,FALSE))","v":8},{"$f":"IF(ISERROR(HLOOKUP($BY56,補助!$AW$2:$BE$9,8,FALSE))=TRUE,\"\",HLOOKUP($BY56,補助!$AW$2:$BE$9,8,FALSE))","v":9},{"$f":"IF(ISERROR(HLOOKUP($BZ56,補助!$AW$2:$BE$9,8,FALSE))=TRUE,\"\",HLOOKUP($BZ56,補助!$AW$2:$BE$9,8,FALSE))","v":""},"589"]
[null,null,null,null,null,null,null,null,null,null,null,null,null,null,null,null,null,null,null,null,null,null,null,null,null,null,null,null,null,null,null,null,null,null,null,null,null,null,null,null,null,null,null,null,null,null,null,null,null,null,null,null,null,null,null,null,null,null,null,null,null,null,null,null,null,null,null,null,null,null,null,{"$error":"#VALUE!"},"B4",null,{"$f":"IF(ISERROR(HLOOKUP($BP57,補助!$AW$2:$BE$9,8,FALSE))=TRUE,\"\",HLOOKUP($BP57,補助!$AW$2:$BE$9,8,FALSE))","v":""},{"$f":"IF(ISERROR(HLOOKUP($BQ57,補助!$AW$2:$BE$9,8,FALSE))=TRUE,\"\",HLOOKUP($BQ57,補助!$AW$2:$BE$9,8,FALSE))","v":""},{"$f":"IF(ISERROR(HLOOKUP($BR57,補助!$AW$2:$BE$9,8,FALSE))=TRUE,\"\",HLOOKUP($BR57,補助!$AW$2:$BE$9,8,FALSE))","v":""},{"$f":"IF(ISERROR(HLOOKUP($BS57,補助!$AW$2:$BE$9,8,FALSE))=TRUE,\"\",HLOOKUP($BS57,補助!$AW$2:$BE$9,8,FALSE))","v":""},{"$f":"IF(ISERROR(HLOOKUP($BT57,補助!$AW$2:$BE$9,8,FALSE))=TRUE,\"\",HLOOKUP($BT57,補助!$AW$2:$BE$9,8,FALSE))","v":""},{"$f":"IF(ISERROR(HLOOKUP($BU57,補助!$AW$2:$BE$9,8,FALSE))=TRUE,\"\",HLOOKUP($BU57,補助!$AW$2:$BE$9,8,FALSE))","v":""},{"$f":"IF(ISERROR(HLOOKUP($BV57,補助!$AW$2:$BE$9,8,FALSE))=TRUE,\"\",HLOOKUP($BV57,補助!$AW$2:$BE$9,8,FALSE))","v":""},{"$f":"IF(ISERROR(HLOOKUP($BW57,補助!$AW$2:$BE$9,8,FALSE))=TRUE,\"\",HLOOKUP($BW57,補助!$AW$2:$BE$9,8,FALSE))","v":5},{"$f":"IF(ISERROR(HLOOKUP($BX57,補助!$AW$2:$BE$9,8,FALSE))=TRUE,\"\",HLOOKUP($BX57,補助!$AW$2:$BE$9,8,FALSE))","v":8},{"$f":"IF(ISERROR(HLOOKUP($BY57,補助!$AW$2:$BE$9,8,FALSE))=TRUE,\"\",HLOOKUP($BY57,補助!$AW$2:$BE$9,8,FALSE))","v":7},{"$f":"IF(ISERROR(HLOOKUP($BZ57,補助!$AW$2:$BE$9,8,FALSE))=TRUE,\"\",HLOOKUP($BZ57,補助!$AW$2:$BE$9,8,FALSE))","v":""},"587"]
[null,null,null,null,null,null,null,null,null,null,null,null,null,null,null,null,null,null,null,null,null,null,null,null,null,null,null,null,null,null,null,null,null,null,null,null,null,null,null,null,null,null,null,null,null,null,null,null,null,null,null,null,null,null,null,null,null,null,null,null,null,null,null,null,null,null,null,null,null,null,null,{"$error":"#VALUE!"},"B4",null,{"$f":"IF(ISERROR(HLOOKUP($BP58,補助!$AW$2:$BE$9,8,FALSE))=TRUE,\"\",HLOOKUP($BP58,補助!$AW$2:$BE$9,8,FALSE))","v":""},{"$f":"IF(ISERROR(HLOOKUP($BQ58,補助!$AW$2:$BE$9,8,FALSE))=TRUE,\"\",HLOOKUP($BQ58,補助!$AW$2:$BE$9,8,FALSE))","v":""},{"$f":"IF(ISERROR(HLOOKUP($BR58,補助!$AW$2:$BE$9,8,FALSE))=TRUE,\"\",HLOOKUP($BR58,補助!$AW$2:$BE$9,8,FALSE))","v":""},{"$f":"IF(ISERROR(HLOOKUP($BS58,補助!$AW$2:$BE$9,8,FALSE))=TRUE,\"\",HLOOKUP($BS58,補助!$AW$2:$BE$9,8,FALSE))","v":""},{"$f":"IF(ISERROR(HLOOKUP($BT58,補助!$AW$2:$BE$9,8,FALSE))=TRUE,\"\",HLOOKUP($BT58,補助!$AW$2:$BE$9,8,FALSE))","v":""},{"$f":"IF(ISERROR(HLOOKUP($BU58,補助!$AW$2:$BE$9,8,FALSE))=TRUE,\"\",HLOOKUP($BU58,補助!$AW$2:$BE$9,8,FALSE))","v":""},{"$f":"IF(ISERROR(HLOOKUP($BV58,補助!$AW$2:$BE$9,8,FALSE))=TRUE,\"\",HLOOKUP($BV58,補助!$AW$2:$BE$9,8,FALSE))","v":""},{"$f":"IF(ISERROR(HLOOKUP($BW58,補助!$AW$2:$BE$9,8,FALSE))=TRUE,\"\",HLOOKUP($BW58,補助!$AW$2:$BE$9,8,FALSE))","v":5},{"$f":"IF(ISERROR(HLOOKUP($BX58,補助!$AW$2:$BE$9,8,FALSE))=TRUE,\"\",HLOOKUP($BX58,補助!$AW$2:$BE$9,8,FALSE))","v":8},{"$f":"IF(ISERROR(HLOOKUP($BY58,補助!$AW$2:$BE$9,8,FALSE))=TRUE,\"\",HLOOKUP($BY58,補助!$AW$2:$BE$9,8,FALSE))","v":1},{"$f":"IF(ISERROR(HLOOKUP($BZ58,補助!$AW$2:$BE$9,8,FALSE))=TRUE,\"\",HLOOKUP($BZ58,補助!$AW$2:$BE$9,8,FALSE))","v":""},"581"]
[null,null,null,null,null,null,null,null,null,null,null,null,null,null,null,null,null,null,null,null,null,null,null,null,null,null,null,null,null,null,null,null,null,null,null,null,null,null,null,null,null,null,null,null,null,null,null,null,null,null,null,null,null,null,null,null,null,null,null,null,null,null,null,null,null,null,null,null,null,null,null,{"$error":"#VALUE!"},"B4",null,{"$f":"IF(ISERROR(HLOOKUP($BP59,補助!$AW$2:$BE$9,8,FALSE))=TRUE,\"\",HLOOKUP($BP59,補助!$AW$2:$BE$9,8,FALSE))","v":""},{"$f":"IF(ISERROR(HLOOKUP($BQ59,補助!$AW$2:$BE$9,8,FALSE))=TRUE,\"\",HLOOKUP($BQ59,補助!$AW$2:$BE$9,8,FALSE))","v":""},{"$f":"IF(ISERROR(HLOOKUP($BR59,補助!$AW$2:$BE$9,8,FALSE))=TRUE,\"\",HLOOKUP($BR59,補助!$AW$2:$BE$9,8,FALSE))","v":""},{"$f":"IF(ISERROR(HLOOKUP($BS59,補助!$AW$2:$BE$9,8,FALSE))=TRUE,\"\",HLOOKUP($BS59,補助!$AW$2:$BE$9,8,FALSE))","v":""},{"$f":"IF(ISERROR(HLOOKUP($BT59,補助!$AW$2:$BE$9,8,FALSE))=TRUE,\"\",HLOOKUP($BT59,補助!$AW$2:$BE$9,8,FALSE))","v":""},{"$f":"IF(ISERROR(HLOOKUP($BU59,補助!$AW$2:$BE$9,8,FALSE))=TRUE,\"\",HLOOKUP($BU59,補助!$AW$2:$BE$9,8,FALSE))","v":""},{"$f":"IF(ISERROR(HLOOKUP($BV59,補助!$AW$2:$BE$9,8,FALSE))=TRUE,\"\",HLOOKUP($BV59,補助!$AW$2:$BE$9,8,FALSE))","v":""},{"$f":"IF(ISERROR(HLOOKUP($BW59,補助!$AW$2:$BE$9,8,FALSE))=TRUE,\"\",HLOOKUP($BW59,補助!$AW$2:$BE$9,8,FALSE))","v":5},{"$f":"IF(ISERROR(HLOOKUP($BX59,補助!$AW$2:$BE$9,8,FALSE))=TRUE,\"\",HLOOKUP($BX59,補助!$AW$2:$BE$9,8,FALSE))","v":8},{"$f":"IF(ISERROR(HLOOKUP($BY59,補助!$AW$2:$BE$9,8,FALSE))=TRUE,\"\",HLOOKUP($BY59,補助!$AW$2:$BE$9,8,FALSE))","v":3},{"$f":"IF(ISERROR(HLOOKUP($BZ59,補助!$AW$2:$BE$9,8,FALSE))=TRUE,\"\",HLOOKUP($BZ59,補助!$AW$2:$BE$9,8,FALSE))","v":""},"583"]

{"sheet":"Sheet4","index":3,"n_rows":110,"n_cols":38,"rows_kept":110,"cut":false,"hidden":true,"merged":[]}
[]
[null,null,"❶","②","↓",null,"❶","②",null,null,"❶","②",null,null,"❶","②",null,null,null,null,null,null,null,null,null,null,null,"❶","②","❼"]
[null,null,"勝","勝","↓",null,"❸","❺",null,null,"④","❺",null,null,"❺","❸",null,null,null,null,null,null,null,null,null,null,null,"❾","④","⑧"]
[null,null,"勝","↓","引",null,"④",null,null,null,"❸",null,"❺",null,"❺",null,"④",null,null,null,null,null,null,null,null,null,null,"⑥","❺","❸"]
[null,null,1,2,4]
[null,null,1,2,5]
[null,null,1,2,7]
[]
[null,null,"❶","②","❸",null,"❶","②","❸",null,"❶","②","❸",null,"❶","②","❸",null,"❶","②","❸",null,"❶","②","❸",null,null,"❶","②","❸"]
[null,null,"勝","引","勝",null,"④","❺",null,null,null,"❺","④",null,null,null,null,null,null,"❺",null,null,null,null,null,null,null,null,"④"]
[null,null,"勝","勝","勝",null,null,null,"❺",null,"❺",null,null,null,"④",null,"❺",null,null,"④",null,null,"❺",null,"④",null,null,null,"❺"]
[null,null,1,2,3,4]
[null,null,1,2,3,6]
[null,null,1,2,3,7]
[null,null,1,2,3,8]
[null,null,1,2,3,9]
[null,null,"❶","②","勝",null,"❶","②","④",null,"❶","②",null,null,"❶","②",null,null,"❶","②",null,null,"❶","②",null,null,null,"❶","②","引"]
[null,null,"勝","引","❸",null,"❺",null,"❸",null,"④",null,"❸",null,null,null,"❸",null,null,null,"❸",null,"❺",null,"❸",null,null,"負","④","❸"]
[null,null,"勝","勝","勝",null,null,null,null,null,null,null,"❺",null,"④",null,"❺",null,null,"④","❺",null,null,null,"④",null,null,"引","❺","引"]
[null,null,1,2,6,3]
[null,null,1,2,6,4]
[null,null,1,2,6,7]
[null,null,1,2,6,8]
[null,null,1,2,6,9]
[null,null,1,2,6,5,8,4]
[null,null,"❶","②","勝",null,"❶","②","④",null,"❶","②",null,null,"❶","②",null,null,"❶","②",null,null,null,null,null,null,null,"❶","②",null,null,"❶","②","勝",null,"❶","②","❺"]
[null,null,"勝","勝","勝",null,null,null,null,null,"④",null,null,null,null,"④",null,null,null,null,"④",null,null,null,null,null,null,null,null,null,null,"引","引","❺",null,"引","引","勝"]
[null,null,"引","❸","引",null,"❺","❸","❺",null,null,"❸","❺",null,"❺","❸",null,null,"❺","❸","❺",null,null,null,null,null,null,"④","❸",null,null,"引","❸","④",null,"引","❸","④"]
[null,null,1,2,8,3]
[null,null,1,2,8,4]
[null,null,1,2,8,5]
[null,null,1,2,8,6]
[null,null,1,2,8,9,6,3]
[null,null,1,2,8,9,3,6]
[null,null,"❶","↓","②",null,"❶",null,"②",null,"❶",null,"②",null,"❶",null,"②"]
[null,null,"勝","引","↓",null,"❸","❺",null,null,"④",null,null,null,null,"④"]
[null,null,"勝","↓","勝",null,"④",null,null,null,"❸",null,"❺",null,"❺",null,"❸"]
[null,null,1,3,4]
[null,null,1,3,7]
[null,null,1,3,9]
[null,null,"❶","❸","②",null,"❶","❸","②",null,"❶","❸","②",null,"❶","❸","②",null,"❶","❸","②"]
[null,null,"勝","引","負",null,"④","❺",null,null,null,"❺",null,null,null,null,"❺",null,null,"⑥","④"]
[null,null,"勝","引","負",null,null,null,null,null,"④",null,null,null,"⑥",null,"④",null,null,null,"❺"]
[null,null,1,3,2,4]
[null,null,1,3,2,7]
[null,null,1,3,2,6]
[null,null,1,3,2,9]
[null,null,"❶",null,"②"]
[null,null,"⑥","❸","❺"]
[null,null,null,null,"④"]
[]
[null,null,"❶","勝","②",null,"❶","④","②",null,"❶",null,"②",null,"❶",null,"②",null,"❶",null,"②",null,"❶",null,"②"]
[null,null,"勝","勝","勝",null,null,null,null,null,"④","❺",null,null,null,"④",null,null,null,null,"④",null,null,"❺"]
[null,null,"勝","❸","引",null,"❺","❸","❺",null,null,"❸","❺",null,"❺","❸",null,null,null,"❸","❺",null,"④","❸"]
[null,null,1,3,8,2]
[null,null,1,3,8,4]
[null,null,1,3,8,5]
[null,null,1,3,8,6]
[null,null,1,3,8,7]
[null,null,"❶","勝","②",null,"❶","④","②",null,"❶",null,"②",null,"❶",null,"②"]
[null,null,"引","引","❸",null,"❺",null,"❸",null,"❺","❺","❸",null,"❺",null,"❸"]
[null,null,"引","勝","勝",null,null,null,null,null,null,"④",null,null,null,null,"④"]
[null,null,1,3,6,2]
[null,null,1,3,6,8]
[null,null,1,3,6,9]
[null,null,"❶","引","引",null,"❶","引","❺",null,"❶","引","④",null,"❶","引","❺",null,"❶","④","④"]
[null,null,"引","②","⇒",null,"④","②","❸",null,"引","②","引",null,"引","②","引",null,"引","②","引"]
[null,null,"引","⇒","⇒",null,"④","引","引",null,"❺","引","❸",null,"④","引","❸",null,"❺","❸","引"]
[]
[null,null,"❶","引","勝",null,"❶","④","❸",null,"❶",null,"❺",null,"❶"]
[null,null,"↓","勝","②",null,null,null,"②",null,null,"❸","②",null,"④","❺","②"]
[null,null,"勝","↓","引",null,"❺",null,null,null,null,null,"④",null,"❸"]
[null,null,1,6,3]
[null,null,1,6,5]
[null,null,1,6,7]
[null,null,"❶","負","引",null,"❶","❺","⑥",null,"❶",null,null,null,"❶",null,"⑥"]
[null,null,"❸","負","②",null,"❸",null,"②",null,"❸","❺","②",null,"❸",null,"②"]
[null,null,"④","負","引",null,"④",null,null,null,"④",null,"⑥",null,"④","❺"]
[null,null,1,6,4,7,2]
[null,null,1,6,4,7,5]
[null,null,1,6,4,7,8]
[null,null,"❶","勝","勝",null,"❶","④",null,null,"❶",null,null,null,"❶",null,null,null,"❶",null,"④",null,"❶",null,"❺"]
[null,null,"勝","引","②",null,null,null,"②",null,"④","❺","②",null,null,"❺","②",null,null,null,"②",null,null,null,"②"]
[null,null,"勝","❸","勝",null,"❺","❸",null,null,null,"❸",null,null,"④","❸",null,null,null,"❸","❺",null,null,"❸","④"]
[null,null,1,6,8,2]
[null,null,1,6,8,3]
[null,null,1,6,8,4]
[null,null,1,6,8,7]
[null,null,1,6,8,9]
[null,null,"❶","負","勝",null,"❶","④","❸",null,"❶",null,"❺",null,"❶","❸","④",null,"❶",null,"⑥"]
[null,null,"負","引","引",null,null,null,null,null,"④",null,null,null,null,null,"❺",null,"❸"]
[null,null,"勝","引","②",null,"❺",null,"②",null,"❸",null,"②",null,"⑥",null,"②",null,"④","❺","②"]
[null,null,1,9,3]
[null,null,1,9,7]
[null,null,1,9,2]
[null,null,1,9,4]
[null,null,"引","❶","引",null,"❺","❶","❺",null,"❸","❶","④",null,"❺","❶","❺",null,"④","❶","❸"]
[null,null,"勝","引","勝",null,"②","❸",null,null,null,"❺",null,null,null,"❸","②",null,null,"❺"]
[null,null,"勝","引","勝",null,null,"④",null,null,"②",null,null,null,null,"④",null,null,null,null,"②"]
[null,null,2,4,5]
[null,null,2,6,5]
[null,null,2,7,1]
[null,null,2,9,3]
[null,null,"引","勝","引",null,null,"②","❸",null,"❸","②",null,null,"❺","②","④",null,"④","②","❺"]
[null,null,"勝","❶","勝",null,null,"❶","❺",null,"❺","❶",null,null,null,"❶",null,null,null,"❶"]
[null,null,"引","勝","引",null,"④",null,"❺",null,"❺",null,"④",null,"❸",null,null,null,null,null,"❸"]
[null,null,5,2,3]
[null,null,5,2,1]
[null,null,5,2,7]
[null,null,5,2,9]

{"sheet":"勝ちパターン","index":4,"n_rows":51,"n_cols":23,"rows_kept":51,"cut":false,"hidden":true,"merged":[]}
[]
[null,null,null,null,null,null,null,null,null,null,"●",null,null,null,"●",null,null,null,"●","△","●"]
[null,null,null,"●",null,null,"○","●",null,null,"○","●",null,null,"○","●",null,null,"○","●",null,null,"黒勝ち"]
[null,null,null,null,null,null,null,null,null,null,null,null,null,null,null,null,"○",null,"△",null,"○"]
[]
[null,null,null,null,null,null,"○"]
[null,null,null,"●",null,null,null,"●",null,null,null,null,null,null,null,null,null,null,null,null,null,null,"引き分け"]
[]
[]
[null,null,"●",null,null,null,"●","○",null,null,"●","○",null,null,"●","○",null,null,"●","○","△"]
[null,null,null,null,null,null,null,null,null,null,null,null,null,null,"○",null,null,null,"○","●",null,null,"黒勝ち"]
[null,null,null,null,null,null,null,null,null,null,"●",null,null,null,"●",null,null,null,"●",null,"△"]
[]
[null,null,"●",null,null,null,"●"]
[null,null,null,null,null,null,null,"○",null,null,null,null,null,null,null,null,null,null,null,null,null,null,"引き分け"]
[]
[]
[null,null,"●",null,null,null,"●",null,"○",null,"●",null,"○",null,"●",null,"○",null,"●",null,"○"]
[null,null,null,null,null,null,null,null,null,null,null,null,null,null,"○",null,null,null,"○","△",null,null,"黒勝ち"]
[null,null,null,null,null,null,null,null,null,null,"●",null,null,null,"●",null,null,null,"●","△","●"]
[]
[null,null,"●",null,null,null,"●",null,null,null,"●",null,"●",null,"●","○","●",null,"●","○","●"]
[null,null,null,null,null,null,null,null,"○",null,null,null,"○",null,null,null,"○",null,"△","△","○",null,"黒勝ち"]
[null,null,null,null,null,null,null,null,null,null,null,null,null,null,null,null,null,null,"●"]
[]
[null,null,"●",null,null,null,"●",null,null,null,"●",null,null,null,"●",null,null,null,"●",null,"△"]
[null,null,null,null,null,null,null,null,"○",null,null,null,"○",null,"○",null,"○",null,"○","●","○",null,"黒勝ち"]
[null,null,null,null,null,null,null,null,null,null,"●",null,null,null,"●",null,null,null,"●",null,"△"]
[]
[null,null,"●",null,null,null,"●",null,null,null,"●",null,"●",null,"●","○","●",null,"●","○","●"]
[null,null,null,null,null,null,null,null,null,null,null,null,null,null,null,null,null,null,"△","△",null,null,"黒勝ち"]
[null,null,null,null,null,null,null,null,"○",null,null,null,"○",null,null,null,"○",null,"●",null,"○"]
[]
[null,null,null,null,null,null,"○"]
[null,null,"●",null,null,null,"●",null,null,null,null,null,null,null,null,null,null,null,null,null,null,null,"引き分け"]
[]
[]
[null,null,null,null,null,null,null,"○",null,null,"●","○",null,null,"●","○",null,null,"●","○"]
[null,null,"●",null,null,null,"●",null,null,null,"●",null,null,null,"●",null,null,null,"●","●","△",null,"黒勝ち"]
[null,null,null,null,null,null,null,null,null,null,null,null,null,null,"○",null,null,null,"○",null,"△"]
[]
[]
[null,null,"●",null,null,null,"●","○",null,null,null,null,null,null,null,null,null,null,null,null,null,null,"引き分け"]
[]
[]
[null,null,null,null,null,null,null,null,"○",null,"●",null,"○",null,"●",null,"○",null,"●",null,"○"]
[null,null,"●",null,null,null,"●",null,null,null,"●",null,null,null,"●",null,null,null,"●","●","△",null,"黒勝ち"]
[null,null,null,null,null,null,null,null,null,null,null,null,null,null,"○",null,null,null,"○",null,"△"]
[]
[]
[null,null,"●",null,null,null,"●",null,"○",null,null,null,null,null,null,null,null,null,null,null,null,null,"引き分け"]