{"text_format":"1","workbook":"xlsx","n_sheets":5,"sheets":["検索設定","対象一覧","検索結果","check","単体検索"],"not_rendered":{"charts":0,"images":0,"macros":1,"external_links":0,"defined_names":2,"comments":0,"pivot_tables":0},"unopened":[],"bounds":{"document_bytes":16777216,"sheet_cells":100000,"rows_first":2000,"rows_last":500,"rows_between":2000,"halvings":0,"cell_chars":16384,"cell_head_chars":4096},"cells_cut":0,"cells_raw":0,"read":"whole","date_system":"1900"}

{"sheet":"検索設定","index":0,"n_rows":20,"n_cols":10,"rows_kept":20,"cut":false,"hidden":false,"merged":[[0,4,0,5]]}
[null,null,"【テキスト一括検索処理】",null,{"$f":"TODAY()","v":"2020-04-21"}]
[]
[]
[null,null,"検索フォルダ"]
[]
[null,null,{"$f":"IF(ISERROR(FIND(\":\",C5))=TRUE,\"\",MID(C5,1,FIND(\":\",C5)-1))","v":""}]
[null,null,"検索キーワード"]
[null,1]
[null,{"$f":"B8+1","v":2}]
[null,{"$f":"B9+1","v":3}]
[null,4]
[null,5]
[null,6]
[null,7]
[null,8,null,null,null,null,null,"※制限ｵｰﾊﾞｰの場合は各ｼｰﾄの設定行数を増やすこと"]
[null,9,null,null,null,null,null,"checkｼｰﾄ設定",{"$f":"COUNTA(check!A:A)","v":5000},"（ﾃｷｽﾄ最大行数制限）"]
[null,10,null,null,null,null,null,"単体検索ｼｰﾄ設定",{"$f":"COUNTA(単体検索!C:C)","v":1000},"（検索ﾋｯﾄ行数制限）"]
[]
[null,null,"株式会社つくばＩＴパートナー"]
[null,null,"Copyright © 2017 Tsukuba IT Partner Co., Ltd. All Rights Reserved."]

{"sheet":"対象一覧","index":1,"n_rows":4,"n_cols":6,"rows_kept":4,"cut":false,"hidden":false,"merged":[[0,1,0,4]]}
[null,"【検索結果一覧】",null,null,null,{"$f":"TODAY()","v":"2020-04-21"}]
[]
[null,{"$f":"COUNTA(E:E)-1","v":0},{"$f":"COUNTIF(E:E,\"○\")","v":0}]
[null,"№","テキスト名","行数","結果"]

{"sheet":"検索結果","index":2,"n_rows":3,"n_cols":5,"rows_kept":3,"cut":false,"hidden":false,"merged":[[0,1,0,4]]}
[null,"【テキスト検索結果】"]
[null,{"$f":"COUNTA(検索結果!E:E)+1","v":3},{"$f":"対象一覧!C3","v":0},null,{"$f":"TODAY()","v":"2020-04-21"}]
[null,"№","テキスト名","行番号","対象テキスト"]

{"sheet":"check","index":3,"n_rows":5007,"n_cols":12,"rows_kept":5007,"cut":false,"hidden":false,"merged":[]}
[0,null,{"$f":"IF(検索設定!C8=\"\",\"\",検索設定!C8)","v":""},{"$f":"IF(検索設定!C9=\"\",\"\",検索設定!C9)","v":""},{"$f":"IF(検索設定!C10=\"\",\"\",検索設定!C10)","v":""},{"$f":"IF(検索設定!C11=\"\",\"\",検索設定!C11)","v":""},{"$f":"IF(検索設定!C12=\"\",\"\",検索設定!C12)","v":""},{"$f":"IF(検索設定!C13=\"\",\"\",検索設定!C13)","v":""},{"$f":"IF(検索設定!C14=\"\",\"\",検索設定!C14)","v":""},{"$f":"IF(検索設定!C15=\"\",\"\",検索設定!C15)","v":""},{"$f":"IF(検索設定!C16=\"\",\"\",検索設定!C16)","v":""},{"$f":"IF(検索設定!C17=\"\",\"\",検索設定!C17)","v":""}]
[{"$f":"IF(ROW()>$B$1,\"\",IF(SUM(C2:L2)=0,A1,A1+1))","v":""},null,{"$f":"IF(C$1=\"\",\"\",IF(ISERROR(FIND(C$1,$B2))=TRUE,\"\",FIND(C$1,$B2)))","v":""},{"$f":"IF(D$1=\"\",\"\",IF(ISERROR(FIND(D$1,$B2))=TRUE,\"\",FIND(D$1,$B2)))","v":""},"","","","","","","",""]
["",null,{"$f":"IF(C$1=\"\",\"\",IF(ISERROR(FIND(C$1,$B3))=TRUE,\"\",FIND(C$1,$B3)))","v":""},{"$f":"IF(D$1=\"\",\"\",IF(ISERROR(FIND(D$1,$B3))=TRUE,\"\",FIND(D$1,$B3)))","v":""},"","","","","","","",""]
["",null,"","","","","","","","","",""]
["",null,"","","","","","","","","",""]
["",null,"","","","","","","","","",""]
["",null,"","","","","","","","","",""]
["",null,"","","","","","","","","",""]
["",null,"","","","","","","","","",""]
["",null,"","","","","","","","","",""]
["",null,"","","","","","","","","",""]
["",null,"","","","","","","","","",""]
["",null,"","","","","","","","","",""]
["",null,"","","","","","","","","",""]
["",null,"","","","","","","","","",""]
["",null,"","","","","","","","","",""]
["",null,"","","","","","","","","",""]
["",null,"","","","","","","","","",""]
["",null,"","","","","","","","","",""]
["",null,"","","","","","","","","",""]
["",null,"","","","","","","","","",""]
["",null,"","","","","","","","","",""]
["",null,"","","","","","","","","",""]
["",null,"","","","","","","","","",""]
["",null,"","","","","","","","","",""]
["",null,"","","","","","","","","",""]
["",null,"","","","","","","","","",""]
["",null,"","","","","","","","","",""]
["",null,"","","","","","","","","",""]
["",null,"","","","","","","","","",""]
["",null,"","","","","","","","","",""]
["",null,"","","","","","","","","",""]
["",null,"","","","","","","","","",""]
["",null,"","","","","","","","","",""]
["",null,"","","","","","","","","",""]
["",null,"","","","","","","","","",""]
["",null,"","","","","","","","","",""]
["",null,"","","","","","","","","",""]
["",null,"","","","","","","","","",""]
["",null,"","","","","","","","","",""]
["",null,"","","","","","","","","",""]
["",null,{"$f":"IF(C$1=\"\",\"\",IF(ISERROR(FIND(C$1,$B42))=TRUE,\"\",FIND(C$1,$B42)))","v":""},"","","","","","","","",""]
["",null,"","","","","","","","","",""]
["",null,"","","","","","","","","",""]
["",null,"","","","","","","","","",""]
["",null,"","","","","","","","","",""]
["",null,"","","","","","","","","",""]
["",null,"","","","","","","","","",""]
["",null,"","","","","","","","","",""]
["",null,"","","","","","","","","",""]
["",null,"","","","","","","","","",""]
["",null,"","","","","","","","","",""]
["",null,"","","","","","","","","",""]
["",null,"","","","","","","","","",""]
["",null,"","","","","","","","","",""]
["",null,"","","","","","","","","",""]
["",null,"","","","","","","","","",""]
["",null,"","","","","","","","","",""]
["",null,"","","","","","","","","",""]
["",null,"","","","","","","","","",""]
["",null,"","","","","","","","","",""]
["",null,"","","","","","","","","",""]
["",null,"","","","","","","","","",""]
["",null,"","","","","","","","","",""]
["",null,"","","","","","","","","",""]
[{"$f":"IF(ROW()>$B$1,\"\",IF(SUM(C66:L66)=0,A65,A65+1))","v":""},null,"","","","","","","","","",""]
["",null,"","","","","",{"$f":"IF(H$1=\"\",\"\",IF(ISERROR(FIND(H$1,$B67))=TRUE,\"\",FIND(H$1,$B67)))","v":""},"","","",""]
["",null,{"$f":"IF(C$1=\"\",\"\",IF(ISERROR(FIND(C$1,$B68))=TRUE,\"\",FIND(C$1,$B68)))","v":""},"","","","","","","","",""]
["",null,"","","","","","","","","",""]
["",null,"","","","","","","","","",""]
["",null,"","","","","","","","","",""]
["",null,"","","","","","","","","",""]
["",null,"","","","","","","","","",""]
["",null,"","","","","","","","","",""]
["",null,"","","","","","","","","",""]
["",null,"","","","","","","","","",""]
["",null,"","","","","","","","","",""]
["",null,"","","","","","","","","",""]
["",null,"","","","","","","","","",""]
["",null,"","","","","","","","","",""]
["",null,"","","","","","","","","",""]
["",null,"","","","","","","","","",""]
["",null,"","","","","","","","","",""]
["",null,"","","","","","","","","",""]
["",null,"","","","","","","","","",""]
["",null,"","","","","","","","","",""]
["",null,"","","","","","","","","",""]
["",null,"","","","","","","","","",""]
["",null,"","","","","","","","","",""]
["",null,"","","","","","","","","",""]
["",null,"","","","","","","","","",""]
["",null,"","","","","","","","","",""]
["",null,"","","","","","","","","",""]
["",null,"","","","","","","","","",""]
["",null,"","","","","","","","",{"$f":"IF(K$1=\"\",\"\",IF(ISERROR(FIND(K$1,$B95))=TRUE,\"\",FIND(K$1,$B95)))","v":""},""]
["",null,"","","","","","","","","",""]
["",null,"","","","","","","","","",""]
["",null,"","","","","","","","","",""]
["",null,"","","","","","","","","",""]
["",null,"","","","","","","","","",""]
["",null,"","","","","","","","","",""]
["",null,"","","","","","","","","",""]
["",null,"","","","","","","","","",""]
["",null,"","","","","","","","","",""]
["",null,"","","","","","","","","",""]
["",null,"","","","","","","","","",""]
["",null,"","","","","","","","","",""]
["",null,"","","","","","","","","",""]
["",null,"","","","","","","","","",""]
["",null,"","","","","","","","","",""]
["",null,"","","","","","","","","",""]
["",null,"","","","","","","","","",""]
["",null,"","","","","","","","","",""]
["",null,"","","","","","","","","",""]
["",null,"","","","","","","","","",""]
["",null,"","","","","","","","","",""]
["",null,"","","","","","","","","",""]
["",null,"","","","","","","","","",""]
["",null,"","","","","","","","","",""]
["",null,"","","","","","","","","",""]
["",null,"","","","","","","","","",""]
["",null,"","","","","","","","","",""]
["",null,"","","","","","","","","",""]
["",null,"","",{"$f":"IF(E$1=\"\",\"\",IF(ISERROR(FIND(E$1,$B124))=TRUE,\"\",FIND(E$1,$B124)))","v":""},"","","","","","",""]
["",null,"","","","","","","","","",""]
["",null,"","","","","","","","","",""]
["",null,"","","","","","","","","",""]
["",null,"","","","","","","","","",""]
["",null,"","","","","","","","","",""]
[{"$f":"IF(ROW()>$B$1,\"\",IF(SUM(C130:L130)=0,A129,A129+1))","v":""},null,"","","","","","","","","",""]
["",null,"","","","","","","","","",""]
["",null,{"$f":"IF(C$1=\"\",\"\",IF(ISERROR(FIND(C$1,$B132))=TRUE,\"\",FIND(C$1,$B132)))","v":""},"","","","","","","","",""]
["",null,"","","","","","","","","",""]
["",null,"","","","","","","","","",""]
["",null,"","","","","","","","","",""]
["",null,"","","","","","","","","",""]
["",null,"","","","","","","","","",""]
["",null,"","","","","","","","","",""]
["",null,"","","","","","","","","",""]
["",null,"","","","","","","","","",""]
["",null,"","","","","","","","","",""]
["",null,"","","","","","","","","",""]
["",null,"","","","","","","","","",""]
["",null,"","","","","","","","","",""]
["",null,"","","","","","","","","",""]
["",null,"","","","","","","","","",""]
["",null,"","","","","","","","","",""]
["",null,"","","","","","","","","",""]
["",null,"","","","","","","","","",""]
["",null,"","","","","","","","","",""]
["",null,"","","","","","","","","",""]
["",null,"","","","","",{"$f":"IF(H$1=\"\",\"\",IF(ISERROR(FIND(H$1,$B152))=TRUE,\"\",FIND(H$1,$B152)))","v":""},"","","",""]
["",null,"","","","","","","","","",""]
["",null,"","","","","","","","","",""]
["",null,"","","","","","","","","",""]
["",null,"","","","","","","","","",""]
["",null,"","","","","","","","","",""]
["",null,"","","","","","","","","",""]
["",null,"","","","","","","","","",""]
["",null,"","","","","","","","","",""]
["",null,"","","","","","","","","",""]
["",null,"","","","","","","","","",""]
["",null,"","","","","","","","","",""]
["",null,"","","","","","","","","",""]
["",null,"","","","","","","","","",""]
["",null,"","","","","","","","","",""]
["",null,"","","","","","","","","",""]
["",null,"","","","","","","","","",""]
["",null,"","","","","","","","","",""]
["",null,"","","","","","","","","",""]
["",null,"","","","","","","","","",""]
["",null,"","","","","","","","","",""]
["",null,"","","","","","","","","",""]
["",null,"","","","","","","","","",""]
["",null,"","","","","","","","","",""]
["",null,"","","","","","","","","",""]
["",null,"","","","","","","","","",""]
["",null,"","","","","","","","","",""]
["",null,"","","","","","","","","",""]
["",null,"","","","","","","","",{"$f":"IF(K$1=\"\",\"\",IF(ISERROR(FIND(K$1,$B180))=TRUE,\"\",FIND(K$1,$B180)))","v":""},""]
["",null,"","","","","","","","","",""]
["",null,"","","","","","","","","",""]
["",null,"","","","","","","","","",""]
["",null,"","","","","","","","","",""]
["",null,"","","","","","","","","",""]
["",null,"","","","","","","","","",""]
["",null,"","","","","","","","","",""]
["",null,"","","","","","","","","",""]
["",null,"","","","","","","","","",""]
["",null,"","","","","","","","","",""]
["",null,"","","","","","","","","",""]
["",null,"","","","","","","","","",""]
["",null,"","","","","","","","","",""]
[{"$f":"IF(ROW()>$B$1,\"\",IF(SUM(C194:L194)=0,A193,A193+1))","v":""},null,"","","","","","","","","",""]
["",null,"","","","","","","","","",""]
["",null,{"$f":"IF(C$1=\"\",\"\",IF(ISERROR(FIND(C$1,$B196))=TRUE,\"\",FIND(C$1,$B196)))","v":""},"","","","","","","","",""]
["",null,"","","","","","","","","",""]
["",null,"","","","","","","","","",""]
["",null,"","","","","","","","","",""]
["",null,"","","","","","","","","",""]
["",null,"","","","","","","","","",""]
["",null,"","","","","","","","","",""]
["",null,"","","","","","","","","",""]
[{"$f":"IF(ROW()>$B$1,\"\",IF(SUM(C204:L204)=0,A203,A203+1))","v":""},null,"","","","","","","","","",""]
["",null,"","","","","","","","","",""]
["",null,"","","","","","","","","",""]
["",null,"","","","","","","","","",""]
["",null,"","","","","","","","","",""]
["",null,"","","","","","","","","",""]
["",null,"","","","","","","","","",""]
["",null,"","","","","","","","","",""]
["",null,{"$f":"IF(C$1=\"\",\"\",IF(ISERROR(FIND(C$1,$B212))=TRUE,\"\",FIND(C$1,$B212)))","v":""},"","","","","","","","",""]
["",null,"","","","","","","","","",""]
["",null,"","","","","","","","","",""]
["",null,"","","","","","","","","",""]
["",null,"","","","","","","","","",""]
["",null,"","","","","","","","","",""]
["",null,"","","","","","","","","",""]
["",null,"","","","","","","","","",""]
["",null,"","","","","","","","","",""]
["",null,"","","","","","","","","",""]
["",null,"","","","","","","","","",""]
["",null,"","","","","","","","","",""]
["",null,"","","","","","","","","",""]
["",null,"","","","","","","","","",""]
["",null,"","","","","","","","","",""]
["",null,"","","","","","","","","",""]
["",null,"","","","","","","","","",""]
["",null,"","","","","","","","","",""]
["",null,"","","","","","","","","",""]
["",null,"","","","","","","","","",""]
["",null,"","","","","","","","","",""]
["",null,"","","","","","","","","",""]
["",null,"","","","","","","","","",""]
["",null,"","","","","","","","","",""]
["",null,"","","","","","","","","",""]
["",null,"","","","","",{"$f":"IF(H$1=\"\",\"\",IF(ISERROR(FIND(H$1,$B237))=TRUE,\"\",FIND(H$1,$B237)))","v":""},"","","",""]
["",null,{"$f":"IF(C$1=\"\",\"\",IF(ISERROR(FIND(C$1,$B238))=TRUE,\"\",FIND(C$1,$B238)))","v":""},"","","","","","","","",""]
["",null,"","","","","","","","","",""]
["",null,"","","","","","","","","",""]
["",null,"","","","","","","","","",""]
["",null,"","","","","","","","","",""]
["",null,"","","","","","","","","",""]
["",null,"","","","","","","","","",""]
["",null,"","","","","","","","","",""]
["",null,"","","","","","","","","",""]
["",null,"","","","","","","","","",""]
["",null,"","","","","","","","","",""]
["",null,"","","","","","","","","",""]
["",null,"","","","","","","","","",""]
["",null,"","","","","","","","","",""]
["",null,"","","","","","","","","",""]
["",null,"","","","","","","","","",""]
["",null,"","","","","","","","","",""]
["",null,"","","","","","","","","",""]
["",null,"","","","","","","","","",""]
["",null,"","","","","","","","","",""]
["",null,"","","","","","","","","",""]
["",null,"","","","","","","","","",""]
["",null,"","","","","","","","","",""]
["",null,"","","","","","","","","",""]
["",null,"","","","","","","","","",""]
["",null,"","","","","","","","","",""]
["",null,"","","","","","","","","",""]
["",null,"","","","","","","","",{"$f":"IF(K$1=\"\",\"\",IF(ISERROR(FIND(K$1,$B265))=TRUE,\"\",FIND(K$1,$B265)))","v":""},""]
["",null,"","","","","","","","","",""]
["",null,"","","","","","","","","",""]
[{"$f":"IF(ROW()>$B$1,\"\",IF(SUM(C268:L268)=0,A267,A267+1))","v":""},null,"","","","","","","","","",""]
["",null,"","","","","","","","","",""]
["",null,"","","","","","","","","",""]
["",null,"","","","","","","","","",""]
["",null,"","","","","","","","","",""]
["",null,"","","","","","","","","",""]
["",null,"","","","","","","","","",""]
["",null,"","","","","","","","","",""]
["",null,"","","","","","","","","",""]
["",null,"","","","","","","","","",""]
["",null,"","","","","","","","","",""]
["",null,"","","","","","","","","",""]
["",null,"","","","","","","","","",""]
["",null,"","","","","","","","","",""]
["",null,"","","","","","","","","",""]
["",null,"","","","","","","","","",""]
["",null,"","","","","","","","","",""]
["",null,"","","","","","","","","",""]
["",null,"","","","","","","","","",""]
["",null,"","","","","","","","","",""]
["",null,"","","","","","","","","",""]
["",null,"","","","","","","","","",""]
["",null,"","","","","","","","","",""]
["",null,"","","","","","","","","",""]
["",null,"","","","","","","","","",""]
["",null,"","","","","","","","","",""]
["",null,"","",{"$f":"IF(E$1=\"\",\"\",IF(ISERROR(FIND(E$1,$B294))=TRUE,\"\",FIND(E$1,$B294)))","v":""},"","","","","","",""]
["",null,"","","","","","","","","",""]
["",null,"","","","","","","","","",""]
["",null,"","","","","","","","","",""]
["",null,"","","","","","","","","",""]
["",null,"","","","","","","","","",""]
["",null,"","","","","","","","","",""]
["",null,"","","","","","","","","",""]
["",null,{"$f":"IF(C$1=\"\",\"\",IF(ISERROR(FIND(C$1,$B302))=TRUE,\"\",FIND(C$1,$B302)))","v":""},"","","","","","","","",""]
["",null,"","","","","","","","","",""]
["",null,"","","","","","","","","",""]
["",null,"","","","","","","","","",""]
["",null,"","","","","","","","","",""]
["",null,"","","","","","","","","",""]
["",null,"","","","","","","","","",""]
["",null,"","","","","","","","","",""]
["",null,"","","","","","","","","",""]
["",null,"","","","","","","","","",""]
["",null,"","","","","","","","","",""]
["",null,"","","","","","","","","",""]
["",null,"","","","","","","","","",""]
["",null,"","","","","","","","","",""]
["",null,"","","","","","","","","",""]
["",null,"","","","","","","","","",""]
["",null,"","","","","","","","","",""]
["",null,"","","","","","","","","",""]
["",null,"","","","","","","","","",""]
["",null,"","","","","","","","","",""]
["",null,"","","","","",{"$f":"IF(H$1=\"\",\"\",IF(ISERROR(FIND(H$1,$B322))=TRUE,\"\",FIND(H$1,$B322)))","v":""},"","","",""]
["",null,"","","","","","","","","",""]
["",null,"","","","","","","","","",""]
["",null,"","","","","","","","","",""]
["",null,"","","","","","","","","",""]
["",null,"","","","","","","","","",""]
["",null,"","","","","","","","","",""]
["",null,"","","","","","","","","",""]
["",null,"","","","","","","","","",""]
[{"$f":"IF(ROW()>$B$1,\"\",IF(SUM(C331:L331)=0,A330,A330+1))","v":""},null,{"$f":"IF(C$1=\"\",\"\",IF(ISERROR(FIND(C$1,$B331))=TRUE,\"\",FIND(C$1,$B331)))","v":""},"","","","","","","","",""]
["",null,{"$f":"IF(C$1=\"\",\"\",IF(ISERROR(FIND(C$1,$B332))=TRUE,\"\",FIND(C$1,$B332)))","v":""},"","","","","","","","",""]
["",null,"","","","","","","","","",""]
["",null,"","","","","","","","","",""]
["",null,"","","","","","","","","",""]
["",null,"","","","","","","","","",""]
["",null,"","","","","","","","","",""]
["",null,"","","","","","","","","",""]
["",null,"","","","","","","","","",""]
["",null,"","","","","","","","","",""]
["",null,"","","","","","","","","",""]
["",null,"","","","","","","","","",""]
["",null,"","","","","","","","","",""]
["",null,"","","","","","","","","",""]
["",null,"","","","","","","","","",""]
["",null,"","","","","","","","","",""]
["",null,"","","","","","","","","",""]
["",null,"","","","","","","","","",""]
["",null,"","","","","","","","","",""]
["",null,"","","","","","","","","",""]
["",null,"","","","","","","","","",""]
["",null,"","","","","","","","","",""]
["",null,"","","","","","","","","",""]
["",null,"","","","","","","","","",""]
["",null,"","","","","","","","","",""]
["",null,"","","","","","","","","",""]
["",null,"","","","","","","","","",""]
["",null,"","","","","","","","","",""]
["",null,"","","","","","","","","",""]
["",null,"","","","","","","","","",""]
["",null,"","","","","","","","","",""]
["",null,"","","","","","","","","",{"$f":"IF(L$1=\"\",\"\",IF(ISERROR(FIND(L$1,$B362))=TRUE,\"\",FIND(L$1,$B362)))","v":""}]
["",null,{"$f":"IF(C$1=\"\",\"\",IF(ISERROR(FIND(C$1,$B363))=TRUE,\"\",FIND(C$1,$B363)))","v":""},"","","","","","","","",""]
["",null,"","","","","","","","","",""]
["",null,"","","","","","","","","",""]
["",null,"","","","","","","","","",""]
["",null,"","","","","","","","","",""]
["",null,"","","","","","","","","",""]
["",null,"","","","","","","","","",""]
["",null,"","","","","","","","","",""]
["",null,"","","","","","","","","",""]
["",null,"","","","","","","","","",""]
["",null,"","","","","","","","","",""]
["",null,"","","","","","","","","",""]
["",null,"","","","","","","","","",""]
["",null,"","","","","","","","","",""]
["",null,"","","","","","","","","",""]
["",null,"","","","","","","","","",""]
["",null,"","","","","","","","","",""]
["",null,"","","","","","","","","",""]
["",null,"","","","","","","","","",""]
["",null,"","","","","","","","","",""]
["",null,"","","","","","","","","",""]
["",null,"","","","","","","","","",""]
["",null,"","","","","","","","","",""]
["",null,"","","","","","","","","",""]
["",null,"","","","","","","","","",""]
["",null,"","","","","",{"$f":"IF(H$1=\"\",\"\",IF(ISERROR(FIND(H$1,$B388))=TRUE,\"\",FIND(H$1,$B388)))","v":""},"","","",""]
["",null,"","","","","","","","","",""]
["",null,"","","","","","","","","",""]
["",null,"","","","","","","","","",""]
["",null,"","","","","","","","","",""]
["",null,"","","","","","","","","",""]
["",null,"","","","","","","","","",""]
[{"$f":"IF(ROW()>$B$1,\"\",IF(SUM(C395:L395)=0,A394,A394+1))","v":""},null,"","","","","","","","","",""]
["",null,"","","","","","","","","",""]
["",null,"","","","","","","","","",""]
["",null,"","","","","","","","","",""]
["",null,"","","","","","","","","",""]
["",null,"","","","","","","","","",""]
["",null,"","","","","","","","","",""]
["",null,"","","","","","","","","",""]
["",null,"","","","","","","","","",""]
["",null,"","","","","","","","","",""]
["",null,"","","","","","","","","",""]
["",null,"","","","","","","","","",""]
["",null,"","","","","","","","","",""]
["",null,"","","","","","","","","",""]
["",null,"","","","","","","","","",""]
["",null,"","","","","","","","","",""]
["",null,"","","","","","","","","",""]
["",null,"","","","","","","","","",""]
["",null,"","","","","","","","","",""]
["",null,{"$f":"IF(C$1=\"\",\"\",IF(ISERROR(FIND(C$1,$B414))=TRUE,\"\",FIND(C$1,$B414)))","v":""},"","","","","","","","",""]
["",null,"","","","","","","","","",""]
["",null,"","","","","","","","","",""]
["",null,"","","","","","","","","",""]
["",null,"","","","","","","","","",""]
["",null,"","","","","","","","","",""]
["",null,"","","","","","","","","",""]
["",null,"","","","","","","","","",""]
["",null,"","","","","","","","","",""]
["",null,"","","","","","","","","",""]
["",null,"","","","","","","","","",""]
["",null,"","","","","","","","","",""]
["",null,"","","","","","","","","",""]
["",null,"","","","","","","","","",""]
["",null,"","","","","","","","","",""]
["",null,"","","","","","","","","",""]
["",null,"","","","","","","","","",""]
["",null,"","","","","","","","","",""]
["",null,"","","","","","","","","",""]
["",null,"","","","","","","","","",""]
["",null,"","","","","","","","","",""]
["",null,"","","","","","","","","",""]
["",null,"","","","","","","","","",""]
["",null,"","","","","","","","","",""]
["",null,"","","","","","","","","",""]
["",null,"","","","","",{"$f":"IF(H$1=\"\",\"\",IF(ISERROR(FIND(H$1,$B439))=TRUE,\"\",FIND(H$1,$B439)))","v":""},"","","",""]
["",null,{"$f":"IF(C$1=\"\",\"\",IF(ISERROR(FIND(C$1,$B440))=TRUE,\"\",FIND(C$1,$B440)))","v":""},"","","","","","","","",""]
["",null,"","","","","","","","","",""]
["",null,"","","","","","","","","",""]
["",null,"","","","","","","","","",""]
["",null,"","","","","","","","","",""]
["",null,"","","","","","","","","",""]
["",null,"","","","","","","","","",""]
["",null,"","","","","","","","","",""]
["",null,"","","","","","","","","",""]
["",null,"","","","","","","","","",""]
["",null,"","","","","","","","","",""]
["",null,"","","","","","","","","",""]
["",null,"","","","","","","","","",""]
["",null,"","","","","","","","","",""]
["",null,"","","","","","","","","",""]
["",null,"","","","","","","","","",""]
["",null,"","","","","","","","","",""]
["",null,"","","","","","","","","",""]
["",null,"","","","","","","","","",""]
[{"$f":"IF(ROW()>$B$1,\"\",IF(SUM(C459:L459)=0,A458,A458+1))","v":""},null,"","","","","","","","","",""]
["",null,"","","","","","","","","",""]
["",null,"","","","","","","","","",""]
["",null,"","","","","","","","","",""]
["",null,"","","","","","","","","",""]
["",null,"","","","","","","","","",""]
["",null,"","","","","","","","","",""]
["",null,"","","","","","","","","",""]
["",null,"","","","","","","","",{"$f":"IF(K$1=\"\",\"\",IF(ISERROR(FIND(K$1,$B467))=TRUE,\"\",FIND(K$1,$B467)))","v":""},""]
["",null,"","","","","","","","","",""]
["",null,"","","","","","","","","",""]
["",null,"","","","","","","","","",""]
["",null,"","","","","","","","","",""]
["",null,"","","","","","","","","",""]
["",null,"","","","","","","","","",""]
["",null,"","","","","","","","","",""]
["",null,"","","","","","","","","",""]
["",null,"","","","","","","","","",""]
["",null,"","","","","","","","","",""]
["",null,"","","","","","","","","",""]
["",null,"","","","","","","","","",""]
["",null,"","","","","","","","","",""]
["",null,"","","","","","","","","",""]
["",null,"","","","","","","","","",""]
["",null,"","","","","","","","","",""]
["",null,"","","","","","","","","",""]
["",null,"","","","","","","","","",""]
["",null,"","","","","","","","","",""]
["",null,"","","","","","","","","",""]
["",null,"","","","","","","","","",""]
["",null,"","","","","","","","","",""]
["",null,"","","","","","","","","",""]
["",null,"","","","","","","","","",""]
["",null,"","","","","","","","","",""]
["",null,"","","","","","","","","",""]
["",null,"","","","","","","","","",""]
["",null,"","","","","","","","","",""]
["",null,"","","","","","","","","",""]
["",null,"","","","","","","","","",""]
["",null,"","","","","","","","","",""]
["",null,"","","","","","","","","",""]
["",null,"","","","","","","","","",""]
["",null,"","","","","","","","","",""]
["",null,"","","","","","","","","",""]
["",null,"","","","","","","","","",""]
["",null,{"$f":"IF(C$1=\"\",\"\",IF(ISERROR(FIND(C$1,$B504))=TRUE,\"\",FIND(C$1,$B504)))","v":""},"","","","","","","","",""]
["",null,"","","","","","","","","",""]
["",null,"","","","","","","","","",""]
["",null,"","","","","","","","","",""]
["",null,"","","","","","","","","",""]
["",null,"","","","","","","","","",""]
["",null,"","","","","","","","","",""]
["",null,"","","","","","","","","",""]
["",null,"","","","","","","","","",""]
["",null,"","","","","","","","","",""]
["",null,"","","","","","","","","",""]
["",null,"","","","","","","","","",""]
["",null,"","","","","","","","","",""]
["",null,"","","","","","","","","",""]
["",null,"","","","","","","","","",""]
["",null,"","","","","","","","","",""]
["",null,"","","","","","","","","",""]
["",null,"","","","","","","","","",""]
["",null,"","","","","","","","","",""]
[{"$f":"IF(ROW()>$B$1,\"\",IF(SUM(C523:L523)=0,A522,A522+1))","v":""},null,"","","","","","","","","",""]
["",null,"","","","","","","","","",""]
["",null,"","","","","","","","","",""]
["",null,"","","","","","","","","",""]
["",null,"","","","","","","","","",""]
["",null,"","","","","","","","","",""]
["",null,"","","","","",{"$f":"IF(H$1=\"\",\"\",IF(ISERROR(FIND(H$1,$B529))=TRUE,\"\",FIND(H$1,$B529)))","v":""},"","","",""]
["",null,{"$f":"IF(C$1=\"\",\"\",IF(ISERROR(FIND(C$1,$B530))=TRUE,\"\",FIND(C$1,$B530)))","v":""},"","","","","","","","",""]
["",null,"","","","","","","","","",""]
["",null,"","","","","","","","","",""]
["",null,"","","","","","","","","",""]
["",null,"","","","","","","","","",""]
["",null,"","","","","","","","","",""]
["",null,"","","","","","","","","",""]
["",null,"","","","","","","","","",""]
["",null,"","","","","","","","","",""]
["",null,"","","","","","","","","",""]
["",null,"","","","","","","","","",""]
["",null,"","","","","","","","","",""]
["",null,"","","","","","","","","",""]
["",null,"","","","","","","","","",""]
["",null,"","","","","","","","","",""]
["",null,"","","","","","","","","",""]
["",null,{"$f":"IF(C$1=\"\",\"\",IF(ISERROR(FIND(C$1,$B546))=TRUE,\"\",FIND(C$1,$B546)))","v":""},"","","","","","","","",""]
["",null,"","","","","","","","","",""]
["",null,"","","","","","","","","",""]
["",null,"","","","","","","","","",""]
["",null,"","","","","","","","","",""]
["",null,"","","","","","","","","",""]
["",null,"","","","","","","","","",""]
["",null,"","","","","","","","","",""]
["",null,"","","","","","","","","",""]
["",null,"","","","","","","","","",""]
["",null,"","","","","","","","","",""]
["",null,"","","","","","","","","",""]
["",null,"","","","","","","","","",""]
["",null,"","","","","","","","","",""]
["",null,"","","","","","","","","",""]
["",null,"","","","","","","","","",""]
["",null,"","","","","","","","","",""]
["",null,"","","","","","","","","",""]
["",null,"","","","","","","","","",""]
["",null,"","","","","","","","","",""]
["",null,"","","","","","","","","",""]
["",null,"","","","","","","","","",""]
["",null,"","","","","","","","","",""]
["",null,"","","","","","","","","",""]
["",null,"","","","","","","","","",""]
["",null,"","","","","",{"$f":"IF(H$1=\"\",\"\",IF(ISERROR(FIND(H$1,$B571))=TRUE,\"\",FIND(H$1,$B571)))","v":""},"","","",""]
["",null,{"$f":"IF(C$1=\"\",\"\",IF(ISERROR(FIND(C$1,$B572))=TRUE,\"\",FIND(C$1,$B572)))","v":""},"","","","","","","","",""]
["",null,"","","","","","","","","",""]
["",null,"","","","","","","","","",""]
["",null,"","","","","","","","","",""]
["",null,"","","","","","","","","",""]
["",null,"","","","","","","","","",""]
["",null,"","","","","","","","","",""]
["",null,"","","","","","","","","",""]
["",null,"","","","","","","","","",""]
["",null,"","","","","","","","","",""]
["",null,"","","","","","","","","",""]
["",null,"","","","","","","","","",""]
["",null,"","","","","","","","","",""]
["",null,"","","","","","","","","",""]
["",null,"","","","","","","","","",""]
[{"$f":"IF(ROW()>$B$1,\"\",IF(SUM(C587:L587)=0,A586,A586+1))","v":""},null,"","","","","","","","","",""]
["",null,"","","","","","","","","",""]
["",null,"","","","","","","","","",""]
["",null,"","","","","","","","","",""]
["",null,"","","","","","","","","",""]
["",null,"","","","","","","","","",""]
["",null,"","","","","","","","","",""]
["",null,"","","","","","","","","",""]
["",null,"","","","","","","","","",""]
["",null,"","","","","","","","","",""]
["",null,"","","","","","","","","",""]
["",null,"","","","","","","","","",""]
["",null,"","","","","","","","",{"$f":"IF(K$1=\"\",\"\",IF(ISERROR(FIND(K$1,$B599))=TRUE,\"\",FIND(K$1,$B599)))","v":""},""]
["",null,"","","","","","","","","",""]
["",null,"","","","","","","","","",""]
["",null,"","","","","","","","","",""]
["",null,"","","","","","","","","",""]
["",null,"","","","","","","","","",""]
["",null,"","","","","","","","","",""]
["",null,"","","","","","","","","",""]
["",null,"","","","","","","","","",""]
["",null,"","","","","","","","","",""]
["",null,"","","","","","","","","",""]
["",null,"","","","","","","","","",""]
["",null,"","","","","","","","","",""]
["",null,"","","","","","","","","",""]
["",null,"","","","","","","","","",""]
["",null,"","","","","","","","","",""]
["",null,"","","","","","","","","",""]
["",null,"","","","","","","","","",""]
["",null,"","","","","","","","","",""]
["",null,"","","","","","","","","",""]
["",null,"","","","","","","","","",""]
["",null,"","","","","","","","","",""]
["",null,"","","","","","","","","",""]
["",null,"","","","","","","","","",""]
["",null,"","","","","","","","","",""]
["",null,"","","","","","","","","",""]
["",null,"","","","","","","","","",""]
["",null,"","","","","","","","","",""]
["",null,"","","","","","","","","",""]
["",null,"","",{"$f":"IF(E$1=\"\",\"\",IF(ISERROR(FIND(E$1,$B628))=TRUE,\"\",FIND(E$1,$B628)))","v":""},"","","","","","",""]
["",null,"","","","","","","","","",""]
["",null,"","","","","","","","","",""]
["",null,"","","","","","","","","",""]
["",null,"","","","","","","","","",""]
["",null,"","","","","","","","","",""]
["",null,"","","","","","","","","",""]
["",null,"","","","","","","","","",""]
["",null,{"$f":"IF(C$1=\"\",\"\",IF(ISERROR(FIND(C$1,$B636))=TRUE,\"\",FIND(C$1,$B636)))","v":""},"","","","","","","","",""]
["",null,"","","","","","","","","",""]
["",null,"","","","","","","","","",""]
["",null,"","","","","","","","","",""]
["",null,"","","","","","","","","",""]
["",null,"","","","","","","","","",""]
["",null,"","","","","","","","","",""]
["",null,"","","","","","","","","",""]
["",null,"","","","","","","","","",""]
["",null,"","","","","","","","","",""]
["",null,"","","","","","","","","",""]
["",null,"","","","","","","","","",""]
["",null,"","","","","","","","","",""]
["",null,"","","","","","","","","",""]
["",null,"","","","","","","","","",""]
[{"$f":"IF(ROW()>$B$1,\"\",IF(SUM(C651:L651)=0,A650,A650+1))","v":""},null,"","","","","","","","","",""]
["",null,"","","","","","","","","",""]
["",null,"","","","","","","","","",""]
["",null,"","","","","","","","","",""]
["",null,"","","","","","","","","",""]
["",null,"","","","","",{"$f":"IF(H$1=\"\",\"\",IF(ISERROR(FIND(H$1,$B656))=TRUE,\"\",FIND(H$1,$B656)))","v":""},"","","",""]
["",null,"","","","","","","","","",""]
["",null,"","","","","","","","","",""]
["",null,"","","","","","","","","",""]
[]
[{"$f":"IF(ROW()>$B$1,\"\",IF(SUM(C661:L661)=0,A660,A660+1))","v":""},null,{"$f":"IF(C$1=\"\",\"\",IF(ISERROR(FIND(C$1,$B661))=TRUE,\"\",FIND(C$1,$B661)))","v":""},{"$f":"IF(D$1=\"\",\"\",IF(ISERROR(FIND(D$1,$B661))=TRUE,\"\",FIND(D$1,$B661)))","v":""},"","","","","","","",""]
["",null,{"$f":"IF(C$1=\"\",\"\",IF(ISERROR(FIND(C$1,$B662))=TRUE,\"\",FIND(C$1,$B662)))","v":""},"","","","","","","","",""]
["",null,"","","","","","","","","",""]
["",null,"","","","","","","","","",""]
["",null,"","","","","","","","","",""]
["",null,"","","","","","","","","",""]
["",null,"","","","","","","","","",""]
["",null,"","","","","","","","","",""]
["",null,"","","","","","","","","",""]
["",null,"","","","","","","","","",""]
["",null,"","","","","","","","","",""]
["",null,"","","","","","","","","",""]
["",null,"","","","","","","","","",""]
["",null,"","","","","","","","","",""]
["",null,"","","","","","","","","",""]
["",null,"","","","","","","","","",""]
["",null,"","","","","","","","","",""]
["",null,"","","","","","","","","",""]
["",null,"","","","","","","","","",""]
["",null,"","","","","","","","","",""]
["",null,"","","","","","","","","",""]
["",null,"","","","","","","","","",""]
["",null,"","","","","","","","","",""]
["",null,"","","","","","","","","",""]
["",null,"","","","","","","","","",""]
["",null,"","","","","","","","","",""]
["",null,"","","","","","","","","",""]
["",null,"","","","","","","","","",""]
["",null,"","","","","","","","","",""]
["",null,"","","","","","","","","",""]
["",null,"","","","","","","","","",""]
["",null,"","","","","","","","","",""]
["",null,"","","","","","","","","",""]
["",null,"","","","","","","","","",""]
["",null,"","","","","","","","","",""]
["",null,"","","","","","","","","",""]
["",null,"","","","","","","","","",""]
["",null,"","","","","","","","","",""]
["",null,"","","","","","","","","",""]
["",null,"","","","","","","","","",""]
["",null,{"$f":"IF(C$1=\"\",\"\",IF(ISERROR(FIND(C$1,$B701))=TRUE,\"\",FIND(C$1,$B701)))","v":""},"","","","","","","","",""]
["",null,"","","","","","","","","",""]
["",null,"","","","","","","","","",""]
["",null,"","","","","","","","","",""]
["",null,"","","","","","","","","",""]
["",null,"","","","","","","","","",""]
["",null,"","","","","","","","","",""]
["",null,"","","","","","","","","",""]
["",null,"","","","","","","","","",""]
["",null,"","","","","","","","","",""]
["",null,"","","","","","","","","",""]
["",null,"","","","","","","","","",""]
["",null,"","","","","","","","","",""]
["",null,"","","","","","","","","",""]
["",null,"","","","","","","","","",""]
["",null,"","","","","","","","","",""]
["",null,"","","","","","","","","",""]
["",null,"","","","","","","","","",""]
["",null,"","","","","","","","","",""]
["",null,"","","","","","","","","",""]
["",null,"","","","","","","","","",""]
["",null,"","","","","","","","","",""]
["",null,"","","","","","","","","",""]
["",null,"","","","","","","","","",""]
[{"$f":"IF(ROW()>$B$1,\"\",IF(SUM(C725:L725)=0,A724,A724+1))","v":""},null,"","","","","","","","","",""]
["",null,"","","","","",{"$f":"IF(H$1=\"\",\"\",IF(ISERROR(FIND(H$1,$B726))=TRUE,\"\",FIND(H$1,$B726)))","v":""},"","","",""]
["",null,{"$f":"IF(C$1=\"\",\"\",IF(ISERROR(FIND(C$1,$B727))=TRUE,\"\",FIND(C$1,$B727)))","v":""},"","","","","","","","",""]
["",null,"","","","","","","","","",""]
["",null,"","","","","","","","","",""]
["",null,"","","","","","","","","",""]
["",null,"","","","","","","","","",""]
["",null,"","","","","","","","","",""]
["",null,"","","","","","","","","",""]
["",null,"","","","","","","","","",""]
["",null,"","","","","","","","","",""]
["",null,"","","","","","","","","",""]
["",null,"","","","","","","","","",""]
["",null,"","","","","","","","","",""]
["",null,"","","","","","","","","",""]
["",null,"","","","","","","","","",""]
["",null,"","","","","","","","","",""]
["",null,"","","","","","","","","",""]
["",null,"","","","","","","","","",""]
["",null,"","","","","","","","","",""]
["",null,"","","","","","","","","",""]
["",null,"","","","","","","","","",""]
["",null,"","","","","","","","","",""]
["",null,"","","","","","","","","",""]
["",null,"","","","","","","","","",""]
["",null,"","","","","","","","","",""]
["",null,"","","","","","","","","",""]
["",null,"","","","","","","","","",""]
["",null,"","","","","","","","","",""]
["",null,"","","","","","","","",{"$f":"IF(K$1=\"\",\"\",IF(ISERROR(FIND(K$1,$B754))=TRUE,\"\",FIND(K$1,$B754)))","v":""},""]
["",null,"","","","","","","","","",""]
["",null,"","","","","","","","","",""]
["",null,"","","","","","","","","",""]
["",null,"","","","","","","","","",""]
["",null,"","","","","","","","","",""]
["",null,"","","","","","","","","",""]
["",null,"","","","","","","","","",""]
["",null,"","","","","","","","","",""]
["",null,"","","","","","","","","",""]
["",null,"","","","","","","","","",""]
["",null,"","","","","","","","","",""]
["",null,"","","","","","","","","",""]
["",null,"","","","","","","","","",""]
["",null,"","","","","","","","","",""]
["",null,"","","","","","","","","",""]
["",null,"","","","","","","","","",""]
["",null,"","","","","","","","","",""]
["",null,"","","","","","","","","",""]
["",null,"","","","","","","","","",""]
["",null,"","","","","","","","","",""]
["",null,"","","","","","","","","",""]
["",null,"","","","","","","","","",""]
["",null,"","","","","","","","","",""]
["",null,"","","","","","","","","",""]
["",null,"","","","","","","","","",""]
["",null,"","","","","","","","","",""]
["",null,"","","","","","","","","",""]
["",null,"","","","","","","","","",""]
["",null,"","",{"$f":"IF(E$1=\"\",\"\",IF(ISERROR(FIND(E$1,$B783))=TRUE,\"\",FIND(E$1,$B783)))","v":""},"","","","","","",""]
["",null,"","","","","","","","","",""]
["",null,"","","","","","","","","",""]
["",null,"","","","","","","","","",""]
["",null,"","","","","","","","","",""]
["",null,"","","","","","","","","",""]
[{"$f":"IF(ROW()>$B$1,\"\",IF(SUM(C789:L789)=0,A788,A788+1))","v":""},null,"","","","","","","","","",""]
["",null,"","","","","","","","","",""]
["",null,{"$f":"IF(C$1=\"\",\"\",IF(ISERROR(FIND(C$1,$B791))=TRUE,\"\",FIND(C$1,$B791)))","v":""},"","","","","","","","",""]
["",null,"","","","","","","","","",""]
["",null,"","","","","","","","","",""]
["",null,"","","","","","","","","",""]
["",null,"","","","","","","","","",""]
["",null,"","","","","","","","","",""]
["",null,"","","","","","","","","",""]
["",null,"","","","","","","","","",""]
["",null,"","","","","","","","","",""]
["",null,"","","","","","","","","",""]
["",null,"","","","","","","","","",""]
["",null,"","","","","","","","","",""]
["",null,"","","","","","","","","",""]
["",null,"","","","","","","","","",""]
["",null,"","","","","","","","","",""]
["",null,"","","","","","","","","",""]
["",null,"","","","","","","","","",""]
["",null,"","","","","","","","","",""]
["",null,"","","","","","","","","",""]
["",null,"","","","","","","","","",""]
["",null,"","","","","",{"$f":"IF(H$1=\"\",\"\",IF(ISERROR(FIND(H$1,$B811))=TRUE,\"\",FIND(H$1,$B811)))","v":""},"","","",""]
["",null,"","","","","","","","","",""]
["",null,"","","","","","","","","",""]
["",null,"","","","","","","","","",""]
["",null,"","","","","","","","","",""]
["",null,"","","","","","","","","",""]
["",null,"","","","","","","","","",""]
["",null,"","","","","","","","","",""]
["",null,"","","","","","","","","",""]
["",null,"","","","","","","","","",""]
["",null,"","","","","","","","","",""]
["",null,"","","","","","","","","",""]
["",null,"","","","","","","","","",""]
["",null,"","","","","","","","","",""]
["",null,"","","","","","","","","",""]
["",null,"","","","","","","","","",""]
["",null,"","","","","","","","","",""]
["",null,"","","","","","","","","",""]
["",null,"","","","","","","","","",""]
["",null,"","","","","","","","","",""]
["",null,"","","","","","","","","",""]
["",null,"","","","","","","","","",""]
["",null,"","","","","","","","","",""]
["",null,"","","","","","","","","",""]
["",null,"","","","","","","","","",""]
["",null,"","","","","","","","","",""]
["",null,"","","","","","","","","",""]
["",null,"","","","","","","","","",""]
["",null,"","","","","","","","",{"$f":"IF(K$1=\"\",\"\",IF(ISERROR(FIND(K$1,$B839))=TRUE,\"\",FIND(K$1,$B839)))","v":""},""]
["",null,"","","","","","","","","",""]
["",null,"","","","","","","","","",""]
["",null,"","","","","","","","","",""]
["",null,"","","","","","","","","",""]
["",null,"","","","","","","","","",""]
["",null,"","","","","","","","","",""]
["",null,"","","","","","","","","",""]
["",null,"","","","","","","","","",""]
["",null,"","","","","","","","","",""]
["",null,"","","","","","","","","",""]
["",null,"","","","","","","","","",""]
["",null,"","","","","","","","","",""]
["",null,"","","","","","","","","",""]
[{"$f":"IF(ROW()>$B$1,\"\",IF(SUM(C853:L853)=0,A852,A852+1))","v":""},null,"","","","","","","","","",""]
["",null,"","","","","","","","","",""]
["",null,{"$f":"IF(C$1=\"\",\"\",IF(ISERROR(FIND(C$1,$B855))=TRUE,\"\",FIND(C$1,$B855)))","v":""},"","","","","","","","",""]
["",null,"","","","","","","","","",""]
["",null,"","","","","","","","","",""]
["",null,"","","","","","","","","",""]
["",null,"","","","","","","","","",""]
["",null,"","","","","","","","","",""]
["",null,"","","","","","","","","",""]
["",null,"","","","","","","","","",""]
["",null,"","","","","","","","","",""]
["",null,"","","","","","","","","",""]
["",null,"","","","","","","","","",""]
["",null,"","","","","","","","","",""]
["",null,"","","","","","","","","",""]
["",null,"","","","","","","","","",""]
["",null,"","","","","","","","","",""]
["",null,"","","","","","","","","",""]
["",null,{"$f":"IF(C$1=\"\",\"\",IF(ISERROR(FIND(C$1,$B871))=TRUE,\"\",FIND(C$1,$B871)))","v":""},"","","","","","","","",""]
["",null,"","","","","","","","","",""]
["",null,"","","","","","","","","",""]
["",null,"","","","","","","","","",""]
["",null,"","","","","","","","","",""]
["",null,"","","","","","","","","",""]
["",null,"","","","","","","","","",""]
["",null,"","","","","","","","","",""]
["",null,"","","","","","","","","",""]
["",null,"","","","","","","","","",""]
["",null,"","","","","","","","","",""]
["",null,"","","","","","","","","",""]
["",null,"","","","","","","","","",""]
["",null,"","","","","","","","","",""]
["",null,"","","","","","","","","",""]
["",null,"","","","","","","","","",""]
["",null,"","","","","","","","","",""]
["",null,"","","","","","","","","",""]
["",null,"","","","","","","","","",""]
["",null,"","","","","","","","","",""]
["",null,"","","","","","","","","",""]
["",null,"","","","","","","","","",""]
["",null,"","","","","","","","","",""]
["",null,"","","","","","","","","",""]
["",null,"","","","","","","","","",""]
["",null,"","","","","",{"$f":"IF(H$1=\"\",\"\",IF(ISERROR(FIND(H$1,$B896))=TRUE,\"\",FIND(H$1,$B896)))","v":""},"","","",""]
["",null,{"$f":"IF(C$1=\"\",\"\",IF(ISERROR(FIND(C$1,$B897))=TRUE,\"\",FIND(C$1,$B897)))","v":""},"","","","","","","","",""]
["",null,"","","","","","","","","",""]
["",null,"","","","","","","","","",""]
["",null,"","","","","","","","","",""]
["",null,"","","","","","","","","",""]
["",null,"","","","","","","","","",""]
["",null,"","","","","","","","","",""]
["",null,"","","","","","","","","",""]
["",null,"","","","","","","","","",""]
["",null,"","","","","","","","","",""]
["",null,"","","","","","","","","",""]
["",null,"","","","","","","","","",""]
["",null,"","","","","","","","","",""]
["",null,"","","","","","","","","",""]
["",null,"","","","","","","","","",""]
["",null,"","","","","","","","","",""]
["",null,"","","","","","","","","",""]
["",null,"","","","","","","","","",""]
["",null,"","","","","","","","","",""]
["",null,"","","","","","","","","",""]
[{"$f":"IF(ROW()>$B$1,\"\",IF(SUM(C917:L917)=0,A916,A916+1))","v":""},null,"","","","","","","","","",""]
["",null,"","","","","","","","","",""]
["",null,"","","","","","","","","",""]
["",null,"","","","","","","","","",""]
["",null,"","","","","","","","","",""]
["",null,"","","","","","","","","",""]
["",null,"","","","","","","","","",""]
["",null,"","","","","","","","",{"$f":"IF(K$1=\"\",\"\",IF(ISERROR(FIND(K$1,$B924))=TRUE,\"\",FIND(K$1,$B924)))","v":""},""]
["",null,"","","","","","","","","",""]
["",null,"","","","","","","","","",""]
["",null,"","","","","","","","","",""]
["",null,"","","","","","","","","",""]
["",null,"","","","","","","","","",""]
["",null,"","","","","","","","","",""]
["",null,"","","","","","","","","",""]
["",null,"","","","","","","","","",""]
["",null,"","","","","","","","","",""]
["",null,"","","","","","","","","",""]
["",null,"","","","","","","","","",""]
["",null,"","","","","","","","","",""]
["",null,"","","","","","","","","",""]
["",null,"","","","","","","","","",""]
["",null,"","","","","","","","","",""]
["",null,"","","","","","","","","",""]
["",null,"","","","","","","","","",""]
["",null,"","","","","","","","","",""]
["",null,"","","","","","","","","",""]
["",null,"","","","","","","","","",""]
["",null,"","","","","","","","","",""]
["",null,"","","","","","","","","",""]
["",null,"","","","","","","","","",""]
["",null,"","","","","","","","","",""]
["",null,"","","","","","","","","",""]
["",null,"","","","","","","","","",""]
["",null,"","","","","","","","","",""]
["",null,"","","","","","","","","",""]
["",null,"","",{"$f":"IF(E$1=\"\",\"\",IF(ISERROR(FIND(E$1,$B953))=TRUE,\"\",FIND(E$1,$B953)))","v":""},"","","","","","",""]
["",null,"","","","","","","","","",""]
["",null,"","","","","","","","","",""]
["",null,"","","","","","","","","",""]
["",null,"","","","","","","","","",""]
["",null,"","","","","","","","","",""]
["",null,"","","","","","","","","",""]
["",null,"","","","","","","","","",""]
["",null,{"$f":"IF(C$1=\"\",\"\",IF(ISERROR(FIND(C$1,$B961))=TRUE,\"\",FIND(C$1,$B961)))","v":""},"","","","","","","","",""]
["",null,"","","","","","","","","",""]
["",null,"","","","","","","","","",""]
["",null,"","","","","","","","","",""]
["",null,"","","","","","","","","",""]
["",null,"","","","","","","","","",""]
["",null,"","","","","","","","","",""]
["",null,"","","","","","","","","",""]
["",null,"","","","","","","","","",""]
["",null,"","","","","","","","","",""]
["",null,"","","","","","","","","",""]
["",null,"","","","","","","","","",""]
["",null,"","","","","","","","","",""]
["",null,"","","","","","","","","",""]
["",null,"","","","","","","","","",""]
["",null,"","","","","","","","","",""]
["",null,"","","","","","","","","",""]
["",null,"","","","","","","","","",""]
["",null,"","","","","","","","","",""]
["",null,"","","","","","","","","",""]
[{"$f":"IF(ROW()>$B$1,\"\",IF(SUM(C981:L981)=0,A980,A980+1))","v":""},null,"","","","","",{"$f":"IF(H$1=\"\",\"\",IF(ISERROR(FIND(H$1,$B981))=TRUE,\"\",FIND(H$1,$B981)))","v":""},"","","",""]
["",null,"","","","","","","","","",""]
["",null,"","","","","","","","","",""]
["",null,"","","","","","","","","",""]
["",null,"","","","","","","","","",""]
["",null,"","","","","","","","","",""]
["",null,"","","","","","","","","",""]
["",null,"","","","","","","","","",""]
["",null,"","","","","","","","","",""]
[{"$f":"IF(ROW()>$B$1,\"\",IF(SUM(C990:L990)=0,A989,A989+1))","v":""},null,{"$f":"IF(C$1=\"\",\"\",IF(ISERROR(FIND(C$1,$B990))=TRUE,\"\",FIND(C$1,$B990)))","v":""},"","","","","","","","",""]
["",null,{"$f":"IF(C$1=\"\",\"\",IF(ISERROR(FIND(C$1,$B991))=TRUE,\"\",FIND(C$1,$B991)))","v":""},"","","","","","","","",""]
["",null,"","","","","","","","","",""]
["",null,"","","","","","","","","",""]
["",null,"","","","","","","","","",""]
["",null,"","","","","","","","","",""]
["",null,"","","","","","","","","",""]
["",null,"","","","","","","","","",""]
["",null,"","","","","","","","","",""]
["",null,"","","","","","","","","",""]
["",null,"","","","","","","","","",""]
["",null,"","","","","","","","","",""]
["",null,"","","","","","","","","",""]
["",null,"","","","","","","","","",""]
["",null,"","","","","","","","","",""]
["",null,"","","","","","","","","",""]
["",null,"","","","","","","","","",""]
["",null,"","","","","","","","","",""]
["",null,"","","","","","","","","",""]
["",null,"","","","","","","","","",""]
["",null,"","","","","","","","","",""]
["",null,"","","","","","","","","",""]
["",null,"","","","","","","","","",""]
["",null,"","","","","","","","","",""]
["",null,"","","","","","","","","",""]
["",null,"","","","","","","","","",""]
["",null,"","","","","","","","","",""]
["",null,"","","","","","","","","",""]
["",null,"","","","","","","","","",""]
["",null,"","","","","","","","","",""]
["",null,"","","","","","","","","",""]
["",null,"","","","","","","","","",{"$f":"IF(L$1=\"\",\"\",IF(ISERROR(FIND(L$1,$B1021))=TRUE,\"\",FIND(L$1,$B1021)))","v":""}]
["",null,{"$f":"IF(C$1=\"\",\"\",IF(ISERROR(FIND(C$1,$B1022))=TRUE,\"\",FIND(C$1,$B1022)))","v":""},"","","","","","","","",""]
["",null,"","","","","","","","","",""]
["",null,"","","","","","","","","",""]
["",null,"","","","","","","","","",""]
["",null,"","","","","","","","","",""]
["",null,"","","","","","","","","",""]
["",null,"","","","","","","","","",""]
["",null,"","","","","","","","","",""]
["",null,"","","","","","","","","",""]
["",null,"","","","","","","","","",""]
["",null,"","","","","","","","","",""]
["",null,"","","","","","","","","",""]
["",null,"","","","","","","","","",""]
["",null,"","","","","","","","","",""]
["",null,"","","","","","","","","",""]
["",null,"","","","","","","","","",""]
["",null,"","","","","","","","","",""]
["",null,"","","","","","","","","",""]
["",null,"","","","","","","","","",""]
["",null,"","","","","","","","","",""]
["",null,"","","","","","","","","",""]
["",null,"","","","","","","","","",""]
["",null,"","","","","","","","","",""]
["",null,"","","","","","","","","",""]
["",null,"","","","","","","","","",""]
["",null,"","","","","",{"$f":"IF(H$1=\"\",\"\",IF(ISERROR(FIND(H$1,$B1047))=TRUE,\"\",FIND(H$1,$B1047)))","v":""},"","","",""]
["",null,{"$f":"IF(C$1=\"\",\"\",IF(ISERROR(FIND(C$1,$B1048))=TRUE,\"\",FIND(C$1,$B1048)))","v":""},"","","","","","","","",""]
["",null,"","","","","","","","","",""]
["",null,"","","","","","","","","",""]
["",null,"","","","","","","","","",""]
["",null,"","","","","","","","","",""]
["",null,"","","","","","","","","",""]
[{"$f":"IF(ROW()>$B$1,\"\",IF(SUM(C1054:L1054)=0,A1053,A1053+1))","v":""},null,"","","","","","","","","",""]
["",null,"","","","","","","","","",""]
["",null,"","","","","","","","","",""]
["",null,"","","","","","","","","",""]
["",null,"","","","","","","","","",""]
["",null,"","","","","","","","","",""]
["",null,"","","","","","","","","",""]
["",null,"","","","","","","","","",""]
["",null,"","","","","","","","","",""]
["",null,"","","","","","","","","",""]
["",null,"","","","","","","","","",""]
["",null,"","","","","","","","","",""]
["",null,"","","","","","","","","",""]
["",null,"","","","","","","","","",""]
["",null,"","","","","","","","","",""]
["",null,"","","","","","","","","",""]
["",null,"","","","","","","","","",""]
["",null,"","","","","","","","","",""]
["",null,"","","","","","","","","",""]
["",null,"","","","","",{"$f":"IF(H$1=\"\",\"\",IF(ISERROR(FIND(H$1,$B1073))=TRUE,\"\",FIND(H$1,$B1073)))","v":""},"","","",""]
["",null,"","","","","","","","","",""]
["",null,"","","","","","","","","",""]
["",null,"","","","","","","","","",""]
["",null,"","","","","","","","","",""]
["",null,"","","","","","","","","",""]
["",null,"","","","","","","","","",""]
["",null,"","","","","","","","","",""]
["",null,"","","","","","","","","",""]
["",null,"","","","","","","","","",""]
["",null,"","","","","","","","","",""]
["",null,"","","","","","","","","",""]
["",null,"","","","","","","","","",""]
["",null,"","","","","","","","","",""]
["",null,"","","","","","","","","",""]
["",null,"","","","","","","","","",""]
["",null,"","","","","","","","","",""]
["",null,"","","","","","","","","",""]
["",null,"","","","","","","","","",""]
["",null,"","","","","","","","","",""]
["",null,"","","","","","","","","",""]
["",null,"","","","","","","","","",""]
["",null,"","","","","","","","","",""]
["",null,"","","","","","","","","",""]
["",null,"","","","","","","","","",""]
["",null,"","","","","","","","","",""]
["",null,{"$f":"IF(C$1=\"\",\"\",IF(ISERROR(FIND(C$1,$B1099))=TRUE,\"\",FIND(C$1,$B1099)))","v":""},"","","","","","","","",""]
["",null,"","","","","","","","","",""]
["",null,"","","","","","","","","",""]
["",null,"","","","","","","","","",""]
["",null,"","","","","","","","","",""]
["",null,"","","","","","","","","",""]
["",null,"","","","","","","","","",""]
["",null,"","","","","","","","","",""]
["",null,"","","","","","","","","",""]
["",null,"","","","","","","","","",""]
["",null,"","","","","","","","","",""]
["",null,"","","","","","","","","",""]
["",null,"","","","","","","","","",""]
["",null,"","","","","","","","","",""]
["",null,"","","","","","","","","",""]
["",null,"","","","","","","","","",""]
["",null,"","","","","","","","","",""]
["",null,"","","","","","","","","",""]
["",null,"","","","","","","","","",""]
[{"$f":"IF(ROW()>$B$1,\"\",IF(SUM(C1118:L1118)=0,A1117,A1117+1))","v":""},null,"","","","","","","","","",""]
["",null,"","","","","","","","","",""]
["",null,"","","","","","","","","",""]
["",null,"","","","","","","","","",""]
["",null,"","","","","","","","","",""]
["",null,"","","","","","","","","",""]
["",null,"","","","","",{"$f":"IF(H$1=\"\",\"\",IF(ISERROR(FIND(H$1,$B1124))=TRUE,\"\",FIND(H$1,$B1124)))","v":""},"","","",""]
["",null,{"$f":"IF(C$1=\"\",\"\",IF(ISERROR(FIND(C$1,$B1125))=TRUE,\"\",FIND(C$1,$B1125)))","v":""},"","","","","","","","",""]
["",null,"","","","","","","","","",""]
["",null,"","","","","","","","","",""]
["",null,"","","","","","","","","",""]
["",null,"","","","","","","","","",""]
["",null,"","","","","","","","","",""]
["",null,"","","","","","","","","",""]
["",null,"","","","","","","","","",""]
["",null,"","","","","","","","","",""]
["",null,"","","","","","","","","",""]
["",null,"","","","","","","","","",""]
["",null,"","","","","","","","","",""]
["",null,"","","","","","","","","",""]
["",null,"","","","","","","","","",""]
["",null,"","","","","","","","","",""]
["",null,"","","","","","","","","",""]
["",null,"","","","","","","","","",""]
["",null,"","","","","","","","","",""]
["",null,"","","","","","","","","",""]
["",null,"","","","","","","","","",""]
["",null,"","","","","","","","","",""]
["",null,"","","","","","","","","",""]
["",null,"","","","","","","","","",""]
["",null,"","","","","","","","","",""]
["",null,"","","","","","","","","",""]
["",null,"","","","","",{"$f":"IF(H$1=\"\",\"\",IF(ISERROR(FIND(H$1,$B1150))=TRUE,\"\",FIND(H$1,$B1150)))","v":""},"","","",""]
["",null,{"$f":"IF(C$1=\"\",\"\",IF(ISERROR(FIND(C$1,$B1151))=TRUE,\"\",FIND(C$1,$B1151)))","v":""},"","","","","","","","",""]
["",null,"","","","","","","","","",""]
["",null,"","","","","","","","","",""]
["",null,"","","","","","","","","",""]
["",null,"","","","","","","","","",""]
["",null,"","","","","","","","","",""]
["",null,"","","","","","","","","",""]
["",null,"","","","","","","","","",""]
["",null,"","","","","","","","","",""]
["",null,"","","","","","","","","",""]
["",null,"","","","","","","","","",""]
["",null,"","","","","","","","","",""]
["",null,"","","","","","","","","",""]
["",null,"","","","","","","","","",""]
["",null,"","","","","","","","","",""]
["",null,"","","","","","","","","",""]
["",null,"","","","","","","","","",""]
["",null,"","","","","","","","","",""]
["",null,"","","","","","","","","",""]
["",null,"","","","","","","","","",""]
["",null,"","","","","","","","","",""]
["",null,"","","","","","","","","",""]
["",null,"","","","","","","","","",""]
["",null,"","","","","","","","","",""]
["",null,"","","","","","","","","",""]
["",null,"","","","","",{"$f":"IF(H$1=\"\",\"\",IF(ISERROR(FIND(H$1,$B1176))=TRUE,\"\",FIND(H$1,$B1176)))","v":""},"","","",""]
["",null,"","","","","","","","","",""]
["",null,"","","","","","","","","",""]
["",null,"","","","","","","","","",""]
["",null,"","","","","","","","","",""]
["",null,"","","","","","","","","",""]
[{"$f":"IF(ROW()>$B$1,\"\",IF(SUM(C1182:L1182)=0,A1181,A1181+1))","v":""},null,"","","","","","","","","",""]
["",null,"","","","","","","","","",""]
["",null,"","","","","","","","","",""]
["",null,"","","","","","","","","",""]
["",null,"","","","","","","","","",""]
["",null,"","","","","","","","","",""]
["",null,"","","","","","","","","",""]
["",null,"","","","","","","","","",""]
["",null,"","","","","","","","","",""]
["",null,"","","","","","","","","",""]
["",null,"","","","","","","","","",""]
["",null,"","","","","","","","","",""]
["",null,"","","","","","","","","",""]
["",null,"","","","","","","","","",""]
["",null,"","","","","","","","","",""]
["",null,"","","","","","","","","",""]
["",null,"","","","","","","","","",""]
["",null,"","","","","","","","","",""]
["",null,"","","","","","","","","",""]
["",null,"","","","","","","","","",""]
["",null,{"$f":"IF(C$1=\"\",\"\",IF(ISERROR(FIND(C$1,$B1202))=TRUE,\"\",FIND(C$1,$B1202)))","v":""},"","","","","","","","",""]
["",null,"","","","","","","","","",""]
["",null,"","","","","","","","","",""]
["",null,"","","","","","","","","",""]
["",null,"","","","","","","","","",""]
["",null,"","","","","","","","","",""]
["",null,"","","","","","","","","",""]
["",null,"","","","","","","","","",""]
["",null,"","","","","","","","","",""]
["",null,"","","","","","","","","",""]
["",null,"","","","","","","","","",""]
["",null,"","","","","","","","","",""]
["",null,"","","","","","","","","",""]
["",null,"","","","","","","","","",""]
["",null,"","","","","","","","","",""]
["",null,"","","","","","","","","",""]
["",null,{"$f":"IF(C$1=\"\",\"\",IF(ISERROR(FIND(C$1,$B1218))=TRUE,\"\",FIND(C$1,$B1218)))","v":""},"","","","","","","","",""]
["",null,"","","","","","","","","",""]
["",null,"","","","","","","","","",""]
["",null,"","","","","","","","","",""]
["",null,"","","","","","","","","",""]
["",null,"","","","","","","","","",""]
["",null,"","","","","","","","","",""]
["",null,"","","","","","","","","",""]
["",null,"","","","","","","","","",""]
["",null,"","","","","","","","","",""]
["",null,"","","","","","","","","",""]
["",null,"","","","","","","","","",""]
["",null,"","","","","","","","","",""]
["",null,"","","","","","","","","",""]
["",null,"","","","","","","","","",""]
["",null,"","","","","","","","","",""]
["",null,"","","","","","","","","",""]
["",null,"","","","","","","","","",""]
["",null,"","","","","","","","","",""]
["",null,"","","","","","","","","",""]
["",null,"","","","","","","","","",""]
["",null,"","","","","","","","","",""]
["",null,"","","","","","","","","",""]
["",null,"","","","","","","","","",""]
["",null,"","","","","","","","","",""]
["",null,"","","","","",{"$f":"IF(H$1=\"\",\"\",IF(ISERROR(FIND(H$1,$B1243))=TRUE,\"\",FIND(H$1,$B1243)))","v":""},"","","",""]
["",null,{"$f":"IF(C$1=\"\",\"\",IF(ISERROR(FIND(C$1,$B1244))=TRUE,\"\",FIND(C$1,$B1244)))","v":""},"","","","","","","","",""]
["",null,"","","","","","","","","",""]
[{"$f":"IF(ROW()>$B$1,\"\",IF(SUM(C1246:L1246)=0,A1245,A1245+1))","v":""},null,"","","","","","","","","",""]
["",null,"","","","","","","","","",""]
["",null,"","","","","","","","","",""]
["",null,"","","","","","","","","",""]
["",null,"","","","","","","","","",""]
["",null,"","","","","","","","","",""]
["",null,"","","","","","","","","",""]
["",null,"","","","","","","","","",""]
["",null,"","","","","","","","","",""]
["",null,"","","","","","","","","",""]
["",null,"","","","","","","","","",""]
["",null,"","","","","","","","","",""]
["",null,"","","","","","","","","",""]
["",null,"","","","","","","","","",""]
["",null,"","","","","","","","","",""]
["",null,"","","","","","","","","",""]
["",null,"","","","","","","","","",""]
["",null,"","","","","","","","","",""]
["",null,"","","","","","","","","",""]
["",null,"","","","","","","","","",""]
["",null,"","","","","","","","","",""]
["",null,"","","","","","","","","",""]
["",null,"","","","","","","","","",""]
["",null,"","","","","",{"$f":"IF(H$1=\"\",\"\",IF(ISERROR(FIND(H$1,$B1269))=TRUE,\"\",FIND(H$1,$B1269)))","v":""},"","","",""]
["",null,{"$f":"IF(C$1=\"\",\"\",IF(ISERROR(FIND(C$1,$B1270))=TRUE,\"\",FIND(C$1,$B1270)))","v":""},"","","","","","","","",""]
["",null,"","","","","","","","","",""]
["",null,"","","","","","","","","",""]
["",null,"","","","","","","","","",""]
["",null,"","","","","","","","","",""]
["",null,"","","","","","","","","",""]
["",null,"","","","","","","","","",""]
["",null,"","","","","","","","","",""]
["",null,"","","","","","","","","",""]
["",null,"","","","","","","","","",""]
["",null,"","","","","","","","","",""]
["",null,"","","","","","","","","",""]
["",null,"","","","","","","","","",""]
["",null,"","","","","","","","","",""]
["",null,"","","","","","","","","",""]
["",null,"","","","","","","","","",""]
["",null,"","","","","","","","","",""]
["",null,"","","","","","","","","",""]
["",null,"","","","","","","","","",""]
["",null,"","","","","","","","","",""]
["",null,"","","","","","","","","",""]
["",null,"","","","","","","","","",""]
["",null,"","","","","","","","","",""]
["",null,"","","","","","","","","",""]
["",null,"","","","","","","","","",""]
["",null,"","","","","",{"$f":"IF(H$1=\"\",\"\",IF(ISERROR(FIND(H$1,$B1295))=TRUE,\"\",FIND(H$1,$B1295)))","v":""},"","","",""]
["",null,{"$f":"IF(C$1=\"\",\"\",IF(ISERROR(FIND(C$1,$B1296))=TRUE,\"\",FIND(C$1,$B1296)))","v":""},"","","","","","","","",""]
["",null,"","","","","","","","","",""]
["",null,"","","","","","","","","",""]
["",null,"","","","","","","","","",""]
["",null,"","","","","","","","","",""]
["",null,"","","","","","","","","",""]
["",null,"","","","","","","","","",""]
["",null,"","","","","","","","","",""]
["",null,"","","","","","","","","",""]
["",null,"","","","","","","","","",""]
["",null,"","","","","","","","","",""]
["",null,"","","","","","","","","",""]
["",null,"","","","","","","","","",""]
["",null,"","","","","","","","","",""]
[{"$f":"IF(ROW()>$B$1,\"\",IF(SUM(C1310:L1310)=0,A1309,A1309+1))","v":""},null,"","","","","","","","","",""]
["",null,"","","","","","","","","",""]
["",null,"","","","","","","","","",""]
["",null,"","","","","","","","","",""]
["",null,"","","","","","","","","",""]
["",null,"","","","","","","","","",""]
["",null,"","","","","","","","","",""]
["",null,"","","","","","","","","",""]
["",null,"","","","","","","","","",""]
[]
[{"$f":"IF(ROW()>$B$1,\"\",IF(SUM(C1320:L1320)=0,A1319,A1319+1))","v":""},null,{"$f":"IF(C$1=\"\",\"\",IF(ISERROR(FIND(C$1,$B1320))=TRUE,\"\",FIND(C$1,$B1320)))","v":""},{"$f":"IF(D$1=\"\",\"\",IF(ISERROR(FIND(D$1,$B1320))=TRUE,\"\",FIND(D$1,$B1320)))","v":""},"","","","","","","",""]
["",null,{"$f":"IF(C$1=\"\",\"\",IF(ISERROR(FIND(C$1,$B1321))=TRUE,\"\",FIND(C$1,$B1321)))","v":""},"","","","","","","","",""]
["",null,"","","","","","","","","",""]
["",null,"","","","","","","","","",""]
["",null,"","","","","","","","","",""]
["",null,"","","","","","","","","",""]
["",null,"","","","","","","","","",""]
["",null,"","","","","","","","","",""]
["",null,"","","","","","","","","",""]
["",null,"","","","","","","","","",""]
["",null,"","","","","","","","","",""]
["",null,"","","","","","","","","",""]
["",null,"","","","","","","","","",""]
["",null,"","","","","","","","","",""]
["",null,"","","","","","","","","",""]
["",null,"","","","","","","","","",""]
["",null,"","","","","","","","","",""]
["",null,"","","","","","","","","",""]
["",null,"","","","","","","","","",""]
["",null,"","","","","","","","","",""]
["",null,"","","","","","","","","",""]
["",null,"","","","","","","","","",""]
["",null,"","","","","","","","","",""]
["",null,"","","","","","","","","",""]
["",null,"","","","","","","","","",""]
["",null,"","","","","","","","","",""]
["",null,"","","","","","","","","",""]
["",null,"","","","","","","","","",""]
["",null,"","","","","","","","","",""]
["",null,"","","","","","","","","",""]
["",null,"","","","","","","","","",""]
["",null,"","","","","","","","","",""]
["",null,"","","","","","","","","",""]
["",null,"","","","","","","","","",""]
["",null,"","","","","","","","","",""]
["",null,"","","","","","","","","",""]
["",null,"","","","","","","","","",""]
["",null,"","","","","","","","","",""]
["",null,"","","","","","","","","",""]
["",null,"","","","","","","","","",""]
["",null,{"$f":"IF(C$1=\"\",\"\",IF(ISERROR(FIND(C$1,$B1360))=TRUE,\"\",FIND(C$1,$B1360)))","v":""},"","","","","","","","",""]
["",null,"","","","","","","","","",""]
["",null,"","","","","","","","","",""]
["",null,"","","","","","","","","",""]
["",null,"","","","","","","","","",""]
["",null,"","","","","","","","","",""]
["",null,"","","","","","","","","",""]
["",null,"","","","","","","","","",""]
["",null,"","","","","","","","","",""]
["",null,"","","","","","","","","",""]
["",null,"","","","","","","","","",""]
["",null,"","","","","","","","","",""]
["",null,"","","","","","","","","",""]
["",null,"","","","","","","","","",""]
["",null,"","","","","","","","","",""]
["",null,"","","","","","","","","",""]
["",null,"","","","","","","","","",""]
["",null,"","","","","","","","","",""]
["",null,"","","","","","","","","",""]
["",null,"","","","","","","","","",""]
["",null,"","","","","","","","","",""]
["",null,"","","","","","","","","",""]
["",null,"","","","","","","","","",""]
["",null,"","","","","","","","","",""]
[{"$f":"IF(ROW()>$B$1,\"\",IF(SUM(C1384:L1384)=0,A1383,A1383+1))","v":""},null,"","","","","","","","","",""]
["",null,"","","","","",{"$f":"IF(H$1=\"\",\"\",IF(ISERROR(FIND(H$1,$B1385))=TRUE,\"\",FIND(H$1,$B1385)))","v":""},"","","",""]
["",null,{"$f":"IF(C$1=\"\",\"\",IF(ISERROR(FIND(C$1,$B1386))=TRUE,\"\",FIND(C$1,$B1386)))","v":""},"","","","","","","","",""]
["",null,"","","","","","","","","",""]
["",null,"","","","","","","","","",""]
["",null,"","","","","","","","","",""]
["",null,"","","","","","","","","",""]
["",null,"","","","","","","","","",""]
["",null,"","","","","","","","","",""]
["",null,"","","","","","","","","",""]
["",null,"","","","","","","","","",""]
["",null,"","","","","","","","","",""]
["",null,"","","","","","","","","",""]
["",null,"","","","","","","","","",""]
["",null,"","","","","","","","","",""]
["",null,"","","","","","","","","",""]
["",null,"","","","","","","","","",""]
["",null,"","","","","","","","","",""]
["",null,"","","","","","","","","",""]
["",null,"","","","","","","","","",""]
["",null,"","","","","","","","","",""]
["",null,"","","","","","","","","",""]
["",null,"","","","","","","","","",""]
["",null,"","","","","","","","","",""]
["",null,"","","","","","","","","",""]
["",null,"","","","","","","","","",""]
["",null,"","","","","","","","","",""]
["",null,"","","","","","","","","",""]
["",null,"","","","","","","","","",""]
["",null,"","","","","","","","",{"$f":"IF(K$1=\"\",\"\",IF(ISERROR(FIND(K$1,$B1413))=TRUE,\"\",FIND(K$1,$B1413)))","v":""},""]
["",null,"","","","","","","","","",""]
["",null,"","","","","","","","","",""]
["",null,"","","","","","","","","",""]
["",null,"","","","","","","","","",""]
["",null,"","","","","","","","","",""]
["",null,"","","","","","","","","",""]
["",null,"","","","","","","","","",""]
["",null,"","","","","","","","","",""]
["",null,"","","","","","","","","",""]
["",null,"","","","","","","","","",""]
["",null,"","","","","","","","","",""]
["",null,"","","","","","","","","",""]
["",null,"","","","","","","","","",""]
["",null,"","","","","","","","","",""]
["",null,"","","","","","","","","",""]
["",null,"","","","","","","","","",""]
["",null,"","","","","","","","","",""]
["",null,"","","","","","","","","",""]
["",null,"","","","","","","","","",""]
["",null,"","","","","","","","","",""]
["",null,"","","","","","","","","",""]
["",null,"","","","","","","","","",""]
["",null,"","","","","","","","","",""]
["",null,"","","","","","","","","",""]
["",null,"","","","","","","","","",""]
["",null,"","","","","","","","","",""]
["",null,"","","","","","","","","",""]
["",null,"","","","","","","","","",""]
["",null,"","",{"$f":"IF(E$1=\"\",\"\",IF(ISERROR(FIND(E$1,$B1442))=TRUE,\"\",FIND(E$1,$B1442)))","v":""},"","","","","","",""]
["",null,"","","","","","","","","",""]
["",null,"","","","","","","","","",""]
["",null,"","","","","","","","","",""]
["",null,"","","","","","","","","",""]
["",null,"","","","","","","","","",""]
[{"$f":"IF(ROW()>$B$1,\"\",IF(SUM(C1448:L1448)=0,A1447,A1447+1))","v":""},null,"","","","","","","","","",""]
["",null,"","","","","","","","","",""]
["",null,{"$f":"IF(C$1=\"\",\"\",IF(ISERROR(FIND(C$1,$B1450))=TRUE,\"\",FIND(C$1,$B1450)))","v":""},"","","","","","","","",""]
["",null,"","","","","","","","","",""]
["",null,"","","","","","","","","",""]
["",null,"","","","","","","","","",""]
["",null,"","","","","","","","","",""]
["",null,"","","","","","","","","",""]
["",null,"","","","","","","","","",""]
["",null,"","","","","","","","","",""]
["",null,"","","","","","","","","",""]
["",null,"","","","","","","","","",""]
["",null,"","","","","","","","","",""]
["",null,"","","","","","","","","",""]
["",null,"","","","","","","","","",""]
["",null,"","","","","","","","","",""]
["",null,"","","","","","","","","",""]
["",null,"","","","","","","","","",""]
["",null,"","","","","","","","","",""]
["",null,"","","","","","","","","",""]
["",null,"","","","","","","","","",""]
["",null,"","","","","","","","","",""]
["",null,"","","","","",{"$f":"IF(H$1=\"\",\"\",IF(ISERROR(FIND(H$1,$B1470))=TRUE,\"\",FIND(H$1,$B1470)))","v":""},"","","",""]
["",null,"","","","","","","","","",""]
["",null,"","","","","","","","","",""]
["",null,"","","","","","","","","",""]
["",null,"","","","","","","","","",""]
["",null,"","","","","","","","","",""]
["",null,"","","","","","","","","",""]
["",null,"","","","","","","","","",""]
["",null,"","","","","","","","","",""]
["",null,"","","","","","","","","",""]
["",null,"","","","","","","","","",""]
["",null,"","","","","","","","","",""]
["",null,"","","","","","","","","",""]
["",null,"","","","","","","","","",""]
["",null,"","","","","","","","","",""]
["",null,"","","","","","","","","",""]
["",null,"","","","","","","","","",""]
["",null,"","","","","","","","","",""]
["",null,"","","","","","","","","",""]
["",null,"","","","","","","","","",""]
["",null,"","","","","","","","","",""]
["",null,"","","","","","","","","",""]
["",null,"","","","","","","","","",""]
["",null,"","","","","","","","","",""]
["",null,"","","","","","","","","",""]
["",null,"","","","","","","","","",""]
["",null,"","","","","","","","","",""]
["",null,"","","","","","","","","",""]
["",null,"","","","","","","","",{"$f":"IF(K$1=\"\",\"\",IF(ISERROR(FIND(K$1,$B1498))=TRUE,\"\",FIND(K$1,$B1498)))","v":""},""]
["",null,"","","","","","","","","",""]
["",null,"","","","","","","","","",""]
["",null,"","","","","","","","","",""]
["",null,"","","","","","","","","",""]
["",null,"","","","","","","","","",""]
["",null,"","","","","","","","","",""]
["",null,"","","","","","","","","",""]
["",null,"","","","","","","","","",""]
["",null,"","","","","","","","","",""]
["",null,"","","","","","","","","",""]
["",null,"","","","","","","","","",""]
["",null,"","","","","","","","","",""]
["",null,"","","","","","","","","",""]
[{"$f":"IF(ROW()>$B$1,\"\",IF(SUM(C1512:L1512)=0,A1511,A1511+1))","v":""},null,"","","","","","","","","",""]
["",null,"","","","","","","","","",""]
["",null,{"$f":"IF(C$1=\"\",\"\",IF(ISERROR(FIND(C$1,$B1514))=TRUE,\"\",FIND(C$1,$B1514)))","v":""},"","","","","","","","",""]
["",null,"","","","","","","","","",""]
["",null,"","","","","","","","","",""]
["",null,"","","","","","","","","",""]
["",null,"","","","","","","","","",""]
["",null,"","","","","","","","","",""]
["",null,"","","","","","","","","",""]
["",null,"","","","","","","","","",""]
["",null,"","","","","","","","","",""]
["",null,"","","","","","","","","",""]
["",null,"","","","","","","","","",""]
["",null,"","","","","","","","","",""]
["",null,"","","","","","","","","",""]
["",null,"","","","","","","","","",""]
["",null,"","","","","","","","","",""]
["",null,"","","","","","","","","",""]
["",null,{"$f":"IF(C$1=\"\",\"\",IF(ISERROR(FIND(C$1,$B1530))=TRUE,\"\",FIND(C$1,$B1530)))","v":""},"","","","","","","","",""]
["",null,"","","","","","","","","",""]
["",null,"","","","","","","","","",""]
["",null,"","","","","","","","","",""]
["",null,"","","","","","","","","",""]
["",null,"","","","","","","","","",""]
["",null,"","","","","","","","","",""]
["",null,"","","","","","","","","",""]
["",null,"","","","","","","","","",""]
["",null,"","","","","","","","","",""]
["",null,"","","","","","","","","",""]
["",null,"","","","","","","","","",""]
["",null,"","","","","","","","","",""]
["",null,"","","","","","","","","",""]
["",null,"","","","","","","","","",""]
["",null,"","","","","","","","","",""]
["",null,"","","","","","","","","",""]
["",null,"","","","","","","","","",""]
["",null,"","","","","","","","","",""]
["",null,"","","","","","","","","",""]
["",null,"","","","","","","","","",""]
["",null,"","","","","","","","","",""]
["",null,"","","","","","","","","",""]
["",null,"","","","","","","","","",""]
["",null,"","","","","","","","","",""]
["",null,"","","","","",{"$f":"IF(H$1=\"\",\"\",IF(ISERROR(FIND(H$1,$B1555))=TRUE,\"\",FIND(H$1,$B1555)))","v":""},"","","",""]
["",null,{"$f":"IF(C$1=\"\",\"\",IF(ISERROR(FIND(C$1,$B1556))=TRUE,\"\",FIND(C$1,$B1556)))","v":""},"","","","","","","","",""]
["",null,"","","","","","","","","",""]
["",null,"","","","","","","","","",""]
["",null,"","","","","","","","","",""]
["",null,"","","","","","","","","",""]
["",null,"","","","","","","","","",""]
["",null,"","","","","","","","","",""]
["",null,"","","","","","","","","",""]
["",null,"","","","","","","","","",""]
["",null,"","","","","","","","","",""]
["",null,"","","","","","","","","",""]
["",null,"","","","","","","","","",""]
["",null,"","","","","","","","","",""]
["",null,"","","","","","","","","",""]
["",null,"","","","","","","","","",""]
["",null,"","","","","","","","","",""]
["",null,"","","","","","","","","",""]
["",null,"","","","","","","","","",""]
["",null,"","","","","","","","","",""]
["",null,"","","","","","","","","",""]
[{"$f":"IF(ROW()>$B$1,\"\",IF(SUM(C1576:L1576)=0,A1575,A1575+1))","v":""},null,"","","","","","","","","",""]
["",null,"","","","","","","","","",""]
["",null,"","","","","","","","","",""]
["",null,"","","","","","","","","",""]
["",null,"","","","","","","","","",""]
["",null,"","","","","","","","","",""]
["",null,"","","","","","","","","",""]
["",null,"","","","","","","","",{"$f":"IF(K$1=\"\",\"\",IF(ISERROR(FIND(K$1,$B1583))=TRUE,\"\",FIND(K$1,$B1583)))","v":""},""]
["",null,"","","","","","","","","",""]
["",null,"","","","","","","","","",""]
["",null,"","","","","","","","","",""]
["",null,"","","","","","","","","",""]
["",null,"","","","","","","","","",""]
["",null,"","","","","","","","","",""]
["",null,"","","","","","","","","",""]
["",null,"","","","","","","","","",""]
["",null,"","","","","","","","","",""]
["",null,"","","","","","","","","",""]
["",null,"","","","","","","","","",""]
["",null,"","","","","","","","","",""]
["",null,"","","","","","","","","",""]
["",null,"","","","","","","","","",""]
["",null,"","","","","","","","","",""]
["",null,"","","","","","","","","",""]
["",null,"","","","","","","","","",""]
["",null,"","","","","","","","","",""]
["",null,"","","","","","","","","",""]
["",null,"","","","","","","","","",""]
["",null,"","","","","","","","","",""]
["",null,"","","","","","","","","",""]
["",null,"","","","","","","","","",""]
["",null,"","","","","","","","","",""]
["",null,"","","","","","","","","",""]
["",null,"","","","","","","","","",""]
["",null,"","","","","","","","","",""]
["",null,"","","","","","","","","",""]
["",null,"","",{"$f":"IF(E$1=\"\",\"\",IF(ISERROR(FIND(E$1,$B1612))=TRUE,\"\",FIND(E$1,$B1612)))","v":""},"","","","","","",""]
["",null,"","","","","","","","","",""]
["",null,"","","","","","","","","",""]
["",null,"","","","","","","","","",""]
["",null,"","","","","","","","","",""]
["",null,"","","","","","","","","",""]
["",null,"","","","","","","","","",""]
["",null,"","","","","","","","","",""]
["",null,{"$f":"IF(C$1=\"\",\"\",IF(ISERROR(FIND(C$1,$B1620))=TRUE,\"\",FIND(C$1,$B1620)))","v":""},"","","","","","","","",""]
["",null,"","","","","","","","","",""]
["",null,"","","","","","","","","",""]
["",null,"","","","","","","","","",""]
["",null,"","","","","","","","","",""]
["",null,"","","","","","","","","",""]
["",null,"","","","","","","","","",""]
["",null,"","","","","","","","","",""]
["",null,"","","","","","","","","",""]
["",null,"","","","","","","","","",""]
["",null,"","","","","","","","","",""]
["",null,"","","","","","","","","",""]
["",null,"","","","","","","","","",""]
["",null,"","","","","","","","","",""]
["",null,"","","","","","","","","",""]
["",null,"","","","","","","","","",""]
["",null,"","","","","","","","","",""]
["",null,"","","","","","","","","",""]
["",null,"","","","","","","","","",""]
["",null,"","","","","","","","","",""]
[{"$f":"IF(ROW()>$B$1,\"\",IF(SUM(C1640:L1640)=0,A1639,A1639+1))","v":""},null,"","","","","",{"$f":"IF(H$1=\"\",\"\",IF(ISERROR(FIND(H$1,$B1640))=TRUE,\"\",FIND(H$1,$B1640)))","v":""},"","","",""]
["",null,"","","","","","","","","",""]
["",null,"","","","","","","","","",""]
["",null,"","","","","","","","","",""]
["",null,"","","","","","","","","",""]
["",null,"","","","","","","","","",""]
["",null,"","","","","","","","","",""]
["",null,"","","","","","","","","",""]
["",null,"","","","","","","","","",""]
[{"$f":"IF(ROW()>$B$1,\"\",IF(SUM(C1649:L1649)=0,A1648,A1648+1))","v":""},null,{"$f":"IF(C$1=\"\",\"\",IF(ISERROR(FIND(C$1,$B1649))=TRUE,\"\",FIND(C$1,$B1649)))","v":""},"","","","","","","","",""]
["",null,{"$f":"IF(C$1=\"\",\"\",IF(ISERROR(FIND(C$1,$B1650))=TRUE,\"\",FIND(C$1,$B1650)))","v":""},"","","","","","","","",""]
["",null,"","","","","","","","","",""]
["",null,"","","","","","","","","",""]
["",null,"","","","","","","","","",""]
["",null,"","","","","","","","","",""]
["",null,"","","","","","","","","",""]
["",null,"","","","","","","","","",""]
["",null,"","","","","","","","","",""]
["",null,"","","","","","","","","",""]
["",null,"","","","","","","","","",""]
["",null,"","","","","","","","","",""]
["",null,"","","","","","","","","",""]
["",null,"","","","","","","","","",""]
["",null,"","","","","","","","","",""]
["",null,"","","","","","","","","",""]
["",null,"","","","","","","","","",""]
["",null,"","","","","","","","","",""]
["",null,"","","","","","","","","",""]
["",null,"","","","","","","","","",""]
["",null,"","","","","","","","","",""]
["",null,"","","","","","","","","",""]
["",null,"","","","","","","","","",""]
["",null,"","","","","","","","","",""]
["",null,"","","","","","","","","",""]
["",null,"","","","","","","","","",""]
["",null,"","","","","","","","","",""]
["",null,"","","","","","","","","",""]
["",null,"","","","","","","","","",""]
["",null,"","","","","","","","","",""]
["",null,"","","","","","","","","",""]
["",null,"","","","","","","","","",{"$f":"IF(L$1=\"\",\"\",IF(ISERROR(FIND(L$1,$B1680))=TRUE,\"\",FIND(L$1,$B1680)))","v":""}]
["",null,{"$f":"IF(C$1=\"\",\"\",IF(ISERROR(FIND(C$1,$B1681))=TRUE,\"\",FIND(C$1,$B1681)))","v":""},"","","","","","","","",""]
["",null,"","","","","","","","","",""]
["",null,"","","","","","","","","",""]
["",null,"","","","","","","","","",""]
["",null,"","","","","","","","","",""]
["",null,"","","","","","","","","",""]
["",null,"","","","","","","","","",""]
["",null,"","","","","","","","","",""]
["",null,"","","","","","","","","",""]
["",null,"","","","","","","","","",""]
["",null,"","","","","","","","","",""]
["",null,"","","","","","","","","",""]
["",null,"","","","","","","","","",""]
["",null,"","","","","","","","","",""]
["",null,"","","","","","","","","",""]
["",null,"","","","","","","","","",""]
["",null,"","","","","","","","","",""]
["",null,"","","","","","","","","",""]
["",null,"","","","","","","","","",""]
["",null,"","","","","","","","","",""]
["",null,"","","","","","","","","",""]
["",null,"","","","","","","","","",""]
["",null,"","","","","","","","","",""]
["",null,"","","","","","","","","",""]
["",null,"","","","","","","","","",""]
["",null,"","","","","",{"$f":"IF(H$1=\"\",\"\",IF(ISERROR(FIND(H$1,$B1706))=TRUE,\"\",FIND(H$1,$B1706)))","v":""},"","","",""]
["",null,{"$f":"IF(C$1=\"\",\"\",IF(ISERROR(FIND(C$1,$B1707))=TRUE,\"\",FIND(C$1,$B1707)))","v":""},"","","","","","","","",""]
["",null,"","","","","","","","","",""]
["",null,"","","","","","","","","",""]
["",null,"","","","","","","","","",""]
["",null,"","","","","","","","","",""]
["",null,"","","","","","","","","",""]
[{"$f":"IF(ROW()>$B$1,\"\",IF(SUM(C1713:L1713)=0,A1712,A1712+1))","v":""},null,"","","","","","","","","",""]
["",null,"","","","","","","","","",""]
["",null,"","","","","","","","","",""]
["",null,"","","","","","","","","",""]
["",null,"","","","","","","","","",""]
["",null,"","","","","","","","","",""]
["",null,"","","","","","","","","",""]
["",null,"","","","","","","","","",""]
["",null,"","","","","","","","","",""]
["",null,"","","","","","","","","",""]
["",null,"","","","","","","","","",""]
["",null,"","","","","","","","","",""]
["",null,"","","","","","","","","",""]
["",null,"","","","","","","","","",""]
["",null,"","","","","","","","","",""]
["",null,"","","","","","","","","",""]
["",null,"","","","","","","","","",""]
["",null,"","","","","","","","","",""]
["",null,"","","","","","","","","",""]
["",null,"","","","","",{"$f":"IF(H$1=\"\",\"\",IF(ISERROR(FIND(H$1,$B1732))=TRUE,\"\",FIND(H$1,$B1732)))","v":""},"","","",""]
["",null,"","","","","","","","","",""]
["",null,"","","","","","","","","",""]
["",null,"","","","","","","","","",""]
["",null,"","","","","","","","","",""]
["",null,"","","","","","","","","",""]
["",null,"","","","","","","","","",""]
["",null,"","","","","","","","","",""]
["",null,"","","","","","","","","",""]
["",null,"","","","","","","","","",""]
["",null,"","","","","","","","","",""]
["",null,"","","","","","","","","",""]
["",null,"","","","","","","","","",""]
["",null,"","","","","","","","","",""]
["",null,"","","","","","","","","",""]
["",null,"","","","","","","","","",""]
["",null,"","","","","","","","","",""]
["",null,"","","","","","","","","",""]
["",null,"","","","","","","","","",""]
["",null,"","","","","","","","","",""]
["",null,"","","","","","","","","",""]
["",null,"","","","","","","","","",""]
["",null,"","","","","","","","","",""]
["",null,"","","","","","","","","",""]
["",null,"","","","","","","","","",""]
["",null,"","","","","","","","","",""]
["",null,{"$f":"IF(C$1=\"\",\"\",IF(ISERROR(FIND(C$1,$B1758))=TRUE,\"\",FIND(C$1,$B1758)))","v":""},"","","","","","","","",""]
["",null,"","","","","","","","","",""]
["",null,"","","","","","","","","",""]
["",null,"","","","","","","","","",""]
["",null,"","","","","","","","","",""]
["",null,"","","","","","","","","",""]
["",null,"","","","","","","","","",""]
["",null,"","","","","","","","","",""]
["",null,"","","","","","","","","",""]
["",null,"","","","","","","","","",""]
["",null,"","","","","","","","","",""]
["",null,"","","","","","","","","",""]
["",null,"","","","","","","","","",""]
["",null,"","","","","","","","","",""]
["",null,"","","","","","","","","",""]
["",null,"","","","","","","","","",""]
["",null,"","","","","","","","","",""]
["",null,"","","","","","","","","",""]
["",null,"","","","","","","","","",""]
[{"$f":"IF(ROW()>$B$1,\"\",IF(SUM(C1777:L1777)=0,A1776,A1776+1))","v":""},null,"","","","","","","","","",""]
["",null,"","","","","","","","","",""]
["",null,"","","","","","","","","",""]
["",null,"","","","","","","","","",""]
["",null,"","","","","","","","","",""]
["",null,"","","","","","","","","",""]
["",null,"","","","","",{"$f":"IF(H$1=\"\",\"\",IF(ISERROR(FIND(H$1,$B1783))=TRUE,\"\",FIND(H$1,$B1783)))","v":""},"","","",""]
["",null,{"$f":"IF(C$1=\"\",\"\",IF(ISERROR(FIND(C$1,$B1784))=TRUE,\"\",FIND(C$1,$B1784)))","v":""},"","","","","","","","",""]
["",null,"","","","","","","","","",""]
["",null,"","","","","","","","","",""]
["",null,"","","","","","","","","",""]
["",null,"","","","","","","","","",""]
["",null,"","","","","","","","","",""]
["",null,"","","","","","","","","",""]
["",null,"","","","","","","","","",""]
["",null,"","","","","","","","","",""]
["",null,"","","","","","","","","",""]
["",null,"","","","","","","","","",""]
["",null,"","","","","","","","","",""]
["",null,"","","","","","","","","",""]
["",null,"","","","","","","","","",""]
["",null,"","","","","","","","","",""]
["",null,"","","","","","","","","",""]
["",null,"","","","","","","","","",""]
["",null,"","","","","","","","","",""]
["",null,"","","","","","","","","",""]
["",null,"","","","","","","","","",""]
["",null,"","","","","","","","","",""]
["",null,"","","","","","","","","",""]
["",null,"","","","","","","","","",""]
["",null,"","","","","","","","","",""]
["",null,"","","","","","","","","",""]
["",null,"","","","","",{"$f":"IF(H$1=\"\",\"\",IF(ISERROR(FIND(H$1,$B1809))=TRUE,\"\",FIND(H$1,$B1809)))","v":""},"","","",""]
["",null,{"$f":"IF(C$1=\"\",\"\",IF(ISERROR(FIND(C$1,$B1810))=TRUE,\"\",FIND(C$1,$B1810)))","v":""},"","","","","","","","",""]
["",null,"","","","","","","","","",""]
["",null,"","","","","","","","","",""]
["",null,"","","","","","","","","",""]
["",null,"","","","","","","","","",""]
["",null,"","","","","","","","","",""]
["",null,"","","","","","","","","",""]
["",null,"","","","","","","","","",""]
["",null,"","","","","","","","","",""]
["",null,"","","","","","","","","",""]
["",null,"","","","","","","","","",""]
["",null,"","","","","","","","","",""]
["",null,"","","","","","","","","",""]
["",null,"","","","","","","","","",""]
["",null,"","","","","","","","","",""]
["",null,"","","","","","","","","",""]
["",null,"","","","","","","","","",""]
["",null,"","","","","","","","","",""]
["",null,"","","","","","","","","",""]
["",null,"","","","","","","","","",""]
["",null,"","","","","","","","","",""]
["",null,"","","","","","","","","",""]
["",null,"","","","","","","","","",""]
["",null,"","","","","","","","","",""]
["",null,"","","","","","","","","",""]
["",null,"","","","","",{"$f":"IF(H$1=\"\",\"\",IF(ISERROR(FIND(H$1,$B1835))=TRUE,\"\",FIND(H$1,$B1835)))","v":""},"","","",""]
["",null,"","","","","","","","","",""]
["",null,"","","","","","","","","",""]
["",null,"","","","","","","","","",""]
["",null,"","","","","","","","","",""]
["",null,"","","","","","","","","",""]
[{"$f":"IF(ROW()>$B$1,\"\",IF(SUM(C1841:L1841)=0,A1840,A1840+1))","v":""},null,"","","","","","","","","",""]
["",null,"","","","","","","","","",""]
["",null,"","","","","","","","","",""]
["",null,"","","","","","","","","",""]
["",null,"","","","","","","","","",""]
["",null,"","","","","","","","","",""]
["",null,"","","","","","","","","",""]
["",null,"","","","","","","","","",""]
["",null,"","","","","","","","","",""]
["",null,"","","","","","","","","",""]
["",null,"","","","","","","","","",""]
["",null,"","","","","","","","","",""]
["",null,"","","","","","","","","",""]
["",null,"","","","","","","","","",""]
["",null,"","","","","","","","","",""]
["",null,"","","","","","","","","",""]
["",null,"","","","","","","","","",""]
["",null,"","","","","","","","","",""]
["",null,"","","","","","","","","",""]
["",null,"","","","","","","","","",""]
["",null,{"$f":"IF(C$1=\"\",\"\",IF(ISERROR(FIND(C$1,$B1861))=TRUE,\"\",FIND(C$1,$B1861)))","v":""},"","","","","","","","",""]
["",null,"","","","","","","","","",""]
["",null,"","","","","","","","","",""]
["",null,"","","","","","","","","",""]
["",null,"","","","","","","","","",""]
["",null,"","","","","","","","","",""]
["",null,"","","","","","","","","",""]
["",null,"","","","","","","","","",""]
["",null,"","","","","","","","","",""]
["",null,"","","","","","","","","",""]
["",null,"","","","","","","","","",""]
["",null,"","","","","","","","","",""]
["",null,"","","","","","","","","",""]
["",null,"","","","","","","","","",""]
["",null,"","","","","","","","","",""]
["",null,"","","","","","","","","",""]
["",null,{"$f":"IF(C$1=\"\",\"\",IF(ISERROR(FIND(C$1,$B1877))=TRUE,\"\",FIND(C$1,$B1877)))","v":""},"","","","","","","","",""]
["",null,"","","","","","","","","",""]
["",null,"","","","","","","","","",""]
["",null,"","","","","","","","","",""]
["",null,"","","","","","","","","",""]
["",null,"","","","","","","","","",""]
["",null,"","","","","","","","","",""]
["",null,"","","","","","","","","",""]
["",null,"","","","","","","","","",""]
["",null,"","","","","","","","","",""]
["",null,"","","","","","","","","",""]
["",null,"","","","","","","","","",""]
["",null,"","","","","","","","","",""]
["",null,"","","","","","","","","",""]
["",null,"","","","","","","","","",""]
["",null,"","","","","","","","","",""]
["",null,"","","","","","","","","",""]
["",null,"","","","","","","","","",""]
["",null,"","","","","","","","","",""]
["",null,"","","","","","","","","",""]
["",null,"","","","","","","","","",""]
["",null,"","","","","","","","","",""]
["",null,"","","","","","","","","",""]
["",null,"","","","","","","","","",""]
["",null,"","","","","","","","","",""]
["",null,"","","","","",{"$f":"IF(H$1=\"\",\"\",IF(ISERROR(FIND(H$1,$B1902))=TRUE,\"\",FIND(H$1,$B1902)))","v":""},"","","",""]
["",null,{"$f":"IF(C$1=\"\",\"\",IF(ISERROR(FIND(C$1,$B1903))=TRUE,\"\",FIND(C$1,$B1903)))","v":""},"","","","","","","","",""]
["",null,"","","","","","","","","",""]
[{"$f":"IF(ROW()>$B$1,\"\",IF(SUM(C1905:L1905)=0,A1904,A1904+1))","v":""},null,"","","","","","","","","",""]
["",null,"","","","","","","","","",""]
["",null,"","","","","","","","","",""]
["",null,"","","","","","","","","",""]
["",null,"","","","","","","","","",""]
["",null,"","","","","","","","","",""]
["",null,"","","","","","","","","",""]
["",null,"","","","","","","","","",""]
["",null,"","","","","","","","","",""]
["",null,"","","","","","","","","",""]
["",null,"","","","","","","","","",""]
["",null,"","","","","","","","","",""]
["",null,"","","","","","","","","",""]
["",null,"","","","","","","","","",""]
["",null,"","","","","","","","","",""]
["",null,"","","","","","","","","",""]
["",null,"","","","","","","","","",""]
["",null,"","","","","","","","","",""]
["",null,"","","","","","","","","",""]
["",null,"","","","","","","","","",""]
["",null,"","","","","","","","","",""]
["",null,"","","","","","","","","",""]
["",null,"","","","","","","","","",""]
["",null,"","","","","",{"$f":"IF(H$1=\"\",\"\",IF(ISERROR(FIND(H$1,$B1928))=TRUE,\"\",FIND(H$1,$B1928)))","v":""},"","","",""]
["",null,{"$f":"IF(C$1=\"\",\"\",IF(ISERROR(FIND(C$1,$B1929))=TRUE,\"\",FIND(C$1,$B1929)))","v":""},"","","","","","","","",""]
["",null,"","","","","","","","","",""]
["",null,"","","","","","","","","",""]
["",null,"","","","","","","","","",""]
["",null,"","","","","","","","","",""]
["",null,"","","","","","","","","",""]
["",null,"","","","","","","","","",""]
["",null,"","","","","","","","","",""]
["",null,"","","","","","","","","",""]
["",null,"","","","","","","","","",""]
["",null,"","","","","","","","","",""]
["",null,"","","","","","","","","",""]
["",null,"","","","","","","","","",""]
["",null,"","","","","","","","","",""]
["",null,"","","","","","","","","",""]
["",null,"","","","","","","","","",""]
["",null,"","","","","","","","","",""]
["",null,"","","","","","","","","",""]
["",null,"","","","","","","","","",""]
["",null,"","","","","","","","","",""]
["",null,"","","","","","","","","",""]
["",null,"","","","","","","","","",""]
["",null,"","","","","","","","","",""]
["",null,"","","","","","","","","",""]
["",null,"","","","","","","","","",""]
["",null,"","","","","",{"$f":"IF(H$1=\"\",\"\",IF(ISERROR(FIND(H$1,$B1954))=TRUE,\"\",FIND(H$1,$B1954)))","v":""},"","","",""]
["",null,{"$f":"IF(C$1=\"\",\"\",IF(ISERROR(FIND(C$1,$B1955))=TRUE,\"\",FIND(C$1,$B1955)))","v":""},"","","","","","","","",""]
["",null,"","","","","","","","","",""]
["",null,"","","","","","","","","",""]
["",null,"","","","","","","","","",""]
["",null,"","","","","","","","","",""]
["",null,"","","","","","","","","",""]
["",null,"","","","","","","","","",""]
["",null,"","","","","","","","","",""]
["",null,"","","","","","","","","",""]
["",null,"","","","","","","","","",""]
["",null,"","","","","","","","","",""]
["",null,"","","","","","","","","",""]
["",null,"","","","","","","","","",""]
["",null,"","","","","","","","","",""]
[{"$f":"IF(ROW()>$B$1,\"\",IF(SUM(C1969:L1969)=0,A1968,A1968+1))","v":""},null,"","","","","","","","","",""]
["",null,"","","","","","","","","",""]
["",null,"","","","","","","","","",""]
["",null,"","","","","","","","","",""]
["",null,"","","","","","","","","",""]
["",null,"","","","","","","","","",""]
["",null,"","","","","","","","","",""]
["",null,"","","","","","","","","",""]
["",null,"","","","","","","","","",""]
[]
[{"$f":"IF(ROW()>$B$1,\"\",IF(SUM(C1979:L1979)=0,A1978,A1978+1))","v":""},null,{"$f":"IF(C$1=\"\",\"\",IF(ISERROR(FIND(C$1,$B1979))=TRUE,\"\",FIND(C$1,$B1979)))","v":""},{"$f":"IF(D$1=\"\",\"\",IF(ISERROR(FIND(D$1,$B1979))=TRUE,\"\",FIND(D$1,$B1979)))","v":""},"","","","","","","",""]
["",null,{"$f":"IF(C$1=\"\",\"\",IF(ISERROR(FIND(C$1,$B1980))=TRUE,\"\",FIND(C$1,$B1980)))","v":""},"","","","","","","","",""]
["",null,"","","","","","","","","",""]
["",null,"","","","","","","","","",""]
["",null,"","","","","","","","","",""]
["",null,"","","","","","","","","",""]
["",null,"","","","","","","","","",""]
["",null,"","","","","","","","","",""]
["",null,"","","","","","","","","",""]
["",null,"","","","","","","","","",""]
["",null,"","","","","","","","","",""]
["",null,"","","","","","","","","",""]
["",null,"","","","","","","","","",""]
["",null,"","","","","","","","","",""]
["",null,"","","","","","","","","",""]
["",null,"","","","","","","","","",""]
["",null,"","","","","","","","","",""]
["",null,"","","","","","","","","",""]
["",null,"","","","","","","","","",""]
["",null,"","","","","","","","","",""]
["",null,"","","","","","","","","",""]
["",null,"","","","","","","","","",""]
["",null,"","","","","","","","","",""]
["",null,"","","","","","","","","",""]
["",null,"","","","","","","","","",""]
["",null,"","","","","","","","","",""]
["",null,"","","","","","","","","",""]
["",null,"","","","","","","","","",""]
["",null,"","","","","","","","","",""]
["",null,"","","","","","","","","",""]
["",null,"","","","","","","","","",""]
["",null,"","","","","","","","","",""]
["",null,"","","","","","","","","",""]
["",null,"","","","","","","","","",""]
["",null,"","","","","","","","","",""]
["",null,"","","","","","","","","",""]
["",null,"","","","","","","","","",""]
["",null,"","","","","","","","","",""]
["",null,"","","","","","","","","",""]
["",null,"","","","","","","","","",""]
["",null,{"$f":"IF(C$1=\"\",\"\",IF(ISERROR(FIND(C$1,$B2019))=TRUE,\"\",FIND(C$1,$B2019)))","v":""},"","","","","","","","",""]
["",null,"","","","","","","","","",""]
["",null,"","","","","","","","","",""]
["",null,"","","","","","","","","",""]
["",null,"","","","","","","","","",""]
["",null,"","","","","","","","","",""]
["",null,"","","","","","","","","",""]
["",null,"","","","","","","","","",""]
["",null,"","","","","","","","","",""]
["",null,"","","","","","","","","",""]
["",null,"","","","","","","","","",""]
["",null,"","","","","","","","","",""]
["",null,"","","","","","","","","",""]
["",null,"","","","","","","","","",""]
["",null,"","","","","","","","","",""]
["",null,"","","","","","","","","",""]
["",null,"","","","","","","","","",""]
["",null,"","","","","","","","","",""]
["",null,"","","","","","","","","",""]
["",null,"","","","","","","","","",""]
["",null,"","","","","","","","","",""]
["",null,"","","","","","","","","",""]
["",null,"","","","","","","","","",""]
["",null,"","","","","","","","","",""]
[{"$f":"IF(ROW()>$B$1,\"\",IF(SUM(C2043:L2043)=0,A2042,A2042+1))","v":""},null,"","","","","","","","","",""]
["",null,"","","","","",{"$f":"IF(H$1=\"\",\"\",IF(ISERROR(FIND(H$1,$B2044))=TRUE,\"\",FIND(H$1,$B2044)))","v":""},"","","",""]
["",null,{"$f":"IF(C$1=\"\",\"\",IF(ISERROR(FIND(C$1,$B2045))=TRUE,\"\",FIND(C$1,$B2045)))","v":""},"","","","","","","","",""]
["",null,"","","","","","","","","",""]
["",null,"","","","","","","","","",""]
["",null,"","","","","","","","","",""]
["",null,"","","","","","","","","",""]
["",null,"","","","","","","","","",""]
["",null,"","","","","","","","","",""]
["",null,"","","","","","","","","",""]
["",null,"","","","","","","","","",""]
["",null,"","","","","","","","","",""]
["",null,"","","","","","","","","",""]
["",null,"","","","","","","","","",""]
["",null,"","","","","","","","","",""]
["",null,"","","","","","","","","",""]
["",null,"","","","","","","","","",""]
["",null,"","","","","","","","","",""]
["",null,"","","","","","","","","",""]
["",null,"","","","","","","","","",""]
["",null,"","","","","","","","","",""]
["",null,"","","","","","","","","",""]
["",null,"","","","","","","","","",""]
["",null,"","","","","","","","","",""]
["",null,"","","","","","","","","",""]
["",null,"","","","","","","","","",""]
["",null,"","","","","","","","","",""]
["",null,"","","","","",{"$f":"IF(H$1=\"\",\"\",IF(ISERROR(FIND(H$1,$B2070))=TRUE,\"\",FIND(H$1,$B2070)))","v":""},"","","",""]
["",null,{"$f":"IF(C$1=\"\",\"\",IF(ISERROR(FIND(C$1,$B2071))=TRUE,\"\",FIND(C$1,$B2071)))","v":""},"","","","","","","","",""]
["",null,"","","","","","","","","",""]
["",null,"","","","","","","","","",""]
["",null,"","","","","","","","","",""]
["",null,"","","","","","","","","",""]
["",null,"","","","","","","","","",""]
["",null,"","","","","","","","","",""]
["",null,"","","","","","","","","",""]
["",null,"","","","","","","","","",""]
["",null,"","","","","","","","","",""]
["",null,"","","","","","","","","",""]
["",null,"","","","","","","","","",""]
["",null,"","","","","","","","","",""]
["",null,"","","","","","","","","",""]
["",null,"","","","","","","","","",""]
["",null,"","","","","","","","","",""]
["",null,"","","","","","","","","",""]
["",null,"","","","","","","","","",""]
["",null,"","","","","","","","","",""]
["",null,"","","","","","","","","",""]
["",null,"","","","","","","","","",""]
["",null,"","","","","","","","","",""]
["",null,"","","","","","","","","",""]
["",null,"","","","","","","","","",""]
["",null,"","","","","","","","","",""]
["",null,"","","","","",{"$f":"IF(H$1=\"\",\"\",IF(ISERROR(FIND(H$1,$B2096))=TRUE,\"\",FIND(H$1,$B2096)))","v":""},"","","",""]
["",null,{"$f":"IF(C$1=\"\",\"\",IF(ISERROR(FIND(C$1,$B2097))=TRUE,\"\",FIND(C$1,$B2097)))","v":""},"","","","","","","","",""]
["",null,"","","","","","","","","",""]
["",null,"","","","","","","","","",""]
["",null,"","","","","","","","","",""]
["",null,"","","","","","","","","",""]
["",null,"","","","","","","","","",""]
["",null,"","","","","","","","","",""]
["",null,"","","","","","","","","",""]
["",null,"","","","","","","","","",""]
["",null,"","","","","","","","","",""]
[{"$f":"IF(ROW()>$B$1,\"\",IF(SUM(C2107:L2107)=0,A2106,A2106+1))","v":""},null,"","","","","","","","","",""]
["",null,"","","","","","","","","",""]
["",null,"","","","","","","","","",""]
["",null,"","","","","","","","","",""]
["",null,"","","","","","","","","",""]
["",null,"","","","","","","","","",""]
["",null,"","","","","","","","","",""]
["",null,"","","","","","","","","",""]
["",null,"","","","","","","","","",""]
["",null,"","","","","","","","","",""]
["",null,"","","","","","","","","",""]
["",null,"","","","","","","","","",""]
["",null,"","","","","","","","","",""]
["",null,"","","","","","","","","",""]
["",null,"","","","","","","","","",""]
["",null,"","","","","",{"$f":"IF(H$1=\"\",\"\",IF(ISERROR(FIND(H$1,$B2122))=TRUE,\"\",FIND(H$1,$B2122)))","v":""},"","","",""]
["",null,{"$f":"IF(C$1=\"\",\"\",IF(ISERROR(FIND(C$1,$B2123))=TRUE,\"\",FIND(C$1,$B2123)))","v":""},"","","","","","","","",""]
["",null,"","","","","","","","","",""]
["",null,"","","","","","","","","",""]
["",null,"","","","","","","","","",""]
["",null,"","","","","","","","","",""]
["",null,"","","","","","","","","",""]
["",null,"","","","","","","","","",""]
["",null,"","","","","","","","","",""]
["",null,"","","","","","","","","",""]
["",null,"","","","","","","","","",""]
["",null,"","","","","","","","","",""]
["",null,"","","","","","","","","",""]
["",null,"","","","","","","","","",""]
["",null,"","","","","","","","","",""]
["",null,"","","","","","","","","",""]
["",null,"","","","","","","","","",""]
["",null,"","","","","","","","","",""]
["",null,"","","","","","","","","",""]
["",null,"","","","","","","","","",""]
["",null,"","","","","","","","","",""]
["",null,"","","","","","","","","",""]
["",null,"","","","","","","","","",""]
["",null,"","","","","","","","","",""]
["",null,"","","","","","","","","",""]
["",null,"","","","","","","","","",""]
["",null,"","","","","","","","","",""]
["",null,"","","","","","","","","",""]
["",null,"","","","","","","","",{"$f":"IF(K$1=\"\",\"\",IF(ISERROR(FIND(K$1,$B2150))=TRUE,\"\",FIND(K$1,$B2150)))","v":""},""]
["",null,"","","","","","","","","",""]
["",null,"","","","","","","","","",""]
["",null,"","","","","","","","","",""]
["",null,"","","","","","","","","",""]
["",null,"","","","","","","","","",""]
["",null,"","","","","","","","","",""]
["",null,"","","","","","","","","",""]
["",null,"","","","","","","","","",""]
["",null,"","","","","","","","","",""]
["",null,"","","","","","","","","",""]
["",null,"","","","","","","","","",""]
["",null,"","","","","","","","","",""]
["",null,"","","","","","","","","",""]
["",null,"","","","","","","","","",""]
["",null,"","","","","","","","","",""]
["",null,"","","","","","","","","",""]
["",null,"","","","","","","","","",""]
["",null,"","","","","","","","","",""]
["",null,"","","","","","","","","",""]
["",null,"","","","","","","","","",""]
[{"$f":"IF(ROW()>$B$1,\"\",IF(SUM(C2171:L2171)=0,A2170,A2170+1))","v":""},null,"","","","","","","","","",""]
["",null,"","","","","","","","","",""]
["",null,"","","","","","","",{"$f":"IF(J$1=\"\",\"\",IF(ISERROR(FIND(J$1,$B2173))=TRUE,\"\",FIND(J$1,$B2173)))","v":""},"",""]
["",null,{"$f":"IF(C$1=\"\",\"\",IF(ISERROR(FIND(C$1,$B2174))=TRUE,\"\",FIND(C$1,$B2174)))","v":""},"","","","","","","","",""]
["",null,"","","","","","","","","",""]
["",null,"","","","","","","","","",""]
["",null,"","","","","","","","","",""]
["",null,"","","","","","","","","",""]
["",null,"","","","","","","","","",""]
["",null,"","","","","","","","","",""]
["",null,"","","","","","","","","",""]
["",null,"","","","","","","","","",""]
["",null,"","","","","","","","","",""]
["",null,"","","","","","","","","",""]
["",null,"","","","","","","","","",""]
["",null,"","","","","","","","","",""]
["",null,"","","","","","","","","",""]
["",null,"","","","","","","","","",""]
["",null,"","","","","","","","","",""]
["",null,{"$f":"IF(C$1=\"\",\"\",IF(ISERROR(FIND(C$1,$B2190))=TRUE,\"\",FIND(C$1,$B2190)))","v":""},"","","","","","","","",""]
["",null,"","","","","","","","","",""]
["",null,"","","","","","","","","",""]
["",null,"","","","","","","","","",""]
["",null,"","","","","","","","","",""]
["",null,"","","","","","","","","",""]
["",null,"","","","","","","","","",""]
["",null,"","","","","","","","","",""]
["",null,"","","","","","","","","",""]
["",null,"","","","","","","","","",""]
["",null,"","","","","","","","","",""]
["",null,"","","","","","","","","",""]
["",null,"","","","","","","","","",""]
["",null,"","","","","","","","","",""]
["",null,"","","","","","","","","",""]
["",null,"","","","","","","","","",""]
["",null,"","","","","","","","","",""]
["",null,"","","","","","","","","",""]
["",null,"","","","","","","","","",""]
["",null,"","","","","","","","","",""]
["",null,"","","","","","","","","",""]
["",null,"","","","","","","","","",""]
["",null,"","","","","","","","","",""]
["",null,"","","","","","","","","",""]
["",null,"","","","","","","","","",""]
["",null,"","","","","",{"$f":"IF(H$1=\"\",\"\",IF(ISERROR(FIND(H$1,$B2215))=TRUE,\"\",FIND(H$1,$B2215)))","v":""},"","","",""]
["",null,{"$f":"IF(C$1=\"\",\"\",IF(ISERROR(FIND(C$1,$B2216))=TRUE,\"\",FIND(C$1,$B2216)))","v":""},"","","","","","","","",""]
["",null,"","","","","","","","","",""]
["",null,"","","","","","","","","",""]
["",null,"","","","","","","","","",""]
["",null,"","","","","","","","","",""]
["",null,"","","","","","","","","",""]
["",null,"","","","","","","","","",""]
["",null,"","","","","","","","","",""]
["",null,"","","","","","","","","",""]
["",null,"","","","","","","","","",""]
["",null,"","","","","","","","","",""]
["",null,"","","","","","","","","",""]
["",null,"","","","","","","","","",""]
["",null,"","","","","","","","","",""]
["",null,"","","","","","","","","",""]
["",null,"","","","","","","","","",""]
["",null,"","","","","","","","","",""]
["",null,"","","","","","","","","",""]
["",null,"","","","","","","","","",""]
[{"$f":"IF(ROW()>$B$1,\"\",IF(SUM(C2235:L2235)=0,A2234,A2234+1))","v":""},null,"","","","","","","","","",""]
["",null,"","","","","","","","","",""]
["",null,"","","","","","","","","",""]
["",null,"","","","","","","","","",""]
["",null,"","","","","","","","","",""]
["",null,"","","","","","","","","",""]
["",null,"","","","","",{"$f":"IF(H$1=\"\",\"\",IF(ISERROR(FIND(H$1,$B2241))=TRUE,\"\",FIND(H$1,$B2241)))","v":""},"","","",""]
["",null,{"$f":"IF(C$1=\"\",\"\",IF(ISERROR(FIND(C$1,$B2242))=TRUE,\"\",FIND(C$1,$B2242)))","v":""},"","","","","","","","",""]
["",null,"","","","","","","","","",""]
["",null,"","","","","","","","","",""]
["",null,"","","","","","","","","",""]
["",null,"","","","","","","","","",""]
["",null,"","","","","","","","","",""]
["",null,"","","","","","","","","",""]
["",null,"","","","","","","","","",""]
["",null,"","","","","","","","","",""]
["",null,"","","","","","","","","",""]
["",null,"","","","","","","","","",""]
["",null,"","","","","","","","","",""]
["",null,"","","","","","","","","",""]
["",null,"","","","","","","","","",""]
["",null,"","","","","","","","","",""]
["",null,"","","","","","","","","",""]
["",null,"","","","","","","","","",""]
["",null,"","","","","","","","","",""]
["",null,"","","","","","","","","",""]
["",null,"","","","","","","","","",""]
["",null,"","","","","","","","","",""]
["",null,"","","","","","","","","",""]
["",null,"","","","","","","","","",""]
["",null,"","","","","","","","","",""]
["",null,"","","","","","","","","",""]
["",null,"","","","","","","",{"$f":"IF(J$1=\"\",\"\",IF(ISERROR(FIND(J$1,$B2267))=TRUE,\"\",FIND(J$1,$B2267)))","v":""},"",""]
["",null,{"$f":"IF(C$1=\"\",\"\",IF(ISERROR(FIND(C$1,$B2268))=TRUE,\"\",FIND(C$1,$B2268)))","v":""},"","","","","","","","",""]
["",null,"","","","","","","","","",""]
["",null,"","","","","","","","","",""]
["",null,"","","","","","","","","",""]
["",null,"","","","","","","","","",""]
["",null,"","","","","","","","","",""]
["",null,"","","","","","","","","",""]
["",null,"","","","","","","","","",""]
["",null,"","","","","","","","","",""]
["",null,"","","","","","","","","",""]
["",null,"","","","","","","","","",""]
["",null,"","","","","","","","","",""]
["",null,"","","","","","","","","",""]
["",null,"","","","","","","","","",""]
["",null,"","","","","","","","","",""]
["",null,"","","","","","","","","",""]
["",null,"","","","","","","","","",""]
["",null,"","","","","","","","","",""]
["",null,"","","","","","","","","",""]
["",null,"","","","","","","","","",""]
["",null,"","","","","","","","","",""]
["",null,"","","","","","","","","",""]
["",null,"","","","","","","","","",""]
["",null,"","","","","","","","","",""]
["",null,"","","","","","","","","",""]
["",null,"","","","","",{"$f":"IF(H$1=\"\",\"\",IF(ISERROR(FIND(H$1,$B2293))=TRUE,\"\",FIND(H$1,$B2293)))","v":""},"","","",""]
["",null,{"$f":"IF(C$1=\"\",\"\",IF(ISERROR(FIND(C$1,$B2294))=TRUE,\"\",FIND(C$1,$B2294)))","v":""},"","","","","","","","",""]
["",null,"","","","","","","","","",""]
["",null,"","","","","","","","","",""]
["",null,"","","","","","","","","",""]
["",null,"","","","","","","","","",""]
[{"$f":"IF(ROW()>$B$1,\"\",IF(SUM(C2299:L2299)=0,A2298,A2298+1))","v":""},null,"","","","","","","","","",""]
["",null,"","","","","","","","","",""]
["",null,"","","","","","","","","",""]
["",null,"","","","","","","","","",""]
["",null,"","","","","","","","","",""]
["",null,"","","","","","","","","",""]
["",null,"","","","","","","","","",""]
["",null,"","","","","","","","","",""]
["",null,"","","","","","","","","",""]
[{"$f":"IF(ROW()>$B$1,\"\",IF(SUM(C2308:L2308)=0,A2307,A2307+1))","v":""},null,{"$f":"IF(C$1=\"\",\"\",IF(ISERROR(FIND(C$1,$B2308))=TRUE,\"\",FIND(C$1,$B2308)))","v":""},"","","","","","","","",""]
["",null,{"$f":"IF(C$1=\"\",\"\",IF(ISERROR(FIND(C$1,$B2309))=TRUE,\"\",FIND(C$1,$B2309)))","v":""},"","","","","","","","",""]
["",null,"","","","","","","","","",""]
["",null,"","","","","","","","","",""]
["",null,"","","","","","","","","",""]
["",null,"","","","","","","","","",""]
["",null,"","","","","","","","","",""]
["",null,"","","","","","","","","",""]
["",null,"","","","","","","","","",""]
["",null,"","","","","","","","","",""]
["",null,"","","","","","","","","",""]
["",null,"","","","","","","","","",""]
["",null,"","","","","","","","","",""]
["",null,"","","","","","","","","",""]
["",null,"","","","","","","","","",""]
["",null,"","","","","","","","","",""]
["",null,"","","","","","","","","",""]
["",null,"","","","","","","","","",""]
["",null,"","","","","","","","","",""]
["",null,"","","","","","","","","",""]
["",null,"","","","","","","","","",""]
["",null,"","","","","","","","","",""]
["",null,"","","","","","","","","",""]
["",null,"","","","","","","","","",""]
["",null,"","","","","","","","","",""]
["",null,"","","","","","","","","",""]
["",null,"","","","","","","","","",""]
["",null,"","","","","","","","","",""]
["",null,"","","","","","","","","",""]
["",null,"","","","","","","","","",""]
["",null,"","","","","","","","","",""]
["",null,"","","","","","","","","",{"$f":"IF(L$1=\"\",\"\",IF(ISERROR(FIND(L$1,$B2339))=TRUE,\"\",FIND(L$1,$B2339)))","v":""}]
["",null,{"$f":"IF(C$1=\"\",\"\",IF(ISERROR(FIND(C$1,$B2340))=TRUE,\"\",FIND(C$1,$B2340)))","v":""},"","","","","","","","",""]
["",null,"","","","","","","","","",""]
["",null,"","","","","","","","","",""]
["",null,"","","","","","","","","",""]
["",null,"","","","","","","","","",""]
["",null,"","","","","","","","","",""]
["",null,"","","","","","","","","",""]
["",null,"","","","","","","","","",""]
["",null,"","","","","","","","","",""]
["",null,"","","","","","","","","",""]
["",null,"","","","","","","","","",""]
["",null,"","","","","","","","","",""]
["",null,"","","","","","","","","",""]
["",null,"","","","","","","","","",""]
["",null,"","","","","","","","","",""]
["",null,"","","","","","","","","",""]
["",null,"","","","","","","","","",""]
["",null,"","","","","","","","","",""]
["",null,"","","","","","","","","",""]
["",null,"","","","","","","","","",""]
["",null,"","","","","","","","","",""]
["",null,"","","","","","","","","",""]
["",null,"","","","","","","","","",""]
["",null,"","","","","","","","","",""]
["",null,"","","","","","","","","",""]
["",null,"","","","","",{"$f":"IF(H$1=\"\",\"\",IF(ISERROR(FIND(H$1,$B2365))=TRUE,\"\",FIND(H$1,$B2365)))","v":""},"","","",""]
["",null,{"$f":"IF(C$1=\"\",\"\",IF(ISERROR(FIND(C$1,$B2366))=TRUE,\"\",FIND(C$1,$B2366)))","v":""},"","","","","","","","",""]
["",null,"","","","","","","","","",""]
["",null,"","","","","","","","","",""]
["",null,"","","","","","","","","",""]
["",null,"","","","","","","","","",""]
["",null,"","","","","","","","","",""]
[{"$f":"IF(ROW()>$B$1,\"\",IF(SUM(C2372:L2372)=0,A2371,A2371+1))","v":""},null,"","","","","","","","","",""]
["",null,"","","","","","","","","",""]
["",null,"","","","","","","","","",""]
["",null,"","","","","","","","","",""]
["",null,"","","","","","","","","",""]
["",null,"","","","","","","","","",""]
["",null,"","","","","","","","","",""]
["",null,"","","","","","","","","",""]
["",null,"","","","","","","","","",""]
["",null,"","","","","","","","","",""]
["",null,"","","","","","","","","",""]
["",null,"","","","","","","","","",""]
["",null,"","","","","","","","","",""]
["",null,"","","","","","","","","",""]
["",null,"","","","","","","","","",""]
["",null,"","","","","","","","","",""]
["",null,"","","","","","","","","",""]
["",null,"","","","","","","","","",""]
["",null,"","","","","","","","","",""]
["",null,"","","","","",{"$f":"IF(H$1=\"\",\"\",IF(ISERROR(FIND(H$1,$B2391))=TRUE,\"\",FIND(H$1,$B2391)))","v":""},"","","",""]
["",null,{"$f":"IF(C$1=\"\",\"\",IF(ISERROR(FIND(C$1,$B2392))=TRUE,\"\",FIND(C$1,$B2392)))","v":""},"","","","","","","","",""]
["",null,"","","","","","","","","",""]
["",null,"","","","","","","","","",""]
["",null,"","","","","","","","","",""]
["",null,"","","","","","","","","",""]
["",null,"","","","","","","","","",""]
["",null,"","","","","","","","","",""]
["",null,"","","","","","","","","",""]
["",null,"","","","","","","","","",""]
["",null,"","","","","","","","","",""]
["",null,"","","","","","","","","",""]
["",null,"","","","","","","","","",""]
["",null,"","","","","","","","","",""]
["",null,"","","","","","","","","",""]
["",null,"","","","","","","","","",""]
["",null,"","","","","","","","","",""]
["",null,"","","","","","","","","",""]
["",null,"","","","","","","","","",""]
["",null,"","","","","","","","","",""]
["",null,"","","","","","","","","",""]
["",null,"","","","","","","","","",""]
["",null,"","","","","","","","","",""]
["",null,"","","","","","","","","",""]
["",null,"","","","","","","","","",""]
["",null,"","","","","","","","","",""]
["",null,"","","","","",{"$f":"IF(H$1=\"\",\"\",IF(ISERROR(FIND(H$1,$B2417))=TRUE,\"\",FIND(H$1,$B2417)))","v":""},"","","",""]
["",null,"","","","","","","","","",""]
["",null,"","","","","","","","","",""]
["",null,"","","","","","","","","",""]
["",null,"","","","","","","","","",""]
["",null,"","","","","","","","","",""]
["",null,"","","","","","","","","",""]
["",null,"","","","","","","","","",""]
["",null,"","","","","","","","","",""]
["",null,"","","","","","","","","",""]
["",null,"","","","","","","","","",""]
["",null,"","","","","","","","","",""]
["",null,"","","","","","","","","",""]
["",null,"","","","","","","","","",""]
["",null,"","","","","","","","","",""]
["",null,"","","","","","","","","",""]
["",null,"","","","","","","","","",""]
["",null,"","","","","","","","","",""]
["",null,"","","","","","","","","",""]
[{"$f":"IF(ROW()>$B$1,\"\",IF(SUM(C2436:L2436)=0,A2435,A2435+1))","v":""},null,"","","","","","","","","",""]
["",null,"","","","","","","","","",""]
["",null,"","","","","","","","","",""]
["",null,"","","","","","","","","",""]
["",null,"","","","","","","","","",""]
["",null,"","","","","","","","","",""]
["",null,"","","","","","","","","",""]
["",null,{"$f":"IF(C$1=\"\",\"\",IF(ISERROR(FIND(C$1,$B2443))=TRUE,\"\",FIND(C$1,$B2443)))","v":""},"","","","","","","","",""]
["",null,"","","","","","","","","",""]
["",null,"","","","","","","","","",""]
["",null,"","","","","","","","","",""]
["",null,"","","","","","","","","",""]
["",null,"","","","","","","","","",""]
["",null,"","","","","","","","","",""]
["",null,"","","","","","","","","",""]
["",null,"","","","","","","","","",""]
["",null,"","","","","","","","","",""]
["",null,"","","","","","","","","",""]
["",null,"","","","","","","","","",""]
["",null,"","","","","","","","","",""]
["",null,"","","","","","","","","",""]
["",null,"","","","","","","","","",""]
["",null,"","","","","","","","","",""]
["",null,"","","","","","","","","",""]
["",null,"","","","","","","","","",""]
["",null,"","","","","","","","","",""]
["",null,"","","","","","","","","",""]
["",null,"","","","","","","","","",""]
["",null,"","","","","","","","","",""]
["",null,"","","","","","","","","",""]
["",null,"","","","","","","","","",""]
["",null,"","","","","","","","","",""]
["",null,"","","","","",{"$f":"IF(H$1=\"\",\"\",IF(ISERROR(FIND(H$1,$B2468))=TRUE,\"\",FIND(H$1,$B2468)))","v":""},"","","",""]
["",null,{"$f":"IF(C$1=\"\",\"\",IF(ISERROR(FIND(C$1,$B2469))=TRUE,\"\",FIND(C$1,$B2469)))","v":""},"","","","","","","","",""]
["",null,"","","","","","","","","",""]
["",null,"","","","","","","","","",""]
["",null,"","","","","","","","","",""]
["",null,"","","","","","","","","",""]
["",null,"","","","","","","","","",""]
["",null,"","","","","","","","","",""]
["",null,"","","","","","","","","",""]
["",null,"","","","","","","","","",""]
["",null,"","","","","","","","","",""]
["",null,"","","","","","","","","",""]
["",null,"","","","","","","","","",""]
["",null,"","","","","","","","","",""]
["",null,"","","","","","","","","",""]
["",null,"","","","","","","","","",""]
["",null,"","","","","","","","","",""]
["",null,"","","","","","","","","",""]
["",null,"","","","","","","","","",""]
["",null,"","","","","","","","","",""]
["",null,"","","","","","","","","",""]
["",null,"","","","","","","","","",""]
["",null,"","","","","","","","","",""]
["",null,"","","","","","","","","",""]
["",null,"","","","","","","","","",""]
["",null,"","","","","","","","","",""]
["",null,"","","","","",{"$f":"IF(H$1=\"\",\"\",IF(ISERROR(FIND(H$1,$B2494))=TRUE,\"\",FIND(H$1,$B2494)))","v":""},"","","",""]
["",null,{"$f":"IF(C$1=\"\",\"\",IF(ISERROR(FIND(C$1,$B2495))=TRUE,\"\",FIND(C$1,$B2495)))","v":""},"","","","","","","","",""]
["",null,"","","","","","","","","",""]
["",null,"","","","","","","","","",""]
["",null,"","","","","","","","","",""]
["",null,"","","","","","","","","",""]
[{"$f":"IF(ROW()>$B$1,\"\",IF(SUM(C2500:L2500)=0,A2499,A2499+1))","v":""},null,"","","","","","","","","",""]
["",null,"","","","","","","","","",""]
["",null,"","","","","","","","","",""]
["",null,"","","","","","","","","",""]
["",null,"","","","","","","","","",""]
["",null,"","","","","","","","","",""]
["",null,"","","","","","","","","",""]
["",null,"","","","","","","","","",""]
["",null,"","","","","","","","","",""]
["",null,"","","","","","","","","",""]
["",null,"","","","","","","","","",""]
["",null,"","","","","","","","","",""]
["",null,"","","","","","","","","",""]
["",null,"","","","","","","","","",""]
["",null,"","","","","","","","","",""]
["",null,"","","","","","","","","",""]
["",null,"","","","","","","","","",""]
["",null,"","","","","","","","","",""]
["",null,"","","","","","","","","",""]
["",null,"","","","","","","","","",""]
["",null,"","","","","",{"$f":"IF(H$1=\"\",\"\",IF(ISERROR(FIND(H$1,$B2520))=TRUE,\"\",FIND(H$1,$B2520)))","v":""},"","","",""]
["",null,"","","","","","","","","",""]
["",null,"","","","","","","","","",""]
["",null,"","","","","","","","","",""]
["",null,"","","","","","","","","",""]
["",null,"","","","","","","","","",""]
["",null,"","","","","","","","","",""]
["",null,"","","","","","","","","",""]
["",null,"","","","","","","","","",""]
["",null,"","","","","","","","","",""]
["",null,"","","","","","","","","",""]
["",null,"","","","","","","","","",""]
["",null,"","","","","","","","","",""]
["",null,"","","","","","","","","",""]
["",null,"","","","","","","","","",""]
["",null,"","","","","","","","","",""]
["",null,{"$f":"IF(C$1=\"\",\"\",IF(ISERROR(FIND(C$1,$B2536))=TRUE,\"\",FIND(C$1,$B2536)))","v":""},"","","","","","","","",""]
["",null,"","","","","","","","","",""]
["",null,"","","","","","","","","",""]
["",null,"","","","","","","","","",""]
["",null,"","","","","","","","","",""]
["",null,"","","","","","","","","",""]
["",null,"","","","","","","","","",""]
["",null,"","","","","","","","","",""]
["",null,"","","","","","","","","",""]
["",null,"","","","","","","","","",""]
["",null,"","","","","","","","","",""]
["",null,"","","","","","","","","",""]
["",null,"","","","","","","","","",""]
["",null,"","","","","","","","","",""]
["",null,"","","","","","","","","",""]
["",null,"","","","","","","","","",""]
["",null,"","","","","","","","","",""]
["",null,"","","","","","","","","",""]
["",null,"","","","","","","","","",""]
["",null,"","","","","","","","","",""]
["",null,"","","","","","","","","",""]
["",null,"","","","","","","","","",""]
["",null,"","","","","","","","","",""]
["",null,"","","","","","","","","",""]
["",null,"","","","","","","","","",""]
["",null,"","","","","",{"$f":"IF(H$1=\"\",\"\",IF(ISERROR(FIND(H$1,$B2561))=TRUE,\"\",FIND(H$1,$B2561)))","v":""},"","","",""]
["",null,{"$f":"IF(C$1=\"\",\"\",IF(ISERROR(FIND(C$1,$B2562))=TRUE,\"\",FIND(C$1,$B2562)))","v":""},"","","","","","","","",""]
["",null,"","","","","","","","","",""]
[{"$f":"IF(ROW()>$B$1,\"\",IF(SUM(C2564:L2564)=0,A2563,A2563+1))","v":""},null,"","","","","","","","","",""]
["",null,"","","","","","","","","",""]
["",null,"","","","","","","","","",""]
["",null,"","","","","","","","","",""]
["",null,"","","","","","","","","",""]
["",null,"","","","","","","","","",""]
["",null,"","","","","","","","","",""]
["",null,"","","","","","","","","",""]
["",null,"","","","","","","","","",""]
["",null,"","","","","","","","","",""]
["",null,"","","","","","","","","",""]
["",null,"","","","","","","","","",""]
["",null,"","","","","","","","","",""]
["",null,"","","","","","","","","",""]
["",null,"","","","","","","","","",""]
["",null,"","","","","","","","","",""]
["",null,"","","","","","","","","",""]
["",null,"","","","","","","","","",""]
["",null,"","","","","","","","","",""]
["",null,"","","","","","","","","",""]
["",null,"","","","","","","","","",""]
["",null,"","","","","","","","","",""]
["",null,"","","","","","","","","",""]
["",null,"","","","","",{"$f":"IF(H$1=\"\",\"\",IF(ISERROR(FIND(H$1,$B2587))=TRUE,\"\",FIND(H$1,$B2587)))","v":""},"","","",""]
["",null,{"$f":"IF(C$1=\"\",\"\",IF(ISERROR(FIND(C$1,$B2588))=TRUE,\"\",FIND(C$1,$B2588)))","v":""},"","","","","","","","",""]
["",null,"","","","","","","","","",""]
["",null,"","","","","","","","","",""]
["",null,"","","","","","","","","",""]
["",null,"","","","","","","","","",""]
["",null,"","","","","","","","","",""]
["",null,"","","","","","","","","",""]
["",null,"","","","","","","","","",""]
["",null,"","","","","","","","","",""]
["",null,"","","","","","","","","",""]
["",null,"","","","","","","","","",""]
["",null,"","","","","","","","","",""]
["",null,"","","","","","","","","",""]
["",null,"","","","","","","","","",""]
["",null,"","","","","","","","","",""]
["",null,"","","","","","","","","",""]
["",null,"","","","","","","","","",""]
["",null,"","","","","","","","","",""]
["",null,"","","","","","","","","",""]
["",null,"","","","","","","","","",""]
["",null,"","","","","","","","","",""]
["",null,"","","","","","","","","",""]
["",null,"","","","","","","","","",""]
["",null,"","","","","","","","","",""]
["",null,"","","","","","","","","",""]
["",null,"","","","","",{"$f":"IF(H$1=\"\",\"\",IF(ISERROR(FIND(H$1,$B2613))=TRUE,\"\",FIND(H$1,$B2613)))","v":""},"","","",""]
["",null,{"$f":"IF(C$1=\"\",\"\",IF(ISERROR(FIND(C$1,$B2614))=TRUE,\"\",FIND(C$1,$B2614)))","v":""},"","","","","","","","",""]
["",null,"","","","","","","","","",""]
["",null,"","","","","","","","","",""]
["",null,"","","","","","","","","",""]
["",null,"","","","","","","","","",""]
["",null,"","","","","","","","","",""]
["",null,"","","","","","","","","",""]
["",null,"","","","","","","","","",""]
["",null,"","","","","","","","","",""]
["",null,"","","","","","","","","",""]
["",null,"","","","","","","","","",""]
["",null,"","","","","","","","","",""]
["",null,"","","","","","","","","",""]
["",null,"","","","","","","","","",""]
[{"$f":"IF(ROW()>$B$1,\"\",IF(SUM(C2628:L2628)=0,A2627,A2627+1))","v":""},null,"","","","","","","","","",""]
["",null,"","","","","","","","","",""]
["",null,"","","","","","","","","",""]
["",null,"","","","","","","","","",""]
["",null,"","","","","","","","","",""]
["",null,"","","","","","","","","",""]
["",null,"","","","","","","","","",""]
["",null,"","","","","","","","","",""]
["",null,"","","","","","","","","",""]
[]
[{"$f":"IF(ROW()>$B$1,\"\",IF(SUM(C2638:L2638)=0,A2637,A2637+1))","v":""},null,{"$f":"IF(C$1=\"\",\"\",IF(ISERROR(FIND(C$1,$B2638))=TRUE,\"\",FIND(C$1,$B2638)))","v":""},{"$f":"IF(D$1=\"\",\"\",IF(ISERROR(FIND(D$1,$B2638))=TRUE,\"\",FIND(D$1,$B2638)))","v":""},"","","","","","","",""]
["",null,{"$f":"IF(C$1=\"\",\"\",IF(ISERROR(FIND(C$1,$B2639))=TRUE,\"\",FIND(C$1,$B2639)))","v":""},"","","","","","","","",""]
["",null,"","","","","","","","","",""]
["",null,"","","","","","","","","",""]
["",null,"","","","","","","","","",""]
["",null,"","","","","","","","","",""]
["",null,"","","","","","","","","",""]
["",null,"","","","","","","","","",""]
["",null,"","","","","","","","","",""]
["",null,"","","","","","","","","",""]
["",null,"","","","","","","","","",""]
["",null,"","","","","","","","","",""]
["",null,"","","","","","","","","",""]
["",null,"","","","","","","","","",""]
["",null,"","","","","","","","","",""]
["",null,"","","","","","","","","",""]
["",null,"","","","","","","","","",""]
["",null,"","","","","","","","","",""]
["",null,"","","","","","","","","",""]
["",null,"","","","","","","","","",""]
["",null,"","","","","","","","","",""]
["",null,"","","","","","","","","",""]
["",null,"","","","","","","","","",""]
["",null,"","","","","","","","","",""]
["",null,"","","","","","","","","",""]
["",null,"","","","","","","","","",""]
["",null,"","","","","","","","","",""]
["",null,"","","","","","","","","",""]
["",null,"","","","","","","","","",""]
["",null,"","","","","","","","","",""]
["",null,"","","","","","","","","",""]
["",null,"","","","","","","","","",""]
["",null,"","","","","","","","","",""]
["",null,"","","","","","","","","",""]
["",null,"","","","","","","","","",""]
["",null,"","","","","","","","","",""]
["",null,"","","","","","","","","",""]
["",null,"","","","","","","","","",""]
["",null,"","","","","","","","","",""]
["",null,"","","","","","","","","",""]
["",null,{"$f":"IF(C$1=\"\",\"\",IF(ISERROR(FIND(C$1,$B2678))=TRUE,\"\",FIND(C$1,$B2678)))","v":""},"","","","","","","","",""]
["",null,"","","","","","","","","",""]
["",null,"","","","","","","","","",""]
["",null,"","","","","","","","","",""]
["",null,"","","","","","","","","",""]
["",null,"","","","","","","","","",""]
["",null,"","","","","","","","","",""]
["",null,"","","","","","","","","",""]
["",null,"","","","","","","","","",""]
["",null,"","","","","","","","","",""]
["",null,"","","","","","","","","",""]
["",null,"","","","","","","","","",""]
["",null,"","","","","","","","","",""]
["",null,"","","","","","","","","",""]
["",null,"","","","","","","","","",""]
["",null,"","","","","","","","","",""]
["",null,"","","","","","","","","",""]
["",null,"","","","","","","","","",""]
["",null,"","","","","","","","","",""]
["",null,"","","","","","","","","",""]
["",null,"","","","","","","","","",""]
["",null,"","","","","","","","","",""]
["",null,"","","","","","","","","",""]
["",null,"","","","","","","","","",""]
[{"$f":"IF(ROW()>$B$1,\"\",IF(SUM(C2702:L2702)=0,A2701,A2701+1))","v":""},null,"","","","","","","","","",""]
["",null,"","","","","",{"$f":"IF(H$1=\"\",\"\",IF(ISERROR(FIND(H$1,$B2703))=TRUE,\"\",FIND(H$1,$B2703)))","v":""},"","","",""]
["",null,{"$f":"IF(C$1=\"\",\"\",IF(ISERROR(FIND(C$1,$B2704))=TRUE,\"\",FIND(C$1,$B2704)))","v":""},"","","","","","","","",""]
["",null,"","","","","","","","","",""]
["",null,"","","","","","","","","",""]
["",null,"","","","","","","","","",""]
["",null,"","","","","","","","","",""]
["",null,"","","","","","","","","",""]
["",null,"","","","","","","","","",""]
["",null,"","","","","","","","","",""]
["",null,"","","","","","","","","",""]
["",null,"","","","","","","","","",""]
["",null,"","","","","","","","","",""]
["",null,"","","","","","","","","",""]
["",null,"","","","","","","","","",""]
["",null,"","","","","","","","","",""]
["",null,"","","","","","","","","",""]
["",null,"","","","","","","","","",""]
["",null,"","","","","","","","","",""]
["",null,"","","","","","","","","",""]
["",null,"","","","","","","","","",""]
["",null,"","","","","","","","","",""]
["",null,"","","","","","","","","",""]
["",null,"","","","","","","","","",""]
["",null,"","","","","","","","","",""]
["",null,"","","","","","","","","",""]
["",null,"","","","","","","","","",""]
["",null,"","","","","","","","","",""]
["",null,"","","","","","","","","",""]
["",null,"","","","","","","","",{"$f":"IF(K$1=\"\",\"\",IF(ISERROR(FIND(K$1,$B2731))=TRUE,\"\",FIND(K$1,$B2731)))","v":""},""]
["",null,"","","","","","","","","",""]
["",null,"","","","","","","","","",""]
["",null,"","","","","","","","","",""]
["",null,"","","","","","","","","",""]
["",null,"","","","","","","","","",""]
["",null,"","","","","","","","","",""]
["",null,"","","","","","","","","",""]
["",null,"","","","","","","","","",""]
["",null,"","","","","","","","","",""]
["",null,"","","","","","","","","",""]
["",null,"","","","","","","","","",""]
["",null,"","","","","","","","","",""]
["",null,"","","","","","","","","",""]
["",null,"","","","","","","","","",""]
["",null,"","","","","","","","","",""]
["",null,"","","","","","","","","",""]
["",null,"","","","","","","","","",""]
["",null,"","","","","","","","","",""]
["",null,"","","","","","","","","",""]
["",null,"","","","","","","","","",""]
["",null,"","","","","","","","","",""]
["",null,"","","","","","","","","",""]
["",null,"","","","","","","","","",""]
["",null,"","","","","","","","","",""]
["",null,"","","","","","","","","",""]
["",null,"","","","","","","","","",""]
["",null,"","","","","","","","","",""]
["",null,"","","","","","","","","",""]
["",null,"","",{"$f":"IF(E$1=\"\",\"\",IF(ISERROR(FIND(E$1,$B2760))=TRUE,\"\",FIND(E$1,$B2760)))","v":""},"","","","","","",""]
["",null,"","","","","","","","","",""]
["",null,"","","","","","","","","",""]
["",null,"","","","","","","","","",""]
["",null,"","","","","","","","","",""]
["",null,"","","","","","","","","",""]
[{"$f":"IF(ROW()>$B$1,\"\",IF(SUM(C2766:L2766)=0,A2765,A2765+1))","v":""},null,"","","","","","","","","",""]
["",null,"","","","","","","","","",""]
["",null,{"$f":"IF(C$1=\"\",\"\",IF(ISERROR(FIND(C$1,$B2768))=TRUE,\"\",FIND(C$1,$B2768)))","v":""},"","","","","","","","",""]
["",null,"","","","","","","","","",""]
["",null,"","","","","","","","","",""]
["",null,"","","","","","","","","",""]
["",null,"","","","","","","","","",""]
["",null,"","","","","","","","","",""]
["",null,"","","","","","","","","",""]
["",null,"","","","","","","","","",""]
["",null,"","","","","","","","","",""]
["",null,"","","","","","","","","",""]
["",null,"","","","","","","","","",""]
["",null,"","","","","","","","","",""]
["",null,"","","","","","","","","",""]
["",null,"","","","","","","","","",""]
["",null,"","","","","","","","","",""]
["",null,"","","","","","","","","",""]
["",null,"","","","","","","","","",""]
["",null,"","","","","","","","","",""]
["",null,"","","","","","","","","",""]
["",null,"","","","","","","","","",""]
["",null,"","","","","",{"$f":"IF(H$1=\"\",\"\",IF(ISERROR(FIND(H$1,$B2788))=TRUE,\"\",FIND(H$1,$B2788)))","v":""},"","","",""]
["",null,"","","","","","","","","",""]
["",null,"","","","","","","","","",""]
["",null,"","","","","","","","","",""]
["",null,"","","","","","","","","",""]
["",null,"","","","","","","","","",""]
["",null,"","","","","","","","","",""]
["",null,"","","","","","","","","",""]
["",null,"","","","","","","","","",""]
["",null,"","","","","","","","","",""]
["",null,"","","","","","","","","",""]
["",null,"","","","","","","","","",""]
["",null,"","","","","","","","","",""]
["",null,"","","","","","","","","",""]
["",null,"","","","","","","","","",""]
["",null,"","","","","","","","","",""]
["",null,"","","","","","","","","",""]
["",null,"","","","","","","","","",""]
["",null,"","","","","","","","","",""]
["",null,"","","","","","","","","",""]
["",null,"","","","","","","","","",""]
["",null,"","","","","","","","","",""]
["",null,"","","","","","","","","",""]
["",null,"","","","","","","","","",""]
["",null,"","","","","","","","","",""]
["",null,"","","","","","","","","",""]
["",null,"","","","","","","","","",""]
["",null,"","","","","","","","","",""]
["",null,"","","","","","","","",{"$f":"IF(K$1=\"\",\"\",IF(ISERROR(FIND(K$1,$B2816))=TRUE,\"\",FIND(K$1,$B2816)))","v":""},""]
["",null,"","","","","","","","","",""]
["",null,"","","","","","","","","",""]
["",null,"","","","","","","","","",""]
["",null,"","","","","","","","","",""]
["",null,"","","","","","","","","",""]
["",null,"","","","","","","","","",""]
["",null,"","","","","","","","","",""]
["",null,"","","","","","","","","",""]
["",null,"","","","","","","","","",""]
["",null,"","","","","","","","","",""]
["",null,"","","","","","","","","",""]
["",null,"","","","","","","","","",""]
["",null,"","","","","","","","","",""]
[{"$f":"IF(ROW()>$B$1,\"\",IF(SUM(C2830:L2830)=0,A2829,A2829+1))","v":""},null,"","","","","","","","","",""]
["",null,"","","","","","","","","",""]
["",null,{"$f":"IF(C$1=\"\",\"\",IF(ISERROR(FIND(C$1,$B2832))=TRUE,\"\",FIND(C$1,$B2832)))","v":""},"","","","","","","","",""]
["",null,"","","","","","","","","",""]
["",null,"","","","","","","","","",""]
["",null,"","","","","","","","","",""]
["",null,"","","","","","","","","",""]
["",null,"","","","","","","","","",""]
["",null,"","","","","","","","","",""]
["",null,"","","","","","","","","",""]
["",null,"","","","","","","","","",""]
["",null,"","","","","","","","","",""]
["",null,"","","","","","","","","",""]
["",null,"","","","","","","","","",""]
["",null,"","","","","","","","","",""]
["",null,"","","","","","","","","",""]
["",null,"","","","","","","","","",""]
["",null,"","","","","","","","","",""]
["",null,{"$f":"IF(C$1=\"\",\"\",IF(ISERROR(FIND(C$1,$B2848))=TRUE,\"\",FIND(C$1,$B2848)))","v":""},"","","","","","","","",""]
["",null,"","","","","","","","","",""]
["",null,"","","","","","","","","",""]
["",null,"","","","","","","","","",""]
["",null,"","","","","","","","","",""]
["",null,"","","","","","","","","",""]
["",null,"","","","","","","","","",""]
["",null,"","","","","","","","","",""]
["",null,"","","","","","","","","",""]
["",null,"","","","","","","","","",""]
["",null,"","","","","","","","","",""]
["",null,"","","","","","","","","",""]
["",null,"","","","","","","","","",""]
["",null,"","","","","","","","","",""]
["",null,"","","","","","","","","",""]
["",null,"","","","","","","","","",""]
["",null,"","","","","","","","","",""]
["",null,"","","","","","","","","",""]
["",null,"","","","","","","","","",""]
["",null,"","","","","","","","","",""]
["",null,"","","","","","","","","",""]
["",null,"","","","","","","","","",""]
["",null,"","","","","","","","","",""]
["",null,"","","","","","","","","",""]
["",null,"","","","","","","","","",""]
["",null,"","","","","",{"$f":"IF(H$1=\"\",\"\",IF(ISERROR(FIND(H$1,$B2873))=TRUE,\"\",FIND(H$1,$B2873)))","v":""},"","","",""]
["",null,{"$f":"IF(C$1=\"\",\"\",IF(ISERROR(FIND(C$1,$B2874))=TRUE,\"\",FIND(C$1,$B2874)))","v":""},"","","","","","","","",""]
["",null,"","","","","","","","","",""]
["",null,"","","","","","","","","",""]
["",null,"","","","","","","","","",""]
["",null,"","","","","","","","","",""]
["",null,"","","","","","","","","",""]
["",null,"","","","","","","","","",""]
["",null,"","","","","","","","","",""]
["",null,"","","","","","","","","",""]
["",null,"","","","","","","","","",""]
["",null,"","","","","","","","","",""]
["",null,"","","","","","","","","",""]
["",null,"","","","","","","","","",""]
["",null,"","","","","","","","","",""]
["",null,"","","","","","","","","",""]
["",null,"","","","","","","","","",""]
["",null,"","","","","","","","","",""]
["",null,"","","","","","","","","",""]
["",null,"","","","","","","","","",""]
["",null,"","","","","","","","","",""]
[{"$f":"IF(ROW()>$B$1,\"\",IF(SUM(C2894:L2894)=0,A2893,A2893+1))","v":""},null,"","","","","","","","","",""]
["",null,"","","","","","","","","",""]
["",null,"","","","","","","","","",""]
["",null,"","","","","","","","","",""]
["",null,"","","","","","","","","",""]
["",null,"","","","","","","","","",""]
["",null,"","","","","","","","","",""]
["",null,"","","","","","","","",{"$f":"IF(K$1=\"\",\"\",IF(ISERROR(FIND(K$1,$B2901))=TRUE,\"\",FIND(K$1,$B2901)))","v":""},""]
["",null,"","","","","","","","","",""]
["",null,"","","","","","","","","",""]
["",null,"","","","","","","","","",""]
["",null,"","","","","","","","","",""]
["",null,"","","","","","","","","",""]
["",null,"","","","","","","","","",""]
["",null,"","","","","","","","","",""]
["",null,"","","","","","","","","",""]
["",null,"","","","","","","","","",""]
["",null,"","","","","","","","","",""]
["",null,"","","","","","","","","",""]
["",null,"","","","","","","","","",""]
["",null,"","","","","","","","","",""]
["",null,"","","","","","","","","",""]
["",null,"","","","","","","","","",""]
["",null,"","","","","","","","","",""]
["",null,"","","","","","","","","",""]
["",null,"","","","","","","","","",""]
["",null,"","","","","","","","","",""]
["",null,"","","","","","","","","",""]
["",null,"","","","","","","","","",""]
["",null,"","","","","","","","","",""]
["",null,"","","","","","","","","",""]
["",null,"","","","","","","","","",""]
["",null,"","","","","","","","","",""]
["",null,"","","","","","","","","",""]
["",null,"","","","","","","","","",""]
["",null,"","","","","","","","","",""]
["",null,"","",{"$f":"IF(E$1=\"\",\"\",IF(ISERROR(FIND(E$1,$B2930))=TRUE,\"\",FIND(E$1,$B2930)))","v":""},"","","","","","",""]
["",null,"","","","","","","","","",""]
["",null,"","","","","","","","","",""]
["",null,"","","","","","","","","",""]
["",null,"","","","","","","","","",""]
["",null,"","","","","","","","","",""]
["",null,"","","","","","","","","",""]
["",null,"","","","","","","","","",""]
["",null,{"$f":"IF(C$1=\"\",\"\",IF(ISERROR(FIND(C$1,$B2938))=TRUE,\"\",FIND(C$1,$B2938)))","v":""},"","","","","","","","",""]
["",null,"","","","","","","","","",""]
["",null,"","","","","","","","","",""]
["",null,"","","","","","","","","",""]
["",null,"","","","","","","","","",""]
["",null,"","","","","","","","","",""]
["",null,"","","","","","","","","",""]
["",null,"","","","","","","","","",""]
["",null,"","","","","","","","","",""]
["",null,"","","","","","","","","",""]
["",null,"","","","","","","","","",""]
["",null,"","","","","","","","","",""]
["",null,"","","","","","","","","",""]
["",null,"","","","","","","","","",""]
["",null,"","","","","","","","","",""]
["",null,"","","","","","","","","",""]
["",null,"","","","","","","","","",""]
["",null,"","","","","","","","","",""]
["",null,"","","","","","","","","",""]
["",null,"","","","","","","","","",""]
[{"$f":"IF(ROW()>$B$1,\"\",IF(SUM(C2958:L2958)=0,A2957,A2957+1))","v":""},null,"","","","","",{"$f":"IF(H$1=\"\",\"\",IF(ISERROR(FIND(H$1,$B2958))=TRUE,\"\",FIND(H$1,$B2958)))","v":""},"","","",""]
["",null,"","","","","","","","","",""]
["",null,"","","","","","","","","",""]
["",null,"","","","","","","","","",""]
["",null,"","","","","","","","","",""]
["",null,"","","","","","","","","",""]
["",null,"","","","","","","","","",""]
["",null,"","","","","","","","","",""]
["",null,"","","","","","","","","",""]
[{"$f":"IF(ROW()>$B$1,\"\",IF(SUM(C2967:L2967)=0,A2966,A2966+1))","v":""},null,{"$f":"IF(C$1=\"\",\"\",IF(ISERROR(FIND(C$1,$B2967))=TRUE,\"\",FIND(C$1,$B2967)))","v":""},"","","","","","","","",""]
["",null,{"$f":"IF(C$1=\"\",\"\",IF(ISERROR(FIND(C$1,$B2968))=TRUE,\"\",FIND(C$1,$B2968)))","v":""},"","","","","","","","",""]
["",null,"","","","","","","","","",""]
["",null,"","","","","","","","","",""]
["",null,"","","","","","","","","",""]
["",null,"","","","","","","","","",""]
["",null,"","","","","","","","","",""]
["",null,"","","","","","","","","",""]
["",null,"","","","","","","","","",""]
["",null,"","","","","","","","","",""]
["",null,"","","","","","","","","",""]
["",null,"","","","","","","","","",""]
["",null,"","","","","","","","","",""]
["",null,"","","","","","","","","",""]
["",null,"","","","","","","","","",""]
["",null,"","","","","","","","","",""]
["",null,"","","","","","","","","",""]
["",null,"","","","","","","","","",""]
["",null,"","","","","","","","","",""]
["",null,"","","","","","","","","",""]
["",null,"","","","","","","","","",""]
["",null,"","","","","","","","","",""]
["",null,"","","","","","","","","",""]
["",null,"","","","","","","","","",""]
["",null,"","","","","","","","","",""]
["",null,"","","","","","","","","",""]
["",null,"","","","","","","","","",""]
["",null,"","","","","","","","","",""]
["",null,"","","","","","","","","",""]
["",null,"","","","","","","","","",""]
["",null,"","","","","","","","","",""]
["",null,"","","","","","","","","",{"$f":"IF(L$1=\"\",\"\",IF(ISERROR(FIND(L$1,$B2998))=TRUE,\"\",FIND(L$1,$B2998)))","v":""}]
["",null,{"$f":"IF(C$1=\"\",\"\",IF(ISERROR(FIND(C$1,$B2999))=TRUE,\"\",FIND(C$1,$B2999)))","v":""},"","","","","","","","",""]
["",null,"","","","","","","","","",""]
["",null,"","","","","","","","","",""]
["",null,"","","","","","","","","",""]
["",null,"","","","","","","","","",""]
["",null,"","","","","","","","","",""]
["",null,"","","","","","","","","",""]
["",null,"","","","","","","","","",""]
["",null,"","","","","","","","","",""]
["",null,"","","","","","","","","",""]
["",null,"","","","","","","","","",""]
["",null,"","","","","","","","","",""]
["",null,"","","","","","","","","",""]
["",null,"","","","","","","","","",""]
["",null,"","","","","","","","","",""]
["",null,"","","","","","","","","",""]
["",null,"","","","","","","","","",""]
["",null,"","","","","","","","","",""]
["",null,"","","","","","","","","",""]
["",null,"","","","","","","","","",""]
["",null,"","","","","","","","","",""]
["",null,"","","","","","","","","",""]
["",null,"","","","","","","","","",""]
["",null,"","","","","","","","","",""]
["",null,"","","","","","","","","",""]
["",null,"","","","","",{"$f":"IF(H$1=\"\",\"\",IF(ISERROR(FIND(H$1,$B3024))=TRUE,\"\",FIND(H$1,$B3024)))","v":""},"","","",""]
["",null,{"$f":"IF(C$1=\"\",\"\",IF(ISERROR(FIND(C$1,$B3025))=TRUE,\"\",FIND(C$1,$B3025)))","v":""},"","","","","","","","",""]
["",null,"","","","","","","","","",""]
["",null,"","","","","","","","","",""]
["",null,"","","","","","","","","",""]
["",null,"","","","","","","","","",""]
["",null,"","","","","","","","","",""]
[{"$f":"IF(ROW()>$B$1,\"\",IF(SUM(C3031:L3031)=0,A3030,A3030+1))","v":""},null,"","","","","","","","","",""]
["",null,"","","","","","","","","",""]
["",null,"","","","","","","","","",""]
["",null,"","","","","","","","","",""]
["",null,"","","","","","","","","",""]
["",null,"","","","","","","","","",""]
["",null,"","","","","","","","","",""]
["",null,"","","","","","","","","",""]
["",null,"","","","","","","","","",""]
["",null,"","","","","","","","","",""]
["",null,"","","","","","","","","",""]
["",null,"","","","","","","","","",""]
["",null,"","","","","","","","","",""]
["",null,"","","","","","","","","",""]
["",null,"","","","","","","","","",""]
["",null,"","","","","","","","","",""]
["",null,"","","","","","","","","",""]
["",null,"","","","","","","","","",""]
["",null,"","","","","","","","","",""]
["",null,"","","","","",{"$f":"IF(H$1=\"\",\"\",IF(ISERROR(FIND(H$1,$B3050))=TRUE,\"\",FIND(H$1,$B3050)))","v":""},"","","",""]
["",null,"","","","","","","","","",""]
["",null,"","","","","","","","","",""]
["",null,"","","","","","","","","",""]
["",null,"","","","","","","","","",""]
["",null,"","","","","","","","","",""]
["",null,"","","","","","","","","",""]
["",null,"","","","","","","","","",""]
["",null,"","","","","","","","","",""]
["",null,"","","","","","","","","",""]
["",null,"","","","","","","","","",""]
["",null,"","","","","","","","","",""]
["",null,"","","","","","","","","",""]
["",null,"","","","","","","","","",""]
["",null,"","","","","","","","","",""]
["",null,"","","","","","","","","",""]
["",null,"","","","","","","","","",""]
["",null,"","","","","","","","","",""]
["",null,"","","","","","","","","",""]
["",null,"","","","","","","","","",""]
["",null,"","","","","","","","","",""]
["",null,"","","","","","","","","",""]
["",null,"","","","","","","","","",""]
["",null,"","","","","","","","","",""]
["",null,"","","","","","","","","",""]
["",null,"","","","","","","","","",""]
["",null,{"$f":"IF(C$1=\"\",\"\",IF(ISERROR(FIND(C$1,$B3076))=TRUE,\"\",FIND(C$1,$B3076)))","v":""},"","","","","","","","",""]
["",null,"","","","","","","","","",""]
["",null,"","","","","","","","","",""]
["",null,"","","","","","","","","",""]
["",null,"","","","","","","","","",""]
["",null,"","","","","","","","","",""]
["",null,"","","","","","","","","",""]
["",null,"","","","","","","","","",""]
["",null,"","","","","","","","","",""]
["",null,"","","","","","","","","",""]
["",null,"","","","","","","","","",""]
["",null,"","","","","","","","","",""]
["",null,"","","","","","","","","",""]
["",null,"","","","","","","","","",""]
["",null,"","","","","","","","","",""]
["",null,"","","","","","","","","",""]
["",null,"","","","","","","","","",""]
["",null,"","","","","","","","","",""]
["",null,"","","","","","","","","",""]
[{"$f":"IF(ROW()>$B$1,\"\",IF(SUM(C3095:L3095)=0,A3094,A3094+1))","v":""},null,"","","","","","","","","",""]
["",null,"","","","","","","","","",""]
["",null,"","","","","","","","","",""]
["",null,"","","","","","","","","",""]
["",null,"","","","","","","","","",""]
["",null,"","","","","","","","","",""]
["",null,"","","","","",{"$f":"IF(H$1=\"\",\"\",IF(ISERROR(FIND(H$1,$B3101))=TRUE,\"\",FIND(H$1,$B3101)))","v":""},"","","",""]
["",null,{"$f":"IF(C$1=\"\",\"\",IF(ISERROR(FIND(C$1,$B3102))=TRUE,\"\",FIND(C$1,$B3102)))","v":""},"","","","","","","","",""]
["",null,"","","","","","","","","",""]
["",null,"","","","","","","","","",""]
["",null,"","","","","","","","","",""]
["",null,"","","","","","","","","",""]
["",null,"","","","","","","","","",""]
["",null,"","","","","","","","","",""]
["",null,"","","","","","","","","",""]
["",null,"","","","","","","","","",""]
["",null,"","","","","","","","","",""]
["",null,"","","","","","","","","",""]
["",null,"","","","","","","","","",""]
["",null,"","","","","","","","","",""]
["",null,"","","","","","","","","",""]
["",null,"","","","","","","","","",""]
["",null,"","","","","","","","","",""]
["",null,"","","","","","","","","",""]
["",null,"","","","","","","","","",""]
["",null,"","","","","","","","","",""]
["",null,"","","","","","","","","",""]
["",null,"","","","","","","","","",""]
["",null,"","","","","","","","","",""]
["",null,"","","","","","","","","",""]
["",null,"","","","","","","","","",""]
["",null,"","","","","","","","","",""]
["",null,"","","","","",{"$f":"IF(H$1=\"\",\"\",IF(ISERROR(FIND(H$1,$B3127))=TRUE,\"\",FIND(H$1,$B3127)))","v":""},"","","",""]
["",null,{"$f":"IF(C$1=\"\",\"\",IF(ISERROR(FIND(C$1,$B3128))=TRUE,\"\",FIND(C$1,$B3128)))","v":""},"","","","","","","","",""]
["",null,"","","","","","","","","",""]
["",null,"","","","","","","","","",""]
["",null,"","","","","","","","","",""]
["",null,"","","","","","","","","",""]
["",null,"","","","","","","","","",""]
["",null,"","","","","","","","","",""]
["",null,"","","","","","","","","",""]
["",null,"","","","","","","","","",""]
["",null,"","","","","","","","","",""]
["",null,"","","","","","","","","",""]
["",null,"","","","","","","","","",""]
["",null,"","","","","","","","","",""]
["",null,"","","","","","","","","",""]
["",null,"","","","","","","","","",""]
["",null,"","","","","","","","","",""]
["",null,"","","","","","","","","",""]
["",null,"","","","","","","","","",""]
["",null,"","","","","","","","","",""]
["",null,"","","","","","","","","",""]
["",null,"","","","","","","","","",""]
["",null,"","","","","","","","","",""]
["",null,"","","","","","","","","",""]
["",null,"","","","","","","","","",""]
["",null,"","","","","","","","","",""]
["",null,"","","","","",{"$f":"IF(H$1=\"\",\"\",IF(ISERROR(FIND(H$1,$B3153))=TRUE,\"\",FIND(H$1,$B3153)))","v":""},"","","",""]
["",null,"","","","","","","","","",""]
["",null,"","","","","","","","","",""]
["",null,"","","","","","","","","",""]
["",null,"","","","","","","","","",""]
["",null,"","","","","","","","","",""]
[{"$f":"IF(ROW()>$B$1,\"\",IF(SUM(C3159:L3159)=0,A3158,A3158+1))","v":""},null,"","","","","","","","","",""]
["",null,"","","","","","","","","",""]
["",null,"","","","","","","","","",""]
["",null,"","","","","","","","","",""]
["",null,"","","","","","","","","",""]
["",null,"","","","","","","","","",""]
["",null,"","","","","","","","","",""]
["",null,"","","","","","","","","",""]
["",null,"","","","","","","","","",""]
["",null,"","","","","","","","","",""]
["",null,"","","","","","","","","",""]
["",null,"","","","","","","","","",""]
["",null,"","","","","","","","","",""]
["",null,"","","","","","","","","",""]
["",null,"","","","","","","","","",""]
["",null,"","","","","","","","","",""]
["",null,"","","","","","","","","",""]
["",null,"","","","","","","","","",""]
["",null,"","","","","","","","","",""]
["",null,"","","","","","","","","",""]
["",null,{"$f":"IF(C$1=\"\",\"\",IF(ISERROR(FIND(C$1,$B3179))=TRUE,\"\",FIND(C$1,$B3179)))","v":""},"","","","","","","","",""]
["",null,"","","","","","","","","",""]
["",null,"","","","","","","","","",""]
["",null,"","","","","","","","","",""]
["",null,"","","","","","","","","",""]
["",null,"","","","","","","","","",""]
["",null,"","","","","","","","","",""]
["",null,"","","","","","","","","",""]
["",null,"","","","","","","","","",""]
["",null,"","","","","","","","","",""]
["",null,"","","","","","","","","",""]
["",null,"","","","","","","","","",""]
["",null,"","","","","","","","","",""]
["",null,"","","","","","","","","",""]
["",null,"","","","","","","","","",""]
["",null,"","","","","","","","","",""]
["",null,{"$f":"IF(C$1=\"\",\"\",IF(ISERROR(FIND(C$1,$B3195))=TRUE,\"\",FIND(C$1,$B3195)))","v":""},"","","","","","","","",""]
["",null,"","","","","","","","","",""]
["",null,"","","","","","","","","",""]
["",null,"","","","","","","","","",""]
["",null,"","","","","","","","","",""]
["",null,"","","","","","","","","",""]
["",null,"","","","","","","","","",""]
["",null,"","","","","","","","","",""]
["",null,"","","","","","","","","",""]
["",null,"","","","","","","","","",""]
["",null,"","","","","","","","","",""]
["",null,"","","","","","","","","",""]
["",null,"","","","","","","","","",""]
["",null,"","","","","","","","","",""]
["",null,"","","","","","","","","",""]
["",null,"","","","","","","","","",""]
["",null,"","","","","","","","","",""]
["",null,"","","","","","","","","",""]
["",null,"","","","","","","","","",""]
["",null,"","","","","","","","","",""]
["",null,"","","","","","","","","",""]
["",null,"","","","","","","","","",""]
["",null,"","","","","","","","","",""]
["",null,"","","","","","","","","",""]
["",null,"","","","","","","","","",""]
["",null,"","","","","",{"$f":"IF(H$1=\"\",\"\",IF(ISERROR(FIND(H$1,$B3220))=TRUE,\"\",FIND(H$1,$B3220)))","v":""},"","","",""]
["",null,{"$f":"IF(C$1=\"\",\"\",IF(ISERROR(FIND(C$1,$B3221))=TRUE,\"\",FIND(C$1,$B3221)))","v":""},"","","","","","","","",""]
["",null,"","","","","","","","","",""]
[{"$f":"IF(ROW()>$B$1,\"\",IF(SUM(C3223:L3223)=0,A3222,A3222+1))","v":""},null,"","","","","","","","","",""]
["",null,"","","","","","","","","",""]
["",null,"","","","","","","","","",""]
["",null,"","","","","","","","","",""]
["",null,"","","","","","","","","",""]
["",null,"","","","","","","","","",""]
["",null,"","","","","","","","","",""]
["",null,"","","","","","","","","",""]
["",null,"","","","","","","","","",""]
["",null,"","","","","","","","","",""]
["",null,"","","","","","","","","",""]
["",null,"","","","","","","","","",""]
["",null,"","","","","","","","","",""]
["",null,"","","","","","","","","",""]
["",null,"","","","","","","","","",""]
["",null,"","","","","","","","","",""]
["",null,"","","","","","","","","",""]
["",null,"","","","","","","","","",""]
["",null,"","","","","","","","","",""]
["",null,"","","","","","","","","",""]
["",null,"","","","","","","","","",""]
["",null,"","","","","","","","","",""]
["",null,"","","","","","","","","",""]
["",null,"","","","","",{"$f":"IF(H$1=\"\",\"\",IF(ISERROR(FIND(H$1,$B3246))=TRUE,\"\",FIND(H$1,$B3246)))","v":""},"","","",""]
["",null,{"$f":"IF(C$1=\"\",\"\",IF(ISERROR(FIND(C$1,$B3247))=TRUE,\"\",FIND(C$1,$B3247)))","v":""},"","","","","","","","",""]
["",null,"","","","","","","","","",""]
["",null,"","","","","","","","","",""]
["",null,"","","","","","","","","",""]
["",null,"","","","","","","","","",""]
["",null,"","","","","","","","","",""]
["",null,"","","","","","","","","",""]
["",null,"","","","","","","","","",""]
["",null,"","","","","","","","","",""]
["",null,"","","","","","","","","",""]
["",null,"","","","","","","","","",""]
["",null,"","","","","","","","","",""]
["",null,"","","","","","","","","",""]
["",null,"","","","","","","","","",""]
["",null,"","","","","","","","","",""]
["",null,"","","","","","","","","",""]
["",null,"","","","","","","","","",""]
["",null,"","","","","","","","","",""]
["",null,"","","","","","","","","",""]
["",null,"","","","","","","","","",""]
["",null,"","","","","","","","","",""]
["",null,"","","","","","","","","",""]
["",null,"","","","","","","","","",""]
["",null,"","","","","","","","","",""]
["",null,"","","","","","","","","",""]
["",null,"","","","","",{"$f":"IF(H$1=\"\",\"\",IF(ISERROR(FIND(H$1,$B3272))=TRUE,\"\",FIND(H$1,$B3272)))","v":""},"","","",""]
["",null,{"$f":"IF(C$1=\"\",\"\",IF(ISERROR(FIND(C$1,$B3273))=TRUE,\"\",FIND(C$1,$B3273)))","v":""},"","","","","","","","",""]
["",null,"","","","","","","","","",""]
["",null,"","","","","","","","","",""]
["",null,"","","","","","","","","",""]
["",null,"","","","","","","","","",""]
["",null,"","","","","","","","","",""]
["",null,"","","","","","","","","",""]
["",null,"","","","","","","","","",""]
["",null,"","","","","","","","","",""]
["",null,"","","","","","","","","",""]
["",null,"","","","","","","","","",""]
["",null,"","","","","","","","","",""]
["",null,"","","","","","","","","",""]
["",null,"","","","","","","","","",""]
[{"$f":"IF(ROW()>$B$1,\"\",IF(SUM(C3287:L3287)=0,A3286,A3286+1))","v":""},null,"","","","","","","","","",""]
["",null,"","","","","","","","","",""]
["",null,"","","","","","","","","",""]
["",null,"","","","","","","","","",""]
["",null,"","","","","","","","","",""]
["",null,"","","","","","","","","",""]
["",null,"","","","","","","","","",""]
["",null,"","","","","","","","","",""]
["",null,"","","","","","","","","",""]
[]
[{"$f":"IF(ROW()>$B$1,\"\",IF(SUM(C3297:L3297)=0,A3296,A3296+1))","v":""},null,{"$f":"IF(C$1=\"\",\"\",IF(ISERROR(FIND(C$1,$B3297))=TRUE,\"\",FIND(C$1,$B3297)))","v":""},{"$f":"IF(D$1=\"\",\"\",IF(ISERROR(FIND(D$1,$B3297))=TRUE,\"\",FIND(D$1,$B3297)))","v":""},"","","","","","","",""]
["",null,{"$f":"IF(C$1=\"\",\"\",IF(ISERROR(FIND(C$1,$B3298))=TRUE,\"\",FIND(C$1,$B3298)))","v":""},"","","","","","","","",""]
["",null,"","","","","","","","","",""]
["",null,"","","","","","","","","",""]
["",null,"","","","","","","","","",""]
["",null,"","","","","","","","","",""]
["",null,"","","","","","","","","",""]
["",null,"","","","","","","","","",""]
["",null,"","","","","","","","","",""]
["",null,"","","","","","","","","",""]
["",null,"","","","","","","","","",""]
["",null,"","","","","","","","","",""]
["",null,"","","","","","","","","",""]
["",null,"","","","","","","","","",""]
["",null,"","","","","","","","","",""]
["",null,"","","","","","","","","",""]
["",null,"","","","","","","","","",""]
["",null,"","","","","","","","","",""]
["",null,"","","","","","","","","",""]
["",null,"","","","","","","","","",""]
["",null,"","","","","","","","","",""]
["",null,"","","","","","","","","",""]
["",null,"","","","","","","","","",""]
["",null,"","","","","","","","","",""]
["",null,"","","","","","","","","",""]
["",null,"","","","","","","","","",""]
["",null,"","","","","","","","","",""]
["",null,"","","","","","","","","",""]
["",null,"","","","","","","","","",""]
["",null,"","","","","","","","","",""]
["",null,"","","","","","","","","",""]
["",null,"","","","","","","","","",""]
["",null,"","","","","","","","","",""]
["",null,"","","","","","","","","",""]
["",null,"","","","","","","","","",""]
["",null,"","","","","","","","","",""]
["",null,"","","","","","","","","",""]
["",null,"","","","","","","","","",""]
["",null,"","","","","","","","","",""]
["",null,"","","","","","","","","",""]
["",null,{"$f":"IF(C$1=\"\",\"\",IF(ISERROR(FIND(C$1,$B3337))=TRUE,\"\",FIND(C$1,$B3337)))","v":""},"","","","","","","","",""]
["",null,"","","","","","","","","",""]
["",null,"","","","","","","","","",""]
["",null,"","","","","","","","","",""]
["",null,"","","","","","","","","",""]
["",null,"","","","","","","","","",""]
["",null,"","","","","","","","","",""]
["",null,"","","","","","","","","",""]
["",null,"","","","","","","","","",""]
["",null,"","","","","","","","","",""]
["",null,"","","","","","","","","",""]
["",null,"","","","","","","","","",""]
["",null,"","","","","","","","","",""]
["",null,"","","","","","","","","",""]
["",null,"","","","","","","","","",""]
["",null,"","","","","","","","","",""]
["",null,"","","","","","","","","",""]
["",null,"","","","","","","","","",""]
["",null,"","","","","","","","","",""]
["",null,"","","","","","","","","",""]
["",null,"","","","","","","","","",""]
["",null,"","","","","","","","","",""]
["",null,"","","","","","","","","",""]
["",null,"","","","","","","","","",""]
[{"$f":"IF(ROW()>$B$1,\"\",IF(SUM(C3361:L3361)=0,A3360,A3360+1))","v":""},null,"","","","","","","","","",""]
["",null,"","","","","",{"$f":"IF(H$1=\"\",\"\",IF(ISERROR(FIND(H$1,$B3362))=TRUE,\"\",FIND(H$1,$B3362)))","v":""},"","","",""]
["",null,{"$f":"IF(C$1=\"\",\"\",IF(ISERROR(FIND(C$1,$B3363))=TRUE,\"\",FIND(C$1,$B3363)))","v":""},"","","","","","","","",""]
["",null,"","","","","","","","","",""]
["",null,"","","","","","","","","",""]
["",null,"","","","","","","","","",""]
["",null,"","","","","","","","","",""]
["",null,"","","","","","","","","",""]
["",null,"","","","","","","","","",""]
["",null,"","","","","","","","","",""]
["",null,"","","","","","","","","",""]
["",null,"","","","","","","","","",""]
["",null,"","","","","","","","","",""]
["",null,"","","","","","","","","",""]
["",null,"","","","","","","","","",""]
["",null,"","","","","","","","","",""]
["",null,"","","","","","","","","",""]
["",null,"","","","","","","","","",""]
["",null,"","","","","","","","","",""]
["",null,"","","","","","","","","",""]
["",null,"","","","","","","","","",""]
["",null,"","","","","","","","","",""]
["",null,"","","","","","","","","",""]
["",null,"","","","","","","","","",""]
["",null,"","","","","","","","","",""]
["",null,"","","","","","","","","",""]
["",null,"","","","","","","","","",""]
["",null,"","","","","",{"$f":"IF(H$1=\"\",\"\",IF(ISERROR(FIND(H$1,$B3388))=TRUE,\"\",FIND(H$1,$B3388)))","v":""},"","","",""]
["",null,{"$f":"IF(C$1=\"\",\"\",IF(ISERROR(FIND(C$1,$B3389))=TRUE,\"\",FIND(C$1,$B3389)))","v":""},"","","","","","","","",""]
["",null,"","","","","","","","","",""]
["",null,"","","","","","","","","",""]
["",null,"","","","","","","","","",""]
["",null,"","","","","","","","","",""]
["",null,"","","","","","","","","",""]
["",null,"","","","","","","","","",""]
["",null,"","","","","","","","","",""]
["",null,"","","","","","","","","",""]
["",null,"","","","","","","","","",""]
["",null,"","","","","","","","","",""]
["",null,"","","","","","","","","",""]
["",null,"","","","","","","","","",""]
["",null,"","","","","","","","","",""]
["",null,"","","","","","","","","",""]
["",null,"","","","","","","","","",""]
["",null,"","","","","","","","","",""]
["",null,"","","","","","","","","",""]
["",null,"","","","","","","","","",""]
["",null,"","","","","","","","","",""]
["",null,"","","","","","","","","",""]
["",null,"","","","","","","","","",""]
["",null,"","","","","","","","","",""]
["",null,"","","","","","","","","",""]
["",null,"","","","","","","","","",""]
["",null,"","","","","",{"$f":"IF(H$1=\"\",\"\",IF(ISERROR(FIND(H$1,$B3414))=TRUE,\"\",FIND(H$1,$B3414)))","v":""},"","","",""]
["",null,{"$f":"IF(C$1=\"\",\"\",IF(ISERROR(FIND(C$1,$B3415))=TRUE,\"\",FIND(C$1,$B3415)))","v":""},"","","","","","","","",""]
["",null,"","","","","","","","","",""]
["",null,"","","","","","","","","",""]
["",null,"","","","","","","","","",""]
["",null,"","","","","","","","","",""]
["",null,"","","","","","","","","",""]
["",null,"","","","","","","","","",""]
["",null,"","","","","","","","","",""]
["",null,"","","","","","","","","",""]
["",null,"","","","","","","","","",""]
[{"$f":"IF(ROW()>$B$1,\"\",IF(SUM(C3425:L3425)=0,A3424,A3424+1))","v":""},null,"","","","","","","","","",""]
["",null,"","","","","","","","","",""]
["",null,"","","","","","","","","",""]
["",null,"","","","","","","","","",""]
["",null,"","","","","","","","","",""]
["",null,"","","","","","","","","",""]
["",null,"","","","","","","","","",""]
["",null,"","","","","","","","","",""]
["",null,"","","","","","","","","",""]
["",null,"","","","","","","","","",""]
["",null,"","","","","","","","","",""]
["",null,"","","","","","","","","",""]
["",null,"","","","","","","","","",""]
["",null,"","","","","","","","","",""]
["",null,"","","","","","","","","",""]
["",null,"","","","","",{"$f":"IF(H$1=\"\",\"\",IF(ISERROR(FIND(H$1,$B3440))=TRUE,\"\",FIND(H$1,$B3440)))","v":""},"","","",""]
["",null,{"$f":"IF(C$1=\"\",\"\",IF(ISERROR(FIND(C$1,$B3441))=TRUE,\"\",FIND(C$1,$B3441)))","v":""},"","","","","","","","",""]
["",null,"","","","","","","","","",""]
["",null,"","","","","","","","","",""]
["",null,"","","","","","","","","",""]
["",null,"","","","","","","","","",""]
["",null,"","","","","","","","","",""]
["",null,"","","","","","","","","",""]
["",null,"","","","","","","","","",""]
["",null,"","","","","","","","","",""]
["",null,"","","","","","","","","",""]
["",null,"","","","","","","","","",""]
["",null,"","","","","","","","","",""]
["",null,"","","","","","","","","",""]
["",null,"","","","","","","","","",""]
["",null,"","","","","","","","","",""]
["",null,"","","","","","","","","",""]
["",null,"","","","","","","","","",""]
["",null,"","","","","","","","","",""]
["",null,"","","","","","","","","",""]
["",null,"","","","","","","","","",""]
["",null,"","","","","","","","","",""]
["",null,"","","","","","","","","",""]
["",null,"","","","","","","","","",""]
["",null,"","","","","","","","","",""]
["",null,"","","","","","","","","",""]
["",null,"","","","","","","","","",""]
["",null,"","","","","","","","","",""]
["",null,"","","","","","","","",{"$f":"IF(K$1=\"\",\"\",IF(ISERROR(FIND(K$1,$B3468))=TRUE,\"\",FIND(K$1,$B3468)))","v":""},""]
["",null,"","","","","","","","","",""]
["",null,"","","","","","","","","",""]
["",null,"","","","","","","","","",""]
["",null,"","","","","","","","","",""]
["",null,"","","","","","","","","",""]
["",null,"","","","","","","","","",""]
["",null,"","","","","","","","","",""]
["",null,"","","","","","","","","",""]
["",null,"","","","","","","","","",""]
["",null,"","","","","","","","","",""]
["",null,"","","","","","","","","",""]
["",null,"","","","","","","","","",""]
["",null,"","","","","","","","","",""]
["",null,"","","","","","","","","",""]
["",null,"","","","","","","","","",""]
["",null,"","","","","","","","","",""]
["",null,"","","","","","","","","",""]
["",null,"","","","","","","","","",""]
["",null,"","","","","","","","","",""]
["",null,"","","","","","","","","",""]
[{"$f":"IF(ROW()>$B$1,\"\",IF(SUM(C3489:L3489)=0,A3488,A3488+1))","v":""},null,"","","","","","","","","",""]
["",null,"","","","","","","","","",""]
["",null,"","","","","","","",{"$f":"IF(J$1=\"\",\"\",IF(ISERROR(FIND(J$1,$B3491))=TRUE,\"\",FIND(J$1,$B3491)))","v":""},"",""]
["",null,{"$f":"IF(C$1=\"\",\"\",IF(ISERROR(FIND(C$1,$B3492))=TRUE,\"\",FIND(C$1,$B3492)))","v":""},"","","","","","","","",""]
["",null,"","","","","","","","","",""]
["",null,"","","","","","","","","",""]
["",null,"","","","","","","","","",""]
["",null,"","","","","","","","","",""]
["",null,"","","","","","","","","",""]
["",null,"","","","","","","","","",""]
["",null,"","","","","","","","","",""]
["",null,"","","","","","","","","",""]
["",null,"","","","","","","","","",""]
["",null,"","","","","","","","","",""]
["",null,"","","","","","","","","",""]
["",null,"","","","","","","","","",""]
["",null,"","","","","","","","","",""]
["",null,"","","","","","","","","",""]
["",null,"","","","","","","","","",""]
["",null,{"$f":"IF(C$1=\"\",\"\",IF(ISERROR(FIND(C$1,$B3508))=TRUE,\"\",FIND(C$1,$B3508)))","v":""},"","","","","","","","",""]
["",null,"","","","","","","","","",""]
["",null,"","","","","","","","","",""]
["",null,"","","","","","","","","",""]
["",null,"","","","","","","","","",""]
["",null,"","","","","","","","","",""]
["",null,"","","","","","","","","",""]
["",null,"","","","","","","","","",""]
["",null,"","","","","","","","","",""]
["",null,"","","","","","","","","",""]
["",null,"","","","","","","","","",""]
["",null,"","","","","","","","","",""]
["",null,"","","","","","","","","",""]
["",null,"","","","","","","","","",""]
["",null,"","","","","","","","","",""]
["",null,"","","","","","","","","",""]
["",null,"","","","","","","","","",""]
["",null,"","","","","","","","","",""]
["",null,"","","","","","","","","",""]
["",null,"","","","","","","","","",""]
["",null,"","","","","","","","","",""]
["",null,"","","","","","","","","",""]
["",null,"","","","","","","","","",""]
["",null,"","","","","","","","","",""]
["",null,"","","","","","","","","",""]
["",null,"","","","","",{"$f":"IF(H$1=\"\",\"\",IF(ISERROR(FIND(H$1,$B3533))=TRUE,\"\",FIND(H$1,$B3533)))","v":""},"","","",""]
["",null,{"$f":"IF(C$1=\"\",\"\",IF(ISERROR(FIND(C$1,$B3534))=TRUE,\"\",FIND(C$1,$B3534)))","v":""},"","","","","","","","",""]
["",null,"","","","","","","","","",""]
["",null,"","","","","","","","","",""]
["",null,"","","","","","","","","",""]
["",null,"","","","","","","","","",""]
["",null,"","","","","","","","","",""]
["",null,"","","","","","","","","",""]
["",null,"","","","","","","","","",""]
["",null,"","","","","","","","","",""]
["",null,"","","","","","","","","",""]
["",null,"","","","","","","","","",""]
["",null,"","","","","","","","","",""]
["",null,"","","","","","","","","",""]
["",null,"","","","","","","","","",""]
["",null,"","","","","","","","","",""]
["",null,"","","","","","","","","",""]
["",null,"","","","","","","","","",""]
["",null,"","","","","","","","","",""]
["",null,"","","","","","","","","",""]
[{"$f":"IF(ROW()>$B$1,\"\",IF(SUM(C3553:L3553)=0,A3552,A3552+1))","v":""},null,"","","","","","","","","",""]
["",null,"","","","","","","","","",""]
["",null,"","","","","","","","","",""]
["",null,"","","","","","","","","",""]
["",null,"","","","","","","","","",""]
["",null,"","","","","","","","","",""]
["",null,"","","","","",{"$f":"IF(H$1=\"\",\"\",IF(ISERROR(FIND(H$1,$B3559))=TRUE,\"\",FIND(H$1,$B3559)))","v":""},"","","",""]
["",null,{"$f":"IF(C$1=\"\",\"\",IF(ISERROR(FIND(C$1,$B3560))=TRUE,\"\",FIND(C$1,$B3560)))","v":""},"","","","","","","","",""]
["",null,"","","","","","","","","",""]
["",null,"","","","","","","","","",""]
["",null,"","","","","","","","","",""]
["",null,"","","","","","","","","",""]
["",null,"","","","","","","","","",""]
["",null,"","","","","","","","","",""]
["",null,"","","","","","","","","",""]
["",null,"","","","","","","","","",""]
["",null,"","","","","","","","","",""]
["",null,"","","","","","","","","",""]
["",null,"","","","","","","","","",""]
["",null,"","","","","","","","","",""]
["",null,"","","","","","","","","",""]
["",null,"","","","","","","","","",""]
["",null,"","","","","","","","","",""]
["",null,"","","","","","","","","",""]
["",null,"","","","","","","","","",""]
["",null,"","","","","","","","","",""]
["",null,"","","","","","","","","",""]
["",null,"","","","","","","","","",""]
["",null,"","","","","","","","","",""]
["",null,"","","","","","","","","",""]
["",null,"","","","","","","","","",""]
["",null,"","","","","","","","","",""]
["",null,"","","","","","","",{"$f":"IF(J$1=\"\",\"\",IF(ISERROR(FIND(J$1,$B3585))=TRUE,\"\",FIND(J$1,$B3585)))","v":""},"",""]
["",null,{"$f":"IF(C$1=\"\",\"\",IF(ISERROR(FIND(C$1,$B3586))=TRUE,\"\",FIND(C$1,$B3586)))","v":""},"","","","","","","","",""]
["",null,"","","","","","","","","",""]
["",null,"","","","","","","","","",""]
["",null,"","","","","","","","","",""]
["",null,"","","","","","","","","",""]
["",null,"","","","","","","","","",""]
["",null,"","","","","","","","","",""]
["",null,"","","","","","","","","",""]
["",null,"","","","","","","","","",""]
["",null,"","","","","","","","","",""]
["",null,"","","","","","","","","",""]
["",null,"","","","","","","","","",""]
["",null,"","","","","","","","","",""]
["",null,"","","","","","","","","",""]
["",null,"","","","","","","","","",""]
["",null,"","","","","","","","","",""]
["",null,"","","","","","","","","",""]
["",null,"","","","","","","","","",""]
["",null,"","","","","","","","","",""]
["",null,"","","","","","","","","",""]
["",null,"","","","","","","","","",""]
["",null,"","","","","","","","","",""]
["",null,"","","","","","","","","",""]
["",null,"","","","","","","","","",""]
["",null,"","","","","","","","","",""]
["",null,"","","","","",{"$f":"IF(H$1=\"\",\"\",IF(ISERROR(FIND(H$1,$B3611))=TRUE,\"\",FIND(H$1,$B3611)))","v":""},"","","",""]
["",null,{"$f":"IF(C$1=\"\",\"\",IF(ISERROR(FIND(C$1,$B3612))=TRUE,\"\",FIND(C$1,$B3612)))","v":""},"","","","","","","","",""]
["",null,"","","","","","","","","",""]
["",null,"","","","","","","","","",""]
["",null,"","","","","","","","","",""]
["",null,"","","","","","","","","",""]
[{"$f":"IF(ROW()>$B$1,\"\",IF(SUM(C3617:L3617)=0,A3616,A3616+1))","v":""},null,"","","","","","","","","",""]
["",null,"","","","","","","","","",""]
["",null,"","","","","","","","","",""]
["",null,"","","","","","","","","",""]
["",null,"","","","","","","","","",""]
["",null,"","","","","","","","","",""]
["",null,"","","","","","","","","",""]
["",null,"","","","","","","","","",""]
["",null,"","","","","","","","","",""]
[{"$f":"IF(ROW()>$B$1,\"\",IF(SUM(C3626:L3626)=0,A3625,A3625+1))","v":""},null,{"$f":"IF(C$1=\"\",\"\",IF(ISERROR(FIND(C$1,$B3626))=TRUE,\"\",FIND(C$1,$B3626)))","v":""},"","","","","","","","",""]
["",null,{"$f":"IF(C$1=\"\",\"\",IF(ISERROR(FIND(C$1,$B3627))=TRUE,\"\",FIND(C$1,$B3627)))","v":""},"","","","","","","","",""]
["",null,"","","","","","","","","",""]
["",null,"","","","","","","","","",""]
["",null,"","","","","","","","","",""]
["",null,"","","","","","","","","",""]
["",null,"","","","","","","","","",""]
["",null,"","","","","","","","","",""]
["",null,"","","","","","","","","",""]
["",null,"","","","","","","","","",""]
["",null,"","","","","","","","","",""]
["",null,"","","","","","","","","",""]
["",null,"","","","","","","","","",""]
["",null,"","","","","","","","","",""]
["",null,"","","","","","","","","",""]
["",null,"","","","","","","","","",""]
["",null,"","","","","","","","","",""]
["",null,"","","","","","","","","",""]
["",null,"","","","","","","","","",""]
["",null,"","","","","","","","","",""]
["",null,"","","","","","","","","",""]
["",null,"","","","","","","","","",""]
["",null,"","","","","","","","","",""]
["",null,"","","","","","","","","",""]
["",null,"","","","","","","","","",""]
["",null,"","","","","","","","","",""]
["",null,"","","","","","","","","",""]
["",null,"","","","","","","","","",""]
["",null,"","","","","","","","","",""]
["",null,"","","","","","","","","",""]
["",null,"","","","","","","","","",""]
["",null,"","","","","","","","","",{"$f":"IF(L$1=\"\",\"\",IF(ISERROR(FIND(L$1,$B3657))=TRUE,\"\",FIND(L$1,$B3657)))","v":""}]
["",null,{"$f":"IF(C$1=\"\",\"\",IF(ISERROR(FIND(C$1,$B3658))=TRUE,\"\",FIND(C$1,$B3658)))","v":""},"","","","","","","","",""]
["",null,"","","","","","","","","",""]
["",null,"","","","","","","","","",""]
["",null,"","","","","","","","","",""]
["",null,"","","","","","","","","",""]
["",null,"","","","","","","","","",""]
["",null,"","","","","","","","","",""]
["",null,"","","","","","","","","",""]
["",null,"","","","","","","","","",""]
["",null,"","","","","","","","","",""]
["",null,"","","","","","","","","",""]
["",null,"","","","","","","","","",""]
["",null,"","","","","","","","","",""]
["",null,"","","","","","","","","",""]
["",null,"","","","","","","","","",""]
["",null,"","","","","","","","","",""]
["",null,"","","","","","","","","",""]
["",null,"","","","","","","","","",""]
["",null,"","","","","","","","","",""]
["",null,"","","","","","","","","",""]
["",null,"","","","","","","","","",""]
["",null,"","","","","","","","","",""]
["",null,"","","","","","","","","",""]
["",null,"","","","","","","","","",""]
["",null,"","","","","","","","","",""]
["",null,"","","","","",{"$f":"IF(H$1=\"\",\"\",IF(ISERROR(FIND(H$1,$B3683))=TRUE,\"\",FIND(H$1,$B3683)))","v":""},"","","",""]
["",null,{"$f":"IF(C$1=\"\",\"\",IF(ISERROR(FIND(C$1,$B3684))=TRUE,\"\",FIND(C$1,$B3684)))","v":""},"","","","","","","","",""]
["",null,"","","","","","","","","",""]
["",null,"","","","","","","","","",""]
["",null,"","","","","","","","","",""]
["",null,"","","","","","","","","",""]
["",null,"","","","","","","","","",""]
[{"$f":"IF(ROW()>$B$1,\"\",IF(SUM(C3690:L3690)=0,A3689,A3689+1))","v":""},null,"","","","","","","","","",""]
["",null,"","","","","","","","","",""]
["",null,"","","","","","","","","",""]
["",null,"","","","","","","","","",""]
["",null,"","","","","","","","","",""]
["",null,"","","","","","","","","",""]
["",null,"","","","","","","","","",""]
["",null,"","","","","","","","","",""]
["",null,"","","","","","","","","",""]
["",null,"","","","","","","","","",""]
["",null,"","","","","","","","","",""]
["",null,"","","","","","","","","",""]
["",null,"","","","","","","","","",""]
["",null,"","","","","","","","","",""]
["",null,"","","","","","","","","",""]
["",null,"","","","","","","","","",""]
["",null,"","","","","","","","","",""]
["",null,"","","","","","","","","",""]
["",null,"","","","","","","","","",""]
["",null,"","","","","",{"$f":"IF(H$1=\"\",\"\",IF(ISERROR(FIND(H$1,$B3709))=TRUE,\"\",FIND(H$1,$B3709)))","v":""},"","","",""]
["",null,{"$f":"IF(C$1=\"\",\"\",IF(ISERROR(FIND(C$1,$B3710))=TRUE,\"\",FIND(C$1,$B3710)))","v":""},"","","","","","","","",""]
["",null,"","","","","","","","","",""]
["",null,"","","","","","","","","",""]
["",null,"","","","","","","","","",""]
["",null,"","","","","","","","","",""]
["",null,"","","","","","","","","",""]
["",null,"","","","","","","","","",""]
["",null,"","","","","","","","","",""]
["",null,"","","","","","","","","",""]
["",null,"","","","","","","","","",""]
["",null,"","","","","","","","","",""]
["",null,"","","","","","","","","",""]
["",null,"","","","","","","","","",""]
["",null,"","","","","","","","","",""]
["",null,"","","","","","","","","",""]
["",null,"","","","","","","","","",""]
["",null,"","","","","","","","","",""]
["",null,"","","","","","","","","",""]
["",null,"","","","","","","","","",""]
["",null,"","","","","","","","","",""]
["",null,"","","","","","","","","",""]
["",null,"","","","","","","","","",""]
["",null,"","","","","","","","","",""]
["",null,"","","","","","","","","",""]
["",null,"","","","","","","","","",""]
["",null,"","","","","",{"$f":"IF(H$1=\"\",\"\",IF(ISERROR(FIND(H$1,$B3735))=TRUE,\"\",FIND(H$1,$B3735)))","v":""},"","","",""]
["",null,"","","","","","","","","",""]
["",null,"","","","","","","","","",""]
["",null,"","","","","","","","","",""]
["",null,"","","","","","","","","",""]
["",null,"","","","","","","","","",""]
["",null,"","","","","","","","","",""]
["",null,"","","","","","","","","",""]
["",null,"","","","","","","","","",""]
["",null,"","","","","","","","","",""]
["",null,"","","","","","","","","",""]
["",null,"","","","","","","","","",""]
["",null,"","","","","","","","","",""]
["",null,"","","","","","","","","",""]
["",null,"","","","","","","","","",""]
["",null,"","","","","","","","","",""]
["",null,"","","","","","","","","",""]
["",null,"","","","","","","","","",""]
["",null,"","","","","","","","","",""]
[{"$f":"IF(ROW()>$B$1,\"\",IF(SUM(C3754:L3754)=0,A3753,A3753+1))","v":""},null,"","","","","","","","","",""]
["",null,"","","","","","","","","",""]
["",null,"","","","","","","","","",""]
["",null,"","","","","","","","","",""]
["",null,"","","","","","","","","",""]
["",null,"","","","","","","","","",""]
["",null,"","","","","","","","","",""]
["",null,{"$f":"IF(C$1=\"\",\"\",IF(ISERROR(FIND(C$1,$B3761))=TRUE,\"\",FIND(C$1,$B3761)))","v":""},"","","","","","","","",""]
["",null,"","","","","","","","","",""]
["",null,"","","","","","","","","",""]
["",null,"","","","","","","","","",""]
["",null,"","","","","","","","","",""]
["",null,"","","","","","","","","",""]
["",null,"","","","","","","","","",""]
["",null,"","","","","","","","","",""]
["",null,"","","","","","","","","",""]
["",null,"","","","","","","","","",""]
["",null,"","","","","","","","","",""]
["",null,"","","","","","","","","",""]
["",null,"","","","","","","","","",""]
["",null,"","","","","","","","","",""]
["",null,"","","","","","","","","",""]
["",null,"","","","","","","","","",""]
["",null,"","","","","","","","","",""]
["",null,"","","","","","","","","",""]
["",null,"","","","","","","","","",""]
["",null,"","","","","","","","","",""]
["",null,"","","","","","","","","",""]
["",null,"","","","","","","","","",""]
["",null,"","","","","","","","","",""]
["",null,"","","","","","","","","",""]
["",null,"","","","","","","","","",""]
["",null,"","","","","",{"$f":"IF(H$1=\"\",\"\",IF(ISERROR(FIND(H$1,$B3786))=TRUE,\"\",FIND(H$1,$B3786)))","v":""},"","","",""]
["",null,{"$f":"IF(C$1=\"\",\"\",IF(ISERROR(FIND(C$1,$B3787))=TRUE,\"\",FIND(C$1,$B3787)))","v":""},"","","","","","","","",""]
["",null,"","","","","","","","","",""]
["",null,"","","","","","","","","",""]
["",null,"","","","","","","","","",""]
["",null,"","","","","","","","","",""]
["",null,"","","","","","","","","",""]
["",null,"","","","","","","","","",""]
["",null,"","","","","","","","","",""]
["",null,"","","","","","","","","",""]
["",null,"","","","","","","","","",""]
["",null,"","","","","","","","","",""]
["",null,"","","","","","","","","",""]
["",null,"","","","","","","","","",""]
["",null,"","","","","","","","","",""]
["",null,"","","","","","","","","",""]
["",null,"","","","","","","","","",""]
["",null,"","","","","","","","","",""]
["",null,"","","","","","","","","",""]
["",null,"","","","","","","","","",""]
["",null,"","","","","","","","","",""]
["",null,"","","","","","","","","",""]
["",null,"","","","","","","","","",""]
["",null,"","","","","","","","","",""]
["",null,"","","","","","","","","",""]
["",null,"","","","","","","","","",""]
["",null,"","","","","",{"$f":"IF(H$1=\"\",\"\",IF(ISERROR(FIND(H$1,$B3812))=TRUE,\"\",FIND(H$1,$B3812)))","v":""},"","","",""]
["",null,{"$f":"IF(C$1=\"\",\"\",IF(ISERROR(FIND(C$1,$B3813))=TRUE,\"\",FIND(C$1,$B3813)))","v":""},"","","","","","","","",""]
["",null,"","","","","","","","","",""]
["",null,"","","","","","","","","",""]
["",null,"","","","","","","","","",""]
["",null,"","","","","","","","","",""]
[{"$f":"IF(ROW()>$B$1,\"\",IF(SUM(C3818:L3818)=0,A3817,A3817+1))","v":""},null,"","","","","","","","","",""]
["",null,"","","","","","","","","",""]
["",null,"","","","","","","","","",""]
["",null,"","","","","","","","","",""]
["",null,"","","","","","","","","",""]
["",null,"","","","","","","","","",""]
["",null,"","","","","","","","","",""]
["",null,"","","","","","","","","",""]
["",null,"","","","","","","","","",""]
["",null,"","","","","","","","","",""]
["",null,"","","","","","","","","",""]
["",null,"","","","","","","","","",""]
["",null,"","","","","","","","","",""]
["",null,"","","","","","","","","",""]
["",null,"","","","","","","","","",""]
["",null,"","","","","","","","","",""]
["",null,"","","","","","","","","",""]
["",null,"","","","","","","","","",""]
["",null,"","","","","","","","","",""]
["",null,"","","","","","","","","",""]
["",null,"","","","","",{"$f":"IF(H$1=\"\",\"\",IF(ISERROR(FIND(H$1,$B3838))=TRUE,\"\",FIND(H$1,$B3838)))","v":""},"","","",""]
["",null,"","","","","","","","","",""]
["",null,"","","","","","","","","",""]
["",null,"","","","","","","","","",""]
["",null,"","","","","","","","","",""]
["",null,"","","","","","","","","",""]
["",null,"","","","","","","","","",""]
["",null,"","","","","","","","","",""]
["",null,"","","","","","","","","",""]
["",null,"","","","","","","","","",""]
["",null,"","","","","","","","","",""]
["",null,"","","","","","","","","",""]
["",null,"","","","","","","","","",""]
["",null,"","","","","","","","","",""]
["",null,"","","","","","","","","",""]
["",null,"","","","","","","","","",""]
["",null,{"$f":"IF(C$1=\"\",\"\",IF(ISERROR(FIND(C$1,$B3854))=TRUE,\"\",FIND(C$1,$B3854)))","v":""},"","","","","","","","",""]
["",null,"","","","","","","","","",""]
["",null,"","","","","","","","","",""]
["",null,"","","","","","","","","",""]
["",null,"","","","","","","","","",""]
["",null,"","","","","","","","","",""]
["",null,"","","","","","","","","",""]
["",null,"","","","","","","","","",""]
["",null,"","","","","","","","","",""]
["",null,"","","","","","","","","",""]
["",null,"","","","","","","","","",""]
["",null,"","","","","","","","","",""]
["",null,"","","","","","","","","",""]
["",null,"","","","","","","","","",""]
["",null,"","","","","","","","","",""]
["",null,"","","","","","","","","",""]
["",null,"","","","","","","","","",""]
["",null,"","","","","","","","","",""]
["",null,"","","","","","","","","",""]
["",null,"","","","","","","","","",""]
["",null,"","","","","","","","","",""]
["",null,"","","","","","","","","",""]
["",null,"","","","","","","","","",""]
["",null,"","","","","","","","","",""]
["",null,"","","","","","","","","",""]
["",null,"","","","","",{"$f":"IF(H$1=\"\",\"\",IF(ISERROR(FIND(H$1,$B3879))=TRUE,\"\",FIND(H$1,$B3879)))","v":""},"","","",""]
["",null,{"$f":"IF(C$1=\"\",\"\",IF(ISERROR(FIND(C$1,$B3880))=TRUE,\"\",FIND(C$1,$B3880)))","v":""},"","","","","","","","",""]
["",null,"","","","","","","","","",""]
[{"$f":"IF(ROW()>$B$1,\"\",IF(SUM(C3882:L3882)=0,A3881,A3881+1))","v":""},null,"","","","","","","","","",""]
["",null,"","","","","","","","","",""]
["",null,"","","","","","","","","",""]
["",null,"","","","","","","","","",""]
["",null,"","","","","","","","","",""]
["",null,"","","","","","","","","",""]
["",null,"","","","","","","","","",""]
["",null,"","","","","","","","","",""]
["",null,"","","","","","","","","",""]
["",null,"","","","","","","","","",""]
["",null,"","","","","","","","","",""]
["",null,"","","","","","","","","",""]
["",null,"","","","","","","","","",""]
["",null,"","","","","","","","","",""]
["",null,"","","","","","","","","",""]
["",null,"","","","","","","","","",""]
["",null,"","","","","","","","","",""]
["",null,"","","","","","","","","",""]
["",null,"","","","","","","","","",""]
["",null,"","","","","","","","","",""]
["",null,"","","","","","","","","",""]
["",null,"","","","","","","","","",""]
["",null,"","","","","","","","","",""]
["",null,"","","","","",{"$f":"IF(H$1=\"\",\"\",IF(ISERROR(FIND(H$1,$B3905))=TRUE,\"\",FIND(H$1,$B3905)))","v":""},"","","",""]
["",null,{"$f":"IF(C$1=\"\",\"\",IF(ISERROR(FIND(C$1,$B3906))=TRUE,\"\",FIND(C$1,$B3906)))","v":""},"","","","","","","","",""]
["",null,"","","","","","","","","",""]
["",null,"","","","","","","","","",""]
["",null,"","","","","","","","","",""]
["",null,"","","","","","","","","",""]
["",null,"","","","","","","","","",""]
["",null,"","","","","","","","","",""]
["",null,"","","","","","","","","",""]
["",null,"","","","","","","","","",""]
["",null,"","","","","","","","","",""]
["",null,"","","","","","","","","",""]
["",null,"","","","","","","","","",""]
["",null,"","","","","","","","","",""]
["",null,"","","","","","","","","",""]
["",null,"","","","","","","","","",""]
["",null,"","","","","","","","","",""]
["",null,"","","","","","","","","",""]
["",null,"","","","","","","","","",""]
["",null,"","","","","","","","","",""]
["",null,"","","","","","","","","",""]
["",null,"","","","","","","","","",""]
["",null,"","","","","","","","","",""]
["",null,"","","","","","","","","",""]
["",null,"","","","","","","","","",""]
["",null,"","","","","","","","","",""]
["",null,"","","","","",{"$f":"IF(H$1=\"\",\"\",IF(ISERROR(FIND(H$1,$B3931))=TRUE,\"\",FIND(H$1,$B3931)))","v":""},"","","",""]
["",null,{"$f":"IF(C$1=\"\",\"\",IF(ISERROR(FIND(C$1,$B3932))=TRUE,\"\",FIND(C$1,$B3932)))","v":""},"","","","","","","","",""]
["",null,"","","","","","","","","",""]
["",null,"","","","","","","","","",""]
["",null,"","","","","","","","","",""]
["",null,"","","","","","","","","",""]
["",null,"","","","","","","","","",""]
["",null,"","","","","","","","","",""]
["",null,"","","","","","","","","",""]
["",null,"","","","","","","","","",""]
["",null,"","","","","","","","","",""]
["",null,"","","","","","","","","",""]
["",null,"","","","","","","","","",""]
["",null,"","","","","","","","","",""]
["",null,"","","","","","","","","",""]
[{"$f":"IF(ROW()>$B$1,\"\",IF(SUM(C3946:L3946)=0,A3945,A3945+1))","v":""},null,"","","","","","","","","",""]
["",null,"","","","","","","","","",""]
["",null,"","","","","","","","","",""]
["",null,"","","","","","","","","",""]
["",null,"","","","","","","","","",""]
["",null,"","","","","","","","","",""]
["",null,"","","","","","","","","",""]
["",null,"","","","","","","","","",""]
["",null,"","","","","","","","","",""]
[]
[{"$f":"IF(ROW()>$B$1,\"\",IF(SUM(C3956:L3956)=0,A3955,A3955+1))","v":""},null,{"$f":"IF(C$1=\"\",\"\",IF(ISERROR(FIND(C$1,$B3956))=TRUE,\"\",FIND(C$1,$B3956)))","v":""},{"$f":"IF(D$1=\"\",\"\",IF(ISERROR(FIND(D$1,$B3956))=TRUE,\"\",FIND(D$1,$B3956)))","v":""},"","","","","","","",""]
["",null,{"$f":"IF(C$1=\"\",\"\",IF(ISERROR(FIND(C$1,$B3957))=TRUE,\"\",FIND(C$1,$B3957)))","v":""},"","","","","","","","",""]
["",null,"","","","","","","","","",""]
["",null,"","","","","","","","","",""]
["",null,"","","","","","","","","",""]
["",null,"","","","","","","","","",""]
["",null,"","","","","","","","","",""]
["",null,"","","","","","","","","",""]
["",null,"","","","","","","","","",""]
["",null,"","","","","","","","","",""]
["",null,"","","","","","","","","",""]
["",null,"","","","","","","","","",""]
["",null,"","","","","","","","","",""]
["",null,"","","","","","","","","",""]
["",null,"","","","","","","","","",""]
["",null,"","","","","","","","","",""]
["",null,"","","","","","","","","",""]
["",null,"","","","","","","","","",""]
["",null,"","","","","","","","","",""]
["",null,"","","","","","","","","",""]
["",null,"","","","","","","","","",""]
["",null,"","","","","","","","","",""]
["",null,"","","","","","","","","",""]
["",null,"","","","","","","","","",""]
["",null,"","","","","","","","","",""]
["",null,"","","","","","","","","",""]
["",null,"","","","","","","","","",""]
["",null,"","","","","","","","","",""]
["",null,"","","","","","","","","",""]
["",null,"","","","","","","","","",""]
["",null,"","","","","","","","","",""]
["",null,"","","","","","","","","",""]
["",null,"","","","","","","","","",""]
["",null,"","","","","","","","","",""]
["",null,"","","","","","","","","",""]
["",null,"","","","","","","","","",""]
["",null,"","","","","","","","","",""]
["",null,"","","","","","","","","",""]
["",null,"","","","","","","","","",""]
["",null,"","","","","","","","","",""]
["",null,{"$f":"IF(C$1=\"\",\"\",IF(ISERROR(FIND(C$1,$B3996))=TRUE,\"\",FIND(C$1,$B3996)))","v":""},"","","","","","","","",""]
["",null,"","","","","","","","","",""]
["",null,"","","","","","","","","",""]
["",null,"","","","","","","","","",""]
["",null,"","","","","","","","","",""]
["",null,"","","","","","","","","",""]
["",null,"","","","","","","","","",""]
["",null,"","","","","","","","","",""]
["",null,"","","","","","","","","",""]
["",null,"","","","","","","","","",""]
["",null,"","","","","","","","","",""]
["",null,"","","","","","","","","",""]
["",null,"","","","","","","","","",""]
["",null,"","","","","","","","","",""]
["",null,"","","","","","","","","",""]
["",null,"","","","","","","","","",""]
["",null,"","","","","","","","","",""]
["",null,"","","","","","","","","",""]
["",null,"","","","","","","","","",""]
["",null,"","","","","","","","","",""]
["",null,"","","","","","","","","",""]
["",null,"","","","","","","","","",""]
["",null,"","","","","","","","","",""]
["",null,"","","","","","","","","",""]
[{"$f":"IF(ROW()>$B$1,\"\",IF(SUM(C4020:L4020)=0,A4019,A4019+1))","v":""},null,"","","","","","","","","",""]
["",null,"","","","","",{"$f":"IF(H$1=\"\",\"\",IF(ISERROR(FIND(H$1,$B4021))=TRUE,\"\",FIND(H$1,$B4021)))","v":""},"","","",""]
["",null,{"$f":"IF(C$1=\"\",\"\",IF(ISERROR(FIND(C$1,$B4022))=TRUE,\"\",FIND(C$1,$B4022)))","v":""},"","","","","","","","",""]
["",null,"","","","","","","","","",""]
["",null,"","","","","","","","","",""]
["",null,"","","","","","","","","",""]
["",null,"","","","","","","","","",""]
["",null,"","","","","","","","","",""]
["",null,"","","","","","","","","",""]
["",null,"","","","","","","","","",""]
["",null,"","","","","","","","","",""]
["",null,"","","","","","","","","",""]
["",null,"","","","","","","","","",""]
["",null,"","","","","","","","","",""]
["",null,"","","","","","","","","",""]
["",null,"","","","","","","","","",""]
["",null,"","","","","","","","","",""]
["",null,"","","","","","","","","",""]
["",null,"","","","","","","","","",""]
["",null,"","","","","","","","","",""]
["",null,"","","","","","","","","",""]
["",null,"","","","","","","","","",""]
["",null,"","","","","","","","","",""]
["",null,"","","","","","","","","",""]
["",null,"","","","","","","","","",""]
["",null,"","","","","","","","","",""]
["",null,"","","","","","","","","",""]
["",null,"","","","","",{"$f":"IF(H$1=\"\",\"\",IF(ISERROR(FIND(H$1,$B4047))=TRUE,\"\",FIND(H$1,$B4047)))","v":""},"","","",""]
["",null,{"$f":"IF(C$1=\"\",\"\",IF(ISERROR(FIND(C$1,$B4048))=TRUE,\"\",FIND(C$1,$B4048)))","v":""},"","","","","","","","",""]
["",null,"","","","","","","","","",""]
["",null,"","","","","","","","","",""]
["",null,"","","","","","","","","",""]
["",null,"","","","","","","","","",""]
["",null,"","","","","","","","","",""]
["",null,"","","","","","","","","",""]
["",null,"","","","","","","","","",""]
["",null,"","","","","","","","","",""]
["",null,"","","","","","","","","",""]
["",null,"","","","","","","","","",""]
["",null,"","","","","","","","","",""]
["",null,"","","","","","","","","",""]
["",null,"","","","","","","","","",""]
["",null,"","","","","","","","","",""]
["",null,"","","","","","","","","",""]
["",null,"","","","","","","","","",""]
["",null,"","","","","","","","","",""]
["",null,"","","","","","","","","",""]
["",null,"","","","","","","","","",""]
["",null,"","","","","","","","","",""]
["",null,"","","","","","","","","",""]
["",null,"","","","","","","","","",""]
["",null,"","","","","","","","","",""]
["",null,"","","","","","","","","",""]
["",null,"","","","","",{"$f":"IF(H$1=\"\",\"\",IF(ISERROR(FIND(H$1,$B4073))=TRUE,\"\",FIND(H$1,$B4073)))","v":""},"","","",""]
["",null,{"$f":"IF(C$1=\"\",\"\",IF(ISERROR(FIND(C$1,$B4074))=TRUE,\"\",FIND(C$1,$B4074)))","v":""},"","","","","","","","",""]
["",null,"","","","","","","","","",""]
["",null,"","","","","","","","","",""]
["",null,"","","","","","","","","",""]
["",null,"","","","","","","","","",""]
["",null,"","","","","","","","","",""]
["",null,"","","","","","","","","",""]
["",null,"","","","","","","","","",""]
["",null,"","","","","","","","","",""]
["",null,"","","","","","","","","",""]
[{"$f":"IF(ROW()>$B$1,\"\",IF(SUM(C4084:L4084)=0,A4083,A4083+1))","v":""},null,"","","","","","","","","",""]
["",null,"","","","","","","","","",""]
["",null,"","","","","","","","","",""]
["",null,"","","","","","","","","",""]
["",null,"","","","","","","","","",""]
["",null,"","","","","","","","","",""]
["",null,"","","","","","","","","",""]
["",null,"","","","","","","","","",""]
["",null,"","","","","","","","","",""]
["",null,"","","","","","","","","",""]
["",null,"","","","","","","","","",""]
["",null,"","","","","","","","","",""]
["",null,"","","","","","","","","",""]
["",null,"","","","","","","","","",""]
["",null,"","","","","","","","","",""]
["",null,"","","","","",{"$f":"IF(H$1=\"\",\"\",IF(ISERROR(FIND(H$1,$B4099))=TRUE,\"\",FIND(H$1,$B4099)))","v":""},"","","",""]
["",null,{"$f":"IF(C$1=\"\",\"\",IF(ISERROR(FIND(C$1,$B4100))=TRUE,\"\",FIND(C$1,$B4100)))","v":""},"","","","","","","","",""]
["",null,"","","","","","","","","",""]
["",null,"","","","","","","","","",""]
["",null,"","","","","","","","","",""]
["",null,"","","","","","","","","",""]
["",null,"","","","","","","","","",""]
["",null,"","","","","","","","","",""]
["",null,"","","","","","","","","",""]
["",null,"","","","","","","","","",""]
["",null,"","","","","","","","","",""]
["",null,"","","","","","","","","",""]
["",null,"","","","","","","","","",""]
["",null,"","","","","","","","","",""]
["",null,"","","","","","","","","",""]
["",null,"","","","","","","","","",""]
["",null,"","","","","","","","","",""]
["",null,"","","","","","","","","",""]
["",null,"","","","","","","","","",""]
["",null,"","","","","","","","","",""]
["",null,"","","","","","","","","",""]
["",null,"","","","","","","","","",""]
["",null,"","","","","","","","","",""]
["",null,"","","","","","","","","",""]
["",null,"","","","","","","","","",""]
["",null,"","","","","","","","","",""]
["",null,"","","","","","","","","",""]
["",null,"","","","","","","","","",""]
["",null,"","","","","","","","",{"$f":"IF(K$1=\"\",\"\",IF(ISERROR(FIND(K$1,$B4127))=TRUE,\"\",FIND(K$1,$B4127)))","v":""},""]
["",null,"","","","","","","","","",""]
["",null,"","","","","","","","","",""]
["",null,"","","","","","","","","",""]
["",null,"","","","","","","","","",""]
["",null,"","","","","","","","","",""]
["",null,"","","","","","","","","",""]
["",null,"","","","","","","","","",""]
["",null,"","","","","","","","","",""]
["",null,"","","","","","","","","",""]
["",null,"","","","","","","","","",""]
["",null,"","","","","","","","","",""]
["",null,"","","","","","","","","",""]
["",null,"","","","","","","","","",""]
["",null,"","","","","","","","","",""]
["",null,"","","","","","","","","",""]
["",null,"","","","","","","","","",""]
["",null,"","","","","","","","","",""]
["",null,"","","","","","","","","",""]
["",null,"","","","","","","","","",""]
["",null,"","","","","","","","","",""]
[{"$f":"IF(ROW()>$B$1,\"\",IF(SUM(C4148:L4148)=0,A4147,A4147+1))","v":""},null,"","","","","","","","","",""]
["",null,"","","","","","","","","",""]
["",null,"","","","","","","",{"$f":"IF(J$1=\"\",\"\",IF(ISERROR(FIND(J$1,$B4150))=TRUE,\"\",FIND(J$1,$B4150)))","v":""},"",""]
["",null,{"$f":"IF(C$1=\"\",\"\",IF(ISERROR(FIND(C$1,$B4151))=TRUE,\"\",FIND(C$1,$B4151)))","v":""},"","","","","","","","",""]
["",null,"","","","","","","","","",""]
["",null,"","","","","","","","","",""]
["",null,"","","","","","","","","",""]
["",null,"","","","","","","","","",""]
["",null,"","","","","","","","","",""]
["",null,"","","","","","","","","",""]
["",null,"","","","","","","","","",""]
["",null,"","","","","","","","","",""]
["",null,"","","","","","","","","",""]
["",null,"","","","","","","","","",""]
["",null,"","","","","","","","","",""]
["",null,"","","","","","","","","",""]
["",null,"","","","","","","","","",""]
["",null,"","","","","","","","","",""]
["",null,"","","","","","","","","",""]
["",null,{"$f":"IF(C$1=\"\",\"\",IF(ISERROR(FIND(C$1,$B4167))=TRUE,\"\",FIND(C$1,$B4167)))","v":""},"","","","","","","","",""]
["",null,"","","","","","","","","",""]
["",null,"","","","","","","","","",""]
["",null,"","","","","","","","","",""]
["",null,"","","","","","","","","",""]
["",null,"","","","","","","","","",""]
["",null,"","","","","","","","","",""]
["",null,"","","","","","","","","",""]
["",null,"","","","","","","","","",""]
["",null,"","","","","","","","","",""]
["",null,"","","","","","","","","",""]
["",null,"","","","","","","","","",""]
["",null,"","","","","","","","","",""]
["",null,"","","","","","","","","",""]
["",null,"","","","","","","","","",""]
["",null,"","","","","","","","","",""]
["",null,"","","","","","","","","",""]
["",null,"","","","","","","","","",""]
["",null,"","","","","","","","","",""]
["",null,"","","","","","","","","",""]
["",null,"","","","","","","","","",""]
["",null,"","","","","","","","","",""]
["",null,"","","","","","","","","",""]
["",null,"","","","","","","","","",""]
["",null,"","","","","","","","","",""]
["",null,"","","","","",{"$f":"IF(H$1=\"\",\"\",IF(ISERROR(FIND(H$1,$B4192))=TRUE,\"\",FIND(H$1,$B4192)))","v":""},"","","",""]
["",null,{"$f":"IF(C$1=\"\",\"\",IF(ISERROR(FIND(C$1,$B4193))=TRUE,\"\",FIND(C$1,$B4193)))","v":""},"","","","","","","","",""]
["",null,"","","","","","","","","",""]
["",null,"","","","","","","","","",""]
["",null,"","","","","","","","","",""]
["",null,"","","","","","","","","",""]
["",null,"","","","","","","","","",""]
["",null,"","","","","","","","","",""]
["",null,"","","","","","","","","",""]
["",null,"","","","","","","","","",""]
["",null,"","","","","","","","","",""]
["",null,"","","","","","","","","",""]
["",null,"","","","","","","","","",""]
["",null,"","","","","","","","","",""]
["",null,"","","","","","","","","",""]
["",null,"","","","","","","","","",""]
["",null,"","","","","","","","","",""]
["",null,"","","","","","","","","",""]
["",null,"","","","","","","","","",""]
["",null,"","","","","","","","","",""]
[{"$f":"IF(ROW()>$B$1,\"\",IF(SUM(C4212:L4212)=0,A4211,A4211+1))","v":""},null,"","","","","","","","","",""]
["",null,"","","","","","","","","",""]
["",null,"","","","","","","","","",""]
["",null,"","","","","","","","","",""]
["",null,"","","","","","","","","",""]
["",null,"","","","","","","","","",""]
["",null,"","","","","",{"$f":"IF(H$1=\"\",\"\",IF(ISERROR(FIND(H$1,$B4218))=TRUE,\"\",FIND(H$1,$B4218)))","v":""},"","","",""]
["",null,{"$f":"IF(C$1=\"\",\"\",IF(ISERROR(FIND(C$1,$B4219))=TRUE,\"\",FIND(C$1,$B4219)))","v":""},"","","","","","","","",""]
["",null,"","","","","","","","","",""]
["",null,"","","","","","","","","",""]
["",null,"","","","","","","","","",""]
["",null,"","","","","","","","","",""]
["",null,"","","","","","","","","",""]
["",null,"","","","","","","","","",""]
["",null,"","","","","","","","","",""]
["",null,"","","","","","","","","",""]
["",null,"","","","","","","","","",""]
["",null,"","","","","","","","","",""]
["",null,"","","","","","","","","",""]
["",null,"","","","","","","","","",""]
["",null,"","","","","","","","","",""]
["",null,"","","","","","","","","",""]
["",null,"","","","","","","","","",""]
["",null,"","","","","","","","","",""]
["",null,"","","","","","","","","",""]
["",null,"","","","","","","","","",""]
["",null,"","","","","","","","","",""]
["",null,"","","","","","","","","",""]
["",null,"","","","","","","","","",""]
["",null,"","","","","","","","","",""]
["",null,"","","","","","","","","",""]
["",null,"","","","","","","","","",""]
["",null,"","","","","","","",{"$f":"IF(J$1=\"\",\"\",IF(ISERROR(FIND(J$1,$B4244))=TRUE,\"\",FIND(J$1,$B4244)))","v":""},"",""]
["",null,{"$f":"IF(C$1=\"\",\"\",IF(ISERROR(FIND(C$1,$B4245))=TRUE,\"\",FIND(C$1,$B4245)))","v":""},"","","","","","","","",""]
["",null,"","","","","","","","","",""]
["",null,"","","","","","","","","",""]
["",null,"","","","","","","","","",""]
["",null,"","","","","","","","","",""]
["",null,"","","","","","","","","",""]
["",null,"","","","","","","","","",""]
["",null,"","","","","","","","","",""]
["",null,"","","","","","","","","",""]
["",null,"","","","","","","","","",""]
["",null,"","","","","","","","","",""]
["",null,"","","","","","","","","",""]
["",null,"","","","","","","","","",""]
["",null,"","","","","","","","","",""]
["",null,"","","","","","","","","",""]
["",null,"","","","","","","","","",""]
["",null,"","","","","","","","","",""]
["",null,"","","","","","","","","",""]
["",null,"","","","","","","","","",""]
["",null,"","","","","","","","","",""]
["",null,"","","","","","","","","",""]
["",null,"","","","","","","","","",""]
["",null,"","","","","","","","","",""]
["",null,"","","","","","","","","",""]
["",null,"","","","","","","","","",""]
["",null,"","","","","",{"$f":"IF(H$1=\"\",\"\",IF(ISERROR(FIND(H$1,$B4270))=TRUE,\"\",FIND(H$1,$B4270)))","v":""},"","","",""]
["",null,{"$f":"IF(C$1=\"\",\"\",IF(ISERROR(FIND(C$1,$B4271))=TRUE,\"\",FIND(C$1,$B4271)))","v":""},"","","","","","","","",""]
["",null,"","","","","","","","","",""]
["",null,"","","","","","","","","",""]
["",null,"","","","","","","","","",""]
["",null,"","","","","","","","","",""]
[{"$f":"IF(ROW()>$B$1,\"\",IF(SUM(C4276:L4276)=0,A4275,A4275+1))","v":""},null,"","","","","","","","","",""]
["",null,"","","","","","","","","",""]
["",null,"","","","","","","","","",""]
["",null,"","","","","","","","","",""]
["",null,"","","","","","","","","",""]
["",null,"","","","","","","","","",""]
["",null,"","","","","","","","","",""]
["",null,"","","","","","","","","",""]
["",null,"","","","","","","","","",""]
[{"$f":"IF(ROW()>$B$1,\"\",IF(SUM(C4285:L4285)=0,A4284,A4284+1))","v":""},null,{"$f":"IF(C$1=\"\",\"\",IF(ISERROR(FIND(C$1,$B4285))=TRUE,\"\",FIND(C$1,$B4285)))","v":""},"","","","","","","","",""]
["",null,{"$f":"IF(C$1=\"\",\"\",IF(ISERROR(FIND(C$1,$B4286))=TRUE,\"\",FIND(C$1,$B4286)))","v":""},"","","","","","","","",""]
["",null,"","","","","","","","","",""]
["",null,"","","","","","","","","",""]
["",null,"","","","","","","","","",""]
["",null,"","","","","","","","","",""]
["",null,"","","","","","","","","",""]
["",null,"","","","","","","","","",""]
["",null,"","","","","","","","","",""]
["",null,"","","","","","","","","",""]
["",null,"","","","","","","","","",""]
["",null,"","","","","","","","","",""]
["",null,"","","","","","","","","",""]
["",null,"","","","","","","","","",""]
["",null,"","","","","","","","","",""]
["",null,"","","","","","","","","",""]
["",null,"","","","","","","","","",""]
["",null,"","","","","","","","","",""]
["",null,"","","","","","","","","",""]
["",null,"","","","","","","","","",""]
["",null,"","","","","","","","","",""]
["",null,"","","","","","","","","",""]
["",null,"","","","","","","","","",""]
["",null,"","","","","","","","","",""]
["",null,"","","","","","","","","",""]
["",null,"","","","","","","","","",""]
["",null,"","","","","","","","","",""]
["",null,"","","","","","","","","",""]
["",null,"","","","","","","","","",""]
["",null,"","","","","","","","","",""]
["",null,"","","","","","","","","",""]
["",null,"","","","","","","","","",{"$f":"IF(L$1=\"\",\"\",IF(ISERROR(FIND(L$1,$B4316))=TRUE,\"\",FIND(L$1,$B4316)))","v":""}]
["",null,{"$f":"IF(C$1=\"\",\"\",IF(ISERROR(FIND(C$1,$B4317))=TRUE,\"\",FIND(C$1,$B4317)))","v":""},"","","","","","","","",""]
["",null,"","","","","","","","","",""]
["",null,"","","","","","","","","",""]
["",null,"","","","","","","","","",""]
["",null,"","","","","","","","","",""]
["",null,"","","","","","","","","",""]
["",null,"","","","","","","","","",""]
["",null,"","","","","","","","","",""]
["",null,"","","","","","","","","",""]
["",null,"","","","","","","","","",""]
["",null,"","","","","","","","","",""]
["",null,"","","","","","","","","",""]
["",null,"","","","","","","","","",""]
["",null,"","","","","","","","","",""]
["",null,"","","","","","","","","",""]
["",null,"","","","","","","","","",""]
["",null,"","","","","","","","","",""]
["",null,"","","","","","","","","",""]
["",null,"","","","","","","","","",""]
["",null,"","","","","","","","","",""]
["",null,"","","","","","","","","",""]
["",null,"","","","","","","","","",""]
["",null,"","","","","","","","","",""]
["",null,"","","","","","","","","",""]
["",null,"","","","","","","","","",""]
["",null,"","","","","",{"$f":"IF(H$1=\"\",\"\",IF(ISERROR(FIND(H$1,$B4342))=TRUE,\"\",FIND(H$1,$B4342)))","v":""},"","","",""]
["",null,{"$f":"IF(C$1=\"\",\"\",IF(ISERROR(FIND(C$1,$B4343))=TRUE,\"\",FIND(C$1,$B4343)))","v":""},"","","","","","","","",""]
["",null,"","","","","","","","","",""]
["",null,"","","","","","","","","",""]
["",null,"","","","","","","","","",""]
["",null,"","","","","","","","","",""]
["",null,"","","","","","","","","",""]
[{"$f":"IF(ROW()>$B$1,\"\",IF(SUM(C4349:L4349)=0,A4348,A4348+1))","v":""},null,"","","","","","","","","",""]
["",null,"","","","","","","","","",""]
["",null,"","","","","","","","","",""]
["",null,"","","","","","","","","",""]
["",null,"","","","","","","","","",""]
["",null,"","","","","","","","","",""]
["",null,"","","","","","","","","",""]
["",null,"","","","","","","","","",""]
["",null,"","","","","","","","","",""]
["",null,"","","","","","","","","",""]
["",null,"","","","","","","","","",""]
["",null,"","","","","","","","","",""]
["",null,"","","","","","","","","",""]
["",null,"","","","","","","","","",""]
["",null,"","","","","","","","","",""]
["",null,"","","","","","","","","",""]
["",null,"","","","","","","","","",""]
["",null,"","","","","","","","","",""]
["",null,"","","","","","","","","",""]
["",null,"","","","","",{"$f":"IF(H$1=\"\",\"\",IF(ISERROR(FIND(H$1,$B4368))=TRUE,\"\",FIND(H$1,$B4368)))","v":""},"","","",""]
["",null,{"$f":"IF(C$1=\"\",\"\",IF(ISERROR(FIND(C$1,$B4369))=TRUE,\"\",FIND(C$1,$B4369)))","v":""},"","","","","","","","",""]
["",null,"","","","","","","","","",""]
["",null,"","","","","","","","","",""]
["",null,"","","","","","","","","",""]
["",null,"","","","","","","","","",""]
["",null,"","","","","","","","","",""]
["",null,"","","","","","","","","",""]
["",null,"","","","","","","","","",""]
["",null,"","","","","","","","","",""]
["",null,"","","","","","","","","",""]
["",null,"","","","","","","","","",""]
["",null,"","","","","","","","","",""]
["",null,"","","","","","","","","",""]
["",null,"","","","","","","","","",""]
["",null,"","","","","","","","","",""]
["",null,"","","","","","","","","",""]
["",null,"","","","","","","","","",""]
["",null,"","","","","","","","","",""]
["",null,"","","","","","","","","",""]
["",null,"","","","","","","","","",""]
["",null,"","","","","","","","","",""]
["",null,"","","","","","","","","",""]
["",null,"","","","","","","","","",""]
["",null,"","","","","","","","","",""]
["",null,"","","","","","","","","",""]
["",null,"","","","","",{"$f":"IF(H$1=\"\",\"\",IF(ISERROR(FIND(H$1,$B4394))=TRUE,\"\",FIND(H$1,$B4394)))","v":""},"","","",""]
["",null,"","","","","","","","","",""]
["",null,"","","","","","","","","",""]
["",null,"","","","","","","","","",""]
["",null,"","","","","","","","","",""]
["",null,"","","","","","","","","",""]
["",null,"","","","","","","","","",""]
["",null,"","","","","","","","","",""]
["",null,"","","","","","","","","",""]
["",null,"","","","","","","","","",""]
["",null,"","","","","","","","","",""]
["",null,"","","","","","","","","",""]
["",null,"","","","","","","","","",""]
["",null,"","","","","","","","","",""]
["",null,"","","","","","","","","",""]
["",null,"","","","","","","","","",""]
["",null,"","","","","","","","","",""]
["",null,"","","","","","","","","",""]
["",null,"","","","","","","","","",""]
[{"$f":"IF(ROW()>$B$1,\"\",IF(SUM(C4413:L4413)=0,A4412,A4412+1))","v":""},null,"","","","","","","","","",""]
["",null,"","","","","","","","","",""]
["",null,"","","","","","","","","",""]
["",null,"","","","","","","","","",""]
["",null,"","","","","","","","","",""]
["",null,"","","","","","","","","",""]
["",null,"","","","","","","","","",""]
["",null,{"$f":"IF(C$1=\"\",\"\",IF(ISERROR(FIND(C$1,$B4420))=TRUE,\"\",FIND(C$1,$B4420)))","v":""},"","","","","","","","",""]
["",null,"","","","","","","","","",""]
["",null,"","","","","","","","","",""]
["",null,"","","","","","","","","",""]
["",null,"","","","","","","","","",""]
["",null,"","","","","","","","","",""]
["",null,"","","","","","","","","",""]
["",null,"","","","","","","","","",""]
["",null,"","","","","","","","","",""]
["",null,"","","","","","","","","",""]
["",null,"","","","","","","","","",""]
["",null,"","","","","","","","","",""]
["",null,"","","","","","","","","",""]
["",null,"","","","","","","","","",""]
["",null,"","","","","","","","","",""]
["",null,"","","","","","","","","",""]
["",null,"","","","","","","","","",""]
["",null,"","","","","","","","","",""]
["",null,"","","","","","","","","",""]
["",null,"","","","","","","","","",""]
["",null,"","","","","","","","","",""]
["",null,"","","","","","","","","",""]
["",null,"","","","","","","","","",""]
["",null,"","","","","","","","","",""]
["",null,"","","","","","","","","",""]
["",null,"","","","","",{"$f":"IF(H$1=\"\",\"\",IF(ISERROR(FIND(H$1,$B4445))=TRUE,\"\",FIND(H$1,$B4445)))","v":""},"","","",""]
["",null,{"$f":"IF(C$1=\"\",\"\",IF(ISERROR(FIND(C$1,$B4446))=TRUE,\"\",FIND(C$1,$B4446)))","v":""},"","","","","","","","",""]
["",null,"","","","","","","","","",""]
["",null,"","","","","","","","","",""]
["",null,"","","","","","","","","",""]
["",null,"","","","","","","","","",""]
["",null,"","","","","","","","","",""]
["",null,"","","","","","","","","",""]
["",null,"","","","","","","","","",""]
["",null,"","","","","","","","","",""]
["",null,"","","","","","","","","",""]
["",null,"","","","","","","","","",""]
["",null,"","","","","","","","","",""]
["",null,"","","","","","","","","",""]
["",null,"","","","","","","","","",""]
["",null,"","","","","","","","","",""]
["",null,"","","","","","","","","",""]
["",null,"","","","","","","","","",""]
["",null,"","","","","","","","","",""]
["",null,"","","","","","","","","",""]
["",null,"","","","","","","","","",""]
["",null,"","","","","","","","","",""]
["",null,"","","","","","","","","",""]
["",null,"","","","","","","","","",""]
["",null,"","","","","","","","","",""]
["",null,"","","","","","","","","",""]
["",null,"","","","","",{"$f":"IF(H$1=\"\",\"\",IF(ISERROR(FIND(H$1,$B4471))=TRUE,\"\",FIND(H$1,$B4471)))","v":""},"","","",""]
["",null,{"$f":"IF(C$1=\"\",\"\",IF(ISERROR(FIND(C$1,$B4472))=TRUE,\"\",FIND(C$1,$B4472)))","v":""},"","","","","","","","",""]
["",null,"","","","","","","","","",""]
["",null,"","","","","","","","","",""]
["",null,"","","","","","","","","",""]
["",null,"","","","","","","","","",""]
[{"$f":"IF(ROW()>$B$1,\"\",IF(SUM(C4477:L4477)=0,A4476,A4476+1))","v":""},null,"","","","","","","","","",""]
["",null,"","","","","","","","","",""]
["",null,"","","","","","","","","",""]
["",null,"","","","","","","","","",""]
["",null,"","","","","","","","","",""]
["",null,"","","","","","","","","",""]
["",null,"","","","","","","","","",""]
["",null,"","","","","","","","","",""]
["",null,"","","","","","","","","",""]
["",null,"","","","","","","","","",""]
["",null,"","","","","","","","","",""]
["",null,"","","","","","","","","",""]
["",null,"","","","","","","","","",""]
["",null,"","","","","","","","","",""]
["",null,"","","","","","","","","",""]
["",null,"","","","","","","","","",""]
["",null,"","","","","","","","","",""]
["",null,"","","","","","","","","",""]
["",null,"","","","","","","","","",""]
["",null,"","","","","","","","","",""]
["",null,"","","","","",{"$f":"IF(H$1=\"\",\"\",IF(ISERROR(FIND(H$1,$B4497))=TRUE,\"\",FIND(H$1,$B4497)))","v":""},"","","",""]
["",null,"","","","","","","","","",""]
["",null,"","","","","","","","","",""]
["",null,"","","","","","","","","",""]
["",null,"","","","","","","","","",""]
["",null,"","","","","","","","","",""]
["",null,"","","","","","","","","",""]
["",null,"","","","","","","","","",""]
["",null,"","","","","","","","","",""]
["",null,"","","","","","","","","",""]
["",null,"","","","","","","","","",""]
["",null,"","","","","","","","","",""]
["",null,"","","","","","","","","",""]
["",null,"","","","","","","","","",""]
["",null,"","","","","","","","","",""]
["",null,"","","","","","","","","",""]
["",null,{"$f":"IF(C$1=\"\",\"\",IF(ISERROR(FIND(C$1,$B4513))=TRUE,\"\",FIND(C$1,$B4513)))","v":""},"","","","","","","","",""]
["",null,"","","","","","","","","",""]
["",null,"","","","","","","","","",""]
["",null,"","","","","","","","","",""]
["",null,"","","","","","","","","",""]
["",null,"","","","","","","","","",""]
["",null,"","","","","","","","","",""]
["",null,"","","","","","","","","",""]
["",null,"","","","","","","","","",""]
["",null,"","","","","","","","","",""]
["",null,"","","","","","","","","",""]
["",null,"","","","","","","","","",""]
["",null,"","","","","","","","","",""]
["",null,"","","","","","","","","",""]
["",null,"","","","","","","","","",""]
["",null,"","","","","","","","","",""]
["",null,"","","","","","","","","",""]
["",null,"","","","","","","","","",""]
["",null,"","","","","","","","","",""]
["",null,"","","","","","","","","",""]
["",null,"","","","","","","","","",""]
["",null,"","","","","","","","","",""]
["",null,"","","","","","","","","",""]
["",null,"","","","","","","","","",""]
["",null,"","","","","","","","","",""]
["",null,"","","","","",{"$f":"IF(H$1=\"\",\"\",IF(ISERROR(FIND(H$1,$B4538))=TRUE,\"\",FIND(H$1,$B4538)))","v":""},"","","",""]
["",null,{"$f":"IF(C$1=\"\",\"\",IF(ISERROR(FIND(C$1,$B4539))=TRUE,\"\",FIND(C$1,$B4539)))","v":""},"","","","","","","","",""]
["",null,"","","","","","","","","",""]
[{"$f":"IF(ROW()>$B$1,\"\",IF(SUM(C4541:L4541)=0,A4540,A4540+1))","v":""},null,"","","","","","","","","",""]
["",null,"","","","","","","","","",""]
["",null,"","","","","","","","","",""]
["",null,"","","","","","","","","",""]
["",null,"","","","","","","","","",""]
["",null,"","","","","","","","","",""]
["",null,"","","","","","","","","",""]
["",null,"","","","","","","","","",""]
["",null,"","","","","","","","","",""]
["",null,"","","","","","","","","",""]
["",null,"","","","","","","","","",""]
["",null,"","","","","","","","","",""]
["",null,"","","","","","","","","",""]
["",null,"","","","","","","","","",""]
["",null,"","","","","","","","","",""]
["",null,"","","","","","","","","",""]
["",null,"","","","","","","","","",""]
["",null,"","","","","","","","","",""]
["",null,"","","","","","","","","",""]
["",null,"","","","","","","","","",""]
["",null,"","","","","","","","","",""]
["",null,"","","","","","","","","",""]
["",null,"","","","","","","","","",""]
["",null,"","","","","",{"$f":"IF(H$1=\"\",\"\",IF(ISERROR(FIND(H$1,$B4564))=TRUE,\"\",FIND(H$1,$B4564)))","v":""},"","","",""]
["",null,{"$f":"IF(C$1=\"\",\"\",IF(ISERROR(FIND(C$1,$B4565))=TRUE,\"\",FIND(C$1,$B4565)))","v":""},"","","","","","","","",""]
["",null,"","","","","","","","","",""]
["",null,"","","","","","","","","",""]
["",null,"","","","","","","","","",""]
["",null,"","","","","","","","","",""]
["",null,"","","","","","","","","",""]
["",null,"","","","","","","","","",""]
["",null,"","","","","","","","","",""]
["",null,"","","","","","","","","",""]
["",null,"","","","","","","","","",""]
["",null,"","","","","","","","","",""]
["",null,"","","","","","","","","",""]
["",null,"","","","","","","","","",""]
["",null,"","","","","","","","","",""]
["",null,"","","","","","","","","",""]
["",null,"","","","","","","","","",""]
["",null,"","","","","","","","","",""]
["",null,"","","","","","","","","",""]
["",null,"","","","","","","","","",""]
["",null,"","","","","","","","","",""]
["",null,"","","","","","","","","",""]
["",null,"","","","","","","","","",""]
["",null,"","","","","","","","","",""]
["",null,"","","","","","","","","",""]
["",null,"","","","","","","","","",""]
["",null,"","","","","",{"$f":"IF(H$1=\"\",\"\",IF(ISERROR(FIND(H$1,$B4590))=TRUE,\"\",FIND(H$1,$B4590)))","v":""},"","","",""]
["",null,{"$f":"IF(C$1=\"\",\"\",IF(ISERROR(FIND(C$1,$B4591))=TRUE,\"\",FIND(C$1,$B4591)))","v":""},"","","","","","","","",""]
["",null,"","","","","","","","","",""]
["",null,"","","","","","","","","",""]
["",null,"","","","","","","","","",""]
["",null,"","","","","","","","","",""]
["",null,"","","","","","","","","",""]
["",null,"","","","","","","","","",""]
["",null,"","","","","","","","","",""]
["",null,"","","","","","","","","",""]
["",null,"","","","","","","","","",""]
["",null,"","","","","","","","","",""]
["",null,"","","","","","","","","",""]
["",null,"","","","","","","","","",""]
["",null,"","","","","","","","","",""]
[{"$f":"IF(ROW()>$B$1,\"\",IF(SUM(C4605:L4605)=0,A4604,A4604+1))","v":""},null,"","","","","","","","","",""]
["",null,"","","","","","","","","",""]
["",null,"","","","","","","","","",""]
["",null,"","","","","","","","","",""]
["",null,"","","","","","","","","",""]
["",null,"","","","","","","","","",""]
["",null,"","","","","","","","","",""]
["",null,"","","","","","","","","",""]
["",null,"","","","","","","","","",""]
[]
[{"$f":"IF(ROW()>$B$1,\"\",IF(SUM(C4615:L4615)=0,A4614,A4614+1))","v":""},null,{"$f":"IF(C$1=\"\",\"\",IF(ISERROR(FIND(C$1,$B4615))=TRUE,\"\",FIND(C$1,$B4615)))","v":""},{"$f":"IF(D$1=\"\",\"\",IF(ISERROR(FIND(D$1,$B4615))=TRUE,\"\",FIND(D$1,$B4615)))","v":""},"","","","","","","",""]
["",null,{"$f":"IF(C$1=\"\",\"\",IF(ISERROR(FIND(C$1,$B4616))=TRUE,\"\",FIND(C$1,$B4616)))","v":""},"","","","","","","","",""]
["",null,"","","","","","","","","",""]
["",null,"","","","","","","","","",""]
["",null,"","","","","","","","","",""]
["",null,"","","","","","","","","",""]
["",null,"","","","","","","","","",""]
["",null,"","","","","","","","","",""]
["",null,"","","","","","","","","",""]
["",null,"","","","","","","","","",""]
["",null,"","","","","","","","","",""]
["",null,"","","","","","","","","",""]
["",null,"","","","","","","","","",""]
["",null,"","","","","","","","","",""]
["",null,"","","","","","","","","",""]
["",null,"","","","","","","","","",""]
["",null,"","","","","","","","","",""]
["",null,"","","","","","","","","",""]
["",null,"","","","","","","","","",""]
["",null,"","","","","","","","","",""]
["",null,"","","","","","","","","",""]
["",null,"","","","","","","","","",""]
["",null,"","","","","","","","","",""]
["",null,"","","","","","","","","",""]
["",null,"","","","","","","","","",""]
["",null,"","","","","","","","","",""]
["",null,"","","","","","","","","",""]
["",null,"","","","","","","","","",""]
["",null,"","","","","","","","","",""]
["",null,"","","","","","","","","",""]
["",null,"","","","","","","","","",""]
["",null,"","","","","","","","","",""]
["",null,"","","","","","","","","",""]
["",null,"","","","","","","","","",""]
["",null,"","","","","","","","","",""]
["",null,"","","","","","","","","",""]
["",null,"","","","","","","","","",""]
["",null,"","","","","","","","","",""]
["",null,"","","","","","","","","",""]
["",null,"","","","","","","","","",""]
["",null,{"$f":"IF(C$1=\"\",\"\",IF(ISERROR(FIND(C$1,$B4655))=TRUE,\"\",FIND(C$1,$B4655)))","v":""},"","","","","","","","",""]
["",null,"","","","","","","","","",""]
["",null,"","","","","","","","","",""]
["",null,"","","","","","","","","",""]
["",null,"","","","","","","","","",""]
["",null,"","","","","","","","","",""]
["",null,"","","","","","","","","",""]
["",null,"","","","","","","","","",""]
["",null,"","","","","","","","","",""]
["",null,"","","","","","","","","",""]
["",null,"","","","","","","","","",""]
["",null,"","","","","","","","","",""]
["",null,"","","","","","","","","",""]
["",null,"","","","","","","","","",""]
["",null,"","","","","","","","","",""]
["",null,"","","","","","","","","",""]
["",null,"","","","","","","","","",""]
["",null,"","","","","","","","","",""]
["",null,"","","","","","","","","",""]
["",null,"","","","","","","","","",""]
["",null,"","","","","","","","","",""]
["",null,"","","","","","","","","",""]
["",null,"","","","","","","","","",""]
["",null,"","","","","","","","","",""]
[{"$f":"IF(ROW()>$B$1,\"\",IF(SUM(C4679:L4679)=0,A4678,A4678+1))","v":""},null,"","","","","","","","","",""]
["",null,"","","","","",{"$f":"IF(H$1=\"\",\"\",IF(ISERROR(FIND(H$1,$B4680))=TRUE,\"\",FIND(H$1,$B4680)))","v":""},"","","",""]
["",null,{"$f":"IF(C$1=\"\",\"\",IF(ISERROR(FIND(C$1,$B4681))=TRUE,\"\",FIND(C$1,$B4681)))","v":""},"","","","","","","","",""]
["",null,"","","","","","","","","",""]
["",null,"","","","","","","","","",""]
["",null,"","","","","","","","","",""]
["",null,"","","","","","","","","",""]
["",null,"","","","","","","","","",""]
["",null,"","","","","","","","","",""]
["",null,"","","","","","","","","",""]
["",null,"","","","","","","","","",""]
["",null,"","","","","","","","","",""]
["",null,"","","","","","","","","",""]
["",null,"","","","","","","","","",""]
["",null,"","","","","","","","","",""]
["",null,"","","","","","","","","",""]
["",null,"","","","","","","","","",""]
["",null,"","","","","","","","","",""]
["",null,"","","","","","","","","",""]
["",null,"","","","","","","","","",""]
["",null,"","","","","","","","","",""]
["",null,"","","","","","","","","",""]
["",null,"","","","","","","","","",""]
["",null,"","","","","","","","","",""]
["",null,"","","","","","","","","",""]
["",null,"","","","","","","","","",""]
["",null,"","","","","","","","","",""]
["",null,"","","","","",{"$f":"IF(H$1=\"\",\"\",IF(ISERROR(FIND(H$1,$B4706))=TRUE,\"\",FIND(H$1,$B4706)))","v":""},"","","",""]
["",null,{"$f":"IF(C$1=\"\",\"\",IF(ISERROR(FIND(C$1,$B4707))=TRUE,\"\",FIND(C$1,$B4707)))","v":""},"","","","","","","","",""]
["",null,"","","","","","","","","",""]
["",null,"","","","","","","","","",""]
["",null,"","","","","","","","","",""]
["",null,"","","","","","","","","",""]
["",null,"","","","","","","","","",""]
["",null,"","","","","","","","","",""]
["",null,"","","","","","","","","",""]
["",null,"","","","","","","","","",""]
["",null,"","","","","","","","","",""]
["",null,"","","","","","","","","",""]
["",null,"","","","","","","","","",""]
["",null,"","","","","","","","","",""]
["",null,"","","","","","","","","",""]
["",null,"","","","","","","","","",""]
["",null,"","","","","","","","","",""]
["",null,"","","","","","","","","",""]
["",null,"","","","","","","","","",""]
["",null,"","","","","","","","","",""]
["",null,"","","","","","","","","",""]
["",null,"","","","","","","","","",""]
["",null,"","","","","","","","","",""]
["",null,"","","","","","","","","",""]
["",null,"","","","","","","","","",""]
["",null,"","","","","","","","","",""]
["",null,"","","","","",{"$f":"IF(H$1=\"\",\"\",IF(ISERROR(FIND(H$1,$B4732))=TRUE,\"\",FIND(H$1,$B4732)))","v":""},"","","",""]
["",null,{"$f":"IF(C$1=\"\",\"\",IF(ISERROR(FIND(C$1,$B4733))=TRUE,\"\",FIND(C$1,$B4733)))","v":""},"","","","","","","","",""]
["",null,"","","","","","","","","",""]
["",null,"","","","","","","","","",""]
["",null,"","","","","","","","","",""]
["",null,"","","","","","","","","",""]
["",null,"","","","","","","","","",""]
["",null,"","","","","","","","","",""]
["",null,"","","","","","","","","",""]
["",null,"","","","","","","","","",""]
["",null,"","","","","","","","","",""]
[{"$f":"IF(ROW()>$B$1,\"\",IF(SUM(C4743:L4743)=0,A4742,A4742+1))","v":""},null,"","","","","","","","","",""]
["",null,"","","","","","","","","",""]
["",null,"","","","","","","","","",""]
["",null,"","","","","","","","","",""]
["",null,"","","","","","","","","",""]
["",null,"","","","","","","","","",""]
["",null,"","","","","","","","","",""]
["",null,"","","","","","","","","",""]
["",null,"","","","","","","","","",""]
["",null,"","","","","","","","","",""]
["",null,"","","","","","","","","",""]
["",null,"","","","","","","","","",""]
["",null,"","","","","","","","","",""]
["",null,"","","","","","","","","",""]
["",null,"","","","","","","","","",""]
["",null,"","","","","",{"$f":"IF(H$1=\"\",\"\",IF(ISERROR(FIND(H$1,$B4758))=TRUE,\"\",FIND(H$1,$B4758)))","v":""},"","","",""]
["",null,{"$f":"IF(C$1=\"\",\"\",IF(ISERROR(FIND(C$1,$B4759))=TRUE,\"\",FIND(C$1,$B4759)))","v":""},"","","","","","","","",""]
["",null,"","","","","","","","","",""]
["",null,"","","","","","","","","",""]
["",null,"","","","","","","","","",""]
["",null,"","","","","","","","","",""]
["",null,"","","","","","","","","",""]
["",null,"","","","","","","","","",""]
["",null,"","","","","","","","","",""]
["",null,"","","","","","","","","",""]
["",null,"","","","","","","","","",""]
["",null,"","","","","","","","","",""]
["",null,"","","","","","","","","",""]
["",null,"","","","","","","","","",""]
["",null,"","","","","","","","","",""]
["",null,"","","","","","","","","",""]
["",null,"","","","","","","","","",""]
["",null,"","","","","","","","","",""]
["",null,"","","","","","","","","",""]
["",null,"","","","","","","","","",""]
["",null,"","","","","","","","","",""]
["",null,"","","","","","","","","",""]
["",null,"","","","","","","","","",""]
["",null,"","","","","","","","","",""]
["",null,"","","","","","","","","",""]
["",null,"","","","","","","","","",""]
["",null,"","","","","",{"$f":"IF(H$1=\"\",\"\",IF(ISERROR(FIND(H$1,$B4784))=TRUE,\"\",FIND(H$1,$B4784)))","v":""},"","","",""]
["",null,{"$f":"IF(C$1=\"\",\"\",IF(ISERROR(FIND(C$1,$B4785))=TRUE,\"\",FIND(C$1,$B4785)))","v":""},"","","","","","","","",""]
["",null,"","","","","","","","","",""]
["",null,"","","","","","","","","",""]
["",null,"","","","","","","","","",""]
["",null,"","","","","","","","","",""]
["",null,"","","","","","","","","",""]
["",null,"","","","","","","","","",""]
["",null,"","","","","","","","","",""]
["",null,"","","","","","","","","",""]
["",null,"","","","","","","","","",""]
["",null,"","","","","","","","","",""]
["",null,"","","","","","","","","",""]
["",null,"","","","","","","","","",""]
["",null,"","","","","","","","","",""]
["",null,"","","","","","","","","",""]
["",null,"","","","","","","","","",""]
["",null,"","","","","","","","","",""]
["",null,"","","","","","","","","",""]
["",null,"","","","","","","","","",""]
["",null,"","","","","","","","","",""]
["",null,"","","","","","","","","",""]
["",null,"","","","","","","","","",""]
[{"$f":"IF(ROW()>$B$1,\"\",IF(SUM(C4807:L4807)=0,A4806,A4806+1))","v":""},null,"","","","","","","","","",""]
["",null,"","","","","","","","","",""]
["",null,"","","","","","","","","",""]
["",null,"","","","","",{"$f":"IF(H$1=\"\",\"\",IF(ISERROR(FIND(H$1,$B4810))=TRUE,\"\",FIND(H$1,$B4810)))","v":""},"","","",""]
["",null,"","","","","","","","","",""]
["",null,"","","","","","","","","",""]
["",null,"","","","","","","","","",""]
["",null,"","","","","","","","","",""]
["",null,"","","","","","","","","",""]
["",null,"","","","","","","","","",""]
["",null,"","","","","","","","","",""]
["",null,"","","","","","","","","",""]
["",null,"","","","","","","","","",""]
["",null,"","","","","","","","","",""]
["",null,"","","","","","","","","",""]
["",null,"","","","","","","","","",""]
["",null,"","","","","","","","","",""]
["",null,"","","","","","","","","",""]
["",null,"","","","","","","","","",""]
["",null,{"$f":"IF(C$1=\"\",\"\",IF(ISERROR(FIND(C$1,$B4826))=TRUE,\"\",FIND(C$1,$B4826)))","v":""},"","","","","","","","",""]
["",null,"","","","","","","","","",""]
["",null,"","","","","","","","","",""]
["",null,"","","","","","","","","",""]
["",null,"","","","","","","","","",""]
["",null,"","","","","","","","","",""]
["",null,"","","","","","","","","",""]
["",null,"","","","","","","","","",""]
["",null,"","","","","","","","","",""]
["",null,"","","","","","","","","",""]
["",null,"","","","","","","","","",""]
["",null,"","","","","","","","","",""]
["",null,"","","","","","","","","",""]
["",null,"","","","","","","","","",""]
["",null,"","","","","","","","","",""]
["",null,"","","","","","","","","",""]
["",null,"","","","","","","","","",""]
["",null,"","","","","","","","","",""]
["",null,"","","","","","","","","",""]
["",null,"","","","","","","","","",""]
["",null,"","","","","","","","","",""]
["",null,"","","","","","","","","",""]
["",null,"","","","","","","","","",""]
["",null,"","","","","","","","","",""]
["",null,"","","","","","","","","",""]
["",null,"","","","","",{"$f":"IF(H$1=\"\",\"\",IF(ISERROR(FIND(H$1,$B4851))=TRUE,\"\",FIND(H$1,$B4851)))","v":""},"","","",""]
["",null,{"$f":"IF(C$1=\"\",\"\",IF(ISERROR(FIND(C$1,$B4852))=TRUE,\"\",FIND(C$1,$B4852)))","v":""},"","","","","","","","",""]
["",null,"","","","","","","","","",""]
["",null,"","","","","","","","","",""]
["",null,"","","","","","","","","",""]
["",null,"","","","","","","","","",""]
["",null,"","","","","","","","","",""]
["",null,"","","","","","","","","",""]
["",null,"","","","","","","","","",""]
["",null,"","","","","","","","","",""]
["",null,"","","","","","","","","",""]
["",null,"","","","","","","","","",""]
["",null,"","","","","","","","","",""]
["",null,"","","","","","","","","",""]
["",null,"","","","","","","","","",""]
["",null,"","","","","","","","","",""]
["",null,"","","","","","","","","",""]
["",null,"","","","","","","","","",""]
["",null,"","","","","","","","","",""]
["",null,"","","","","","","","","",""]
[{"$f":"IF(ROW()>$B$1,\"\",IF(SUM(C4871:L4871)=0,A4870,A4870+1))","v":""},null,"","","","","","","","","",""]
["",null,"","","","","","","","","",""]
["",null,"","","","","","","","","",""]
["",null,"","","","","","","","","",""]
["",null,"","","","","","","","","",""]
["",null,"","","","","","","","","",""]
["",null,"","","","","",{"$f":"IF(H$1=\"\",\"\",IF(ISERROR(FIND(H$1,$B4877))=TRUE,\"\",FIND(H$1,$B4877)))","v":""},"","","",""]
["",null,{"$f":"IF(C$1=\"\",\"\",IF(ISERROR(FIND(C$1,$B4878))=TRUE,\"\",FIND(C$1,$B4878)))","v":""},"","","","","","","","",""]
["",null,"","","","","","","","","",""]
["",null,"","","","","","","","","",""]
["",null,"","","","","","","","","",""]
["",null,"","","","","","","","","",""]
["",null,"","","","","","","","","",""]
["",null,"","","","","","","","","",""]
["",null,"","","","","","","","","",""]
["",null,"","","","","","","","","",""]
["",null,"","","","","","","","","",""]
["",null,"","","","","","","","","",""]
["",null,"","","","","","","","","",""]
["",null,"","","","","","","","","",""]
["",null,"","","","","","","","","",""]
["",null,"","","","","","","","","",""]
["",null,"","","","","","","","","",""]
["",null,"","","","","","","","","",""]
["",null,"","","","","","","","","",""]
["",null,"","","","","","","","","",""]
["",null,"","","","","","","","","",""]
["",null,"","","","","","","","","",""]
["",null,"","","","","","","","","",""]
["",null,"","","","","","","","","",""]
["",null,"","","","","","","","","",""]
["",null,"","","","","","","","","",""]
["",null,"","","","","","","",{"$f":"IF(J$1=\"\",\"\",IF(ISERROR(FIND(J$1,$B4903))=TRUE,\"\",FIND(J$1,$B4903)))","v":""},"",""]
["",null,{"$f":"IF(C$1=\"\",\"\",IF(ISERROR(FIND(C$1,$B4904))=TRUE,\"\",FIND(C$1,$B4904)))","v":""},"","","","","","","","",""]
["",null,"","","","","","","","","",""]
["",null,"","","","","","","","","",""]
["",null,"","","","","","","","","",""]
["",null,"","","","","","","","","",""]
["",null,"","","","","","","","","",""]
["",null,"","","","","","","","","",""]
["",null,"","","","","","","","","",""]
["",null,"","","","","","","","","",""]
["",null,"","","","","","","","","",""]
["",null,"","","","","","","","","",""]
["",null,"","","","","","","","","",""]
["",null,"","","","","","","","","",""]
["",null,"","","","","","","","","",""]
["",null,"","","","","","","","","",""]
["",null,"","","","","","","","","",""]
["",null,"","","","","","","","","",""]
["",null,"","","","","","","","","",""]
["",null,"","","","","","","","","",""]
["",null,"","","","","","","","","",""]
["",null,"","","","","","","","","",""]
["",null,"","","","","","","","","",""]
["",null,"","","","","","","","","",""]
["",null,"","","","","","","","","",""]
["",null,"","","","","","","","","",""]
["",null,"","","","","",{"$f":"IF(H$1=\"\",\"\",IF(ISERROR(FIND(H$1,$B4929))=TRUE,\"\",FIND(H$1,$B4929)))","v":""},"","","",""]
["",null,{"$f":"IF(C$1=\"\",\"\",IF(ISERROR(FIND(C$1,$B4930))=TRUE,\"\",FIND(C$1,$B4930)))","v":""},"","","","","","","","",""]
["",null,"","","","","","","","","",""]
["",null,"","","","","","","","","",""]
["",null,"","","","","","","","","",""]
["",null,"","","","","","","","","",""]
[{"$f":"IF(ROW()>$B$1,\"\",IF(SUM(C4935:L4935)=0,A4934,A4934+1))","v":""},null,"","","","","","","","","",""]
["",null,"","","","","","","","","",""]
["",null,"","","","","","","","","",""]
["",null,"","","","","","","","","",""]
["",null,"","","","","","","","","",""]
["",null,"","","","","","","","","",""]
["",null,"","","","","","","","","",""]
["",null,"","","","","","","","","",""]
["",null,"","","","","","","","","",""]
[{"$f":"IF(ROW()>$B$1,\"\",IF(SUM(C4944:L4944)=0,A4943,A4943+1))","v":""},null,{"$f":"IF(C$1=\"\",\"\",IF(ISERROR(FIND(C$1,$B4944))=TRUE,\"\",FIND(C$1,$B4944)))","v":""},"","","","","","","","",""]
["",null,{"$f":"IF(C$1=\"\",\"\",IF(ISERROR(FIND(C$1,$B4945))=TRUE,\"\",FIND(C$1,$B4945)))","v":""},"","","","","","","","",""]
["",null,"","","","","","","","","",""]
["",null,"","","","","","","","","",""]
["",null,"","","","","","","","","",""]
["",null,"","","","","","","","","",""]
["",null,"","","","","","","","","",""]
["",null,"","","","","","","","","",""]
["",null,"","","","","","","","","",""]
["",null,"","","","","","","","","",""]
["",null,"","","","","","","","","",""]
["",null,"","","","","","","","","",""]
["",null,"","","","","","","","","",""]
["",null,"","","","","","","","","",""]
["",null,"","","","","","","","","",""]
["",null,"","","","","","","","","",""]
["",null,"","","","","","","","","",""]
["",null,"","","","","","","","","",""]
["",null,"","","","","","","","","",""]
["",null,"","","","","","","","","",""]
["",null,"","","","","","","","","",""]
["",null,"","","","","","","","","",""]
["",null,"","","","","","","","","",""]
["",null,"","","","","","","","","",""]
["",null,"","","","","","","","","",""]
["",null,"","","","","","","","","",""]
["",null,"","","","","","","","","",""]
["",null,"","","","","","","","","",""]
["",null,"","","","","","","","","",""]
["",null,"","","","","","","","","",""]
["",null,"","","","","","","","","",""]
["",null,"","","","","","","","","",{"$f":"IF(L$1=\"\",\"\",IF(ISERROR(FIND(L$1,$B4975))=TRUE,\"\",FIND(L$1,$B4975)))","v":""}]
["",null,{"$f":"IF(C$1=\"\",\"\",IF(ISERROR(FIND(C$1,$B4976))=TRUE,\"\",FIND(C$1,$B4976)))","v":""},"","","","","","","","",""]
["",null,"","","","","","","","","",""]
["",null,"","","","","","","","","",""]
["",null,"","","","","","","","","",""]
["",null,"","","","","","","","","",""]
["",null,"","","","","","","","","",""]
["",null,"","","","","","","","","",""]
["",null,"","","","","","","","","",""]
["",null,"","","","","","","","","",""]
["",null,"","","","","","","","","",""]
["",null,"","","","","","","","","",""]
["",null,"","","","","","","","","",""]
["",null,"","","","","","","","","",""]
["",null,"","","","","","","","","",""]
["",null,"","","","","","","","","",""]
["",null,"","","","","","","","","",""]
["",null,"","","","","","","","","",""]
["",null,"","","","","","","","","",""]
["",null,"","","","","","","","","",""]
["",null,"","","","","","","","","",""]
["",null,"","","","","","","","","",""]
["",null,"","","","","","","","","",""]
["",null,"","","","","","","","","",""]
["",null,"","","","","","","","","",""]
["",null,"","","","","","","","","",""]
[{"$f":"IF(ROW()>$B$1,\"\",IF(SUM(C5001:L5001)=0,A5000,A5000+1))","v":""},null,"","","","","",{"$f":"IF(H$1=\"\",\"\",IF(ISERROR(FIND(H$1,$B5001))=TRUE,\"\",FIND(H$1,$B5001)))","v":""},"","","",""]
["",null,"","","","","","","","","",""]
["",null,"","","","","","","","","",""]
["",null,"","","","","","","","","",""]
["",null,"","","","","","","","","",""]
["",null,"","","","","","","","","",""]
["",null,"","","","","","","","","",""]

{"sheet":"単体検索","index":4,"n_rows":1000,"n_cols":13,"rows_kept":1000,"cut":false,"hidden":true,"merged":[]}
[1,{"$f":"IF(C1=\"\",\"\",MATCH(A1,check!A:A,0))","v":""},{"$f":"IF(ISERROR(VLOOKUP($A1,check!$A:$L,2,FALSE))=TRUE,\"\",VLOOKUP($A1,check!$A:$L,2,FALSE))","v":""},{"$f":"IF(ISERROR(VLOOKUP($A1,check!$A:$L,3,FALSE))=TRUE,\"\",VLOOKUP($A1,check!$A:$L,3,FALSE))","v":""},{"$f":"IF(ISERROR(VLOOKUP($A1,check!$A:$L,4,FALSE))=TRUE,\"\",VLOOKUP($A1,check!$A:$L,4,FALSE))","v":""},{"$f":"IF(ISERROR(VLOOKUP($A1,check!$A:$L,5,FALSE))=TRUE,\"\",VLOOKUP($A1,check!$A:$L,5,FALSE))","v":""},{"$f":"IF(ISERROR(VLOOKUP($A1,check!$A:$L,6,FALSE))=TRUE,\"\",VLOOKUP($A1,check!$A:$L,6,FALSE))","v":""},{"$f":"IF(ISERROR(VLOOKUP($A1,check!$A:$L,7,FALSE))=TRUE,\"\",VLOOKUP($A1,check!$A:$L,7,FALSE))","v":""},{"$f":"IF(ISERROR(VLOOKUP($A1,check!$A:$L,8,FALSE))=TRUE,\"\",VLOOKUP($A1,check!$A:$L,8,FALSE))","v":""},{"$f":"IF(ISERROR(VLOOKUP($A1,check!$A:$L,9,FALSE))=TRUE,\"\",VLOOKUP($A1,check!$A:$L,9,FALSE))","v":""},{"$f":"IF(ISERROR(VLOOKUP($A1,check!$A:$L,10,FALSE))=TRUE,\"\",VLOOKUP($A1,check!$A:$L,10,FALSE))","v":""},{"$f":"IF(ISERROR(VLOOKUP($A1,check!$A:$L,11,FALSE))=TRUE,\"\",VLOOKUP($A1,check!$A:$L,11,FALSE))","v":""},{"$f":"IF(ISERROR(VLOOKUP($A1,check!$A:$L,12,FALSE))=TRUE,\"\",VLOOKUP($A1,check!$A:$L,12,FALSE))","v":""}]
[{"$f":"A1+1","v":2},{"$f":"IF(C2=\"\",\"\",MATCH(A2,check!A:A,0))","v":""},{"$f":"IF(ISERROR(VLOOKUP($A2,check!$A:$L,2,FALSE))=TRUE,\"\",VLOOKUP($A2,check!$A:$L,2,FALSE))","v":""},{"$f":"IF(ISERROR(VLOOKUP($A2,check!$A:$L,3,FALSE))=TRUE,\"\",VLOOKUP($A2,check!$A:$L,3,FALSE))","v":""},{"$f":"IF(ISERROR(VLOOKUP($A2,check!$A:$L,4,FALSE))=TRUE,\"\",VLOOKUP($A2,check!$A:$L,4,FALSE))","v":""},{"$f":"IF(ISERROR(VLOOKUP($A2,check!$A:$L,5,FALSE))=TRUE,\"\",VLOOKUP($A2,check!$A:$L,5,FALSE))","v":""},{"$f":"IF(ISERROR(VLOOKUP($A2,check!$A:$L,6,FALSE))=TRUE,\"\",VLOOKUP($A2,check!$A:$L,6,FALSE))","v":""},{"$f":"IF(ISERROR(VLOOKUP($A2,check!$A:$L,7,FALSE))=TRUE,\"\",VLOOKUP($A2,check!$A:$L,7,FALSE))","v":""},{"$f":"IF(ISERROR(VLOOKUP($A2,check!$A:$L,8,FALSE))=TRUE,\"\",VLOOKUP($A2,check!$A:$L,8,FALSE))","v":""},{"$f":"IF(ISERROR(VLOOKUP($A2,check!$A:$L,9,FALSE))=TRUE,\"\",VLOOKUP($A2,check!$A:$L,9,FALSE))","v":""},{"$f":"IF(ISERROR(VLOOKUP($A2,check!$A:$L,10,FALSE))=TRUE,\"\",VLOOKUP($A2,check!$A:$L,10,FALSE))","v":""},{"$f":"IF(ISERROR(VLOOKUP($A2,check!$A:$L,11,FALSE))=TRUE,\"\",VLOOKUP($A2,check!$A:$L,11,FALSE))","v":""},{"$f":"IF(ISERROR(VLOOKUP($A2,check!$A:$L,12,FALSE))=TRUE,\"\",VLOOKUP($A2,check!$A:$L,12,FALSE))","v":""}]
[{"$f":"A2+1","v":3},{"$f":"IF(C3=\"\",\"\",MATCH(A3,check!A:A,0))","v":""},{"$f":"IF(ISERROR(VLOOKUP($A3,check!$A:$L,2,FALSE))=TRUE,\"\",VLOOKUP($A3,check!$A:$L,2,FALSE))","v":""},{"$f":"IF(ISERROR(VLOOKUP($A3,check!$A:$L,3,FALSE))=TRUE,\"\",VLOOKUP($A3,check!$A:$L,3,FALSE))","v":""},{"$f":"IF(ISERROR(VLOOKUP($A3,check!$A:$L,4,FALSE))=TRUE,\"\",VLOOKUP($A3,check!$A:$L,4,FALSE))","v":""},{"$f":"IF(ISERROR(VLOOKUP($A3,check!$A:$L,5,FALSE))=TRUE,\"\",VLOOKUP($A3,check!$A:$L,5,FALSE))","v":""},{"$f":"IF(ISERROR(VLOOKUP($A3,check!$A:$L,6,FALSE))=TRUE,\"\",VLOOKUP($A3,check!$A:$L,6,FALSE))","v":""},{"$f":"IF(ISERROR(VLOOKUP($A3,check!$A:$L,7,FALSE))=TRUE,\"\",VLOOKUP($A3,check!$A:$L,7,FALSE))","v":""},{"$f":"IF(ISERROR(VLOOKUP($A3,check!$A:$L,8,FALSE))=TRUE,\"\",VLOOKUP($A3,check!$A:$L,8,FALSE))","v":""},{"$f":"IF(ISERROR(VLOOKUP($A3,check!$A:$L,9,FALSE))=TRUE,\"\",VLOOKUP($A3,check!$A:$L,9,FALSE))","v":""},{"$f":"IF(ISERROR(VLOOKUP($A3,check!$A:$L,10,FALSE))=TRUE,\"\",VLOOKUP($A3,check!$A:$L,10,FALSE))","v":""},{"$f":"IF(ISERROR(VLOOKUP($A3,check!$A:$L,11,FALSE))=TRUE,\"\",VLOOKUP($A3,check!$A:$L,11,FALSE))","v":""},{"$f":"IF(ISERROR(VLOOKUP($A3,check!$A:$L,12,FALSE))=TRUE,\"\",VLOOKUP($A3,check!$A:$L,12,FALSE))","v":""}]
[{"$f":"A3+1","v":4},{"$f":"IF(C4=\"\",\"\",MATCH(A4,check!A:A,0))","v":""},{"$f":"IF(ISERROR(VLOOKUP($A4,check!$A:$L,2,FALSE))=TRUE,\"\",VLOOKUP($A4,check!$A:$L,2,FALSE))","v":""},{"$f":"IF(ISERROR(VLOOKUP($A4,check!$A:$L,3,FALSE))=TRUE,\"\",VLOOKUP($A4,check!$A:$L,3,FALSE))","v":""},{"$f":"IF(ISERROR(VLOOKUP($A4,check!$A:$L,4,FALSE))=TRUE,\"\",VLOOKUP($A4,check!$A:$L,4,FALSE))","v":""},{"$f":"IF(ISERROR(VLOOKUP($A4,check!$A:$L,5,FALSE))=TRUE,\"\",VLOOKUP($A4,check!$A:$L,5,FALSE))","v":""},{"$f":"IF(ISERROR(VLOOKUP($A4,check!$A:$L,6,FALSE))=TRUE,\"\",VLOOKUP($A4,check!$A:$L,6,FALSE))","v":""},{"$f":"IF(ISERROR(VLOOKUP($A4,check!$A:$L,7,FALSE))=TRUE,\"\",VLOOKUP($A4,check!$A:$L,7,FALSE))","v":""},{"$f":"IF(ISERROR(VLOOKUP($A4,check!$A:$L,8,FALSE))=TRUE,\"\",VLOOKUP($A4,check!$A:$L,8,FALSE))","v":""},{"$f":"IF(ISERROR(VLOOKUP($A4,check!$A:$L,9,FALSE))=TRUE,\"\",VLOOKUP($A4,check!$A:$L,9,FALSE))","v":""},{"$f":"IF(ISERROR(VLOOKUP($A4,check!$A:$L,10,FALSE))=TRUE,\"\",VLOOKUP($A4,check!$A:$L,10,FALSE))","v":""},{"$f":"IF(ISERROR(VLOOKUP($A4,check!$A:$L,11,FALSE))=TRUE,\"\",VLOOKUP($A4,check!$A:$L,11,FALSE))","v":""},{"$f":"IF(ISERROR(VLOOKUP($A4,check!$A:$L,12,FALSE))=TRUE,\"\",VLOOKUP($A4,check!$A:$L,12,FALSE))","v":""}]
[5,{"$f":"IF(C5=\"\",\"\",MATCH(A5,check!A:A,0))","v":""},{"$f":"IF(ISERROR(VLOOKUP($A5,check!$A:$L,2,FALSE))=TRUE,\"\",VLOOKUP($A5,check!$A:$L,2,FALSE))","v":""},{"$f":"IF(ISERROR(VLOOKUP($A5,check!$A:$L,3,FALSE))=TRUE,\"\",VLOOKUP($A5,check!$A:$L,3,FALSE))","v":""},{"$f":"IF(ISERROR(VLOOKUP($A5,check!$A:$L,4,FALSE))=TRUE,\"\",VLOOKUP($A5,check!$A:$L,4,FALSE))","v":""},{"$f":"IF(ISERROR(VLOOKUP($A5,check!$A:$L,5,FALSE))=TRUE,\"\",VLOOKUP($A5,check!$A:$L,5,FALSE))","v":""},{"$f":"IF(ISERROR(VLOOKUP($A5,check!$A:$L,6,FALSE))=TRUE,\"\",VLOOKUP($A5,check!$A:$L,6,FALSE))","v":""},{"$f":"IF(ISERROR(VLOOKUP($A5,check!$A:$L,7,FALSE))=TRUE,\"\",VLOOKUP($A5,check!$A:$L,7,FALSE))","v":""},{"$f":"IF(ISERROR(VLOOKUP($A5,check!$A:$L,8,FALSE))=TRUE,\"\",VLOOKUP($A5,check!$A:$L,8,FALSE))","v":""},{"$f":"IF(ISERROR(VLOOKUP($A5,check!$A:$L,9,FALSE))=TRUE,\"\",VLOOKUP($A5,check!$A:$L,9,FALSE))","v":""},{"$f":"IF(ISERROR(VLOOKUP($A5,check!$A:$L,10,FALSE))=TRUE,\"\",VLOOKUP($A5,check!$A:$L,10,FALSE))","v":""},{"$f":"IF(ISERROR(VLOOKUP($A5,check!$A:$L,11,FALSE))=TRUE,\"\",VLOOKUP($A5,check!$A:$L,11,FALSE))","v":""},{"$f":"IF(ISERROR(VLOOKUP($A5,check!$A:$L,12,FALSE))=TRUE,\"\",VLOOKUP($A5,check!$A:$L,12,FALSE))","v":""}]
[6,{"$f":"IF(C6=\"\",\"\",MATCH(A6,check!A:A,0))","v":""},{"$f":"IF(ISERROR(VLOOKUP($A6,check!$A:$L,2,FALSE))=TRUE,\"\",VLOOKUP($A6,check!$A:$L,2,FALSE))","v":""},{"$f":"IF(ISERROR(VLOOKUP($A6,check!$A:$L,3,FALSE))=TRUE,\"\",VLOOKUP($A6,check!$A:$L,3,FALSE))","v":""},{"$f":"IF(ISERROR(VLOOKUP($A6,check!$A:$L,4,FALSE))=TRUE,\"\",VLOOKUP($A6,check!$A:$L,4,FALSE))","v":""},{"$f":"IF(ISERROR(VLOOKUP($A6,check!$A:$L,5,FALSE))=TRUE,\"\",VLOOKUP($A6,check!$A:$L,5,FALSE))","v":""},{"$f":"IF(ISERROR(VLOOKUP($A6,check!$A:$L,6,FALSE))=TRUE,\"\",VLOOKUP($A6,check!$A:$L,6,FALSE))","v":""},{"$f":"IF(ISERROR(VLOOKUP($A6,check!$A:$L,7,FALSE))=TRUE,\"\",VLOOKUP($A6,check!$A:$L,7,FALSE))","v":""},{"$f":"IF(ISERROR(VLOOKUP($A6,check!$A:$L,8,FALSE))=TRUE,\"\",VLOOKUP($A6,check!$A:$L,8,FALSE))","v":""},{"$f":"IF(ISERROR(VLOOKUP($A6,check!$A:$L,9,FALSE))=TRUE,\"\",VLOOKUP($A6,check!$A:$L,9,FALSE))","v":""},{"$f":"IF(ISERROR(VLOOKUP($A6,check!$A:$L,10,FALSE))=TRUE,\"\",VLOOKUP($A6,check!$A:$L,10,FALSE))","v":""},{"$f":"IF(ISERROR(VLOOKUP($A6,check!$A:$L,11,FALSE))=TRUE,\"\",VLOOKUP($A6,check!$A:$L,11,FALSE))","v":""},{"$f":"IF(ISERROR(VLOOKUP($A6,check!$A:$L,12,FALSE))=TRUE,\"\",VLOOKUP($A6,check!$A:$L,12,FALSE))","v":""}]
[7,{"$f":"IF(C7=\"\",\"\",MATCH(A7,check!A:A,0))","v":""},{"$f":"IF(ISERROR(VLOOKUP($A7,check!$A:$L,2,FALSE))=TRUE,\"\",VLOOKUP($A7,check!$A:$L,2,FALSE))","v":""},{"$f":"IF(ISERROR(VLOOKUP($A7,check!$A:$L,3,FALSE))=TRUE,\"\",VLOOKUP($A7,check!$A:$L,3,FALSE))","v":""},{"$f":"IF(ISERROR(VLOOKUP($A7,check!$A:$L,4,FALSE))=TRUE,\"\",VLOOKUP($A7,check!$A:$L,4,FALSE))","v":""},{"$f":"IF(ISERROR(VLOOKUP($A7,check!$A:$L,5,FALSE))=TRUE,\"\",VLOOKUP($A7,check!$A:$L,5,FALSE))","v":""},{"$f":"IF(ISERROR(VLOOKUP($A7,check!$A:$L,6,FALSE))=TRUE,\"\",VLOOKUP($A7,check!$A:$L,6,FALSE))","v":""},{"$f":"IF(ISERROR(VLOOKUP($A7,check!$A:$L,7,FALSE))=TRUE,\"\",VLOOKUP($A7,check!$A:$L,7,FALSE))","v":""},{"$f":"IF(ISERROR(VLOOKUP($A7,check!$A:$L,8,FALSE))=TRUE,\"\",VLOOKUP($A7,check!$A:$L,8,FALSE))","v":""},{"$f":"IF(ISERROR(VLOOKUP($A7,check!$A:$L,9,FALSE))=TRUE,\"\",VLOOKUP($A7,check!$A:$L,9,FALSE))","v":""},{"$f":"IF(ISERROR(VLOOKUP($A7,check!$A:$L,10,FALSE))=TRUE,\"\",VLOOKUP($A7,check!$A:$L,10,FALSE))","v":""},{"$f":"IF(ISERROR(VLOOKUP($A7,check!$A:$L,11,FALSE))=TRUE,\"\",VLOOKUP($A7,check!$A:$L,11,FALSE))","v":""},{"$f":"IF(ISERROR(VLOOKUP($A7,check!$A:$L,12,FALSE))=TRUE,\"\",VLOOKUP($A7,check!$A:$L,12,FALSE))","v":""}]
[8,{"$f":"IF(C8=\"\",\"\",MATCH(A8,check!A:A,0))","v":""},{"$f":"IF(ISERROR(VLOOKUP($A8,check!$A:$L,2,FALSE))=TRUE,\"\",VLOOKUP($A8,check!$A:$L,2,FALSE))","v":""},{"$f":"IF(ISERROR(VLOOKUP($A8,check!$A:$L,3,FALSE))=TRUE,\"\",VLOOKUP($A8,check!$A:$L,3,FALSE))","v":""},{"$f":"IF(ISERROR(VLOOKUP($A8,check!$A:$L,4,FALSE))=TRUE,\"\",VLOOKUP($A8,check!$A:$L,4,FALSE))","v":""},{"$f":"IF(ISERROR(VLOOKUP($A8,check!$A:$L,5,FALSE))=TRUE,\"\",VLOOKUP($A8,check!$A:$L,5,FALSE))","v":""},{"$f":"IF(ISERROR(VLOOKUP($A8,check!$A:$L,6,FALSE))=TRUE,\"\",VLOOKUP($A8,check!$A:$L,6,FALSE))","v":""},{"$f":"IF(ISERROR(VLOOKUP($A8,check!$A:$L,7,FALSE))=TRUE,\"\",VLOOKUP($A8,check!$A:$L,7,FALSE))","v":""},{"$f":"IF(ISERROR(VLOOKUP($A8,check!$A:$L,8,FALSE))=TRUE,\"\",VLOOKUP($A8,check!$A:$L,8,FALSE))","v":""},{"$f":"IF(ISERROR(VLOOKUP($A8,check!$A:$L,9,FALSE))=TRUE,\"\",VLOOKUP($A8,check!$A:$L,9,FALSE))","v":""},{"$f":"IF(ISERROR(VLOOKUP($A8,check!$A:$L,10,FALSE))=TRUE,\"\",VLOOKUP($A8,check!$A:$L,10,FALSE))","v":""},{"$f":"IF(ISERROR(VLOOKUP($A8,check!$A:$L,11,FALSE))=TRUE,\"\",VLOOKUP($A8,check!$A:$L,11,FALSE))","v":""},{"$f":"IF(ISERROR(VLOOKUP($A8,check!$A:$L,12,FALSE))=TRUE,\"\",VLOOKUP($A8,check!$A:$L,12,FALSE))","v":""}]
[9,{"$f":"IF(C9=\"\",\"\",MATCH(A9,check!A:A,0))","v":""},{"$f":"IF(ISERROR(VLOOKUP($A9,check!$A:$L,2,FALSE))=TRUE,\"\",VLOOKUP($A9,check!$A:$L,2,FALSE))","v":""},{"$f":"IF(ISERROR(VLOOKUP($A9,check!$A:$L,3,FALSE))=TRUE,\"\",VLOOKUP($A9,check!$A:$L,3,FALSE))","v":""},{"$f":"IF(ISERROR(VLOOKUP($A9,check!$A:$L,4,FALSE))=TRUE,\"\",VLOOKUP($A9,check!$A:$L,4,FALSE))","v":""},{"$f":"IF(ISERROR(VLOOKUP($A9,check!$A:$L,5,FALSE))=TRUE,\"\",VLOOKUP($A9,check!$A:$L,5,FALSE))","v":""},{"$f":"IF(ISERROR(VLOOKUP($A9,check!$A:$L,6,FALSE))=TRUE,\"\",VLOOKUP($A9,check!$A:$L,6,FALSE))","v":""},{"$f":"IF(ISERROR(VLOOKUP($A9,check!$A:$L,7,FALSE))=TRUE,\"\",VLOOKUP($A9,check!$A:$L,7,FALSE))","v":""},{"$f":"IF(ISERROR(VLOOKUP($A9,check!$A:$L,8,FALSE))=TRUE,\"\",VLOOKUP($A9,check!$A:$L,8,FALSE))","v":""},{"$f":"IF(ISERROR(VLOOKUP($A9,check!$A:$L,9,FALSE))=TRUE,\"\",VLOOKUP($A9,check!$A:$L,9,FALSE))","v":""},{"$f":"IF(ISERROR(VLOOKUP($A9,check!$A:$L,10,FALSE))=TRUE,\"\",VLOOKUP($A9,check!$A:$L,10,FALSE))","v":""},{"$f":"IF(ISERROR(VLOOKUP($A9,check!$A:$L,11,FALSE))=TRUE,\"\",VLOOKUP($A9,check!$A:$L,11,FALSE))","v":""},{"$f":"IF(ISERROR(VLOOKUP($A9,check!$A:$L,12,FALSE))=TRUE,\"\",VLOOKUP($A9,check!$A:$L,12,FALSE))","v":""}]
[10,{"$f":"IF(C10=\"\",\"\",MATCH(A10,check!A:A,0))","v":""},{"$f":"IF(ISERROR(VLOOKUP($A10,check!$A:$L,2,FALSE))=TRUE,\"\",VLOOKUP($A10,check!$A:$L,2,FALSE))","v":""},{"$f":"IF(ISERROR(VLOOKUP($A10,check!$A:$L,3,FALSE))=TRUE,\"\",VLOOKUP($A10,check!$A:$L,3,FALSE))","v":""},{"$f":"IF(ISERROR(VLOOKUP($A10,check!$A:$L,4,FALSE))=TRUE,\"\",VLOOKUP($A10,check!$A:$L,4,FALSE))","v":""},{"$f":"IF(ISERROR(VLOOKUP($A10,check!$A:$L,5,FALSE))=TRUE,\"\",VLOOKUP($A10,check!$A:$L,5,FALSE))","v":""},{"$f":"IF(ISERROR(VLOOKUP($A10,check!$A:$L,6,FALSE))=TRUE,\"\",VLOOKUP($A10,check!$A:$L,6,FALSE))","v":""},{"$f":"IF(ISERROR(VLOOKUP($A10,check!$A:$L,7,FALSE))=TRUE,\"\",VLOOKUP($A10,check!$A:$L,7,FALSE))","v":""},{"$f":"IF(ISERROR(VLOOKUP($A10,check!$A:$L,8,FALSE))=TRUE,\"\",VLOOKUP($A10,check!$A:$L,8,FALSE))","v":""},{"$f":"IF(ISERROR(VLOOKUP($A10,check!$A:$L,9,FALSE))=TRUE,\"\",VLOOKUP($A10,check!$A:$L,9,FALSE))","v":""},{"$f":"IF(ISERROR(VLOOKUP($A10,check!$A:$L,10,FALSE))=TRUE,\"\",VLOOKUP($A10,check!$A:$L,10,FALSE))","v":""},{"$f":"IF(ISERROR(VLOOKUP($A10,check!$A:$L,11,FALSE))=TRUE,\"\",VLOOKUP($A10,check!$A:$L,11,FALSE))","v":""},{"$f":"IF(ISERROR(VLOOKUP($A10,check!$A:$L,12,FALSE))=TRUE,\"\",VLOOKUP($A10,check!$A:$L,12,FALSE))","v":""}]
[11,{"$f":"IF(C11=\"\",\"\",MATCH(A11,check!A:A,0))","v":""},{"$f":"IF(ISERROR(VLOOKUP($A11,check!$A:$L,2,FALSE))=TRUE,\"\",VLOOKUP($A11,check!$A:$L,2,FALSE))","v":""},{"$f":"IF(ISERROR(VLOOKUP($A11,check!$A:$L,3,FALSE))=TRUE,\"\",VLOOKUP($A11,check!$A:$L,3,FALSE))","v":""},{"$f":"IF(ISERROR(VLOOKUP($A11,check!$A:$L,4,FALSE))=TRUE,\"\",VLOOKUP($A11,check!$A:$L,4,FALSE))","v":""},{"$f":"IF(ISERROR(VLOOKUP($A11,check!$A:$L,5,FALSE))=TRUE,\"\",VLOOKUP($A11,check!$A:$L,5,FALSE))","v":""},{"$f":"IF(ISERROR(VLOOKUP($A11,check!$A:$L,6,FALSE))=TRUE,\"\",VLOOKUP($A11,check!$A:$L,6,FALSE))","v":""},{"$f":"IF(ISERROR(VLOOKUP($A11,check!$A:$L,7,FALSE))=TRUE,\"\",VLOOKUP($A11,check!$A:$L,7,FALSE))","v":""},{"$f":"IF(ISERROR(VLOOKUP($A11,check!$A:$L,8,FALSE))=TRUE,\"\",VLOOKUP($A11,check!$A:$L,8,FALSE))","v":""},{"$f":"IF(ISERROR(VLOOKUP($A11,check!$A:$L,9,FALSE))=TRUE,\"\",VLOOKUP($A11,check!$A:$L,9,FALSE))","v":""},{"$f":"IF(ISERROR(VLOOKUP($A11,check!$A:$L,10,FALSE))=TRUE,\"\",VLOOKUP($A11,check!$A:$L,10,FALSE))","v":""},{"$f":"IF(ISERROR(VLOOKUP($A11,check!$A:$L,11,FALSE))=TRUE,\"\",VLOOKUP($A11,check!$A:$L,11,FALSE))","v":""},{"$f":"IF(ISERROR(VLOOKUP($A11,check!$A:$L,12,FALSE))=TRUE,\"\",VLOOKUP($A11,check!$A:$L,12,FALSE))","v":""}]
[12,{"$f":"IF(C12=\"\",\"\",MATCH(A12,check!A:A,0))","v":""},{"$f":"IF(ISERROR(VLOOKUP($A12,check!$A:$L,2,FALSE))=TRUE,\"\",VLOOKUP($A12,check!$A:$L,2,FALSE))","v":""},{"$f":"IF(ISERROR(VLOOKUP($A12,check!$A:$L,3,FALSE))=TRUE,\"\",VLOOKUP($A12,check!$A:$L,3,FALSE))","v":""},{"$f":"IF(ISERROR(VLOOKUP($A12,check!$A:$L,4,FALSE))=TRUE,\"\",VLOOKUP($A12,check!$A:$L,4,FALSE))","v":""},{"$f":"IF(ISERROR(VLOOKUP($A12,check!$A:$L,5,FALSE))=TRUE,\"\",VLOOKUP($A12,check!$A:$L,5,FALSE))","v":""},{"$f":"IF(ISERROR(VLOOKUP($A12,check!$A:$L,6,FALSE))=TRUE,\"\",VLOOKUP($A12,check!$A:$L,6,FALSE))","v":""},{"$f":"IF(ISERROR(VLOOKUP($A12,check!$A:$L,7,FALSE))=TRUE,\"\",VLOOKUP($A12,check!$A:$L,7,FALSE))","v":""},{"$f":"IF(ISERROR(VLOOKUP($A12,check!$A:$L,8,FALSE))=TRUE,\"\",VLOOKUP($A12,check!$A:$L,8,FALSE))","v":""},{"$f":"IF(ISERROR(VLOOKUP($A12,check!$A:$L,9,FALSE))=TRUE,\"\",VLOOKUP($A12,check!$A:$L,9,FALSE))","v":""},{"$f":"IF(ISERROR(VLOOKUP($A12,check!$A:$L,10,FALSE))=TRUE,\"\",VLOOKUP($A12,check!$A:$L,10,FALSE))","v":""},{"$f":"IF(ISERROR(VLOOKUP($A12,check!$A:$L,11,FALSE))=TRUE,\"\",VLOOKUP($A12,check!$A:$L,11,FALSE))","v":""},{"$f":"IF(ISERROR(VLOOKUP($A12,check!$A:$L,12,FALSE))=TRUE,\"\",VLOOKUP($A12,check!$A:$L,12,FALSE))","v":""}]
[13,{"$f":"IF(C13=\"\",\"\",MATCH(A13,check!A:A,0))","v":""},{"$f":"IF(ISERROR(VLOOKUP($A13,check!$A:$L,2,FALSE))=TRUE,\"\",VLOOKUP($A13,check!$A:$L,2,FALSE))","v":""},{"$f":"IF(ISERROR(VLOOKUP($A13,check!$A:$L,3,FALSE))=TRUE,\"\",VLOOKUP($A13,check!$A:$L,3,FALSE))","v":""},{"$f":"IF(ISERROR(VLOOKUP($A13,check!$A:$L,4,FALSE))=TRUE,\"\",VLOOKUP($A13,check!$A:$L,4,FALSE))","v":""},{"$f":"IF(ISERROR(VLOOKUP($A13,check!$A:$L,5,FALSE))=TRUE,\"\",VLOOKUP($A13,check!$A:$L,5,FALSE))","v":""},{"$f":"IF(ISERROR(VLOOKUP($A13,check!$A:$L,6,FALSE))=TRUE,\"\",VLOOKUP($A13,check!$A:$L,6,FALSE))","v":""},{"$f":"IF(ISERROR(VLOOKUP($A13,check!$A:$L,7,FALSE))=TRUE,\"\",VLOOKUP($A13,check!$A:$L,7,FALSE))","v":""},{"$f":"IF(ISERROR(VLOOKUP($A13,check!$A:$L,8,FALSE))=TRUE,\"\",VLOOKUP($A13,check!$A:$L,8,FALSE))","v":""},{"$f":"IF(ISERROR(VLOOKUP($A13,check!$A:$L,9,FALSE))=TRUE,\"\",VLOOKUP($A13,check!$A:$L,9,FALSE))","v":""},{"$f":"IF(ISERROR(VLOOKUP($A13,check!$A:$L,10,FALSE))=TRUE,\"\",VLOOKUP($A13,check!$A:$L,10,FALSE))","v":""},{"$f":"IF(ISERROR(VLOOKUP($A13,check!$A:$L,11,FALSE))=TRUE,\"\",VLOOKUP($A13,check!$A:$L,11,FALSE))","v":""},{"$f":"IF(ISERROR(VLOOKUP($A13,check!$A:$L,12,FALSE))=TRUE,\"\",VLOOKUP($A13,check!$A:$L,12,FALSE))","v":""}]
[14,{"$f":"IF(C14=\"\",\"\",MATCH(A14,check!A:A,0))","v":""},{"$f":"IF(ISERROR(VLOOKUP($A14,check!$A:$L,2,FALSE))=TRUE,\"\",VLOOKUP($A14,check!$A:$L,2,FALSE))","v":""},{"$f":"IF(ISERROR(VLOOKUP($A14,check!$A:$L,3,FALSE))=TRUE,\"\",VLOOKUP($A14,check!$A:$L,3,FALSE))","v":""},{"$f":"IF(ISERROR(VLOOKUP($A14,check!$A:$L,4,FALSE))=TRUE,\"\",VLOOKUP($A14,check!$A:$L,4,FALSE))","v":""},{"$f":"IF(ISERROR(VLOOKUP($A14,check!$A:$L,5,FALSE))=TRUE,\"\",VLOOKUP($A14,check!$A:$L,5,FALSE))","v":""},{"$f":"IF(ISERROR(VLOOKUP($A14,check!$A:$L,6,FALSE))=TRUE,\"\",VLOOKUP($A14,check!$A:$L,6,FALSE))","v":""},{"$f":"IF(ISERROR(VLOOKUP($A14,check!$A:$L,7,FALSE))=TRUE,\"\",VLOOKUP($A14,check!$A:$L,7,FALSE))","v":""},{"$f":"IF(ISERROR(VLOOKUP($A14,check!$A:$L,8,FALSE))=TRUE,\"\",VLOOKUP($A14,check!$A:$L,8,FALSE))","v":""},{"$f":"IF(ISERROR(VLOOKUP($A14,check!$A:$L,9,FALSE))=TRUE,\"\",VLOOKUP($A14,check!$A:$L,9,FALSE))","v":""},{"$f":"IF(ISERROR(VLOOKUP($A14,check!$A:$L,10,FALSE))=TRUE,\"\",VLOOKUP($A14,check!$A:$L,10,FALSE))","v":""},{"$f":"IF(ISERROR(VLOOKUP($A14,check!$A:$L,11,FALSE))=TRUE,\"\",VLOOKUP($A14,check!$A:$L,11,FALSE))","v":""},{"$f":"IF(ISERROR(VLOOKUP($A14,check!$A:$L,12,FALSE))=TRUE,\"\",VLOOKUP($A14,check!$A:$L,12,FALSE))","v":""}]
[15,{"$f":"IF(C15=\"\",\"\",MATCH(A15,check!A:A,0))","v":""},{"$f":"IF(ISERROR(VLOOKUP($A15,check!$A:$L,2,FALSE))=TRUE,\"\",VLOOKUP($A15,check!$A:$L,2,FALSE))","v":""},{"$f":"IF(ISERROR(VLOOKUP($A15,check!$A:$L,3,FALSE))=TRUE,\"\",VLOOKUP($A15,check!$A:$L,3,FALSE))","v":""},{"$f":"IF(ISERROR(VLOOKUP($A15,check!$A:$L,4,FALSE))=TRUE,\"\",VLOOKUP($A15,check!$A:$L,4,FALSE))","v":""},{"$f":"IF(ISERROR(VLOOKUP($A15,check!$A:$L,5,FALSE))=TRUE,\"\",VLOOKUP($A15,check!$A:$L,5,FALSE))","v":""},{"$f":"IF(ISERROR(VLOOKUP($A15,check!$A:$L,6,FALSE))=TRUE,\"\",VLOOKUP($A15,check!$A:$L,6,FALSE))","v":""},{"$f":"IF(ISERROR(VLOOKUP($A15,check!$A:$L,7,FALSE))=TRUE,\"\",VLOOKUP($A15,check!$A:$L,7,FALSE))","v":""},{"$f":"IF(ISERROR(VLOOKUP($A15,check!$A:$L,8,FALSE))=TRUE,\"\",VLOOKUP($A15,check!$A:$L,8,FALSE))","v":""},{"$f":"IF(ISERROR(VLOOKUP($A15,check!$A:$L,9,FALSE))=TRUE,\"\",VLOOKUP($A15,check!$A:$L,9,FALSE))","v":""},{"$f":"IF(ISERROR(VLOOKUP($A15,check!$A:$L,10,FALSE))=TRUE,\"\",VLOOKUP($A15,check!$A:$L,10,FALSE))","v":""},{"$f":"IF(ISERROR(VLOOKUP($A15,check!$A:$L,11,FALSE))=TRUE,\"\",VLOOKUP($A15,check!$A:$L,11,FALSE))","v":""},{"$f":"IF(ISERROR(VLOOKUP($A15,check!$A:$L,12,FALSE))=TRUE,\"\",VLOOKUP($A15,check!$A:$L,12,FALSE))","v":""}]
[16,{"$f":"IF(C16=\"\",\"\",MATCH(A16,check!A:A,0))","v":""},{"$f":"IF(ISERROR(VLOOKUP($A16,check!$A:$L,2,FALSE))=TRUE,\"\",VLOOKUP($A16,check!$A:$L,2,FALSE))","v":""},{"$f":"IF(ISERROR(VLOOKUP($A16,check!$A:$L,3,FALSE))=TRUE,\"\",VLOOKUP($A16,check!$A:$L,3,FALSE))","v":""},{"$f":"IF(ISERROR(VLOOKUP($A16,check!$A:$L,4,FALSE))=TRUE,\"\",VLOOKUP($A16,check!$A:$L,4,FALSE))","v":""},{"$f":"IF(ISERROR(VLOOKUP($A16,check!$A:$L,5,FALSE))=TRUE,\"\",VLOOKUP($A16,check!$A:$L,5,FALSE))","v":""},{"$f":"IF(ISERROR(VLOOKUP($A16,check!$A:$L,6,FALSE))=TRUE,\"\",VLOOKUP($A16,check!$A:$L,6,FALSE))","v":""},{"$f":"IF(ISERROR(VLOOKUP($A16,check!$A:$L,7,FALSE))=TRUE,\"\",VLOOKUP($A16,check!$A:$L,7,FALSE))","v":""},{"$f":"IF(ISERROR(VLOOKUP($A16,check!$A:$L,8,FALSE))=TRUE,\"\",VLOOKUP($A16,check!$A:$L,8,FALSE))","v":""},{"$f":"IF(ISERROR(VLOOKUP($A16,check!$A:$L,9,FALSE))=TRUE,\"\",VLOOKUP($A16,check!$A:$L,9,FALSE))","v":""},{"$f":"IF(ISERROR(VLOOKUP($A16,check!$A:$L,10,FALSE))=TRUE,\"\",VLOOKUP($A16,check!$A:$L,10,FALSE))","v":""},{"$f":"IF(ISERROR(VLOOKUP($A16,check!$A:$L,11,FALSE))=TRUE,\"\",VLOOKUP($A16,check!$A:$L,11,FALSE))","v":""},{"$f":"IF(ISERROR(VLOOKUP($A16,check!$A:$L,12,FALSE))=TRUE,\"\",VLOOKUP($A16,check!$A:$L,12,FALSE))","v":""}]
[17,{"$f":"IF(C17=\"\",\"\",MATCH(A17,check!A:A,0))","v":""},{"$f":"IF(ISERROR(VLOOKUP($A17,check!$A:$L,2,FALSE))=TRUE,\"\",VLOOKUP($A17,check!$A:$L,2,FALSE))","v":""},{"$f":"IF(ISERROR(VLOOKUP($A17,check!$A:$L,3,FALSE))=TRUE,\"\",VLOOKUP($A17,check!$A:$L,3,FALSE))","v":""},{"$f":"IF(ISERROR(VLOOKUP($A17,check!$A:$L,4,FALSE))=TRUE,\"\",VLOOKUP($A17,check!$A:$L,4,FALSE))","v":""},{"$f":"IF(ISERROR(VLOOKUP($A17,check!$A:$L,5,FALSE))=TRUE,\"\",VLOOKUP($A17,check!$A:$L,5,FALSE))","v":""},{"$f":"IF(ISERROR(VLOOKUP($A17,check!$A:$L,6,FALSE))=TRUE,\"\",VLOOKUP($A17,check!$A:$L,6,FALSE))","v":""},{"$f":"IF(ISERROR(VLOOKUP($A17,check!$A:$L,7,FALSE))=TRUE,\"\",VLOOKUP($A17,check!$A:$L,7,FALSE))","v":""},{"$f":"IF(ISERROR(VLOOKUP($A17,check!$A:$L,8,FALSE))=TRUE,\"\",VLOOKUP($A17,check!$A:$L,8,FALSE))","v":""},{"$f":"IF(ISERROR(VLOOKUP($A17,check!$A:$L,9,FALSE))=TRUE,\"\",VLOOKUP($A17,check!$A:$L,9,FALSE))","v":""},{"$f":"IF(ISERROR(VLOOKUP($A17,check!$A:$L,10,FALSE))=TRUE,\"\",VLOOKUP($A17,check!$A:$L,10,FALSE))","v":""},{"$f":"IF(ISERROR(VLOOKUP($A17,check!$A:$L,11,FALSE))=TRUE,\"\",VLOOKUP($A17,check!$A:$L,11,FALSE))","v":""},{"$f":"IF(ISERROR(VLOOKUP($A17,check!$A:$L,12,FALSE))=TRUE,\"\",VLOOKUP($A17,check!$A:$L,12,FALSE))","v":""}]
[18,{"$f":"IF(C18=\"\",\"\",MATCH(A18,check!A:A,0))","v":""},{"$f":"IF(ISERROR(VLOOKUP($A18,check!$A:$L,2,FALSE))=TRUE,\"\",VLOOKUP($A18,check!$A:$L,2,FALSE))","v":""},{"$f":"IF(ISERROR(VLOOKUP($A18,check!$A:$L,3,FALSE))=TRUE,\"\",VLOOKUP($A18,check!$A:$L,3,FALSE))","v":""},{"$f":"IF(ISERROR(VLOOKUP($A18,check!$A:$L,4,FALSE))=TRUE,\"\",VLOOKUP($A18,check!$A:$L,4,FALSE))","v":""},{"$f":"IF(ISERROR(VLOOKUP($A18,check!$A:$L,5,FALSE))=TRUE,\"\",VLOOKUP($A18,check!$A:$L,5,FALSE))","v":""},{"$f":"IF(ISERROR(VLOOKUP($A18,check!$A:$L,6,FALSE))=TRUE,\"\",VLOOKUP($A18,check!$A:$L,6,FALSE))","v":""},{"$f":"IF(ISERROR(VLOOKUP($A18,check!$A:$L,7,FALSE))=TRUE,\"\",VLOOKUP($A18,check!$A:$L,7,FALSE))","v":""},{"$f":"IF(ISERROR(VLOOKUP($A18,check!$A:$L,8,FALSE))=TRUE,\"\",VLOOKUP($A18,check!$A:$L,8,FALSE))","v":""},{"$f":"IF(ISERROR(VLOOKUP($A18,check!$A:$L,9,FALSE))=TRUE,\"\",VLOOKUP($A18,check!$A:$L,9,FALSE))","v":""},{"$f":"IF(ISERROR(VLOOKUP($A18,check!$A:$L,10,FALSE))=TRUE,\"\",VLOOKUP($A18,check!$A:$L,10,FALSE))","v":""},{"$f":"IF(ISERROR(VLOOKUP($A18,check!$A:$L,11,FALSE))=TRUE,\"\",VLOOKUP($A18,check!$A:$L,11,FALSE))","v":""},{"$f":"IF(ISERROR(VLOOKUP($A18,check!$A:$L,12,FALSE))=TRUE,\"\",VLOOKUP($A18,check!$A:$L,12,FALSE))","v":""}]
[19,{"$f":"IF(C19=\"\",\"\",MATCH(A19,check!A:A,0))","v":""},{"$f":"IF(ISERROR(VLOOKUP($A19,check!$A:$L,2,FALSE))=TRUE,\"\",VLOOKUP($A19,check!$A:$L,2,FALSE))","v":""},{"$f":"IF(ISERROR(VLOOKUP($A19,check!$A:$L,3,FALSE))=TRUE,\"\",VLOOKUP($A19,check!$A:$L,3,FALSE))","v":""},{"$f":"IF(ISERROR(VLOOKUP($A19,check!$A:$L,4,FALSE))=TRUE,\"\",VLOOKUP($A19,check!$A:$L,4,FALSE))","v":""},{"$f":"IF(ISERROR(VLOOKUP($A19,check!$A:$L,5,FALSE))=TRUE,\"\",VLOOKUP($A19,check!$A:$L,5,FALSE))","v":""},{"$f":"IF(ISERROR(VLOOKUP($A19,check!$A:$L,6,FALSE))=TRUE,\"\",VLOOKUP($A19,check!$A:$L,6,FALSE))","v":""},{"$f":"IF(ISERROR(VLOOKUP($A19,check!$A:$L,7,FALSE))=TRUE,\"\",VLOOKUP($A19,check!$A:$L,7,FALSE))","v":""},{"$f":"IF(ISERROR(VLOOKUP($A19,check!$A:$L,8,FALSE))=TRUE,\"\",VLOOKUP($A19,check!$A:$L,8,FALSE))","v":""},{"$f":"IF(ISERROR(VLOOKUP($A19,check!$A:$L,9,FALSE))=TRUE,\"\",VLOOKUP($A19,check!$A:$L,9,FALSE))","v":""},{"$f":"IF(ISERROR(VLOOKUP($A19,check!$A:$L,10,FALSE))=TRUE,\"\",VLOOKUP($A19,check!$A:$L,10,FALSE))","v":""},{"$f":"IF(ISERROR(VLOOKUP($A19,check!$A:$L,11,FALSE))=TRUE,\"\",VLOOKUP($A19,check!$A:$L,11,FALSE))","v":""},{"$f":"IF(ISERROR(VLOOKUP($A19,check!$A:$L,12,FALSE))=TRUE,\"\",VLOOKUP($A19,check!$A:$L,12,FALSE))","v":""}]
[20,{"$f":"IF(C20=\"\",\"\",MATCH(A20,check!A:A,0))","v":""},{"$f":"IF(ISERROR(VLOOKUP($A20,check!$A:$L,2,FALSE))=TRUE,\"\",VLOOKUP($A20,check!$A:$L,2,FALSE))","v":""},{"$f":"IF(ISERROR(VLOOKUP($A20,check!$A:$L,3,FALSE))=TRUE,\"\",VLOOKUP($A20,check!$A:$L,3,FALSE))","v":""},{"$f":"IF(ISERROR(VLOOKUP($A20,check!$A:$L,4,FALSE))=TRUE,\"\",VLOOKUP($A20,check!$A:$L,4,FALSE))","v":""},{"$f":"IF(ISERROR(VLOOKUP($A20,check!$A:$L,5,FALSE))=TRUE,\"\",VLOOKUP($A20,check!$A:$L,5,FALSE))","v":""},{"$f":"IF(ISERROR(VLOOKUP($A20,check!$A:$L,6,FALSE))=TRUE,\"\",VLOOKUP($A20,check!$A:$L,6,FALSE))","v":""},{"$f":"IF(ISERROR(VLOOKUP($A20,check!$A:$L,7,FALSE))=TRUE,\"\",VLOOKUP($A20,check!$A:$L,7,FALSE))","v":""},{"$f":"IF(ISERROR(VLOOKUP($A20,check!$A:$L,8,FALSE))=TRUE,\"\",VLOOKUP($A20,check!$A:$L,8,FALSE))","v":""},{"$f":"IF(ISERROR(VLOOKUP($A20,check!$A:$L,9,FALSE))=TRUE,\"\",VLOOKUP($A20,check!$A:$L,9,FALSE))","v":""},{"$f":"IF(ISERROR(VLOOKUP($A20,check!$A:$L,10,FALSE))=TRUE,\"\",VLOOKUP($A20,check!$A:$L,10,FALSE))","v":""},{"$f":"IF(ISERROR(VLOOKUP($A20,check!$A:$L,11,FALSE))=TRUE,\"\",VLOOKUP($A20,check!$A:$L,11,FALSE))","v":""},{"$f":"IF(ISERROR(VLOOKUP($A20,check!$A:$L,12,FALSE))=TRUE,\"\",VLOOKUP($A20,check!$A:$L,12,FALSE))","v":""}]
[21,{"$f":"IF(C21=\"\",\"\",MATCH(A21,check!A:A,0))","v":""},{"$f":"IF(ISERROR(VLOOKUP($A21,check!$A:$L,2,FALSE))=TRUE,\"\",VLOOKUP($A21,check!$A:$L,2,FALSE))","v":""},{"$f":"IF(ISERROR(VLOOKUP($A21,check!$A:$L,3,FALSE))=TRUE,\"\",VLOOKUP($A21,check!$A:$L,3,FALSE))","v":""},{"$f":"IF(ISERROR(VLOOKUP($A21,check!$A:$L,4,FALSE))=TRUE,\"\",VLOOKUP($A21,check!$A:$L,4,FALSE))","v":""},{"$f":"IF(ISERROR(VLOOKUP($A21,check!$A:$L,5,FALSE))=TRUE,\"\",VLOOKUP($A21,check!$A:$L,5,FALSE))","v":""},{"$f":"IF(ISERROR(VLOOKUP($A21,check!$A:$L,6,FALSE))=TRUE,\"\",VLOOKUP($A21,check!$A:$L,6,FALSE))","v":""},{"$f":"IF(ISERROR(VLOOKUP($A21,check!$A:$L,7,FALSE))=TRUE,\"\",VLOOKUP($A21,check!$A:$L,7,FALSE))","v":""},{"$f":"IF(ISERROR(VLOOKUP($A21,check!$A:$L,8,FALSE))=TRUE,\"\",VLOOKUP($A21,check!$A:$L,8,FALSE))","v":""},{"$f":"IF(ISERROR(VLOOKUP($A21,check!$A:$L,9,FALSE))=TRUE,\"\",VLOOKUP($A21,check!$A:$L,9,FALSE))","v":""},{"$f":"IF(ISERROR(VLOOKUP($A21,check!$A:$L,10,FALSE))=TRUE,\"\",VLOOKUP($A21,check!$A:$L,10,FALSE))","v":""},{"$f":"IF(ISERROR(VLOOKUP($A21,check!$A:$L,11,FALSE))=TRUE,\"\",VLOOKUP($A21,check!$A:$L,11,FALSE))","v":""},{"$f":"IF(ISERROR(VLOOKUP($A21,check!$A:$L,12,FALSE))=TRUE,\"\",VLOOKUP($A21,check!$A:$L,12,FALSE))","v":""}]
[22,{"$f":"IF(C22=\"\",\"\",MATCH(A22,check!A:A,0))","v":""},{"$f":"IF(ISERROR(VLOOKUP($A22,check!$A:$L,2,FALSE))=TRUE,\"\",VLOOKUP($A22,check!$A:$L,2,FALSE))","v":""},{"$f":"IF(ISERROR(VLOOKUP($A22,check!$A:$L,3,FALSE))=TRUE,\"\",VLOOKUP($A22,check!$A:$L,3,FALSE))","v":""},{"$f":"IF(ISERROR(VLOOKUP($A22,check!$A:$L,4,FALSE))=TRUE,\"\",VLOOKUP($A22,check!$A:$L,4,FALSE))","v":""},{"$f":"IF(ISERROR(VLOOKUP($A22,check!$A:$L,5,FALSE))=TRUE,\"\",VLOOKUP($A22,check!$A:$L,5,FALSE))","v":""},{"$f":"IF(ISERROR(VLOOKUP($A22,check!$A:$L,6,FALSE))=TRUE,\"\",VLOOKUP($A22,check!$A:$L,6,FALSE))","v":""},{"$f":"IF(ISERROR(VLOOKUP($A22,check!$A:$L,7,FALSE))=TRUE,\"\",VLOOKUP($A22,check!$A:$L,7,FALSE))","v":""},{"$f":"IF(ISERROR(VLOOKUP($A22,check!$A:$L,8,FALSE))=TRUE,\"\",VLOOKUP($A22,check!$A:$L,8,FALSE))","v":""},{"$f":"IF(ISERROR(VLOOKUP($A22,check!$A:$L,9,FALSE))=TRUE,\"\",VLOOKUP($A22,check!$A:$L,9,FALSE))","v":""},{"$f":"IF(ISERROR(VLOOKUP($A22,check!$A:$L,10,FALSE))=TRUE,\"\",VLOOKUP($A22,check!$A:$L,10,FALSE))","v":""},{"$f":"IF(ISERROR(VLOOKUP($A22,check!$A:$L,11,FALSE))=TRUE,\"\",VLOOKUP($A22,check!$A:$L,11,FALSE))","v":""},{"$f":"IF(ISERROR(VLOOKUP($A22,check!$A:$L,12,FALSE))=TRUE,\"\",VLOOKUP($A22,check!$A:$L,12,FALSE))","v":""}]
[23,{"$f":"IF(C23=\"\",\"\",MATCH(A23,check!A:A,0))","v":""},{"$f":"IF(ISERROR(VLOOKUP($A23,check!$A:$L,2,FALSE))=TRUE,\"\",VLOOKUP($A23,check!$A:$L,2,FALSE))","v":""},{"$f":"IF(ISERROR(VLOOKUP($A23,check!$A:$L,3,FALSE))=TRUE,\"\",VLOOKUP($A23,check!$A:$L,3,FALSE))","v":""},{"$f":"IF(ISERROR(VLOOKUP($A23,check!$A:$L,4,FALSE))=TRUE,\"\",VLOOKUP($A23,check!$A:$L,4,FALSE))","v":""},{"$f":"IF(ISERROR(VLOOKUP($A23,check!$A:$L,5,FALSE))=TRUE,\"\",VLOOKUP($A23,check!$A:$L,5,FALSE))","v":""},{"$f":"IF(ISERROR(VLOOKUP($A23,check!$A:$L,6,FALSE))=TRUE,\"\",VLOOKUP($A23,check!$A:$L,6,FALSE))","v":""},{"$f":"IF(ISERROR(VLOOKUP($A23,check!$A:$L,7,FALSE))=TRUE,\"\",VLOOKUP($A23,check!$A:$L,7,FALSE))","v":""},{"$f":"IF(ISERROR(VLOOKUP($A23,check!$A:$L,8,FALSE))=TRUE,\"\",VLOOKUP($A23,check!$A:$L,8,FALSE))","v":""},{"$f":"IF(ISERROR(VLOOKUP($A23,check!$A:$L,9,FALSE))=TRUE,\"\",VLOOKUP($A23,check!$A:$L,9,FALSE))","v":""},{"$f":"IF(ISERROR(VLOOKUP($A23,check!$A:$L,10,FALSE))=TRUE,\"\",VLOOKUP($A23,check!$A:$L,10,FALSE))","v":""},{"$f":"IF(ISERROR(VLOOKUP($A23,check!$A:$L,11,FALSE))=TRUE,\"\",VLOOKUP($A23,check!$A:$L,11,FALSE))","v":""},{"$f":"IF(ISERROR(VLOOKUP($A23,check!$A:$L,12,FALSE))=TRUE,\"\",VLOOKUP($A23,check!$A:$L,12,FALSE))","v":""}]
[24,{"$f":"IF(C24=\"\",\"\",MATCH(A24,check!A:A,0))","v":""},{"$f":"IF(ISERROR(VLOOKUP($A24,check!$A:$L,2,FALSE))=TRUE,\"\",VLOOKUP($A24,check!$A:$L,2,FALSE))","v":""},{"$f":"IF(ISERROR(VLOOKUP($A24,check!$A:$L,3,FALSE))=TRUE,\"\",VLOOKUP($A24,check!$A:$L,3,FALSE))","v":""},{"$f":"IF(ISERROR(VLOOKUP($A24,check!$A:$L,4,FALSE))=TRUE,\"\",VLOOKUP($A24,check!$A:$L,4,FALSE))","v":""},{"$f":"IF(ISERROR(VLOOKUP($A24,check!$A:$L,5,FALSE))=TRUE,\"\",VLOOKUP($A24,check!$A:$L,5,FALSE))","v":""},{"$f":"IF(ISERROR(VLOOKUP($A24,check!$A:$L,6,FALSE))=TRUE,\"\",VLOOKUP($A24,check!$A:$L,6,FALSE))","v":""},{"$f":"IF(ISERROR(VLOOKUP($A24,check!$A:$L,7,FALSE))=TRUE,\"\",VLOOKUP($A24,check!$A:$L,7,FALSE))","v":""},{"$f":"IF(ISERROR(VLOOKUP($A24,check!$A:$L,8,FALSE))=TRUE,\"\",VLOOKUP($A24,check!$A:$L,8,FALSE))","v":""},{"$f":"IF(ISERROR(VLOOKUP($A24,check!$A:$L,9,FALSE))=TRUE,\"\",VLOOKUP($A24,check!$A:$L,9,FALSE))","v":""},{"$f":"IF(ISERROR(VLOOKUP($A24,check!$A:$L,10,FALSE))=TRUE,\"\",VLOOKUP($A24,check!$A:$L,10,FALSE))","v":""},{"$f":"IF(ISERROR(VLOOKUP($A24,check!$A:$L,11,FALSE))=TRUE,\"\",VLOOKUP($A24,check!$A:$L,11,FALSE))","v":""},{"$f":"IF(ISERROR(VLOOKUP($A24,check!$A:$L,12,FALSE))=TRUE,\"\",VLOOKUP($A24,check!$A:$L,12,FALSE))","v":""}]
[25,{"$f":"IF(C25=\"\",\"\",MATCH(A25,check!A:A,0))","v":""},{"$f":"IF(ISERROR(VLOOKUP($A25,check!$A:$L,2,FALSE))=TRUE,\"\",VLOOKUP($A25,check!$A:$L,2,FALSE))","v":""},{"$f":"IF(ISERROR(VLOOKUP($A25,check!$A:$L,3,FALSE))=TRUE,\"\",VLOOKUP($A25,check!$A:$L,3,FALSE))","v":""},{"$f":"IF(ISERROR(VLOOKUP($A25,check!$A:$L,4,FALSE))=TRUE,\"\",VLOOKUP($A25,check!$A:$L,4,FALSE))","v":""},{"$f":"IF(ISERROR(VLOOKUP($A25,check!$A:$L,5,FALSE))=TRUE,\"\",VLOOKUP($A25,check!$A:$L,5,FALSE))","v":""},{"$f":"IF(ISERROR(VLOOKUP($A25,check!$A:$L,6,FALSE))=TRUE,\"\",VLOOKUP($A25,check!$A:$L,6,FALSE))","v":""},{"$f":"IF(ISERROR(VLOOKUP($A25,check!$A:$L,7,FALSE))=TRUE,\"\",VLOOKUP($A25,check!$A:$L,7,FALSE))","v":""},{"$f":"IF(ISERROR(VLOOKUP($A25,check!$A:$L,8,FALSE))=TRUE,\"\",VLOOKUP($A25,check!$A:$L,8,FALSE))","v":""},{"$f":"IF(ISERROR(VLOOKUP($A25,check!$A:$L,9,FALSE))=TRUE,\"\",VLOOKUP($A25,check!$A:$L,9,FALSE))","v":""},{"$f":"IF(ISERROR(VLOOKUP($A25,check!$A:$L,10,FALSE))=TRUE,\"\",VLOOKUP($A25,check!$A:$L,10,FALSE))","v":""},{"$f":"IF(ISERROR(VLOOKUP($A25,check!$A:$L,11,FALSE))=TRUE,\"\",VLOOKUP($A25,check!$A:$L,11,FALSE))","v":""},{"$f":"IF(ISERROR(VLOOKUP($A25,check!$A:$L,12,FALSE))=TRUE,\"\",VLOOKUP($A25,check!$A:$L,12,FALSE))","v":""}]
[26,{"$f":"IF(C26=\"\",\"\",MATCH(A26,check!A:A,0))","v":""},{"$f":"IF(ISERROR(VLOOKUP($A26,check!$A:$L,2,FALSE))=TRUE,\"\",VLOOKUP($A26,check!$A:$L,2,FALSE))","v":""},{"$f":"IF(ISERROR(VLOOKUP($A26,check!$A:$L,3,FALSE))=TRUE,\"\",VLOOKUP($A26,check!$A:$L,3,FALSE))","v":""},{"$f":"IF(ISERROR(VLOOKUP($A26,check!$A:$L,4,FALSE))=TRUE,\"\",VLOOKUP($A26,check!$A:$L,4,FALSE))","v":""},{"$f":"IF(ISERROR(VLOOKUP($A26,check!$A:$L,5,FALSE))=TRUE,\"\",VLOOKUP($A26,check!$A:$L,5,FALSE))","v":""},{"$f":"IF(ISERROR(VLOOKUP($A26,check!$A:$L,6,FALSE))=TRUE,\"\",VLOOKUP($A26,check!$A:$L,6,FALSE))","v":""},{"$f":"IF(ISERROR(VLOOKUP($A26,check!$A:$L,7,FALSE))=TRUE,\"\",VLOOKUP($A26,check!$A:$L,7,FALSE))","v":""},{"$f":"IF(ISERROR(VLOOKUP($A26,check!$A:$L,8,FALSE))=TRUE,\"\",VLOOKUP($A26,check!$A:$L,8,FALSE))","v":""},{"$f":"IF(ISERROR(VLOOKUP($A26,check!$A:$L,9,FALSE))=TRUE,\"\",VLOOKUP($A26,check!$A:$L,9,FALSE))","v":""},{"$f":"IF(ISERROR(VLOOKUP($A26,check!$A:$L,10,FALSE))=TRUE,\"\",VLOOKUP($A26,check!$A:$L,10,FALSE))","v":""},{"$f":"IF(ISERROR(VLOOKUP($A26,check!$A:$L,11,FALSE))=TRUE,\"\",VLOOKUP($A26,check!$A:$L,11,FALSE))","v":""},{"$f":"IF(ISERROR(VLOOKUP($A26,check!$A:$L,12,FALSE))=TRUE,\"\",VLOOKUP($A26,check!$A:$L,12,FALSE))","v":""}]
[27,{"$f":"IF(C27=\"\",\"\",MATCH(A27,check!A:A,0))","v":""},{"$f":"IF(ISERROR(VLOOKUP($A27,check!$A:$L,2,FALSE))=TRUE,\"\",VLOOKUP($A27,check!$A:$L,2,FALSE))","v":""},{"$f":"IF(ISERROR(VLOOKUP($A27,check!$A:$L,3,FALSE))=TRUE,\"\",VLOOKUP($A27,check!$A:$L,3,FALSE))","v":""},{"$f":"IF(ISERROR(VLOOKUP($A27,check!$A:$L,4,FALSE))=TRUE,\"\",VLOOKUP($A27,check!$A:$L,4,FALSE))","v":""},{"$f":"IF(ISERROR(VLOOKUP($A27,check!$A:$L,5,FALSE))=TRUE,\"\",VLOOKUP($A27,check!$A:$L,5,FALSE))","v":""},{"$f":"IF(ISERROR(VLOOKUP($A27,check!$A:$L,6,FALSE))=TRUE,\"\",VLOOKUP($A27,check!$A:$L,6,FALSE))","v":""},{"$f":"IF(ISERROR(VLOOKUP($A27,check!$A:$L,7,FALSE))=TRUE,\"\",VLOOKUP($A27,check!$A:$L,7,FALSE))","v":""},{"$f":"IF(ISERROR(VLOOKUP($A27,check!$A:$L,8,FALSE))=TRUE,\"\",VLOOKUP($A27,check!$A:$L,8,FALSE))","v":""},{"$f":"IF(ISERROR(VLOOKUP($A27,check!$A:$L,9,FALSE))=TRUE,\"\",VLOOKUP($A27,check!$A:$L,9,FALSE))","v":""},{"$f":"IF(ISERROR(VLOOKUP($A27,check!$A:$L,10,FALSE))=TRUE,\"\",VLOOKUP($A27,check!$A:$L,10,FALSE))","v":""},{"$f":"IF(ISERROR(VLOOKUP($A27,check!$A:$L,11,FALSE))=TRUE,\"\",VLOOKUP($A27,check!$A:$L,11,FALSE))","v":""},{"$f":"IF(ISERROR(VLOOKUP($A27,check!$A:$L,12,FALSE))=TRUE,\"\",VLOOKUP($A27,check!$A:$L,12,FALSE))","v":""}]
[28,{"$f":"IF(C28=\"\",\"\",MATCH(A28,check!A:A,0))","v":""},{"$f":"IF(ISERROR(VLOOKUP($A28,check!$A:$L,2,FALSE))=TRUE,\"\",VLOOKUP($A28,check!$A:$L,2,FALSE))","v":""},{"$f":"IF(ISERROR(VLOOKUP($A28,check!$A:$L,3,FALSE))=TRUE,\"\",VLOOKUP($A28,check!$A:$L,3,FALSE))","v":""},{"$f":"IF(ISERROR(VLOOKUP($A28,check!$A:$L,4,FALSE))=TRUE,\"\",VLOOKUP($A28,check!$A:$L,4,FALSE))","v":""},{"$f":"IF(ISERROR(VLOOKUP($A28,check!$A:$L,5,FALSE))=TRUE,\"\",VLOOKUP($A28,check!$A:$L,5,FALSE))","v":""},{"$f":"IF(ISERROR(VLOOKUP($A28,check!$A:$L,6,FALSE))=TRUE,\"\",VLOOKUP($A28,check!$A:$L,6,FALSE))","v":""},{"$f":"IF(ISERROR(VLOOKUP($A28,check!$A:$L,7,FALSE))=TRUE,\"\",VLOOKUP($A28,check!$A:$L,7,FALSE))","v":""},{"$f":"IF(ISERROR(VLOOKUP($A28,check!$A:$L,8,FALSE))=TRUE,\"\",VLOOKUP($A28,check!$A:$L,8,FALSE))","v":""},{"$f":"IF(ISERROR(VLOOKUP($A28,check!$A:$L,9,FALSE))=TRUE,\"\",VLOOKUP($A28,check!$A:$L,9,FALSE))","v":""},{"$f":"IF(ISERROR(VLOOKUP($A28,check!$A:$L,10,FALSE))=TRUE,\"\",VLOOKUP($A28,check!$A:$L,10,FALSE))","v":""},{"$f":"IF(ISERROR(VLOOKUP($A28,check!$A:$L,11,FALSE))=TRUE,\"\",VLOOKUP($A28,check!$A:$L,11,FALSE))","v":""},{"$f":"IF(ISERROR(VLOOKUP($A28,check!$A:$L,12,FALSE))=TRUE,\"\",VLOOKUP($A28,check!$A:$L,12,FALSE))","v":""}]
[29,{"$f":"IF(C29=\"\",\"\",MATCH(A29,check!A:A,0))","v":""},{"$f":"IF(ISERROR(VLOOKUP($A29,check!$A:$L,2,FALSE))=TRUE,\"\",VLOOKUP($A29,check!$A:$L,2,FALSE))","v":""},{"$f":"IF(ISERROR(VLOOKUP($A29,check!$A:$L,3,FALSE))=TRUE,\"\",VLOOKUP($A29,check!$A:$L,3,FALSE))","v":""},{"$f":"IF(ISERROR(VLOOKUP($A29,check!$A:$L,4,FALSE))=TRUE,\"\",VLOOKUP($A29,check!$A:$L,4,FALSE))","v":""},{"$f":"IF(ISERROR(VLOOKUP($A29,check!$A:$L,5,FALSE))=TRUE,\"\",VLOOKUP($A29,check!$A:$L,5,FALSE))","v":""},{"$f":"IF(ISERROR(VLOOKUP($A29,check!$A:$L,6,FALSE))=TRUE,\"\",VLOOKUP($A29,check!$A:$L,6,FALSE))","v":""},{"$f":"IF(ISERROR(VLOOKUP($A29,check!$A:$L,7,FALSE))=TRUE,\"\",VLOOKUP($A29,check!$A:$L,7,FALSE))","v":""},{"$f":"IF(ISERROR(VLOOKUP($A29,check!$A:$L,8,FALSE))=TRUE,\"\",VLOOKUP($A29,check!$A:$L,8,FALSE))","v":""},{"$f":"IF(ISERROR(VLOOKUP($A29,check!$A:$L,9,FALSE))=TRUE,\"\",VLOOKUP($A29,check!$A:$L,9,FALSE))","v":""},{"$f":"IF(ISERROR(VLOOKUP($A29,check!$A:$L,10,FALSE))=TRUE,\"\",VLOOKUP($A29,check!$A:$L,10,FALSE))","v":""},{"$f":"IF(ISERROR(VLOOKUP($A29,check!$A:$L,11,FALSE))=TRUE,\"\",VLOOKUP($A29,check!$A:$L,11,FALSE))","v":""},{"$f":"IF(ISERROR(VLOOKUP($A29,check!$A:$L,12,FALSE))=TRUE,\"\",VLOOKUP($A29,check!$A:$L,12,FALSE))","v":""}]
[30,{"$f":"IF(C30=\"\",\"\",MATCH(A30,check!A:A,0))","v":""},{"$f":"IF(ISERROR(VLOOKUP($A30,check!$A:$L,2,FALSE))=TRUE,\"\",VLOOKUP($A30,check!$A:$L,2,FALSE))","v":""},{"$f":"IF(ISERROR(VLOOKUP($A30,check!$A:$L,3,FALSE))=TRUE,\"\",VLOOKUP($A30,check!$A:$L,3,FALSE))","v":""},{"$f":"IF(ISERROR(VLOOKUP($A30,check!$A:$L,4,FALSE))=TRUE,\"\",VLOOKUP($A30,check!$A:$L,4,FALSE))","v":""},{"$f":"IF(ISERROR(VLOOKUP($A30,check!$A:$L,5,FALSE))=TRUE,\"\",VLOOKUP($A30,check!$A:$L,5,FALSE))","v":""},{"$f":"IF(ISERROR(VLOOKUP($A30,check!$A:$L,6,FALSE))=TRUE,\"\",VLOOKUP($A30,check!$A:$L,6,FALSE))","v":""},{"$f":"IF(ISERROR(VLOOKUP($A30,check!$A:$L,7,FALSE))=TRUE,\"\",VLOOKUP($A30,check!$A:$L,7,FALSE))","v":""},{"$f":"IF(ISERROR(VLOOKUP($A30,check!$A:$L,8,FALSE))=TRUE,\"\",VLOOKUP($A30,check!$A:$L,8,FALSE))","v":""},{"$f":"IF(ISERROR(VLOOKUP($A30,check!$A:$L,9,FALSE))=TRUE,\"\",VLOOKUP($A30,check!$A:$L,9,FALSE))","v":""},{"$f":"IF(ISERROR(VLOOKUP($A30,check!$A:$L,10,FALSE))=TRUE,\"\",VLOOKUP($A30,check!$A:$L,10,FALSE))","v":""},{"$f":"IF(ISERROR(VLOOKUP($A30,check!$A:$L,11,FALSE))=TRUE,\"\",VLOOKUP($A30,check!$A:$L,11,FALSE))","v":""},{"$f":"IF(ISERROR(VLOOKUP($A30,check!$A:$L,12,FALSE))=TRUE,\"\",VLOOKUP($A30,check!$A:$L,12,FALSE))","v":""}]
[31,{"$f":"IF(C31=\"\",\"\",MATCH(A31,check!A:A,0))","v":""},{"$f":"IF(ISERROR(VLOOKUP($A31,check!$A:$L,2,FALSE))=TRUE,\"\",VLOOKUP($A31,check!$A:$L,2,FALSE))","v":""},{"$f":"IF(ISERROR(VLOOKUP($A31,check!$A:$L,3,FALSE))=TRUE,\"\",VLOOKUP($A31,check!$A:$L,3,FALSE))","v":""},{"$f":"IF(ISERROR(VLOOKUP($A31,check!$A:$L,4,FALSE))=TRUE,\"\",VLOOKUP($A31,check!$A:$L,4,FALSE))","v":""},{"$f":"IF(ISERROR(VLOOKUP($A31,check!$A:$L,5,FALSE))=TRUE,\"\",VLOOKUP($A31,check!$A:$L,5,FALSE))","v":""},{"$f":"IF(ISERROR(VLOOKUP($A31,check!$A:$L,6,FALSE))=TRUE,\"\",VLOOKUP($A31,check!$A:$L,6,FALSE))","v":""},{"$f":"IF(ISERROR(VLOOKUP($A31,check!$A:$L,7,FALSE))=TRUE,\"\",VLOOKUP($A31,check!$A:$L,7,FALSE))","v":""},{"$f":"IF(ISERROR(VLOOKUP($A31,check!$A:$L,8,FALSE))=TRUE,\"\",VLOOKUP($A31,check!$A:$L,8,FALSE))","v":""},{"$f":"IF(ISERROR(VLOOKUP($A31,check!$A:$L,9,FALSE))=TRUE,\"\",VLOOKUP($A31,check!$A:$L,9,FALSE))","v":""},{"$f":"IF(ISERROR(VLOOKUP($A31,check!$A:$L,10,FALSE))=TRUE,\"\",VLOOKUP($A31,check!$A:$L,10,FALSE))","v":""},{"$f":"IF(ISERROR(VLOOKUP($A31,check!$A:$L,11,FALSE))=TRUE,\"\",VLOOKUP($A31,check!$A:$L,11,FALSE))","v":""},{"$f":"IF(ISERROR(VLOOKUP($A31,check!$A:$L,12,FALSE))=TRUE,\"\",VLOOKUP($A31,check!$A:$L,12,FALSE))","v":""}]
[32,{"$f":"IF(C32=\"\",\"\",MATCH(A32,check!A:A,0))","v":""},{"$f":"IF(ISERROR(VLOOKUP($A32,check!$A:$L,2,FALSE))=TRUE,\"\",VLOOKUP($A32,check!$A:$L,2,FALSE))","v":""},{"$f":"IF(ISERROR(VLOOKUP($A32,check!$A:$L,3,FALSE))=TRUE,\"\",VLOOKUP($A32,check!$A:$L,3,FALSE))","v":""},{"$f":"IF(ISERROR(VLOOKUP($A32,check!$A:$L,4,FALSE))=TRUE,\"\",VLOOKUP($A32,check!$A:$L,4,FALSE))","v":""},{"$f":"IF(ISERROR(VLOOKUP($A32,check!$A:$L,5,FALSE))=TRUE,\"\",VLOOKUP($A32,check!$A:$L,5,FALSE))","v":""},{"$f":"IF(ISERROR(VLOOKUP($A32,check!$A:$L,6,FALSE))=TRUE,\"\",VLOOKUP($A32,check!$A:$L,6,FALSE))","v":""},{"$f":"IF(ISERROR(VLOOKUP($A32,check!$A:$L,7,FALSE))=TRUE,\"\",VLOOKUP($A32,check!$A:$L,7,FALSE))","v":""},{"$f":"IF(ISERROR(VLOOKUP($A32,check!$A:$L,8,FALSE))=TRUE,\"\",VLOOKUP($A32,check!$A:$L,8,FALSE))","v":""},{"$f":"IF(ISERROR(VLOOKUP($A32,check!$A:$L,9,FALSE))=TRUE,\"\",VLOOKUP($A32,check!$A:$L,9,FALSE))","v":""},{"$f":"IF(ISERROR(VLOOKUP($A32,check!$A:$L,10,FALSE))=TRUE,\"\",VLOOKUP($A32,check!$A:$L,10,FALSE))","v":""},{"$f":"IF(ISERROR(VLOOKUP($A32,check!$A:$L,11,FALSE))=TRUE,\"\",VLOOKUP($A32,check!$A:$L,11,FALSE))","v":""},{"$f":"IF(ISERROR(VLOOKUP($A32,check!$A:$L,12,FALSE))=TRUE,\"\",VLOOKUP($A32,check!$A:$L,12,FALSE))","v":""}]
[33,{"$f":"IF(C33=\"\",\"\",MATCH(A33,check!A:A,0))","v":""},{"$f":"IF(ISERROR(VLOOKUP($A33,check!$A:$L,2,FALSE))=TRUE,\"\",VLOOKUP($A33,check!$A:$L,2,FALSE))","v":""},{"$f":"IF(ISERROR(VLOOKUP($A33,check!$A:$L,3,FALSE))=TRUE,\"\",VLOOKUP($A33,check!$A:$L,3,FALSE))","v":""},{"$f":"IF(ISERROR(VLOOKUP($A33,check!$A:$L,4,FALSE))=TRUE,\"\",VLOOKUP($A33,check!$A:$L,4,FALSE))","v":""},{"$f":"IF(ISERROR(VLOOKUP($A33,check!$A:$L,5,FALSE))=TRUE,\"\",VLOOKUP($A33,check!$A:$L,5,FALSE))","v":""},{"$f":"IF(ISERROR(VLOOKUP($A33,check!$A:$L,6,FALSE))=TRUE,\"\",VLOOKUP($A33,check!$A:$L,6,FALSE))","v":""},{"$f":"IF(ISERROR(VLOOKUP($A33,check!$A:$L,7,FALSE))=TRUE,\"\",VLOOKUP($A33,check!$A:$L,7,FALSE))","v":""},{"$f":"IF(ISERROR(VLOOKUP($A33,check!$A:$L,8,FALSE))=TRUE,\"\",VLOOKUP($A33,check!$A:$L,8,FALSE))","v":""},{"$f":"IF(ISERROR(VLOOKUP($A33,check!$A:$L,9,FALSE))=TRUE,\"\",VLOOKUP($A33,check!$A:$L,9,FALSE))","v":""},{"$f":"IF(ISERROR(VLOOKUP($A33,check!$A:$L,10,FALSE))=TRUE,\"\",VLOOKUP($A33,check!$A:$L,10,FALSE))","v":""},{"$f":"IF(ISERROR(VLOOKUP($A33,check!$A:$L,11,FALSE))=TRUE,\"\",VLOOKUP($A33,check!$A:$L,11,FALSE))","v":""},{"$f":"IF(ISERROR(VLOOKUP($A33,check!$A:$L,12,FALSE))=TRUE,\"\",VLOOKUP($A33,check!$A:$L,12,FALSE))","v":""}]
[34,{"$f":"IF(C34=\"\",\"\",MATCH(A34,check!A:A,0))","v":""},{"$f":"IF(ISERROR(VLOOKUP($A34,check!$A:$L,2,FALSE))=TRUE,\"\",VLOOKUP($A34,check!$A:$L,2,FALSE))","v":""},{"$f":"IF(ISERROR(VLOOKUP($A34,check!$A:$L,3,FALSE))=TRUE,\"\",VLOOKUP($A34,check!$A:$L,3,FALSE))","v":""},{"$f":"IF(ISERROR(VLOOKUP($A34,check!$A:$L,4,FALSE))=TRUE,\"\",VLOOKUP($A34,check!$A:$L,4,FALSE))","v":""},{"$f":"IF(ISERROR(VLOOKUP($A34,check!$A:$L,5,FALSE))=TRUE,\"\",VLOOKUP($A34,check!$A:$L,5,FALSE))","v":""},{"$f":"IF(ISERROR(VLOOKUP($A34,check!$A:$L,6,FALSE))=TRUE,\"\",VLOOKUP($A34,check!$A:$L,6,FALSE))","v":""},{"$f":"IF(ISERROR(VLOOKUP($A34,check!$A:$L,7,FALSE))=TRUE,\"\",VLOOKUP($A34,check!$A:$L,7,FALSE))","v":""},{"$f":"IF(ISERROR(VLOOKUP($A34,check!$A:$L,8,FALSE))=TRUE,\"\",VLOOKUP($A34,check!$A:$L,8,FALSE))","v":""},{"$f":"IF(ISERROR(VLOOKUP($A34,check!$A:$L,9,FALSE))=TRUE,\"\",VLOOKUP($A34,check!$A:$L,9,FALSE))","v":""},{"$f":"IF(ISERROR(VLOOKUP($A34,check!$A:$L,10,FALSE))=TRUE,\"\",VLOOKUP($A34,check!$A:$L,10,FALSE))","v":""},{"$f":"IF(ISERROR(VLOOKUP($A34,check!$A:$L,11,FALSE))=TRUE,\"\",VLOOKUP($A34,check!$A:$L,11,FALSE))","v":""},{"$f":"IF(ISERROR(VLOOKUP($A34,check!$A:$L,12,FALSE))=TRUE,\"\",VLOOKUP($A34,check!$A:$L,12,FALSE))","v":""}]
[35,{"$f":"IF(C35=\"\",\"\",MATCH(A35,check!A:A,0))","v":""},{"$f":"IF(ISERROR(VLOOKUP($A35,check!$A:$L,2,FALSE))=TRUE,\"\",VLOOKUP($A35,check!$A:$L,2,FALSE))","v":""},{"$f":"IF(ISERROR(VLOOKUP($A35,check!$A:$L,3,FALSE))=TRUE,\"\",VLOOKUP($A35,check!$A:$L,3,FALSE))","v":""},{"$f":"IF(ISERROR(VLOOKUP($A35,check!$A:$L,4,FALSE))=TRUE,\"\",VLOOKUP($A35,check!$A:$L,4,FALSE))","v":""},{"$f":"IF(ISERROR(VLOOKUP($A35,check!$A:$L,5,FALSE))=TRUE,\"\",VLOOKUP($A35,check!$A:$L,5,FALSE))","v":""},{"$f":"IF(ISERROR(VLOOKUP($A35,check!$A:$L,6,FALSE))=TRUE,\"\",VLOOKUP($A35,check!$A:$L,6,FALSE))","v":""},{"$f":"IF(ISERROR(VLOOKUP($A35,check!$A:$L,7,FALSE))=TRUE,\"\",VLOOKUP($A35,check!$A:$L,7,FALSE))","v":""},{"$f":"IF(ISERROR(VLOOKUP($A35,check!$A:$L,8,FALSE))=TRUE,\"\",VLOOKUP($A35,check!$A:$L,8,FALSE))","v":""},{"$f":"IF(ISERROR(VLOOKUP($A35,check!$A:$L,9,FALSE))=TRUE,\"\",VLOOKUP($A35,check!$A:$L,9,FALSE))","v":""},{"$f":"IF(ISERROR(VLOOKUP($A35,check!$A:$L,10,FALSE))=TRUE,\"\",VLOOKUP($A35,check!$A:$L,10,FALSE))","v":""},{"$f":"IF(ISERROR(VLOOKUP($A35,check!$A:$L,11,FALSE))=TRUE,\"\",VLOOKUP($A35,check!$A:$L,11,FALSE))","v":""},{"$f":"IF(ISERROR(VLOOKUP($A35,check!$A:$L,12,FALSE))=TRUE,\"\",VLOOKUP($A35,check!$A:$L,12,FALSE))","v":""}]
[36,{"$f":"IF(C36=\"\",\"\",MATCH(A36,check!A:A,0))","v":""},{"$f":"IF(ISERROR(VLOOKUP($A36,check!$A:$L,2,FALSE))=TRUE,\"\",VLOOKUP($A36,check!$A:$L,2,FALSE))","v":""},{"$f":"IF(ISERROR(VLOOKUP($A36,check!$A:$L,3,FALSE))=TRUE,\"\",VLOOKUP($A36,check!$A:$L,3,FALSE))","v":""},{"$f":"IF(ISERROR(VLOOKUP($A36,check!$A:$L,4,FALSE))=TRUE,\"\",VLOOKUP($A36,check!$A:$L,4,FALSE))","v":""},{"$f":"IF(ISERROR(VLOOKUP($A36,check!$A:$L,5,FALSE))=TRUE,\"\",VLOOKUP($A36,check!$A:$L,5,FALSE))","v":""},{"$f":"IF(ISERROR(VLOOKUP($A36,check!$A:$L,6,FALSE))=TRUE,\"\",VLOOKUP($A36,check!$A:$L,6,FALSE))","v":""},{"$f":"IF(ISERROR(VLOOKUP($A36,check!$A:$L,7,FALSE))=TRUE,\"\",VLOOKUP($A36,check!$A:$L,7,FALSE))","v":""},{"$f":"IF(ISERROR(VLOOKUP($A36,check!$A:$L,8,FALSE))=TRUE,\"\",VLOOKUP($A36,check!$A:$L,8,FALSE))","v":""},{"$f":"IF(ISERROR(VLOOKUP($A36,check!$A:$L,9,FALSE))=TRUE,\"\",VLOOKUP($A36,check!$A:$L,9,FALSE))","v":""},{"$f":"IF(ISERROR(VLOOKUP($A36,check!$A:$L,10,FALSE))=TRUE,\"\",VLOOKUP($A36,check!$A:$L,10,FALSE))","v":""},{"$f":"IF(ISERROR(VLOOKUP($A36,check!$A:$L,11,FALSE))=TRUE,\"\",VLOOKUP($A36,check!$A:$L,11,FALSE))","v":""},{"$f":"IF(ISERROR(VLOOKUP($A36,check!$A:$L,12,FALSE))=TRUE,\"\",VLOOKUP($A36,check!$A:$L,12,FALSE))","v":""}]
[37,{"$f":"IF(C37=\"\",\"\",MATCH(A37,check!A:A,0))","v":""},{"$f":"IF(ISERROR(VLOOKUP($A37,check!$A:$L,2,FALSE))=TRUE,\"\",VLOOKUP($A37,check!$A:$L,2,FALSE))","v":""},{"$f":"IF(ISERROR(VLOOKUP($A37,check!$A:$L,3,FALSE))=TRUE,\"\",VLOOKUP($A37,check!$A:$L,3,FALSE))","v":""},{"$f":"IF(ISERROR(VLOOKUP($A37,check!$A:$L,4,FALSE))=TRUE,\"\",VLOOKUP($A37,check!$A:$L,4,FALSE))","v":""},{"$f":"IF(ISERROR(VLOOKUP($A37,check!$A:$L,5,FALSE))=TRUE,\"\",VLOOKUP($A37,check!$A:$L,5,FALSE))","v":""},{"$f":"IF(ISERROR(VLOOKUP($A37,check!$A:$L,6,FALSE))=TRUE,\"\",VLOOKUP($A37,check!$A:$L,6,FALSE))","v":""},{"$f":"IF(ISERROR(VLOOKUP($A37,check!$A:$L,7,FALSE))=TRUE,\"\",VLOOKUP($A37,check!$A:$L,7,FALSE))","v":""},{"$f":"IF(ISERROR(VLOOKUP($A37,check!$A:$L,8,FALSE))=TRUE,\"\",VLOOKUP($A37,check!$A:$L,8,FALSE))","v":""},{"$f":"IF(ISERROR(VLOOKUP($A37,check!$A:$L,9,FALSE))=TRUE,\"\",VLOOKUP($A37,check!$A:$L,9,FALSE))","v":""},{"$f":"IF(ISERROR(VLOOKUP($A37,check!$A:$L,10,FALSE))=TRUE,\"\",VLOOKUP($A37,check!$A:$L,10,FALSE))","v":""},{"$f":"IF(ISERROR(VLOOKUP($A37,check!$A:$L,11,FALSE))=TRUE,\"\",VLOOKUP($A37,check!$A:$L,11,FALSE))","v":""},{"$f":"IF(ISERROR(VLOOKUP($A37,check!$A:$L,12,FALSE))=TRUE,\"\",VLOOKUP($A37,check!$A:$L,12,FALSE))","v":""}]
[38,{"$f":"IF(C38=\"\",\"\",MATCH(A38,check!A:A,0))","v":""},{"$f":"IF(ISERROR(VLOOKUP($A38,check!$A:$L,2,FALSE))=TRUE,\"\",VLOOKUP($A38,check!$A:$L,2,FALSE))","v":""},{"$f":"IF(ISERROR(VLOOKUP($A38,check!$A:$L,3,FALSE))=TRUE,\"\",VLOOKUP($A38,check!$A:$L,3,FALSE))","v":""},{"$f":"IF(ISERROR(VLOOKUP($A38,check!$A:$L,4,FALSE))=TRUE,\"\",VLOOKUP($A38,check!$A:$L,4,FALSE))","v":""},{"$f":"IF(ISERROR(VLOOKUP($A38,check!$A:$L,5,FALSE))=TRUE,\"\",VLOOKUP($A38,check!$A:$L,5,FALSE))","v":""},{"$f":"IF(ISERROR(VLOOKUP($A38,check!$A:$L,6,FALSE))=TRUE,\"\",VLOOKUP($A38,check!$A:$L,6,FALSE))","v":""},{"$f":"IF(ISERROR(VLOOKUP($A38,check!$A:$L,7,FALSE))=TRUE,\"\",VLOOKUP($A38,check!$A:$L,7,FALSE))","v":""},{"$f":"IF(ISERROR(VLOOKUP($A38,check!$A:$L,8,FALSE))=TRUE,\"\",VLOOKUP($A38,check!$A:$L,8,FALSE))","v":""},{"$f":"IF(ISERROR(VLOOKUP($A38,check!$A:$L,9,FALSE))=TRUE,\"\",VLOOKUP($A38,check!$A:$L,9,FALSE))","v":""},{"$f":"IF(ISERROR(VLOOKUP($A38,check!$A:$L,10,FALSE))=TRUE,\"\",VLOOKUP($A38,check!$A:$L,10,FALSE))","v":""},{"$f":"IF(ISERROR(VLOOKUP($A38,check!$A:$L,11,FALSE))=TRUE,\"\",VLOOKUP($A38,check!$A:$L,11,FALSE))","v":""},{"$f":"IF(ISERROR(VLOOKUP($A38,check!$A:$L,12,FALSE))=TRUE,\"\",VLOOKUP($A38,check!$A:$L,12,FALSE))","v":""}]
[39,{"$f":"IF(C39=\"\",\"\",MATCH(A39,check!A:A,0))","v":""},{"$f":"IF(ISERROR(VLOOKUP($A39,check!$A:$L,2,FALSE))=TRUE,\"\",VLOOKUP($A39,check!$A:$L,2,FALSE))","v":""},{"$f":"IF(ISERROR(VLOOKUP($A39,check!$A:$L,3,FALSE))=TRUE,\"\",VLOOKUP($A39,check!$A:$L,3,FALSE))","v":""},{"$f":"IF(ISERROR(VLOOKUP($A39,check!$A:$L,4,FALSE))=TRUE,\"\",VLOOKUP($A39,check!$A:$L,4,FALSE))","v":""},{"$f":"IF(ISERROR(VLOOKUP($A39,check!$A:$L,5,FALSE))=TRUE,\"\",VLOOKUP($A39,check!$A:$L,5,FALSE))","v":""},{"$f":"IF(ISERROR(VLOOKUP($A39,check!$A:$L,6,FALSE))=TRUE,\"\",VLOOKUP($A39,check!$A:$L,6,FALSE))","v":""},{"$f":"IF(ISERROR(VLOOKUP($A39,check!$A:$L,7,FALSE))=TRUE,\"\",VLOOKUP($A39,check!$A:$L,7,FALSE))","v":""},{"$f":"IF(ISERROR(VLOOKUP($A39,check!$A:$L,8,FALSE))=TRUE,\"\",VLOOKUP($A39,check!$A:$L,8,FALSE))","v":""},{"$f":"IF(ISERROR(VLOOKUP($A39,check!$A:$L,9,FALSE))=TRUE,\"\",VLOOKUP($A39,check!$A:$L,9,FALSE))","v":""},{"$f":"IF(ISERROR(VLOOKUP($A39,check!$A:$L,10,FALSE))=TRUE,\"\",VLOOKUP($A39,check!$A:$L,10,FALSE))","v":""},{"$f":"IF(ISERROR(VLOOKUP($A39,check!$A:$L,11,FALSE))=TRUE,\"\",VLOOKUP($A39,check!$A:$L,11,FALSE))","v":""},{"$f":"IF(ISERROR(VLOOKUP($A39,check!$A:$L,12,FALSE))=TRUE,\"\",VLOOKUP($A39,check!$A:$L,12,FALSE))","v":""}]
[40,{"$f":"IF(C40=\"\",\"\",MATCH(A40,check!A:A,0))","v":""},{"$f":"IF(ISERROR(VLOOKUP($A40,check!$A:$L,2,FALSE))=TRUE,\"\",VLOOKUP($A40,check!$A:$L,2,FALSE))","v":""},{"$f":"IF(ISERROR(VLOOKUP($A40,check!$A:$L,3,FALSE))=TRUE,\"\",VLOOKUP($A40,check!$A:$L,3,FALSE))","v":""},{"$f":"IF(ISERROR(VLOOKUP($A40,check!$A:$L,4,FALSE))=TRUE,\"\",VLOOKUP($A40,check!$A:$L,4,FALSE))","v":""},{"$f":"IF(ISERROR(VLOOKUP($A40,check!$A:$L,5,FALSE))=TRUE,\"\",VLOOKUP($A40,check!$A:$L,5,FALSE))","v":""},{"$f":"IF(ISERROR(VLOOKUP($A40,check!$A:$L,6,FALSE))=TRUE,\"\",VLOOKUP($A40,check!$A:$L,6,FALSE))","v":""},{"$f":"IF(ISERROR(VLOOKUP($A40,check!$A:$L,7,FALSE))=TRUE,\"\",VLOOKUP($A40,check!$A:$L,7,FALSE))","v":""},{"$f":"IF(ISERROR(VLOOKUP($A40,check!$A:$L,8,FALSE))=TRUE,\"\",VLOOKUP($A40,check!$A:$L,8,FALSE))","v":""},{"$f":"IF(ISERROR(VLOOKUP($A40,check!$A:$L,9,FALSE))=TRUE,\"\",VLOOKUP($A40,check!$A:$L,9,FALSE))","v":""},{"$f":"IF(ISERROR(VLOOKUP($A40,check!$A:$L,10,FALSE))=TRUE,\"\",VLOOKUP($A40,check!$A:$L,10,FALSE))","v":""},{"$f":"IF(ISERROR(VLOOKUP($A40,check!$A:$L,11,FALSE))=TRUE,\"\",VLOOKUP($A40,check!$A:$L,11,FALSE))","v":""},{"$f":"IF(ISERROR(VLOOKUP($A40,check!$A:$L,12,FALSE))=TRUE,\"\",VLOOKUP($A40,check!$A:$L,12,FALSE))","v":""}]
[41,{"$f":"IF(C41=\"\",\"\",MATCH(A41,check!A:A,0))","v":""},{"$f":"IF(ISERROR(VLOOKUP($A41,check!$A:$L,2,FALSE))=TRUE,\"\",VLOOKUP($A41,check!$A:$L,2,FALSE))","v":""},{"$f":"IF(ISERROR(VLOOKUP($A41,check!$A:$L,3,FALSE))=TRUE,\"\",VLOOKUP($A41,check!$A:$L,3,FALSE))","v":""},{"$f":"IF(ISERROR(VLOOKUP($A41,check!$A:$L,4,FALSE))=TRUE,\"\",VLOOKUP($A41,check!$A:$L,4,FALSE))","v":""},{"$f":"IF(ISERROR(VLOOKUP($A41,check!$A:$L,5,FALSE))=TRUE,\"\",VLOOKUP($A41,check!$A:$L,5,FALSE))","v":""},{"$f":"IF(ISERROR(VLOOKUP($A41,check!$A:$L,6,FALSE))=TRUE,\"\",VLOOKUP($A41,check!$A:$L,6,FALSE))","v":""},{"$f":"IF(ISERROR(VLOOKUP($A41,check!$A:$L,7,FALSE))=TRUE,\"\",VLOOKUP($A41,check!$A:$L,7,FALSE))","v":""},{"$f":"IF(ISERROR(VLOOKUP($A41,check!$A:$L,8,FALSE))=TRUE,\"\",VLOOKUP($A41,check!$A:$L,8,FALSE))","v":""},{"$f":"IF(ISERROR(VLOOKUP($A41,check!$A:$L,9,FALSE))=TRUE,\"\",VLOOKUP($A41,check!$A:$L,9,FALSE))","v":""},{"$f":"IF(ISERROR(VLOOKUP($A41,check!$A:$L,10,FALSE))=TRUE,\"\",VLOOKUP($A41,check!$A:$L,10,FALSE))","v":""},{"$f":"IF(ISERROR(VLOOKUP($A41,check!$A:$L,11,FALSE))=TRUE,\"\",VLOOKUP($A41,check!$A:$L,11,FALSE))","v":""},{"$f":"IF(ISERROR(VLOOKUP($A41,check!$A:$L,12,FALSE))=TRUE,\"\",VLOOKUP($A41,check!$A:$L,12,FALSE))","v":""}]
[42,{"$f":"IF(C42=\"\",\"\",MATCH(A42,check!A:A,0))","v":""},{"$f":"IF(ISERROR(VLOOKUP($A42,check!$A:$L,2,FALSE))=TRUE,\"\",VLOOKUP($A42,check!$A:$L,2,FALSE))","v":""},{"$f":"IF(ISERROR(VLOOKUP($A42,check!$A:$L,3,FALSE))=TRUE,\"\",VLOOKUP($A42,check!$A:$L,3,FALSE))","v":""},{"$f":"IF(ISERROR(VLOOKUP($A42,check!$A:$L,4,FALSE))=TRUE,\"\",VLOOKUP($A42,check!$A:$L,4,FALSE))","v":""},{"$f":"IF(ISERROR(VLOOKUP($A42,check!$A:$L,5,FALSE))=TRUE,\"\",VLOOKUP($A42,check!$A:$L,5,FALSE))","v":""},{"$f":"IF(ISERROR(VLOOKUP($A42,check!$A:$L,6,FALSE))=TRUE,\"\",VLOOKUP($A42,check!$A:$L,6,FALSE))","v":""},{"$f":"IF(ISERROR(VLOOKUP($A42,check!$A:$L,7,FALSE))=TRUE,\"\",VLOOKUP($A42,check!$A:$L,7,FALSE))","v":""},{"$f":"IF(ISERROR(VLOOKUP($A42,check!$A:$L,8,FALSE))=TRUE,\"\",VLOOKUP($A42,check!$A:$L,8,FALSE))","v":""},{"$f":"IF(ISERROR(VLOOKUP($A42,check!$A:$L,9,FALSE))=TRUE,\"\",VLOOKUP($A42,check!$A:$L,9,FALSE))","v":""},{"$f":"IF(ISERROR(VLOOKUP($A42,check!$A:$L,10,FALSE))=TRUE,\"\",VLOOKUP($A42,check!$A:$L,10,FALSE))","v":""},{"$f":"IF(ISERROR(VLOOKUP($A42,check!$A:$L,11,FALSE))=TRUE,\"\",VLOOKUP($A42,check!$A:$L,11,FALSE))","v":""},{"$f":"IF(ISERROR(VLOOKUP($A42,check!$A:$L,12,FALSE))=TRUE,\"\",VLOOKUP($A42,check!$A:$L,12,FALSE))","v":""}]
[43,{"$f":"IF(C43=\"\",\"\",MATCH(A43,check!A:A,0))","v":""},{"$f":"IF(ISERROR(VLOOKUP($A43,check!$A:$L,2,FALSE))=TRUE,\"\",VLOOKUP($A43,check!$A:$L,2,FALSE))","v":""},{"$f":"IF(ISERROR(VLOOKUP($A43,check!$A:$L,3,FALSE))=TRUE,\"\",VLOOKUP($A43,check!$A:$L,3,FALSE))","v":""},{"$f":"IF(ISERROR(VLOOKUP($A43,check!$A:$L,4,FALSE))=TRUE,\"\",VLOOKUP($A43,check!$A:$L,4,FALSE))","v":""},{"$f":"IF(ISERROR(VLOOKUP($A43,check!$A:$L,5,FALSE))=TRUE,\"\",VLOOKUP($A43,check!$A:$L,5,FALSE))","v":""},{"$f":"IF(ISERROR(VLOOKUP($A43,check!$A:$L,6,FALSE))=TRUE,\"\",VLOOKUP($A43,check!$A:$L,6,FALSE))","v":""},{"$f":"IF(ISERROR(VLOOKUP($A43,check!$A:$L,7,FALSE))=TRUE,\"\",VLOOKUP($A43,check!$A:$L,7,FALSE))","v":""},{"$f":"IF(ISERROR(VLOOKUP($A43,check!$A:$L,8,FALSE))=TRUE,\"\",VLOOKUP($A43,check!$A:$L,8,FALSE))","v":""},{"$f":"IF(ISERROR(VLOOKUP($A43,check!$A:$L,9,FALSE))=TRUE,\"\",VLOOKUP($A43,check!$A:$L,9,FALSE))","v":""},{"$f":"IF(ISERROR(VLOOKUP($A43,check!$A:$L,10,FALSE))=TRUE,\"\",VLOOKUP($A43,check!$A:$L,10,FALSE))","v":""},{"$f":"IF(ISERROR(VLOOKUP($A43,check!$A:$L,11,FALSE))=TRUE,\"\",VLOOKUP($A43,check!$A:$L,11,FALSE))","v":""},{"$f":"IF(ISERROR(VLOOKUP($A43,check!$A:$L,12,FALSE))=TRUE,\"\",VLOOKUP($A43,check!$A:$L,12,FALSE))","v":""}]
[44,{"$f":"IF(C44=\"\",\"\",MATCH(A44,check!A:A,0))","v":""},{"$f":"IF(ISERROR(VLOOKUP($A44,check!$A:$L,2,FALSE))=TRUE,\"\",VLOOKUP($A44,check!$A:$L,2,FALSE))","v":""},{"$f":"IF(ISERROR(VLOOKUP($A44,check!$A:$L,3,FALSE))=TRUE,\"\",VLOOKUP($A44,check!$A:$L,3,FALSE))","v":""},{"$f":"IF(ISERROR(VLOOKUP($A44,check!$A:$L,4,FALSE))=TRUE,\"\",VLOOKUP($A44,check!$A:$L,4,FALSE))","v":""},{"$f":"IF(ISERROR(VLOOKUP($A44,check!$A:$L,5,FALSE))=TRUE,\"\",VLOOKUP($A44,check!$A:$L,5,FALSE))","v":""},{"$f":"IF(ISERROR(VLOOKUP($A44,check!$A:$L,6,FALSE))=TRUE,\"\",VLOOKUP($A44,check!$A:$L,6,FALSE))","v":""},{"$f":"IF(ISERROR(VLOOKUP($A44,check!$A:$L,7,FALSE))=TRUE,\"\",VLOOKUP($A44,check!$A:$L,7,FALSE))","v":""},{"$f":"IF(ISERROR(VLOOKUP($A44,check!$A:$L,8,FALSE))=TRUE,\"\",VLOOKUP($A44,check!$A:$L,8,FALSE))","v":""},{"$f":"IF(ISERROR(VLOOKUP($A44,check!$A:$L,9,FALSE))=TRUE,\"\",VLOOKUP($A44,check!$A:$L,9,FALSE))","v":""},{"$f":"IF(ISERROR(VLOOKUP($A44,check!$A:$L,10,FALSE))=TRUE,\"\",VLOOKUP($A44,check!$A:$L,10,FALSE))","v":""},{"$f":"IF(ISERROR(VLOOKUP($A44,check!$A:$L,11,FALSE))=TRUE,\"\",VLOOKUP($A44,check!$A:$L,11,FALSE))","v":""},{"$f":"IF(ISERROR(VLOOKUP($A44,check!$A:$L,12,FALSE))=TRUE,\"\",VLOOKUP($A44,check!$A:$L,12,FALSE))","v":""}]
[45,{"$f":"IF(C45=\"\",\"\",MATCH(A45,check!A:A,0))","v":""},{"$f":"IF(ISERROR(VLOOKUP($A45,check!$A:$L,2,FALSE))=TRUE,\"\",VLOOKUP($A45,check!$A:$L,2,FALSE))","v":""},{"$f":"IF(ISERROR(VLOOKUP($A45,check!$A:$L,3,FALSE))=TRUE,\"\",VLOOKUP($A45,check!$A:$L,3,FALSE))","v":""},{"$f":"IF(ISERROR(VLOOKUP($A45,check!$A:$L,4,FALSE))=TRUE,\"\",VLOOKUP($A45,check!$A:$L,4,FALSE))","v":""},{"$f":"IF(ISERROR(VLOOKUP($A45,check!$A:$L,5,FALSE))=TRUE,\"\",VLOOKUP($A45,check!$A:$L,5,FALSE))","v":""},{"$f":"IF(ISERROR(VLOOKUP($A45,check!$A:$L,6,FALSE))=TRUE,\"\",VLOOKUP($A45,check!$A:$L,6,FALSE))","v":""},{"$f":"IF(ISERROR(VLOOKUP($A45,check!$A:$L,7,FALSE))=TRUE,\"\",VLOOKUP($A45,check!$A:$L,7,FALSE))","v":""},{"$f":"IF(ISERROR(VLOOKUP($A45,check!$A:$L,8,FALSE))=TRUE,\"\",VLOOKUP($A45,check!$A:$L,8,FALSE))","v":""},{"$f":"IF(ISERROR(VLOOKUP($A45,check!$A:$L,9,FALSE))=TRUE,\"\",VLOOKUP($A45,check!$A:$L,9,FALSE))","v":""},{"$f":"IF(ISERROR(VLOOKUP($A45,check!$A:$L,10,FALSE))=TRUE,\"\",VLOOKUP($A45,check!$A:$L,10,FALSE))","v":""},{"$f":"IF(ISERROR(VLOOKUP($A45,check!$A:$L,11,FALSE))=TRUE,\"\",VLOOKUP($A45,check!$A:$L,11,FALSE))","v":""},{"$f":"IF(ISERROR(VLOOKUP($A45,check!$A:$L,12,FALSE))=TRUE,\"\",VLOOKUP($A45,check!$A:$L,12,FALSE))","v":""}]
[46,{"$f":"IF(C46=\"\",\"\",MATCH(A46,check!A:A,0))","v":""},{"$f":"IF(ISERROR(VLOOKUP($A46,check!$A:$L,2,FALSE))=TRUE,\"\",VLOOKUP($A46,check!$A:$L,2,FALSE))","v":""},{"$f":"IF(ISERROR(VLOOKUP($A46,check!$A:$L,3,FALSE))=TRUE,\"\",VLOOKUP($A46,check!$A:$L,3,FALSE))","v":""},{"$f":"IF(ISERROR(VLOOKUP($A46,check!$A:$L,4,FALSE))=TRUE,\"\",VLOOKUP($A46,check!$A:$L,4,FALSE))","v":""},{"$f":"IF(ISERROR(VLOOKUP($A46,check!$A:$L,5,FALSE))=TRUE,\"\",VLOOKUP($A46,check!$A:$L,5,FALSE))","v":""},{"$f":"IF(ISERROR(VLOOKUP($A46,check!$A:$L,6,FALSE))=TRUE,\"\",VLOOKUP($A46,check!$A:$L,6,FALSE))","v":""},{"$f":"IF(ISERROR(VLOOKUP($A46,check!$A:$L,7,FALSE))=TRUE,\"\",VLOOKUP($A46,check!$A:$L,7,FALSE))","v":""},{"$f":"IF(ISERROR(VLOOKUP($A46,check!$A:$L,8,FALSE))=TRUE,\"\",VLOOKUP($A46,check!$A:$L,8,FALSE))","v":""},{"$f":"IF(ISERROR(VLOOKUP($A46,check!$A:$L,9,FALSE))=TRUE,\"\",VLOOKUP($A46,check!$A:$L,9,FALSE))","v":""},{"$f":"IF(ISERROR(VLOOKUP($A46,check!$A:$L,10,FALSE))=TRUE,\"\",VLOOKUP($A46,check!$A:$L,10,FALSE))","v":""},{"$f":"IF(ISERROR(VLOOKUP($A46,check!$A:$L,11,FALSE))=TRUE,\"\",VLOOKUP($A46,check!$A:$L,11,FALSE))","v":""},{"$f":"IF(ISERROR(VLOOKUP($A46,check!$A:$L,12,FALSE))=TRUE,\"\",VLOOKUP($A46,check!$A:$L,12,FALSE))","v":""}]
[47,{"$f":"IF(C47=\"\",\"\",MATCH(A47,check!A:A,0))","v":""},{"$f":"IF(ISERROR(VLOOKUP($A47,check!$A:$L,2,FALSE))=TRUE,\"\",VLOOKUP($A47,check!$A:$L,2,FALSE))","v":""},{"$f":"IF(ISERROR(VLOOKUP($A47,check!$A:$L,3,FALSE))=TRUE,\"\",VLOOKUP($A47,check!$A:$L,3,FALSE))","v":""},{"$f":"IF(ISERROR(VLOOKUP($A47,check!$A:$L,4,FALSE))=TRUE,\"\",VLOOKUP($A47,check!$A:$L,4,FALSE))","v":""},{"$f":"IF(ISERROR(VLOOKUP($A47,check!$A:$L,5,FALSE))=TRUE,\"\",VLOOKUP($A47,check!$A:$L,5,FALSE))","v":""},{"$f":"IF(ISERROR(VLOOKUP($A47,check!$A:$L,6,FALSE))=TRUE,\"\",VLOOKUP($A47,check!$A:$L,6,FALSE))","v":""},{"$f":"IF(ISERROR(VLOOKUP($A47,check!$A:$L,7,FALSE))=TRUE,\"\",VLOOKUP($A47,check!$A:$L,7,FALSE))","v":""},{"$f":"IF(ISERROR(VLOOKUP($A47,check!$A:$L,8,FALSE))=TRUE,\"\",VLOOKUP($A47,check!$A:$L,8,FALSE))","v":""},{"$f":"IF(ISERROR(VLOOKUP($A47,check!$A:$L,9,FALSE))=TRUE,\"\",VLOOKUP($A47,check!$A:$L,9,FALSE))","v":""},{"$f":"IF(ISERROR(VLOOKUP($A47,check!$A:$L,10,FALSE))=TRUE,\"\",VLOOKUP($A47,check!$A:$L,10,FALSE))","v":""},{"$f":"IF(ISERROR(VLOOKUP($A47,check!$A:$L,11,FALSE))=TRUE,\"\",VLOOKUP($A47,check!$A:$L,11,FALSE))","v":""},{"$f":"IF(ISERROR(VLOOKUP($A47,check!$A:$L,12,FALSE))=TRUE,\"\",VLOOKUP($A47,check!$A:$L,12,FALSE))","v":""}]
[48,{"$f":"IF(C48=\"\",\"\",MATCH(A48,check!A:A,0))","v":""},{"$f":"IF(ISERROR(VLOOKUP($A48,check!$A:$L,2,FALSE))=TRUE,\"\",VLOOKUP($A48,check!$A:$L,2,FALSE))","v":""},{"$f":"IF(ISERROR(VLOOKUP($A48,check!$A:$L,3,FALSE))=TRUE,\"\",VLOOKUP($A48,check!$A:$L,3,FALSE))","v":""},{"$f":"IF(ISERROR(VLOOKUP($A48,check!$A:$L,4,FALSE))=TRUE,\"\",VLOOKUP($A48,check!$A:$L,4,FALSE))","v":""},{"$f":"IF(ISERROR(VLOOKUP($A48,check!$A:$L,5,FALSE))=TRUE,\"\",VLOOKUP($A48,check!$A:$L,5,FALSE))","v":""},{"$f":"IF(ISERROR(VLOOKUP($A48,check!$A:$L,6,FALSE))=TRUE,\"\",VLOOKUP($A48,check!$A:$L,6,FALSE))","v":""},{"$f":"IF(ISERROR(VLOOKUP($A48,check!$A:$L,7,FALSE))=TRUE,\"\",VLOOKUP($A48,check!$A:$L,7,FALSE))","v":""},{"$f":"IF(ISERROR(VLOOKUP($A48,check!$A:$L,8,FALSE))=TRUE,\"\",VLOOKUP($A48,check!$A:$L,8,FALSE))","v":""},{"$f":"IF(ISERROR(VLOOKUP($A48,check!$A:$L,9,FALSE))=TRUE,\"\",VLOOKUP($A48,check!$A:$L,9,FALSE))","v":""},{"$f":"IF(ISERROR(VLOOKUP($A48,check!$A:$L,10,FALSE))=TRUE,\"\",VLOOKUP($A48,check!$A:$L,10,FALSE))","v":""},{"$f":"IF(ISERROR(VLOOKUP($A48,check!$A:$L,11,FALSE))=TRUE,\"\",VLOOKUP($A48,check!$A:$L,11,FALSE))","v":""},{"$f":"IF(ISERROR(VLOOKUP($A48,check!$A:$L,12,FALSE))=TRUE,\"\",VLOOKUP($A48,check!$A:$L,12,FALSE))","v":""}]
[49,{"$f":"IF(C49=\"\",\"\",MATCH(A49,check!A:A,0))","v":""},{"$f":"IF(ISERROR(VLOOKUP($A49,check!$A:$L,2,FALSE))=TRUE,\"\",VLOOKUP($A49,check!$A:$L,2,FALSE))","v":""},{"$f":"IF(ISERROR(VLOOKUP($A49,check!$A:$L,3,FALSE))=TRUE,\"\",VLOOKUP($A49,check!$A:$L,3,FALSE))","v":""},{"$f":"IF(ISERROR(VLOOKUP($A49,check!$A:$L,4,FALSE))=TRUE,\"\",VLOOKUP($A49,check!$A:$L,4,FALSE))","v":""},{"$f":"IF(ISERROR(VLOOKUP($A49,check!$A:$L,5,FALSE))=TRUE,\"\",VLOOKUP($A49,check!$A:$L,5,FALSE))","v":""},{"$f":"IF(ISERROR(VLOOKUP($A49,check!$A:$L,6,FALSE))=TRUE,\"\",VLOOKUP($A49,check!$A:$L,6,FALSE))","v":""},{"$f":"IF(ISERROR(VLOOKUP($A49,check!$A:$L,7,FALSE))=TRUE,\"\",VLOOKUP($A49,check!$A:$L,7,FALSE))","v":""},{"$f":"IF(ISERROR(VLOOKUP($A49,check!$A:$L,8,FALSE))=TRUE,\"\",VLOOKUP($A49,check!$A:$L,8,FALSE))","v":""},{"$f":"IF(ISERROR(VLOOKUP($A49,check!$A:$L,9,FALSE))=TRUE,\"\",VLOOKUP($A49,check!$A:$L,9,FALSE))","v":""},{"$f":"IF(ISERROR(VLOOKUP($A49,check!$A:$L,10,FALSE))=TRUE,\"\",VLOOKUP($A49,check!$A:$L,10,FALSE))","v":""},{"$f":"IF(ISERROR(VLOOKUP($A49,check!$A:$L,11,FALSE))=TRUE,\"\",VLOOKUP($A49,check!$A:$L,11,FALSE))","v":""},{"$f":"IF(ISERROR(VLOOKUP($A49,check!$A:$L,12,FALSE))=TRUE,\"\",VLOOKUP($A49,check!$A:$L,12,FALSE))","v":""}]
[50,{"$f":"IF(C50=\"\",\"\",MATCH(A50,check!A:A,0))","v":""},{"$f":"IF(ISERROR(VLOOKUP($A50,check!$A:$L,2,FALSE))=TRUE,\"\",VLOOKUP($A50,check!$A:$L,2,FALSE))","v":""},{"$f":"IF(ISERROR(VLOOKUP($A50,check!$A:$L,3,FALSE))=TRUE,\"\",VLOOKUP($A50,check!$A:$L,3,FALSE))","v":""},{"$f":"IF(ISERROR(VLOOKUP($A50,check!$A:$L,4,FALSE))=TRUE,\"\",VLOOKUP($A50,check!$A:$L,4,FALSE))","v":""},{"$f":"IF(ISERROR(VLOOKUP($A50,check!$A:$L,5,FALSE))=TRUE,\"\",VLOOKUP($A50,check!$A:$L,5,FALSE))","v":""},{"$f":"IF(ISERROR(VLOOKUP($A50,check!$A:$L,6,FALSE))=TRUE,\"\",VLOOKUP($A50,check!$A:$L,6,FALSE))","v":""},{"$f":"IF(ISERROR(VLOOKUP($A50,check!$A:$L,7,FALSE))=TRUE,\"\",VLOOKUP($A50,check!$A:$L,7,FALSE))","v":""},{"$f":"IF(ISERROR(VLOOKUP($A50,check!$A:$L,8,FALSE))=TRUE,\"\",VLOOKUP($A50,check!$A:$L,8,FALSE))","v":""},{"$f":"IF(ISERROR(VLOOKUP($A50,check!$A:$L,9,FALSE))=TRUE,\"\",VLOOKUP($A50,check!$A:$L,9,FALSE))","v":""},{"$f":"IF(ISERROR(VLOOKUP($A50,check!$A:$L,10,FALSE))=TRUE,\"\",VLOOKUP($A50,check!$A:$L,10,FALSE))","v":""},{"$f":"IF(ISERROR(VLOOKUP($A50,check!$A:$L,11,FALSE))=TRUE,\"\",VLOOKUP($A50,check!$A:$L,11,FALSE))","v":""},{"$f":"IF(ISERROR(VLOOKUP($A50,check!$A:$L,12,FALSE))=TRUE,\"\",VLOOKUP($A50,check!$A:$L,12,FALSE))","v":""}]
[51,{"$f":"IF(C51=\"\",\"\",MATCH(A51,check!A:A,0))","v":""},{"$f":"IF(ISERROR(VLOOKUP($A51,check!$A:$L,2,FALSE))=TRUE,\"\",VLOOKUP($A51,check!$A:$L,2,FALSE))","v":""},{"$f":"IF(ISERROR(VLOOKUP($A51,check!$A:$L,3,FALSE))=TRUE,\"\",VLOOKUP($A51,check!$A:$L,3,FALSE))","v":""},{"$f":"IF(ISERROR(VLOOKUP($A51,check!$A:$L,4,FALSE))=TRUE,\"\",VLOOKUP($A51,check!$A:$L,4,FALSE))","v":""},{"$f":"IF(ISERROR(VLOOKUP($A51,check!$A:$L,5,FALSE))=TRUE,\"\",VLOOKUP($A51,check!$A:$L,5,FALSE))","v":""},{"$f":"IF(ISERROR(VLOOKUP($A51,check!$A:$L,6,FALSE))=TRUE,\"\",VLOOKUP($A51,check!$A:$L,6,FALSE))","v":""},{"$f":"IF(ISERROR(VLOOKUP($A51,check!$A:$L,7,FALSE))=TRUE,\"\",VLOOKUP($A51,check!$A:$L,7,FALSE))","v":""},{"$f":"IF(ISERROR(VLOOKUP($A51,check!$A:$L,8,FALSE))=TRUE,\"\",VLOOKUP($A51,check!$A:$L,8,FALSE))","v":""},{"$f":"IF(ISERROR(VLOOKUP($A51,check!$A:$L,9,FALSE))=TRUE,\"\",VLOOKUP($A51,check!$A:$L,9,FALSE))","v":""},{"$f":"IF(ISERROR(VLOOKUP($A51,check!$A:$L,10,FALSE))=TRUE,\"\",VLOOKUP($A51,check!$A:$L,10,FALSE))","v":""},{"$f":"IF(ISERROR(VLOOKUP($A51,check!$A:$L,11,FALSE))=TRUE,\"\",VLOOKUP($A51,check!$A:$L,11,FALSE))","v":""},{"$f":"IF(ISERROR(VLOOKUP($A51,check!$A:$L,12,FALSE))=TRUE,\"\",VLOOKUP($A51,check!$A:$L,12,FALSE))","v":""}]
[52,{"$f":"IF(C52=\"\",\"\",MATCH(A52,check!A:A,0))","v":""},{"$f":"IF(ISERROR(VLOOKUP($A52,check!$A:$L,2,FALSE))=TRUE,\"\",VLOOKUP($A52,check!$A:$L,2,FALSE))","v":""},{"$f":"IF(ISERROR(VLOOKUP($A52,check!$A:$L,3,FALSE))=TRUE,\"\",VLOOKUP($A52,check!$A:$L,3,FALSE))","v":""},{"$f":"IF(ISERROR(VLOOKUP($A52,check!$A:$L,4,FALSE))=TRUE,\"\",VLOOKUP($A52,check!$A:$L,4,FALSE))","v":""},{"$f":"IF(ISERROR(VLOOKUP($A52,check!$A:$L,5,FALSE))=TRUE,\"\",VLOOKUP($A52,check!$A:$L,5,FALSE))","v":""},{"$f":"IF(ISERROR(VLOOKUP($A52,check!$A:$L,6,FALSE))=TRUE,\"\",VLOOKUP($A52,check!$A:$L,6,FALSE))","v":""},{"$f":"IF(ISERROR(VLOOKUP($A52,check!$A:$L,7,FALSE))=TRUE,\"\",VLOOKUP($A52,check!$A:$L,7,FALSE))","v":""},{"$f":"IF(ISERROR(VLOOKUP($A52,check!$A:$L,8,FALSE))=TRUE,\"\",VLOOKUP($A52,check!$A:$L,8,FALSE))","v":""},{"$f":"IF(ISERROR(VLOOKUP($A52,check!$A:$L,9,FALSE))=TRUE,\"\",VLOOKUP($A52,check!$A:$L,9,FALSE))","v":""},{"$f":"IF(ISERROR(VLOOKUP($A52,check!$A:$L,10,FALSE))=TRUE,\"\",VLOOKUP($A52,check!$A:$L,10,FALSE))","v":""},{"$f":"IF(ISERROR(VLOOKUP($A52,check!$A:$L,11,FALSE))=TRUE,\"\",VLOOKUP($A52,check!$A:$L,11,FALSE))","v":""},{"$f":"IF(ISERROR(VLOOKUP($A52,check!$A:$L,12,FALSE))=TRUE,\"\",VLOOKUP($A52,check!$A:$L,12,FALSE))","v":""}]
[53,{"$f":"IF(C53=\"\",\"\",MATCH(A53,check!A:A,0))","v":""},{"$f":"IF(ISERROR(VLOOKUP($A53,check!$A:$L,2,FALSE))=TRUE,\"\",VLOOKUP($A53,check!$A:$L,2,FALSE))","v":""},{"$f":"IF(ISERROR(VLOOKUP($A53,check!$A:$L,3,FALSE))=TRUE,\"\",VLOOKUP($A53,check!$A:$L,3,FALSE))","v":""},{"$f":"IF(ISERROR(VLOOKUP($A53,check!$A:$L,4,FALSE))=TRUE,\"\",VLOOKUP($A53,check!$A:$L,4,FALSE))","v":""},{"$f":"IF(ISERROR(VLOOKUP($A53,check!$A:$L,5,FALSE))=TRUE,\"\",VLOOKUP($A53,check!$A:$L,5,FALSE))","v":""},{"$f":"IF(ISERROR(VLOOKUP($A53,check!$A:$L,6,FALSE))=TRUE,\"\",VLOOKUP($A53,check!$A:$L,6,FALSE))","v":""},{"$f":"IF(ISERROR(VLOOKUP($A53,check!$A:$L,7,FALSE))=TRUE,\"\",VLOOKUP($A53,check!$A:$L,7,FALSE))","v":""},{"$f":"IF(ISERROR(VLOOKUP($A53,check!$A:$L,8,FALSE))=TRUE,\"\",VLOOKUP($A53,check!$A:$L,8,FALSE))","v":""},{"$f":"IF(ISERROR(VLOOKUP($A53,check!$A:$L,9,FALSE))=TRUE,\"\",VLOOKUP($A53,check!$A:$L,9,FALSE))","v":""},{"$f":"IF(ISERROR(VLOOKUP($A53,check!$A:$L,10,FALSE))=TRUE,\"\",VLOOKUP($A53,check!$A:$L,10,FALSE))","v":""},{"$f":"IF(ISERROR(VLOOKUP($A53,check!$A:$L,11,FALSE))=TRUE,\"\",VLOOKUP($A53,check!$A:$L,11,FALSE))","v":""},{"$f":"IF(ISERROR(VLOOKUP($A53,check!$A:$L,12,FALSE))=TRUE,\"\",VLOOKUP($A53,check!$A:$L,12,FALSE))","v":""}]
[54,{"$f":"IF(C54=\"\",\"\",MATCH(A54,check!A:A,0))","v":""},{"$f":"IF(ISERROR(VLOOKUP($A54,check!$A:$L,2,FALSE))=TRUE,\"\",VLOOKUP($A54,check!$A:$L,2,FALSE))","v":""},{"$f":"IF(ISERROR(VLOOKUP($A54,check!$A:$L,3,FALSE))=TRUE,\"\",VLOOKUP($A54,check!$A:$L,3,FALSE))","v":""},{"$f":"IF(ISERROR(VLOOKUP($A54,check!$A:$L,4,FALSE))=TRUE,\"\",VLOOKUP($A54,check!$A:$L,4,FALSE))","v":""},{"$f":"IF(ISERROR(VLOOKUP($A54,check!$A:$L,5,FALSE))=TRUE,\"\",VLOOKUP($A54,check!$A:$L,5,FALSE))","v":""},{"$f":"IF(ISERROR(VLOOKUP($A54,check!$A:$L,6,FALSE))=TRUE,\"\",VLOOKUP($A54,check!$A:$L,6,FALSE))","v":""},{"$f":"IF(ISERROR(VLOOKUP($A54,check!$A:$L,7,FALSE))=TRUE,\"\",VLOOKUP($A54,check!$A:$L,7,FALSE))","v":""},{"$f":"IF(ISERROR(VLOOKUP($A54,check!$A:$L,8,FALSE))=TRUE,\"\",VLOOKUP($A54,check!$A:$L,8,FALSE))","v":""},{"$f":"IF(ISERROR(VLOOKUP($A54,check!$A:$L,9,FALSE))=TRUE,\"\",VLOOKUP($A54,check!$A:$L,9,FALSE))","v":""},{"$f":"IF(ISERROR(VLOOKUP($A54,check!$A:$L,10,FALSE))=TRUE,\"\",VLOOKUP($A54,check!$A:$L,10,FALSE))","v":""},{"$f":"IF(ISERROR(VLOOKUP($A54,check!$A:$L,11,FALSE))=TRUE,\"\",VLOOKUP($A54,check!$A:$L,11,FALSE))","v":""},{"$f":"IF(ISERROR(VLOOKUP($A54,check!$A:$L,12,FALSE))=TRUE,\"\",VLOOKUP($A54,check!$A:$L,12,FALSE))","v":""}]
[55,{"$f":"IF(C55=\"\",\"\",MATCH(A55,check!A:A,0))","v":""},{"$f":"IF(ISERROR(VLOOKUP($A55,check!$A:$L,2,FALSE))=TRUE,\"\",VLOOKUP($A55,check!$A:$L,2,FALSE))","v":""},{"$f":"IF(ISERROR(VLOOKUP($A55,check!$A:$L,3,FALSE))=TRUE,\"\",VLOOKUP($A55,check!$A:$L,3,FALSE))","v":""},{"$f":"IF(ISERROR(VLOOKUP($A55,check!$A:$L,4,FALSE))=TRUE,\"\",VLOOKUP($A55,check!$A:$L,4,FALSE))","v":""},{"$f":"IF(ISERROR(VLOOKUP($A55,check!$A:$L,5,FALSE))=TRUE,\"\",VLOOKUP($A55,check!$A:$L,5,FALSE))","v":""},{"$f":"IF(ISERROR(VLOOKUP($A55,check!$A:$L,6,FALSE))=TRUE,\"\",VLOOKUP($A55,check!$A:$L,6,FALSE))","v":""},{"$f":"IF(ISERROR(VLOOKUP($A55,check!$A:$L,7,FALSE))=TRUE,\"\",VLOOKUP($A55,check!$A:$L,7,FALSE))","v":""},{"$f":"IF(ISERROR(VLOOKUP($A55,check!$A:$L,8,FALSE))=TRUE,\"\",VLOOKUP($A55,check!$A:$L,8,FALSE))","v":""},{"$f":"IF(ISERROR(VLOOKUP($A55,check!$A:$L,9,FALSE))=TRUE,\"\",VLOOKUP($A55,check!$A:$L,9,FALSE))","v":""},{"$f":"IF(ISERROR(VLOOKUP($A55,check!$A:$L,10,FALSE))=TRUE,\"\",VLOOKUP($A55,check!$A:$L,10,FALSE))","v":""},{"$f":"IF(ISERROR(VLOOKUP($A55,check!$A:$L,11,FALSE))=TRUE,\"\",VLOOKUP($A55,check!$A:$L,11,FALSE))","v":""},{"$f":"IF(ISERROR(VLOOKUP($A55,check!$A:$L,12,FALSE))=TRUE,\"\",VLOOKUP($A55,check!$A:$L,12,FALSE))","v":""}]
[56,{"$f":"IF(C56=\"\",\"\",MATCH(A56,check!A:A,0))","v":""},{"$f":"IF(ISERROR(VLOOKUP($A56,check!$A:$L,2,FALSE))=TRUE,\"\",VLOOKUP($A56,check!$A:$L,2,FALSE))","v":""},{"$f":"IF(ISERROR(VLOOKUP($A56,check!$A:$L,3,FALSE))=TRUE,\"\",VLOOKUP($A56,check!$A:$L,3,FALSE))","v":""},{"$f":"IF(ISERROR(VLOOKUP($A56,check!$A:$L,4,FALSE))=TRUE,\"\",VLOOKUP($A56,check!$A:$L,4,FALSE))","v":""},{"$f":"IF(ISERROR(VLOOKUP($A56,check!$A:$L,5,FALSE))=TRUE,\"\",VLOOKUP($A56,check!$A:$L,5,FALSE))","v":""},{"$f":"IF(ISERROR(VLOOKUP($A56,check!$A:$L,6,FALSE))=TRUE,\"\",VLOOKUP($A56,check!$A:$L,6,FALSE))","v":""},{"$f":"IF(ISERROR(VLOOKUP($A56,check!$A:$L,7,FALSE))=TRUE,\"\",VLOOKUP($A56,check!$A:$L,7,FALSE))","v":""},{"$f":"IF(ISERROR(VLOOKUP($A56,check!$A:$L,8,FALSE))=TRUE,\"\",VLOOKUP($A56,check!$A:$L,8,FALSE))","v":""},{"$f":"IF(ISERROR(VLOOKUP($A56,check!$A:$L,9,FALSE))=TRUE,\"\",VLOOKUP($A56,check!$A:$L,9,FALSE))","v":""},{"$f":"IF(ISERROR(VLOOKUP($A56,check!$A:$L,10,FALSE))=TRUE,\"\",VLOOKUP($A56,check!$A:$L,10,FALSE))","v":""},{"$f":"IF(ISERROR(VLOOKUP($A56,check!$A:$L,11,FALSE))=TRUE,\"\",VLOOKUP($A56,check!$A:$L,11,FALSE))","v":""},{"$f":"IF(ISERROR(VLOOKUP($A56,check!$A:$L,12,FALSE))=TRUE,\"\",VLOOKUP($A56,check!$A:$L,12,FALSE))","v":""}]
[57,{"$f":"IF(C57=\"\",\"\",MATCH(A57,check!A:A,0))","v":""},{"$f":"IF(ISERROR(VLOOKUP($A57,check!$A:$L,2,FALSE))=TRUE,\"\",VLOOKUP($A57,check!$A:$L,2,FALSE))","v":""},{"$f":"IF(ISERROR(VLOOKUP($A57,check!$A:$L,3,FALSE))=TRUE,\"\",VLOOKUP($A57,check!$A:$L,3,FALSE))","v":""},{"$f":"IF(ISERROR(VLOOKUP($A57,check!$A:$L,4,FALSE))=TRUE,\"\",VLOOKUP($A57,check!$A:$L,4,FALSE))","v":""},{"$f":"IF(ISERROR(VLOOKUP($A57,check!$A:$L,5,FALSE))=TRUE,\"\",VLOOKUP($A57,check!$A:$L,5,FALSE))","v":""},{"$f":"IF(ISERROR(VLOOKUP($A57,check!$A:$L,6,FALSE))=TRUE,\"\",VLOOKUP($A57,check!$A:$L,6,FALSE))","v":""},{"$f":"IF(ISERROR(VLOOKUP($A57,check!$A:$L,7,FALSE))=TRUE,\"\",VLOOKUP($A57,check!$A:$L,7,FALSE))","v":""},{"$f":"IF(ISERROR(VLOOKUP($A57,check!$A:$L,8,FALSE))=TRUE,\"\",VLOOKUP($A57,check!$A:$L,8,FALSE))","v":""},{"$f":"IF(ISERROR(VLOOKUP($A57,check!$A:$L,9,FALSE))=TRUE,\"\",VLOOKUP($A57,check!$A:$L,9,FALSE))","v":""},{"$f":"IF(ISERROR(VLOOKUP($A57,check!$A:$L,10,FALSE))=TRUE,\"\",VLOOKUP($A57,check!$A:$L,10,FALSE))","v":""},{"$f":"IF(ISERROR(VLOOKUP($A57,check!$A:$L,11,FALSE))=TRUE,\"\",VLOOKUP($A57,check!$A:$L,11,FALSE))","v":""},{"$f":"IF(ISERROR(VLOOKUP($A57,check!$A:$L,12,FALSE))=TRUE,\"\",VLOOKUP($A57,check!$A:$L,12,FALSE))","v":""}]
[58,{"$f":"IF(C58=\"\",\"\",MATCH(A58,check!A:A,0))","v":""},{"$f":"IF(ISERROR(VLOOKUP($A58,check!$A:$L,2,FALSE))=TRUE,\"\",VLOOKUP($A58,check!$A:$L,2,FALSE))","v":""},{"$f":"IF(ISERROR(VLOOKUP($A58,check!$A:$L,3,FALSE))=TRUE,\"\",VLOOKUP($A58,check!$A:$L,3,FALSE))","v":""},{"$f":"IF(ISERROR(VLOOKUP($A58,check!$A:$L,4,FALSE))=TRUE,\"\",VLOOKUP($A58,check!$A:$L,4,FALSE))","v":""},{"$f":"IF(ISERROR(VLOOKUP($A58,check!$A:$L,5,FALSE))=TRUE,\"\",VLOOKUP($A58,check!$A:$L,5,FALSE))","v":""},{"$f":"IF(ISERROR(VLOOKUP($A58,check!$A:$L,6,FALSE))=TRUE,\"\",VLOOKUP($A58,check!$A:$L,6,FALSE))","v":""},{"$f":"IF(ISERROR(VLOOKUP($A58,check!$A:$L,7,FALSE))=TRUE,\"\",VLOOKUP($A58,check!$A:$L,7,FALSE))","v":""},{"$f":"IF(ISERROR(VLOOKUP($A58,check!$A:$L,8,FALSE))=TRUE,\"\",VLOOKUP($A58,check!$A:$L,8,FALSE))","v":""},{"$f":"IF(ISERROR(VLOOKUP($A58,check!$A:$L,9,FALSE))=TRUE,\"\",VLOOKUP($A58,check!$A:$L,9,FALSE))","v":""},{"$f":"IF(ISERROR(VLOOKUP($A58,check!$A:$L,10,FALSE))=TRUE,\"\",VLOOKUP($A58,check!$A:$L,10,FALSE))","v":""},{"$f":"IF(ISERROR(VLOOKUP($A58,check!$A:$L,11,FALSE))=TRUE,\"\",VLOOKUP($A58,check!$A:$L,11,FALSE))","v":""},{"$f":"IF(ISERROR(VLOOKUP($A58,check!$A:$L,12,FALSE))=TRUE,\"\",VLOOKUP($A58,check!$A:$L,12,FALSE))","v":""}]
[59,{"$f":"IF(C59=\"\",\"\",MATCH(A59,check!A:A,0))","v":""},{"$f":"IF(ISERROR(VLOOKUP($A59,check!$A:$L,2,FALSE))=TRUE,\"\",VLOOKUP($A59,check!$A:$L,2,FALSE))","v":""},{"$f":"IF(ISERROR(VLOOKUP($A59,check!$A:$L,3,FALSE))=TRUE,\"\",VLOOKUP($A59,check!$A:$L,3,FALSE))","v":""},{"$f":"IF(ISERROR(VLOOKUP($A59,check!$A:$L,4,FALSE))=TRUE,\"\",VLOOKUP($A59,check!$A:$L,4,FALSE))","v":""},{"$f":"IF(ISERROR(VLOOKUP($A59,check!$A:$L,5,FALSE))=TRUE,\"\",VLOOKUP($A59,check!$A:$L,5,FALSE))","v":""},{"$f":"IF(ISERROR(VLOOKUP($A59,check!$A:$L,6,FALSE))=TRUE,\"\",VLOOKUP($A59,check!$A:$L,6,FALSE))","v":""},{"$f":"IF(ISERROR(VLOOKUP($A59,check!$A:$L,7,FALSE))=TRUE,\"\",VLOOKUP($A59,check!$A:$L,7,FALSE))","v":""},{"$f":"IF(ISERROR(VLOOKUP($A59,check!$A:$L,8,FALSE))=TRUE,\"\",VLOOKUP($A59,check!$A:$L,8,FALSE))","v":""},{"$f":"IF(ISERROR(VLOOKUP($A59,check!$A:$L,9,FALSE))=TRUE,\"\",VLOOKUP($A59,check!$A:$L,9,FALSE))","v":""},{"$f":"IF(ISERROR(VLOOKUP($A59,check!$A:$L,10,FALSE))=TRUE,\"\",VLOOKUP($A59,check!$A:$L,10,FALSE))","v":""},{"$f":"IF(ISERROR(VLOOKUP($A59,check!$A:$L,11,FALSE))=TRUE,\"\",VLOOKUP($A59,check!$A:$L,11,FALSE))","v":""},{"$f":"IF(ISERROR(VLOOKUP($A59,check!$A:$L,12,FALSE))=TRUE,\"\",VLOOKUP($A59,check!$A:$L,12,FALSE))","v":""}]
[60,{"$f":"IF(C60=\"\",\"\",MATCH(A60,check!A:A,0))","v":""},{"$f":"IF(ISERROR(VLOOKUP($A60,check!$A:$L,2,FALSE))=TRUE,\"\",VLOOKUP($A60,check!$A:$L,2,FALSE))","v":""},{"$f":"IF(ISERROR(VLOOKUP($A60,check!$A:$L,3,FALSE))=TRUE,\"\",VLOOKUP($A60,check!$A:$L,3,FALSE))","v":""},{"$f":"IF(ISERROR(VLOOKUP($A60,check!$A:$L,4,FALSE))=TRUE,\"\",VLOOKUP($A60,check!$A:$L,4,FALSE))","v":""},{"$f":"IF(ISERROR(VLOOKUP($A60,check!$A:$L,5,FALSE))=TRUE,\"\",VLOOKUP($A60,check!$A:$L,5,FALSE))","v":""},{"$f":"IF(ISERROR(VLOOKUP($A60,check!$A:$L,6,FALSE))=TRUE,\"\",VLOOKUP($A60,check!$A:$L,6,FALSE))","v":""},{"$f":"IF(ISERROR(VLOOKUP($A60,check!$A:$L,7,FALSE))=TRUE,\"\",VLOOKUP($A60,check!$A:$L,7,FALSE))","v":""},{"$f":"IF(ISERROR(VLOOKUP($A60,check!$A:$L,8,FALSE))=TRUE,\"\",VLOOKUP($A60,check!$A:$L,8,FALSE))","v":""},{"$f":"IF(ISERROR(VLOOKUP($A60,check!$A:$L,9,FALSE))=TRUE,\"\",VLOOKUP($A60,check!$A:$L,9,FALSE))","v":""},{"$f":"IF(ISERROR(VLOOKUP($A60,check!$A:$L,10,FALSE))=TRUE,\"\",VLOOKUP($A60,check!$A:$L,10,FALSE))","v":""},{"$f":"IF(ISERROR(VLOOKUP($A60,check!$A:$L,11,FALSE))=TRUE,\"\",VLOOKUP($A60,check!$A:$L,11,FALSE))","v":""},{"$f":"IF(ISERROR(VLOOKUP($A60,check!$A:$L,12,FALSE))=TRUE,\"\",VLOOKUP($A60,check!$A:$L,12,FALSE))","v":""}]
[61,{"$f":"IF(C61=\"\",\"\",MATCH(A61,check!A:A,0))","v":""},{"$f":"IF(ISERROR(VLOOKUP($A61,check!$A:$L,2,FALSE))=TRUE,\"\",VLOOKUP($A61,check!$A:$L,2,FALSE))","v":""},{"$f":"IF(ISERROR(VLOOKUP($A61,check!$A:$L,3,FALSE))=TRUE,\"\",VLOOKUP($A61,check!$A:$L,3,FALSE))","v":""},{"$f":"IF(ISERROR(VLOOKUP($A61,check!$A:$L,4,FALSE))=TRUE,\"\",VLOOKUP($A61,check!$A:$L,4,FALSE))","v":""},{"$f":"IF(ISERROR(VLOOKUP($A61,check!$A:$L,5,FALSE))=TRUE,\"\",VLOOKUP($A61,check!$A:$L,5,FALSE))","v":""},{"$f":"IF(ISERROR(VLOOKUP($A61,check!$A:$L,6,FALSE))=TRUE,\"\",VLOOKUP($A61,check!$A:$L,6,FALSE))","v":""},{"$f":"IF(ISERROR(VLOOKUP($A61,check!$A:$L,7,FALSE))=TRUE,\"\",VLOOKUP($A61,check!$A:$L,7,FALSE))","v":""},{"$f":"IF(ISERROR(VLOOKUP($A61,check!$A:$L,8,FALSE))=TRUE,\"\",VLOOKUP($A61,check!$A:$L,8,FALSE))","v":""},{"$f":"IF(ISERROR(VLOOKUP($A61,check!$A:$L,9,FALSE))=TRUE,\"\",VLOOKUP($A61,check!$A:$L,9,FALSE))","v":""},{"$f":"IF(ISERROR(VLOOKUP($A61,check!$A:$L,10,FALSE))=TRUE,\"\",VLOOKUP($A61,check!$A:$L,10,FALSE))","v":""},{"$f":"IF(ISERROR(VLOOKUP($A61,check!$A:$L,11,FALSE))=TRUE,\"\",VLOOKUP($A61,check!$A:$L,11,FALSE))","v":""},{"$f":"IF(ISERROR(VLOOKUP($A61,check!$A:$L,12,FALSE))=TRUE,\"\",VLOOKUP($A61,check!$A:$L,12,FALSE))","v":""}]
[62,{"$f":"IF(C62=\"\",\"\",MATCH(A62,check!A:A,0))","v":""},{"$f":"IF(ISERROR(VLOOKUP($A62,check!$A:$L,2,FALSE))=TRUE,\"\",VLOOKUP($A62,check!$A:$L,2,FALSE))","v":""},{"$f":"IF(ISERROR(VLOOKUP($A62,check!$A:$L,3,FALSE))=TRUE,\"\",VLOOKUP($A62,check!$A:$L,3,FALSE))","v":""},{"$f":"IF(ISERROR(VLOOKUP($A62,check!$A:$L,4,FALSE))=TRUE,\"\",VLOOKUP($A62,check!$A:$L,4,FALSE))","v":""},{"$f":"IF(ISERROR(VLOOKUP($A62,check!$A:$L,5,FALSE))=TRUE,\"\",VLOOKUP($A62,check!$A:$L,5,FALSE))","v":""},{"$f":"IF(ISERROR(VLOOKUP($A62,check!$A:$L,6,FALSE))=TRUE,\"\",VLOOKUP($A62,check!$A:$L,6,FALSE))","v":""},{"$f":"IF(ISERROR(VLOOKUP($A62,check!$A:$L,7,FALSE))=TRUE,\"\",VLOOKUP($A62,check!$A:$L,7,FALSE))","v":""},{"$f":"IF(ISERROR(VLOOKUP($A62,check!$A:$L,8,FALSE))=TRUE,\"\",VLOOKUP($A62,check!$A:$L,8,FALSE))","v":""},{"$f":"IF(ISERROR(VLOOKUP($A62,check!$A:$L,9,FALSE))=TRUE,\"\",VLOOKUP($A62,check!$A:$L,9,FALSE))","v":""},{"$f":"IF(ISERROR(VLOOKUP($A62,check!$A:$L,10,FALSE))=TRUE,\"\",VLOOKUP($A62,check!$A:$L,10,FALSE))","v":""},{"$f":"IF(ISERROR(VLOOKUP($A62,check!$A:$L,11,FALSE))=TRUE,\"\",VLOOKUP($A62,check!$A:$L,11,FALSE))","v":""},{"$f":"IF(ISERROR(VLOOKUP($A62,check!$A:$L,12,FALSE))=TRUE,\"\",VLOOKUP($A62,check!$A:$L,12,FALSE))","v":""}]
[63,{"$f":"IF(C63=\"\",\"\",MATCH(A63,check!A:A,0))","v":""},{"$f":"IF(ISERROR(VLOOKUP($A63,check!$A:$L,2,FALSE))=TRUE,\"\",VLOOKUP($A63,check!$A:$L,2,FALSE))","v":""},{"$f":"IF(ISERROR(VLOOKUP($A63,check!$A:$L,3,FALSE))=TRUE,\"\",VLOOKUP($A63,check!$A:$L,3,FALSE))","v":""},{"$f":"IF(ISERROR(VLOOKUP($A63,check!$A:$L,4,FALSE))=TRUE,\"\",VLOOKUP($A63,check!$A:$L,4,FALSE))","v":""},{"$f":"IF(ISERROR(VLOOKUP($A63,check!$A:$L,5,FALSE))=TRUE,\"\",VLOOKUP($A63,check!$A:$L,5,FALSE))","v":""},{"$f":"IF(ISERROR(VLOOKUP($A63,check!$A:$L,6,FALSE))=TRUE,\"\",VLOOKUP($A63,check!$A:$L,6,FALSE))","v":""},{"$f":"IF(ISERROR(VLOOKUP($A63,check!$A:$L,7,FALSE))=TRUE,\"\",VLOOKUP($A63,check!$A:$L,7,FALSE))","v":""},{"$f":"IF(ISERROR(VLOOKUP($A63,check!$A:$L,8,FALSE))=TRUE,\"\",VLOOKUP($A63,check!$A:$L,8,FALSE))","v":""},{"$f":"IF(ISERROR(VLOOKUP($A63,check!$A:$L,9,FALSE))=TRUE,\"\",VLOOKUP($A63,check!$A:$L,9,FALSE))","v":""},{"$f":"IF(ISERROR(VLOOKUP($A63,check!$A:$L,10,FALSE))=TRUE,\"\",VLOOKUP($A63,check!$A:$L,10,FALSE))","v":""},{"$f":"IF(ISERROR(VLOOKUP($A63,check!$A:$L,11,FALSE))=TRUE,\"\",VLOOKUP($A63,check!$A:$L,11,FALSE))","v":""},{"$f":"IF(ISERROR(VLOOKUP($A63,check!$A:$L,12,FALSE))=TRUE,\"\",VLOOKUP($A63,check!$A:$L,12,FALSE))","v":""}]
[64,{"$f":"IF(C64=\"\",\"\",MATCH(A64,check!A:A,0))","v":""},{"$f":"IF(ISERROR(VLOOKUP($A64,check!$A:$L,2,FALSE))=TRUE,\"\",VLOOKUP($A64,check!$A:$L,2,FALSE))","v":""},{"$f":"IF(ISERROR(VLOOKUP($A64,check!$A:$L,3,FALSE))=TRUE,\"\",VLOOKUP($A64,check!$A:$L,3,FALSE))","v":""},{"$f":"IF(ISERROR(VLOOKUP($A64,check!$A:$L,4,FALSE))=TRUE,\"\",VLOOKUP($A64,check!$A:$L,4,FALSE))","v":""},{"$f":"IF(ISERROR(VLOOKUP($A64,check!$A:$L,5,FALSE))=TRUE,\"\",VLOOKUP($A64,check!$A:$L,5,FALSE))","v":""},{"$f":"IF(ISERROR(VLOOKUP($A64,check!$A:$L,6,FALSE))=TRUE,\"\",VLOOKUP($A64,check!$A:$L,6,FALSE))","v":""},{"$f":"IF(ISERROR(VLOOKUP($A64,check!$A:$L,7,FALSE))=TRUE,\"\",VLOOKUP($A64,check!$A:$L,7,FALSE))","v":""},{"$f":"IF(ISERROR(VLOOKUP($A64,check!$A:$L,8,FALSE))=TRUE,\"\",VLOOKUP($A64,check!$A:$L,8,FALSE))","v":""},{"$f":"IF(ISERROR(VLOOKUP($A64,check!$A:$L,9,FALSE))=TRUE,\"\",VLOOKUP($A64,check!$A:$L,9,FALSE))","v":""},{"$f":"IF(ISERROR(VLOOKUP($A64,check!$A:$L,10,FALSE))=TRUE,\"\",VLOOKUP($A64,check!$A:$L,10,FALSE))","v":""},{"$f":"IF(ISERROR(VLOOKUP($A64,check!$A:$L,11,FALSE))=TRUE,\"\",VLOOKUP($A64,check!$A:$L,11,FALSE))","v":""},{"$f":"IF(ISERROR(VLOOKUP($A64,check!$A:$L,12,FALSE))=TRUE,\"\",VLOOKUP($A64,check!$A:$L,12,FALSE))","v":""}]
[65,{"$f":"IF(C65=\"\",\"\",MATCH(A65,check!A:A,0))","v":""},{"$f":"IF(ISERROR(VLOOKUP($A65,check!$A:$L,2,FALSE))=TRUE,\"\",VLOOKUP($A65,check!$A:$L,2,FALSE))","v":""},{"$f":"IF(ISERROR(VLOOKUP($A65,check!$A:$L,3,FALSE))=TRUE,\"\",VLOOKUP($A65,check!$A:$L,3,FALSE))","v":""},{"$f":"IF(ISERROR(VLOOKUP($A65,check!$A:$L,4,FALSE))=TRUE,\"\",VLOOKUP($A65,check!$A:$L,4,FALSE))","v":""},{"$f":"IF(ISERROR(VLOOKUP($A65,check!$A:$L,5,FALSE))=TRUE,\"\",VLOOKUP($A65,check!$A:$L,5,FALSE))","v":""},{"$f":"IF(ISERROR(VLOOKUP($A65,check!$A:$L,6,FALSE))=TRUE,\"\",VLOOKUP($A65,check!$A:$L,6,FALSE))","v":""},{"$f":"IF(ISERROR(VLOOKUP($A65,check!$A:$L,7,FALSE))=TRUE,\"\",VLOOKUP($A65,check!$A:$L,7,FALSE))","v":""},{"$f":"IF(ISERROR(VLOOKUP($A65,check!$A:$L,8,FALSE))=TRUE,\"\",VLOOKUP($A65,check!$A:$L,8,FALSE))","v":""},{"$f":"IF(ISERROR(VLOOKUP($A65,check!$A:$L,9,FALSE))=TRUE,\"\",VLOOKUP($A65,check!$A:$L,9,FALSE))","v":""},{"$f":"IF(ISERROR(VLOOKUP($A65,check!$A:$L,10,FALSE))=TRUE,\"\",VLOOKUP($A65,check!$A:$L,10,FALSE))","v":""},{"$f":"IF(ISERROR(VLOOKUP($A65,check!$A:$L,11,FALSE))=TRUE,\"\",VLOOKUP($A65,check!$A:$L,11,FALSE))","v":""},{"$f":"IF(ISERROR(VLOOKUP($A65,check!$A:$L,12,FALSE))=TRUE,\"\",VLOOKUP($A65,check!$A:$L,12,FALSE))","v":""}]
[66,{"$f":"IF(C66=\"\",\"\",MATCH(A66,check!A:A,0))","v":""},{"$f":"IF(ISERROR(VLOOKUP($A66,check!$A:$L,2,FALSE))=TRUE,\"\",VLOOKUP($A66,check!$A:$L,2,FALSE))","v":""},{"$f":"IF(ISERROR(VLOOKUP($A66,check!$A:$L,3,FALSE))=TRUE,\"\",VLOOKUP($A66,check!$A:$L,3,FALSE))","v":""},{"$f":"IF(ISERROR(VLOOKUP($A66,check!$A:$L,4,FALSE))=TRUE,\"\",VLOOKUP($A66,check!$A:$L,4,FALSE))","v":""},{"$f":"IF(ISERROR(VLOOKUP($A66,check!$A:$L,5,FALSE))=TRUE,\"\",VLOOKUP($A66,check!$A:$L,5,FALSE))","v":""},{"$f":"IF(ISERROR(VLOOKUP($A66,check!$A:$L,6,FALSE))=TRUE,\"\",VLOOKUP($A66,check!$A:$L,6,FALSE))","v":""},{"$f":"IF(ISERROR(VLOOKUP($A66,check!$A:$L,7,FALSE))=TRUE,\"\",VLOOKUP($A66,check!$A:$L,7,FALSE))","v":""},{"$f":"IF(ISERROR(VLOOKUP($A66,check!$A:$L,8,FALSE))=TRUE,\"\",VLOOKUP($A66,check!$A:$L,8,FALSE))","v":""},{"$f":"IF(ISERROR(VLOOKUP($A66,check!$A:$L,9,FALSE))=TRUE,\"\",VLOOKUP($A66,check!$A:$L,9,FALSE))","v":""},{"$f":"IF(ISERROR(VLOOKUP($A66,check!$A:$L,10,FALSE))=TRUE,\"\",VLOOKUP($A66,check!$A:$L,10,FALSE))","v":""},{"$f":"IF(ISERROR(VLOOKUP($A66,check!$A:$L,11,FALSE))=TRUE,\"\",VLOOKUP($A66,check!$A:$L,11,FALSE))","v":""},{"$f":"IF(ISERROR(VLOOKUP($A66,check!$A:$L,12,FALSE))=TRUE,\"\",VLOOKUP($A66,check!$A:$L,12,FALSE))","v":""}]
[67,{"$f":"IF(C67=\"\",\"\",MATCH(A67,check!A:A,0))","v":""},{"$f":"IF(ISERROR(VLOOKUP($A67,check!$A:$L,2,FALSE))=TRUE,\"\",VLOOKUP($A67,check!$A:$L,2,FALSE))","v":""},{"$f":"IF(ISERROR(VLOOKUP($A67,check!$A:$L,3,FALSE))=TRUE,\"\",VLOOKUP($A67,check!$A:$L,3,FALSE))","v":""},{"$f":"IF(ISERROR(VLOOKUP($A67,check!$A:$L,4,FALSE))=TRUE,\"\",VLOOKUP($A67,check!$A:$L,4,FALSE))","v":""},{"$f":"IF(ISERROR(VLOOKUP($A67,check!$A:$L,5,FALSE))=TRUE,\"\",VLOOKUP($A67,check!$A:$L,5,FALSE))","v":""},{"$f":"IF(ISERROR(VLOOKUP($A67,check!$A:$L,6,FALSE))=TRUE,\"\",VLOOKUP($A67,check!$A:$L,6,FALSE))","v":""},{"$f":"IF(ISERROR(VLOOKUP($A67,check!$A:$L,7,FALSE))=TRUE,\"\",VLOOKUP($A67,check!$A:$L,7,FALSE))","v":""},{"$f":"IF(ISERROR(VLOOKUP($A67,check!$A:$L,8,FALSE))=TRUE,\"\",VLOOKUP($A67,check!$A:$L,8,FALSE))","v":""},{"$f":"IF(ISERROR(VLOOKUP($A67,check!$A:$L,9,FALSE))=TRUE,\"\",VLOOKUP($A67,check!$A:$L,9,FALSE))","v":""},{"$f":"IF(ISERROR(VLOOKUP($A67,check!$A:$L,10,FALSE))=TRUE,\"\",VLOOKUP($A67,check!$A:$L,10,FALSE))","v":""},{"$f":"IF(ISERROR(VLOOKUP($A67,check!$A:$L,11,FALSE))=TRUE,\"\",VLOOKUP($A67,check!$A:$L,11,FALSE))","v":""},{"$f":"IF(ISERROR(VLOOKUP($A67,check!$A:$L,12,FALSE))=TRUE,\"\",VLOOKUP($A67,check!$A:$L,12,FALSE))","v":""}]
[{"$f":"A67+1","v":68},{"$f":"IF(C68=\"\",\"\",MATCH(A68,check!A:A,0))","v":""},{"$f":"IF(ISERROR(VLOOKUP($A68,check!$A:$L,2,FALSE))=TRUE,\"\",VLOOKUP($A68,check!$A:$L,2,FALSE))","v":""},{"$f":"IF(ISERROR(VLOOKUP($A68,check!$A:$L,3,FALSE))=TRUE,\"\",VLOOKUP($A68,check!$A:$L,3,FALSE))","v":""},{"$f":"IF(ISERROR(VLOOKUP($A68,check!$A:$L,4,FALSE))=TRUE,\"\",VLOOKUP($A68,check!$A:$L,4,FALSE))","v":""},{"$f":"IF(ISERROR(VLOOKUP($A68,check!$A:$L,5,FALSE))=TRUE,\"\",VLOOKUP($A68,check!$A:$L,5,FALSE))","v":""},{"$f":"IF(ISERROR(VLOOKUP($A68,check!$A:$L,6,FALSE))=TRUE,\"\",VLOOKUP($A68,check!$A:$L,6,FALSE))","v":""},{"$f":"IF(ISERROR(VLOOKUP($A68,check!$A:$L,7,FALSE))=TRUE,\"\",VLOOKUP($A68,check!$A:$L,7,FALSE))","v":""},{"$f":"IF(ISERROR(VLOOKUP($A68,check!$A:$L,8,FALSE))=TRUE,\"\",VLOOKUP($A68,check!$A:$L,8,FALSE))","v":""},{"$f":"IF(ISERROR(VLOOKUP($A68,check!$A:$L,9,FALSE))=TRUE,\"\",VLOOKUP($A68,check!$A:$L,9,FALSE))","v":""},{"$f":"IF(ISERROR(VLOOKUP($A68,check!$A:$L,10,FALSE))=TRUE,\"\",VLOOKUP($A68,check!$A:$L,10,FALSE))","v":""},{"$f":"IF(ISERROR(VLOOKUP($A68,check!$A:$L,11,FALSE))=TRUE,\"\",VLOOKUP($A68,check!$A:$L,11,FALSE))","v":""},{"$f":"IF(ISERROR(VLOOKUP($A68,check!$A:$L,12,FALSE))=TRUE,\"\",VLOOKUP($A68,check!$A:$L,12,FALSE))","v":""}]
[69,{"$f":"IF(C69=\"\",\"\",MATCH(A69,check!A:A,0))","v":""},{"$f":"IF(ISERROR(VLOOKUP($A69,check!$A:$L,2,FALSE))=TRUE,\"\",VLOOKUP($A69,check!$A:$L,2,FALSE))","v":""},{"$f":"IF(ISERROR(VLOOKUP($A69,check!$A:$L,3,FALSE))=TRUE,\"\",VLOOKUP($A69,check!$A:$L,3,FALSE))","v":""},{"$f":"IF(ISERROR(VLOOKUP($A69,check!$A:$L,4,FALSE))=TRUE,\"\",VLOOKUP($A69,check!$A:$L,4,FALSE))","v":""},{"$f":"IF(ISERROR(VLOOKUP($A69,check!$A:$L,5,FALSE))=TRUE,\"\",VLOOKUP($A69,check!$A:$L,5,FALSE))","v":""},{"$f":"IF(ISERROR(VLOOKUP($A69,check!$A:$L,6,FALSE))=TRUE,\"\",VLOOKUP($A69,check!$A:$L,6,FALSE))","v":""},{"$f":"IF(ISERROR(VLOOKUP($A69,check!$A:$L,7,FALSE))=TRUE,\"\",VLOOKUP($A69,check!$A:$L,7,FALSE))","v":""},{"$f":"IF(ISERROR(VLOOKUP($A69,check!$A:$L,8,FALSE))=TRUE,\"\",VLOOKUP($A69,check!$A:$L,8,FALSE))","v":""},{"$f":"IF(ISERROR(VLOOKUP($A69,check!$A:$L,9,FALSE))=TRUE,\"\",VLOOKUP($A69,check!$A:$L,9,FALSE))","v":""},{"$f":"IF(ISERROR(VLOOKUP($A69,check!$A:$L,10,FALSE))=TRUE,\"\",VLOOKUP($A69,check!$A:$L,10,FALSE))","v":""},{"$f":"IF(ISERROR(VLOOKUP($A69,check!$A:$L,11,FALSE))=TRUE,\"\",VLOOKUP($A69,check!$A:$L,11,FALSE))","v":""},{"$f":"IF(ISERROR(VLOOKUP($A69,check!$A:$L,12,FALSE))=TRUE,\"\",VLOOKUP($A69,check!$A:$L,12,FALSE))","v":""}]
[70,{"$f":"IF(C70=\"\",\"\",MATCH(A70,check!A:A,0))","v":""},{"$f":"IF(ISERROR(VLOOKUP($A70,check!$A:$L,2,FALSE))=TRUE,\"\",VLOOKUP($A70,check!$A:$L,2,FALSE))","v":""},{"$f":"IF(ISERROR(VLOOKUP($A70,check!$A:$L,3,FALSE))=TRUE,\"\",VLOOKUP($A70,check!$A:$L,3,FALSE))","v":""},{"$f":"IF(ISERROR(VLOOKUP($A70,check!$A:$L,4,FALSE))=TRUE,\"\",VLOOKUP($A70,check!$A:$L,4,FALSE))","v":""},{"$f":"IF(ISERROR(VLOOKUP($A70,check!$A:$L,5,FALSE))=TRUE,\"\",VLOOKUP($A70,check!$A:$L,5,FALSE))","v":""},{"$f":"IF(ISERROR(VLOOKUP($A70,check!$A:$L,6,FALSE))=TRUE,\"\",VLOOKUP($A70,check!$A:$L,6,FALSE))","v":""},{"$f":"IF(ISERROR(VLOOKUP($A70,check!$A:$L,7,FALSE))=TRUE,\"\",VLOOKUP($A70,check!$A:$L,7,FALSE))","v":""},{"$f":"IF(ISERROR(VLOOKUP($A70,check!$A:$L,8,FALSE))=TRUE,\"\",VLOOKUP($A70,check!$A:$L,8,FALSE))","v":""},{"$f":"IF(ISERROR(VLOOKUP($A70,check!$A:$L,9,FALSE))=TRUE,\"\",VLOOKUP($A70,check!$A:$L,9,FALSE))","v":""},{"$f":"IF(ISERROR(VLOOKUP($A70,check!$A:$L,10,FALSE))=TRUE,\"\",VLOOKUP($A70,check!$A:$L,10,FALSE))","v":""},{"$f":"IF(ISERROR(VLOOKUP($A70,check!$A:$L,11,FALSE))=TRUE,\"\",VLOOKUP($A70,check!$A:$L,11,FALSE))","v":""},{"$f":"IF(ISERROR(VLOOKUP($A70,check!$A:$L,12,FALSE))=TRUE,\"\",VLOOKUP($A70,check!$A:$L,12,FALSE))","v":""}]
[71,{"$f":"IF(C71=\"\",\"\",MATCH(A71,check!A:A,0))","v":""},{"$f":"IF(ISERROR(VLOOKUP($A71,check!$A:$L,2,FALSE))=TRUE,\"\",VLOOKUP($A71,check!$A:$L,2,FALSE))","v":""},{"$f":"IF(ISERROR(VLOOKUP($A71,check!$A:$L,3,FALSE))=TRUE,\"\",VLOOKUP($A71,check!$A:$L,3,FALSE))","v":""},{"$f":"IF(ISERROR(VLOOKUP($A71,check!$A:$L,4,FALSE))=TRUE,\"\",VLOOKUP($A71,check!$A:$L,4,FALSE))","v":""},{"$f":"IF(ISERROR(VLOOKUP($A71,check!$A:$L,5,FALSE))=TRUE,\"\",VLOOKUP($A71,check!$A:$L,5,FALSE))","v":""},{"$f":"IF(ISERROR(VLOOKUP($A71,check!$A:$L,6,FALSE))=TRUE,\"\",VLOOKUP($A71,check!$A:$L,6,FALSE))","v":""},{"$f":"IF(ISERROR(VLOOKUP($A71,check!$A:$L,7,FALSE))=TRUE,\"\",VLOOKUP($A71,check!$A:$L,7,FALSE))","v":""},{"$f":"IF(ISERROR(VLOOKUP($A71,check!$A:$L,8,FALSE))=TRUE,\"\",VLOOKUP($A71,check!$A:$L,8,FALSE))","v":""},{"$f":"IF(ISERROR(VLOOKUP($A71,check!$A:$L,9,FALSE))=TRUE,\"\",VLOOKUP($A71,check!$A:$L,9,FALSE))","v":""},{"$f":"IF(ISERROR(VLOOKUP($A71,check!$A:$L,10,FALSE))=TRUE,\"\",VLOOKUP($A71,check!$A:$L,10,FALSE))","v":""},{"$f":"IF(ISERROR(VLOOKUP($A71,check!$A:$L,11,FALSE))=TRUE,\"\",VLOOKUP($A71,check!$A:$L,11,FALSE))","v":""},{"$f":"IF(ISERROR(VLOOKUP($A71,check!$A:$L,12,FALSE))=TRUE,\"\",VLOOKUP($A71,check!$A:$L,12,FALSE))","v":""}]
[72,{"$f":"IF(C72=\"\",\"\",MATCH(A72,check!A:A,0))","v":""},{"$f":"IF(ISERROR(VLOOKUP($A72,check!$A:$L,2,FALSE))=TRUE,\"\",VLOOKUP($A72,check!$A:$L,2,FALSE))","v":""},{"$f":"IF(ISERROR(VLOOKUP($A72,check!$A:$L,3,FALSE))=TRUE,\"\",VLOOKUP($A72,check!$A:$L,3,FALSE))","v":""},{"$f":"IF(ISERROR(VLOOKUP($A72,check!$A:$L,4,FALSE))=TRUE,\"\",VLOOKUP($A72,check!$A:$L,4,FALSE))","v":""},{"$f":"IF(ISERROR(VLOOKUP($A72,check!$A:$L,5,FALSE))=TRUE,\"\",VLOOKUP($A72,check!$A:$L,5,FALSE))","v":""},{"$f":"IF(ISERROR(VLOOKUP($A72,check!$A:$L,6,FALSE))=TRUE,\"\",VLOOKUP($A72,check!$A:$L,6,FALSE))","v":""},{"$f":"IF(ISERROR(VLOOKUP($A72,check!$A:$L,7,FALSE))=TRUE,\"\",VLOOKUP($A72,check!$A:$L,7,FALSE))","v":""},{"$f":"IF(ISERROR(VLOOKUP($A72,check!$A:$L,8,FALSE))=TRUE,\"\",VLOOKUP($A72,check!$A:$L,8,FALSE))","v":""},{"$f":"IF(ISERROR(VLOOKUP($A72,check!$A:$L,9,FALSE))=TRUE,\"\",VLOOKUP($A72,check!$A:$L,9,FALSE))","v":""},{"$f":"IF(ISERROR(VLOOKUP($A72,check!$A:$L,10,FALSE))=TRUE,\"\",VLOOKUP($A72,check!$A:$L,10,FALSE))","v":""},{"$f":"IF(ISERROR(VLOOKUP($A72,check!$A:$L,11,FALSE))=TRUE,\"\",VLOOKUP($A72,check!$A:$L,11,FALSE))","v":""},{"$f":"IF(ISERROR(VLOOKUP($A72,check!$A:$L,12,FALSE))=TRUE,\"\",VLOOKUP($A72,check!$A:$L,12,FALSE))","v":""}]
[73,{"$f":"IF(C73=\"\",\"\",MATCH(A73,check!A:A,0))","v":""},{"$f":"IF(ISERROR(VLOOKUP($A73,check!$A:$L,2,FALSE))=TRUE,\"\",VLOOKUP($A73,check!$A:$L,2,FALSE))","v":""},{"$f":"IF(ISERROR(VLOOKUP($A73,check!$A:$L,3,FALSE))=TRUE,\"\",VLOOKUP($A73,check!$A:$L,3,FALSE))","v":""},{"$f":"IF(ISERROR(VLOOKUP($A73,check!$A:$L,4,FALSE))=TRUE,\"\",VLOOKUP($A73,check!$A:$L,4,FALSE))","v":""},{"$f":"IF(ISERROR(VLOOKUP($A73,check!$A:$L,5,FALSE))=TRUE,\"\",VLOOKUP($A73,check!$A:$L,5,FALSE))","v":""},{"$f":"IF(ISERROR(VLOOKUP($A73,check!$A:$L,6,FALSE))=TRUE,\"\",VLOOKUP($A73,check!$A:$L,6,FALSE))","v":""},{"$f":"IF(ISERROR(VLOOKUP($A73,check!$A:$L,7,FALSE))=TRUE,\"\",VLOOKUP($A73,check!$A:$L,7,FALSE))","v":""},{"$f":"IF(ISERROR(VLOOKUP($A73,check!$A:$L,8,FALSE))=TRUE,\"\",VLOOKUP($A73,check!$A:$L,8,FALSE))","v":""},{"$f":"IF(ISERROR(VLOOKUP($A73,check!$A:$L,9,FALSE))=TRUE,\"\",VLOOKUP($A73,check!$A:$L,9,FALSE))","v":""},{"$f":"IF(ISERROR(VLOOKUP($A73,check!$A:$L,10,FALSE))=TRUE,\"\",VLOOKUP($A73,check!$A:$L,10,FALSE))","v":""},{"$f":"IF(ISERROR(VLOOKUP($A73,check!$A:$L,11,FALSE))=TRUE,\"\",VLOOKUP($A73,check!$A:$L,11,FALSE))","v":""},{"$f":"IF(ISERROR(VLOOKUP($A73,check!$A:$L,12,FALSE))=TRUE,\"\",VLOOKUP($A73,check!$A:$L,12,FALSE))","v":""}]
[74,{"$f":"IF(C74=\"\",\"\",MATCH(A74,check!A:A,0))","v":""},{"$f":"IF(ISERROR(VLOOKUP($A74,check!$A:$L,2,FALSE))=TRUE,\"\",VLOOKUP($A74,check!$A:$L,2,FALSE))","v":""},{"$f":"IF(ISERROR(VLOOKUP($A74,check!$A:$L,3,FALSE))=TRUE,\"\",VLOOKUP($A74,check!$A:$L,3,FALSE))","v":""},{"$f":"IF(ISERROR(VLOOKUP($A74,check!$A:$L,4,FALSE))=TRUE,\"\",VLOOKUP($A74,check!$A:$L,4,FALSE))","v":""},{"$f":"IF(ISERROR(VLOOKUP($A74,check!$A:$L,5,FALSE))=TRUE,\"\",VLOOKUP($A74,check!$A:$L,5,FALSE))","v":""},{"$f":"IF(ISERROR(VLOOKUP($A74,check!$A:$L,6,FALSE))=TRUE,\"\",VLOOKUP($A74,check!$A:$L,6,FALSE))","v":""},{"$f":"IF(ISERROR(VLOOKUP($A74,check!$A:$L,7,FALSE))=TRUE,\"\",VLOOKUP($A74,check!$A:$L,7,FALSE))","v":""},{"$f":"IF(ISERROR(VLOOKUP($A74,check!$A:$L,8,FALSE))=TRUE,\"\",VLOOKUP($A74,check!$A:$L,8,FALSE))","v":""},{"$f":"IF(ISERROR(VLOOKUP($A74,check!$A:$L,9,FALSE))=TRUE,\"\",VLOOKUP($A74,check!$A:$L,9,FALSE))","v":""},{"$f":"IF(ISERROR(VLOOKUP($A74,check!$A:$L,10,FALSE))=TRUE,\"\",VLOOKUP($A74,check!$A:$L,10,FALSE))","v":""},{"$f":"IF(ISERROR(VLOOKUP($A74,check!$A:$L,11,FALSE))=TRUE,\"\",VLOOKUP($A74,check!$A:$L,11,FALSE))","v":""},{"$f":"IF(ISERROR(VLOOKUP($A74,check!$A:$L,12,FALSE))=TRUE,\"\",VLOOKUP($A74,check!$A:$L,12,FALSE))","v":""}]
[75,{"$f":"IF(C75=\"\",\"\",MATCH(A75,check!A:A,0))","v":""},{"$f":"IF(ISERROR(VLOOKUP($A75,check!$A:$L,2,FALSE))=TRUE,\"\",VLOOKUP($A75,check!$A:$L,2,FALSE))","v":""},{"$f":"IF(ISERROR(VLOOKUP($A75,check!$A:$L,3,FALSE))=TRUE,\"\",VLOOKUP($A75,check!$A:$L,3,FALSE))","v":""},{"$f":"IF(ISERROR(VLOOKUP($A75,check!$A:$L,4,FALSE))=TRUE,\"\",VLOOKUP($A75,check!$A:$L,4,FALSE))","v":""},{"$f":"IF(ISERROR(VLOOKUP($A75,check!$A:$L,5,FALSE))=TRUE,\"\",VLOOKUP($A75,check!$A:$L,5,FALSE))","v":""},{"$f":"IF(ISERROR(VLOOKUP($A75,check!$A:$L,6,FALSE))=TRUE,\"\",VLOOKUP($A75,check!$A:$L,6,FALSE))","v":""},{"$f":"IF(ISERROR(VLOOKUP($A75,check!$A:$L,7,FALSE))=TRUE,\"\",VLOOKUP($A75,check!$A:$L,7,FALSE))","v":""},{"$f":"IF(ISERROR(VLOOKUP($A75,check!$A:$L,8,FALSE))=TRUE,\"\",VLOOKUP($A75,check!$A:$L,8,FALSE))","v":""},{"$f":"IF(ISERROR(VLOOKUP($A75,check!$A:$L,9,FALSE))=TRUE,\"\",VLOOKUP($A75,check!$A:$L,9,FALSE))","v":""},{"$f":"IF(ISERROR(VLOOKUP($A75,check!$A:$L,10,FALSE))=TRUE,\"\",VLOOKUP($A75,check!$A:$L,10,FALSE))","v":""},{"$f":"IF(ISERROR(VLOOKUP($A75,check!$A:$L,11,FALSE))=TRUE,\"\",VLOOKUP($A75,check!$A:$L,11,FALSE))","v":""},{"$f":"IF(ISERROR(VLOOKUP($A75,check!$A:$L,12,FALSE))=TRUE,\"\",VLOOKUP($A75,check!$A:$L,12,FALSE))","v":""}]
[76,{"$f":"IF(C76=\"\",\"\",MATCH(A76,check!A:A,0))","v":""},{"$f":"IF(ISERROR(VLOOKUP($A76,check!$A:$L,2,FALSE))=TRUE,\"\",VLOOKUP($A76,check!$A:$L,2,FALSE))","v":""},{"$f":"IF(ISERROR(VLOOKUP($A76,check!$A:$L,3,FALSE))=TRUE,\"\",VLOOKUP($A76,check!$A:$L,3,FALSE))","v":""},{"$f":"IF(ISERROR(VLOOKUP($A76,check!$A:$L,4,FALSE))=TRUE,\"\",VLOOKUP($A76,check!$A:$L,4,FALSE))","v":""},{"$f":"IF(ISERROR(VLOOKUP($A76,check!$A:$L,5,FALSE))=TRUE,\"\",VLOOKUP($A76,check!$A:$L,5,FALSE))","v":""},{"$f":"IF(ISERROR(VLOOKUP($A76,check!$A:$L,6,FALSE))=TRUE,\"\",VLOOKUP($A76,check!$A:$L,6,FALSE))","v":""},{"$f":"IF(ISERROR(VLOOKUP($A76,check!$A:$L,7,FALSE))=TRUE,\"\",VLOOKUP($A76,check!$A:$L,7,FALSE))","v":""},{"$f":"IF(ISERROR(VLOOKUP($A76,check!$A:$L,8,FALSE))=TRUE,\"\",VLOOKUP($A76,check!$A:$L,8,FALSE))","v":""},{"$f":"IF(ISERROR(VLOOKUP($A76,check!$A:$L,9,FALSE))=TRUE,\"\",VLOOKUP($A76,check!$A:$L,9,FALSE))","v":""},{"$f":"IF(ISERROR(VLOOKUP($A76,check!$A:$L,10,FALSE))=TRUE,\"\",VLOOKUP($A76,check!$A:$L,10,FALSE))","v":""},{"$f":"IF(ISERROR(VLOOKUP($A76,check!$A:$L,11,FALSE))=TRUE,\"\",VLOOKUP($A76,check!$A:$L,11,FALSE))","v":""},{"$f":"IF(ISERROR(VLOOKUP($A76,check!$A:$L,12,FALSE))=TRUE,\"\",VLOOKUP($A76,check!$A:$L,12,FALSE))","v":""}]
[77,{"$f":"IF(C77=\"\",\"\",MATCH(A77,check!A:A,0))","v":""},{"$f":"IF(ISERROR(VLOOKUP($A77,check!$A:$L,2,FALSE))=TRUE,\"\",VLOOKUP($A77,check!$A:$L,2,FALSE))","v":""},{"$f":"IF(ISERROR(VLOOKUP($A77,check!$A:$L,3,FALSE))=TRUE,\"\",VLOOKUP($A77,check!$A:$L,3,FALSE))","v":""},{"$f":"IF(ISERROR(VLOOKUP($A77,check!$A:$L,4,FALSE))=TRUE,\"\",VLOOKUP($A77,check!$A:$L,4,FALSE))","v":""},{"$f":"IF(ISERROR(VLOOKUP($A77,check!$A:$L,5,FALSE))=TRUE,\"\",VLOOKUP($A77,check!$A:$L,5,FALSE))","v":""},{"$f":"IF(ISERROR(VLOOKUP($A77,check!$A:$L,6,FALSE))=TRUE,\"\",VLOOKUP($A77,check!$A:$L,6,FALSE))","v":""},{"$f":"IF(ISERROR(VLOOKUP($A77,check!$A:$L,7,FALSE))=TRUE,\"\",VLOOKUP($A77,check!$A:$L,7,FALSE))","v":""},{"$f":"IF(ISERROR(VLOOKUP($A77,check!$A:$L,8,FALSE))=TRUE,\"\",VLOOKUP($A77,check!$A:$L,8,FALSE))","v":""},{"$f":"IF(ISERROR(VLOOKUP($A77,check!$A:$L,9,FALSE))=TRUE,\"\",VLOOKUP($A77,check!$A:$L,9,FALSE))","v":""},{"$f":"IF(ISERROR(VLOOKUP($A77,check!$A:$L,10,FALSE))=TRUE,\"\",VLOOKUP($A77,check!$A:$L,10,FALSE))","v":""},{"$f":"IF(ISERROR(VLOOKUP($A77,check!$A:$L,11,FALSE))=TRUE,\"\",VLOOKUP($A77,check!$A:$L,11,FALSE))","v":""},{"$f":"IF(ISERROR(VLOOKUP($A77,check!$A:$L,12,FALSE))=TRUE,\"\",VLOOKUP($A77,check!$A:$L,12,FALSE))","v":""}]
[78,{"$f":"IF(C78=\"\",\"\",MATCH(A78,check!A:A,0))","v":""},{"$f":"IF(ISERROR(VLOOKUP($A78,check!$A:$L,2,FALSE))=TRUE,\"\",VLOOKUP($A78,check!$A:$L,2,FALSE))","v":""},{"$f":"IF(ISERROR(VLOOKUP($A78,check!$A:$L,3,FALSE))=TRUE,\"\",VLOOKUP($A78,check!$A:$L,3,FALSE))","v":""},{"$f":"IF(ISERROR(VLOOKUP($A78,check!$A:$L,4,FALSE))=TRUE,\"\",VLOOKUP($A78,check!$A:$L,4,FALSE))","v":""},{"$f":"IF(ISERROR(VLOOKUP($A78,check!$A:$L,5,FALSE))=TRUE,\"\",VLOOKUP($A78,check!$A:$L,5,FALSE))","v":""},{"$f":"IF(ISERROR(VLOOKUP($A78,check!$A:$L,6,FALSE))=TRUE,\"\",VLOOKUP($A78,check!$A:$L,6,FALSE))","v":""},{"$f":"IF(ISERROR(VLOOKUP($A78,check!$A:$L,7,FALSE))=TRUE,\"\",VLOOKUP($A78,check!$A:$L,7,FALSE))","v":""},{"$f":"IF(ISERROR(VLOOKUP($A78,check!$A:$L,8,FALSE))=TRUE,\"\",VLOOKUP($A78,check!$A:$L,8,FALSE))","v":""},{"$f":"IF(ISERROR(VLOOKUP($A78,check!$A:$L,9,FALSE))=TRUE,\"\",VLOOKUP($A78,check!$A:$L,9,FALSE))","v":""},{"$f":"IF(ISERROR(VLOOKUP($A78,check!$A:$L,10,FALSE))=TRUE,\"\",VLOOKUP($A78,check!$A:$L,10,FALSE))","v":""},{"$f":"IF(ISERROR(VLOOKUP($A78,check!$A:$L,11,FALSE))=TRUE,\"\",VLOOKUP($A78,check!$A:$L,11,FALSE))","v":""},{"$f":"IF(ISERROR(VLOOKUP($A78,check!$A:$L,12,FALSE))=TRUE,\"\",VLOOKUP($A78,check!$A:$L,12,FALSE))","v":""}]
[79,{"$f":"IF(C79=\"\",\"\",MATCH(A79,check!A:A,0))","v":""},{"$f":"IF(ISERROR(VLOOKUP($A79,check!$A:$L,2,FALSE))=TRUE,\"\",VLOOKUP($A79,check!$A:$L,2,FALSE))","v":""},{"$f":"IF(ISERROR(VLOOKUP($A79,check!$A:$L,3,FALSE))=TRUE,\"\",VLOOKUP($A79,check!$A:$L,3,FALSE))","v":""},{"$f":"IF(ISERROR(VLOOKUP($A79,check!$A:$L,4,FALSE))=TRUE,\"\",VLOOKUP($A79,check!$A:$L,4,FALSE))","v":""},{"$f":"IF(ISERROR(VLOOKUP($A79,check!$A:$L,5,FALSE))=TRUE,\"\",VLOOKUP($A79,check!$A:$L,5,FALSE))","v":""},{"$f":"IF(ISERROR(VLOOKUP($A79,check!$A:$L,6,FALSE))=TRUE,\"\",VLOOKUP($A79,check!$A:$L,6,FALSE))","v":""},{"$f":"IF(ISERROR(VLOOKUP($A79,check!$A:$L,7,FALSE))=TRUE,\"\",VLOOKUP($A79,check!$A:$L,7,FALSE))","v":""},{"$f":"IF(ISERROR(VLOOKUP($A79,check!$A:$L,8,FALSE))=TRUE,\"\",VLOOKUP($A79,check!$A:$L,8,FALSE))","v":""},{"$f":"IF(ISERROR(VLOOKUP($A79,check!$A:$L,9,FALSE))=TRUE,\"\",VLOOKUP($A79,check!$A:$L,9,FALSE))","v":""},{"$f":"IF(ISERROR(VLOOKUP($A79,check!$A:$L,10,FALSE))=TRUE,\"\",VLOOKUP($A79,check!$A:$L,10,FALSE))","v":""},{"$f":"IF(ISERROR(VLOOKUP($A79,check!$A:$L,11,FALSE))=TRUE,\"\",VLOOKUP($A79,check!$A:$L,11,FALSE))","v":""},{"$f":"IF(ISERROR(VLOOKUP($A79,check!$A:$L,12,FALSE))=TRUE,\"\",VLOOKUP($A79,check!$A:$L,12,FALSE))","v":""}]
[80,{"$f":"IF(C80=\"\",\"\",MATCH(A80,check!A:A,0))","v":""},{"$f":"IF(ISERROR(VLOOKUP($A80,check!$A:$L,2,FALSE))=TRUE,\"\",VLOOKUP($A80,check!$A:$L,2,FALSE))","v":""},{"$f":"IF(ISERROR(VLOOKUP($A80,check!$A:$L,3,FALSE))=TRUE,\"\",VLOOKUP($A80,check!$A:$L,3,FALSE))","v":""},{"$f":"IF(ISERROR(VLOOKUP($A80,check!$A:$L,4,FALSE))=TRUE,\"\",VLOOKUP($A80,check!$A:$L,4,FALSE))","v":""},{"$f":"IF(ISERROR(VLOOKUP($A80,check!$A:$L,5,FALSE))=TRUE,\"\",VLOOKUP($A80,check!$A:$L,5,FALSE))","v":""},{"$f":"IF(ISERROR(VLOOKUP($A80,check!$A:$L,6,FALSE))=TRUE,\"\",VLOOKUP($A80,check!$A:$L,6,FALSE))","v":""},{"$f":"IF(ISERROR(VLOOKUP($A80,check!$A:$L,7,FALSE))=TRUE,\"\",VLOOKUP($A80,check!$A:$L,7,FALSE))","v":""},{"$f":"IF(ISERROR(VLOOKUP($A80,check!$A:$L,8,FALSE))=TRUE,\"\",VLOOKUP($A80,check!$A:$L,8,FALSE))","v":""},{"$f":"IF(ISERROR(VLOOKUP($A80,check!$A:$L,9,FALSE))=TRUE,\"\",VLOOKUP($A80,check!$A:$L,9,FALSE))","v":""},{"$f":"IF(ISERROR(VLOOKUP($A80,check!$A:$L,10,FALSE))=TRUE,\"\",VLOOKUP($A80,check!$A:$L,10,FALSE))","v":""},{"$f":"IF(ISERROR(VLOOKUP($A80,check!$A:$L,11,FALSE))=TRUE,\"\",VLOOKUP($A80,check!$A:$L,11,FALSE))","v":""},{"$f":"IF(ISERROR(VLOOKUP($A80,check!$A:$L,12,FALSE))=TRUE,\"\",VLOOKUP($A80,check!$A:$L,12,FALSE))","v":""}]
[81,{"$f":"IF(C81=\"\",\"\",MATCH(A81,check!A:A,0))","v":""},{"$f":"IF(ISERROR(VLOOKUP($A81,check!$A:$L,2,FALSE))=TRUE,\"\",VLOOKUP($A81,check!$A:$L,2,FALSE))","v":""},{"$f":"IF(ISERROR(VLOOKUP($A81,check!$A:$L,3,FALSE))=TRUE,\"\",VLOOKUP($A81,check!$A:$L,3,FALSE))","v":""},{"$f":"IF(ISERROR(VLOOKUP($A81,check!$A:$L,4,FALSE))=TRUE,\"\",VLOOKUP($A81,check!$A:$L,4,FALSE))","v":""},{"$f":"IF(ISERROR(VLOOKUP($A81,check!$A:$L,5,FALSE))=TRUE,\"\",VLOOKUP($A81,check!$A:$L,5,FALSE))","v":""},{"$f":"IF(ISERROR(VLOOKUP($A81,check!$A:$L,6,FALSE))=TRUE,\"\",VLOOKUP($A81,check!$A:$L,6,FALSE))","v":""},{"$f":"IF(ISERROR(VLOOKUP($A81,check!$A:$L,7,FALSE))=TRUE,\"\",VLOOKUP($A81,check!$A:$L,7,FALSE))","v":""},{"$f":"IF(ISERROR(VLOOKUP($A81,check!$A:$L,8,FALSE))=TRUE,\"\",VLOOKUP($A81,check!$A:$L,8,FALSE))","v":""},{"$f":"IF(ISERROR(VLOOKUP($A81,check!$A:$L,9,FALSE))=TRUE,\"\",VLOOKUP($A81,check!$A:$L,9,FALSE))","v":""},{"$f":"IF(ISERROR(VLOOKUP($A81,check!$A:$L,10,FALSE))=TRUE,\"\",VLOOKUP($A81,check!$A:$L,10,FALSE))","v":""},{"$f":"IF(ISERROR(VLOOKUP($A81,check!$A:$L,11,FALSE))=TRUE,\"\",VLOOKUP($A81,check!$A:$L,11,FALSE))","v":""},{"$f":"IF(ISERROR(VLOOKUP($A81,check!$A:$L,12,FALSE))=TRUE,\"\",VLOOKUP($A81,check!$A:$L,12,FALSE))","v":""}]
[82,{"$f":"IF(C82=\"\",\"\",MATCH(A82,check!A:A,0))","v":""},{"$f":"IF(ISERROR(VLOOKUP($A82,check!$A:$L,2,FALSE))=TRUE,\"\",VLOOKUP($A82,check!$A:$L,2,FALSE))","v":""},{"$f":"IF(ISERROR(VLOOKUP($A82,check!$A:$L,3,FALSE))=TRUE,\"\",VLOOKUP($A82,check!$A:$L,3,FALSE))","v":""},{"$f":"IF(ISERROR(VLOOKUP($A82,check!$A:$L,4,FALSE))=TRUE,\"\",VLOOKUP($A82,check!$A:$L,4,FALSE))","v":""},{"$f":"IF(ISERROR(VLOOKUP($A82,check!$A:$L,5,FALSE))=TRUE,\"\",VLOOKUP($A82,check!$A:$L,5,FALSE))","v":""},{"$f":"IF(ISERROR(VLOOKUP($A82,check!$A:$L,6,FALSE))=TRUE,\"\",VLOOKUP($A82,check!$A:$L,6,FALSE))","v":""},{"$f":"IF(ISERROR(VLOOKUP($A82,check!$A:$L,7,FALSE))=TRUE,\"\",VLOOKUP($A82,check!$A:$L,7,FALSE))","v":""},{"$f":"IF(ISERROR(VLOOKUP($A82,check!$A:$L,8,FALSE))=TRUE,\"\",VLOOKUP($A82,check!$A:$L,8,FALSE))","v":""},{"$f":"IF(ISERROR(VLOOKUP($A82,check!$A:$L,9,FALSE))=TRUE,\"\",VLOOKUP($A82,check!$A:$L,9,FALSE))","v":""},{"$f":"IF(ISERROR(VLOOKUP($A82,check!$A:$L,10,FALSE))=TRUE,\"\",VLOOKUP($A82,check!$A:$L,10,FALSE))","v":""},{"$f":"IF(ISERROR(VLOOKUP($A82,check!$A:$L,11,FALSE))=TRUE,\"\",VLOOKUP($A82,check!$A:$L,11,FALSE))","v":""},{"$f":"IF(ISERROR(VLOOKUP($A82,check!$A:$L,12,FALSE))=TRUE,\"\",VLOOKUP($A82,check!$A:$L,12,FALSE))","v":""}]
[83,{"$f":"IF(C83=\"\",\"\",MATCH(A83,check!A:A,0))","v":""},{"$f":"IF(ISERROR(VLOOKUP($A83,check!$A:$L,2,FALSE))=TRUE,\"\",VLOOKUP($A83,check!$A:$L,2,FALSE))","v":""},{"$f":"IF(ISERROR(VLOOKUP($A83,check!$A:$L,3,FALSE))=TRUE,\"\",VLOOKUP($A83,check!$A:$L,3,FALSE))","v":""},{"$f":"IF(ISERROR(VLOOKUP($A83,check!$A:$L,4,FALSE))=TRUE,\"\",VLOOKUP($A83,check!$A:$L,4,FALSE))","v":""},{"$f":"IF(ISERROR(VLOOKUP($A83,check!$A:$L,5,FALSE))=TRUE,\"\",VLOOKUP($A83,check!$A:$L,5,FALSE))","v":""},{"$f":"IF(ISERROR(VLOOKUP($A83,check!$A:$L,6,FALSE))=TRUE,\"\",VLOOKUP($A83,check!$A:$L,6,FALSE))","v":""},{"$f":"IF(ISERROR(VLOOKUP($A83,check!$A:$L,7,FALSE))=TRUE,\"\",VLOOKUP($A83,check!$A:$L,7,FALSE))","v":""},{"$f":"IF(ISERROR(VLOOKUP($A83,check!$A:$L,8,FALSE))=TRUE,\"\",VLOOKUP($A83,check!$A:$L,8,FALSE))","v":""},{"$f":"IF(ISERROR(VLOOKUP($A83,check!$A:$L,9,FALSE))=TRUE,\"\",VLOOKUP($A83,check!$A:$L,9,FALSE))","v":""},{"$f":"IF(ISERROR(VLOOKUP($A83,check!$A:$L,10,FALSE))=TRUE,\"\",VLOOKUP($A83,check!$A:$L,10,FALSE))","v":""},{"$f":"IF(ISERROR(VLOOKUP($A83,check!$A:$L,11,FALSE))=TRUE,\"\",VLOOKUP($A83,check!$A:$L,11,FALSE))","v":""},{"$f":"IF(ISERROR(VLOOKUP($A83,check!$A:$L,12,FALSE))=TRUE,\"\",VLOOKUP($A83,check!$A:$L,12,FALSE))","v":""}]
[84,{"$f":"IF(C84=\"\",\"\",MATCH(A84,check!A:A,0))","v":""},{"$f":"IF(ISERROR(VLOOKUP($A84,check!$A:$L,2,FALSE))=TRUE,\"\",VLOOKUP($A84,check!$A:$L,2,FALSE))","v":""},{"$f":"IF(ISERROR(VLOOKUP($A84,check!$A:$L,3,FALSE))=TRUE,\"\",VLOOKUP($A84,check!$A:$L,3,FALSE))","v":""},{"$f":"IF(ISERROR(VLOOKUP($A84,check!$A:$L,4,FALSE))=TRUE,\"\",VLOOKUP($A84,check!$A:$L,4,FALSE))","v":""},{"$f":"IF(ISERROR(VLOOKUP($A84,check!$A:$L,5,FALSE))=TRUE,\"\",VLOOKUP($A84,check!$A:$L,5,FALSE))","v":""},{"$f":"IF(ISERROR(VLOOKUP($A84,check!$A:$L,6,FALSE))=TRUE,\"\",VLOOKUP($A84,check!$A:$L,6,FALSE))","v":""},{"$f":"IF(ISERROR(VLOOKUP($A84,check!$A:$L,7,FALSE))=TRUE,\"\",VLOOKUP($A84,check!$A:$L,7,FALSE))","v":""},{"$f":"IF(ISERROR(VLOOKUP($A84,check!$A:$L,8,FALSE))=TRUE,\"\",VLOOKUP($A84,check!$A:$L,8,FALSE))","v":""},{"$f":"IF(ISERROR(VLOOKUP($A84,check!$A:$L,9,FALSE))=TRUE,\"\",VLOOKUP($A84,check!$A:$L,9,FALSE))","v":""},{"$f":"IF(ISERROR(VLOOKUP($A84,check!$A:$L,10,FALSE))=TRUE,\"\",VLOOKUP($A84,check!$A:$L,10,FALSE))","v":""},{"$f":"IF(ISERROR(VLOOKUP($A84,check!$A:$L,11,FALSE))=TRUE,\"\",VLOOKUP($A84,check!$A:$L,11,FALSE))","v":""},{"$f":"IF(ISERROR(VLOOKUP($A84,check!$A:$L,12,FALSE))=TRUE,\"\",VLOOKUP($A84,check!$A:$L,12,FALSE))","v":""}]
[85,{"$f":"IF(C85=\"\",\"\",MATCH(A85,check!A:A,0))","v":""},{"$f":"IF(ISERROR(VLOOKUP($A85,check!$A:$L,2,FALSE))=TRUE,\"\",VLOOKUP($A85,check!$A:$L,2,FALSE))","v":""},{"$f":"IF(ISERROR(VLOOKUP($A85,check!$A:$L,3,FALSE))=TRUE,\"\",VLOOKUP($A85,check!$A:$L,3,FALSE))","v":""},{"$f":"IF(ISERROR(VLOOKUP($A85,check!$A:$L,4,FALSE))=TRUE,\"\",VLOOKUP($A85,check!$A:$L,4,FALSE))","v":""},{"$f":"IF(ISERROR(VLOOKUP($A85,check!$A:$L,5,FALSE))=TRUE,\"\",VLOOKUP($A85,check!$A:$L,5,FALSE))","v":""},{"$f":"IF(ISERROR(VLOOKUP($A85,check!$A:$L,6,FALSE))=TRUE,\"\",VLOOKUP($A85,check!$A:$L,6,FALSE))","v":""},{"$f":"IF(ISERROR(VLOOKUP($A85,check!$A:$L,7,FALSE))=TRUE,\"\",VLOOKUP($A85,check!$A:$L,7,FALSE))","v":""},{"$f":"IF(ISERROR(VLOOKUP($A85,check!$A:$L,8,FALSE))=TRUE,\"\",VLOOKUP($A85,check!$A:$L,8,FALSE))","v":""},{"$f":"IF(ISERROR(VLOOKUP($A85,check!$A:$L,9,FALSE))=TRUE,\"\",VLOOKUP($A85,check!$A:$L,9,FALSE))","v":""},{"$f":"IF(ISERROR(VLOOKUP($A85,check!$A:$L,10,FALSE))=TRUE,\"\",VLOOKUP($A85,check!$A:$L,10,FALSE))","v":""},{"$f":"IF(ISERROR(VLOOKUP($A85,check!$A:$L,11,FALSE))=TRUE,\"\",VLOOKUP($A85,check!$A:$L,11,FALSE))","v":""},{"$f":"IF(ISERROR(VLOOKUP($A85,check!$A:$L,12,FALSE))=TRUE,\"\",VLOOKUP($A85,check!$A:$L,12,FALSE))","v":""}]
[86,{"$f":"IF(C86=\"\",\"\",MATCH(A86,check!A:A,0))","v":""},{"$f":"IF(ISERROR(VLOOKUP($A86,check!$A:$L,2,FALSE))=TRUE,\"\",VLOOKUP($A86,check!$A:$L,2,FALSE))","v":""},{"$f":"IF(ISERROR(VLOOKUP($A86,check!$A:$L,3,FALSE))=TRUE,\"\",VLOOKUP($A86,check!$A:$L,3,FALSE))","v":""},{"$f":"IF(ISERROR(VLOOKUP($A86,check!$A:$L,4,FALSE))=TRUE,\"\",VLOOKUP($A86,check!$A:$L,4,FALSE))","v":""},{"$f":"IF(ISERROR(VLOOKUP($A86,check!$A:$L,5,FALSE))=TRUE,\"\",VLOOKUP($A86,check!$A:$L,5,FALSE))","v":""},{"$f":"IF(ISERROR(VLOOKUP($A86,check!$A:$L,6,FALSE))=TRUE,\"\",VLOOKUP($A86,check!$A:$L,6,FALSE))","v":""},{"$f":"IF(ISERROR(VLOOKUP($A86,check!$A:$L,7,FALSE))=TRUE,\"\",VLOOKUP($A86,check!$A:$L,7,FALSE))","v":""},{"$f":"IF(ISERROR(VLOOKUP($A86,check!$A:$L,8,FALSE))=TRUE,\"\",VLOOKUP($A86,check!$A:$L,8,FALSE))","v":""},{"$f":"IF(ISERROR(VLOOKUP($A86,check!$A:$L,9,FALSE))=TRUE,\"\",VLOOKUP($A86,check!$A:$L,9,FALSE))","v":""},{"$f":"IF(ISERROR(VLOOKUP($A86,check!$A:$L,10,FALSE))=TRUE,\"\",VLOOKUP($A86,check!$A:$L,10,FALSE))","v":""},{"$f":"IF(ISERROR(VLOOKUP($A86,check!$A:$L,11,FALSE))=TRUE,\"\",VLOOKUP($A86,check!$A:$L,11,FALSE))","v":""},{"$f":"IF(ISERROR(VLOOKUP($A86,check!$A:$L,12,FALSE))=TRUE,\"\",VLOOKUP($A86,check!$A:$L,12,FALSE))","v":""}]
[87,{"$f":"IF(C87=\"\",\"\",MATCH(A87,check!A:A,0))","v":""},{"$f":"IF(ISERROR(VLOOKUP($A87,check!$A:$L,2,FALSE))=TRUE,\"\",VLOOKUP($A87,check!$A:$L,2,FALSE))","v":""},{"$f":"IF(ISERROR(VLOOKUP($A87,check!$A:$L,3,FALSE))=TRUE,\"\",VLOOKUP($A87,check!$A:$L,3,FALSE))","v":""},{"$f":"IF(ISERROR(VLOOKUP($A87,check!$A:$L,4,FALSE))=TRUE,\"\",VLOOKUP($A87,check!$A:$L,4,FALSE))","v":""},{"$f":"IF(ISERROR(VLOOKUP($A87,check!$A:$L,5,FALSE))=TRUE,\"\",VLOOKUP($A87,check!$A:$L,5,FALSE))","v":""},{"$f":"IF(ISERROR(VLOOKUP($A87,check!$A:$L,6,FALSE))=TRUE,\"\",VLOOKUP($A87,check!$A:$L,6,FALSE))","v":""},{"$f":"IF(ISERROR(VLOOKUP($A87,check!$A:$L,7,FALSE))=TRUE,\"\",VLOOKUP($A87,check!$A:$L,7,FALSE))","v":""},{"$f":"IF(ISERROR(VLOOKUP($A87,check!$A:$L,8,FALSE))=TRUE,\"\",VLOOKUP($A87,check!$A:$L,8,FALSE))","v":""},{"$f":"IF(ISERROR(VLOOKUP($A87,check!$A:$L,9,FALSE))=TRUE,\"\",VLOOKUP($A87,check!$A:$L,9,FALSE))","v":""},{"$f":"IF(ISERROR(VLOOKUP($A87,check!$A:$L,10,FALSE))=TRUE,\"\",VLOOKUP($A87,check!$A:$L,10,FALSE))","v":""},{"$f":"IF(ISERROR(VLOOKUP($A87,check!$A:$L,11,FALSE))=TRUE,\"\",VLOOKUP($A87,check!$A:$L,11,FALSE))","v":""},{"$f":"IF(ISERROR(VLOOKUP($A87,check!$A:$L,12,FALSE))=TRUE,\"\",VLOOKUP($A87,check!$A:$L,12,FALSE))","v":""}]
[88,{"$f":"IF(C88=\"\",\"\",MATCH(A88,check!A:A,0))","v":""},{"$f":"IF(ISERROR(VLOOKUP($A88,check!$A:$L,2,FALSE))=TRUE,\"\",VLOOKUP($A88,check!$A:$L,2,FALSE))","v":""},{"$f":"IF(ISERROR(VLOOKUP($A88,check!$A:$L,3,FALSE))=TRUE,\"\",VLOOKUP($A88,check!$A:$L,3,FALSE))","v":""},{"$f":"IF(ISERROR(VLOOKUP($A88,check!$A:$L,4,FALSE))=TRUE,\"\",VLOOKUP($A88,check!$A:$L,4,FALSE))","v":""},{"$f":"IF(ISERROR(VLOOKUP($A88,check!$A:$L,5,FALSE))=TRUE,\"\",VLOOKUP($A88,check!$A:$L,5,FALSE))","v":""},{"$f":"IF(ISERROR(VLOOKUP($A88,check!$A:$L,6,FALSE))=TRUE,\"\",VLOOKUP($A88,check!$A:$L,6,FALSE))","v":""},{"$f":"IF(ISERROR(VLOOKUP($A88,check!$A:$L,7,FALSE))=TRUE,\"\",VLOOKUP($A88,check!$A:$L,7,FALSE))","v":""},{"$f":"IF(ISERROR(VLOOKUP($A88,check!$A:$L,8,FALSE))=TRUE,\"\",VLOOKUP($A88,check!$A:$L,8,FALSE))","v":""},{"$f":"IF(ISERROR(VLOOKUP($A88,check!$A:$L,9,FALSE))=TRUE,\"\",VLOOKUP($A88,check!$A:$L,9,FALSE))","v":""},{"$f":"IF(ISERROR(VLOOKUP($A88,check!$A:$L,10,FALSE))=TRUE,\"\",VLOOKUP($A88,check!$A:$L,10,FALSE))","v":""},{"$f":"IF(ISERROR(VLOOKUP($A88,check!$A:$L,11,FALSE))=TRUE,\"\",VLOOKUP($A88,check!$A:$L,11,FALSE))","v":""},{"$f":"IF(ISERROR(VLOOKUP($A88,check!$A:$L,12,FALSE))=TRUE,\"\",VLOOKUP($A88,check!$A:$L,12,FALSE))","v":""}]
[89,{"$f":"IF(C89=\"\",\"\",MATCH(A89,check!A:A,0))","v":""},{"$f":"IF(ISERROR(VLOOKUP($A89,check!$A:$L,2,FALSE))=TRUE,\"\",VLOOKUP($A89,check!$A:$L,2,FALSE))","v":""},{"$f":"IF(ISERROR(VLOOKUP($A89,check!$A:$L,3,FALSE))=TRUE,\"\",VLOOKUP($A89,check!$A:$L,3,FALSE))","v":""},{"$f":"IF(ISERROR(VLOOKUP($A89,check!$A:$L,4,FALSE))=TRUE,\"\",VLOOKUP($A89,check!$A:$L,4,FALSE))","v":""},{"$f":"IF(ISERROR(VLOOKUP($A89,check!$A:$L,5,FALSE))=TRUE,\"\",VLOOKUP($A89,check!$A:$L,5,FALSE))","v":""},{"$f":"IF(ISERROR(VLOOKUP($A89,check!$A:$L,6,FALSE))=TRUE,\"\",VLOOKUP($A89,check!$A:$L,6,FALSE))","v":""},{"$f":"IF(ISERROR(VLOOKUP($A89,check!$A:$L,7,FALSE))=TRUE,\"\",VLOOKUP($A89,check!$A:$L,7,FALSE))","v":""},{"$f":"IF(ISERROR(VLOOKUP($A89,check!$A:$L,8,FALSE))=TRUE,\"\",VLOOKUP($A89,check!$A:$L,8,FALSE))","v":""},{"$f":"IF(ISERROR(VLOOKUP($A89,check!$A:$L,9,FALSE))=TRUE,\"\",VLOOKUP($A89,check!$A:$L,9,FALSE))","v":""},{"$f":"IF(ISERROR(VLOOKUP($A89,check!$A:$L,10,FALSE))=TRUE,\"\",VLOOKUP($A89,check!$A:$L,10,FALSE))","v":""},{"$f":"IF(ISERROR(VLOOKUP($A89,check!$A:$L,11,FALSE))=TRUE,\"\",VLOOKUP($A89,check!$A:$L,11,FALSE))","v":""},{"$f":"IF(ISERROR(VLOOKUP($A89,check!$A:$L,12,FALSE))=TRUE,\"\",VLOOKUP($A89,check!$A:$L,12,FALSE))","v":""}]
[90,{"$f":"IF(C90=\"\",\"\",MATCH(A90,check!A:A,0))","v":""},{"$f":"IF(ISERROR(VLOOKUP($A90,check!$A:$L,2,FALSE))=TRUE,\"\",VLOOKUP($A90,check!$A:$L,2,FALSE))","v":""},{"$f":"IF(ISERROR(VLOOKUP($A90,check!$A:$L,3,FALSE))=TRUE,\"\",VLOOKUP($A90,check!$A:$L,3,FALSE))","v":""},{"$f":"IF(ISERROR(VLOOKUP($A90,check!$A:$L,4,FALSE))=TRUE,\"\",VLOOKUP($A90,check!$A:$L,4,FALSE))","v":""},{"$f":"IF(ISERROR(VLOOKUP($A90,check!$A:$L,5,FALSE))=TRUE,\"\",VLOOKUP($A90,check!$A:$L,5,FALSE))","v":""},{"$f":"IF(ISERROR(VLOOKUP($A90,check!$A:$L,6,FALSE))=TRUE,\"\",VLOOKUP($A90,check!$A:$L,6,FALSE))","v":""},{"$f":"IF(ISERROR(VLOOKUP($A90,check!$A:$L,7,FALSE))=TRUE,\"\",VLOOKUP($A90,check!$A:$L,7,FALSE))","v":""},{"$f":"IF(ISERROR(VLOOKUP($A90,check!$A:$L,8,FALSE))=TRUE,\"\",VLOOKUP($A90,check!$A:$L,8,FALSE))","v":""},{"$f":"IF(ISERROR(VLOOKUP($A90,check!$A:$L,9,FALSE))=TRUE,\"\",VLOOKUP($A90,check!$A:$L,9,FALSE))","v":""},{"$f":"IF(ISERROR(VLOOKUP($A90,check!$A:$L,10,FALSE))=TRUE,\"\",VLOOKUP($A90,check!$A:$L,10,FALSE))","v":""},{"$f":"IF(ISERROR(VLOOKUP($A90,check!$A:$L,11,FALSE))=TRUE,\"\",VLOOKUP($A90,check!$A:$L,11,FALSE))","v":""},{"$f":"IF(ISERROR(VLOOKUP($A90,check!$A:$L,12,FALSE))=TRUE,\"\",VLOOKUP($A90,check!$A:$L,12,FALSE))","v":""}]
[91,{"$f":"IF(C91=\"\",\"\",MATCH(A91,check!A:A,0))","v":""},{"$f":"IF(ISERROR(VLOOKUP($A91,check!$A:$L,2,FALSE))=TRUE,\"\",VLOOKUP($A91,check!$A:$L,2,FALSE))","v":""},{"$f":"IF(ISERROR(VLOOKUP($A91,check!$A:$L,3,FALSE))=TRUE,\"\",VLOOKUP($A91,check!$A:$L,3,FALSE))","v":""},{"$f":"IF(ISERROR(VLOOKUP($A91,check!$A:$L,4,FALSE))=TRUE,\"\",VLOOKUP($A91,check!$A:$L,4,FALSE))","v":""},{"$f":"IF(ISERROR(VLOOKUP($A91,check!$A:$L,5,FALSE))=TRUE,\"\",VLOOKUP($A91,check!$A:$L,5,FALSE))","v":""},{"$f":"IF(ISERROR(VLOOKUP($A91,check!$A:$L,6,FALSE))=TRUE,\"\",VLOOKUP($A91,check!$A:$L,6,FALSE))","v":""},{"$f":"IF(ISERROR(VLOOKUP($A91,check!$A:$L,7,FALSE))=TRUE,\"\",VLOOKUP($A91,check!$A:$L,7,FALSE))","v":""},{"$f":"IF(ISERROR(VLOOKUP($A91,check!$A:$L,8,FALSE))=TRUE,\"\",VLOOKUP($A91,check!$A:$L,8,FALSE))","v":""},{"$f":"IF(ISERROR(VLOOKUP($A91,check!$A:$L,9,FALSE))=TRUE,\"\",VLOOKUP($A91,check!$A:$L,9,FALSE))","v":""},{"$f":"IF(ISERROR(VLOOKUP($A91,check!$A:$L,10,FALSE))=TRUE,\"\",VLOOKUP($A91,check!$A:$L,10,FALSE))","v":""},{"$f":"IF(ISERROR(VLOOKUP($A91,check!$A:$L,11,FALSE))=TRUE,\"\",VLOOKUP($A91,check!$A:$L,11,FALSE))","v":""},{"$f":"IF(ISERROR(VLOOKUP($A91,check!$A:$L,12,FALSE))=TRUE,\"\",VLOOKUP($A91,check!$A:$L,12,FALSE))","v":""}]
[92,{"$f":"IF(C92=\"\",\"\",MATCH(A92,check!A:A,0))","v":""},{"$f":"IF(ISERROR(VLOOKUP($A92,check!$A:$L,2,FALSE))=TRUE,\"\",VLOOKUP($A92,check!$A:$L,2,FALSE))","v":""},{"$f":"IF(ISERROR(VLOOKUP($A92,check!$A:$L,3,FALSE))=TRUE,\"\",VLOOKUP($A92,check!$A:$L,3,FALSE))","v":""},{"$f":"IF(ISERROR(VLOOKUP($A92,check!$A:$L,4,FALSE))=TRUE,\"\",VLOOKUP($A92,check!$A:$L,4,FALSE))","v":""},{"$f":"IF(ISERROR(VLOOKUP($A92,check!$A:$L,5,FALSE))=TRUE,\"\",VLOOKUP($A92,check!$A:$L,5,FALSE))","v":""},{"$f":"IF(ISERROR(VLOOKUP($A92,check!$A:$L,6,FALSE))=TRUE,\"\",VLOOKUP($A92,check!$A:$L,6,FALSE))","v":""},{"$f":"IF(ISERROR(VLOOKUP($A92,check!$A:$L,7,FALSE))=TRUE,\"\",VLOOKUP($A92,check!$A:$L,7,FALSE))","v":""},{"$f":"IF(ISERROR(VLOOKUP($A92,check!$A:$L,8,FALSE))=TRUE,\"\",VLOOKUP($A92,check!$A:$L,8,FALSE))","v":""},{"$f":"IF(ISERROR(VLOOKUP($A92,check!$A:$L,9,FALSE))=TRUE,\"\",VLOOKUP($A92,check!$A:$L,9,FALSE))","v":""},{"$f":"IF(ISERROR(VLOOKUP($A92,check!$A:$L,10,FALSE))=TRUE,\"\",VLOOKUP($A92,check!$A:$L,10,FALSE))","v":""},{"$f":"IF(ISERROR(VLOOKUP($A92,check!$A:$L,11,FALSE))=TRUE,\"\",VLOOKUP($A92,check!$A:$L,11,FALSE))","v":""},{"$f":"IF(ISERROR(VLOOKUP($A92,check!$A:$L,12,FALSE))=TRUE,\"\",VLOOKUP($A92,check!$A:$L,12,FALSE))","v":""}]
[93,{"$f":"IF(C93=\"\",\"\",MATCH(A93,check!A:A,0))","v":""},{"$f":"IF(ISERROR(VLOOKUP($A93,check!$A:$L,2,FALSE))=TRUE,\"\",VLOOKUP($A93,check!$A:$L,2,FALSE))","v":""},{"$f":"IF(ISERROR(VLOOKUP($A93,check!$A:$L,3,FALSE))=TRUE,\"\",VLOOKUP($A93,check!$A:$L,3,FALSE))","v":""},{"$f":"IF(ISERROR(VLOOKUP($A93,check!$A:$L,4,FALSE))=TRUE,\"\",VLOOKUP($A93,check!$A:$L,4,FALSE))","v":""},{"$f":"IF(ISERROR(VLOOKUP($A93,check!$A:$L,5,FALSE))=TRUE,\"\",VLOOKUP($A93,check!$A:$L,5,FALSE))","v":""},{"$f":"IF(ISERROR(VLOOKUP($A93,check!$A:$L,6,FALSE))=TRUE,\"\",VLOOKUP($A93,check!$A:$L,6,FALSE))","v":""},{"$f":"IF(ISERROR(VLOOKUP($A93,check!$A:$L,7,FALSE))=TRUE,\"\",VLOOKUP($A93,check!$A:$L,7,FALSE))","v":""},{"$f":"IF(ISERROR(VLOOKUP($A93,check!$A:$L,8,FALSE))=TRUE,\"\",VLOOKUP($A93,check!$A:$L,8,FALSE))","v":""},{"$f":"IF(ISERROR(VLOOKUP($A93,check!$A:$L,9,FALSE))=TRUE,\"\",VLOOKUP($A93,check!$A:$L,9,FALSE))","v":""},{"$f":"IF(ISERROR(VLOOKUP($A93,check!$A:$L,10,FALSE))=TRUE,\"\",VLOOKUP($A93,check!$A:$L,10,FALSE))","v":""},{"$f":"IF(ISERROR(VLOOKUP($A93,check!$A:$L,11,FALSE))=TRUE,\"\",VLOOKUP($A93,check!$A:$L,11,FALSE))","v":""},{"$f":"IF(ISERROR(VLOOKUP($A93,check!$A:$L,12,FALSE))=TRUE,\"\",VLOOKUP($A93,check!$A:$L,12,FALSE))","v":""}]
[94,{"$f":"IF(C94=\"\",\"\",MATCH(A94,check!A:A,0))","v":""},{"$f":"IF(ISERROR(VLOOKUP($A94,check!$A:$L,2,FALSE))=TRUE,\"\",VLOOKUP($A94,check!$A:$L,2,FALSE))","v":""},{"$f":"IF(ISERROR(VLOOKUP($A94,check!$A:$L,3,FALSE))=TRUE,\"\",VLOOKUP($A94,check!$A:$L,3,FALSE))","v":""},{"$f":"IF(ISERROR(VLOOKUP($A94,check!$A:$L,4,FALSE))=TRUE,\"\",VLOOKUP($A94,check!$A:$L,4,FALSE))","v":""},{"$f":"IF(ISERROR(VLOOKUP($A94,check!$A:$L,5,FALSE))=TRUE,\"\",VLOOKUP($A94,check!$A:$L,5,FALSE))","v":""},{"$f":"IF(ISERROR(VLOOKUP($A94,check!$A:$L,6,FALSE))=TRUE,\"\",VLOOKUP($A94,check!$A:$L,6,FALSE))","v":""},{"$f":"IF(ISERROR(VLOOKUP($A94,check!$A:$L,7,FALSE))=TRUE,\"\",VLOOKUP($A94,check!$A:$L,7,FALSE))","v":""},{"$f":"IF(ISERROR(VLOOKUP($A94,check!$A:$L,8,FALSE))=TRUE,\"\",VLOOKUP($A94,check!$A:$L,8,FALSE))","v":""},{"$f":"IF(ISERROR(VLOOKUP($A94,check!$A:$L,9,FALSE))=TRUE,\"\",VLOOKUP($A94,check!$A:$L,9,FALSE))","v":""},{"$f":"IF(ISERROR(VLOOKUP($A94,check!$A:$L,10,FALSE))=TRUE,\"\",VLOOKUP($A94,check!$A:$L,10,FALSE))","v":""},{"$f":"IF(ISERROR(VLOOKUP($A94,check!$A:$L,11,FALSE))=TRUE,\"\",VLOOKUP($A94,check!$A:$L,11,FALSE))","v":""},{"$f":"IF(ISERROR(VLOOKUP($A94,check!$A:$L,12,FALSE))=TRUE,\"\",VLOOKUP($A94,check!$A:$L,12,FALSE))","v":""}]
[95,{"$f":"IF(C95=\"\",\"\",MATCH(A95,check!A:A,0))","v":""},{"$f":"IF(ISERROR(VLOOKUP($A95,check!$A:$L,2,FALSE))=TRUE,\"\",VLOOKUP($A95,check!$A:$L,2,FALSE))","v":""},{"$f":"IF(ISERROR(VLOOKUP($A95,check!$A:$L,3,FALSE))=TRUE,\"\",VLOOKUP($A95,check!$A:$L,3,FALSE))","v":""},{"$f":"IF(ISERROR(VLOOKUP($A95,check!$A:$L,4,FALSE))=TRUE,\"\",VLOOKUP($A95,check!$A:$L,4,FALSE))","v":""},{"$f":"IF(ISERROR(VLOOKUP($A95,check!$A:$L,5,FALSE))=TRUE,\"\",VLOOKUP($A95,check!$A:$L,5,FALSE))","v":""},{"$f":"IF(ISERROR(VLOOKUP($A95,check!$A:$L,6,FALSE))=TRUE,\"\",VLOOKUP($A95,check!$A:$L,6,FALSE))","v":""},{"$f":"IF(ISERROR(VLOOKUP($A95,check!$A:$L,7,FALSE))=TRUE,\"\",VLOOKUP($A95,check!$A:$L,7,FALSE))","v":""},{"$f":"IF(ISERROR(VLOOKUP($A95,check!$A:$L,8,FALSE))=TRUE,\"\",VLOOKUP($A95,check!$A:$L,8,FALSE))","v":""},{"$f":"IF(ISERROR(VLOOKUP($A95,check!$A:$L,9,FALSE))=TRUE,\"\",VLOOKUP($A95,check!$A:$L,9,FALSE))","v":""},{"$f":"IF(ISERROR(VLOOKUP($A95,check!$A:$L,10,FALSE))=TRUE,\"\",VLOOKUP($A95,check!$A:$L,10,FALSE))","v":""},{"$f":"IF(ISERROR(VLOOKUP($A95,check!$A:$L,11,FALSE))=TRUE,\"\",VLOOKUP($A95,check!$A:$L,11,FALSE))","v":""},{"$f":"IF(ISERROR(VLOOKUP($A95,check!$A:$L,12,FALSE))=TRUE,\"\",VLOOKUP($A95,check!$A:$L,12,FALSE))","v":""}]
[96,{"$f":"IF(C96=\"\",\"\",MATCH(A96,check!A:A,0))","v":""},{"$f":"IF(ISERROR(VLOOKUP($A96,check!$A:$L,2,FALSE))=TRUE,\"\",VLOOKUP($A96,check!$A:$L,2,FALSE))","v":""},{"$f":"IF(ISERROR(VLOOKUP($A96,check!$A:$L,3,FALSE))=TRUE,\"\",VLOOKUP($A96,check!$A:$L,3,FALSE))","v":""},{"$f":"IF(ISERROR(VLOOKUP($A96,check!$A:$L,4,FALSE))=TRUE,\"\",VLOOKUP($A96,check!$A:$L,4,FALSE))","v":""},{"$f":"IF(ISERROR(VLOOKUP($A96,check!$A:$L,5,FALSE))=TRUE,\"\",VLOOKUP($A96,check!$A:$L,5,FALSE))","v":""},{"$f":"IF(ISERROR(VLOOKUP($A96,check!$A:$L,6,FALSE))=TRUE,\"\",VLOOKUP($A96,check!$A:$L,6,FALSE))","v":""},{"$f":"IF(ISERROR(VLOOKUP($A96,check!$A:$L,7,FALSE))=TRUE,\"\",VLOOKUP($A96,check!$A:$L,7,FALSE))","v":""},{"$f":"IF(ISERROR(VLOOKUP($A96,check!$A:$L,8,FALSE))=TRUE,\"\",VLOOKUP($A96,check!$A:$L,8,FALSE))","v":""},{"$f":"IF(ISERROR(VLOOKUP($A96,check!$A:$L,9,FALSE))=TRUE,\"\",VLOOKUP($A96,check!$A:$L,9,FALSE))","v":""},{"$f":"IF(ISERROR(VLOOKUP($A96,check!$A:$L,10,FALSE))=TRUE,\"\",VLOOKUP($A96,check!$A:$L,10,FALSE))","v":""},{"$f":"IF(ISERROR(VLOOKUP($A96,check!$A:$L,11,FALSE))=TRUE,\"\",VLOOKUP($A96,check!$A:$L,11,FALSE))","v":""},{"$f":"IF(ISERROR(VLOOKUP($A96,check!$A:$L,12,FALSE))=TRUE,\"\",VLOOKUP($A96,check!$A:$L,12,FALSE))","v":""}]
[97,{"$f":"IF(C97=\"\",\"\",MATCH(A97,check!A:A,0))","v":""},{"$f":"IF(ISERROR(VLOOKUP($A97,check!$A:$L,2,FALSE))=TRUE,\"\",VLOOKUP($A97,check!$A:$L,2,FALSE))","v":""},{"$f":"IF(ISERROR(VLOOKUP($A97,check!$A:$L,3,FALSE))=TRUE,\"\",VLOOKUP($A97,check!$A:$L,3,FALSE))","v":""},{"$f":"IF(ISERROR(VLOOKUP($A97,check!$A:$L,4,FALSE))=TRUE,\"\",VLOOKUP($A97,check!$A:$L,4,FALSE))","v":""},{"$f":"IF(ISERROR(VLOOKUP($A97,check!$A:$L,5,FALSE))=TRUE,\"\",VLOOKUP($A97,check!$A:$L,5,FALSE))","v":""},{"$f":"IF(ISERROR(VLOOKUP($A97,check!$A:$L,6,FALSE))=TRUE,\"\",VLOOKUP($A97,check!$A:$L,6,FALSE))","v":""},{"$f":"IF(ISERROR(VLOOKUP($A97,check!$A:$L,7,FALSE))=TRUE,\"\",VLOOKUP($A97,check!$A:$L,7,FALSE))","v":""},{"$f":"IF(ISERROR(VLOOKUP($A97,check!$A:$L,8,FALSE))=TRUE,\"\",VLOOKUP($A97,check!$A:$L,8,FALSE))","v":""},{"$f":"IF(ISERROR(VLOOKUP($A97,check!$A:$L,9,FALSE))=TRUE,\"\",VLOOKUP($A97,check!$A:$L,9,FALSE))","v":""},{"$f":"IF(ISERROR(VLOOKUP($A97,check!$A:$L,10,FALSE))=TRUE,\"\",VLOOKUP($A97,check!$A:$L,10,FALSE))","v":""},{"$f":"IF(ISERROR(VLOOKUP($A97,check!$A:$L,11,FALSE))=TRUE,\"\",VLOOKUP($A97,check!$A:$L,11,FALSE))","v":""},{"$f":"IF(ISERROR(VLOOKUP($A97,check!$A:$L,12,FALSE))=TRUE,\"\",VLOOKUP($A97,check!$A:$L,12,FALSE))","v":""}]
[98,{"$f":"IF(C98=\"\",\"\",MATCH(A98,check!A:A,0))","v":""},{"$f":"IF(ISERROR(VLOOKUP($A98,check!$A:$L,2,FALSE))=TRUE,\"\",VLOOKUP($A98,check!$A:$L,2,FALSE))","v":""},{"$f":"IF(ISERROR(VLOOKUP($A98,check!$A:$L,3,FALSE))=TRUE,\"\",VLOOKUP($A98,check!$A:$L,3,FALSE))","v":""},{"$f":"IF(ISERROR(VLOOKUP($A98,check!$A:$L,4,FALSE))=TRUE,\"\",VLOOKUP($A98,check!$A:$L,4,FALSE))","v":""},{"$f":"IF(ISERROR(VLOOKUP($A98,check!$A:$L,5,FALSE))=TRUE,\"\",VLOOKUP($A98,check!$A:$L,5,FALSE))","v":""},{"$f":"IF(ISERROR(VLOOKUP($A98,check!$A:$L,6,FALSE))=TRUE,\"\",VLOOKUP($A98,check!$A:$L,6,FALSE))","v":""},{"$f":"IF(ISERROR(VLOOKUP($A98,check!$A:$L,7,FALSE))=TRUE,\"\",VLOOKUP($A98,check!$A:$L,7,FALSE))","v":""},{"$f":"IF(ISERROR(VLOOKUP($A98,check!$A:$L,8,FALSE))=TRUE,\"\",VLOOKUP($A98,check!$A:$L,8,FALSE))","v":""},{"$f":"IF(ISERROR(VLOOKUP($A98,check!$A:$L,9,FALSE))=TRUE,\"\",VLOOKUP($A98,check!$A:$L,9,FALSE))","v":""},{"$f":"IF(ISERROR(VLOOKUP($A98,check!$A:$L,10,FALSE))=TRUE,\"\",VLOOKUP($A98,check!$A:$L,10,FALSE))","v":""},{"$f":"IF(ISERROR(VLOOKUP($A98,check!$A:$L,11,FALSE))=TRUE,\"\",VLOOKUP($A98,check!$A:$L,11,FALSE))","v":""},{"$f":"IF(ISERROR(VLOOKUP($A98,check!$A:$L,12,FALSE))=TRUE,\"\",VLOOKUP($A98,check!$A:$L,12,FALSE))","v":""}]
[99,{"$f":"IF(C99=\"\",\"\",MATCH(A99,check!A:A,0))","v":""},{"$f":"IF(ISERROR(VLOOKUP($A99,check!$A:$L,2,FALSE))=TRUE,\"\",VLOOKUP($A99,check!$A:$L,2,FALSE))","v":""},{"$f":"IF(ISERROR(VLOOKUP($A99,check!$A:$L,3,FALSE))=TRUE,\"\",VLOOKUP($A99,check!$A:$L,3,FALSE))","v":""},{"$f":"IF(ISERROR(VLOOKUP($A99,check!$A:$L,4,FALSE))=TRUE,\"\",VLOOKUP($A99,check!$A:$L,4,FALSE))","v":""},{"$f":"IF(ISERROR(VLOOKUP($A99,check!$A:$L,5,FALSE))=TRUE,\"\",VLOOKUP($A99,check!$A:$L,5,FALSE))","v":""},{"$f":"IF(ISERROR(VLOOKUP($A99,check!$A:$L,6,FALSE))=TRUE,\"\",VLOOKUP($A99,check!$A:$L,6,FALSE))","v":""},{"$f":"IF(ISERROR(VLOOKUP($A99,check!$A:$L,7,FALSE))=TRUE,\"\",VLOOKUP($A99,check!$A:$L,7,FALSE))","v":""},{"$f":"IF(ISERROR(VLOOKUP($A99,check!$A:$L,8,FALSE))=TRUE,\"\",VLOOKUP($A99,check!$A:$L,8,FALSE))","v":""},{"$f":"IF(ISERROR(VLOOKUP($A99,check!$A:$L,9,FALSE))=TRUE,\"\",VLOOKUP($A99,check!$A:$L,9,FALSE))","v":""},{"$f":"IF(ISERROR(VLOOKUP($A99,check!$A:$L,10,FALSE))=TRUE,\"\",VLOOKUP($A99,check!$A:$L,10,FALSE))","v":""},{"$f":"IF(ISERROR(VLOOKUP($A99,check!$A:$L,11,FALSE))=TRUE,\"\",VLOOKUP($A99,check!$A:$L,11,FALSE))","v":""},{"$f":"IF(ISERROR(VLOOKUP($A99,check!$A:$L,12,FALSE))=TRUE,\"\",VLOOKUP($A99,check!$A:$L,12,FALSE))","v":""}]
[100,{"$f":"IF(C100=\"\",\"\",MATCH(A100,check!A:A,0))","v":""},{"$f":"IF(ISERROR(VLOOKUP($A100,check!$A:$L,2,FALSE))=TRUE,\"\",VLOOKUP($A100,check!$A:$L,2,FALSE))","v":""},{"$f":"IF(ISERROR(VLOOKUP($A100,check!$A:$L,3,FALSE))=TRUE,\"\",VLOOKUP($A100,check!$A:$L,3,FALSE))","v":""},{"$f":"IF(ISERROR(VLOOKUP($A100,check!$A:$L,4,FALSE))=TRUE,\"\",VLOOKUP($A100,check!$A:$L,4,FALSE))","v":""},{"$f":"IF(ISERROR(VLOOKUP($A100,check!$A:$L,5,FALSE))=TRUE,\"\",VLOOKUP($A100,check!$A:$L,5,FALSE))","v":""},{"$f":"IF(ISERROR(VLOOKUP($A100,check!$A:$L,6,FALSE))=TRUE,\"\",VLOOKUP($A100,check!$A:$L,6,FALSE))","v":""},{"$f":"IF(ISERROR(VLOOKUP($A100,check!$A:$L,7,FALSE))=TRUE,\"\",VLOOKUP($A100,check!$A:$L,7,FALSE))","v":""},{"$f":"IF(ISERROR(VLOOKUP($A100,check!$A:$L,8,FALSE))=TRUE,\"\",VLOOKUP($A100,check!$A:$L,8,FALSE))","v":""},{"$f":"IF(ISERROR(VLOOKUP($A100,check!$A:$L,9,FALSE))=TRUE,\"\",VLOOKUP($A100,check!$A:$L,9,FALSE))","v":""},{"$f":"IF(ISERROR(VLOOKUP($A100,check!$A:$L,10,FALSE))=TRUE,\"\",VLOOKUP($A100,check!$A:$L,10,FALSE))","v":""},{"$f":"IF(ISERROR(VLOOKUP($A100,check!$A:$L,11,FALSE))=TRUE,\"\",VLOOKUP($A100,check!$A:$L,11,FALSE))","v":""},{"$f":"IF(ISERROR(VLOOKUP($A100,check!$A:$L,12,FALSE))=TRUE,\"\",VLOOKUP($A100,check!$A:$L,12,FALSE))","v":""}]
[101,{"$f":"IF(C101=\"\",\"\",MATCH(A101,check!A:A,0))","v":""},{"$f":"IF(ISERROR(VLOOKUP($A101,check!$A:$L,2,FALSE))=TRUE,\"\",VLOOKUP($A101,check!$A:$L,2,FALSE))","v":""},{"$f":"IF(ISERROR(VLOOKUP($A101,check!$A:$L,3,FALSE))=TRUE,\"\",VLOOKUP($A101,check!$A:$L,3,FALSE))","v":""},{"$f":"IF(ISERROR(VLOOKUP($A101,check!$A:$L,4,FALSE))=TRUE,\"\",VLOOKUP($A101,check!$A:$L,4,FALSE))","v":""},{"$f":"IF(ISERROR(VLOOKUP($A101,check!$A:$L,5,FALSE))=TRUE,\"\",VLOOKUP($A101,check!$A:$L,5,FALSE))","v":""},{"$f":"IF(ISERROR(VLOOKUP($A101,check!$A:$L,6,FALSE))=TRUE,\"\",VLOOKUP($A101,check!$A:$L,6,FALSE))","v":""},{"$f":"IF(ISERROR(VLOOKUP($A101,check!$A:$L,7,FALSE))=TRUE,\"\",VLOOKUP($A101,check!$A:$L,7,FALSE))","v":""},{"$f":"IF(ISERROR(VLOOKUP($A101,check!$A:$L,8,FALSE))=TRUE,\"\",VLOOKUP($A101,check!$A:$L,8,FALSE))","v":""},{"$f":"IF(ISERROR(VLOOKUP($A101,check!$A:$L,9,FALSE))=TRUE,\"\",VLOOKUP($A101,check!$A:$L,9,FALSE))","v":""},{"$f":"IF(ISERROR(VLOOKUP($A101,check!$A:$L,10,FALSE))=TRUE,\"\",VLOOKUP($A101,check!$A:$L,10,FALSE))","v":""},{"$f":"IF(ISERROR(VLOOKUP($A101,check!$A:$L,11,FALSE))=TRUE,\"\",VLOOKUP($A101,check!$A:$L,11,FALSE))","v":""},{"$f":"IF(ISERROR(VLOOKUP($A101,check!$A:$L,12,FALSE))=TRUE,\"\",VLOOKUP($A101,check!$A:$L,12,FALSE))","v":""}]
[102,{"$f":"IF(C102=\"\",\"\",MATCH(A102,check!A:A,0))","v":""},{"$f":"IF(ISERROR(VLOOKUP($A102,check!$A:$L,2,FALSE))=TRUE,\"\",VLOOKUP($A102,check!$A:$L,2,FALSE))","v":""},{"$f":"IF(ISERROR(VLOOKUP($A102,check!$A:$L,3,FALSE))=TRUE,\"\",VLOOKUP($A102,check!$A:$L,3,FALSE))","v":""},{"$f":"IF(ISERROR(VLOOKUP($A102,check!$A:$L,4,FALSE))=TRUE,\"\",VLOOKUP($A102,check!$A:$L,4,FALSE))","v":""},{"$f":"IF(ISERROR(VLOOKUP($A102,check!$A:$L,5,FALSE))=TRUE,\"\",VLOOKUP($A102,check!$A:$L,5,FALSE))","v":""},{"$f":"IF(ISERROR(VLOOKUP($A102,check!$A:$L,6,FALSE))=TRUE,\"\",VLOOKUP($A102,check!$A:$L,6,FALSE))","v":""},{"$f":"IF(ISERROR(VLOOKUP($A102,check!$A:$L,7,FALSE))=TRUE,\"\",VLOOKUP($A102,check!$A:$L,7,FALSE))","v":""},{"$f":"IF(ISERROR(VLOOKUP($A102,check!$A:$L,8,FALSE))=TRUE,\"\",VLOOKUP($A102,check!$A:$L,8,FALSE))","v":""},{"$f":"IF(ISERROR(VLOOKUP($A102,check!$A:$L,9,FALSE))=TRUE,\"\",VLOOKUP($A102,check!$A:$L,9,FALSE))","v":""},{"$f":"IF(ISERROR(VLOOKUP($A102,check!$A:$L,10,FALSE))=TRUE,\"\",VLOOKUP($A102,check!$A:$L,10,FALSE))","v":""},{"$f":"IF(ISERROR(VLOOKUP($A102,check!$A:$L,11,FALSE))=TRUE,\"\",VLOOKUP($A102,check!$A:$L,11,FALSE))","v":""},{"$f":"IF(ISERROR(VLOOKUP($A102,check!$A:$L,12,FALSE))=TRUE,\"\",VLOOKUP($A102,check!$A:$L,12,FALSE))","v":""}]
[103,{"$f":"IF(C103=\"\",\"\",MATCH(A103,check!A:A,0))","v":""},{"$f":"IF(ISERROR(VLOOKUP($A103,check!$A:$L,2,FALSE))=TRUE,\"\",VLOOKUP($A103,check!$A:$L,2,FALSE))","v":""},{"$f":"IF(ISERROR(VLOOKUP($A103,check!$A:$L,3,FALSE))=TRUE,\"\",VLOOKUP($A103,check!$A:$L,3,FALSE))","v":""},{"$f":"IF(ISERROR(VLOOKUP($A103,check!$A:$L,4,FALSE))=TRUE,\"\",VLOOKUP($A103,check!$A:$L,4,FALSE))","v":""},{"$f":"IF(ISERROR(VLOOKUP($A103,check!$A:$L,5,FALSE))=TRUE,\"\",VLOOKUP($A103,check!$A:$L,5,FALSE))","v":""},{"$f":"IF(ISERROR(VLOOKUP($A103,check!$A:$L,6,FALSE))=TRUE,\"\",VLOOKUP($A103,check!$A:$L,6,FALSE))","v":""},{"$f":"IF(ISERROR(VLOOKUP($A103,check!$A:$L,7,FALSE))=TRUE,\"\",VLOOKUP($A103,check!$A:$L,7,FALSE))","v":""},{"$f":"IF(ISERROR(VLOOKUP($A103,check!$A:$L,8,FALSE))=TRUE,\"\",VLOOKUP($A103,check!$A:$L,8,FALSE))","v":""},{"$f":"IF(ISERROR(VLOOKUP($A103,check!$A:$L,9,FALSE))=TRUE,\"\",VLOOKUP($A103,check!$A:$L,9,FALSE))","v":""},{"$f":"IF(ISERROR(VLOOKUP($A103,check!$A:$L,10,FALSE))=TRUE,\"\",VLOOKUP($A103,check!$A:$L,10,FALSE))","v":""},{"$f":"IF(ISERROR(VLOOKUP($A103,check!$A:$L,11,FALSE))=TRUE,\"\",VLOOKUP($A103,check!$A:$L,11,FALSE))","v":""},{"$f":"IF(ISERROR(VLOOKUP($A103,check!$A:$L,12,FALSE))=TRUE,\"\",VLOOKUP($A103,check!$A:$L,12,FALSE))","v":""}]
[104,{"$f":"IF(C104=\"\",\"\",MATCH(A104,check!A:A,0))","v":""},{"$f":"IF(ISERROR(VLOOKUP($A104,check!$A:$L,2,FALSE))=TRUE,\"\",VLOOKUP($A104,check!$A:$L,2,FALSE))","v":""},{"$f":"IF(ISERROR(VLOOKUP($A104,check!$A:$L,3,FALSE))=TRUE,\"\",VLOOKUP($A104,check!$A:$L,3,FALSE))","v":""},{"$f":"IF(ISERROR(VLOOKUP($A104,check!$A:$L,4,FALSE))=TRUE,\"\",VLOOKUP($A104,check!$A:$L,4,FALSE))","v":""},{"$f":"IF(ISERROR(VLOOKUP($A104,check!$A:$L,5,FALSE))=TRUE,\"\",VLOOKUP($A104,check!$A:$L,5,FALSE))","v":""},{"$f":"IF(ISERROR(VLOOKUP($A104,check!$A:$L,6,FALSE))=TRUE,\"\",VLOOKUP($A104,check!$A:$L,6,FALSE))","v":""},{"$f":"IF(ISERROR(VLOOKUP($A104,check!$A:$L,7,FALSE))=TRUE,\"\",VLOOKUP($A104,check!$A:$L,7,FALSE))","v":""},{"$f":"IF(ISERROR(VLOOKUP($A104,check!$A:$L,8,FALSE))=TRUE,\"\",VLOOKUP($A104,check!$A:$L,8,FALSE))","v":""},{"$f":"IF(ISERROR(VLOOKUP($A104,check!$A:$L,9,FALSE))=TRUE,\"\",VLOOKUP($A104,check!$A:$L,9,FALSE))","v":""},{"$f":"IF(ISERROR(VLOOKUP($A104,check!$A:$L,10,FALSE))=TRUE,\"\",VLOOKUP($A104,check!$A:$L,10,FALSE))","v":""},{"$f":"IF(ISERROR(VLOOKUP($A104,check!$A:$L,11,FALSE))=TRUE,\"\",VLOOKUP($A104,check!$A:$L,11,FALSE))","v":""},{"$f":"IF(ISERROR(VLOOKUP($A104,check!$A:$L,12,FALSE))=TRUE,\"\",VLOOKUP($A104,check!$A:$L,12,FALSE))","v":""}]
[105,{"$f":"IF(C105=\"\",\"\",MATCH(A105,check!A:A,0))","v":""},{"$f":"IF(ISERROR(VLOOKUP($A105,check!$A:$L,2,FALSE))=TRUE,\"\",VLOOKUP($A105,check!$A:$L,2,FALSE))","v":""},{"$f":"IF(ISERROR(VLOOKUP($A105,check!$A:$L,3,FALSE))=TRUE,\"\",VLOOKUP($A105,check!$A:$L,3,FALSE))","v":""},{"$f":"IF(ISERROR(VLOOKUP($A105,check!$A:$L,4,FALSE))=TRUE,\"\",VLOOKUP($A105,check!$A:$L,4,FALSE))","v":""},{"$f":"IF(ISERROR(VLOOKUP($A105,check!$A:$L,5,FALSE))=TRUE,\"\",VLOOKUP($A105,check!$A:$L,5,FALSE))","v":""},{"$f":"IF(ISERROR(VLOOKUP($A105,check!$A:$L,6,FALSE))=TRUE,\"\",VLOOKUP($A105,check!$A:$L,6,FALSE))","v":""},{"$f":"IF(ISERROR(VLOOKUP($A105,check!$A:$L,7,FALSE))=TRUE,\"\",VLOOKUP($A105,check!$A:$L,7,FALSE))","v":""},{"$f":"IF(ISERROR(VLOOKUP($A105,check!$A:$L,8,FALSE))=TRUE,\"\",VLOOKUP($A105,check!$A:$L,8,FALSE))","v":""},{"$f":"IF(ISERROR(VLOOKUP($A105,check!$A:$L,9,FALSE))=TRUE,\"\",VLOOKUP($A105,check!$A:$L,9,FALSE))","v":""},{"$f":"IF(ISERROR(VLOOKUP($A105,check!$A:$L,10,FALSE))=TRUE,\"\",VLOOKUP($A105,check!$A:$L,10,FALSE))","v":""},{"$f":"IF(ISERROR(VLOOKUP($A105,check!$A:$L,11,FALSE))=TRUE,\"\",VLOOKUP($A105,check!$A:$L,11,FALSE))","v":""},{"$f":"IF(ISERROR(VLOOKUP($A105,check!$A:$L,12,FALSE))=TRUE,\"\",VLOOKUP($A105,check!$A:$L,12,FALSE))","v":""}]
[106,{"$f":"IF(C106=\"\",\"\",MATCH(A106,check!A:A,0))","v":""},{"$f":"IF(ISERROR(VLOOKUP($A106,check!$A:$L,2,FALSE))=TRUE,\"\",VLOOKUP($A106,check!$A:$L,2,FALSE))","v":""},{"$f":"IF(ISERROR(VLOOKUP($A106,check!$A:$L,3,FALSE))=TRUE,\"\",VLOOKUP($A106,check!$A:$L,3,FALSE))","v":""},{"$f":"IF(ISERROR(VLOOKUP($A106,check!$A:$L,4,FALSE))=TRUE,\"\",VLOOKUP($A106,check!$A:$L,4,FALSE))","v":""},{"$f":"IF(ISERROR(VLOOKUP($A106,check!$A:$L,5,FALSE))=TRUE,\"\",VLOOKUP($A106,check!$A:$L,5,FALSE))","v":""},{"$f":"IF(ISERROR(VLOOKUP($A106,check!$A:$L,6,FALSE))=TRUE,\"\",VLOOKUP($A106,check!$A:$L,6,FALSE))","v":""},{"$f":"IF(ISERROR(VLOOKUP($A106,check!$A:$L,7,FALSE))=TRUE,\"\",VLOOKUP($A106,check!$A:$L,7,FALSE))","v":""},{"$f":"IF(ISERROR(VLOOKUP($A106,check!$A:$L,8,FALSE))=TRUE,\"\",VLOOKUP($A106,check!$A:$L,8,FALSE))","v":""},{"$f":"IF(ISERROR(VLOOKUP($A106,check!$A:$L,9,FALSE))=TRUE,\"\",VLOOKUP($A106,check!$A:$L,9,FALSE))","v":""},{"$f":"IF(ISERROR(VLOOKUP($A106,check!$A:$L,10,FALSE))=TRUE,\"\",VLOOKUP($A106,check!$A:$L,10,FALSE))","v":""},{"$f":"IF(ISERROR(VLOOKUP($A106,check!$A:$L,11,FALSE))=TRUE,\"\",VLOOKUP($A106,check!$A:$L,11,FALSE))","v":""},{"$f":"IF(ISERROR(VLOOKUP($A106,check!$A:$L,12,FALSE))=TRUE,\"\",VLOOKUP($A106,check!$A:$L,12,FALSE))","v":""}]
[107,{"$f":"IF(C107=\"\",\"\",MATCH(A107,check!A:A,0))","v":""},{"$f":"IF(ISERROR(VLOOKUP($A107,check!$A:$L,2,FALSE))=TRUE,\"\",VLOOKUP($A107,check!$A:$L,2,FALSE))","v":""},{"$f":"IF(ISERROR(VLOOKUP($A107,check!$A:$L,3,FALSE))=TRUE,\"\",VLOOKUP($A107,check!$A:$L,3,FALSE))","v":""},{"$f":"IF(ISERROR(VLOOKUP($A107,check!$A:$L,4,FALSE))=TRUE,\"\",VLOOKUP($A107,check!$A:$L,4,FALSE))","v":""},{"$f":"IF(ISERROR(VLOOKUP($A107,check!$A:$L,5,FALSE))=TRUE,\"\",VLOOKUP($A107,check!$A:$L,5,FALSE))","v":""},{"$f":"IF(ISERROR(VLOOKUP($A107,check!$A:$L,6,FALSE))=TRUE,\"\",VLOOKUP($A107,check!$A:$L,6,FALSE))","v":""},{"$f":"IF(ISERROR(VLOOKUP($A107,check!$A:$L,7,FALSE))=TRUE,\"\",VLOOKUP($A107,check!$A:$L,7,FALSE))","v":""},{"$f":"IF(ISERROR(VLOOKUP($A107,check!$A:$L,8,FALSE))=TRUE,\"\",VLOOKUP($A107,check!$A:$L,8,FALSE))","v":""},{"$f":"IF(ISERROR(VLOOKUP($A107,check!$A:$L,9,FALSE))=TRUE,\"\",VLOOKUP($A107,check!$A:$L,9,FALSE))","v":""},{"$f":"IF(ISERROR(VLOOKUP($A107,check!$A:$L,10,FALSE))=TRUE,\"\",VLOOKUP($A107,check!$A:$L,10,FALSE))","v":""},{"$f":"IF(ISERROR(VLOOKUP($A107,check!$A:$L,11,FALSE))=TRUE,\"\",VLOOKUP($A107,check!$A:$L,11,FALSE))","v":""},{"$f":"IF(ISERROR(VLOOKUP($A107,check!$A:$L,12,FALSE))=TRUE,\"\",VLOOKUP($A107,check!$A:$L,12,FALSE))","v":""}]
[108,{"$f":"IF(C108=\"\",\"\",MATCH(A108,check!A:A,0))","v":""},{"$f":"IF(ISERROR(VLOOKUP($A108,check!$A:$L,2,FALSE))=TRUE,\"\",VLOOKUP($A108,check!$A:$L,2,FALSE))","v":""},{"$f":"IF(ISERROR(VLOOKUP($A108,check!$A:$L,3,FALSE))=TRUE,\"\",VLOOKUP($A108,check!$A:$L,3,FALSE))","v":""},{"$f":"IF(ISERROR(VLOOKUP($A108,check!$A:$L,4,FALSE))=TRUE,\"\",VLOOKUP($A108,check!$A:$L,4,FALSE))","v":""},{"$f":"IF(ISERROR(VLOOKUP($A108,check!$A:$L,5,FALSE))=TRUE,\"\",VLOOKUP($A108,check!$A:$L,5,FALSE))","v":""},{"$f":"IF(ISERROR(VLOOKUP($A108,check!$A:$L,6,FALSE))=TRUE,\"\",VLOOKUP($A108,check!$A:$L,6,FALSE))","v":""},{"$f":"IF(ISERROR(VLOOKUP($A108,check!$A:$L,7,FALSE))=TRUE,\"\",VLOOKUP($A108,check!$A:$L,7,FALSE))","v":""},{"$f":"IF(ISERROR(VLOOKUP($A108,check!$A:$L,8,FALSE))=TRUE,\"\",VLOOKUP($A108,check!$A:$L,8,FALSE))","v":""},{"$f":"IF(ISERROR(VLOOKUP($A108,check!$A:$L,9,FALSE))=TRUE,\"\",VLOOKUP($A108,check!$A:$L,9,FALSE))","v":""},{"$f":"IF(ISERROR(VLOOKUP($A108,check!$A:$L,10,FALSE))=TRUE,\"\",VLOOKUP($A108,check!$A:$L,10,FALSE))","v":""},{"$f":"IF(ISERROR(VLOOKUP($A108,check!$A:$L,11,FALSE))=TRUE,\"\",VLOOKUP($A108,check!$A:$L,11,FALSE))","v":""},{"$f":"IF(ISERROR(VLOOKUP($A108,check!$A:$L,12,FALSE))=TRUE,\"\",VLOOKUP($A108,check!$A:$L,12,FALSE))","v":""}]
[109,{"$f":"IF(C109=\"\",\"\",MATCH(A109,check!A:A,0))","v":""},{"$f":"IF(ISERROR(VLOOKUP($A109,check!$A:$L,2,FALSE))=TRUE,\"\",VLOOKUP($A109,check!$A:$L,2,FALSE))","v":""},{"$f":"IF(ISERROR(VLOOKUP($A109,check!$A:$L,3,FALSE))=TRUE,\"\",VLOOKUP($A109,check!$A:$L,3,FALSE))","v":""},{"$f":"IF(ISERROR(VLOOKUP($A109,check!$A:$L,4,FALSE))=TRUE,\"\",VLOOKUP($A109,check!$A:$L,4,FALSE))","v":""},{"$f":"IF(ISERROR(VLOOKUP($A109,check!$A:$L,5,FALSE))=TRUE,\"\",VLOOKUP($A109,check!$A:$L,5,FALSE))","v":""},{"$f":"IF(ISERROR(VLOOKUP($A109,check!$A:$L,6,FALSE))=TRUE,\"\",VLOOKUP($A109,check!$A:$L,6,FALSE))","v":""},{"$f":"IF(ISERROR(VLOOKUP($A109,check!$A:$L,7,FALSE))=TRUE,\"\",VLOOKUP($A109,check!$A:$L,7,FALSE))","v":""},{"$f":"IF(ISERROR(VLOOKUP($A109,check!$A:$L,8,FALSE))=TRUE,\"\",VLOOKUP($A109,check!$A:$L,8,FALSE))","v":""},{"$f":"IF(ISERROR(VLOOKUP($A109,check!$A:$L,9,FALSE))=TRUE,\"\",VLOOKUP($A109,check!$A:$L,9,FALSE))","v":""},{"$f":"IF(ISERROR(VLOOKUP($A109,check!$A:$L,10,FALSE))=TRUE,\"\",VLOOKUP($A109,check!$A:$L,10,FALSE))","v":""},{"$f":"IF(ISERROR(VLOOKUP($A109,check!$A:$L,11,FALSE))=TRUE,\"\",VLOOKUP($A109,check!$A:$L,11,FALSE))","v":""},{"$f":"IF(ISERROR(VLOOKUP($A109,check!$A:$L,12,FALSE))=TRUE,\"\",VLOOKUP($A109,check!$A:$L,12,FALSE))","v":""}]
[110,{"$f":"IF(C110=\"\",\"\",MATCH(A110,check!A:A,0))","v":""},{"$f":"IF(ISERROR(VLOOKUP($A110,check!$A:$L,2,FALSE))=TRUE,\"\",VLOOKUP($A110,check!$A:$L,2,FALSE))","v":""},{"$f":"IF(ISERROR(VLOOKUP($A110,check!$A:$L,3,FALSE))=TRUE,\"\",VLOOKUP($A110,check!$A:$L,3,FALSE))","v":""},{"$f":"IF(ISERROR(VLOOKUP($A110,check!$A:$L,4,FALSE))=TRUE,\"\",VLOOKUP($A110,check!$A:$L,4,FALSE))","v":""},{"$f":"IF(ISERROR(VLOOKUP($A110,check!$A:$L,5,FALSE))=TRUE,\"\",VLOOKUP($A110,check!$A:$L,5,FALSE))","v":""},{"$f":"IF(ISERROR(VLOOKUP($A110,check!$A:$L,6,FALSE))=TRUE,\"\",VLOOKUP($A110,check!$A:$L,6,FALSE))","v":""},{"$f":"IF(ISERROR(VLOOKUP($A110,check!$A:$L,7,FALSE))=TRUE,\"\",VLOOKUP($A110,check!$A:$L,7,FALSE))","v":""},{"$f":"IF(ISERROR(VLOOKUP($A110,check!$A:$L,8,FALSE))=TRUE,\"\",VLOOKUP($A110,check!$A:$L,8,FALSE))","v":""},{"$f":"IF(ISERROR(VLOOKUP($A110,check!$A:$L,9,FALSE))=TRUE,\"\",VLOOKUP($A110,check!$A:$L,9,FALSE))","v":""},{"$f":"IF(ISERROR(VLOOKUP($A110,check!$A:$L,10,FALSE))=TRUE,\"\",VLOOKUP($A110,check!$A:$L,10,FALSE))","v":""},{"$f":"IF(ISERROR(VLOOKUP($A110,check!$A:$L,11,FALSE))=TRUE,\"\",VLOOKUP($A110,check!$A:$L,11,FALSE))","v":""},{"$f":"IF(ISERROR(VLOOKUP($A110,check!$A:$L,12,FALSE))=TRUE,\"\",VLOOKUP($A110,check!$A:$L,12,FALSE))","v":""}]
[111,{"$f":"IF(C111=\"\",\"\",MATCH(A111,check!A:A,0))","v":""},{"$f":"IF(ISERROR(VLOOKUP($A111,check!$A:$L,2,FALSE))=TRUE,\"\",VLOOKUP($A111,check!$A:$L,2,FALSE))","v":""},{"$f":"IF(ISERROR(VLOOKUP($A111,check!$A:$L,3,FALSE))=TRUE,\"\",VLOOKUP($A111,check!$A:$L,3,FALSE))","v":""},{"$f":"IF(ISERROR(VLOOKUP($A111,check!$A:$L,4,FALSE))=TRUE,\"\",VLOOKUP($A111,check!$A:$L,4,FALSE))","v":""},{"$f":"IF(ISERROR(VLOOKUP($A111,check!$A:$L,5,FALSE))=TRUE,\"\",VLOOKUP($A111,check!$A:$L,5,FALSE))","v":""},{"$f":"IF(ISERROR(VLOOKUP($A111,check!$A:$L,6,FALSE))=TRUE,\"\",VLOOKUP($A111,check!$A:$L,6,FALSE))","v":""},{"$f":"IF(ISERROR(VLOOKUP($A111,check!$A:$L,7,FALSE))=TRUE,\"\",VLOOKUP($A111,check!$A:$L,7,FALSE))","v":""},{"$f":"IF(ISERROR(VLOOKUP($A111,check!$A:$L,8,FALSE))=TRUE,\"\",VLOOKUP($A111,check!$A:$L,8,FALSE))","v":""},{"$f":"IF(ISERROR(VLOOKUP($A111,check!$A:$L,9,FALSE))=TRUE,\"\",VLOOKUP($A111,check!$A:$L,9,FALSE))","v":""},{"$f":"IF(ISERROR(VLOOKUP($A111,check!$A:$L,10,FALSE))=TRUE,\"\",VLOOKUP($A111,check!$A:$L,10,FALSE))","v":""},{"$f":"IF(ISERROR(VLOOKUP($A111,check!$A:$L,11,FALSE))=TRUE,\"\",VLOOKUP($A111,check!$A:$L,11,FALSE))","v":""},{"$f":"IF(ISERROR(VLOOKUP($A111,check!$A:$L,12,FALSE))=TRUE,\"\",VLOOKUP($A111,check!$A:$L,12,FALSE))","v":""}]
[112,{"$f":"IF(C112=\"\",\"\",MATCH(A112,check!A:A,0))","v":""},{"$f":"IF(ISERROR(VLOOKUP($A112,check!$A:$L,2,FALSE))=TRUE,\"\",VLOOKUP($A112,check!$A:$L,2,FALSE))","v":""},{"$f":"IF(ISERROR(VLOOKUP($A112,check!$A:$L,3,FALSE))=TRUE,\"\",VLOOKUP($A112,check!$A:$L,3,FALSE))","v":""},{"$f":"IF(ISERROR(VLOOKUP($A112,check!$A:$L,4,FALSE))=TRUE,\"\",VLOOKUP($A112,check!$A:$L,4,FALSE))","v":""},{"$f":"IF(ISERROR(VLOOKUP($A112,check!$A:$L,5,FALSE))=TRUE,\"\",VLOOKUP($A112,check!$A:$L,5,FALSE))","v":""},{"$f":"IF(ISERROR(VLOOKUP($A112,check!$A:$L,6,FALSE))=TRUE,\"\",VLOOKUP($A112,check!$A:$L,6,FALSE))","v":""},{"$f":"IF(ISERROR(VLOOKUP($A112,check!$A:$L,7,FALSE))=TRUE,\"\",VLOOKUP($A112,check!$A:$L,7,FALSE))","v":""},{"$f":"IF(ISERROR(VLOOKUP($A112,check!$A:$L,8,FALSE))=TRUE,\"\",VLOOKUP($A112,check!$A:$L,8,FALSE))","v":""},{"$f":"IF(ISERROR(VLOOKUP($A112,check!$A:$L,9,FALSE))=TRUE,\"\",VLOOKUP($A112,check!$A:$L,9,FALSE))","v":""},{"$f":"IF(ISERROR(VLOOKUP($A112,check!$A:$L,10,FALSE))=TRUE,\"\",VLOOKUP($A112,check!$A:$L,10,FALSE))","v":""},{"$f":"IF(ISERROR(VLOOKUP($A112,check!$A:$L,11,FALSE))=TRUE,\"\",VLOOKUP($A112,check!$A:$L,11,FALSE))","v":""},{"$f":"IF(ISERROR(VLOOKUP($A112,check!$A:$L,12,FALSE))=TRUE,\"\",VLOOKUP($A112,check!$A:$L,12,FALSE))","v":""}]
[113,{"$f":"IF(C113=\"\",\"\",MATCH(A113,check!A:A,0))","v":""},{"$f":"IF(ISERROR(VLOOKUP($A113,check!$A:$L,2,FALSE))=TRUE,\"\",VLOOKUP($A113,check!$A:$L,2,FALSE))","v":""},{"$f":"IF(ISERROR(VLOOKUP($A113,check!$A:$L,3,FALSE))=TRUE,\"\",VLOOKUP($A113,check!$A:$L,3,FALSE))","v":""},{"$f":"IF(ISERROR(VLOOKUP($A113,check!$A:$L,4,FALSE))=TRUE,\"\",VLOOKUP($A113,check!$A:$L,4,FALSE))","v":""},{"$f":"IF(ISERROR(VLOOKUP($A113,check!$A:$L,5,FALSE))=TRUE,\"\",VLOOKUP($A113,check!$A:$L,5,FALSE))","v":""},{"$f":"IF(ISERROR(VLOOKUP($A113,check!$A:$L,6,FALSE))=TRUE,\"\",VLOOKUP($A113,check!$A:$L,6,FALSE))","v":""},{"$f":"IF(ISERROR(VLOOKUP($A113,check!$A:$L,7,FALSE))=TRUE,\"\",VLOOKUP($A113,check!$A:$L,7,FALSE))","v":""},{"$f":"IF(ISERROR(VLOOKUP($A113,check!$A:$L,8,FALSE))=TRUE,\"\",VLOOKUP($A113,check!$A:$L,8,FALSE))","v":""},{"$f":"IF(ISERROR(VLOOKUP($A113,check!$A:$L,9,FALSE))=TRUE,\"\",VLOOKUP($A113,check!$A:$L,9,FALSE))","v":""},{"$f":"IF(ISERROR(VLOOKUP($A113,check!$A:$L,10,FALSE))=TRUE,\"\",VLOOKUP($A113,check!$A:$L,10,FALSE))","v":""},{"$f":"IF(ISERROR(VLOOKUP($A113,check!$A:$L,11,FALSE))=TRUE,\"\",VLOOKUP($A113,check!$A:$L,11,FALSE))","v":""},{"$f":"IF(ISERROR(VLOOKUP($A113,check!$A:$L,12,FALSE))=TRUE,\"\",VLOOKUP($A113,check!$A:$L,12,FALSE))","v":""}]
[114,{"$f":"IF(C114=\"\",\"\",MATCH(A114,check!A:A,0))","v":""},{"$f":"IF(ISERROR(VLOOKUP($A114,check!$A:$L,2,FALSE))=TRUE,\"\",VLOOKUP($A114,check!$A:$L,2,FALSE))","v":""},{"$f":"IF(ISERROR(VLOOKUP($A114,check!$A:$L,3,FALSE))=TRUE,\"\",VLOOKUP($A114,check!$A:$L,3,FALSE))","v":""},{"$f":"IF(ISERROR(VLOOKUP($A114,check!$A:$L,4,FALSE))=TRUE,\"\",VLOOKUP($A114,check!$A:$L,4,FALSE))","v":""},{"$f":"IF(ISERROR(VLOOKUP($A114,check!$A:$L,5,FALSE))=TRUE,\"\",VLOOKUP($A114,check!$A:$L,5,FALSE))","v":""},{"$f":"IF(ISERROR(VLOOKUP($A114,check!$A:$L,6,FALSE))=TRUE,\"\",VLOOKUP($A114,check!$A:$L,6,FALSE))","v":""},{"$f":"IF(ISERROR(VLOOKUP($A114,check!$A:$L,7,FALSE))=TRUE,\"\",VLOOKUP($A114,check!$A:$L,7,FALSE))","v":""},{"$f":"IF(ISERROR(VLOOKUP($A114,check!$A:$L,8,FALSE))=TRUE,\"\",VLOOKUP($A114,check!$A:$L,8,FALSE))","v":""},{"$f":"IF(ISERROR(VLOOKUP($A114,check!$A:$L,9,FALSE))=TRUE,\"\",VLOOKUP($A114,check!$A:$L,9,FALSE))","v":""},{"$f":"IF(ISERROR(VLOOKUP($A114,check!$A:$L,10,FALSE))=TRUE,\"\",VLOOKUP($A114,check!$A:$L,10,FALSE))","v":""},{"$f":"IF(ISERROR(VLOOKUP($A114,check!$A:$L,11,FALSE))=TRUE,\"\",VLOOKUP($A114,check!$A:$L,11,FALSE))","v":""},{"$f":"IF(ISERROR(VLOOKUP($A114,check!$A:$L,12,FALSE))=TRUE,\"\",VLOOKUP($A114,check!$A:$L,12,FALSE))","v":""}]
[115,{"$f":"IF(C115=\"\",\"\",MATCH(A115,check!A:A,0))","v":""},{"$f":"IF(ISERROR(VLOOKUP($A115,check!$A:$L,2,FALSE))=TRUE,\"\",VLOOKUP($A115,check!$A:$L,2,FALSE))","v":""},{"$f":"IF(ISERROR(VLOOKUP($A115,check!$A:$L,3,FALSE))=TRUE,\"\",VLOOKUP($A115,check!$A:$L,3,FALSE))","v":""},{"$f":"IF(ISERROR(VLOOKUP($A115,check!$A:$L,4,FALSE))=TRUE,\"\",VLOOKUP($A115,check!$A:$L,4,FALSE))","v":""},{"$f":"IF(ISERROR(VLOOKUP($A115,check!$A:$L,5,FALSE))=TRUE,\"\",VLOOKUP($A115,check!$A:$L,5,FALSE))","v":""},{"$f":"IF(ISERROR(VLOOKUP($A115,check!$A:$L,6,FALSE))=TRUE,\"\",VLOOKUP($A115,check!$A:$L,6,FALSE))","v":""},{"$f":"IF(ISERROR(VLOOKUP($A115,check!$A:$L,7,FALSE))=TRUE,\"\",VLOOKUP($A115,check!$A:$L,7,FALSE))","v":""},{"$f":"IF(ISERROR(VLOOKUP($A115,check!$A:$L,8,FALSE))=TRUE,\"\",VLOOKUP($A115,check!$A:$L,8,FALSE))","v":""},{"$f":"IF(ISERROR(VLOOKUP($A115,check!$A:$L,9,FALSE))=TRUE,\"\",VLOOKUP($A115,check!$A:$L,9,FALSE))","v":""},{"$f":"IF(ISERROR(VLOOKUP($A115,check!$A:$L,10,FALSE))=TRUE,\"\",VLOOKUP($A115,check!$A:$L,10,FALSE))","v":""},{"$f":"IF(ISERROR(VLOOKUP($A115,check!$A:$L,11,FALSE))=TRUE,\"\",VLOOKUP($A115,check!$A:$L,11,FALSE))","v":""},{"$f":"IF(ISERROR(VLOOKUP($A115,check!$A:$L,12,FALSE))=TRUE,\"\",VLOOKUP($A115,check!$A:$L,12,FALSE))","v":""}]
[116,{"$f":"IF(C116=\"\",\"\",MATCH(A116,check!A:A,0))","v":""},{"$f":"IF(ISERROR(VLOOKUP($A116,check!$A:$L,2,FALSE))=TRUE,\"\",VLOOKUP($A116,check!$A:$L,2,FALSE))","v":""},{"$f":"IF(ISERROR(VLOOKUP($A116,check!$A:$L,3,FALSE))=TRUE,\"\",VLOOKUP($A116,check!$A:$L,3,FALSE))","v":""},{"$f":"IF(ISERROR(VLOOKUP($A116,check!$A:$L,4,FALSE))=TRUE,\"\",VLOOKUP($A116,check!$A:$L,4,FALSE))","v":""},{"$f":"IF(ISERROR(VLOOKUP($A116,check!$A:$L,5,FALSE))=TRUE,\"\",VLOOKUP($A116,check!$A:$L,5,FALSE))","v":""},{"$f":"IF(ISERROR(VLOOKUP($A116,check!$A:$L,6,FALSE))=TRUE,\"\",VLOOKUP($A116,check!$A:$L,6,FALSE))","v":""},{"$f":"IF(ISERROR(VLOOKUP($A116,check!$A:$L,7,FALSE))=TRUE,\"\",VLOOKUP($A116,check!$A:$L,7,FALSE))","v":""},{"$f":"IF(ISERROR(VLOOKUP($A116,check!$A:$L,8,FALSE))=TRUE,\"\",VLOOKUP($A116,check!$A:$L,8,FALSE))","v":""},{"$f":"IF(ISERROR(VLOOKUP($A116,check!$A:$L,9,FALSE))=TRUE,\"\",VLOOKUP($A116,check!$A:$L,9,FALSE))","v":""},{"$f":"IF(ISERROR(VLOOKUP($A116,check!$A:$L,10,FALSE))=TRUE,\"\",VLOOKUP($A116,check!$A:$L,10,FALSE))","v":""},{"$f":"IF(ISERROR(VLOOKUP($A116,check!$A:$L,11,FALSE))=TRUE,\"\",VLOOKUP($A116,check!$A:$L,11,FALSE))","v":""},{"$f":"IF(ISERROR(VLOOKUP($A116,check!$A:$L,12,FALSE))=TRUE,\"\",VLOOKUP($A116,check!$A:$L,12,FALSE))","v":""}]
[117,{"$f":"IF(C117=\"\",\"\",MATCH(A117,check!A:A,0))","v":""},{"$f":"IF(ISERROR(VLOOKUP($A117,check!$A:$L,2,FALSE))=TRUE,\"\",VLOOKUP($A117,check!$A:$L,2,FALSE))","v":""},{"$f":"IF(ISERROR(VLOOKUP($A117,check!$A:$L,3,FALSE))=TRUE,\"\",VLOOKUP($A117,check!$A:$L,3,FALSE))","v":""},{"$f":"IF(ISERROR(VLOOKUP($A117,check!$A:$L,4,FALSE))=TRUE,\"\",VLOOKUP($A117,check!$A:$L,4,FALSE))","v":""},{"$f":"IF(ISERROR(VLOOKUP($A117,check!$A:$L,5,FALSE))=TRUE,\"\",VLOOKUP($A117,check!$A:$L,5,FALSE))","v":""},{"$f":"IF(ISERROR(VLOOKUP($A117,check!$A:$L,6,FALSE))=TRUE,\"\",VLOOKUP($A117,check!$A:$L,6,FALSE))","v":""},{"$f":"IF(ISERROR(VLOOKUP($A117,check!$A:$L,7,FALSE))=TRUE,\"\",VLOOKUP($A117,check!$A:$L,7,FALSE))","v":""},{"$f":"IF(ISERROR(VLOOKUP($A117,check!$A:$L,8,FALSE))=TRUE,\"\",VLOOKUP($A117,check!$A:$L,8,FALSE))","v":""},{"$f":"IF(ISERROR(VLOOKUP($A117,check!$A:$L,9,FALSE))=TRUE,\"\",VLOOKUP($A117,check!$A:$L,9,FALSE))","v":""},{"$f":"IF(ISERROR(VLOOKUP($A117,check!$A:$L,10,FALSE))=TRUE,\"\",VLOOKUP($A117,check!$A:$L,10,FALSE))","v":""},{"$f":"IF(ISERROR(VLOOKUP($A117,check!$A:$L,11,FALSE))=TRUE,\"\",VLOOKUP($A117,check!$A:$L,11,FALSE))","v":""},{"$f":"IF(ISERROR(VLOOKUP($A117,check!$A:$L,12,FALSE))=TRUE,\"\",VLOOKUP($A117,check!$A:$L,12,FALSE))","v":""}]
[118,{"$f":"IF(C118=\"\",\"\",MATCH(A118,check!A:A,0))","v":""},{"$f":"IF(ISERROR(VLOOKUP($A118,check!$A:$L,2,FALSE))=TRUE,\"\",VLOOKUP($A118,check!$A:$L,2,FALSE))","v":""},{"$f":"IF(ISERROR(VLOOKUP($A118,check!$A:$L,3,FALSE))=TRUE,\"\",VLOOKUP($A118,check!$A:$L,3,FALSE))","v":""},{"$f":"IF(ISERROR(VLOOKUP($A118,check!$A:$L,4,FALSE))=TRUE,\"\",VLOOKUP($A118,check!$A:$L,4,FALSE))","v":""},{"$f":"IF(ISERROR(VLOOKUP($A118,check!$A:$L,5,FALSE))=TRUE,\"\",VLOOKUP($A118,check!$A:$L,5,FALSE))","v":""},{"$f":"IF(ISERROR(VLOOKUP($A118,check!$A:$L,6,FALSE))=TRUE,\"\",VLOOKUP($A118,check!$A:$L,6,FALSE))","v":""},{"$f":"IF(ISERROR(VLOOKUP($A118,check!$A:$L,7,FALSE))=TRUE,\"\",VLOOKUP($A118,check!$A:$L,7,FALSE))","v":""},{"$f":"IF(ISERROR(VLOOKUP($A118,check!$A:$L,8,FALSE))=TRUE,\"\",VLOOKUP($A118,check!$A:$L,8,FALSE))","v":""},{"$f":"IF(ISERROR(VLOOKUP($A118,check!$A:$L,9,FALSE))=TRUE,\"\",VLOOKUP($A118,check!$A:$L,9,FALSE))","v":""},{"$f":"IF(ISERROR(VLOOKUP($A118,check!$A:$L,10,FALSE))=TRUE,\"\",VLOOKUP($A118,check!$A:$L,10,FALSE))","v":""},{"$f":"IF(ISERROR(VLOOKUP($A118,check!$A:$L,11,FALSE))=TRUE,\"\",VLOOKUP($A118,check!$A:$L,11,FALSE))","v":""},{"$f":"IF(ISERROR(VLOOKUP($A118,check!$A:$L,12,FALSE))=TRUE,\"\",VLOOKUP($A118,check!$A:$L,12,FALSE))","v":""}]
[119,{"$f":"IF(C119=\"\",\"\",MATCH(A119,check!A:A,0))","v":""},{"$f":"IF(ISERROR(VLOOKUP($A119,check!$A:$L,2,FALSE))=TRUE,\"\",VLOOKUP($A119,check!$A:$L,2,FALSE))","v":""},{"$f":"IF(ISERROR(VLOOKUP($A119,check!$A:$L,3,FALSE))=TRUE,\"\",VLOOKUP($A119,check!$A:$L,3,FALSE))","v":""},{"$f":"IF(ISERROR(VLOOKUP($A119,check!$A:$L,4,FALSE))=TRUE,\"\",VLOOKUP($A119,check!$A:$L,4,FALSE))","v":""},{"$f":"IF(ISERROR(VLOOKUP($A119,check!$A:$L,5,FALSE))=TRUE,\"\",VLOOKUP($A119,check!$A:$L,5,FALSE))","v":""},{"$f":"IF(ISERROR(VLOOKUP($A119,check!$A:$L,6,FALSE))=TRUE,\"\",VLOOKUP($A119,check!$A:$L,6,FALSE))","v":""},{"$f":"IF(ISERROR(VLOOKUP($A119,check!$A:$L,7,FALSE))=TRUE,\"\",VLOOKUP($A119,check!$A:$L,7,FALSE))","v":""},{"$f":"IF(ISERROR(VLOOKUP($A119,check!$A:$L,8,FALSE))=TRUE,\"\",VLOOKUP($A119,check!$A:$L,8,FALSE))","v":""},{"$f":"IF(ISERROR(VLOOKUP($A119,check!$A:$L,9,FALSE))=TRUE,\"\",VLOOKUP($A119,check!$A:$L,9,FALSE))","v":""},{"$f":"IF(ISERROR(VLOOKUP($A119,check!$A:$L,10,FALSE))=TRUE,\"\",VLOOKUP($A119,check!$A:$L,10,FALSE))","v":""},{"$f":"IF(ISERROR(VLOOKUP($A119,check!$A:$L,11,FALSE))=TRUE,\"\",VLOOKUP($A119,check!$A:$L,11,FALSE))","v":""},{"$f":"IF(ISERROR(VLOOKUP($A119,check!$A:$L,12,FALSE))=TRUE,\"\",VLOOKUP($A119,check!$A:$L,12,FALSE))","v":""}]
[120,{"$f":"IF(C120=\"\",\"\",MATCH(A120,check!A:A,0))","v":""},{"$f":"IF(ISERROR(VLOOKUP($A120,check!$A:$L,2,FALSE))=TRUE,\"\",VLOOKUP($A120,check!$A:$L,2,FALSE))","v":""},{"$f":"IF(ISERROR(VLOOKUP($A120,check!$A:$L,3,FALSE))=TRUE,\"\",VLOOKUP($A120,check!$A:$L,3,FALSE))","v":""},{"$f":"IF(ISERROR(VLOOKUP($A120,check!$A:$L,4,FALSE))=TRUE,\"\",VLOOKUP($A120,check!$A:$L,4,FALSE))","v":""},{"$f":"IF(ISERROR(VLOOKUP($A120,check!$A:$L,5,FALSE))=TRUE,\"\",VLOOKUP($A120,check!$A:$L,5,FALSE))","v":""},{"$f":"IF(ISERROR(VLOOKUP($A120,check!$A:$L,6,FALSE))=TRUE,\"\",VLOOKUP($A120,check!$A:$L,6,FALSE))","v":""},{"$f":"IF(ISERROR(VLOOKUP($A120,check!$A:$L,7,FALSE))=TRUE,\"\",VLOOKUP($A120,check!$A:$L,7,FALSE))","v":""},{"$f":"IF(ISERROR(VLOOKUP($A120,check!$A:$L,8,FALSE))=TRUE,\"\",VLOOKUP($A120,check!$A:$L,8,FALSE))","v":""},{"$f":"IF(ISERROR(VLOOKUP($A120,check!$A:$L,9,FALSE))=TRUE,\"\",VLOOKUP($A120,check!$A:$L,9,FALSE))","v":""},{"$f":"IF(ISERROR(VLOOKUP($A120,check!$A:$L,10,FALSE))=TRUE,\"\",VLOOKUP($A120,check!$A:$L,10,FALSE))","v":""},{"$f":"IF(ISERROR(VLOOKUP($A120,check!$A:$L,11,FALSE))=TRUE,\"\",VLOOKUP($A120,check!$A:$L,11,FALSE))","v":""},{"$f":"IF(ISERROR(VLOOKUP($A120,check!$A:$L,12,FALSE))=TRUE,\"\",VLOOKUP($A120,check!$A:$L,12,FALSE))","v":""}]
[121,{"$f":"IF(C121=\"\",\"\",MATCH(A121,check!A:A,0))","v":""},{"$f":"IF(ISERROR(VLOOKUP($A121,check!$A:$L,2,FALSE))=TRUE,\"\",VLOOKUP($A121,check!$A:$L,2,FALSE))","v":""},{"$f":"IF(ISERROR(VLOOKUP($A121,check!$A:$L,3,FALSE))=TRUE,\"\",VLOOKUP($A121,check!$A:$L,3,FALSE))","v":""},{"$f":"IF(ISERROR(VLOOKUP($A121,check!$A:$L,4,FALSE))=TRUE,\"\",VLOOKUP($A121,check!$A:$L,4,FALSE))","v":""},{"$f":"IF(ISERROR(VLOOKUP($A121,check!$A:$L,5,FALSE))=TRUE,\"\",VLOOKUP($A121,check!$A:$L,5,FALSE))","v":""},{"$f":"IF(ISERROR(VLOOKUP($A121,check!$A:$L,6,FALSE))=TRUE,\"\",VLOOKUP($A121,check!$A:$L,6,FALSE))","v":""},{"$f":"IF(ISERROR(VLOOKUP($A121,check!$A:$L,7,FALSE))=TRUE,\"\",VLOOKUP($A121,check!$A:$L,7,FALSE))","v":""},{"$f":"IF(ISERROR(VLOOKUP($A121,check!$A:$L,8,FALSE))=TRUE,\"\",VLOOKUP($A121,check!$A:$L,8,FALSE))","v":""},{"$f":"IF(ISERROR(VLOOKUP($A121,check!$A:$L,9,FALSE))=TRUE,\"\",VLOOKUP($A121,check!$A:$L,9,FALSE))","v":""},{"$f":"IF(ISERROR(VLOOKUP($A121,check!$A:$L,10,FALSE))=TRUE,\"\",VLOOKUP($A121,check!$A:$L,10,FALSE))","v":""},{"$f":"IF(ISERROR(VLOOKUP($A121,check!$A:$L,11,FALSE))=TRUE,\"\",VLOOKUP($A121,check!$A:$L,11,FALSE))","v":""},{"$f":"IF(ISERROR(VLOOKUP($A121,check!$A:$L,12,FALSE))=TRUE,\"\",VLOOKUP($A121,check!$A:$L,12,FALSE))","v":""}]
[122,{"$f":"IF(C122=\"\",\"\",MATCH(A122,check!A:A,0))","v":""},{"$f":"IF(ISERROR(VLOOKUP($A122,check!$A:$L,2,FALSE))=TRUE,\"\",VLOOKUP($A122,check!$A:$L,2,FALSE))","v":""},{"$f":"IF(ISERROR(VLOOKUP($A122,check!$A:$L,3,FALSE))=TRUE,\"\",VLOOKUP($A122,check!$A:$L,3,FALSE))","v":""},{"$f":"IF(ISERROR(VLOOKUP($A122,check!$A:$L,4,FALSE))=TRUE,\"\",VLOOKUP($A122,check!$A:$L,4,FALSE))","v":""},{"$f":"IF(ISERROR(VLOOKUP($A122,check!$A:$L,5,FALSE))=TRUE,\"\",VLOOKUP($A122,check!$A:$L,5,FALSE))","v":""},{"$f":"IF(ISERROR(VLOOKUP($A122,check!$A:$L,6,FALSE))=TRUE,\"\",VLOOKUP($A122,check!$A:$L,6,FALSE))","v":""},{"$f":"IF(ISERROR(VLOOKUP($A122,check!$A:$L,7,FALSE))=TRUE,\"\",VLOOKUP($A122,check!$A:$L,7,FALSE))","v":""},{"$f":"IF(ISERROR(VLOOKUP($A122,check!$A:$L,8,FALSE))=TRUE,\"\",VLOOKUP($A122,check!$A:$L,8,FALSE))","v":""},{"$f":"IF(ISERROR(VLOOKUP($A122,check!$A:$L,9,FALSE))=TRUE,\"\",VLOOKUP($A122,check!$A:$L,9,FALSE))","v":""},{"$f":"IF(ISERROR(VLOOKUP($A122,check!$A:$L,10,FALSE))=TRUE,\"\",VLOOKUP($A122,check!$A:$L,10,FALSE))","v":""},{"$f":"IF(ISERROR(VLOOKUP($A122,check!$A:$L,11,FALSE))=TRUE,\"\",VLOOKUP($A122,check!$A:$L,11,FALSE))","v":""},{"$f":"IF(ISERROR(VLOOKUP($A122,check!$A:$L,12,FALSE))=TRUE,\"\",VLOOKUP($A122,check!$A:$L,12,FALSE))","v":""}]
[123,{"$f":"IF(C123=\"\",\"\",MATCH(A123,check!A:A,0))","v":""},{"$f":"IF(ISERROR(VLOOKUP($A123,check!$A:$L,2,FALSE))=TRUE,\"\",VLOOKUP($A123,check!$A:$L,2,FALSE))","v":""},{"$f":"IF(ISERROR(VLOOKUP($A123,check!$A:$L,3,FALSE))=TRUE,\"\",VLOOKUP($A123,check!$A:$L,3,FALSE))","v":""},{"$f":"IF(ISERROR(VLOOKUP($A123,check!$A:$L,4,FALSE))=TRUE,\"\",VLOOKUP($A123,check!$A:$L,4,FALSE))","v":""},{"$f":"IF(ISERROR(VLOOKUP($A123,check!$A:$L,5,FALSE))=TRUE,\"\",VLOOKUP($A123,check!$A:$L,5,FALSE))","v":""},{"$f":"IF(ISERROR(VLOOKUP($A123,check!$A:$L,6,FALSE))=TRUE,\"\",VLOOKUP($A123,check!$A:$L,6,FALSE))","v":""},{"$f":"IF(ISERROR(VLOOKUP($A123,check!$A:$L,7,FALSE))=TRUE,\"\",VLOOKUP($A123,check!$A:$L,7,FALSE))","v":""},{"$f":"IF(ISERROR(VLOOKUP($A123,check!$A:$L,8,FALSE))=TRUE,\"\",VLOOKUP($A123,check!$A:$L,8,FALSE))","v":""},{"$f":"IF(ISERROR(VLOOKUP($A123,check!$A:$L,9,FALSE))=TRUE,\"\",VLOOKUP($A123,check!$A:$L,9,FALSE))","v":""},{"$f":"IF(ISERROR(VLOOKUP($A123,check!$A:$L,10,FALSE))=TRUE,\"\",VLOOKUP($A123,check!$A:$L,10,FALSE))","v":""},{"$f":"IF(ISERROR(VLOOKUP($A123,check!$A:$L,11,FALSE))=TRUE,\"\",VLOOKUP($A123,check!$A:$L,11,FALSE))","v":""},{"$f":"IF(ISERROR(VLOOKUP($A123,check!$A:$L,12,FALSE))=TRUE,\"\",VLOOKUP($A123,check!$A:$L,12,FALSE))","v":""}]
[124,{"$f":"IF(C124=\"\",\"\",MATCH(A124,check!A:A,0))","v":""},{"$f":"IF(ISERROR(VLOOKUP($A124,check!$A:$L,2,FALSE))=TRUE,\"\",VLOOKUP($A124,check!$A:$L,2,FALSE))","v":""},{"$f":"IF(ISERROR(VLOOKUP($A124,check!$A:$L,3,FALSE))=TRUE,\"\",VLOOKUP($A124,check!$A:$L,3,FALSE))","v":""},{"$f":"IF(ISERROR(VLOOKUP($A124,check!$A:$L,4,FALSE))=TRUE,\"\",VLOOKUP($A124,check!$A:$L,4,FALSE))","v":""},{"$f":"IF(ISERROR(VLOOKUP($A124,check!$A:$L,5,FALSE))=TRUE,\"\",VLOOKUP($A124,check!$A:$L,5,FALSE))","v":""},{"$f":"IF(ISERROR(VLOOKUP($A124,check!$A:$L,6,FALSE))=TRUE,\"\",VLOOKUP($A124,check!$A:$L,6,FALSE))","v":""},{"$f":"IF(ISERROR(VLOOKUP($A124,check!$A:$L,7,FALSE))=TRUE,\"\",VLOOKUP($A124,check!$A:$L,7,FALSE))","v":""},{"$f":"IF(ISERROR(VLOOKUP($A124,check!$A:$L,8,FALSE))=TRUE,\"\",VLOOKUP($A124,check!$A:$L,8,FALSE))","v":""},{"$f":"IF(ISERROR(VLOOKUP($A124,check!$A:$L,9,FALSE))=TRUE,\"\",VLOOKUP($A124,check!$A:$L,9,FALSE))","v":""},{"$f":"IF(ISERROR(VLOOKUP($A124,check!$A:$L,10,FALSE))=TRUE,\"\",VLOOKUP($A124,check!$A:$L,10,FALSE))","v":""},{"$f":"IF(ISERROR(VLOOKUP($A124,check!$A:$L,11,FALSE))=TRUE,\"\",VLOOKUP($A124,check!$A:$L,11,FALSE))","v":""},{"$f":"IF(ISERROR(VLOOKUP($A124,check!$A:$L,12,FALSE))=TRUE,\"\",VLOOKUP($A124,check!$A:$L,12,FALSE))","v":""}]
[125,{"$f":"IF(C125=\"\",\"\",MATCH(A125,check!A:A,0))","v":""},{"$f":"IF(ISERROR(VLOOKUP($A125,check!$A:$L,2,FALSE))=TRUE,\"\",VLOOKUP($A125,check!$A:$L,2,FALSE))","v":""},{"$f":"IF(ISERROR(VLOOKUP($A125,check!$A:$L,3,FALSE))=TRUE,\"\",VLOOKUP($A125,check!$A:$L,3,FALSE))","v":""},{"$f":"IF(ISERROR(VLOOKUP($A125,check!$A:$L,4,FALSE))=TRUE,\"\",VLOOKUP($A125,check!$A:$L,4,FALSE))","v":""},{"$f":"IF(ISERROR(VLOOKUP($A125,check!$A:$L,5,FALSE))=TRUE,\"\",VLOOKUP($A125,check!$A:$L,5,FALSE))","v":""},{"$f":"IF(ISERROR(VLOOKUP($A125,check!$A:$L,6,FALSE))=TRUE,\"\",VLOOKUP($A125,check!$A:$L,6,FALSE))","v":""},{"$f":"IF(ISERROR(VLOOKUP($A125,check!$A:$L,7,FALSE))=TRUE,\"\",VLOOKUP($A125,check!$A:$L,7,FALSE))","v":""},{"$f":"IF(ISERROR(VLOOKUP($A125,check!$A:$L,8,FALSE))=TRUE,\"\",VLOOKUP($A125,check!$A:$L,8,FALSE))","v":""},{"$f":"IF(ISERROR(VLOOKUP($A125,check!$A:$L,9,FALSE))=TRUE,\"\",VLOOKUP($A125,check!$A:$L,9,FALSE))","v":""},{"$f":"IF(ISERROR(VLOOKUP($A125,check!$A:$L,10,FALSE))=TRUE,\"\",VLOOKUP($A125,check!$A:$L,10,FALSE))","v":""},{"$f":"IF(ISERROR(VLOOKUP($A125,check!$A:$L,11,FALSE))=TRUE,\"\",VLOOKUP($A125,check!$A:$L,11,FALSE))","v":""},{"$f":"IF(ISERROR(VLOOKUP($A125,check!$A:$L,12,FALSE))=TRUE,\"\",VLOOKUP($A125,check!$A:$L,12,FALSE))","v":""}]
[126,{"$f":"IF(C126=\"\",\"\",MATCH(A126,check!A:A,0))","v":""},{"$f":"IF(ISERROR(VLOOKUP($A126,check!$A:$L,2,FALSE))=TRUE,\"\",VLOOKUP($A126,check!$A:$L,2,FALSE))","v":""},{"$f":"IF(ISERROR(VLOOKUP($A126,check!$A:$L,3,FALSE))=TRUE,\"\",VLOOKUP($A126,check!$A:$L,3,FALSE))","v":""},{"$f":"IF(ISERROR(VLOOKUP($A126,check!$A:$L,4,FALSE))=TRUE,\"\",VLOOKUP($A126,check!$A:$L,4,FALSE))","v":""},{"$f":"IF(ISERROR(VLOOKUP($A126,check!$A:$L,5,FALSE))=TRUE,\"\",VLOOKUP($A126,check!$A:$L,5,FALSE))","v":""},{"$f":"IF(ISERROR(VLOOKUP($A126,check!$A:$L,6,FALSE))=TRUE,\"\",VLOOKUP($A126,check!$A:$L,6,FALSE))","v":""},{"$f":"IF(ISERROR(VLOOKUP($A126,check!$A:$L,7,FALSE))=TRUE,\"\",VLOOKUP($A126,check!$A:$L,7,FALSE))","v":""},{"$f":"IF(ISERROR(VLOOKUP($A126,check!$A:$L,8,FALSE))=TRUE,\"\",VLOOKUP($A126,check!$A:$L,8,FALSE))","v":""},{"$f":"IF(ISERROR(VLOOKUP($A126,check!$A:$L,9,FALSE))=TRUE,\"\",VLOOKUP($A126,check!$A:$L,9,FALSE))","v":""},{"$f":"IF(ISERROR(VLOOKUP($A126,check!$A:$L,10,FALSE))=TRUE,\"\",VLOOKUP($A126,check!$A:$L,10,FALSE))","v":""},{"$f":"IF(ISERROR(VLOOKUP($A126,check!$A:$L,11,FALSE))=TRUE,\"\",VLOOKUP($A126,check!$A:$L,11,FALSE))","v":""},{"$f":"IF(ISERROR(VLOOKUP($A126,check!$A:$L,12,FALSE))=TRUE,\"\",VLOOKUP($A126,check!$A:$L,12,FALSE))","v":""}]
[127,{"$f":"IF(C127=\"\",\"\",MATCH(A127,check!A:A,0))","v":""},{"$f":"IF(ISERROR(VLOOKUP($A127,check!$A:$L,2,FALSE))=TRUE,\"\",VLOOKUP($A127,check!$A:$L,2,FALSE))","v":""},{"$f":"IF(ISERROR(VLOOKUP($A127,check!$A:$L,3,FALSE))=TRUE,\"\",VLOOKUP($A127,check!$A:$L,3,FALSE))","v":""},{"$f":"IF(ISERROR(VLOOKUP($A127,check!$A:$L,4,FALSE))=TRUE,\"\",VLOOKUP($A127,check!$A:$L,4,FALSE))","v":""},{"$f":"IF(ISERROR(VLOOKUP($A127,check!$A:$L,5,FALSE))=TRUE,\"\",VLOOKUP($A127,check!$A:$L,5,FALSE))","v":""},{"$f":"IF(ISERROR(VLOOKUP($A127,check!$A:$L,6,FALSE))=TRUE,\"\",VLOOKUP($A127,check!$A:$L,6,FALSE))","v":""},{"$f":"IF(ISERROR(VLOOKUP($A127,check!$A:$L,7,FALSE))=TRUE,\"\",VLOOKUP($A127,check!$A:$L,7,FALSE))","v":""},{"$f":"IF(ISERROR(VLOOKUP($A127,check!$A:$L,8,FALSE))=TRUE,\"\",VLOOKUP($A127,check!$A:$L,8,FALSE))","v":""},{"$f":"IF(ISERROR(VLOOKUP($A127,check!$A:$L,9,FALSE))=TRUE,\"\",VLOOKUP($A127,check!$A:$L,9,FALSE))","v":""},{"$f":"IF(ISERROR(VLOOKUP($A127,check!$A:$L,10,FALSE))=TRUE,\"\",VLOOKUP($A127,check!$A:$L,10,FALSE))","v":""},{"$f":"IF(ISERROR(VLOOKUP($A127,check!$A:$L,11,FALSE))=TRUE,\"\",VLOOKUP($A127,check!$A:$L,11,FALSE))","v":""},{"$f":"IF(ISERROR(VLOOKUP($A127,check!$A:$L,12,FALSE))=TRUE,\"\",VLOOKUP($A127,check!$A:$L,12,FALSE))","v":""}]
[128,{"$f":"IF(C128=\"\",\"\",MATCH(A128,check!A:A,0))","v":""},{"$f":"IF(ISERROR(VLOOKUP($A128,check!$A:$L,2,FALSE))=TRUE,\"\",VLOOKUP($A128,check!$A:$L,2,FALSE))","v":""},{"$f":"IF(ISERROR(VLOOKUP($A128,check!$A:$L,3,FALSE))=TRUE,\"\",VLOOKUP($A128,check!$A:$L,3,FALSE))","v":""},{"$f":"IF(ISERROR(VLOOKUP($A128,check!$A:$L,4,FALSE))=TRUE,\"\",VLOOKUP($A128,check!$A:$L,4,FALSE))","v":""},{"$f":"IF(ISERROR(VLOOKUP($A128,check!$A:$L,5,FALSE))=TRUE,\"\",VLOOKUP($A128,check!$A:$L,5,FALSE))","v":""},{"$f":"IF(ISERROR(VLOOKUP($A128,check!$A:$L,6,FALSE))=TRUE,\"\",VLOOKUP($A128,check!$A:$L,6,FALSE))","v":""},{"$f":"IF(ISERROR(VLOOKUP($A128,check!$A:$L,7,FALSE))=TRUE,\"\",VLOOKUP($A128,check!$A:$L,7,FALSE))","v":""},{"$f":"IF(ISERROR(VLOOKUP($A128,check!$A:$L,8,FALSE))=TRUE,\"\",VLOOKUP($A128,check!$A:$L,8,FALSE))","v":""},{"$f":"IF(ISERROR(VLOOKUP($A128,check!$A:$L,9,FALSE))=TRUE,\"\",VLOOKUP($A128,check!$A:$L,9,FALSE))","v":""},{"$f":"IF(ISERROR(VLOOKUP($A128,check!$A:$L,10,FALSE))=TRUE,\"\",VLOOKUP($A128,check!$A:$L,10,FALSE))","v":""},{"$f":"IF(ISERROR(VLOOKUP($A128,check!$A:$L,11,FALSE))=TRUE,\"\",VLOOKUP($A128,check!$A:$L,11,FALSE))","v":""},{"$f":"IF(ISERROR(VLOOKUP($A128,check!$A:$L,12,FALSE))=TRUE,\"\",VLOOKUP($A128,check!$A:$L,12,FALSE))","v":""}]
[129,{"$f":"IF(C129=\"\",\"\",MATCH(A129,check!A:A,0))","v":""},{"$f":"IF(ISERROR(VLOOKUP($A129,check!$A:$L,2,FALSE))=TRUE,\"\",VLOOKUP($A129,check!$A:$L,2,FALSE))","v":""},{"$f":"IF(ISERROR(VLOOKUP($A129,check!$A:$L,3,FALSE))=TRUE,\"\",VLOOKUP($A129,check!$A:$L,3,FALSE))","v":""},{"$f":"IF(ISERROR(VLOOKUP($A129,check!$A:$L,4,FALSE))=TRUE,\"\",VLOOKUP($A129,check!$A:$L,4,FALSE))","v":""},{"$f":"IF(ISERROR(VLOOKUP($A129,check!$A:$L,5,FALSE))=TRUE,\"\",VLOOKUP($A129,check!$A:$L,5,FALSE))","v":""},{"$f":"IF(ISERROR(VLOOKUP($A129,check!$A:$L,6,FALSE))=TRUE,\"\",VLOOKUP($A129,check!$A:$L,6,FALSE))","v":""},{"$f":"IF(ISERROR(VLOOKUP($A129,check!$A:$L,7,FALSE))=TRUE,\"\",VLOOKUP($A129,check!$A:$L,7,FALSE))","v":""},{"$f":"IF(ISERROR(VLOOKUP($A129,check!$A:$L,8,FALSE))=TRUE,\"\",VLOOKUP($A129,check!$A:$L,8,FALSE))","v":""},{"$f":"IF(ISERROR(VLOOKUP($A129,check!$A:$L,9,FALSE))=TRUE,\"\",VLOOKUP($A129,check!$A:$L,9,FALSE))","v":""},{"$f":"IF(ISERROR(VLOOKUP($A129,check!$A:$L,10,FALSE))=TRUE,\"\",VLOOKUP($A129,check!$A:$L,10,FALSE))","v":""},{"$f":"IF(ISERROR(VLOOKUP($A129,check!$A:$L,11,FALSE))=TRUE,\"\",VLOOKUP($A129,check!$A:$L,11,FALSE))","v":""},{"$f":"IF(ISERROR(VLOOKUP($A129,check!$A:$L,12,FALSE))=TRUE,\"\",VLOOKUP($A129,check!$A:$L,12,FALSE))","v":""}]
[130,{"$f":"IF(C130=\"\",\"\",MATCH(A130,check!A:A,0))","v":""},{"$f":"IF(ISERROR(VLOOKUP($A130,check!$A:$L,2,FALSE))=TRUE,\"\",VLOOKUP($A130,check!$A:$L,2,FALSE))","v":""},{"$f":"IF(ISERROR(VLOOKUP($A130,check!$A:$L,3,FALSE))=TRUE,\"\",VLOOKUP($A130,check!$A:$L,3,FALSE))","v":""},{"$f":"IF(ISERROR(VLOOKUP($A130,check!$A:$L,4,FALSE))=TRUE,\"\",VLOOKUP($A130,check!$A:$L,4,FALSE))","v":""},{"$f":"IF(ISERROR(VLOOKUP($A130,check!$A:$L,5,FALSE))=TRUE,\"\",VLOOKUP($A130,check!$A:$L,5,FALSE))","v":""},{"$f":"IF(ISERROR(VLOOKUP($A130,check!$A:$L,6,FALSE))=TRUE,\"\",VLOOKUP($A130,check!$A:$L,6,FALSE))","v":""},{"$f":"IF(ISERROR(VLOOKUP($A130,check!$A:$L,7,FALSE))=TRUE,\"\",VLOOKUP($A130,check!$A:$L,7,FALSE))","v":""},{"$f":"IF(ISERROR(VLOOKUP($A130,check!$A:$L,8,FALSE))=TRUE,\"\",VLOOKUP($A130,check!$A:$L,8,FALSE))","v":""},{"$f":"IF(ISERROR(VLOOKUP($A130,check!$A:$L,9,FALSE))=TRUE,\"\",VLOOKUP($A130,check!$A:$L,9,FALSE))","v":""},{"$f":"IF(ISERROR(VLOOKUP($A130,check!$A:$L,10,FALSE))=TRUE,\"\",VLOOKUP($A130,check!$A:$L,10,FALSE))","v":""},{"$f":"IF(ISERROR(VLOOKUP($A130,check!$A:$L,11,FALSE))=TRUE,\"\",VLOOKUP($A130,check!$A:$L,11,FALSE))","v":""},{"$f":"IF(ISERROR(VLOOKUP($A130,check!$A:$L,12,FALSE))=TRUE,\"\",VLOOKUP($A130,check!$A:$L,12,FALSE))","v":""}]
[131,{"$f":"IF(C131=\"\",\"\",MATCH(A131,check!A:A,0))","v":""},{"$f":"IF(ISERROR(VLOOKUP($A131,check!$A:$L,2,FALSE))=TRUE,\"\",VLOOKUP($A131,check!$A:$L,2,FALSE))","v":""},{"$f":"IF(ISERROR(VLOOKUP($A131,check!$A:$L,3,FALSE))=TRUE,\"\",VLOOKUP($A131,check!$A:$L,3,FALSE))","v":""},{"$f":"IF(ISERROR(VLOOKUP($A131,check!$A:$L,4,FALSE))=TRUE,\"\",VLOOKUP($A131,check!$A:$L,4,FALSE))","v":""},{"$f":"IF(ISERROR(VLOOKUP($A131,check!$A:$L,5,FALSE))=TRUE,\"\",VLOOKUP($A131,check!$A:$L,5,FALSE))","v":""},{"$f":"IF(ISERROR(VLOOKUP($A131,check!$A:$L,6,FALSE))=TRUE,\"\",VLOOKUP($A131,check!$A:$L,6,FALSE))","v":""},{"$f":"IF(ISERROR(VLOOKUP($A131,check!$A:$L,7,FALSE))=TRUE,\"\",VLOOKUP($A131,check!$A:$L,7,FALSE))","v":""},{"$f":"IF(ISERROR(VLOOKUP($A131,check!$A:$L,8,FALSE))=TRUE,\"\",VLOOKUP($A131,check!$A:$L,8,FALSE))","v":""},{"$f":"IF(ISERROR(VLOOKUP($A131,check!$A:$L,9,FALSE))=TRUE,\"\",VLOOKUP($A131,check!$A:$L,9,FALSE))","v":""},{"$f":"IF(ISERROR(VLOOKUP($A131,check!$A:$L,10,FALSE))=TRUE,\"\",VLOOKUP($A131,check!$A:$L,10,FALSE))","v":""},{"$f":"IF(ISERROR(VLOOKUP($A131,check!$A:$L,11,FALSE))=TRUE,\"\",VLOOKUP($A131,check!$A:$L,11,FALSE))","v":""},{"$f":"IF(ISERROR(VLOOKUP($A131,check!$A:$L,12,FALSE))=TRUE,\"\",VLOOKUP($A131,check!$A:$L,12,FALSE))","v":""}]
[{"$f":"A131+1","v":132},{"$f":"IF(C132=\"\",\"\",MATCH(A132,check!A:A,0))","v":""},{"$f":"IF(ISERROR(VLOOKUP($A132,check!$A:$L,2,FALSE))=TRUE,\"\",VLOOKUP($A132,check!$A:$L,2,FALSE))","v":""},{"$f":"IF(ISERROR(VLOOKUP($A132,check!$A:$L,3,FALSE))=TRUE,\"\",VLOOKUP($A132,check!$A:$L,3,FALSE))","v":""},{"$f":"IF(ISERROR(VLOOKUP($A132,check!$A:$L,4,FALSE))=TRUE,\"\",VLOOKUP($A132,check!$A:$L,4,FALSE))","v":""},{"$f":"IF(ISERROR(VLOOKUP($A132,check!$A:$L,5,FALSE))=TRUE,\"\",VLOOKUP($A132,check!$A:$L,5,FALSE))","v":""},{"$f":"IF(ISERROR(VLOOKUP($A132,check!$A:$L,6,FALSE))=TRUE,\"\",VLOOKUP($A132,check!$A:$L,6,FALSE))","v":""},{"$f":"IF(ISERROR(VLOOKUP($A132,check!$A:$L,7,FALSE))=TRUE,\"\",VLOOKUP($A132,check!$A:$L,7,FALSE))","v":""},{"$f":"IF(ISERROR(VLOOKUP($A132,check!$A:$L,8,FALSE))=TRUE,\"\",VLOOKUP($A132,check!$A:$L,8,FALSE))","v":""},{"$f":"IF(ISERROR(VLOOKUP($A132,check!$A:$L,9,FALSE))=TRUE,\"\",VLOOKUP($A132,check!$A:$L,9,FALSE))","v":""},{"$f":"IF(ISERROR(VLOOKUP($A132,check!$A:$L,10,FALSE))=TRUE,\"\",VLOOKUP($A132,check!$A:$L,10,FALSE))","v":""},{"$f":"IF(ISERROR(VLOOKUP($A132,check!$A:$L,11,FALSE))=TRUE,\"\",VLOOKUP($A132,check!$A:$L,11,FALSE))","v":""},{"$f":"IF(ISERROR(VLOOKUP($A132,check!$A:$L,12,FALSE))=TRUE,\"\",VLOOKUP($A132,check!$A:$L,12,FALSE))","v":""}]
[133,{"$f":"IF(C133=\"\",\"\",MATCH(A133,check!A:A,0))","v":""},{"$f":"IF(ISERROR(VLOOKUP($A133,check!$A:$L,2,FALSE))=TRUE,\"\",VLOOKUP($A133,check!$A:$L,2,FALSE))","v":""},{"$f":"IF(ISERROR(VLOOKUP($A133,check!$A:$L,3,FALSE))=TRUE,\"\",VLOOKUP($A133,check!$A:$L,3,FALSE))","v":""},{"$f":"IF(ISERROR(VLOOKUP($A133,check!$A:$L,4,FALSE))=TRUE,\"\",VLOOKUP($A133,check!$A:$L,4,FALSE))","v":""},{"$f":"IF(ISERROR(VLOOKUP($A133,check!$A:$L,5,FALSE))=TRUE,\"\",VLOOKUP($A133,check!$A:$L,5,FALSE))","v":""},{"$f":"IF(ISERROR(VLOOKUP($A133,check!$A:$L,6,FALSE))=TRUE,\"\",VLOOKUP($A133,check!$A:$L,6,FALSE))","v":""},{"$f":"IF(ISERROR(VLOOKUP($A133,check!$A:$L,7,FALSE))=TRUE,\"\",VLOOKUP($A133,check!$A:$L,7,FALSE))","v":""},{"$f":"IF(ISERROR(VLOOKUP($A133,check!$A:$L,8,FALSE))=TRUE,\"\",VLOOKUP($A133,check!$A:$L,8,FALSE))","v":""},{"$f":"IF(ISERROR(VLOOKUP($A133,check!$A:$L,9,FALSE))=TRUE,\"\",VLOOKUP($A133,check!$A:$L,9,FALSE))","v":""},{"$f":"IF(ISERROR(VLOOKUP($A133,check!$A:$L,10,FALSE))=TRUE,\"\",VLOOKUP($A133,check!$A:$L,10,FALSE))","v":""},{"$f":"IF(ISERROR(VLOOKUP($A133,check!$A:$L,11,FALSE))=TRUE,\"\",VLOOKUP($A133,check!$A:$L,11,FALSE))","v":""},{"$f":"IF(ISERROR(VLOOKUP($A133,check!$A:$L,12,FALSE))=TRUE,\"\",VLOOKUP($A133,check!$A:$L,12,FALSE))","v":""}]
[134,{"$f":"IF(C134=\"\",\"\",MATCH(A134,check!A:A,0))","v":""},{"$f":"IF(ISERROR(VLOOKUP($A134,check!$A:$L,2,FALSE))=TRUE,\"\",VLOOKUP($A134,check!$A:$L,2,FALSE))","v":""},{"$f":"IF(ISERROR(VLOOKUP($A134,check!$A:$L,3,FALSE))=TRUE,\"\",VLOOKUP($A134,check!$A:$L,3,FALSE))","v":""},{"$f":"IF(ISERROR(VLOOKUP($A134,check!$A:$L,4,FALSE))=TRUE,\"\",VLOOKUP($A134,check!$A:$L,4,FALSE))","v":""},{"$f":"IF(ISERROR(VLOOKUP($A134,check!$A:$L,5,FALSE))=TRUE,\"\",VLOOKUP($A134,check!$A:$L,5,FALSE))","v":""},{"$f":"IF(ISERROR(VLOOKUP($A134,check!$A:$L,6,FALSE))=TRUE,\"\",VLOOKUP($A134,check!$A:$L,6,FALSE))","v":""},{"$f":"IF(ISERROR(VLOOKUP($A134,check!$A:$L,7,FALSE))=TRUE,\"\",VLOOKUP($A134,check!$A:$L,7,FALSE))","v":""},{"$f":"IF(ISERROR(VLOOKUP($A134,check!$A:$L,8,FALSE))=TRUE,\"\",VLOOKUP($A134,check!$A:$L,8,FALSE))","v":""},{"$f":"IF(ISERROR(VLOOKUP($A134,check!$A:$L,9,FALSE))=TRUE,\"\",VLOOKUP($A134,check!$A:$L,9,FALSE))","v":""},{"$f":"IF(ISERROR(VLOOKUP($A134,check!$A:$L,10,FALSE))=TRUE,\"\",VLOOKUP($A134,check!$A:$L,10,FALSE))","v":""},{"$f":"IF(ISERROR(VLOOKUP($A134,check!$A:$L,11,FALSE))=TRUE,\"\",VLOOKUP($A134,check!$A:$L,11,FALSE))","v":""},{"$f":"IF(ISERROR(VLOOKUP($A134,check!$A:$L,12,FALSE))=TRUE,\"\",VLOOKUP($A134,check!$A:$L,12,FALSE))","v":""}]
[135,{"$f":"IF(C135=\"\",\"\",MATCH(A135,check!A:A,0))","v":""},{"$f":"IF(ISERROR(VLOOKUP($A135,check!$A:$L,2,FALSE))=TRUE,\"\",VLOOKUP($A135,check!$A:$L,2,FALSE))","v":""},{"$f":"IF(ISERROR(VLOOKUP($A135,check!$A:$L,3,FALSE))=TRUE,\"\",VLOOKUP($A135,check!$A:$L,3,FALSE))","v":""},{"$f":"IF(ISERROR(VLOOKUP($A135,check!$A:$L,4,FALSE))=TRUE,\"\",VLOOKUP($A135,check!$A:$L,4,FALSE))","v":""},{"$f":"IF(ISERROR(VLOOKUP($A135,check!$A:$L,5,FALSE))=TRUE,\"\",VLOOKUP($A135,check!$A:$L,5,FALSE))","v":""},{"$f":"IF(ISERROR(VLOOKUP($A135,check!$A:$L,6,FALSE))=TRUE,\"\",VLOOKUP($A135,check!$A:$L,6,FALSE))","v":""},{"$f":"IF(ISERROR(VLOOKUP($A135,check!$A:$L,7,FALSE))=TRUE,\"\",VLOOKUP($A135,check!$A:$L,7,FALSE))","v":""},{"$f":"IF(ISERROR(VLOOKUP($A135,check!$A:$L,8,FALSE))=TRUE,\"\",VLOOKUP($A135,check!$A:$L,8,FALSE))","v":""},{"$f":"IF(ISERROR(VLOOKUP($A135,check!$A:$L,9,FALSE))=TRUE,\"\",VLOOKUP($A135,check!$A:$L,9,FALSE))","v":""},{"$f":"IF(ISERROR(VLOOKUP($A135,check!$A:$L,10,FALSE))=TRUE,\"\",VLOOKUP($A135,check!$A:$L,10,FALSE))","v":""},{"$f":"IF(ISERROR(VLOOKUP($A135,check!$A:$L,11,FALSE))=TRUE,\"\",VLOOKUP($A135,check!$A:$L,11,FALSE))","v":""},{"$f":"IF(ISERROR(VLOOKUP($A135,check!$A:$L,12,FALSE))=TRUE,\"\",VLOOKUP($A135,check!$A:$L,12,FALSE))","v":""}]
[136,{"$f":"IF(C136=\"\",\"\",MATCH(A136,check!A:A,0))","v":""},{"$f":"IF(ISERROR(VLOOKUP($A136,check!$A:$L,2,FALSE))=TRUE,\"\",VLOOKUP($A136,check!$A:$L,2,FALSE))","v":""},{"$f":"IF(ISERROR(VLOOKUP($A136,check!$A:$L,3,FALSE))=TRUE,\"\",VLOOKUP($A136,check!$A:$L,3,FALSE))","v":""},{"$f":"IF(ISERROR(VLOOKUP($A136,check!$A:$L,4,FALSE))=TRUE,\"\",VLOOKUP($A136,check!$A:$L,4,FALSE))","v":""},{"$f":"IF(ISERROR(VLOOKUP($A136,check!$A:$L,5,FALSE))=TRUE,\"\",VLOOKUP($A136,check!$A:$L,5,FALSE))","v":""},{"$f":"IF(ISERROR(VLOOKUP($A136,check!$A:$L,6,FALSE))=TRUE,\"\",VLOOKUP($A136,check!$A:$L,6,FALSE))","v":""},{"$f":"IF(ISERROR(VLOOKUP($A136,check!$A:$L,7,FALSE))=TRUE,\"\",VLOOKUP($A136,check!$A:$L,7,FALSE))","v":""},{"$f":"IF(ISERROR(VLOOKUP($A136,check!$A:$L,8,FALSE))=TRUE,\"\",VLOOKUP($A136,check!$A:$L,8,FALSE))","v":""},{"$f":"IF(ISERROR(VLOOKUP($A136,check!$A:$L,9,FALSE))=TRUE,\"\",VLOOKUP($A136,check!$A:$L,9,FALSE))","v":""},{"$f":"IF(ISERROR(VLOOKUP($A136,check!$A:$L,10,FALSE))=TRUE,\"\",VLOOKUP($A136,check!$A:$L,10,FALSE))","v":""},{"$f":"IF(ISERROR(VLOOKUP($A136,check!$A:$L,11,FALSE))=TRUE,\"\",VLOOKUP($A136,check!$A:$L,11,FALSE))","v":""},{"$f":"IF(ISERROR(VLOOKUP($A136,check!$A:$L,12,FALSE))=TRUE,\"\",VLOOKUP($A136,check!$A:$L,12,FALSE))","v":""}]
[137,{"$f":"IF(C137=\"\",\"\",MATCH(A137,check!A:A,0))","v":""},{"$f":"IF(ISERROR(VLOOKUP($A137,check!$A:$L,2,FALSE))=TRUE,\"\",VLOOKUP($A137,check!$A:$L,2,FALSE))","v":""},{"$f":"IF(ISERROR(VLOOKUP($A137,check!$A:$L,3,FALSE))=TRUE,\"\",VLOOKUP($A137,check!$A:$L,3,FALSE))","v":""},{"$f":"IF(ISERROR(VLOOKUP($A137,check!$A:$L,4,FALSE))=TRUE,\"\",VLOOKUP($A137,check!$A:$L,4,FALSE))","v":""},{"$f":"IF(ISERROR(VLOOKUP($A137,check!$A:$L,5,FALSE))=TRUE,\"\",VLOOKUP($A137,check!$A:$L,5,FALSE))","v":""},{"$f":"IF(ISERROR(VLOOKUP($A137,check!$A:$L,6,FALSE))=TRUE,\"\",VLOOKUP($A137,check!$A:$L,6,FALSE))","v":""},{"$f":"IF(ISERROR(VLOOKUP($A137,check!$A:$L,7,FALSE))=TRUE,\"\",VLOOKUP($A137,check!$A:$L,7,FALSE))","v":""},{"$f":"IF(ISERROR(VLOOKUP($A137,check!$A:$L,8,FALSE))=TRUE,\"\",VLOOKUP($A137,check!$A:$L,8,FALSE))","v":""},{"$f":"IF(ISERROR(VLOOKUP($A137,check!$A:$L,9,FALSE))=TRUE,\"\",VLOOKUP($A137,check!$A:$L,9,FALSE))","v":""},{"$f":"IF(ISERROR(VLOOKUP($A137,check!$A:$L,10,FALSE))=TRUE,\"\",VLOOKUP($A137,check!$A:$L,10,FALSE))","v":""},{"$f":"IF(ISERROR(VLOOKUP($A137,check!$A:$L,11,FALSE))=TRUE,\"\",VLOOKUP($A137,check!$A:$L,11,FALSE))","v":""},{"$f":"IF(ISERROR(VLOOKUP($A137,check!$A:$L,12,FALSE))=TRUE,\"\",VLOOKUP($A137,check!$A:$L,12,FALSE))","v":""}]
[138,{"$f":"IF(C138=\"\",\"\",MATCH(A138,check!A:A,0))","v":""},{"$f":"IF(ISERROR(VLOOKUP($A138,check!$A:$L,2,FALSE))=TRUE,\"\",VLOOKUP($A138,check!$A:$L,2,FALSE))","v":""},{"$f":"IF(ISERROR(VLOOKUP($A138,check!$A:$L,3,FALSE))=TRUE,\"\",VLOOKUP($A138,check!$A:$L,3,FALSE))","v":""},{"$f":"IF(ISERROR(VLOOKUP($A138,check!$A:$L,4,FALSE))=TRUE,\"\",VLOOKUP($A138,check!$A:$L,4,FALSE))","v":""},{"$f":"IF(ISERROR(VLOOKUP($A138,check!$A:$L,5,FALSE))=TRUE,\"\",VLOOKUP($A138,check!$A:$L,5,FALSE))","v":""},{"$f":"IF(ISERROR(VLOOKUP($A138,check!$A:$L,6,FALSE))=TRUE,\"\",VLOOKUP($A138,check!$A:$L,6,FALSE))","v":""},{"$f":"IF(ISERROR(VLOOKUP($A138,check!$A:$L,7,FALSE))=TRUE,\"\",VLOOKUP($A138,check!$A:$L,7,FALSE))","v":""},{"$f":"IF(ISERROR(VLOOKUP($A138,check!$A:$L,8,FALSE))=TRUE,\"\",VLOOKUP($A138,check!$A:$L,8,FALSE))","v":""},{"$f":"IF(ISERROR(VLOOKUP($A138,check!$A:$L,9,FALSE))=TRUE,\"\",VLOOKUP($A138,check!$A:$L,9,FALSE))","v":""},{"$f":"IF(ISERROR(VLOOKUP($A138,check!$A:$L,10,FALSE))=TRUE,\"\",VLOOKUP($A138,check!$A:$L,10,FALSE))","v":""},{"$f":"IF(ISERROR(VLOOKUP($A138,check!$A:$L,11,FALSE))=TRUE,\"\",VLOOKUP($A138,check!$A:$L,11,FALSE))","v":""},{"$f":"IF(ISERROR(VLOOKUP($A138,check!$A:$L,12,FALSE))=TRUE,\"\",VLOOKUP($A138,check!$A:$L,12,FALSE))","v":""}]
[139,{"$f":"IF(C139=\"\",\"\",MATCH(A139,check!A:A,0))","v":""},{"$f":"IF(ISERROR(VLOOKUP($A139,check!$A:$L,2,FALSE))=TRUE,\"\",VLOOKUP($A139,check!$A:$L,2,FALSE))","v":""},{"$f":"IF(ISERROR(VLOOKUP($A139,check!$A:$L,3,FALSE))=TRUE,\"\",VLOOKUP($A139,check!$A:$L,3,FALSE))","v":""},{"$f":"IF(ISERROR(VLOOKUP($A139,check!$A:$L,4,FALSE))=TRUE,\"\",VLOOKUP($A139,check!$A:$L,4,FALSE))","v":""},{"$f":"IF(ISERROR(VLOOKUP($A139,check!$A:$L,5,FALSE))=TRUE,\"\",VLOOKUP($A139,check!$A:$L,5,FALSE))","v":""},{"$f":"IF(ISERROR(VLOOKUP($A139,check!$A:$L,6,FALSE))=TRUE,\"\",VLOOKUP($A139,check!$A:$L,6,FALSE))","v":""},{"$f":"IF(ISERROR(VLOOKUP($A139,check!$A:$L,7,FALSE))=TRUE,\"\",VLOOKUP($A139,check!$A:$L,7,FALSE))","v":""},{"$f":"IF(ISERROR(VLOOKUP($A139,check!$A:$L,8,FALSE))=TRUE,\"\",VLOOKUP($A139,check!$A:$L,8,FALSE))","v":""},{"$f":"IF(ISERROR(VLOOKUP($A139,check!$A:$L,9,FALSE))=TRUE,\"\",VLOOKUP($A139,check!$A:$L,9,FALSE))","v":""},{"$f":"IF(ISERROR(VLOOKUP($A139,check!$A:$L,10,FALSE))=TRUE,\"\",VLOOKUP($A139,check!$A:$L,10,FALSE))","v":""},{"$f":"IF(ISERROR(VLOOKUP($A139,check!$A:$L,11,FALSE))=TRUE,\"\",VLOOKUP($A139,check!$A:$L,11,FALSE))","v":""},{"$f":"IF(ISERROR(VLOOKUP($A139,check!$A:$L,12,FALSE))=TRUE,\"\",VLOOKUP($A139,check!$A:$L,12,FALSE))","v":""}]
[140,{"$f":"IF(C140=\"\",\"\",MATCH(A140,check!A:A,0))","v":""},{"$f":"IF(ISERROR(VLOOKUP($A140,check!$A:$L,2,FALSE))=TRUE,\"\",VLOOKUP($A140,check!$A:$L,2,FALSE))","v":""},{"$f":"IF(ISERROR(VLOOKUP($A140,check!$A:$L,3,FALSE))=TRUE,\"\",VLOOKUP($A140,check!$A:$L,3,FALSE))","v":""},{"$f":"IF(ISERROR(VLOOKUP($A140,check!$A:$L,4,FALSE))=TRUE,\"\",VLOOKUP($A140,check!$A:$L,4,FALSE))","v":""},{"$f":"IF(ISERROR(VLOOKUP($A140,check!$A:$L,5,FALSE))=TRUE,\"\",VLOOKUP($A140,check!$A:$L,5,FALSE))","v":""},{"$f":"IF(ISERROR(VLOOKUP($A140,check!$A:$L,6,FALSE))=TRUE,\"\",VLOOKUP($A140,check!$A:$L,6,FALSE))","v":""},{"$f":"IF(ISERROR(VLOOKUP($A140,check!$A:$L,7,FALSE))=TRUE,\"\",VLOOKUP($A140,check!$A:$L,7,FALSE))","v":""},{"$f":"IF(ISERROR(VLOOKUP($A140,check!$A:$L,8,FALSE))=TRUE,\"\",VLOOKUP($A140,check!$A:$L,8,FALSE))","v":""},{"$f":"IF(ISERROR(VLOOKUP($A140,check!$A:$L,9,FALSE))=TRUE,\"\",VLOOKUP($A140,check!$A:$L,9,FALSE))","v":""},{"$f":"IF(ISERROR(VLOOKUP($A140,check!$A:$L,10,FALSE))=TRUE,\"\",VLOOKUP($A140,check!$A:$L,10,FALSE))","v":""},{"$f":"IF(ISERROR(VLOOKUP($A140,check!$A:$L,11,FALSE))=TRUE,\"\",VLOOKUP($A140,check!$A:$L,11,FALSE))","v":""},{"$f":"IF(ISERROR(VLOOKUP($A140,check!$A:$L,12,FALSE))=TRUE,\"\",VLOOKUP($A140,check!$A:$L,12,FALSE))","v":""}]
[141,{"$f":"IF(C141=\"\",\"\",MATCH(A141,check!A:A,0))","v":""},{"$f":"IF(ISERROR(VLOOKUP($A141,check!$A:$L,2,FALSE))=TRUE,\"\",VLOOKUP($A141,check!$A:$L,2,FALSE))","v":""},{"$f":"IF(ISERROR(VLOOKUP($A141,check!$A:$L,3,FALSE))=TRUE,\"\",VLOOKUP($A141,check!$A:$L,3,FALSE))","v":""},{"$f":"IF(ISERROR(VLOOKUP($A141,check!$A:$L,4,FALSE))=TRUE,\"\",VLOOKUP($A141,check!$A:$L,4,FALSE))","v":""},{"$f":"IF(ISERROR(VLOOKUP($A141,check!$A:$L,5,FALSE))=TRUE,\"\",VLOOKUP($A141,check!$A:$L,5,FALSE))","v":""},{"$f":"IF(ISERROR(VLOOKUP($A141,check!$A:$L,6,FALSE))=TRUE,\"\",VLOOKUP($A141,check!$A:$L,6,FALSE))","v":""},{"$f":"IF(ISERROR(VLOOKUP($A141,check!$A:$L,7,FALSE))=TRUE,\"\",VLOOKUP($A141,check!$A:$L,7,FALSE))","v":""},{"$f":"IF(ISERROR(VLOOKUP($A141,check!$A:$L,8,FALSE))=TRUE,\"\",VLOOKUP($A141,check!$A:$L,8,FALSE))","v":""},{"$f":"IF(ISERROR(VLOOKUP($A141,check!$A:$L,9,FALSE))=TRUE,\"\",VLOOKUP($A141,check!$A:$L,9,FALSE))","v":""},{"$f":"IF(ISERROR(VLOOKUP($A141,check!$A:$L,10,FALSE))=TRUE,\"\",VLOOKUP($A141,check!$A:$L,10,FALSE))","v":""},{"$f":"IF(ISERROR(VLOOKUP($A141,check!$A:$L,11,FALSE))=TRUE,\"\",VLOOKUP($A141,check!$A:$L,11,FALSE))","v":""},{"$f":"IF(ISERROR(VLOOKUP($A141,check!$A:$L,12,FALSE))=TRUE,\"\",VLOOKUP($A141,check!$A:$L,12,FALSE))","v":""}]
[142,{"$f":"IF(C142=\"\",\"\",MATCH(A142,check!A:A,0))","v":""},{"$f":"IF(ISERROR(VLOOKUP($A142,check!$A:$L,2,FALSE))=TRUE,\"\",VLOOKUP($A142,check!$A:$L,2,FALSE))","v":""},{"$f":"IF(ISERROR(VLOOKUP($A142,check!$A:$L,3,FALSE))=TRUE,\"\",VLOOKUP($A142,check!$A:$L,3,FALSE))","v":""},{"$f":"IF(ISERROR(VLOOKUP($A142,check!$A:$L,4,FALSE))=TRUE,\"\",VLOOKUP($A142,check!$A:$L,4,FALSE))","v":""},{"$f":"IF(ISERROR(VLOOKUP($A142,check!$A:$L,5,FALSE))=TRUE,\"\",VLOOKUP($A142,check!$A:$L,5,FALSE))","v":""},{"$f":"IF(ISERROR(VLOOKUP($A142,check!$A:$L,6,FALSE))=TRUE,\"\",VLOOKUP($A142,check!$A:$L,6,FALSE))","v":""},{"$f":"IF(ISERROR(VLOOKUP($A142,check!$A:$L,7,FALSE))=TRUE,\"\",VLOOKUP($A142,check!$A:$L,7,FALSE))","v":""},{"$f":"IF(ISERROR(VLOOKUP($A142,check!$A:$L,8,FALSE))=TRUE,\"\",VLOOKUP($A142,check!$A:$L,8,FALSE))","v":""},{"$f":"IF(ISERROR(VLOOKUP($A142,check!$A:$L,9,FALSE))=TRUE,\"\",VLOOKUP($A142,check!$A:$L,9,FALSE))","v":""},{"$f":"IF(ISERROR(VLOOKUP($A142,check!$A:$L,10,FALSE))=TRUE,\"\",VLOOKUP($A142,check!$A:$L,10,FALSE))","v":""},{"$f":"IF(ISERROR(VLOOKUP($A142,check!$A:$L,11,FALSE))=TRUE,\"\",VLOOKUP($A142,check!$A:$L,11,FALSE))","v":""},{"$f":"IF(ISERROR(VLOOKUP($A142,check!$A:$L,12,FALSE))=TRUE,\"\",VLOOKUP($A142,check!$A:$L,12,FALSE))","v":""}]
[143,{"$f":"IF(C143=\"\",\"\",MATCH(A143,check!A:A,0))","v":""},{"$f":"IF(ISERROR(VLOOKUP($A143,check!$A:$L,2,FALSE))=TRUE,\"\",VLOOKUP($A143,check!$A:$L,2,FALSE))","v":""},{"$f":"IF(ISERROR(VLOOKUP($A143,check!$A:$L,3,FALSE))=TRUE,\"\",VLOOKUP($A143,check!$A:$L,3,FALSE))","v":""},{"$f":"IF(ISERROR(VLOOKUP($A143,check!$A:$L,4,FALSE))=TRUE,\"\",VLOOKUP($A143,check!$A:$L,4,FALSE))","v":""},{"$f":"IF(ISERROR(VLOOKUP($A143,check!$A:$L,5,FALSE))=TRUE,\"\",VLOOKUP($A143,check!$A:$L,5,FALSE))","v":""},{"$f":"IF(ISERROR(VLOOKUP($A143,check!$A:$L,6,FALSE))=TRUE,\"\",VLOOKUP($A143,check!$A:$L,6,FALSE))","v":""},{"$f":"IF(ISERROR(VLOOKUP($A143,check!$A:$L,7,FALSE))=TRUE,\"\",VLOOKUP($A143,check!$A:$L,7,FALSE))","v":""},{"$f":"IF(ISERROR(VLOOKUP($A143,check!$A:$L,8,FALSE))=TRUE,\"\",VLOOKUP($A143,check!$A:$L,8,FALSE))","v":""},{"$f":"IF(ISERROR(VLOOKUP($A143,check!$A:$L,9,FALSE))=TRUE,\"\",VLOOKUP($A143,check!$A:$L,9,FALSE))","v":""},{"$f":"IF(ISERROR(VLOOKUP($A143,check!$A:$L,10,FALSE))=TRUE,\"\",VLOOKUP($A143,check!$A:$L,10,FALSE))","v":""},{"$f":"IF(ISERROR(VLOOKUP($A143,check!$A:$L,11,FALSE))=TRUE,\"\",VLOOKUP($A143,check!$A:$L,11,FALSE))","v":""},{"$f":"IF(ISERROR(VLOOKUP($A143,check!$A:$L,12,FALSE))=TRUE,\"\",VLOOKUP($A143,check!$A:$L,12,FALSE))","v":""}]
[144,{"$f":"IF(C144=\"\",\"\",MATCH(A144,check!A:A,0))","v":""},{"$f":"IF(ISERROR(VLOOKUP($A144,check!$A:$L,2,FALSE))=TRUE,\"\",VLOOKUP($A144,check!$A:$L,2,FALSE))","v":""},{"$f":"IF(ISERROR(VLOOKUP($A144,check!$A:$L,3,FALSE))=TRUE,\"\",VLOOKUP($A144,check!$A:$L,3,FALSE))","v":""},{"$f":"IF(ISERROR(VLOOKUP($A144,check!$A:$L,4,FALSE))=TRUE,\"\",VLOOKUP($A144,check!$A:$L,4,FALSE))","v":""},{"$f":"IF(ISERROR(VLOOKUP($A144,check!$A:$L,5,FALSE))=TRUE,\"\",VLOOKUP($A144,check!$A:$L,5,FALSE))","v":""},{"$f":"IF(ISERROR(VLOOKUP($A144,check!$A:$L,6,FALSE))=TRUE,\"\",VLOOKUP($A144,check!$A:$L,6,FALSE))","v":""},{"$f":"IF(ISERROR(VLOOKUP($A144,check!$A:$L,7,FALSE))=TRUE,\"\",VLOOKUP($A144,check!$A:$L,7,FALSE))","v":""},{"$f":"IF(ISERROR(VLOOKUP($A144,check!$A:$L,8,FALSE))=TRUE,\"\",VLOOKUP($A144,check!$A:$L,8,FALSE))","v":""},{"$f":"IF(ISERROR(VLOOKUP($A144,check!$A:$L,9,FALSE))=TRUE,\"\",VLOOKUP($A144,check!$A:$L,9,FALSE))","v":""},{"$f":"IF(ISERROR(VLOOKUP($A144,check!$A:$L,10,FALSE))=TRUE,\"\",VLOOKUP($A144,check!$A:$L,10,FALSE))","v":""},{"$f":"IF(ISERROR(VLOOKUP($A144,check!$A:$L,11,FALSE))=TRUE,\"\",VLOOKUP($A144,check!$A:$L,11,FALSE))","v":""},{"$f":"IF(ISERROR(VLOOKUP($A144,check!$A:$L,12,FALSE))=TRUE,\"\",VLOOKUP($A144,check!$A:$L,12,FALSE))","v":""}]
[145,{"$f":"IF(C145=\"\",\"\",MATCH(A145,check!A:A,0))","v":""},{"$f":"IF(ISERROR(VLOOKUP($A145,check!$A:$L,2,FALSE))=TRUE,\"\",VLOOKUP($A145,check!$A:$L,2,FALSE))","v":""},{"$f":"IF(ISERROR(VLOOKUP($A145,check!$A:$L,3,FALSE))=TRUE,\"\",VLOOKUP($A145,check!$A:$L,3,FALSE))","v":""},{"$f":"IF(ISERROR(VLOOKUP($A145,check!$A:$L,4,FALSE))=TRUE,\"\",VLOOKUP($A145,check!$A:$L,4,FALSE))","v":""},{"$f":"IF(ISERROR(VLOOKUP($A145,check!$A:$L,5,FALSE))=TRUE,\"\",VLOOKUP($A145,check!$A:$L,5,FALSE))","v":""},{"$f":"IF(ISERROR(VLOOKUP($A145,check!$A:$L,6,FALSE))=TRUE,\"\",VLOOKUP($A145,check!$A:$L,6,FALSE))","v":""},{"$f":"IF(ISERROR(VLOOKUP($A145,check!$A:$L,7,FALSE))=TRUE,\"\",VLOOKUP($A145,check!$A:$L,7,FALSE))","v":""},{"$f":"IF(ISERROR(VLOOKUP($A145,check!$A:$L,8,FALSE))=TRUE,\"\",VLOOKUP($A145,check!$A:$L,8,FALSE))","v":""},{"$f":"IF(ISERROR(VLOOKUP($A145,check!$A:$L,9,FALSE))=TRUE,\"\",VLOOKUP($A145,check!$A:$L,9,FALSE))","v":""},{"$f":"IF(ISERROR(VLOOKUP($A145,check!$A:$L,10,FALSE))=TRUE,\"\",VLOOKUP($A145,check!$A:$L,10,FALSE))","v":""},{"$f":"IF(ISERROR(VLOOKUP($A145,check!$A:$L,11,FALSE))=TRUE,\"\",VLOOKUP($A145,check!$A:$L,11,FALSE))","v":""},{"$f":"IF(ISERROR(VLOOKUP($A145,check!$A:$L,12,FALSE))=TRUE,\"\",VLOOKUP($A145,check!$A:$L,12,FALSE))","v":""}]
[146,{"$f":"IF(C146=\"\",\"\",MATCH(A146,check!A:A,0))","v":""},{"$f":"IF(ISERROR(VLOOKUP($A146,check!$A:$L,2,FALSE))=TRUE,\"\",VLOOKUP($A146,check!$A:$L,2,FALSE))","v":""},{"$f":"IF(ISERROR(VLOOKUP($A146,check!$A:$L,3,FALSE))=TRUE,\"\",VLOOKUP($A146,check!$A:$L,3,FALSE))","v":""},{"$f":"IF(ISERROR(VLOOKUP($A146,check!$A:$L,4,FALSE))=TRUE,\"\",VLOOKUP($A146,check!$A:$L,4,FALSE))","v":""},{"$f":"IF(ISERROR(VLOOKUP($A146,check!$A:$L,5,FALSE))=TRUE,\"\",VLOOKUP($A146,check!$A:$L,5,FALSE))","v":""},{"$f":"IF(ISERROR(VLOOKUP($A146,check!$A:$L,6,FALSE))=TRUE,\"\",VLOOKUP($A146,check!$A:$L,6,FALSE))","v":""},{"$f":"IF(ISERROR(VLOOKUP($A146,check!$A:$L,7,FALSE))=TRUE,\"\",VLOOKUP($A146,check!$A:$L,7,FALSE))","v":""},{"$f":"IF(ISERROR(VLOOKUP($A146,check!$A:$L,8,FALSE))=TRUE,\"\",VLOOKUP($A146,check!$A:$L,8,FALSE))","v":""},{"$f":"IF(ISERROR(VLOOKUP($A146,check!$A:$L,9,FALSE))=TRUE,\"\",VLOOKUP($A146,check!$A:$L,9,FALSE))","v":""},{"$f":"IF(ISERROR(VLOOKUP($A146,check!$A:$L,10,FALSE))=TRUE,\"\",VLOOKUP($A146,check!$A:$L,10,FALSE))","v":""},{"$f":"IF(ISERROR(VLOOKUP($A146,check!$A:$L,11,FALSE))=TRUE,\"\",VLOOKUP($A146,check!$A:$L,11,FALSE))","v":""},{"$f":"IF(ISERROR(VLOOKUP($A146,check!$A:$L,12,FALSE))=TRUE,\"\",VLOOKUP($A146,check!$A:$L,12,FALSE))","v":""}]
[147,{"$f":"IF(C147=\"\",\"\",MATCH(A147,check!A:A,0))","v":""},{"$f":"IF(ISERROR(VLOOKUP($A147,check!$A:$L,2,FALSE))=TRUE,\"\",VLOOKUP($A147,check!$A:$L,2,FALSE))","v":""},{"$f":"IF(ISERROR(VLOOKUP($A147,check!$A:$L,3,FALSE))=TRUE,\"\",VLOOKUP($A147,check!$A:$L,3,FALSE))","v":""},{"$f":"IF(ISERROR(VLOOKUP($A147,check!$A:$L,4,FALSE))=TRUE,\"\",VLOOKUP($A147,check!$A:$L,4,FALSE))","v":""},{"$f":"IF(ISERROR(VLOOKUP($A147,check!$A:$L,5,FALSE))=TRUE,\"\",VLOOKUP($A147,check!$A:$L,5,FALSE))","v":""},{"$f":"IF(ISERROR(VLOOKUP($A147,check!$A:$L,6,FALSE))=TRUE,\"\",VLOOKUP($A147,check!$A:$L,6,FALSE))","v":""},{"$f":"IF(ISERROR(VLOOKUP($A147,check!$A:$L,7,FALSE))=TRUE,\"\",VLOOKUP($A147,check!$A:$L,7,FALSE))","v":""},{"$f":"IF(ISERROR(VLOOKUP($A147,check!$A:$L,8,FALSE))=TRUE,\"\",VLOOKUP($A147,check!$A:$L,8,FALSE))","v":""},{"$f":"IF(ISERROR(VLOOKUP($A147,check!$A:$L,9,FALSE))=TRUE,\"\",VLOOKUP($A147,check!$A:$L,9,FALSE))","v":""},{"$f":"IF(ISERROR(VLOOKUP($A147,check!$A:$L,10,FALSE))=TRUE,\"\",VLOOKUP($A147,check!$A:$L,10,FALSE))","v":""},{"$f":"IF(ISERROR(VLOOKUP($A147,check!$A:$L,11,FALSE))=TRUE,\"\",VLOOKUP($A147,check!$A:$L,11,FALSE))","v":""},{"$f":"IF(ISERROR(VLOOKUP($A147,check!$A:$L,12,FALSE))=TRUE,\"\",VLOOKUP($A147,check!$A:$L,12,FALSE))","v":""}]
[148,{"$f":"IF(C148=\"\",\"\",MATCH(A148,check!A:A,0))","v":""},{"$f":"IF(ISERROR(VLOOKUP($A148,check!$A:$L,2,FALSE))=TRUE,\"\",VLOOKUP($A148,check!$A:$L,2,FALSE))","v":""},{"$f":"IF(ISERROR(VLOOKUP($A148,check!$A:$L,3,FALSE))=TRUE,\"\",VLOOKUP($A148,check!$A:$L,3,FALSE))","v":""},{"$f":"IF(ISERROR(VLOOKUP($A148,check!$A:$L,4,FALSE))=TRUE,\"\",VLOOKUP($A148,check!$A:$L,4,FALSE))","v":""},{"$f":"IF(ISERROR(VLOOKUP($A148,check!$A:$L,5,FALSE))=TRUE,\"\",VLOOKUP($A148,check!$A:$L,5,FALSE))","v":""},{"$f":"IF(ISERROR(VLOOKUP($A148,check!$A:$L,6,FALSE))=TRUE,\"\",VLOOKUP($A148,check!$A:$L,6,FALSE))","v":""},{"$f":"IF(ISERROR(VLOOKUP($A148,check!$A:$L,7,FALSE))=TRUE,\"\",VLOOKUP($A148,check!$A:$L,7,FALSE))","v":""},{"$f":"IF(ISERROR(VLOOKUP($A148,check!$A:$L,8,FALSE))=TRUE,\"\",VLOOKUP($A148,check!$A:$L,8,FALSE))","v":""},{"$f":"IF(ISERROR(VLOOKUP($A148,check!$A:$L,9,FALSE))=TRUE,\"\",VLOOKUP($A148,check!$A:$L,9,FALSE))","v":""},{"$f":"IF(ISERROR(VLOOKUP($A148,check!$A:$L,10,FALSE))=TRUE,\"\",VLOOKUP($A148,check!$A:$L,10,FALSE))","v":""},{"$f":"IF(ISERROR(VLOOKUP($A148,check!$A:$L,11,FALSE))=TRUE,\"\",VLOOKUP($A148,check!$A:$L,11,FALSE))","v":""},{"$f":"IF(ISERROR(VLOOKUP($A148,check!$A:$L,12,FALSE))=TRUE,\"\",VLOOKUP($A148,check!$A:$L,12,FALSE))","v":""}]
[149,{"$f":"IF(C149=\"\",\"\",MATCH(A149,check!A:A,0))","v":""},{"$f":"IF(ISERROR(VLOOKUP($A149,check!$A:$L,2,FALSE))=TRUE,\"\",VLOOKUP($A149,check!$A:$L,2,FALSE))","v":""},{"$f":"IF(ISERROR(VLOOKUP($A149,check!$A:$L,3,FALSE))=TRUE,\"\",VLOOKUP($A149,check!$A:$L,3,FALSE))","v":""},{"$f":"IF(ISERROR(VLOOKUP($A149,check!$A:$L,4,FALSE))=TRUE,\"\",VLOOKUP($A149,check!$A:$L,4,FALSE))","v":""},{"$f":"IF(ISERROR(VLOOKUP($A149,check!$A:$L,5,FALSE))=TRUE,\"\",VLOOKUP($A149,check!$A:$L,5,FALSE))","v":""},{"$f":"IF(ISERROR(VLOOKUP($A149,check!$A:$L,6,FALSE))=TRUE,\"\",VLOOKUP($A149,check!$A:$L,6,FALSE))","v":""},{"$f":"IF(ISERROR(VLOOKUP($A149,check!$A:$L,7,FALSE))=TRUE,\"\",VLOOKUP($A149,check!$A:$L,7,FALSE))","v":""},{"$f":"IF(ISERROR(VLOOKUP($A149,check!$A:$L,8,FALSE))=TRUE,\"\",VLOOKUP($A149,check!$A:$L,8,FALSE))","v":""},{"$f":"IF(ISERROR(VLOOKUP($A149,check!$A:$L,9,FALSE))=TRUE,\"\",VLOOKUP($A149,check!$A:$L,9,FALSE))","v":""},{"$f":"IF(ISERROR(VLOOKUP($A149,check!$A:$L,10,FALSE))=TRUE,\"\",VLOOKUP($A149,check!$A:$L,10,FALSE))","v":""},{"$f":"IF(ISERROR(VLOOKUP($A149,check!$A:$L,11,FALSE))=TRUE,\"\",VLOOKUP($A149,check!$A:$L,11,FALSE))","v":""},{"$f":"IF(ISERROR(VLOOKUP($A149,check!$A:$L,12,FALSE))=TRUE,\"\",VLOOKUP($A149,check!$A:$L,12,FALSE))","v":""}]
[150,{"$f":"IF(C150=\"\",\"\",MATCH(A150,check!A:A,0))","v":""},{"$f":"IF(ISERROR(VLOOKUP($A150,check!$A:$L,2,FALSE))=TRUE,\"\",VLOOKUP($A150,check!$A:$L,2,FALSE))","v":""},{"$f":"IF(ISERROR(VLOOKUP($A150,check!$A:$L,3,FALSE))=TRUE,\"\",VLOOKUP($A150,check!$A:$L,3,FALSE))","v":""},{"$f":"IF(ISERROR(VLOOKUP($A150,check!$A:$L,4,FALSE))=TRUE,\"\",VLOOKUP($A150,check!$A:$L,4,FALSE))","v":""},{"$f":"IF(ISERROR(VLOOKUP($A150,check!$A:$L,5,FALSE))=TRUE,\"\",VLOOKUP($A150,check!$A:$L,5,FALSE))","v":""},{"$f":"IF(ISERROR(VLOOKUP($A150,check!$A:$L,6,FALSE))=TRUE,\"\",VLOOKUP($A150,check!$A:$L,6,FALSE))","v":""},{"$f":"IF(ISERROR(VLOOKUP($A150,check!$A:$L,7,FALSE))=TRUE,\"\",VLOOKUP($A150,check!$A:$L,7,FALSE))","v":""},{"$f":"IF(ISERROR(VLOOKUP($A150,check!$A:$L,8,FALSE))=TRUE,\"\",VLOOKUP($A150,check!$A:$L,8,FALSE))","v":""},{"$f":"IF(ISERROR(VLOOKUP($A150,check!$A:$L,9,FALSE))=TRUE,\"\",VLOOKUP($A150,check!$A:$L,9,FALSE))","v":""},{"$f":"IF(ISERROR(VLOOKUP($A150,check!$A:$L,10,FALSE))=TRUE,\"\",VLOOKUP($A150,check!$A:$L,10,FALSE))","v":""},{"$f":"IF(ISERROR(VLOOKUP($A150,check!$A:$L,11,FALSE))=TRUE,\"\",VLOOKUP($A150,check!$A:$L,11,FALSE))","v":""},{"$f":"IF(ISERROR(VLOOKUP($A150,check!$A:$L,12,FALSE))=TRUE,\"\",VLOOKUP($A150,check!$A:$L,12,FALSE))","v":""}]
[151,{"$f":"IF(C151=\"\",\"\",MATCH(A151,check!A:A,0))","v":""},{"$f":"IF(ISERROR(VLOOKUP($A151,check!$A:$L,2,FALSE))=TRUE,\"\",VLOOKUP($A151,check!$A:$L,2,FALSE))","v":""},{"$f":"IF(ISERROR(VLOOKUP($A151,check!$A:$L,3,FALSE))=TRUE,\"\",VLOOKUP($A151,check!$A:$L,3,FALSE))","v":""},{"$f":"IF(ISERROR(VLOOKUP($A151,check!$A:$L,4,FALSE))=TRUE,\"\",VLOOKUP($A151,check!$A:$L,4,FALSE))","v":""},{"$f":"IF(ISERROR(VLOOKUP($A151,check!$A:$L,5,FALSE))=TRUE,\"\",VLOOKUP($A151,check!$A:$L,5,FALSE))","v":""},{"$f":"IF(ISERROR(VLOOKUP($A151,check!$A:$L,6,FALSE))=TRUE,\"\",VLOOKUP($A151,check!$A:$L,6,FALSE))","v":""},{"$f":"IF(ISERROR(VLOOKUP($A151,check!$A:$L,7,FALSE))=TRUE,\"\",VLOOKUP($A151,check!$A:$L,7,FALSE))","v":""},{"$f":"IF(ISERROR(VLOOKUP($A151,check!$A:$L,8,FALSE))=TRUE,\"\",VLOOKUP($A151,check!$A:$L,8,FALSE))","v":""},{"$f":"IF(ISERROR(VLOOKUP($A151,check!$A:$L,9,FALSE))=TRUE,\"\",VLOOKUP($A151,check!$A:$L,9,FALSE))","v":""},{"$f":"IF(ISERROR(VLOOKUP($A151,check!$A:$L,10,FALSE))=TRUE,\"\",VLOOKUP($A151,check!$A:$L,10,FALSE))","v":""},{"$f":"IF(ISERROR(VLOOKUP($A151,check!$A:$L,11,FALSE))=TRUE,\"\",VLOOKUP($A151,check!$A:$L,11,FALSE))","v":""},{"$f":"IF(ISERROR(VLOOKUP($A151,check!$A:$L,12,FALSE))=TRUE,\"\",VLOOKUP($A151,check!$A:$L,12,FALSE))","v":""}]
[152,{"$f":"IF(C152=\"\",\"\",MATCH(A152,check!A:A,0))","v":""},{"$f":"IF(ISERROR(VLOOKUP($A152,check!$A:$L,2,FALSE))=TRUE,\"\",VLOOKUP($A152,check!$A:$L,2,FALSE))","v":""},{"$f":"IF(ISERROR(VLOOKUP($A152,check!$A:$L,3,FALSE))=TRUE,\"\",VLOOKUP($A152,check!$A:$L,3,FALSE))","v":""},{"$f":"IF(ISERROR(VLOOKUP($A152,check!$A:$L,4,FALSE))=TRUE,\"\",VLOOKUP($A152,check!$A:$L,4,FALSE))","v":""},{"$f":"IF(ISERROR(VLOOKUP($A152,check!$A:$L,5,FALSE))=TRUE,\"\",VLOOKUP($A152,check!$A:$L,5,FALSE))","v":""},{"$f":"IF(ISERROR(VLOOKUP($A152,check!$A:$L,6,FALSE))=TRUE,\"\",VLOOKUP($A152,check!$A:$L,6,FALSE))","v":""},{"$f":"IF(ISERROR(VLOOKUP($A152,check!$A:$L,7,FALSE))=TRUE,\"\",VLOOKUP($A152,check!$A:$L,7,FALSE))","v":""},{"$f":"IF(ISERROR(VLOOKUP($A152,check!$A:$L,8,FALSE))=TRUE,\"\",VLOOKUP($A152,check!$A:$L,8,FALSE))","v":""},{"$f":"IF(ISERROR(VLOOKUP($A152,check!$A:$L,9,FALSE))=TRUE,\"\",VLOOKUP($A152,check!$A:$L,9,FALSE))","v":""},{"$f":"IF(ISERROR(VLOOKUP($A152,check!$A:$L,10,FALSE))=TRUE,\"\",VLOOKUP($A152,check!$A:$L,10,FALSE))","v":""},{"$f":"IF(ISERROR(VLOOKUP($A152,check!$A:$L,11,FALSE))=TRUE,\"\",VLOOKUP($A152,check!$A:$L,11,FALSE))","v":""},{"$f":"IF(ISERROR(VLOOKUP($A152,check!$A:$L,12,FALSE))=TRUE,\"\",VLOOKUP($A152,check!$A:$L,12,FALSE))","v":""}]
[153,{"$f":"IF(C153=\"\",\"\",MATCH(A153,check!A:A,0))","v":""},{"$f":"IF(ISERROR(VLOOKUP($A153,check!$A:$L,2,FALSE))=TRUE,\"\",VLOOKUP($A153,check!$A:$L,2,FALSE))","v":""},{"$f":"IF(ISERROR(VLOOKUP($A153,check!$A:$L,3,FALSE))=TRUE,\"\",VLOOKUP($A153,check!$A:$L,3,FALSE))","v":""},{"$f":"IF(ISERROR(VLOOKUP($A153,check!$A:$L,4,FALSE))=TRUE,\"\",VLOOKUP($A153,check!$A:$L,4,FALSE))","v":""},{"$f":"IF(ISERROR(VLOOKUP($A153,check!$A:$L,5,FALSE))=TRUE,\"\",VLOOKUP($A153,check!$A:$L,5,FALSE))","v":""},{"$f":"IF(ISERROR(VLOOKUP($A153,check!$A:$L,6,FALSE))=TRUE,\"\",VLOOKUP($A153,check!$A:$L,6,FALSE))","v":""},{"$f":"IF(ISERROR(VLOOKUP($A153,check!$A:$L,7,FALSE))=TRUE,\"\",VLOOKUP($A153,check!$A:$L,7,FALSE))","v":""},{"$f":"IF(ISERROR(VLOOKUP($A153,check!$A:$L,8,FALSE))=TRUE,\"\",VLOOKUP($A153,check!$A:$L,8,FALSE))","v":""},{"$f":"IF(ISERROR(VLOOKUP($A153,check!$A:$L,9,FALSE))=TRUE,\"\",VLOOKUP($A153,check!$A:$L,9,FALSE))","v":""},{"$f":"IF(ISERROR(VLOOKUP($A153,check!$A:$L,10,FALSE))=TRUE,\"\",VLOOKUP($A153,check!$A:$L,10,FALSE))","v":""},{"$f":"IF(ISERROR(VLOOKUP($A153,check!$A:$L,11,FALSE))=TRUE,\"\",VLOOKUP($A153,check!$A:$L,11,FALSE))","v":""},{"$f":"IF(ISERROR(VLOOKUP($A153,check!$A:$L,12,FALSE))=TRUE,\"\",VLOOKUP($A153,check!$A:$L,12,FALSE))","v":""}]
[154,{"$f":"IF(C154=\"\",\"\",MATCH(A154,check!A:A,0))","v":""},{"$f":"IF(ISERROR(VLOOKUP($A154,check!$A:$L,2,FALSE))=TRUE,\"\",VLOOKUP($A154,check!$A:$L,2,FALSE))","v":""},{"$f":"IF(ISERROR(VLOOKUP($A154,check!$A:$L,3,FALSE))=TRUE,\"\",VLOOKUP($A154,check!$A:$L,3,FALSE))","v":""},{"$f":"IF(ISERROR(VLOOKUP($A154,check!$A:$L,4,FALSE))=TRUE,\"\",VLOOKUP($A154,check!$A:$L,4,FALSE))","v":""},{"$f":"IF(ISERROR(VLOOKUP($A154,check!$A:$L,5,FALSE))=TRUE,\"\",VLOOKUP($A154,check!$A:$L,5,FALSE))","v":""},{"$f":"IF(ISERROR(VLOOKUP($A154,check!$A:$L,6,FALSE))=TRUE,\"\",VLOOKUP($A154,check!$A:$L,6,FALSE))","v":""},{"$f":"IF(ISERROR(VLOOKUP($A154,check!$A:$L,7,FALSE))=TRUE,\"\",VLOOKUP($A154,check!$A:$L,7,FALSE))","v":""},{"$f":"IF(ISERROR(VLOOKUP($A154,check!$A:$L,8,FALSE))=TRUE,\"\",VLOOKUP($A154,check!$A:$L,8,FALSE))","v":""},{"$f":"IF(ISERROR(VLOOKUP($A154,check!$A:$L,9,FALSE))=TRUE,\"\",VLOOKUP($A154,check!$A:$L,9,FALSE))","v":""},{"$f":"IF(ISERROR(VLOOKUP($A154,check!$A:$L,10,FALSE))=TRUE,\"\",VLOOKUP($A154,check!$A:$L,10,FALSE))","v":""},{"$f":"IF(ISERROR(VLOOKUP($A154,check!$A:$L,11,FALSE))=TRUE,\"\",VLOOKUP($A154,check!$A:$L,11,FALSE))","v":""},{"$f":"IF(ISERROR(VLOOKUP($A154,check!$A:$L,12,FALSE))=TRUE,\"\",VLOOKUP($A154,check!$A:$L,12,FALSE))","v":""}]
[155,{"$f":"IF(C155=\"\",\"\",MATCH(A155,check!A:A,0))","v":""},{"$f":"IF(ISERROR(VLOOKUP($A155,check!$A:$L,2,FALSE))=TRUE,\"\",VLOOKUP($A155,check!$A:$L,2,FALSE))","v":""},{"$f":"IF(ISERROR(VLOOKUP($A155,check!$A:$L,3,FALSE))=TRUE,\"\",VLOOKUP($A155,check!$A:$L,3,FALSE))","v":""},{"$f":"IF(ISERROR(VLOOKUP($A155,check!$A:$L,4,FALSE))=TRUE,\"\",VLOOKUP($A155,check!$A:$L,4,FALSE))","v":""},{"$f":"IF(ISERROR(VLOOKUP($A155,check!$A:$L,5,FALSE))=TRUE,\"\",VLOOKUP($A155,check!$A:$L,5,FALSE))","v":""},{"$f":"IF(ISERROR(VLOOKUP($A155,check!$A:$L,6,FALSE))=TRUE,\"\",VLOOKUP($A155,check!$A:$L,6,FALSE))","v":""},{"$f":"IF(ISERROR(VLOOKUP($A155,check!$A:$L,7,FALSE))=TRUE,\"\",VLOOKUP($A155,check!$A:$L,7,FALSE))","v":""},{"$f":"IF(ISERROR(VLOOKUP($A155,check!$A:$L,8,FALSE))=TRUE,\"\",VLOOKUP($A155,check!$A:$L,8,FALSE))","v":""},{"$f":"IF(ISERROR(VLOOKUP($A155,check!$A:$L,9,FALSE))=TRUE,\"\",VLOOKUP($A155,check!$A:$L,9,FALSE))","v":""},{"$f":"IF(ISERROR(VLOOKUP($A155,check!$A:$L,10,FALSE))=TRUE,\"\",VLOOKUP($A155,check!$A:$L,10,FALSE))","v":""},{"$f":"IF(ISERROR(VLOOKUP($A155,check!$A:$L,11,FALSE))=TRUE,\"\",VLOOKUP($A155,check!$A:$L,11,FALSE))","v":""},{"$f":"IF(ISERROR(VLOOKUP($A155,check!$A:$L,12,FALSE))=TRUE,\"\",VLOOKUP($A155,check!$A:$L,12,FALSE))","v":""}]
[156,{"$f":"IF(C156=\"\",\"\",MATCH(A156,check!A:A,0))","v":""},{"$f":"IF(ISERROR(VLOOKUP($A156,check!$A:$L,2,FALSE))=TRUE,\"\",VLOOKUP($A156,check!$A:$L,2,FALSE))","v":""},{"$f":"IF(ISERROR(VLOOKUP($A156,check!$A:$L,3,FALSE))=TRUE,\"\",VLOOKUP($A156,check!$A:$L,3,FALSE))","v":""},{"$f":"IF(ISERROR(VLOOKUP($A156,check!$A:$L,4,FALSE))=TRUE,\"\",VLOOKUP($A156,check!$A:$L,4,FALSE))","v":""},{"$f":"IF(ISERROR(VLOOKUP($A156,check!$A:$L,5,FALSE))=TRUE,\"\",VLOOKUP($A156,check!$A:$L,5,FALSE))","v":""},{"$f":"IF(ISERROR(VLOOKUP($A156,check!$A:$L,6,FALSE))=TRUE,\"\",VLOOKUP($A156,check!$A:$L,6,FALSE))","v":""},{"$f":"IF(ISERROR(VLOOKUP($A156,check!$A:$L,7,FALSE))=TRUE,\"\",VLOOKUP($A156,check!$A:$L,7,FALSE))","v":""},{"$f":"IF(ISERROR(VLOOKUP($A156,check!$A:$L,8,FALSE))=TRUE,\"\",VLOOKUP($A156,check!$A:$L,8,FALSE))","v":""},{"$f":"IF(ISERROR(VLOOKUP($A156,check!$A:$L,9,FALSE))=TRUE,\"\",VLOOKUP($A156,check!$A:$L,9,FALSE))","v":""},{"$f":"IF(ISERROR(VLOOKUP($A156,check!$A:$L,10,FALSE))=TRUE,\"\",VLOOKUP($A156,check!$A:$L,10,FALSE))","v":""},{"$f":"IF(ISERROR(VLOOKUP($A156,check!$A:$L,11,FALSE))=TRUE,\"\",VLOOKUP($A156,check!$A:$L,11,FALSE))","v":""},{"$f":"IF(ISERROR(VLOOKUP($A156,check!$A:$L,12,FALSE))=TRUE,\"\",VLOOKUP($A156,check!$A:$L,12,FALSE))","v":""}]
[157,{"$f":"IF(C157=\"\",\"\",MATCH(A157,check!A:A,0))","v":""},{"$f":"IF(ISERROR(VLOOKUP($A157,check!$A:$L,2,FALSE))=TRUE,\"\",VLOOKUP($A157,check!$A:$L,2,FALSE))","v":""},{"$f":"IF(ISERROR(VLOOKUP($A157,check!$A:$L,3,FALSE))=TRUE,\"\",VLOOKUP($A157,check!$A:$L,3,FALSE))","v":""},{"$f":"IF(ISERROR(VLOOKUP($A157,check!$A:$L,4,FALSE))=TRUE,\"\",VLOOKUP($A157,check!$A:$L,4,FALSE))","v":""},{"$f":"IF(ISERROR(VLOOKUP($A157,check!$A:$L,5,FALSE))=TRUE,\"\",VLOOKUP($A157,check!$A:$L,5,FALSE))","v":""},{"$f":"IF(ISERROR(VLOOKUP($A157,check!$A:$L,6,FALSE))=TRUE,\"\",VLOOKUP($A157,check!$A:$L,6,FALSE))","v":""},{"$f":"IF(ISERROR(VLOOKUP($A157,check!$A:$L,7,FALSE))=TRUE,\"\",VLOOKUP($A157,check!$A:$L,7,FALSE))","v":""},{"$f":"IF(ISERROR(VLOOKUP($A157,check!$A:$L,8,FALSE))=TRUE,\"\",VLOOKUP($A157,check!$A:$L,8,FALSE))","v":""},{"$f":"IF(ISERROR(VLOOKUP($A157,check!$A:$L,9,FALSE))=TRUE,\"\",VLOOKUP($A157,check!$A:$L,9,FALSE))","v":""},{"$f":"IF(ISERROR(VLOOKUP($A157,check!$A:$L,10,FALSE))=TRUE,\"\",VLOOKUP($A157,check!$A:$L,10,FALSE))","v":""},{"$f":"IF(ISERROR(VLOOKUP($A157,check!$A:$L,11,FALSE))=TRUE,\"\",VLOOKUP($A157,check!$A:$L,11,FALSE))","v":""},{"$f":"IF(ISERROR(VLOOKUP($A157,check!$A:$L,12,FALSE))=TRUE,\"\",VLOOKUP($A157,check!$A:$L,12,FALSE))","v":""}]
[158,{"$f":"IF(C158=\"\",\"\",MATCH(A158,check!A:A,0))","v":""},{"$f":"IF(ISERROR(VLOOKUP($A158,check!$A:$L,2,FALSE))=TRUE,\"\",VLOOKUP($A158,check!$A:$L,2,FALSE))","v":""},{"$f":"IF(ISERROR(VLOOKUP($A158,check!$A:$L,3,FALSE))=TRUE,\"\",VLOOKUP($A158,check!$A:$L,3,FALSE))","v":""},{"$f":"IF(ISERROR(VLOOKUP($A158,check!$A:$L,4,FALSE))=TRUE,\"\",VLOOKUP($A158,check!$A:$L,4,FALSE))","v":""},{"$f":"IF(ISERROR(VLOOKUP($A158,check!$A:$L,5,FALSE))=TRUE,\"\",VLOOKUP($A158,check!$A:$L,5,FALSE))","v":""},{"$f":"IF(ISERROR(VLOOKUP($A158,check!$A:$L,6,FALSE))=TRUE,\"\",VLOOKUP($A158,check!$A:$L,6,FALSE))","v":""},{"$f":"IF(ISERROR(VLOOKUP($A158,check!$A:$L,7,FALSE))=TRUE,\"\",VLOOKUP($A158,check!$A:$L,7,FALSE))","v":""},{"$f":"IF(ISERROR(VLOOKUP($A158,check!$A:$L,8,FALSE))=TRUE,\"\",VLOOKUP($A158,check!$A:$L,8,FALSE))","v":""},{"$f":"IF(ISERROR(VLOOKUP($A158,check!$A:$L,9,FALSE))=TRUE,\"\",VLOOKUP($A158,check!$A:$L,9,FALSE))","v":""},{"$f":"IF(ISERROR(VLOOKUP($A158,check!$A:$L,10,FALSE))=TRUE,\"\",VLOOKUP($A158,check!$A:$L,10,FALSE))","v":""},{"$f":"IF(ISERROR(VLOOKUP($A158,check!$A:$L,11,FALSE))=TRUE,\"\",VLOOKUP($A158,check!$A:$L,11,FALSE))","v":""},{"$f":"IF(ISERROR(VLOOKUP($A158,check!$A:$L,12,FALSE))=TRUE,\"\",VLOOKUP($A158,check!$A:$L,12,FALSE))","v":""}]
[159,{"$f":"IF(C159=\"\",\"\",MATCH(A159,check!A:A,0))","v":""},{"$f":"IF(ISERROR(VLOOKUP($A159,check!$A:$L,2,FALSE))=TRUE,\"\",VLOOKUP($A159,check!$A:$L,2,FALSE))","v":""},{"$f":"IF(ISERROR(VLOOKUP($A159,check!$A:$L,3,FALSE))=TRUE,\"\",VLOOKUP($A159,check!$A:$L,3,FALSE))","v":""},{"$f":"IF(ISERROR(VLOOKUP($A159,check!$A:$L,4,FALSE))=TRUE,\"\",VLOOKUP($A159,check!$A:$L,4,FALSE))","v":""},{"$f":"IF(ISERROR(VLOOKUP($A159,check!$A:$L,5,FALSE))=TRUE,\"\",VLOOKUP($A159,check!$A:$L,5,FALSE))","v":""},{"$f":"IF(ISERROR(VLOOKUP($A159,check!$A:$L,6,FALSE))=TRUE,\"\",VLOOKUP($A159,check!$A:$L,6,FALSE))","v":""},{"$f":"IF(ISERROR(VLOOKUP($A159,check!$A:$L,7,FALSE))=TRUE,\"\",VLOOKUP($A159,check!$A:$L,7,FALSE))","v":""},{"$f":"IF(ISERROR(VLOOKUP($A159,check!$A:$L,8,FALSE))=TRUE,\"\",VLOOKUP($A159,check!$A:$L,8,FALSE))","v":""},{"$f":"IF(ISERROR(VLOOKUP($A159,check!$A:$L,9,FALSE))=TRUE,\"\",VLOOKUP($A159,check!$A:$L,9,FALSE))","v":""},{"$f":"IF(ISERROR(VLOOKUP($A159,check!$A:$L,10,FALSE))=TRUE,\"\",VLOOKUP($A159,check!$A:$L,10,FALSE))","v":""},{"$f":"IF(ISERROR(VLOOKUP($A159,check!$A:$L,11,FALSE))=TRUE,\"\",VLOOKUP($A159,check!$A:$L,11,FALSE))","v":""},{"$f":"IF(ISERROR(VLOOKUP($A159,check!$A:$L,12,FALSE))=TRUE,\"\",VLOOKUP($A159,check!$A:$L,12,FALSE))","v":""}]
[160,{"$f":"IF(C160=\"\",\"\",MATCH(A160,check!A:A,0))","v":""},{"$f":"IF(ISERROR(VLOOKUP($A160,check!$A:$L,2,FALSE))=TRUE,\"\",VLOOKUP($A160,check!$A:$L,2,FALSE))","v":""},{"$f":"IF(ISERROR(VLOOKUP($A160,check!$A:$L,3,FALSE))=TRUE,\"\",VLOOKUP($A160,check!$A:$L,3,FALSE))","v":""},{"$f":"IF(ISERROR(VLOOKUP($A160,check!$A:$L,4,FALSE))=TRUE,\"\",VLOOKUP($A160,check!$A:$L,4,FALSE))","v":""},{"$f":"IF(ISERROR(VLOOKUP($A160,check!$A:$L,5,FALSE))=TRUE,\"\",VLOOKUP($A160,check!$A:$L,5,FALSE))","v":""},{"$f":"IF(ISERROR(VLOOKUP($A160,check!$A:$L,6,FALSE))=TRUE,\"\",VLOOKUP($A160,check!$A:$L,6,FALSE))","v":""},{"$f":"IF(ISERROR(VLOOKUP($A160,check!$A:$L,7,FALSE))=TRUE,\"\",VLOOKUP($A160,check!$A:$L,7,FALSE))","v":""},{"$f":"IF(ISERROR(VLOOKUP($A160,check!$A:$L,8,FALSE))=TRUE,\"\",VLOOKUP($A160,check!$A:$L,8,FALSE))","v":""},{"$f":"IF(ISERROR(VLOOKUP($A160,check!$A:$L,9,FALSE))=TRUE,\"\",VLOOKUP($A160,check!$A:$L,9,FALSE))","v":""},{"$f":"IF(ISERROR(VLOOKUP($A160,check!$A:$L,10,FALSE))=TRUE,\"\",VLOOKUP($A160,check!$A:$L,10,FALSE))","v":""},{"$f":"IF(ISERROR(VLOOKUP($A160,check!$A:$L,11,FALSE))=TRUE,\"\",VLOOKUP($A160,check!$A:$L,11,FALSE))","v":""},{"$f":"IF(ISERROR(VLOOKUP($A160,check!$A:$L,12,FALSE))=TRUE,\"\",VLOOKUP($A160,check!$A:$L,12,FALSE))","v":""}]
[161,{"$f":"IF(C161=\"\",\"\",MATCH(A161,check!A:A,0))","v":""},{"$f":"IF(ISERROR(VLOOKUP($A161,check!$A:$L,2,FALSE))=TRUE,\"\",VLOOKUP($A161,check!$A:$L,2,FALSE))","v":""},{"$f":"IF(ISERROR(VLOOKUP($A161,check!$A:$L,3,FALSE))=TRUE,\"\",VLOOKUP($A161,check!$A:$L,3,FALSE))","v":""},{"$f":"IF(ISERROR(VLOOKUP($A161,check!$A:$L,4,FALSE))=TRUE,\"\",VLOOKUP($A161,check!$A:$L,4,FALSE))","v":""},{"$f":"IF(ISERROR(VLOOKUP($A161,check!$A:$L,5,FALSE))=TRUE,\"\",VLOOKUP($A161,check!$A:$L,5,FALSE))","v":""},{"$f":"IF(ISERROR(VLOOKUP($A161,check!$A:$L,6,FALSE))=TRUE,\"\",VLOOKUP($A161,check!$A:$L,6,FALSE))","v":""},{"$f":"IF(ISERROR(VLOOKUP($A161,check!$A:$L,7,FALSE))=TRUE,\"\",VLOOKUP($A161,check!$A:$L,7,FALSE))","v":""},{"$f":"IF(ISERROR(VLOOKUP($A161,check!$A:$L,8,FALSE))=TRUE,\"\",VLOOKUP($A161,check!$A:$L,8,FALSE))","v":""},{"$f":"IF(ISERROR(VLOOKUP($A161,check!$A:$L,9,FALSE))=TRUE,\"\",VLOOKUP($A161,check!$A:$L,9,FALSE))","v":""},{"$f":"IF(ISERROR(VLOOKUP($A161,check!$A:$L,10,FALSE))=TRUE,\"\",VLOOKUP($A161,check!$A:$L,10,FALSE))","v":""},{"$f":"IF(ISERROR(VLOOKUP($A161,check!$A:$L,11,FALSE))=TRUE,\"\",VLOOKUP($A161,check!$A:$L,11,FALSE))","v":""},{"$f":"IF(ISERROR(VLOOKUP($A161,check!$A:$L,12,FALSE))=TRUE,\"\",VLOOKUP($A161,check!$A:$L,12,FALSE))","v":""}]
[162,{"$f":"IF(C162=\"\",\"\",MATCH(A162,check!A:A,0))","v":""},{"$f":"IF(ISERROR(VLOOKUP($A162,check!$A:$L,2,FALSE))=TRUE,\"\",VLOOKUP($A162,check!$A:$L,2,FALSE))","v":""},{"$f":"IF(ISERROR(VLOOKUP($A162,check!$A:$L,3,FALSE))=TRUE,\"\",VLOOKUP($A162,check!$A:$L,3,FALSE))","v":""},{"$f":"IF(ISERROR(VLOOKUP($A162,check!$A:$L,4,FALSE))=TRUE,\"\",VLOOKUP($A162,check!$A:$L,4,FALSE))","v":""},{"$f":"IF(ISERROR(VLOOKUP($A162,check!$A:$L,5,FALSE))=TRUE,\"\",VLOOKUP($A162,check!$A:$L,5,FALSE))","v":""},{"$f":"IF(ISERROR(VLOOKUP($A162,check!$A:$L,6,FALSE))=TRUE,\"\",VLOOKUP($A162,check!$A:$L,6,FALSE))","v":""},{"$f":"IF(ISERROR(VLOOKUP($A162,check!$A:$L,7,FALSE))=TRUE,\"\",VLOOKUP($A162,check!$A:$L,7,FALSE))","v":""},{"$f":"IF(ISERROR(VLOOKUP($A162,check!$A:$L,8,FALSE))=TRUE,\"\",VLOOKUP($A162,check!$A:$L,8,FALSE))","v":""},{"$f":"IF(ISERROR(VLOOKUP($A162,check!$A:$L,9,FALSE))=TRUE,\"\",VLOOKUP($A162,check!$A:$L,9,FALSE))","v":""},{"$f":"IF(ISERROR(VLOOKUP($A162,check!$A:$L,10,FALSE))=TRUE,\"\",VLOOKUP($A162,check!$A:$L,10,FALSE))","v":""},{"$f":"IF(ISERROR(VLOOKUP($A162,check!$A:$L,11,FALSE))=TRUE,\"\",VLOOKUP($A162,check!$A:$L,11,FALSE))","v":""},{"$f":"IF(ISERROR(VLOOKUP($A162,check!$A:$L,12,FALSE))=TRUE,\"\",VLOOKUP($A162,check!$A:$L,12,FALSE))","v":""}]
[163,{"$f":"IF(C163=\"\",\"\",MATCH(A163,check!A:A,0))","v":""},{"$f":"IF(ISERROR(VLOOKUP($A163,check!$A:$L,2,FALSE))=TRUE,\"\",VLOOKUP($A163,check!$A:$L,2,FALSE))","v":""},{"$f":"IF(ISERROR(VLOOKUP($A163,check!$A:$L,3,FALSE))=TRUE,\"\",VLOOKUP($A163,check!$A:$L,3,FALSE))","v":""},{"$f":"IF(ISERROR(VLOOKUP($A163,check!$A:$L,4,FALSE))=TRUE,\"\",VLOOKUP($A163,check!$A:$L,4,FALSE))","v":""},{"$f":"IF(ISERROR(VLOOKUP($A163,check!$A:$L,5,FALSE))=TRUE,\"\",VLOOKUP($A163,check!$A:$L,5,FALSE))","v":""},{"$f":"IF(ISERROR(VLOOKUP($A163,check!$A:$L,6,FALSE))=TRUE,\"\",VLOOKUP($A163,check!$A:$L,6,FALSE))","v":""},{"$f":"IF(ISERROR(VLOOKUP($A163,check!$A:$L,7,FALSE))=TRUE,\"\",VLOOKUP($A163,check!$A:$L,7,FALSE))","v":""},{"$f":"IF(ISERROR(VLOOKUP($A163,check!$A:$L,8,FALSE))=TRUE,\"\",VLOOKUP($A163,check!$A:$L,8,FALSE))","v":""},{"$f":"IF(ISERROR(VLOOKUP($A163,check!$A:$L,9,FALSE))=TRUE,\"\",VLOOKUP($A163,check!$A:$L,9,FALSE))","v":""},{"$f":"IF(ISERROR(VLOOKUP($A163,check!$A:$L,10,FALSE))=TRUE,\"\",VLOOKUP($A163,check!$A:$L,10,FALSE))","v":""},{"$f":"IF(ISERROR(VLOOKUP($A163,check!$A:$L,11,FALSE))=TRUE,\"\",VLOOKUP($A163,check!$A:$L,11,FALSE))","v":""},{"$f":"IF(ISERROR(VLOOKUP($A163,check!$A:$L,12,FALSE))=TRUE,\"\",VLOOKUP($A163,check!$A:$L,12,FALSE))","v":""}]
[164,{"$f":"IF(C164=\"\",\"\",MATCH(A164,check!A:A,0))","v":""},{"$f":"IF(ISERROR(VLOOKUP($A164,check!$A:$L,2,FALSE))=TRUE,\"\",VLOOKUP($A164,check!$A:$L,2,FALSE))","v":""},{"$f":"IF(ISERROR(VLOOKUP($A164,check!$A:$L,3,FALSE))=TRUE,\"\",VLOOKUP($A164,check!$A:$L,3,FALSE))","v":""},{"$f":"IF(ISERROR(VLOOKUP($A164,check!$A:$L,4,FALSE))=TRUE,\"\",VLOOKUP($A164,check!$A:$L,4,FALSE))","v":""},{"$f":"IF(ISERROR(VLOOKUP($A164,check!$A:$L,5,FALSE))=TRUE,\"\",VLOOKUP($A164,check!$A:$L,5,FALSE))","v":""},{"$f":"IF(ISERROR(VLOOKUP($A164,check!$A:$L,6,FALSE))=TRUE,\"\",VLOOKUP($A164,check!$A:$L,6,FALSE))","v":""},{"$f":"IF(ISERROR(VLOOKUP($A164,check!$A:$L,7,FALSE))=TRUE,\"\",VLOOKUP($A164,check!$A:$L,7,FALSE))","v":""},{"$f":"IF(ISERROR(VLOOKUP($A164,check!$A:$L,8,FALSE))=TRUE,\"\",VLOOKUP($A164,check!$A:$L,8,FALSE))","v":""},{"$f":"IF(ISERROR(VLOOKUP($A164,check!$A:$L,9,FALSE))=TRUE,\"\",VLOOKUP($A164,check!$A:$L,9,FALSE))","v":""},{"$f":"IF(ISERROR(VLOOKUP($A164,check!$A:$L,10,FALSE))=TRUE,\"\",VLOOKUP($A164,check!$A:$L,10,FALSE))","v":""},{"$f":"IF(ISERROR(VLOOKUP($A164,check!$A:$L,11,FALSE))=TRUE,\"\",VLOOKUP($A164,check!$A:$L,11,FALSE))","v":""},{"$f":"IF(ISERROR(VLOOKUP($A164,check!$A:$L,12,FALSE))=TRUE,\"\",VLOOKUP($A164,check!$A:$L,12,FALSE))","v":""}]
[165,{"$f":"IF(C165=\"\",\"\",MATCH(A165,check!A:A,0))","v":""},{"$f":"IF(ISERROR(VLOOKUP($A165,check!$A:$L,2,FALSE))=TRUE,\"\",VLOOKUP($A165,check!$A:$L,2,FALSE))","v":""},{"$f":"IF(ISERROR(VLOOKUP($A165,check!$A:$L,3,FALSE))=TRUE,\"\",VLOOKUP($A165,check!$A:$L,3,FALSE))","v":""},{"$f":"IF(ISERROR(VLOOKUP($A165,check!$A:$L,4,FALSE))=TRUE,\"\",VLOOKUP($A165,check!$A:$L,4,FALSE))","v":""},{"$f":"IF(ISERROR(VLOOKUP($A165,check!$A:$L,5,FALSE))=TRUE,\"\",VLOOKUP($A165,check!$A:$L,5,FALSE))","v":""},{"$f":"IF(ISERROR(VLOOKUP($A165,check!$A:$L,6,FALSE))=TRUE,\"\",VLOOKUP($A165,check!$A:$L,6,FALSE))","v":""},{"$f":"IF(ISERROR(VLOOKUP($A165,check!$A:$L,7,FALSE))=TRUE,\"\",VLOOKUP($A165,check!$A:$L,7,FALSE))","v":""},{"$f":"IF(ISERROR(VLOOKUP($A165,check!$A:$L,8,FALSE))=TRUE,\"\",VLOOKUP($A165,check!$A:$L,8,FALSE))","v":""},{"$f":"IF(ISERROR(VLOOKUP($A165,check!$A:$L,9,FALSE))=TRUE,\"\",VLOOKUP($A165,check!$A:$L,9,FALSE))","v":""},{"$f":"IF(ISERROR(VLOOKUP($A165,check!$A:$L,10,FALSE))=TRUE,\"\",VLOOKUP($A165,check!$A:$L,10,FALSE))","v":""},{"$f":"IF(ISERROR(VLOOKUP($A165,check!$A:$L,11,FALSE))=TRUE,\"\",VLOOKUP($A165,check!$A:$L,11,FALSE))","v":""},{"$f":"IF(ISERROR(VLOOKUP($A165,check!$A:$L,12,FALSE))=TRUE,\"\",VLOOKUP($A165,check!$A:$L,12,FALSE))","v":""}]
[166,{"$f":"IF(C166=\"\",\"\",MATCH(A166,check!A:A,0))","v":""},{"$f":"IF(ISERROR(VLOOKUP($A166,check!$A:$L,2,FALSE))=TRUE,\"\",VLOOKUP($A166,check!$A:$L,2,FALSE))","v":""},{"$f":"IF(ISERROR(VLOOKUP($A166,check!$A:$L,3,FALSE))=TRUE,\"\",VLOOKUP($A166,check!$A:$L,3,FALSE))","v":""},{"$f":"IF(ISERROR(VLOOKUP($A166,check!$A:$L,4,FALSE))=TRUE,\"\",VLOOKUP($A166,check!$A:$L,4,FALSE))","v":""},{"$f":"IF(ISERROR(VLOOKUP($A166,check!$A:$L,5,FALSE))=TRUE,\"\",VLOOKUP($A166,check!$A:$L,5,FALSE))","v":""},{"$f":"IF(ISERROR(VLOOKUP($A166,check!$A:$L,6,FALSE))=TRUE,\"\",VLOOKUP($A166,check!$A:$L,6,FALSE))","v":""},{"$f":"IF(ISERROR(VLOOKUP($A166,check!$A:$L,7,FALSE))=TRUE,\"\",VLOOKUP($A166,check!$A:$L,7,FALSE))","v":""},{"$f":"IF(ISERROR(VLOOKUP($A166,check!$A:$L,8,FALSE))=TRUE,\"\",VLOOKUP($A166,check!$A:$L,8,FALSE))","v":""},{"$f":"IF(ISERROR(VLOOKUP($A166,check!$A:$L,9,FALSE))=TRUE,\"\",VLOOKUP($A166,check!$A:$L,9,FALSE))","v":""},{"$f":"IF(ISERROR(VLOOKUP($A166,check!$A:$L,10,FALSE))=TRUE,\"\",VLOOKUP($A166,check!$A:$L,10,FALSE))","v":""},{"$f":"IF(ISERROR(VLOOKUP($A166,check!$A:$L,11,FALSE))=TRUE,\"\",VLOOKUP($A166,check!$A:$L,11,FALSE))","v":""},{"$f":"IF(ISERROR(VLOOKUP($A166,check!$A:$L,12,FALSE))=TRUE,\"\",VLOOKUP($A166,check!$A:$L,12,FALSE))","v":""}]
[167,{"$f":"IF(C167=\"\",\"\",MATCH(A167,check!A:A,0))","v":""},{"$f":"IF(ISERROR(VLOOKUP($A167,check!$A:$L,2,FALSE))=TRUE,\"\",VLOOKUP($A167,check!$A:$L,2,FALSE))","v":""},{"$f":"IF(ISERROR(VLOOKUP($A167,check!$A:$L,3,FALSE))=TRUE,\"\",VLOOKUP($A167,check!$A:$L,3,FALSE))","v":""},{"$f":"IF(ISERROR(VLOOKUP($A167,check!$A:$L,4,FALSE))=TRUE,\"\",VLOOKUP($A167,check!$A:$L,4,FALSE))","v":""},{"$f":"IF(ISERROR(VLOOKUP($A167,check!$A:$L,5,FALSE))=TRUE,\"\",VLOOKUP($A167,check!$A:$L,5,FALSE))","v":""},{"$f":"IF(ISERROR(VLOOKUP($A167,check!$A:$L,6,FALSE))=TRUE,\"\",VLOOKUP($A167,check!$A:$L,6,FALSE))","v":""},{"$f":"IF(ISERROR(VLOOKUP($A167,check!$A:$L,7,FALSE))=TRUE,\"\",VLOOKUP($A167,check!$A:$L,7,FALSE))","v":""},{"$f":"IF(ISERROR(VLOOKUP($A167,check!$A:$L,8,FALSE))=TRUE,\"\",VLOOKUP($A167,check!$A:$L,8,FALSE))","v":""},{"$f":"IF(ISERROR(VLOOKUP($A167,check!$A:$L,9,FALSE))=TRUE,\"\",VLOOKUP($A167,check!$A:$L,9,FALSE))","v":""},{"$f":"IF(ISERROR(VLOOKUP($A167,check!$A:$L,10,FALSE))=TRUE,\"\",VLOOKUP($A167,check!$A:$L,10,FALSE))","v":""},{"$f":"IF(ISERROR(VLOOKUP($A167,check!$A:$L,11,FALSE))=TRUE,\"\",VLOOKUP($A167,check!$A:$L,11,FALSE))","v":""},{"$f":"IF(ISERROR(VLOOKUP($A167,check!$A:$L,12,FALSE))=TRUE,\"\",VLOOKUP($A167,check!$A:$L,12,FALSE))","v":""}]
[168,{"$f":"IF(C168=\"\",\"\",MATCH(A168,check!A:A,0))","v":""},{"$f":"IF(ISERROR(VLOOKUP($A168,check!$A:$L,2,FALSE))=TRUE,\"\",VLOOKUP($A168,check!$A:$L,2,FALSE))","v":""},{"$f":"IF(ISERROR(VLOOKUP($A168,check!$A:$L,3,FALSE))=TRUE,\"\",VLOOKUP($A168,check!$A:$L,3,FALSE))","v":""},{"$f":"IF(ISERROR(VLOOKUP($A168,check!$A:$L,4,FALSE))=TRUE,\"\",VLOOKUP($A168,check!$A:$L,4,FALSE))","v":""},{"$f":"IF(ISERROR(VLOOKUP($A168,check!$A:$L,5,FALSE))=TRUE,\"\",VLOOKUP($A168,check!$A:$L,5,FALSE))","v":""},{"$f":"IF(ISERROR(VLOOKUP($A168,check!$A:$L,6,FALSE))=TRUE,\"\",VLOOKUP($A168,check!$A:$L,6,FALSE))","v":""},{"$f":"IF(ISERROR(VLOOKUP($A168,check!$A:$L,7,FALSE))=TRUE,\"\",VLOOKUP($A168,check!$A:$L,7,FALSE))","v":""},{"$f":"IF(ISERROR(VLOOKUP($A168,check!$A:$L,8,FALSE))=TRUE,\"\",VLOOKUP($A168,check!$A:$L,8,FALSE))","v":""},{"$f":"IF(ISERROR(VLOOKUP($A168,check!$A:$L,9,FALSE))=TRUE,\"\",VLOOKUP($A168,check!$A:$L,9,FALSE))","v":""},{"$f":"IF(ISERROR(VLOOKUP($A168,check!$A:$L,10,FALSE))=TRUE,\"\",VLOOKUP($A168,check!$A:$L,10,FALSE))","v":""},{"$f":"IF(ISERROR(VLOOKUP($A168,check!$A:$L,11,FALSE))=TRUE,\"\",VLOOKUP($A168,check!$A:$L,11,FALSE))","v":""},{"$f":"IF(ISERROR(VLOOKUP($A168,check!$A:$L,12,FALSE))=TRUE,\"\",VLOOKUP($A168,check!$A:$L,12,FALSE))","v":""}]
[169,{"$f":"IF(C169=\"\",\"\",MATCH(A169,check!A:A,0))","v":""},{"$f":"IF(ISERROR(VLOOKUP($A169,check!$A:$L,2,FALSE))=TRUE,\"\",VLOOKUP($A169,check!$A:$L,2,FALSE))","v":""},{"$f":"IF(ISERROR(VLOOKUP($A169,check!$A:$L,3,FALSE))=TRUE,\"\",VLOOKUP($A169,check!$A:$L,3,FALSE))","v":""},{"$f":"IF(ISERROR(VLOOKUP($A169,check!$A:$L,4,FALSE))=TRUE,\"\",VLOOKUP($A169,check!$A:$L,4,FALSE))","v":""},{"$f":"IF(ISERROR(VLOOKUP($A169,check!$A:$L,5,FALSE))=TRUE,\"\",VLOOKUP($A169,check!$A:$L,5,FALSE))","v":""},{"$f":"IF(ISERROR(VLOOKUP($A169,check!$A:$L,6,FALSE))=TRUE,\"\",VLOOKUP($A169,check!$A:$L,6,FALSE))","v":""},{"$f":"IF(ISERROR(VLOOKUP($A169,check!$A:$L,7,FALSE))=TRUE,\"\",VLOOKUP($A169,check!$A:$L,7,FALSE))","v":""},{"$f":"IF(ISERROR(VLOOKUP($A169,check!$A:$L,8,FALSE))=TRUE,\"\",VLOOKUP($A169,check!$A:$L,8,FALSE))","v":""},{"$f":"IF(ISERROR(VLOOKUP($A169,check!$A:$L,9,FALSE))=TRUE,\"\",VLOOKUP($A169,check!$A:$L,9,FALSE))","v":""},{"$f":"IF(ISERROR(VLOOKUP($A169,check!$A:$L,10,FALSE))=TRUE,\"\",VLOOKUP($A169,check!$A:$L,10,FALSE))","v":""},{"$f":"IF(ISERROR(VLOOKUP($A169,check!$A:$L,11,FALSE))=TRUE,\"\",VLOOKUP($A169,check!$A:$L,11,FALSE))","v":""},{"$f":"IF(ISERROR(VLOOKUP($A169,check!$A:$L,12,FALSE))=TRUE,\"\",VLOOKUP($A169,check!$A:$L,12,FALSE))","v":""}]
[170,{"$f":"IF(C170=\"\",\"\",MATCH(A170,check!A:A,0))","v":""},{"$f":"IF(ISERROR(VLOOKUP($A170,check!$A:$L,2,FALSE))=TRUE,\"\",VLOOKUP($A170,check!$A:$L,2,FALSE))","v":""},{"$f":"IF(ISERROR(VLOOKUP($A170,check!$A:$L,3,FALSE))=TRUE,\"\",VLOOKUP($A170,check!$A:$L,3,FALSE))","v":""},{"$f":"IF(ISERROR(VLOOKUP($A170,check!$A:$L,4,FALSE))=TRUE,\"\",VLOOKUP($A170,check!$A:$L,4,FALSE))","v":""},{"$f":"IF(ISERROR(VLOOKUP($A170,check!$A:$L,5,FALSE))=TRUE,\"\",VLOOKUP($A170,check!$A:$L,5,FALSE))","v":""},{"$f":"IF(ISERROR(VLOOKUP($A170,check!$A:$L,6,FALSE))=TRUE,\"\",VLOOKUP($A170,check!$A:$L,6,FALSE))","v":""},{"$f":"IF(ISERROR(VLOOKUP($A170,check!$A:$L,7,FALSE))=TRUE,\"\",VLOOKUP($A170,check!$A:$L,7,FALSE))","v":""},{"$f":"IF(ISERROR(VLOOKUP($A170,check!$A:$L,8,FALSE))=TRUE,\"\",VLOOKUP($A170,check!$A:$L,8,FALSE))","v":""},{"$f":"IF(ISERROR(VLOOKUP($A170,check!$A:$L,9,FALSE))=TRUE,\"\",VLOOKUP($A170,check!$A:$L,9,FALSE))","v":""},{"$f":"IF(ISERROR(VLOOKUP($A170,check!$A:$L,10,FALSE))=TRUE,\"\",VLOOKUP($A170,check!$A:$L,10,FALSE))","v":""},{"$f":"IF(ISERROR(VLOOKUP($A170,check!$A:$L,11,FALSE))=TRUE,\"\",VLOOKUP($A170,check!$A:$L,11,FALSE))","v":""},{"$f":"IF(ISERROR(VLOOKUP($A170,check!$A:$L,12,FALSE))=TRUE,\"\",VLOOKUP($A170,check!$A:$L,12,FALSE))","v":""}]
[171,{"$f":"IF(C171=\"\",\"\",MATCH(A171,check!A:A,0))","v":""},{"$f":"IF(ISERROR(VLOOKUP($A171,check!$A:$L,2,FALSE))=TRUE,\"\",VLOOKUP($A171,check!$A:$L,2,FALSE))","v":""},{"$f":"IF(ISERROR(VLOOKUP($A171,check!$A:$L,3,FALSE))=TRUE,\"\",VLOOKUP($A171,check!$A:$L,3,FALSE))","v":""},{"$f":"IF(ISERROR(VLOOKUP($A171,check!$A:$L,4,FALSE))=TRUE,\"\",VLOOKUP($A171,check!$A:$L,4,FALSE))","v":""},{"$f":"IF(ISERROR(VLOOKUP($A171,check!$A:$L,5,FALSE))=TRUE,\"\",VLOOKUP($A171,check!$A:$L,5,FALSE))","v":""},{"$f":"IF(ISERROR(VLOOKUP($A171,check!$A:$L,6,FALSE))=TRUE,\"\",VLOOKUP($A171,check!$A:$L,6,FALSE))","v":""},{"$f":"IF(ISERROR(VLOOKUP($A171,check!$A:$L,7,FALSE))=TRUE,\"\",VLOOKUP($A171,check!$A:$L,7,FALSE))","v":""},{"$f":"IF(ISERROR(VLOOKUP($A171,check!$A:$L,8,FALSE))=TRUE,\"\",VLOOKUP($A171,check!$A:$L,8,FALSE))","v":""},{"$f":"IF(ISERROR(VLOOKUP($A171,check!$A:$L,9,FALSE))=TRUE,\"\",VLOOKUP($A171,check!$A:$L,9,FALSE))","v":""},{"$f":"IF(ISERROR(VLOOKUP($A171,check!$A:$L,10,FALSE))=TRUE,\"\",VLOOKUP($A171,check!$A:$L,10,FALSE))","v":""},{"$f":"IF(ISERROR(VLOOKUP($A171,check!$A:$L,11,FALSE))=TRUE,\"\",VLOOKUP($A171,check!$A:$L,11,FALSE))","v":""},{"$f":"IF(ISERROR(VLOOKUP($A171,check!$A:$L,12,FALSE))=TRUE,\"\",VLOOKUP($A171,check!$A:$L,12,FALSE))","v":""}]
[172,{"$f":"IF(C172=\"\",\"\",MATCH(A172,check!A:A,0))","v":""},{"$f":"IF(ISERROR(VLOOKUP($A172,check!$A:$L,2,FALSE))=TRUE,\"\",VLOOKUP($A172,check!$A:$L,2,FALSE))","v":""},{"$f":"IF(ISERROR(VLOOKUP($A172,check!$A:$L,3,FALSE))=TRUE,\"\",VLOOKUP($A172,check!$A:$L,3,FALSE))","v":""},{"$f":"IF(ISERROR(VLOOKUP($A172,check!$A:$L,4,FALSE))=TRUE,\"\",VLOOKUP($A172,check!$A:$L,4,FALSE))","v":""},{"$f":"IF(ISERROR(VLOOKUP($A172,check!$A:$L,5,FALSE))=TRUE,\"\",VLOOKUP($A172,check!$A:$L,5,FALSE))","v":""},{"$f":"IF(ISERROR(VLOOKUP($A172,check!$A:$L,6,FALSE))=TRUE,\"\",VLOOKUP($A172,check!$A:$L,6,FALSE))","v":""},{"$f":"IF(ISERROR(VLOOKUP($A172,check!$A:$L,7,FALSE))=TRUE,\"\",VLOOKUP($A172,check!$A:$L,7,FALSE))","v":""},{"$f":"IF(ISERROR(VLOOKUP($A172,check!$A:$L,8,FALSE))=TRUE,\"\",VLOOKUP($A172,check!$A:$L,8,FALSE))","v":""},{"$f":"IF(ISERROR(VLOOKUP($A172,check!$A:$L,9,FALSE))=TRUE,\"\",VLOOKUP($A172,check!$A:$L,9,FALSE))","v":""},{"$f":"IF(ISERROR(VLOOKUP($A172,check!$A:$L,10,FALSE))=TRUE,\"\",VLOOKUP($A172,check!$A:$L,10,FALSE))","v":""},{"$f":"IF(ISERROR(VLOOKUP($A172,check!$A:$L,11,FALSE))=TRUE,\"\",VLOOKUP($A172,check!$A:$L,11,FALSE))","v":""},{"$f":"IF(ISERROR(VLOOKUP($A172,check!$A:$L,12,FALSE))=TRUE,\"\",VLOOKUP($A172,check!$A:$L,12,FALSE))","v":""}]
[173,{"$f":"IF(C173=\"\",\"\",MATCH(A173,check!A:A,0))","v":""},{"$f":"IF(ISERROR(VLOOKUP($A173,check!$A:$L,2,FALSE))=TRUE,\"\",VLOOKUP($A173,check!$A:$L,2,FALSE))","v":""},{"$f":"IF(ISERROR(VLOOKUP($A173,check!$A:$L,3,FALSE))=TRUE,\"\",VLOOKUP($A173,check!$A:$L,3,FALSE))","v":""},{"$f":"IF(ISERROR(VLOOKUP($A173,check!$A:$L,4,FALSE))=TRUE,\"\",VLOOKUP($A173,check!$A:$L,4,FALSE))","v":""},{"$f":"IF(ISERROR(VLOOKUP($A173,check!$A:$L,5,FALSE))=TRUE,\"\",VLOOKUP($A173,check!$A:$L,5,FALSE))","v":""},{"$f":"IF(ISERROR(VLOOKUP($A173,check!$A:$L,6,FALSE))=TRUE,\"\",VLOOKUP($A173,check!$A:$L,6,FALSE))","v":""},{"$f":"IF(ISERROR(VLOOKUP($A173,check!$A:$L,7,FALSE))=TRUE,\"\",VLOOKUP($A173,check!$A:$L,7,FALSE))","v":""},{"$f":"IF(ISERROR(VLOOKUP($A173,check!$A:$L,8,FALSE))=TRUE,\"\",VLOOKUP($A173,check!$A:$L,8,FALSE))","v":""},{"$f":"IF(ISERROR(VLOOKUP($A173,check!$A:$L,9,FALSE))=TRUE,\"\",VLOOKUP($A173,check!$A:$L,9,FALSE))","v":""},{"$f":"IF(ISERROR(VLOOKUP($A173,check!$A:$L,10,FALSE))=TRUE,\"\",VLOOKUP($A173,check!$A:$L,10,FALSE))","v":""},{"$f":"IF(ISERROR(VLOOKUP($A173,check!$A:$L,11,FALSE))=TRUE,\"\",VLOOKUP($A173,check!$A:$L,11,FALSE))","v":""},{"$f":"IF(ISERROR(VLOOKUP($A173,check!$A:$L,12,FALSE))=TRUE,\"\",VLOOKUP($A173,check!$A:$L,12,FALSE))","v":""}]
[174,{"$f":"IF(C174=\"\",\"\",MATCH(A174,check!A:A,0))","v":""},{"$f":"IF(ISERROR(VLOOKUP($A174,check!$A:$L,2,FALSE))=TRUE,\"\",VLOOKUP($A174,check!$A:$L,2,FALSE))","v":""},{"$f":"IF(ISERROR(VLOOKUP($A174,check!$A:$L,3,FALSE))=TRUE,\"\",VLOOKUP($A174,check!$A:$L,3,FALSE))","v":""},{"$f":"IF(ISERROR(VLOOKUP($A174,check!$A:$L,4,FALSE))=TRUE,\"\",VLOOKUP($A174,check!$A:$L,4,FALSE))","v":""},{"$f":"IF(ISERROR(VLOOKUP($A174,check!$A:$L,5,FALSE))=TRUE,\"\",VLOOKUP($A174,check!$A:$L,5,FALSE))","v":""},{"$f":"IF(ISERROR(VLOOKUP($A174,check!$A:$L,6,FALSE))=TRUE,\"\",VLOOKUP($A174,check!$A:$L,6,FALSE))","v":""},{"$f":"IF(ISERROR(VLOOKUP($A174,check!$A:$L,7,FALSE))=TRUE,\"\",VLOOKUP($A174,check!$A:$L,7,FALSE))","v":""},{"$f":"IF(ISERROR(VLOOKUP($A174,check!$A:$L,8,FALSE))=TRUE,\"\",VLOOKUP($A174,check!$A:$L,8,FALSE))","v":""},{"$f":"IF(ISERROR(VLOOKUP($A174,check!$A:$L,9,FALSE))=TRUE,\"\",VLOOKUP($A174,check!$A:$L,9,FALSE))","v":""},{"$f":"IF(ISERROR(VLOOKUP($A174,check!$A:$L,10,FALSE))=TRUE,\"\",VLOOKUP($A174,check!$A:$L,10,FALSE))","v":""},{"$f":"IF(ISERROR(VLOOKUP($A174,check!$A:$L,11,FALSE))=TRUE,\"\",VLOOKUP($A174,check!$A:$L,11,FALSE))","v":""},{"$f":"IF(ISERROR(VLOOKUP($A174,check!$A:$L,12,FALSE))=TRUE,\"\",VLOOKUP($A174,check!$A:$L,12,FALSE))","v":""}]
[175,{"$f":"IF(C175=\"\",\"\",MATCH(A175,check!A:A,0))","v":""},{"$f":"IF(ISERROR(VLOOKUP($A175,check!$A:$L,2,FALSE))=TRUE,\"\",VLOOKUP($A175,check!$A:$L,2,FALSE))","v":""},{"$f":"IF(ISERROR(VLOOKUP($A175,check!$A:$L,3,FALSE))=TRUE,\"\",VLOOKUP($A175,check!$A:$L,3,FALSE))","v":""},{"$f":"IF(ISERROR(VLOOKUP($A175,check!$A:$L,4,FALSE))=TRUE,\"\",VLOOKUP($A175,check!$A:$L,4,FALSE))","v":""},{"$f":"IF(ISERROR(VLOOKUP($A175,check!$A:$L,5,FALSE))=TRUE,\"\",VLOOKUP($A175,check!$A:$L,5,FALSE))","v":""},{"$f":"IF(ISERROR(VLOOKUP($A175,check!$A:$L,6,FALSE))=TRUE,\"\",VLOOKUP($A175,check!$A:$L,6,FALSE))","v":""},{"$f":"IF(ISERROR(VLOOKUP($A175,check!$A:$L,7,FALSE))=TRUE,\"\",VLOOKUP($A175,check!$A:$L,7,FALSE))","v":""},{"$f":"IF(ISERROR(VLOOKUP($A175,check!$A:$L,8,FALSE))=TRUE,\"\",VLOOKUP($A175,check!$A:$L,8,FALSE))","v":""},{"$f":"IF(ISERROR(VLOOKUP($A175,check!$A:$L,9,FALSE))=TRUE,\"\",VLOOKUP($A175,check!$A:$L,9,FALSE))","v":""},{"$f":"IF(ISERROR(VLOOKUP($A175,check!$A:$L,10,FALSE))=TRUE,\"\",VLOOKUP($A175,check!$A:$L,10,FALSE))","v":""},{"$f":"IF(ISERROR(VLOOKUP($A175,check!$A:$L,11,FALSE))=TRUE,\"\",VLOOKUP($A175,check!$A:$L,11,FALSE))","v":""},{"$f":"IF(ISERROR(VLOOKUP($A175,check!$A:$L,12,FALSE))=TRUE,\"\",VLOOKUP($A175,check!$A:$L,12,FALSE))","v":""}]
[176,{"$f":"IF(C176=\"\",\"\",MATCH(A176,check!A:A,0))","v":""},{"$f":"IF(ISERROR(VLOOKUP($A176,check!$A:$L,2,FALSE))=TRUE,\"\",VLOOKUP($A176,check!$A:$L,2,FALSE))","v":""},{"$f":"IF(ISERROR(VLOOKUP($A176,check!$A:$L,3,FALSE))=TRUE,\"\",VLOOKUP($A176,check!$A:$L,3,FALSE))","v":""},{"$f":"IF(ISERROR(VLOOKUP($A176,check!$A:$L,4,FALSE))=TRUE,\"\",VLOOKUP($A176,check!$A:$L,4,FALSE))","v":""},{"$f":"IF(ISERROR(VLOOKUP($A176,check!$A:$L,5,FALSE))=TRUE,\"\",VLOOKUP($A176,check!$A:$L,5,FALSE))","v":""},{"$f":"IF(ISERROR(VLOOKUP($A176,check!$A:$L,6,FALSE))=TRUE,\"\",VLOOKUP($A176,check!$A:$L,6,FALSE))","v":""},{"$f":"IF(ISERROR(VLOOKUP($A176,check!$A:$L,7,FALSE))=TRUE,\"\",VLOOKUP($A176,check!$A:$L,7,FALSE))","v":""},{"$f":"IF(ISERROR(VLOOKUP($A176,check!$A:$L,8,FALSE))=TRUE,\"\",VLOOKUP($A176,check!$A:$L,8,FALSE))","v":""},{"$f":"IF(ISERROR(VLOOKUP($A176,check!$A:$L,9,FALSE))=TRUE,\"\",VLOOKUP($A176,check!$A:$L,9,FALSE))","v":""},{"$f":"IF(ISERROR(VLOOKUP($A176,check!$A:$L,10,FALSE))=TRUE,\"\",VLOOKUP($A176,check!$A:$L,10,FALSE))","v":""},{"$f":"IF(ISERROR(VLOOKUP($A176,check!$A:$L,11,FALSE))=TRUE,\"\",VLOOKUP($A176,check!$A:$L,11,FALSE))","v":""},{"$f":"IF(ISERROR(VLOOKUP($A176,check!$A:$L,12,FALSE))=TRUE,\"\",VLOOKUP($A176,check!$A:$L,12,FALSE))","v":""}]
[177,{"$f":"IF(C177=\"\",\"\",MATCH(A177,check!A:A,0))","v":""},{"$f":"IF(ISERROR(VLOOKUP($A177,check!$A:$L,2,FALSE))=TRUE,\"\",VLOOKUP($A177,check!$A:$L,2,FALSE))","v":""},{"$f":"IF(ISERROR(VLOOKUP($A177,check!$A:$L,3,FALSE))=TRUE,\"\",VLOOKUP($A177,check!$A:$L,3,FALSE))","v":""},{"$f":"IF(ISERROR(VLOOKUP($A177,check!$A:$L,4,FALSE))=TRUE,\"\",VLOOKUP($A177,check!$A:$L,4,FALSE))","v":""},{"$f":"IF(ISERROR(VLOOKUP($A177,check!$A:$L,5,FALSE))=TRUE,\"\",VLOOKUP($A177,check!$A:$L,5,FALSE))","v":""},{"$f":"IF(ISERROR(VLOOKUP($A177,check!$A:$L,6,FALSE))=TRUE,\"\",VLOOKUP($A177,check!$A:$L,6,FALSE))","v":""},{"$f":"IF(ISERROR(VLOOKUP($A177,check!$A:$L,7,FALSE))=TRUE,\"\",VLOOKUP($A177,check!$A:$L,7,FALSE))","v":""},{"$f":"IF(ISERROR(VLOOKUP($A177,check!$A:$L,8,FALSE))=TRUE,\"\",VLOOKUP($A177,check!$A:$L,8,FALSE))","v":""},{"$f":"IF(ISERROR(VLOOKUP($A177,check!$A:$L,9,FALSE))=TRUE,\"\",VLOOKUP($A177,check!$A:$L,9,FALSE))","v":""},{"$f":"IF(ISERROR(VLOOKUP($A177,check!$A:$L,10,FALSE))=TRUE,\"\",VLOOKUP($A177,check!$A:$L,10,FALSE))","v":""},{"$f":"IF(ISERROR(VLOOKUP($A177,check!$A:$L,11,FALSE))=TRUE,\"\",VLOOKUP($A177,check!$A:$L,11,FALSE))","v":""},{"$f":"IF(ISERROR(VLOOKUP($A177,check!$A:$L,12,FALSE))=TRUE,\"\",VLOOKUP($A177,check!$A:$L,12,FALSE))","v":""}]
[178,{"$f":"IF(C178=\"\",\"\",MATCH(A178,check!A:A,0))","v":""},{"$f":"IF(ISERROR(VLOOKUP($A178,check!$A:$L,2,FALSE))=TRUE,\"\",VLOOKUP($A178,check!$A:$L,2,FALSE))","v":""},{"$f":"IF(ISERROR(VLOOKUP($A178,check!$A:$L,3,FALSE))=TRUE,\"\",VLOOKUP($A178,check!$A:$L,3,FALSE))","v":""},{"$f":"IF(ISERROR(VLOOKUP($A178,check!$A:$L,4,FALSE))=TRUE,\"\",VLOOKUP($A178,check!$A:$L,4,FALSE))","v":""},{"$f":"IF(ISERROR(VLOOKUP($A178,check!$A:$L,5,FALSE))=TRUE,\"\",VLOOKUP($A178,check!$A:$L,5,FALSE))","v":""},{"$f":"IF(ISERROR(VLOOKUP($A178,check!$A:$L,6,FALSE))=TRUE,\"\",VLOOKUP($A178,check!$A:$L,6,FALSE))","v":""},{"$f":"IF(ISERROR(VLOOKUP($A178,check!$A:$L,7,FALSE))=TRUE,\"\",VLOOKUP($A178,check!$A:$L,7,FALSE))","v":""},{"$f":"IF(ISERROR(VLOOKUP($A178,check!$A:$L,8,FALSE))=TRUE,\"\",VLOOKUP($A178,check!$A:$L,8,FALSE))","v":""},{"$f":"IF(ISERROR(VLOOKUP($A178,check!$A:$L,9,FALSE))=TRUE,\"\",VLOOKUP($A178,check!$A:$L,9,FALSE))","v":""},{"$f":"IF(ISERROR(VLOOKUP($A178,check!$A:$L,10,FALSE))=TRUE,\"\",VLOOKUP($A178,check!$A:$L,10,FALSE))","v":""},{"$f":"IF(ISERROR(VLOOKUP($A178,check!$A:$L,11,FALSE))=TRUE,\"\",VLOOKUP($A178,check!$A:$L,11,FALSE))","v":""},{"$f":"IF(ISERROR(VLOOKUP($A178,check!$A:$L,12,FALSE))=TRUE,\"\",VLOOKUP($A178,check!$A:$L,12,FALSE))","v":""}]
[179,{"$f":"IF(C179=\"\",\"\",MATCH(A179,check!A:A,0))","v":""},{"$f":"IF(ISERROR(VLOOKUP($A179,check!$A:$L,2,FALSE))=TRUE,\"\",VLOOKUP($A179,check!$A:$L,2,FALSE))","v":""},{"$f":"IF(ISERROR(VLOOKUP($A179,check!$A:$L,3,FALSE))=TRUE,\"\",VLOOKUP($A179,check!$A:$L,3,FALSE))","v":""},{"$f":"IF(ISERROR(VLOOKUP($A179,check!$A:$L,4,FALSE))=TRUE,\"\",VLOOKUP($A179,check!$A:$L,4,FALSE))","v":""},{"$f":"IF(ISERROR(VLOOKUP($A179,check!$A:$L,5,FALSE))=TRUE,\"\",VLOOKUP($A179,check!$A:$L,5,FALSE))","v":""},{"$f":"IF(ISERROR(VLOOKUP($A179,check!$A:$L,6,FALSE))=TRUE,\"\",VLOOKUP($A179,check!$A:$L,6,FALSE))","v":""},{"$f":"IF(ISERROR(VLOOKUP($A179,check!$A:$L,7,FALSE))=TRUE,\"\",VLOOKUP($A179,check!$A:$L,7,FALSE))","v":""},{"$f":"IF(ISERROR(VLOOKUP($A179,check!$A:$L,8,FALSE))=TRUE,\"\",VLOOKUP($A179,check!$A:$L,8,FALSE))","v":""},{"$f":"IF(ISERROR(VLOOKUP($A179,check!$A:$L,9,FALSE))=TRUE,\"\",VLOOKUP($A179,check!$A:$L,9,FALSE))","v":""},{"$f":"IF(ISERROR(VLOOKUP($A179,check!$A:$L,10,FALSE))=TRUE,\"\",VLOOKUP($A179,check!$A:$L,10,FALSE))","v":""},{"$f":"IF(ISERROR(VLOOKUP($A179,check!$A:$L,11,FALSE))=TRUE,\"\",VLOOKUP($A179,check!$A:$L,11,FALSE))","v":""},{"$f":"IF(ISERROR(VLOOKUP($A179,check!$A:$L,12,FALSE))=TRUE,\"\",VLOOKUP($A179,check!$A:$L,12,FALSE))","v":""}]
[180,{"$f":"IF(C180=\"\",\"\",MATCH(A180,check!A:A,0))","v":""},{"$f":"IF(ISERROR(VLOOKUP($A180,check!$A:$L,2,FALSE))=TRUE,\"\",VLOOKUP($A180,check!$A:$L,2,FALSE))","v":""},{"$f":"IF(ISERROR(VLOOKUP($A180,check!$A:$L,3,FALSE))=TRUE,\"\",VLOOKUP($A180,check!$A:$L,3,FALSE))","v":""},{"$f":"IF(ISERROR(VLOOKUP($A180,check!$A:$L,4,FALSE))=TRUE,\"\",VLOOKUP($A180,check!$A:$L,4,FALSE))","v":""},{"$f":"IF(ISERROR(VLOOKUP($A180,check!$A:$L,5,FALSE))=TRUE,\"\",VLOOKUP($A180,check!$A:$L,5,FALSE))","v":""},{"$f":"IF(ISERROR(VLOOKUP($A180,check!$A:$L,6,FALSE))=TRUE,\"\",VLOOKUP($A180,check!$A:$L,6,FALSE))","v":""},{"$f":"IF(ISERROR(VLOOKUP($A180,check!$A:$L,7,FALSE))=TRUE,\"\",VLOOKUP($A180,check!$A:$L,7,FALSE))","v":""},{"$f":"IF(ISERROR(VLOOKUP($A180,check!$A:$L,8,FALSE))=TRUE,\"\",VLOOKUP($A180,check!$A:$L,8,FALSE))","v":""},{"$f":"IF(ISERROR(VLOOKUP($A180,check!$A:$L,9,FALSE))=TRUE,\"\",VLOOKUP($A180,check!$A:$L,9,FALSE))","v":""},{"$f":"IF(ISERROR(VLOOKUP($A180,check!$A:$L,10,FALSE))=TRUE,\"\",VLOOKUP($A180,check!$A:$L,10,FALSE))","v":""},{"$f":"IF(ISERROR(VLOOKUP($A180,check!$A:$L,11,FALSE))=TRUE,\"\",VLOOKUP($A180,check!$A:$L,11,FALSE))","v":""},{"$f":"IF(ISERROR(VLOOKUP($A180,check!$A:$L,12,FALSE))=TRUE,\"\",VLOOKUP($A180,check!$A:$L,12,FALSE))","v":""}]
[181,{"$f":"IF(C181=\"\",\"\",MATCH(A181,check!A:A,0))","v":""},{"$f":"IF(ISERROR(VLOOKUP($A181,check!$A:$L,2,FALSE))=TRUE,\"\",VLOOKUP($A181,check!$A:$L,2,FALSE))","v":""},{"$f":"IF(ISERROR(VLOOKUP($A181,check!$A:$L,3,FALSE))=TRUE,\"\",VLOOKUP($A181,check!$A:$L,3,FALSE))","v":""},{"$f":"IF(ISERROR(VLOOKUP($A181,check!$A:$L,4,FALSE))=TRUE,\"\",VLOOKUP($A181,check!$A:$L,4,FALSE))","v":""},{"$f":"IF(ISERROR(VLOOKUP($A181,check!$A:$L,5,FALSE))=TRUE,\"\",VLOOKUP($A181,check!$A:$L,5,FALSE))","v":""},{"$f":"IF(ISERROR(VLOOKUP($A181,check!$A:$L,6,FALSE))=TRUE,\"\",VLOOKUP($A181,check!$A:$L,6,FALSE))","v":""},{"$f":"IF(ISERROR(VLOOKUP($A181,check!$A:$L,7,FALSE))=TRUE,\"\",VLOOKUP($A181,check!$A:$L,7,FALSE))","v":""},{"$f":"IF(ISERROR(VLOOKUP($A181,check!$A:$L,8,FALSE))=TRUE,\"\",VLOOKUP($A181,check!$A:$L,8,FALSE))","v":""},{"$f":"IF(ISERROR(VLOOKUP($A181,check!$A:$L,9,FALSE))=TRUE,\"\",VLOOKUP($A181,check!$A:$L,9,FALSE))","v":""},{"$f":"IF(ISERROR(VLOOKUP($A181,check!$A:$L,10,FALSE))=TRUE,\"\",VLOOKUP($A181,check!$A:$L,10,FALSE))","v":""},{"$f":"IF(ISERROR(VLOOKUP($A181,check!$A:$L,11,FALSE))=TRUE,\"\",VLOOKUP($A181,check!$A:$L,11,FALSE))","v":""},{"$f":"IF(ISERROR(VLOOKUP($A181,check!$A:$L,12,FALSE))=TRUE,\"\",VLOOKUP($A181,check!$A:$L,12,FALSE))","v":""}]
[182,{"$f":"IF(C182=\"\",\"\",MATCH(A182,check!A:A,0))","v":""},{"$f":"IF(ISERROR(VLOOKUP($A182,check!$A:$L,2,FALSE))=TRUE,\"\",VLOOKUP($A182,check!$A:$L,2,FALSE))","v":""},{"$f":"IF(ISERROR(VLOOKUP($A182,check!$A:$L,3,FALSE))=TRUE,\"\",VLOOKUP($A182,check!$A:$L,3,FALSE))","v":""},{"$f":"IF(ISERROR(VLOOKUP($A182,check!$A:$L,4,FALSE))=TRUE,\"\",VLOOKUP($A182,check!$A:$L,4,FALSE))","v":""},{"$f":"IF(ISERROR(VLOOKUP($A182,check!$A:$L,5,FALSE))=TRUE,\"\",VLOOKUP($A182,check!$A:$L,5,FALSE))","v":""},{"$f":"IF(ISERROR(VLOOKUP($A182,check!$A:$L,6,FALSE))=TRUE,\"\",VLOOKUP($A182,check!$A:$L,6,FALSE))","v":""},{"$f":"IF(ISERROR(VLOOKUP($A182,check!$A:$L,7,FALSE))=TRUE,\"\",VLOOKUP($A182,check!$A:$L,7,FALSE))","v":""},{"$f":"IF(ISERROR(VLOOKUP($A182,check!$A:$L,8,FALSE))=TRUE,\"\",VLOOKUP($A182,check!$A:$L,8,FALSE))","v":""},{"$f":"IF(ISERROR(VLOOKUP($A182,check!$A:$L,9,FALSE))=TRUE,\"\",VLOOKUP($A182,check!$A:$L,9,FALSE))","v":""},{"$f":"IF(ISERROR(VLOOKUP($A182,check!$A:$L,10,FALSE))=TRUE,\"\",VLOOKUP($A182,check!$A:$L,10,FALSE))","v":""},{"$f":"IF(ISERROR(VLOOKUP($A182,check!$A:$L,11,FALSE))=TRUE,\"\",VLOOKUP($A182,check!$A:$L,11,FALSE))","v":""},{"$f":"IF(ISERROR(VLOOKUP($A182,check!$A:$L,12,FALSE))=TRUE,\"\",VLOOKUP($A182,check!$A:$L,12,FALSE))","v":""}]
[183,{"$f":"IF(C183=\"\",\"\",MATCH(A183,check!A:A,0))","v":""},{"$f":"IF(ISERROR(VLOOKUP($A183,check!$A:$L,2,FALSE))=TRUE,\"\",VLOOKUP($A183,check!$A:$L,2,FALSE))","v":""},{"$f":"IF(ISERROR(VLOOKUP($A183,check!$A:$L,3,FALSE))=TRUE,\"\",VLOOKUP($A183,check!$A:$L,3,FALSE))","v":""},{"$f":"IF(ISERROR(VLOOKUP($A183,check!$A:$L,4,FALSE))=TRUE,\"\",VLOOKUP($A183,check!$A:$L,4,FALSE))","v":""},{"$f":"IF(ISERROR(VLOOKUP($A183,check!$A:$L,5,FALSE))=TRUE,\"\",VLOOKUP($A183,check!$A:$L,5,FALSE))","v":""},{"$f":"IF(ISERROR(VLOOKUP($A183,check!$A:$L,6,FALSE))=TRUE,\"\",VLOOKUP($A183,check!$A:$L,6,FALSE))","v":""},{"$f":"IF(ISERROR(VLOOKUP($A183,check!$A:$L,7,FALSE))=TRUE,\"\",VLOOKUP($A183,check!$A:$L,7,FALSE))","v":""},{"$f":"IF(ISERROR(VLOOKUP($A183,check!$A:$L,8,FALSE))=TRUE,\"\",VLOOKUP($A183,check!$A:$L,8,FALSE))","v":""},{"$f":"IF(ISERROR(VLOOKUP($A183,check!$A:$L,9,FALSE))=TRUE,\"\",VLOOKUP($A183,check!$A:$L,9,FALSE))","v":""},{"$f":"IF(ISERROR(VLOOKUP($A183,check!$A:$L,10,FALSE))=TRUE,\"\",VLOOKUP($A183,check!$A:$L,10,FALSE))","v":""},{"$f":"IF(ISERROR(VLOOKUP($A183,check!$A:$L,11,FALSE))=TRUE,\"\",VLOOKUP($A183,check!$A:$L,11,FALSE))","v":""},{"$f":"IF(ISERROR(VLOOKUP($A183,check!$A:$L,12,FALSE))=TRUE,\"\",VLOOKUP($A183,check!$A:$L,12,FALSE))","v":""}]
[184,{"$f":"IF(C184=\"\",\"\",MATCH(A184,check!A:A,0))","v":""},{"$f":"IF(ISERROR(VLOOKUP($A184,check!$A:$L,2,FALSE))=TRUE,\"\",VLOOKUP($A184,check!$A:$L,2,FALSE))","v":""},{"$f":"IF(ISERROR(VLOOKUP($A184,check!$A:$L,3,FALSE))=TRUE,\"\",VLOOKUP($A184,check!$A:$L,3,FALSE))","v":""},{"$f":"IF(ISERROR(VLOOKUP($A184,check!$A:$L,4,FALSE))=TRUE,\"\",VLOOKUP($A184,check!$A:$L,4,FALSE))","v":""},{"$f":"IF(ISERROR(VLOOKUP($A184,check!$A:$L,5,FALSE))=TRUE,\"\",VLOOKUP($A184,check!$A:$L,5,FALSE))","v":""},{"$f":"IF(ISERROR(VLOOKUP($A184,check!$A:$L,6,FALSE))=TRUE,\"\",VLOOKUP($A184,check!$A:$L,6,FALSE))","v":""},{"$f":"IF(ISERROR(VLOOKUP($A184,check!$A:$L,7,FALSE))=TRUE,\"\",VLOOKUP($A184,check!$A:$L,7,FALSE))","v":""},{"$f":"IF(ISERROR(VLOOKUP($A184,check!$A:$L,8,FALSE))=TRUE,\"\",VLOOKUP($A184,check!$A:$L,8,FALSE))","v":""},{"$f":"IF(ISERROR(VLOOKUP($A184,check!$A:$L,9,FALSE))=TRUE,\"\",VLOOKUP($A184,check!$A:$L,9,FALSE))","v":""},{"$f":"IF(ISERROR(VLOOKUP($A184,check!$A:$L,10,FALSE))=TRUE,\"\",VLOOKUP($A184,check!$A:$L,10,FALSE))","v":""},{"$f":"IF(ISERROR(VLOOKUP($A184,check!$A:$L,11,FALSE))=TRUE,\"\",VLOOKUP($A184,check!$A:$L,11,FALSE))","v":""},{"$f":"IF(ISERROR(VLOOKUP($A184,check!$A:$L,12,FALSE))=TRUE,\"\",VLOOKUP($A184,check!$A:$L,12,FALSE))","v":""}]
[185,{"$f":"IF(C185=\"\",\"\",MATCH(A185,check!A:A,0))","v":""},{"$f":"IF(ISERROR(VLOOKUP($A185,check!$A:$L,2,FALSE))=TRUE,\"\",VLOOKUP($A185,check!$A:$L,2,FALSE))","v":""},{"$f":"IF(ISERROR(VLOOKUP($A185,check!$A:$L,3,FALSE))=TRUE,\"\",VLOOKUP($A185,check!$A:$L,3,FALSE))","v":""},{"$f":"IF(ISERROR(VLOOKUP($A185,check!$A:$L,4,FALSE))=TRUE,\"\",VLOOKUP($A185,check!$A:$L,4,FALSE))","v":""},{"$f":"IF(ISERROR(VLOOKUP($A185,check!$A:$L,5,FALSE))=TRUE,\"\",VLOOKUP($A185,check!$A:$L,5,FALSE))","v":""},{"$f":"IF(ISERROR(VLOOKUP($A185,check!$A:$L,6,FALSE))=TRUE,\"\",VLOOKUP($A185,check!$A:$L,6,FALSE))","v":""},{"$f":"IF(ISERROR(VLOOKUP($A185,check!$A:$L,7,FALSE))=TRUE,\"\",VLOOKUP($A185,check!$A:$L,7,FALSE))","v":""},{"$f":"IF(ISERROR(VLOOKUP($A185,check!$A:$L,8,FALSE))=TRUE,\"\",VLOOKUP($A185,check!$A:$L,8,FALSE))","v":""},{"$f":"IF(ISERROR(VLOOKUP($A185,check!$A:$L,9,FALSE))=TRUE,\"\",VLOOKUP($A185,check!$A:$L,9,FALSE))","v":""},{"$f":"IF(ISERROR(VLOOKUP($A185,check!$A:$L,10,FALSE))=TRUE,\"\",VLOOKUP($A185,check!$A:$L,10,FALSE))","v":""},{"$f":"IF(ISERROR(VLOOKUP($A185,check!$A:$L,11,FALSE))=TRUE,\"\",VLOOKUP($A185,check!$A:$L,11,FALSE))","v":""},{"$f":"IF(ISERROR(VLOOKUP($A185,check!$A:$L,12,FALSE))=TRUE,\"\",VLOOKUP($A185,check!$A:$L,12,FALSE))","v":""}]
[186,{"$f":"IF(C186=\"\",\"\",MATCH(A186,check!A:A,0))","v":""},{"$f":"IF(ISERROR(VLOOKUP($A186,check!$A:$L,2,FALSE))=TRUE,\"\",VLOOKUP($A186,check!$A:$L,2,FALSE))","v":""},{"$f":"IF(ISERROR(VLOOKUP($A186,check!$A:$L,3,FALSE))=TRUE,\"\",VLOOKUP($A186,check!$A:$L,3,FALSE))","v":""},{"$f":"IF(ISERROR(VLOOKUP($A186,check!$A:$L,4,FALSE))=TRUE,\"\",VLOOKUP($A186,check!$A:$L,4,FALSE))","v":""},{"$f":"IF(ISERROR(VLOOKUP($A186,check!$A:$L,5,FALSE))=TRUE,\"\",VLOOKUP($A186,check!$A:$L,5,FALSE))","v":""},{"$f":"IF(ISERROR(VLOOKUP($A186,check!$A:$L,6,FALSE))=TRUE,\"\",VLOOKUP($A186,check!$A:$L,6,FALSE))","v":""},{"$f":"IF(ISERROR(VLOOKUP($A186,check!$A:$L,7,FALSE))=TRUE,\"\",VLOOKUP($A186,check!$A:$L,7,FALSE))","v":""},{"$f":"IF(ISERROR(VLOOKUP($A186,check!$A:$L,8,FALSE))=TRUE,\"\",VLOOKUP($A186,check!$A:$L,8,FALSE))","v":""},{"$f":"IF(ISERROR(VLOOKUP($A186,check!$A:$L,9,FALSE))=TRUE,\"\",VLOOKUP($A186,check!$A:$L,9,FALSE))","v":""},{"$f":"IF(ISERROR(VLOOKUP($A186,check!$A:$L,10,FALSE))=TRUE,\"\",VLOOKUP($A186,check!$A:$L,10,FALSE))","v":""},{"$f":"IF(ISERROR(VLOOKUP($A186,check!$A:$L,11,FALSE))=TRUE,\"\",VLOOKUP($A186,check!$A:$L,11,FALSE))","v":""},{"$f":"IF(ISERROR(VLOOKUP($A186,check!$A:$L,12,FALSE))=TRUE,\"\",VLOOKUP($A186,check!$A:$L,12,FALSE))","v":""}]
[187,{"$f":"IF(C187=\"\",\"\",MATCH(A187,check!A:A,0))","v":""},{"$f":"IF(ISERROR(VLOOKUP($A187,check!$A:$L,2,FALSE))=TRUE,\"\",VLOOKUP($A187,check!$A:$L,2,FALSE))","v":""},{"$f":"IF(ISERROR(VLOOKUP($A187,check!$A:$L,3,FALSE))=TRUE,\"\",VLOOKUP($A187,check!$A:$L,3,FALSE))","v":""},{"$f":"IF(ISERROR(VLOOKUP($A187,check!$A:$L,4,FALSE))=TRUE,\"\",VLOOKUP($A187,check!$A:$L,4,FALSE))","v":""},{"$f":"IF(ISERROR(VLOOKUP($A187,check!$A:$L,5,FALSE))=TRUE,\"\",VLOOKUP($A187,check!$A:$L,5,FALSE))","v":""},{"$f":"IF(ISERROR(VLOOKUP($A187,check!$A:$L,6,FALSE))=TRUE,\"\",VLOOKUP($A187,check!$A:$L,6,FALSE))","v":""},{"$f":"IF(ISERROR(VLOOKUP($A187,check!$A:$L,7,FALSE))=TRUE,\"\",VLOOKUP($A187,check!$A:$L,7,FALSE))","v":""},{"$f":"IF(ISERROR(VLOOKUP($A187,check!$A:$L,8,FALSE))=TRUE,\"\",VLOOKUP($A187,check!$A:$L,8,FALSE))","v":""},{"$f":"IF(ISERROR(VLOOKUP($A187,check!$A:$L,9,FALSE))=TRUE,\"\",VLOOKUP($A187,check!$A:$L,9,FALSE))","v":""},{"$f":"IF(ISERROR(VLOOKUP($A187,check!$A:$L,10,FALSE))=TRUE,\"\",VLOOKUP($A187,check!$A:$L,10,FALSE))","v":""},{"$f":"IF(ISERROR(VLOOKUP($A187,check!$A:$L,11,FALSE))=TRUE,\"\",VLOOKUP($A187,check!$A:$L,11,FALSE))","v":""},{"$f":"IF(ISERROR(VLOOKUP($A187,check!$A:$L,12,FALSE))=TRUE,\"\",VLOOKUP($A187,check!$A:$L,12,FALSE))","v":""}]
[188,{"$f":"IF(C188=\"\",\"\",MATCH(A188,check!A:A,0))","v":""},{"$f":"IF(ISERROR(VLOOKUP($A188,check!$A:$L,2,FALSE))=TRUE,\"\",VLOOKUP($A188,check!$A:$L,2,FALSE))","v":""},{"$f":"IF(ISERROR(VLOOKUP($A188,check!$A:$L,3,FALSE))=TRUE,\"\",VLOOKUP($A188,check!$A:$L,3,FALSE))","v":""},{"$f":"IF(ISERROR(VLOOKUP($A188,check!$A:$L,4,FALSE))=TRUE,\"\",VLOOKUP($A188,check!$A:$L,4,FALSE))","v":""},{"$f":"IF(ISERROR(VLOOKUP($A188,check!$A:$L,5,FALSE))=TRUE,\"\",VLOOKUP($A188,check!$A:$L,5,FALSE))","v":""},{"$f":"IF(ISERROR(VLOOKUP($A188,check!$A:$L,6,FALSE))=TRUE,\"\",VLOOKUP($A188,check!$A:$L,6,FALSE))","v":""},{"$f":"IF(ISERROR(VLOOKUP($A188,check!$A:$L,7,FALSE))=TRUE,\"\",VLOOKUP($A188,check!$A:$L,7,FALSE))","v":""},{"$f":"IF(ISERROR(VLOOKUP($A188,check!$A:$L,8,FALSE))=TRUE,\"\",VLOOKUP($A188,check!$A:$L,8,FALSE))","v":""},{"$f":"IF(ISERROR(VLOOKUP($A188,check!$A:$L,9,FALSE))=TRUE,\"\",VLOOKUP($A188,check!$A:$L,9,FALSE))","v":""},{"$f":"IF(ISERROR(VLOOKUP($A188,check!$A:$L,10,FALSE))=TRUE,\"\",VLOOKUP($A188,check!$A:$L,10,FALSE))","v":""},{"$f":"IF(ISERROR(VLOOKUP($A188,check!$A:$L,11,FALSE))=TRUE,\"\",VLOOKUP($A188,check!$A:$L,11,FALSE))","v":""},{"$f":"IF(ISERROR(VLOOKUP($A188,check!$A:$L,12,FALSE))=TRUE,\"\",VLOOKUP($A188,check!$A:$L,12,FALSE))","v":""}]
[189,{"$f":"IF(C189=\"\",\"\",MATCH(A189,check!A:A,0))","v":""},{"$f":"IF(ISERROR(VLOOKUP($A189,check!$A:$L,2,FALSE))=TRUE,\"\",VLOOKUP($A189,check!$A:$L,2,FALSE))","v":""},{"$f":"IF(ISERROR(VLOOKUP($A189,check!$A:$L,3,FALSE))=TRUE,\"\",VLOOKUP($A189,check!$A:$L,3,FALSE))","v":""},{"$f":"IF(ISERROR(VLOOKUP($A189,check!$A:$L,4,FALSE))=TRUE,\"\",VLOOKUP($A189,check!$A:$L,4,FALSE))","v":""},{"$f":"IF(ISERROR(VLOOKUP($A189,check!$A:$L,5,FALSE))=TRUE,\"\",VLOOKUP($A189,check!$A:$L,5,FALSE))","v":""},{"$f":"IF(ISERROR(VLOOKUP($A189,check!$A:$L,6,FALSE))=TRUE,\"\",VLOOKUP($A189,check!$A:$L,6,FALSE))","v":""},{"$f":"IF(ISERROR(VLOOKUP($A189,check!$A:$L,7,FALSE))=TRUE,\"\",VLOOKUP($A189,check!$A:$L,7,FALSE))","v":""},{"$f":"IF(ISERROR(VLOOKUP($A189,check!$A:$L,8,FALSE))=TRUE,\"\",VLOOKUP($A189,check!$A:$L,8,FALSE))","v":""},{"$f":"IF(ISERROR(VLOOKUP($A189,check!$A:$L,9,FALSE))=TRUE,\"\",VLOOKUP($A189,check!$A:$L,9,FALSE))","v":""},{"$f":"IF(ISERROR(VLOOKUP($A189,check!$A:$L,10,FALSE))=TRUE,\"\",VLOOKUP($A189,check!$A:$L,10,FALSE))","v":""},{"$f":"IF(ISERROR(VLOOKUP($A189,check!$A:$L,11,FALSE))=TRUE,\"\",VLOOKUP($A189,check!$A:$L,11,FALSE))","v":""},{"$f":"IF(ISERROR(VLOOKUP($A189,check!$A:$L,12,FALSE))=TRUE,\"\",VLOOKUP($A189,check!$A:$L,12,FALSE))","v":""}]
[190,{"$f":"IF(C190=\"\",\"\",MATCH(A190,check!A:A,0))","v":""},{"$f":"IF(ISERROR(VLOOKUP($A190,check!$A:$L,2,FALSE))=TRUE,\"\",VLOOKUP($A190,check!$A:$L,2,FALSE))","v":""},{"$f":"IF(ISERROR(VLOOKUP($A190,check!$A:$L,3,FALSE))=TRUE,\"\",VLOOKUP($A190,check!$A:$L,3,FALSE))","v":""},{"$f":"IF(ISERROR(VLOOKUP($A190,check!$A:$L,4,FALSE))=TRUE,\"\",VLOOKUP($A190,check!$A:$L,4,FALSE))","v":""},{"$f":"IF(ISERROR(VLOOKUP($A190,check!$A:$L,5,FALSE))=TRUE,\"\",VLOOKUP($A190,check!$A:$L,5,FALSE))","v":""},{"$f":"IF(ISERROR(VLOOKUP($A190,check!$A:$L,6,FALSE))=TRUE,\"\",VLOOKUP($A190,check!$A:$L,6,FALSE))","v":""},{"$f":"IF(ISERROR(VLOOKUP($A190,check!$A:$L,7,FALSE))=TRUE,\"\",VLOOKUP($A190,check!$A:$L,7,FALSE))","v":""},{"$f":"IF(ISERROR(VLOOKUP($A190,check!$A:$L,8,FALSE))=TRUE,\"\",VLOOKUP($A190,check!$A:$L,8,FALSE))","v":""},{"$f":"IF(ISERROR(VLOOKUP($A190,check!$A:$L,9,FALSE))=TRUE,\"\",VLOOKUP($A190,check!$A:$L,9,FALSE))","v":""},{"$f":"IF(ISERROR(VLOOKUP($A190,check!$A:$L,10,FALSE))=TRUE,\"\",VLOOKUP($A190,check!$A:$L,10,FALSE))","v":""},{"$f":"IF(ISERROR(VLOOKUP($A190,check!$A:$L,11,FALSE))=TRUE,\"\",VLOOKUP($A190,check!$A:$L,11,FALSE))","v":""},{"$f":"IF(ISERROR(VLOOKUP($A190,check!$A:$L,12,FALSE))=TRUE,\"\",VLOOKUP($A190,check!$A:$L,12,FALSE))","v":""}]
[191,{"$f":"IF(C191=\"\",\"\",MATCH(A191,check!A:A,0))","v":""},{"$f":"IF(ISERROR(VLOOKUP($A191,check!$A:$L,2,FALSE))=TRUE,\"\",VLOOKUP($A191,check!$A:$L,2,FALSE))","v":""},{"$f":"IF(ISERROR(VLOOKUP($A191,check!$A:$L,3,FALSE))=TRUE,\"\",VLOOKUP($A191,check!$A:$L,3,FALSE))","v":""},{"$f":"IF(ISERROR(VLOOKUP($A191,check!$A:$L,4,FALSE))=TRUE,\"\",VLOOKUP($A191,check!$A:$L,4,FALSE))","v":""},{"$f":"IF(ISERROR(VLOOKUP($A191,check!$A:$L,5,FALSE))=TRUE,\"\",VLOOKUP($A191,check!$A:$L,5,FALSE))","v":""},{"$f":"IF(ISERROR(VLOOKUP($A191,check!$A:$L,6,FALSE))=TRUE,\"\",VLOOKUP($A191,check!$A:$L,6,FALSE))","v":""},{"$f":"IF(ISERROR(VLOOKUP($A191,check!$A:$L,7,FALSE))=TRUE,\"\",VLOOKUP($A191,check!$A:$L,7,FALSE))","v":""},{"$f":"IF(ISERROR(VLOOKUP($A191,check!$A:$L,8,FALSE))=TRUE,\"\",VLOOKUP($A191,check!$A:$L,8,FALSE))","v":""},{"$f":"IF(ISERROR(VLOOKUP($A191,check!$A:$L,9,FALSE))=TRUE,\"\",VLOOKUP($A191,check!$A:$L,9,FALSE))","v":""},{"$f":"IF(ISERROR(VLOOKUP($A191,check!$A:$L,10,FALSE))=TRUE,\"\",VLOOKUP($A191,check!$A:$L,10,FALSE))","v":""},{"$f":"IF(ISERROR(VLOOKUP($A191,check!$A:$L,11,FALSE))=TRUE,\"\",VLOOKUP($A191,check!$A:$L,11,FALSE))","v":""},{"$f":"IF(ISERROR(VLOOKUP($A191,check!$A:$L,12,FALSE))=TRUE,\"\",VLOOKUP($A191,check!$A:$L,12,FALSE))","v":""}]
[192,{"$f":"IF(C192=\"\",\"\",MATCH(A192,check!A:A,0))","v":""},{"$f":"IF(ISERROR(VLOOKUP($A192,check!$A:$L,2,FALSE))=TRUE,\"\",VLOOKUP($A192,check!$A:$L,2,FALSE))","v":""},{"$f":"IF(ISERROR(VLOOKUP($A192,check!$A:$L,3,FALSE))=TRUE,\"\",VLOOKUP($A192,check!$A:$L,3,FALSE))","v":""},{"$f":"IF(ISERROR(VLOOKUP($A192,check!$A:$L,4,FALSE))=TRUE,\"\",VLOOKUP($A192,check!$A:$L,4,FALSE))","v":""},{"$f":"IF(ISERROR(VLOOKUP($A192,check!$A:$L,5,FALSE))=TRUE,\"\",VLOOKUP($A192,check!$A:$L,5,FALSE))","v":""},{"$f":"IF(ISERROR(VLOOKUP($A192,check!$A:$L,6,FALSE))=TRUE,\"\",VLOOKUP($A192,check!$A:$L,6,FALSE))","v":""},{"$f":"IF(ISERROR(VLOOKUP($A192,check!$A:$L,7,FALSE))=TRUE,\"\",VLOOKUP($A192,check!$A:$L,7,FALSE))","v":""},{"$f":"IF(ISERROR(VLOOKUP($A192,check!$A:$L,8,FALSE))=TRUE,\"\",VLOOKUP($A192,check!$A:$L,8,FALSE))","v":""},{"$f":"IF(ISERROR(VLOOKUP($A192,check!$A:$L,9,FALSE))=TRUE,\"\",VLOOKUP($A192,check!$A:$L,9,FALSE))","v":""},{"$f":"IF(ISERROR(VLOOKUP($A192,check!$A:$L,10,FALSE))=TRUE,\"\",VLOOKUP($A192,check!$A:$L,10,FALSE))","v":""},{"$f":"IF(ISERROR(VLOOKUP($A192,check!$A:$L,11,FALSE))=TRUE,\"\",VLOOKUP($A192,check!$A:$L,11,FALSE))","v":""},{"$f":"IF(ISERROR(VLOOKUP($A192,check!$A:$L,12,FALSE))=TRUE,\"\",VLOOKUP($A192,check!$A:$L,12,FALSE))","v":""}]
[193,{"$f":"IF(C193=\"\",\"\",MATCH(A193,check!A:A,0))","v":""},{"$f":"IF(ISERROR(VLOOKUP($A193,check!$A:$L,2,FALSE))=TRUE,\"\",VLOOKUP($A193,check!$A:$L,2,FALSE))","v":""},{"$f":"IF(ISERROR(VLOOKUP($A193,check!$A:$L,3,FALSE))=TRUE,\"\",VLOOKUP($A193,check!$A:$L,3,FALSE))","v":""},{"$f":"IF(ISERROR(VLOOKUP($A193,check!$A:$L,4,FALSE))=TRUE,\"\",VLOOKUP($A193,check!$A:$L,4,FALSE))","v":""},{"$f":"IF(ISERROR(VLOOKUP($A193,check!$A:$L,5,FALSE))=TRUE,\"\",VLOOKUP($A193,check!$A:$L,5,FALSE))","v":""},{"$f":"IF(ISERROR(VLOOKUP($A193,check!$A:$L,6,FALSE))=TRUE,\"\",VLOOKUP($A193,check!$A:$L,6,FALSE))","v":""},{"$f":"IF(ISERROR(VLOOKUP($A193,check!$A:$L,7,FALSE))=TRUE,\"\",VLOOKUP($A193,check!$A:$L,7,FALSE))","v":""},{"$f":"IF(ISERROR(VLOOKUP($A193,check!$A:$L,8,FALSE))=TRUE,\"\",VLOOKUP($A193,check!$A:$L,8,FALSE))","v":""},{"$f":"IF(ISERROR(VLOOKUP($A193,check!$A:$L,9,FALSE))=TRUE,\"\",VLOOKUP($A193,check!$A:$L,9,FALSE))","v":""},{"$f":"IF(ISERROR(VLOOKUP($A193,check!$A:$L,10,FALSE))=TRUE,\"\",VLOOKUP($A193,check!$A:$L,10,FALSE))","v":""},{"$f":"IF(ISERROR(VLOOKUP($A193,check!$A:$L,11,FALSE))=TRUE,\"\",VLOOKUP($A193,check!$A:$L,11,FALSE))","v":""},{"$f":"IF(ISERROR(VLOOKUP($A193,check!$A:$L,12,FALSE))=TRUE,\"\",VLOOKUP($A193,check!$A:$L,12,FALSE))","v":""}]
[194,{"$f":"IF(C194=\"\",\"\",MATCH(A194,check!A:A,0))","v":""},{"$f":"IF(ISERROR(VLOOKUP($A194,check!$A:$L,2,FALSE))=TRUE,\"\",VLOOKUP($A194,check!$A:$L,2,FALSE))","v":""},{"$f":"IF(ISERROR(VLOOKUP($A194,check!$A:$L,3,FALSE))=TRUE,\"\",VLOOKUP($A194,check!$A:$L,3,FALSE))","v":""},{"$f":"IF(ISERROR(VLOOKUP($A194,check!$A:$L,4,FALSE))=TRUE,\"\",VLOOKUP($A194,check!$A:$L,4,FALSE))","v":""},{"$f":"IF(ISERROR(VLOOKUP($A194,check!$A:$L,5,FALSE))=TRUE,\"\",VLOOKUP($A194,check!$A:$L,5,FALSE))","v":""},{"$f":"IF(ISERROR(VLOOKUP($A194,check!$A:$L,6,FALSE))=TRUE,\"\",VLOOKUP($A194,check!$A:$L,6,FALSE))","v":""},{"$f":"IF(ISERROR(VLOOKUP($A194,check!$A:$L,7,FALSE))=TRUE,\"\",VLOOKUP($A194,check!$A:$L,7,FALSE))","v":""},{"$f":"IF(ISERROR(VLOOKUP($A194,check!$A:$L,8,FALSE))=TRUE,\"\",VLOOKUP($A194,check!$A:$L,8,FALSE))","v":""},{"$f":"IF(ISERROR(VLOOKUP($A194,check!$A:$L,9,FALSE))=TRUE,\"\",VLOOKUP($A194,check!$A:$L,9,FALSE))","v":""},{"$f":"IF(ISERROR(VLOOKUP($A194,check!$A:$L,10,FALSE))=TRUE,\"\",VLOOKUP($A194,check!$A:$L,10,FALSE))","v":""},{"$f":"IF(ISERROR(VLOOKUP($A194,check!$A:$L,11,FALSE))=TRUE,\"\",VLOOKUP($A194,check!$A:$L,11,FALSE))","v":""},{"$f":"IF(ISERROR(VLOOKUP($A194,check!$A:$L,12,FALSE))=TRUE,\"\",VLOOKUP($A194,check!$A:$L,12,FALSE))","v":""}]
[195,{"$f":"IF(C195=\"\",\"\",MATCH(A195,check!A:A,0))","v":""},{"$f":"IF(ISERROR(VLOOKUP($A195,check!$A:$L,2,FALSE))=TRUE,\"\",VLOOKUP($A195,check!$A:$L,2,FALSE))","v":""},{"$f":"IF(ISERROR(VLOOKUP($A195,check!$A:$L,3,FALSE))=TRUE,\"\",VLOOKUP($A195,check!$A:$L,3,FALSE))","v":""},{"$f":"IF(ISERROR(VLOOKUP($A195,check!$A:$L,4,FALSE))=TRUE,\"\",VLOOKUP($A195,check!$A:$L,4,FALSE))","v":""},{"$f":"IF(ISERROR(VLOOKUP($A195,check!$A:$L,5,FALSE))=TRUE,\"\",VLOOKUP($A195,check!$A:$L,5,FALSE))","v":""},{"$f":"IF(ISERROR(VLOOKUP($A195,check!$A:$L,6,FALSE))=TRUE,\"\",VLOOKUP($A195,check!$A:$L,6,FALSE))","v":""},{"$f":"IF(ISERROR(VLOOKUP($A195,check!$A:$L,7,FALSE))=TRUE,\"\",VLOOKUP($A195,check!$A:$L,7,FALSE))","v":""},{"$f":"IF(ISERROR(VLOOKUP($A195,check!$A:$L,8,FALSE))=TRUE,\"\",VLOOKUP($A195,check!$A:$L,8,FALSE))","v":""},{"$f":"IF(ISERROR(VLOOKUP($A195,check!$A:$L,9,FALSE))=TRUE,\"\",VLOOKUP($A195,check!$A:$L,9,FALSE))","v":""},{"$f":"IF(ISERROR(VLOOKUP($A195,check!$A:$L,10,FALSE))=TRUE,\"\",VLOOKUP($A195,check!$A:$L,10,FALSE))","v":""},{"$f":"IF(ISERROR(VLOOKUP($A195,check!$A:$L,11,FALSE))=TRUE,\"\",VLOOKUP($A195,check!$A:$L,11,FALSE))","v":""},{"$f":"IF(ISERROR(VLOOKUP($A195,check!$A:$L,12,FALSE))=TRUE,\"\",VLOOKUP($A195,check!$A:$L,12,FALSE))","v":""}]
[{"$f":"A195+1","v":196},{"$f":"IF(C196=\"\",\"\",MATCH(A196,check!A:A,0))","v":""},{"$f":"IF(ISERROR(VLOOKUP($A196,check!$A:$L,2,FALSE))=TRUE,\"\",VLOOKUP($A196,check!$A:$L,2,FALSE))","v":""},{"$f":"IF(ISERROR(VLOOKUP($A196,check!$A:$L,3,FALSE))=TRUE,\"\",VLOOKUP($A196,check!$A:$L,3,FALSE))","v":""},{"$f":"IF(ISERROR(VLOOKUP($A196,check!$A:$L,4,FALSE))=TRUE,\"\",VLOOKUP($A196,check!$A:$L,4,FALSE))","v":""},{"$f":"IF(ISERROR(VLOOKUP($A196,check!$A:$L,5,FALSE))=TRUE,\"\",VLOOKUP($A196,check!$A:$L,5,FALSE))","v":""},{"$f":"IF(ISERROR(VLOOKUP($A196,check!$A:$L,6,FALSE))=TRUE,\"\",VLOOKUP($A196,check!$A:$L,6,FALSE))","v":""},{"$f":"IF(ISERROR(VLOOKUP($A196,check!$A:$L,7,FALSE))=TRUE,\"\",VLOOKUP($A196,check!$A:$L,7,FALSE))","v":""},{"$f":"IF(ISERROR(VLOOKUP($A196,check!$A:$L,8,FALSE))=TRUE,\"\",VLOOKUP($A196,check!$A:$L,8,FALSE))","v":""},{"$f":"IF(ISERROR(VLOOKUP($A196,check!$A:$L,9,FALSE))=TRUE,\"\",VLOOKUP($A196,check!$A:$L,9,FALSE))","v":""},{"$f":"IF(ISERROR(VLOOKUP($A196,check!$A:$L,10,FALSE))=TRUE,\"\",VLOOKUP($A196,check!$A:$L,10,FALSE))","v":""},{"$f":"IF(ISERROR(VLOOKUP($A196,check!$A:$L,11,FALSE))=TRUE,\"\",VLOOKUP($A196,check!$A:$L,11,FALSE))","v":""},{"$f":"IF(ISERROR(VLOOKUP($A196,check!$A:$L,12,FALSE))=TRUE,\"\",VLOOKUP($A196,check!$A:$L,12,FALSE))","v":""}]
[197,{"$f":"IF(C197=\"\",\"\",MATCH(A197,check!A:A,0))","v":""},{"$f":"IF(ISERROR(VLOOKUP($A197,check!$A:$L,2,FALSE))=TRUE,\"\",VLOOKUP($A197,check!$A:$L,2,FALSE))","v":""},{"$f":"IF(ISERROR(VLOOKUP($A197,check!$A:$L,3,FALSE))=TRUE,\"\",VLOOKUP($A197,check!$A:$L,3,FALSE))","v":""},{"$f":"IF(ISERROR(VLOOKUP($A197,check!$A:$L,4,FALSE))=TRUE,\"\",VLOOKUP($A197,check!$A:$L,4,FALSE))","v":""},{"$f":"IF(ISERROR(VLOOKUP($A197,check!$A:$L,5,FALSE))=TRUE,\"\",VLOOKUP($A197,check!$A:$L,5,FALSE))","v":""},{"$f":"IF(ISERROR(VLOOKUP($A197,check!$A:$L,6,FALSE))=TRUE,\"\",VLOOKUP($A197,check!$A:$L,6,FALSE))","v":""},{"$f":"IF(ISERROR(VLOOKUP($A197,check!$A:$L,7,FALSE))=TRUE,\"\",VLOOKUP($A197,check!$A:$L,7,FALSE))","v":""},{"$f":"IF(ISERROR(VLOOKUP($A197,check!$A:$L,8,FALSE))=TRUE,\"\",VLOOKUP($A197,check!$A:$L,8,FALSE))","v":""},{"$f":"IF(ISERROR(VLOOKUP($A197,check!$A:$L,9,FALSE))=TRUE,\"\",VLOOKUP($A197,check!$A:$L,9,FALSE))","v":""},{"$f":"IF(ISERROR(VLOOKUP($A197,check!$A:$L,10,FALSE))=TRUE,\"\",VLOOKUP($A197,check!$A:$L,10,FALSE))","v":""},{"$f":"IF(ISERROR(VLOOKUP($A197,check!$A:$L,11,FALSE))=TRUE,\"\",VLOOKUP($A197,check!$A:$L,11,FALSE))","v":""},{"$f":"IF(ISERROR(VLOOKUP($A197,check!$A:$L,12,FALSE))=TRUE,\"\",VLOOKUP($A197,check!$A:$L,12,FALSE))","v":""}]
[198,{"$f":"IF(C198=\"\",\"\",MATCH(A198,check!A:A,0))","v":""},{"$f":"IF(ISERROR(VLOOKUP($A198,check!$A:$L,2,FALSE))=TRUE,\"\",VLOOKUP($A198,check!$A:$L,2,FALSE))","v":""},{"$f":"IF(ISERROR(VLOOKUP($A198,check!$A:$L,3,FALSE))=TRUE,\"\",VLOOKUP($A198,check!$A:$L,3,FALSE))","v":""},{"$f":"IF(ISERROR(VLOOKUP($A198,check!$A:$L,4,FALSE))=TRUE,\"\",VLOOKUP($A198,check!$A:$L,4,FALSE))","v":""},{"$f":"IF(ISERROR(VLOOKUP($A198,check!$A:$L,5,FALSE))=TRUE,\"\",VLOOKUP($A198,check!$A:$L,5,FALSE))","v":""},{"$f":"IF(ISERROR(VLOOKUP($A198,check!$A:$L,6,FALSE))=TRUE,\"\",VLOOKUP($A198,check!$A:$L,6,FALSE))","v":""},{"$f":"IF(ISERROR(VLOOKUP($A198,check!$A:$L,7,FALSE))=TRUE,\"\",VLOOKUP($A198,check!$A:$L,7,FALSE))","v":""},{"$f":"IF(ISERROR(VLOOKUP($A198,check!$A:$L,8,FALSE))=TRUE,\"\",VLOOKUP($A198,check!$A:$L,8,FALSE))","v":""},{"$f":"IF(ISERROR(VLOOKUP($A198,check!$A:$L,9,FALSE))=TRUE,\"\",VLOOKUP($A198,check!$A:$L,9,FALSE))","v":""},{"$f":"IF(ISERROR(VLOOKUP($A198,check!$A:$L,10,FALSE))=TRUE,\"\",VLOOKUP($A198,check!$A:$L,10,FALSE))","v":""},{"$f":"IF(ISERROR(VLOOKUP($A198,check!$A:$L,11,FALSE))=TRUE,\"\",VLOOKUP($A198,check!$A:$L,11,FALSE))","v":""},{"$f":"IF(ISERROR(VLOOKUP($A198,check!$A:$L,12,FALSE))=TRUE,\"\",VLOOKUP($A198,check!$A:$L,12,FALSE))","v":""}]
[199,{"$f":"IF(C199=\"\",\"\",MATCH(A199,check!A:A,0))","v":""},{"$f":"IF(ISERROR(VLOOKUP($A199,check!$A:$L,2,FALSE))=TRUE,\"\",VLOOKUP($A199,check!$A:$L,2,FALSE))","v":""},{"$f":"IF(ISERROR(VLOOKUP($A199,check!$A:$L,3,FALSE))=TRUE,\"\",VLOOKUP($A199,check!$A:$L,3,FALSE))","v":""},{"$f":"IF(ISERROR(VLOOKUP($A199,check!$A:$L,4,FALSE))=TRUE,\"\",VLOOKUP($A199,check!$A:$L,4,FALSE))","v":""},{"$f":"IF(ISERROR(VLOOKUP($A199,check!$A:$L,5,FALSE))=TRUE,\"\",VLOOKUP($A199,check!$A:$L,5,FALSE))","v":""},{"$f":"IF(ISERROR(VLOOKUP($A199,check!$A:$L,6,FALSE))=TRUE,\"\",VLOOKUP($A199,check!$A:$L,6,FALSE))","v":""},{"$f":"IF(ISERROR(VLOOKUP($A199,check!$A:$L,7,FALSE))=TRUE,\"\",VLOOKUP($A199,check!$A:$L,7,FALSE))","v":""},{"$f":"IF(ISERROR(VLOOKUP($A199,check!$A:$L,8,FALSE))=TRUE,\"\",VLOOKUP($A199,check!$A:$L,8,FALSE))","v":""},{"$f":"IF(ISERROR(VLOOKUP($A199,check!$A:$L,9,FALSE))=TRUE,\"\",VLOOKUP($A199,check!$A:$L,9,FALSE))","v":""},{"$f":"IF(ISERROR(VLOOKUP($A199,check!$A:$L,10,FALSE))=TRUE,\"\",VLOOKUP($A199,check!$A:$L,10,FALSE))","v":""},{"$f":"IF(ISERROR(VLOOKUP($A199,check!$A:$L,11,FALSE))=TRUE,\"\",VLOOKUP($A199,check!$A:$L,11,FALSE))","v":""},{"$f":"IF(ISERROR(VLOOKUP($A199,check!$A:$L,12,FALSE))=TRUE,\"\",VLOOKUP($A199,check!$A:$L,12,FALSE))","v":""}]
[200,{"$f":"IF(C200=\"\",\"\",MATCH(A200,check!A:A,0))","v":""},{"$f":"IF(ISERROR(VLOOKUP($A200,check!$A:$L,2,FALSE))=TRUE,\"\",VLOOKUP($A200,check!$A:$L,2,FALSE))","v":""},{"$f":"IF(ISERROR(VLOOKUP($A200,check!$A:$L,3,FALSE))=TRUE,\"\",VLOOKUP($A200,check!$A:$L,3,FALSE))","v":""},{"$f":"IF(ISERROR(VLOOKUP($A200,check!$A:$L,4,FALSE))=TRUE,\"\",VLOOKUP($A200,check!$A:$L,4,FALSE))","v":""},{"$f":"IF(ISERROR(VLOOKUP($A200,check!$A:$L,5,FALSE))=TRUE,\"\",VLOOKUP($A200,check!$A:$L,5,FALSE))","v":""},{"$f":"IF(ISERROR(VLOOKUP($A200,check!$A:$L,6,FALSE))=TRUE,\"\",VLOOKUP($A200,check!$A:$L,6,FALSE))","v":""},{"$f":"IF(ISERROR(VLOOKUP($A200,check!$A:$L,7,FALSE))=TRUE,\"\",VLOOKUP($A200,check!$A:$L,7,FALSE))","v":""},{"$f":"IF(ISERROR(VLOOKUP($A200,check!$A:$L,8,FALSE))=TRUE,\"\",VLOOKUP($A200,check!$A:$L,8,FALSE))","v":""},{"$f":"IF(ISERROR(VLOOKUP($A200,check!$A:$L,9,FALSE))=TRUE,\"\",VLOOKUP($A200,check!$A:$L,9,FALSE))","v":""},{"$f":"IF(ISERROR(VLOOKUP($A200,check!$A:$L,10,FALSE))=TRUE,\"\",VLOOKUP($A200,check!$A:$L,10,FALSE))","v":""},{"$f":"IF(ISERROR(VLOOKUP($A200,check!$A:$L,11,FALSE))=TRUE,\"\",VLOOKUP($A200,check!$A:$L,11,FALSE))","v":""},{"$f":"IF(ISERROR(VLOOKUP($A200,check!$A:$L,12,FALSE))=TRUE,\"\",VLOOKUP($A200,check!$A:$L,12,FALSE))","v":""}]
[201,{"$f":"IF(C201=\"\",\"\",MATCH(A201,check!A:A,0))","v":""},{"$f":"IF(ISERROR(VLOOKUP($A201,check!$A:$L,2,FALSE))=TRUE,\"\",VLOOKUP($A201,check!$A:$L,2,FALSE))","v":""},{"$f":"IF(ISERROR(VLOOKUP($A201,check!$A:$L,3,FALSE))=TRUE,\"\",VLOOKUP($A201,check!$A:$L,3,FALSE))","v":""},{"$f":"IF(ISERROR(VLOOKUP($A201,check!$A:$L,4,FALSE))=TRUE,\"\",VLOOKUP($A201,check!$A:$L,4,FALSE))","v":""},{"$f":"IF(ISERROR(VLOOKUP($A201,check!$A:$L,5,FALSE))=TRUE,\"\",VLOOKUP($A201,check!$A:$L,5,FALSE))","v":""},{"$f":"IF(ISERROR(VLOOKUP($A201,check!$A:$L,6,FALSE))=TRUE,\"\",VLOOKUP($A201,check!$A:$L,6,FALSE))","v":""},{"$f":"IF(ISERROR(VLOOKUP($A201,check!$A:$L,7,FALSE))=TRUE,\"\",VLOOKUP($A201,check!$A:$L,7,FALSE))","v":""},{"$f":"IF(ISERROR(VLOOKUP($A201,check!$A:$L,8,FALSE))=TRUE,\"\",VLOOKUP($A201,check!$A:$L,8,FALSE))","v":""},{"$f":"IF(ISERROR(VLOOKUP($A201,check!$A:$L,9,FALSE))=TRUE,\"\",VLOOKUP($A201,check!$A:$L,9,FALSE))","v":""},{"$f":"IF(ISERROR(VLOOKUP($A201,check!$A:$L,10,FALSE))=TRUE,\"\",VLOOKUP($A201,check!$A:$L,10,FALSE))","v":""},{"$f":"IF(ISERROR(VLOOKUP($A201,check!$A:$L,11,FALSE))=TRUE,\"\",VLOOKUP($A201,check!$A:$L,11,FALSE))","v":""},{"$f":"IF(ISERROR(VLOOKUP($A201,check!$A:$L,12,FALSE))=TRUE,\"\",VLOOKUP($A201,check!$A:$L,12,FALSE))","v":""}]
[202,{"$f":"IF(C202=\"\",\"\",MATCH(A202,check!A:A,0))","v":""},{"$f":"IF(ISERROR(VLOOKUP($A202,check!$A:$L,2,FALSE))=TRUE,\"\",VLOOKUP($A202,check!$A:$L,2,FALSE))","v":""},{"$f":"IF(ISERROR(VLOOKUP($A202,check!$A:$L,3,FALSE))=TRUE,\"\",VLOOKUP($A202,check!$A:$L,3,FALSE))","v":""},{"$f":"IF(ISERROR(VLOOKUP($A202,check!$A:$L,4,FALSE))=TRUE,\"\",VLOOKUP($A202,check!$A:$L,4,FALSE))","v":""},{"$f":"IF(ISERROR(VLOOKUP($A202,check!$A:$L,5,FALSE))=TRUE,\"\",VLOOKUP($A202,check!$A:$L,5,FALSE))","v":""},{"$f":"IF(ISERROR(VLOOKUP($A202,check!$A:$L,6,FALSE))=TRUE,\"\",VLOOKUP($A202,check!$A:$L,6,FALSE))","v":""},{"$f":"IF(ISERROR(VLOOKUP($A202,check!$A:$L,7,FALSE))=TRUE,\"\",VLOOKUP($A202,check!$A:$L,7,FALSE))","v":""},{"$f":"IF(ISERROR(VLOOKUP($A202,check!$A:$L,8,FALSE))=TRUE,\"\",VLOOKUP($A202,check!$A:$L,8,FALSE))","v":""},{"$f":"IF(ISERROR(VLOOKUP($A202,check!$A:$L,9,FALSE))=TRUE,\"\",VLOOKUP($A202,check!$A:$L,9,FALSE))","v":""},{"$f":"IF(ISERROR(VLOOKUP($A202,check!$A:$L,10,FALSE))=TRUE,\"\",VLOOKUP($A202,check!$A:$L,10,FALSE))","v":""},{"$f":"IF(ISERROR(VLOOKUP($A202,check!$A:$L,11,FALSE))=TRUE,\"\",VLOOKUP($A202,check!$A:$L,11,FALSE))","v":""},{"$f":"IF(ISERROR(VLOOKUP($A202,check!$A:$L,12,FALSE))=TRUE,\"\",VLOOKUP($A202,check!$A:$L,12,FALSE))","v":""}]
[203,{"$f":"IF(C203=\"\",\"\",MATCH(A203,check!A:A,0))","v":""},{"$f":"IF(ISERROR(VLOOKUP($A203,check!$A:$L,2,FALSE))=TRUE,\"\",VLOOKUP($A203,check!$A:$L,2,FALSE))","v":""},{"$f":"IF(ISERROR(VLOOKUP($A203,check!$A:$L,3,FALSE))=TRUE,\"\",VLOOKUP($A203,check!$A:$L,3,FALSE))","v":""},{"$f":"IF(ISERROR(VLOOKUP($A203,check!$A:$L,4,FALSE))=TRUE,\"\",VLOOKUP($A203,check!$A:$L,4,FALSE))","v":""},{"$f":"IF(ISERROR(VLOOKUP($A203,check!$A:$L,5,FALSE))=TRUE,\"\",VLOOKUP($A203,check!$A:$L,5,FALSE))","v":""},{"$f":"IF(ISERROR(VLOOKUP($A203,check!$A:$L,6,FALSE))=TRUE,\"\",VLOOKUP($A203,check!$A:$L,6,FALSE))","v":""},{"$f":"IF(ISERROR(VLOOKUP($A203,check!$A:$L,7,FALSE))=TRUE,\"\",VLOOKUP($A203,check!$A:$L,7,FALSE))","v":""},{"$f":"IF(ISERROR(VLOOKUP($A203,check!$A:$L,8,FALSE))=TRUE,\"\",VLOOKUP($A203,check!$A:$L,8,FALSE))","v":""},{"$f":"IF(ISERROR(VLOOKUP($A203,check!$A:$L,9,FALSE))=TRUE,\"\",VLOOKUP($A203,check!$A:$L,9,FALSE))","v":""},{"$f":"IF(ISERROR(VLOOKUP($A203,check!$A:$L,10,FALSE))=TRUE,\"\",VLOOKUP($A203,check!$A:$L,10,FALSE))","v":""},{"$f":"IF(ISERROR(VLOOKUP($A203,check!$A:$L,11,FALSE))=TRUE,\"\",VLOOKUP($A203,check!$A:$L,11,FALSE))","v":""},{"$f":"IF(ISERROR(VLOOKUP($A203,check!$A:$L,12,FALSE))=TRUE,\"\",VLOOKUP($A203,check!$A:$L,12,FALSE))","v":""}]
[204,{"$f":"IF(C204=\"\",\"\",MATCH(A204,check!A:A,0))","v":""},{"$f":"IF(ISERROR(VLOOKUP($A204,check!$A:$L,2,FALSE))=TRUE,\"\",VLOOKUP($A204,check!$A:$L,2,FALSE))","v":""},{"$f":"IF(ISERROR(VLOOKUP($A204,check!$A:$L,3,FALSE))=TRUE,\"\",VLOOKUP($A204,check!$A:$L,3,FALSE))","v":""},{"$f":"IF(ISERROR(VLOOKUP($A204,check!$A:$L,4,FALSE))=TRUE,\"\",VLOOKUP($A204,check!$A:$L,4,FALSE))","v":""},{"$f":"IF(ISERROR(VLOOKUP($A204,check!$A:$L,5,FALSE))=TRUE,\"\",VLOOKUP($A204,check!$A:$L,5,FALSE))","v":""},{"$f":"IF(ISERROR(VLOOKUP($A204,check!$A:$L,6,FALSE))=TRUE,\"\",VLOOKUP($A204,check!$A:$L,6,FALSE))","v":""},{"$f":"IF(ISERROR(VLOOKUP($A204,check!$A:$L,7,FALSE))=TRUE,\"\",VLOOKUP($A204,check!$A:$L,7,FALSE))","v":""},{"$f":"IF(ISERROR(VLOOKUP($A204,check!$A:$L,8,FALSE))=TRUE,\"\",VLOOKUP($A204,check!$A:$L,8,FALSE))","v":""},{"$f":"IF(ISERROR(VLOOKUP($A204,check!$A:$L,9,FALSE))=TRUE,\"\",VLOOKUP($A204,check!$A:$L,9,FALSE))","v":""},{"$f":"IF(ISERROR(VLOOKUP($A204,check!$A:$L,10,FALSE))=TRUE,\"\",VLOOKUP($A204,check!$A:$L,10,FALSE))","v":""},{"$f":"IF(ISERROR(VLOOKUP($A204,check!$A:$L,11,FALSE))=TRUE,\"\",VLOOKUP($A204,check!$A:$L,11,FALSE))","v":""},{"$f":"IF(ISERROR(VLOOKUP($A204,check!$A:$L,12,FALSE))=TRUE,\"\",VLOOKUP($A204,check!$A:$L,12,FALSE))","v":""}]
[205,{"$f":"IF(C205=\"\",\"\",MATCH(A205,check!A:A,0))","v":""},{"$f":"IF(ISERROR(VLOOKUP($A205,check!$A:$L,2,FALSE))=TRUE,\"\",VLOOKUP($A205,check!$A:$L,2,FALSE))","v":""},{"$f":"IF(ISERROR(VLOOKUP($A205,check!$A:$L,3,FALSE))=TRUE,\"\",VLOOKUP($A205,check!$A:$L,3,FALSE))","v":""},{"$f":"IF(ISERROR(VLOOKUP($A205,check!$A:$L,4,FALSE))=TRUE,\"\",VLOOKUP($A205,check!$A:$L,4,FALSE))","v":""},{"$f":"IF(ISERROR(VLOOKUP($A205,check!$A:$L,5,FALSE))=TRUE,\"\",VLOOKUP($A205,check!$A:$L,5,FALSE))","v":""},{"$f":"IF(ISERROR(VLOOKUP($A205,check!$A:$L,6,FALSE))=TRUE,\"\",VLOOKUP($A205,check!$A:$L,6,FALSE))","v":""},{"$f":"IF(ISERROR(VLOOKUP($A205,check!$A:$L,7,FALSE))=TRUE,\"\",VLOOKUP($A205,check!$A:$L,7,FALSE))","v":""},{"$f":"IF(ISERROR(VLOOKUP($A205,check!$A:$L,8,FALSE))=TRUE,\"\",VLOOKUP($A205,check!$A:$L,8,FALSE))","v":""},{"$f":"IF(ISERROR(VLOOKUP($A205,check!$A:$L,9,FALSE))=TRUE,\"\",VLOOKUP($A205,check!$A:$L,9,FALSE))","v":""},{"$f":"IF(ISERROR(VLOOKUP($A205,check!$A:$L,10,FALSE))=TRUE,\"\",VLOOKUP($A205,check!$A:$L,10,FALSE))","v":""},{"$f":"IF(ISERROR(VLOOKUP($A205,check!$A:$L,11,FALSE))=TRUE,\"\",VLOOKUP($A205,check!$A:$L,11,FALSE))","v":""},{"$f":"IF(ISERROR(VLOOKUP($A205,check!$A:$L,12,FALSE))=TRUE,\"\",VLOOKUP($A205,check!$A:$L,12,FALSE))","v":""}]
[206,{"$f":"IF(C206=\"\",\"\",MATCH(A206,check!A:A,0))","v":""},{"$f":"IF(ISERROR(VLOOKUP($A206,check!$A:$L,2,FALSE))=TRUE,\"\",VLOOKUP($A206,check!$A:$L,2,FALSE))","v":""},{"$f":"IF(ISERROR(VLOOKUP($A206,check!$A:$L,3,FALSE))=TRUE,\"\",VLOOKUP($A206,check!$A:$L,3,FALSE))","v":""},{"$f":"IF(ISERROR(VLOOKUP($A206,check!$A:$L,4,FALSE))=TRUE,\"\",VLOOKUP($A206,check!$A:$L,4,FALSE))","v":""},{"$f":"IF(ISERROR(VLOOKUP($A206,check!$A:$L,5,FALSE))=TRUE,\"\",VLOOKUP($A206,check!$A:$L,5,FALSE))","v":""},{"$f":"IF(ISERROR(VLOOKUP($A206,check!$A:$L,6,FALSE))=TRUE,\"\",VLOOKUP($A206,check!$A:$L,6,FALSE))","v":""},{"$f":"IF(ISERROR(VLOOKUP($A206,check!$A:$L,7,FALSE))=TRUE,\"\",VLOOKUP($A206,check!$A:$L,7,FALSE))","v":""},{"$f":"IF(ISERROR(VLOOKUP($A206,check!$A:$L,8,FALSE))=TRUE,\"\",VLOOKUP($A206,check!$A:$L,8,FALSE))","v":""},{"$f":"IF(ISERROR(VLOOKUP($A206,check!$A:$L,9,FALSE))=TRUE,\"\",VLOOKUP($A206,check!$A:$L,9,FALSE))","v":""},{"$f":"IF(ISERROR(VLOOKUP($A206,check!$A:$L,10,FALSE))=TRUE,\"\",VLOOKUP($A206,check!$A:$L,10,FALSE))","v":""},{"$f":"IF(ISERROR(VLOOKUP($A206,check!$A:$L,11,FALSE))=TRUE,\"\",VLOOKUP($A206,check!$A:$L,11,FALSE))","v":""},{"$f":"IF(ISERROR(VLOOKUP($A206,check!$A:$L,12,FALSE))=TRUE,\"\",VLOOKUP($A206,check!$A:$L,12,FALSE))","v":""}]
[207,{"$f":"IF(C207=\"\",\"\",MATCH(A207,check!A:A,0))","v":""},{"$f":"IF(ISERROR(VLOOKUP($A207,check!$A:$L,2,FALSE))=TRUE,\"\",VLOOKUP($A207,check!$A:$L,2,FALSE))","v":""},{"$f":"IF(ISERROR(VLOOKUP($A207,check!$A:$L,3,FALSE))=TRUE,\"\",VLOOKUP($A207,check!$A:$L,3,FALSE))","v":""},{"$f":"IF(ISERROR(VLOOKUP($A207,check!$A:$L,4,FALSE))=TRUE,\"\",VLOOKUP($A207,check!$A:$L,4,FALSE))","v":""},{"$f":"IF(ISERROR(VLOOKUP($A207,check!$A:$L,5,FALSE))=TRUE,\"\",VLOOKUP($A207,check!$A:$L,5,FALSE))","v":""},{"$f":"IF(ISERROR(VLOOKUP($A207,check!$A:$L,6,FALSE))=TRUE,\"\",VLOOKUP($A207,check!$A:$L,6,FALSE))","v":""},{"$f":"IF(ISERROR(VLOOKUP($A207,check!$A:$L,7,FALSE))=TRUE,\"\",VLOOKUP($A207,check!$A:$L,7,FALSE))","v":""},{"$f":"IF(ISERROR(VLOOKUP($A207,check!$A:$L,8,FALSE))=TRUE,\"\",VLOOKUP($A207,check!$A:$L,8,FALSE))","v":""},{"$f":"IF(ISERROR(VLOOKUP($A207,check!$A:$L,9,FALSE))=TRUE,\"\",VLOOKUP($A207,check!$A:$L,9,FALSE))","v":""},{"$f":"IF(ISERROR(VLOOKUP($A207,check!$A:$L,10,FALSE))=TRUE,\"\",VLOOKUP($A207,check!$A:$L,10,FALSE))","v":""},{"$f":"IF(ISERROR(VLOOKUP($A207,check!$A:$L,11,FALSE))=TRUE,\"\",VLOOKUP($A207,check!$A:$L,11,FALSE))","v":""},{"$f":"IF(ISERROR(VLOOKUP($A207,check!$A:$L,12,FALSE))=TRUE,\"\",VLOOKUP($A207,check!$A:$L,12,FALSE))","v":""}]
[208,{"$f":"IF(C208=\"\",\"\",MATCH(A208,check!A:A,0))","v":""},{"$f":"IF(ISERROR(VLOOKUP($A208,check!$A:$L,2,FALSE))=TRUE,\"\",VLOOKUP($A208,check!$A:$L,2,FALSE))","v":""},{"$f":"IF(ISERROR(VLOOKUP($A208,check!$A:$L,3,FALSE))=TRUE,\"\",VLOOKUP($A208,check!$A:$L,3,FALSE))","v":""},{"$f":"IF(ISERROR(VLOOKUP($A208,check!$A:$L,4,FALSE))=TRUE,\"\",VLOOKUP($A208,check!$A:$L,4,FALSE))","v":""},{"$f":"IF(ISERROR(VLOOKUP($A208,check!$A:$L,5,FALSE))=TRUE,\"\",VLOOKUP($A208,check!$A:$L,5,FALSE))","v":""},{"$f":"IF(ISERROR(VLOOKUP($A208,check!$A:$L,6,FALSE))=TRUE,\"\",VLOOKUP($A208,check!$A:$L,6,FALSE))","v":""},{"$f":"IF(ISERROR(VLOOKUP($A208,check!$A:$L,7,FALSE))=TRUE,\"\",VLOOKUP($A208,check!$A:$L,7,FALSE))","v":""},{"$f":"IF(ISERROR(VLOOKUP($A208,check!$A:$L,8,FALSE))=TRUE,\"\",VLOOKUP($A208,check!$A:$L,8,FALSE))","v":""},{"$f":"IF(ISERROR(VLOOKUP($A208,check!$A:$L,9,FALSE))=TRUE,\"\",VLOOKUP($A208,check!$A:$L,9,FALSE))","v":""},{"$f":"IF(ISERROR(VLOOKUP($A208,check!$A:$L,10,FALSE))=TRUE,\"\",VLOOKUP($A208,check!$A:$L,10,FALSE))","v":""},{"$f":"IF(ISERROR(VLOOKUP($A208,check!$A:$L,11,FALSE))=TRUE,\"\",VLOOKUP($A208,check!$A:$L,11,FALSE))","v":""},{"$f":"IF(ISERROR(VLOOKUP($A208,check!$A:$L,12,FALSE))=TRUE,\"\",VLOOKUP($A208,check!$A:$L,12,FALSE))","v":""}]
[209,{"$f":"IF(C209=\"\",\"\",MATCH(A209,check!A:A,0))","v":""},{"$f":"IF(ISERROR(VLOOKUP($A209,check!$A:$L,2,FALSE))=TRUE,\"\",VLOOKUP($A209,check!$A:$L,2,FALSE))","v":""},{"$f":"IF(ISERROR(VLOOKUP($A209,check!$A:$L,3,FALSE))=TRUE,\"\",VLOOKUP($A209,check!$A:$L,3,FALSE))","v":""},{"$f":"IF(ISERROR(VLOOKUP($A209,check!$A:$L,4,FALSE))=TRUE,\"\",VLOOKUP($A209,check!$A:$L,4,FALSE))","v":""},{"$f":"IF(ISERROR(VLOOKUP($A209,check!$A:$L,5,FALSE))=TRUE,\"\",VLOOKUP($A209,check!$A:$L,5,FALSE))","v":""},{"$f":"IF(ISERROR(VLOOKUP($A209,check!$A:$L,6,FALSE))=TRUE,\"\",VLOOKUP($A209,check!$A:$L,6,FALSE))","v":""},{"$f":"IF(ISERROR(VLOOKUP($A209,check!$A:$L,7,FALSE))=TRUE,\"\",VLOOKUP($A209,check!$A:$L,7,FALSE))","v":""},{"$f":"IF(ISERROR(VLOOKUP($A209,check!$A:$L,8,FALSE))=TRUE,\"\",VLOOKUP($A209,check!$A:$L,8,FALSE))","v":""},{"$f":"IF(ISERROR(VLOOKUP($A209,check!$A:$L,9,FALSE))=TRUE,\"\",VLOOKUP($A209,check!$A:$L,9,FALSE))","v":""},{"$f":"IF(ISERROR(VLOOKUP($A209,check!$A:$L,10,FALSE))=TRUE,\"\",VLOOKUP($A209,check!$A:$L,10,FALSE))","v":""},{"$f":"IF(ISERROR(VLOOKUP($A209,check!$A:$L,11,FALSE))=TRUE,\"\",VLOOKUP($A209,check!$A:$L,11,FALSE))","v":""},{"$f":"IF(ISERROR(VLOOKUP($A209,check!$A:$L,12,FALSE))=TRUE,\"\",VLOOKUP($A209,check!$A:$L,12,FALSE))","v":""}]
[210,{"$f":"IF(C210=\"\",\"\",MATCH(A210,check!A:A,0))","v":""},{"$f":"IF(ISERROR(VLOOKUP($A210,check!$A:$L,2,FALSE))=TRUE,\"\",VLOOKUP($A210,check!$A:$L,2,FALSE))","v":""},{"$f":"IF(ISERROR(VLOOKUP($A210,check!$A:$L,3,FALSE))=TRUE,\"\",VLOOKUP($A210,check!$A:$L,3,FALSE))","v":""},{"$f":"IF(ISERROR(VLOOKUP($A210,check!$A:$L,4,FALSE))=TRUE,\"\",VLOOKUP($A210,check!$A:$L,4,FALSE))","v":""},{"$f":"IF(ISERROR(VLOOKUP($A210,check!$A:$L,5,FALSE))=TRUE,\"\",VLOOKUP($A210,check!$A:$L,5,FALSE))","v":""},{"$f":"IF(ISERROR(VLOOKUP($A210,check!$A:$L,6,FALSE))=TRUE,\"\",VLOOKUP($A210,check!$A:$L,6,FALSE))","v":""},{"$f":"IF(ISERROR(VLOOKUP($A210,check!$A:$L,7,FALSE))=TRUE,\"\",VLOOKUP($A210,check!$A:$L,7,FALSE))","v":""},{"$f":"IF(ISERROR(VLOOKUP($A210,check!$A:$L,8,FALSE))=TRUE,\"\",VLOOKUP($A210,check!$A:$L,8,FALSE))","v":""},{"$f":"IF(ISERROR(VLOOKUP($A210,check!$A:$L,9,FALSE))=TRUE,\"\",VLOOKUP($A210,check!$A:$L,9,FALSE))","v":""},{"$f":"IF(ISERROR(VLOOKUP($A210,check!$A:$L,10,FALSE))=TRUE,\"\",VLOOKUP($A210,check!$A:$L,10,FALSE))","v":""},{"$f":"IF(ISERROR(VLOOKUP($A210,check!$A:$L,11,FALSE))=TRUE,\"\",VLOOKUP($A210,check!$A:$L,11,FALSE))","v":""},{"$f":"IF(ISERROR(VLOOKUP($A210,check!$A:$L,12,FALSE))=TRUE,\"\",VLOOKUP($A210,check!$A:$L,12,FALSE))","v":""}]
[211,{"$f":"IF(C211=\"\",\"\",MATCH(A211,check!A:A,0))","v":""},{"$f":"IF(ISERROR(VLOOKUP($A211,check!$A:$L,2,FALSE))=TRUE,\"\",VLOOKUP($A211,check!$A:$L,2,FALSE))","v":""},{"$f":"IF(ISERROR(VLOOKUP($A211,check!$A:$L,3,FALSE))=TRUE,\"\",VLOOKUP($A211,check!$A:$L,3,FALSE))","v":""},{"$f":"IF(ISERROR(VLOOKUP($A211,check!$A:$L,4,FALSE))=TRUE,\"\",VLOOKUP($A211,check!$A:$L,4,FALSE))","v":""},{"$f":"IF(ISERROR(VLOOKUP($A211,check!$A:$L,5,FALSE))=TRUE,\"\",VLOOKUP($A211,check!$A:$L,5,FALSE))","v":""},{"$f":"IF(ISERROR(VLOOKUP($A211,check!$A:$L,6,FALSE))=TRUE,\"\",VLOOKUP($A211,check!$A:$L,6,FALSE))","v":""},{"$f":"IF(ISERROR(VLOOKUP($A211,check!$A:$L,7,FALSE))=TRUE,\"\",VLOOKUP($A211,check!$A:$L,7,FALSE))","v":""},{"$f":"IF(ISERROR(VLOOKUP($A211,check!$A:$L,8,FALSE))=TRUE,\"\",VLOOKUP($A211,check!$A:$L,8,FALSE))","v":""},{"$f":"IF(ISERROR(VLOOKUP($A211,check!$A:$L,9,FALSE))=TRUE,\"\",VLOOKUP($A211,check!$A:$L,9,FALSE))","v":""},{"$f":"IF(ISERROR(VLOOKUP($A211,check!$A:$L,10,FALSE))=TRUE,\"\",VLOOKUP($A211,check!$A:$L,10,FALSE))","v":""},{"$f":"IF(ISERROR(VLOOKUP($A211,check!$A:$L,11,FALSE))=TRUE,\"\",VLOOKUP($A211,check!$A:$L,11,FALSE))","v":""},{"$f":"IF(ISERROR(VLOOKUP($A211,check!$A:$L,12,FALSE))=TRUE,\"\",VLOOKUP($A211,check!$A:$L,12,FALSE))","v":""}]
[212,{"$f":"IF(C212=\"\",\"\",MATCH(A212,check!A:A,0))","v":""},{"$f":"IF(ISERROR(VLOOKUP($A212,check!$A:$L,2,FALSE))=TRUE,\"\",VLOOKUP($A212,check!$A:$L,2,FALSE))","v":""},{"$f":"IF(ISERROR(VLOOKUP($A212,check!$A:$L,3,FALSE))=TRUE,\"\",VLOOKUP($A212,check!$A:$L,3,FALSE))","v":""},{"$f":"IF(ISERROR(VLOOKUP($A212,check!$A:$L,4,FALSE))=TRUE,\"\",VLOOKUP($A212,check!$A:$L,4,FALSE))","v":""},{"$f":"IF(ISERROR(VLOOKUP($A212,check!$A:$L,5,FALSE))=TRUE,\"\",VLOOKUP($A212,check!$A:$L,5,FALSE))","v":""},{"$f":"IF(ISERROR(VLOOKUP($A212,check!$A:$L,6,FALSE))=TRUE,\"\",VLOOKUP($A212,check!$A:$L,6,FALSE))","v":""},{"$f":"IF(ISERROR(VLOOKUP($A212,check!$A:$L,7,FALSE))=TRUE,\"\",VLOOKUP($A212,check!$A:$L,7,FALSE))","v":""},{"$f":"IF(ISERROR(VLOOKUP($A212,check!$A:$L,8,FALSE))=TRUE,\"\",VLOOKUP($A212,check!$A:$L,8,FALSE))","v":""},{"$f":"IF(ISERROR(VLOOKUP($A212,check!$A:$L,9,FALSE))=TRUE,\"\",VLOOKUP($A212,check!$A:$L,9,FALSE))","v":""},{"$f":"IF(ISERROR(VLOOKUP($A212,check!$A:$L,10,FALSE))=TRUE,\"\",VLOOKUP($A212,check!$A:$L,10,FALSE))","v":""},{"$f":"IF(ISERROR(VLOOKUP($A212,check!$A:$L,11,FALSE))=TRUE,\"\",VLOOKUP($A212,check!$A:$L,11,FALSE))","v":""},{"$f":"IF(ISERROR(VLOOKUP($A212,check!$A:$L,12,FALSE))=TRUE,\"\",VLOOKUP($A212,check!$A:$L,12,FALSE))","v":""}]
[213,{"$f":"IF(C213=\"\",\"\",MATCH(A213,check!A:A,0))","v":""},{"$f":"IF(ISERROR(VLOOKUP($A213,check!$A:$L,2,FALSE))=TRUE,\"\",VLOOKUP($A213,check!$A:$L,2,FALSE))","v":""},{"$f":"IF(ISERROR(VLOOKUP($A213,check!$A:$L,3,FALSE))=TRUE,\"\",VLOOKUP($A213,check!$A:$L,3,FALSE))","v":""},{"$f":"IF(ISERROR(VLOOKUP($A213,check!$A:$L,4,FALSE))=TRUE,\"\",VLOOKUP($A213,check!$A:$L,4,FALSE))","v":""},{"$f":"IF(ISERROR(VLOOKUP($A213,check!$A:$L,5,FALSE))=TRUE,\"\",VLOOKUP($A213,check!$A:$L,5,FALSE))","v":""},{"$f":"IF(ISERROR(VLOOKUP($A213,check!$A:$L,6,FALSE))=TRUE,\"\",VLOOKUP($A213,check!$A:$L,6,FALSE))","v":""},{"$f":"IF(ISERROR(VLOOKUP($A213,check!$A:$L,7,FALSE))=TRUE,\"\",VLOOKUP($A213,check!$A:$L,7,FALSE))","v":""},{"$f":"IF(ISERROR(VLOOKUP($A213,check!$A:$L,8,FALSE))=TRUE,\"\",VLOOKUP($A213,check!$A:$L,8,FALSE))","v":""},{"$f":"IF(ISERROR(VLOOKUP($A213,check!$A:$L,9,FALSE))=TRUE,\"\",VLOOKUP($A213,check!$A:$L,9,FALSE))","v":""},{"$f":"IF(ISERROR(VLOOKUP($A213,check!$A:$L,10,FALSE))=TRUE,\"\",VLOOKUP($A213,check!$A:$L,10,FALSE))","v":""},{"$f":"IF(ISERROR(VLOOKUP($A213,check!$A:$L,11,FALSE))=TRUE,\"\",VLOOKUP($A213,check!$A:$L,11,FALSE))","v":""},{"$f":"IF(ISERROR(VLOOKUP($A213,check!$A:$L,12,FALSE))=TRUE,\"\",VLOOKUP($A213,check!$A:$L,12,FALSE))","v":""}]
[214,{"$f":"IF(C214=\"\",\"\",MATCH(A214,check!A:A,0))","v":""},{"$f":"IF(ISERROR(VLOOKUP($A214,check!$A:$L,2,FALSE))=TRUE,\"\",VLOOKUP($A214,check!$A:$L,2,FALSE))","v":""},{"$f":"IF(ISERROR(VLOOKUP($A214,check!$A:$L,3,FALSE))=TRUE,\"\",VLOOKUP($A214,check!$A:$L,3,FALSE))","v":""},{"$f":"IF(ISERROR(VLOOKUP($A214,check!$A:$L,4,FALSE))=TRUE,\"\",VLOOKUP($A214,check!$A:$L,4,FALSE))","v":""},{"$f":"IF(ISERROR(VLOOKUP($A214,check!$A:$L,5,FALSE))=TRUE,\"\",VLOOKUP($A214,check!$A:$L,5,FALSE))","v":""},{"$f":"IF(ISERROR(VLOOKUP($A214,check!$A:$L,6,FALSE))=TRUE,\"\",VLOOKUP($A214,check!$A:$L,6,FALSE))","v":""},{"$f":"IF(ISERROR(VLOOKUP($A214,check!$A:$L,7,FALSE))=TRUE,\"\",VLOOKUP($A214,check!$A:$L,7,FALSE))","v":""},{"$f":"IF(ISERROR(VLOOKUP($A214,check!$A:$L,8,FALSE))=TRUE,\"\",VLOOKUP($A214,check!$A:$L,8,FALSE))","v":""},{"$f":"IF(ISERROR(VLOOKUP($A214,check!$A:$L,9,FALSE))=TRUE,\"\",VLOOKUP($A214,check!$A:$L,9,FALSE))","v":""},{"$f":"IF(ISERROR(VLOOKUP($A214,check!$A:$L,10,FALSE))=TRUE,\"\",VLOOKUP($A214,check!$A:$L,10,FALSE))","v":""},{"$f":"IF(ISERROR(VLOOKUP($A214,check!$A:$L,11,FALSE))=TRUE,\"\",VLOOKUP($A214,check!$A:$L,11,FALSE))","v":""},{"$f":"IF(ISERROR(VLOOKUP($A214,check!$A:$L,12,FALSE))=TRUE,\"\",VLOOKUP($A214,check!$A:$L,12,FALSE))","v":""}]
[215,{"$f":"IF(C215=\"\",\"\",MATCH(A215,check!A:A,0))","v":""},{"$f":"IF(ISERROR(VLOOKUP($A215,check!$A:$L,2,FALSE))=TRUE,\"\",VLOOKUP($A215,check!$A:$L,2,FALSE))","v":""},{"$f":"IF(ISERROR(VLOOKUP($A215,check!$A:$L,3,FALSE))=TRUE,\"\",VLOOKUP($A215,check!$A:$L,3,FALSE))","v":""},{"$f":"IF(ISERROR(VLOOKUP($A215,check!$A:$L,4,FALSE))=TRUE,\"\",VLOOKUP($A215,check!$A:$L,4,FALSE))","v":""},{"$f":"IF(ISERROR(VLOOKUP($A215,check!$A:$L,5,FALSE))=TRUE,\"\",VLOOKUP($A215,check!$A:$L,5,FALSE))","v":""},{"$f":"IF(ISERROR(VLOOKUP($A215,check!$A:$L,6,FALSE))=TRUE,\"\",VLOOKUP($A215,check!$A:$L,6,FALSE))","v":""},{"$f":"IF(ISERROR(VLOOKUP($A215,check!$A:$L,7,FALSE))=TRUE,\"\",VLOOKUP($A215,check!$A:$L,7,FALSE))","v":""},{"$f":"IF(ISERROR(VLOOKUP($A215,check!$A:$L,8,FALSE))=TRUE,\"\",VLOOKUP($A215,check!$A:$L,8,FALSE))","v":""},{"$f":"IF(ISERROR(VLOOKUP($A215,check!$A:$L,9,FALSE))=TRUE,\"\",VLOOKUP($A215,check!$A:$L,9,FALSE))","v":""},{"$f":"IF(ISERROR(VLOOKUP($A215,check!$A:$L,10,FALSE))=TRUE,\"\",VLOOKUP($A215,check!$A:$L,10,FALSE))","v":""},{"$f":"IF(ISERROR(VLOOKUP($A215,check!$A:$L,11,FALSE))=TRUE,\"\",VLOOKUP($A215,check!$A:$L,11,FALSE))","v":""},{"$f":"IF(ISERROR(VLOOKUP($A215,check!$A:$L,12,FALSE))=TRUE,\"\",VLOOKUP($A215,check!$A:$L,12,FALSE))","v":""}]
[216,{"$f":"IF(C216=\"\",\"\",MATCH(A216,check!A:A,0))","v":""},{"$f":"IF(ISERROR(VLOOKUP($A216,check!$A:$L,2,FALSE))=TRUE,\"\",VLOOKUP($A216,check!$A:$L,2,FALSE))","v":""},{"$f":"IF(ISERROR(VLOOKUP($A216,check!$A:$L,3,FALSE))=TRUE,\"\",VLOOKUP($A216,check!$A:$L,3,FALSE))","v":""},{"$f":"IF(ISERROR(VLOOKUP($A216,check!$A:$L,4,FALSE))=TRUE,\"\",VLOOKUP($A216,check!$A:$L,4,FALSE))","v":""},{"$f":"IF(ISERROR(VLOOKUP($A216,check!$A:$L,5,FALSE))=TRUE,\"\",VLOOKUP($A216,check!$A:$L,5,FALSE))","v":""},{"$f":"IF(ISERROR(VLOOKUP($A216,check!$A:$L,6,FALSE))=TRUE,\"\",VLOOKUP($A216,check!$A:$L,6,FALSE))","v":""},{"$f":"IF(ISERROR(VLOOKUP($A216,check!$A:$L,7,FALSE))=TRUE,\"\",VLOOKUP($A216,check!$A:$L,7,FALSE))","v":""},{"$f":"IF(ISERROR(VLOOKUP($A216,check!$A:$L,8,FALSE))=TRUE,\"\",VLOOKUP($A216,check!$A:$L,8,FALSE))","v":""},{"$f":"IF(ISERROR(VLOOKUP($A216,check!$A:$L,9,FALSE))=TRUE,\"\",VLOOKUP($A216,check!$A:$L,9,FALSE))","v":""},{"$f":"IF(ISERROR(VLOOKUP($A216,check!$A:$L,10,FALSE))=TRUE,\"\",VLOOKUP($A216,check!$A:$L,10,FALSE))","v":""},{"$f":"IF(ISERROR(VLOOKUP($A216,check!$A:$L,11,FALSE))=TRUE,\"\",VLOOKUP($A216,check!$A:$L,11,FALSE))","v":""},{"$f":"IF(ISERROR(VLOOKUP($A216,check!$A:$L,12,FALSE))=TRUE,\"\",VLOOKUP($A216,check!$A:$L,12,FALSE))","v":""}]
[217,{"$f":"IF(C217=\"\",\"\",MATCH(A217,check!A:A,0))","v":""},{"$f":"IF(ISERROR(VLOOKUP($A217,check!$A:$L,2,FALSE))=TRUE,\"\",VLOOKUP($A217,check!$A:$L,2,FALSE))","v":""},{"$f":"IF(ISERROR(VLOOKUP($A217,check!$A:$L,3,FALSE))=TRUE,\"\",VLOOKUP($A217,check!$A:$L,3,FALSE))","v":""},{"$f":"IF(ISERROR(VLOOKUP($A217,check!$A:$L,4,FALSE))=TRUE,\"\",VLOOKUP($A217,check!$A:$L,4,FALSE))","v":""},{"$f":"IF(ISERROR(VLOOKUP($A217,check!$A:$L,5,FALSE))=TRUE,\"\",VLOOKUP($A217,check!$A:$L,5,FALSE))","v":""},{"$f":"IF(ISERROR(VLOOKUP($A217,check!$A:$L,6,FALSE))=TRUE,\"\",VLOOKUP($A217,check!$A:$L,6,FALSE))","v":""},{"$f":"IF(ISERROR(VLOOKUP($A217,check!$A:$L,7,FALSE))=TRUE,\"\",VLOOKUP($A217,check!$A:$L,7,FALSE))","v":""},{"$f":"IF(ISERROR(VLOOKUP($A217,check!$A:$L,8,FALSE))=TRUE,\"\",VLOOKUP($A217,check!$A:$L,8,FALSE))","v":""},{"$f":"IF(ISERROR(VLOOKUP($A217,check!$A:$L,9,FALSE))=TRUE,\"\",VLOOKUP($A217,check!$A:$L,9,FALSE))","v":""},{"$f":"IF(ISERROR(VLOOKUP($A217,check!$A:$L,10,FALSE))=TRUE,\"\",VLOOKUP($A217,check!$A:$L,10,FALSE))","v":""},{"$f":"IF(ISERROR(VLOOKUP($A217,check!$A:$L,11,FALSE))=TRUE,\"\",VLOOKUP($A217,check!$A:$L,11,FALSE))","v":""},{"$f":"IF(ISERROR(VLOOKUP($A217,check!$A:$L,12,FALSE))=TRUE,\"\",VLOOKUP($A217,check!$A:$L,12,FALSE))","v":""}]
[218,{"$f":"IF(C218=\"\",\"\",MATCH(A218,check!A:A,0))","v":""},{"$f":"IF(ISERROR(VLOOKUP($A218,check!$A:$L,2,FALSE))=TRUE,\"\",VLOOKUP($A218,check!$A:$L,2,FALSE))","v":""},{"$f":"IF(ISERROR(VLOOKUP($A218,check!$A:$L,3,FALSE))=TRUE,\"\",VLOOKUP($A218,check!$A:$L,3,FALSE))","v":""},{"$f":"IF(ISERROR(VLOOKUP($A218,check!$A:$L,4,FALSE))=TRUE,\"\",VLOOKUP($A218,check!$A:$L,4,FALSE))","v":""},{"$f":"IF(ISERROR(VLOOKUP($A218,check!$A:$L,5,FALSE))=TRUE,\"\",VLOOKUP($A218,check!$A:$L,5,FALSE))","v":""},{"$f":"IF(ISERROR(VLOOKUP($A218,check!$A:$L,6,FALSE))=TRUE,\"\",VLOOKUP($A218,check!$A:$L,6,FALSE))","v":""},{"$f":"IF(ISERROR(VLOOKUP($A218,check!$A:$L,7,FALSE))=TRUE,\"\",VLOOKUP($A218,check!$A:$L,7,FALSE))","v":""},{"$f":"IF(ISERROR(VLOOKUP($A218,check!$A:$L,8,FALSE))=TRUE,\"\",VLOOKUP($A218,check!$A:$L,8,FALSE))","v":""},{"$f":"IF(ISERROR(VLOOKUP($A218,check!$A:$L,9,FALSE))=TRUE,\"\",VLOOKUP($A218,check!$A:$L,9,FALSE))","v":""},{"$f":"IF(ISERROR(VLOOKUP($A218,check!$A:$L,10,FALSE))=TRUE,\"\",VLOOKUP($A218,check!$A:$L,10,FALSE))","v":""},{"$f":"IF(ISERROR(VLOOKUP($A218,check!$A:$L,11,FALSE))=TRUE,\"\",VLOOKUP($A218,check!$A:$L,11,FALSE))","v":""},{"$f":"IF(ISERROR(VLOOKUP($A218,check!$A:$L,12,FALSE))=TRUE,\"\",VLOOKUP($A218,check!$A:$L,12,FALSE))","v":""}]
[219,{"$f":"IF(C219=\"\",\"\",MATCH(A219,check!A:A,0))","v":""},{"$f":"IF(ISERROR(VLOOKUP($A219,check!$A:$L,2,FALSE))=TRUE,\"\",VLOOKUP($A219,check!$A:$L,2,FALSE))","v":""},{"$f":"IF(ISERROR(VLOOKUP($A219,check!$A:$L,3,FALSE))=TRUE,\"\",VLOOKUP($A219,check!$A:$L,3,FALSE))","v":""},{"$f":"IF(ISERROR(VLOOKUP($A219,check!$A:$L,4,FALSE))=TRUE,\"\",VLOOKUP($A219,check!$A:$L,4,FALSE))","v":""},{"$f":"IF(ISERROR(VLOOKUP($A219,check!$A:$L,5,FALSE))=TRUE,\"\",VLOOKUP($A219,check!$A:$L,5,FALSE))","v":""},{"$f":"IF(ISERROR(VLOOKUP($A219,check!$A:$L,6,FALSE))=TRUE,\"\",VLOOKUP($A219,check!$A:$L,6,FALSE))","v":""},{"$f":"IF(ISERROR(VLOOKUP($A219,check!$A:$L,7,FALSE))=TRUE,\"\",VLOOKUP($A219,check!$A:$L,7,FALSE))","v":""},{"$f":"IF(ISERROR(VLOOKUP($A219,check!$A:$L,8,FALSE))=TRUE,\"\",VLOOKUP($A219,check!$A:$L,8,FALSE))","v":""},{"$f":"IF(ISERROR(VLOOKUP($A219,check!$A:$L,9,FALSE))=TRUE,\"\",VLOOKUP($A219,check!$A:$L,9,FALSE))","v":""},{"$f":"IF(ISERROR(VLOOKUP($A219,check!$A:$L,10,FALSE))=TRUE,\"\",VLOOKUP($A219,check!$A:$L,10,FALSE))","v":""},{"$f":"IF(ISERROR(VLOOKUP($A219,check!$A:$L,11,FALSE))=TRUE,\"\",VLOOKUP($A219,check!$A:$L,11,FALSE))","v":""},{"$f":"IF(ISERROR(VLOOKUP($A219,check!$A:$L,12,FALSE))=TRUE,\"\",VLOOKUP($A219,check!$A:$L,12,FALSE))","v":""}]
[220,{"$f":"IF(C220=\"\",\"\",MATCH(A220,check!A:A,0))","v":""},{"$f":"IF(ISERROR(VLOOKUP($A220,check!$A:$L,2,FALSE))=TRUE,\"\",VLOOKUP($A220,check!$A:$L,2,FALSE))","v":""},{"$f":"IF(ISERROR(VLOOKUP($A220,check!$A:$L,3,FALSE))=TRUE,\"\",VLOOKUP($A220,check!$A:$L,3,FALSE))","v":""},{"$f":"IF(ISERROR(VLOOKUP($A220,check!$A:$L,4,FALSE))=TRUE,\"\",VLOOKUP($A220,check!$A:$L,4,FALSE))","v":""},{"$f":"IF(ISERROR(VLOOKUP($A220,check!$A:$L,5,FALSE))=TRUE,\"\",VLOOKUP($A220,check!$A:$L,5,FALSE))","v":""},{"$f":"IF(ISERROR(VLOOKUP($A220,check!$A:$L,6,FALSE))=TRUE,\"\",VLOOKUP($A220,check!$A:$L,6,FALSE))","v":""},{"$f":"IF(ISERROR(VLOOKUP($A220,check!$A:$L,7,FALSE))=TRUE,\"\",VLOOKUP($A220,check!$A:$L,7,FALSE))","v":""},{"$f":"IF(ISERROR(VLOOKUP($A220,check!$A:$L,8,FALSE))=TRUE,\"\",VLOOKUP($A220,check!$A:$L,8,FALSE))","v":""},{"$f":"IF(ISERROR(VLOOKUP($A220,check!$A:$L,9,FALSE))=TRUE,\"\",VLOOKUP($A220,check!$A:$L,9,FALSE))","v":""},{"$f":"IF(ISERROR(VLOOKUP($A220,check!$A:$L,10,FALSE))=TRUE,\"\",VLOOKUP($A220,check!$A:$L,10,FALSE))","v":""},{"$f":"IF(ISERROR(VLOOKUP($A220,check!$A:$L,11,FALSE))=TRUE,\"\",VLOOKUP($A220,check!$A:$L,11,FALSE))","v":""},{"$f":"IF(ISERROR(VLOOKUP($A220,check!$A:$L,12,FALSE))=TRUE,\"\",VLOOKUP($A220,check!$A:$L,12,FALSE))","v":""}]
[221,{"$f":"IF(C221=\"\",\"\",MATCH(A221,check!A:A,0))","v":""},{"$f":"IF(ISERROR(VLOOKUP($A221,check!$A:$L,2,FALSE))=TRUE,\"\",VLOOKUP($A221,check!$A:$L,2,FALSE))","v":""},{"$f":"IF(ISERROR(VLOOKUP($A221,check!$A:$L,3,FALSE))=TRUE,\"\",VLOOKUP($A221,check!$A:$L,3,FALSE))","v":""},{"$f":"IF(ISERROR(VLOOKUP($A221,check!$A:$L,4,FALSE))=TRUE,\"\",VLOOKUP($A221,check!$A:$L,4,FALSE))","v":""},{"$f":"IF(ISERROR(VLOOKUP($A221,check!$A:$L,5,FALSE))=TRUE,\"\",VLOOKUP($A221,check!$A:$L,5,FALSE))","v":""},{"$f":"IF(ISERROR(VLOOKUP($A221,check!$A:$L,6,FALSE))=TRUE,\"\",VLOOKUP($A221,check!$A:$L,6,FALSE))","v":""},{"$f":"IF(ISERROR(VLOOKUP($A221,check!$A:$L,7,FALSE))=TRUE,\"\",VLOOKUP($A221,check!$A:$L,7,FALSE))","v":""},{"$f":"IF(ISERROR(VLOOKUP($A221,check!$A:$L,8,FALSE))=TRUE,\"\",VLOOKUP($A221,check!$A:$L,8,FALSE))","v":""},{"$f":"IF(ISERROR(VLOOKUP($A221,check!$A:$L,9,FALSE))=TRUE,\"\",VLOOKUP($A221,check!$A:$L,9,FALSE))","v":""},{"$f":"IF(ISERROR(VLOOKUP($A221,check!$A:$L,10,FALSE))=TRUE,\"\",VLOOKUP($A221,check!$A:$L,10,FALSE))","v":""},{"$f":"IF(ISERROR(VLOOKUP($A221,check!$A:$L,11,FALSE))=TRUE,\"\",VLOOKUP($A221,check!$A:$L,11,FALSE))","v":""},{"$f":"IF(ISERROR(VLOOKUP($A221,check!$A:$L,12,FALSE))=TRUE,\"\",VLOOKUP($A221,check!$A:$L,12,FALSE))","v":""}]
[222,{"$f":"IF(C222=\"\",\"\",MATCH(A222,check!A:A,0))","v":""},{"$f":"IF(ISERROR(VLOOKUP($A222,check!$A:$L,2,FALSE))=TRUE,\"\",VLOOKUP($A222,check!$A:$L,2,FALSE))","v":""},{"$f":"IF(ISERROR(VLOOKUP($A222,check!$A:$L,3,FALSE))=TRUE,\"\",VLOOKUP($A222,check!$A:$L,3,FALSE))","v":""},{"$f":"IF(ISERROR(VLOOKUP($A222,check!$A:$L,4,FALSE))=TRUE,\"\",VLOOKUP($A222,check!$A:$L,4,FALSE))","v":""},{"$f":"IF(ISERROR(VLOOKUP($A222,check!$A:$L,5,FALSE))=TRUE,\"\",VLOOKUP($A222,check!$A:$L,5,FALSE))","v":""},{"$f":"IF(ISERROR(VLOOKUP($A222,check!$A:$L,6,FALSE))=TRUE,\"\",VLOOKUP($A222,check!$A:$L,6,FALSE))","v":""},{"$f":"IF(ISERROR(VLOOKUP($A222,check!$A:$L,7,FALSE))=TRUE,\"\",VLOOKUP($A222,check!$A:$L,7,FALSE))","v":""},{"$f":"IF(ISERROR(VLOOKUP($A222,check!$A:$L,8,FALSE))=TRUE,\"\",VLOOKUP($A222,check!$A:$L,8,FALSE))","v":""},{"$f":"IF(ISERROR(VLOOKUP($A222,check!$A:$L,9,FALSE))=TRUE,\"\",VLOOKUP($A222,check!$A:$L,9,FALSE))","v":""},{"$f":"IF(ISERROR(VLOOKUP($A222,check!$A:$L,10,FALSE))=TRUE,\"\",VLOOKUP($A222,check!$A:$L,10,FALSE))","v":""},{"$f":"IF(ISERROR(VLOOKUP($A222,check!$A:$L,11,FALSE))=TRUE,\"\",VLOOKUP($A222,check!$A:$L,11,FALSE))","v":""},{"$f":"IF(ISERROR(VLOOKUP($A222,check!$A:$L,12,FALSE))=TRUE,\"\",VLOOKUP($A222,check!$A:$L,12,FALSE))","v":""}]
[223,{"$f":"IF(C223=\"\",\"\",MATCH(A223,check!A:A,0))","v":""},{"$f":"IF(ISERROR(VLOOKUP($A223,check!$A:$L,2,FALSE))=TRUE,\"\",VLOOKUP($A223,check!$A:$L,2,FALSE))","v":""},{"$f":"IF(ISERROR(VLOOKUP($A223,check!$A:$L,3,FALSE))=TRUE,\"\",VLOOKUP($A223,check!$A:$L,3,FALSE))","v":""},{"$f":"IF(ISERROR(VLOOKUP($A223,check!$A:$L,4,FALSE))=TRUE,\"\",VLOOKUP($A223,check!$A:$L,4,FALSE))","v":""},{"$f":"IF(ISERROR(VLOOKUP($A223,check!$A:$L,5,FALSE))=TRUE,\"\",VLOOKUP($A223,check!$A:$L,5,FALSE))","v":""},{"$f":"IF(ISERROR(VLOOKUP($A223,check!$A:$L,6,FALSE))=TRUE,\"\",VLOOKUP($A223,check!$A:$L,6,FALSE))","v":""},{"$f":"IF(ISERROR(VLOOKUP($A223,check!$A:$L,7,FALSE))=TRUE,\"\",VLOOKUP($A223,check!$A:$L,7,FALSE))","v":""},{"$f":"IF(ISERROR(VLOOKUP($A223,check!$A:$L,8,FALSE))=TRUE,\"\",VLOOKUP($A223,check!$A:$L,8,FALSE))","v":""},{"$f":"IF(ISERROR(VLOOKUP($A223,check!$A:$L,9,FALSE))=TRUE,\"\",VLOOKUP($A223,check!$A:$L,9,FALSE))","v":""},{"$f":"IF(ISERROR(VLOOKUP($A223,check!$A:$L,10,FALSE))=TRUE,\"\",VLOOKUP($A223,check!$A:$L,10,FALSE))","v":""},{"$f":"IF(ISERROR(VLOOKUP($A223,check!$A:$L,11,FALSE))=TRUE,\"\",VLOOKUP($A223,check!$A:$L,11,FALSE))","v":""},{"$f":"IF(ISERROR(VLOOKUP($A223,check!$A:$L,12,FALSE))=TRUE,\"\",VLOOKUP($A223,check!$A:$L,12,FALSE))","v":""}]
[224,{"$f":"IF(C224=\"\",\"\",MATCH(A224,check!A:A,0))","v":""},{"$f":"IF(ISERROR(VLOOKUP($A224,check!$A:$L,2,FALSE))=TRUE,\"\",VLOOKUP($A224,check!$A:$L,2,FALSE))","v":""},{"$f":"IF(ISERROR(VLOOKUP($A224,check!$A:$L,3,FALSE))=TRUE,\"\",VLOOKUP($A224,check!$A:$L,3,FALSE))","v":""},{"$f":"IF(ISERROR(VLOOKUP($A224,check!$A:$L,4,FALSE))=TRUE,\"\",VLOOKUP($A224,check!$A:$L,4,FALSE))","v":""},{"$f":"IF(ISERROR(VLOOKUP($A224,check!$A:$L,5,FALSE))=TRUE,\"\",VLOOKUP($A224,check!$A:$L,5,FALSE))","v":""},{"$f":"IF(ISERROR(VLOOKUP($A224,check!$A:$L,6,FALSE))=TRUE,\"\",VLOOKUP($A224,check!$A:$L,6,FALSE))","v":""},{"$f":"IF(ISERROR(VLOOKUP($A224,check!$A:$L,7,FALSE))=TRUE,\"\",VLOOKUP($A224,check!$A:$L,7,FALSE))","v":""},{"$f":"IF(ISERROR(VLOOKUP($A224,check!$A:$L,8,FALSE))=TRUE,\"\",VLOOKUP($A224,check!$A:$L,8,FALSE))","v":""},{"$f":"IF(ISERROR(VLOOKUP($A224,check!$A:$L,9,FALSE))=TRUE,\"\",VLOOKUP($A224,check!$A:$L,9,FALSE))","v":""},{"$f":"IF(ISERROR(VLOOKUP($A224,check!$A:$L,10,FALSE))=TRUE,\"\",VLOOKUP($A224,check!$A:$L,10,FALSE))","v":""},{"$f":"IF(ISERROR(VLOOKUP($A224,check!$A:$L,11,FALSE))=TRUE,\"\",VLOOKUP($A224,check!$A:$L,11,FALSE))","v":""},{"$f":"IF(ISERROR(VLOOKUP($A224,check!$A:$L,12,FALSE))=TRUE,\"\",VLOOKUP($A224,check!$A:$L,12,FALSE))","v":""}]
[225,{"$f":"IF(C225=\"\",\"\",MATCH(A225,check!A:A,0))","v":""},{"$f":"IF(ISERROR(VLOOKUP($A225,check!$A:$L,2,FALSE))=TRUE,\"\",VLOOKUP($A225,check!$A:$L,2,FALSE))","v":""},{"$f":"IF(ISERROR(VLOOKUP($A225,check!$A:$L,3,FALSE))=TRUE,\"\",VLOOKUP($A225,check!$A:$L,3,FALSE))","v":""},{"$f":"IF(ISERROR(VLOOKUP($A225,check!$A:$L,4,FALSE))=TRUE,\"\",VLOOKUP($A225,check!$A:$L,4,FALSE))","v":""},{"$f":"IF(ISERROR(VLOOKUP($A225,check!$A:$L,5,FALSE))=TRUE,\"\",VLOOKUP($A225,check!$A:$L,5,FALSE))","v":""},{"$f":"IF(ISERROR(VLOOKUP($A225,check!$A:$L,6,FALSE))=TRUE,\"\",VLOOKUP($A225,check!$A:$L,6,FALSE))","v":""},{"$f":"IF(ISERROR(VLOOKUP($A225,check!$A:$L,7,FALSE))=TRUE,\"\",VLOOKUP($A225,check!$A:$L,7,FALSE))","v":""},{"$f":"IF(ISERROR(VLOOKUP($A225,check!$A:$L,8,FALSE))=TRUE,\"\",VLOOKUP($A225,check!$A:$L,8,FALSE))","v":""},{"$f":"IF(ISERROR(VLOOKUP($A225,check!$A:$L,9,FALSE))=TRUE,\"\",VLOOKUP($A225,check!$A:$L,9,FALSE))","v":""},{"$f":"IF(ISERROR(VLOOKUP($A225,check!$A:$L,10,FALSE))=TRUE,\"\",VLOOKUP($A225,check!$A:$L,10,FALSE))","v":""},{"$f":"IF(ISERROR(VLOOKUP($A225,check!$A:$L,11,FALSE))=TRUE,\"\",VLOOKUP($A225,check!$A:$L,11,FALSE))","v":""},{"$f":"IF(ISERROR(VLOOKUP($A225,check!$A:$L,12,FALSE))=TRUE,\"\",VLOOKUP($A225,check!$A:$L,12,FALSE))","v":""}]
[226,{"$f":"IF(C226=\"\",\"\",MATCH(A226,check!A:A,0))","v":""},{"$f":"IF(ISERROR(VLOOKUP($A226,check!$A:$L,2,FALSE))=TRUE,\"\",VLOOKUP($A226,check!$A:$L,2,FALSE))","v":""},{"$f":"IF(ISERROR(VLOOKUP($A226,check!$A:$L,3,FALSE))=TRUE,\"\",VLOOKUP($A226,check!$A:$L,3,FALSE))","v":""},{"$f":"IF(ISERROR(VLOOKUP($A226,check!$A:$L,4,FALSE))=TRUE,\"\",VLOOKUP($A226,check!$A:$L,4,FALSE))","v":""},{"$f":"IF(ISERROR(VLOOKUP($A226,check!$A:$L,5,FALSE))=TRUE,\"\",VLOOKUP($A226,check!$A:$L,5,FALSE))","v":""},{"$f":"IF(ISERROR(VLOOKUP($A226,check!$A:$L,6,FALSE))=TRUE,\"\",VLOOKUP($A226,check!$A:$L,6,FALSE))","v":""},{"$f":"IF(ISERROR(VLOOKUP($A226,check!$A:$L,7,FALSE))=TRUE,\"\",VLOOKUP($A226,check!$A:$L,7,FALSE))","v":""},{"$f":"IF(ISERROR(VLOOKUP($A226,check!$A:$L,8,FALSE))=TRUE,\"\",VLOOKUP($A226,check!$A:$L,8,FALSE))","v":""},{"$f":"IF(ISERROR(VLOOKUP($A226,check!$A:$L,9,FALSE))=TRUE,\"\",VLOOKUP($A226,check!$A:$L,9,FALSE))","v":""},{"$f":"IF(ISERROR(VLOOKUP($A226,check!$A:$L,10,FALSE))=TRUE,\"\",VLOOKUP($A226,check!$A:$L,10,FALSE))","v":""},{"$f":"IF(ISERROR(VLOOKUP($A226,check!$A:$L,11,FALSE))=TRUE,\"\",VLOOKUP($A226,check!$A:$L,11,FALSE))","v":""},{"$f":"IF(ISERROR(VLOOKUP($A226,check!$A:$L,12,FALSE))=TRUE,\"\",VLOOKUP($A226,check!$A:$L,12,FALSE))","v":""}]
[227,{"$f":"IF(C227=\"\",\"\",MATCH(A227,check!A:A,0))","v":""},{"$f":"IF(ISERROR(VLOOKUP($A227,check!$A:$L,2,FALSE))=TRUE,\"\",VLOOKUP($A227,check!$A:$L,2,FALSE))","v":""},{"$f":"IF(ISERROR(VLOOKUP($A227,check!$A:$L,3,FALSE))=TRUE,\"\",VLOOKUP($A227,check!$A:$L,3,FALSE))","v":""},{"$f":"IF(ISERROR(VLOOKUP($A227,check!$A:$L,4,FALSE))=TRUE,\"\",VLOOKUP($A227,check!$A:$L,4,FALSE))","v":""},{"$f":"IF(ISERROR(VLOOKUP($A227,check!$A:$L,5,FALSE))=TRUE,\"\",VLOOKUP($A227,check!$A:$L,5,FALSE))","v":""},{"$f":"IF(ISERROR(VLOOKUP($A227,check!$A:$L,6,FALSE))=TRUE,\"\",VLOOKUP($A227,check!$A:$L,6,FALSE))","v":""},{"$f":"IF(ISERROR(VLOOKUP($A227,check!$A:$L,7,FALSE))=TRUE,\"\",VLOOKUP($A227,check!$A:$L,7,FALSE))","v":""},{"$f":"IF(ISERROR(VLOOKUP($A227,check!$A:$L,8,FALSE))=TRUE,\"\",VLOOKUP($A227,check!$A:$L,8,FALSE))","v":""},{"$f":"IF(ISERROR(VLOOKUP($A227,check!$A:$L,9,FALSE))=TRUE,\"\",VLOOKUP($A227,check!$A:$L,9,FALSE))","v":""},{"$f":"IF(ISERROR(VLOOKUP($A227,check!$A:$L,10,FALSE))=TRUE,\"\",VLOOKUP($A227,check!$A:$L,10,FALSE))","v":""},{"$f":"IF(ISERROR(VLOOKUP($A227,check!$A:$L,11,FALSE))=TRUE,\"\",VLOOKUP($A227,check!$A:$L,11,FALSE))","v":""},{"$f":"IF(ISERROR(VLOOKUP($A227,check!$A:$L,12,FALSE))=TRUE,\"\",VLOOKUP($A227,check!$A:$L,12,FALSE))","v":""}]
[228,{"$f":"IF(C228=\"\",\"\",MATCH(A228,check!A:A,0))","v":""},{"$f":"IF(ISERROR(VLOOKUP($A228,check!$A:$L,2,FALSE))=TRUE,\"\",VLOOKUP($A228,check!$A:$L,2,FALSE))","v":""},{"$f":"IF(ISERROR(VLOOKUP($A228,check!$A:$L,3,FALSE))=TRUE,\"\",VLOOKUP($A228,check!$A:$L,3,FALSE))","v":""},{"$f":"IF(ISERROR(VLOOKUP($A228,check!$A:$L,4,FALSE))=TRUE,\"\",VLOOKUP($A228,check!$A:$L,4,FALSE))","v":""},{"$f":"IF(ISERROR(VLOOKUP($A228,check!$A:$L,5,FALSE))=TRUE,\"\",VLOOKUP($A228,check!$A:$L,5,FALSE))","v":""},{"$f":"IF(ISERROR(VLOOKUP($A228,check!$A:$L,6,FALSE))=TRUE,\"\",VLOOKUP($A228,check!$A:$L,6,FALSE))","v":""},{"$f":"IF(ISERROR(VLOOKUP($A228,check!$A:$L,7,FALSE))=TRUE,\"\",VLOOKUP($A228,check!$A:$L,7,FALSE))","v":""},{"$f":"IF(ISERROR(VLOOKUP($A228,check!$A:$L,8,FALSE))=TRUE,\"\",VLOOKUP($A228,check!$A:$L,8,FALSE))","v":""},{"$f":"IF(ISERROR(VLOOKUP($A228,check!$A:$L,9,FALSE))=TRUE,\"\",VLOOKUP($A228,check!$A:$L,9,FALSE))","v":""},{"$f":"IF(ISERROR(VLOOKUP($A228,check!$A:$L,10,FALSE))=TRUE,\"\",VLOOKUP($A228,check!$A:$L,10,FALSE))","v":""},{"$f":"IF(ISERROR(VLOOKUP($A228,check!$A:$L,11,FALSE))=TRUE,\"\",VLOOKUP($A228,check!$A:$L,11,FALSE))","v":""},{"$f":"IF(ISERROR(VLOOKUP($A228,check!$A:$L,12,FALSE))=TRUE,\"\",VLOOKUP($A228,check!$A:$L,12,FALSE))","v":""}]
[229,{"$f":"IF(C229=\"\",\"\",MATCH(A229,check!A:A,0))","v":""},{"$f":"IF(ISERROR(VLOOKUP($A229,check!$A:$L,2,FALSE))=TRUE,\"\",VLOOKUP($A229,check!$A:$L,2,FALSE))","v":""},{"$f":"IF(ISERROR(VLOOKUP($A229,check!$A:$L,3,FALSE))=TRUE,\"\",VLOOKUP($A229,check!$A:$L,3,FALSE))","v":""},{"$f":"IF(ISERROR(VLOOKUP($A229,check!$A:$L,4,FALSE))=TRUE,\"\",VLOOKUP($A229,check!$A:$L,4,FALSE))","v":""},{"$f":"IF(ISERROR(VLOOKUP($A229,check!$A:$L,5,FALSE))=TRUE,\"\",VLOOKUP($A229,check!$A:$L,5,FALSE))","v":""},{"$f":"IF(ISERROR(VLOOKUP($A229,check!$A:$L,6,FALSE))=TRUE,\"\",VLOOKUP($A229,check!$A:$L,6,FALSE))","v":""},{"$f":"IF(ISERROR(VLOOKUP($A229,check!$A:$L,7,FALSE))=TRUE,\"\",VLOOKUP($A229,check!$A:$L,7,FALSE))","v":""},{"$f":"IF(ISERROR(VLOOKUP($A229,check!$A:$L,8,FALSE))=TRUE,\"\",VLOOKUP($A229,check!$A:$L,8,FALSE))","v":""},{"$f":"IF(ISERROR(VLOOKUP($A229,check!$A:$L,9,FALSE))=TRUE,\"\",VLOOKUP($A229,check!$A:$L,9,FALSE))","v":""},{"$f":"IF(ISERROR(VLOOKUP($A229,check!$A:$L,10,FALSE))=TRUE,\"\",VLOOKUP($A229,check!$A:$L,10,FALSE))","v":""},{"$f":"IF(ISERROR(VLOOKUP($A229,check!$A:$L,11,FALSE))=TRUE,\"\",VLOOKUP($A229,check!$A:$L,11,FALSE))","v":""},{"$f":"IF(ISERROR(VLOOKUP($A229,check!$A:$L,12,FALSE))=TRUE,\"\",VLOOKUP($A229,check!$A:$L,12,FALSE))","v":""}]
[230,{"$f":"IF(C230=\"\",\"\",MATCH(A230,check!A:A,0))","v":""},{"$f":"IF(ISERROR(VLOOKUP($A230,check!$A:$L,2,FALSE))=TRUE,\"\",VLOOKUP($A230,check!$A:$L,2,FALSE))","v":""},{"$f":"IF(ISERROR(VLOOKUP($A230,check!$A:$L,3,FALSE))=TRUE,\"\",VLOOKUP($A230,check!$A:$L,3,FALSE))","v":""},{"$f":"IF(ISERROR(VLOOKUP($A230,check!$A:$L,4,FALSE))=TRUE,\"\",VLOOKUP($A230,check!$A:$L,4,FALSE))","v":""},{"$f":"IF(ISERROR(VLOOKUP($A230,check!$A:$L,5,FALSE))=TRUE,\"\",VLOOKUP($A230,check!$A:$L,5,FALSE))","v":""},{"$f":"IF(ISERROR(VLOOKUP($A230,check!$A:$L,6,FALSE))=TRUE,\"\",VLOOKUP($A230,check!$A:$L,6,FALSE))","v":""},{"$f":"IF(ISERROR(VLOOKUP($A230,check!$A:$L,7,FALSE))=TRUE,\"\",VLOOKUP($A230,check!$A:$L,7,FALSE))","v":""},{"$f":"IF(ISERROR(VLOOKUP($A230,check!$A:$L,8,FALSE))=TRUE,\"\",VLOOKUP($A230,check!$A:$L,8,FALSE))","v":""},{"$f":"IF(ISERROR(VLOOKUP($A230,check!$A:$L,9,FALSE))=TRUE,\"\",VLOOKUP($A230,check!$A:$L,9,FALSE))","v":""},{"$f":"IF(ISERROR(VLOOKUP($A230,check!$A:$L,10,FALSE))=TRUE,\"\",VLOOKUP($A230,check!$A:$L,10,FALSE))","v":""},{"$f":"IF(ISERROR(VLOOKUP($A230,check!$A:$L,11,FALSE))=TRUE,\"\",VLOOKUP($A230,check!$A:$L,11,FALSE))","v":""},{"$f":"IF(ISERROR(VLOOKUP($A230,check!$A:$L,12,FALSE))=TRUE,\"\",VLOOKUP($A230,check!$A:$L,12,FALSE))","v":""}]
[231,{"$f":"IF(C231=\"\",\"\",MATCH(A231,check!A:A,0))","v":""},{"$f":"IF(ISERROR(VLOOKUP($A231,check!$A:$L,2,FALSE))=TRUE,\"\",VLOOKUP($A231,check!$A:$L,2,FALSE))","v":""},{"$f":"IF(ISERROR(VLOOKUP($A231,check!$A:$L,3,FALSE))=TRUE,\"\",VLOOKUP($A231,check!$A:$L,3,FALSE))","v":""},{"$f":"IF(ISERROR(VLOOKUP($A231,check!$A:$L,4,FALSE))=TRUE,\"\",VLOOKUP($A231,check!$A:$L,4,FALSE))","v":""},{"$f":"IF(ISERROR(VLOOKUP($A231,check!$A:$L,5,FALSE))=TRUE,\"\",VLOOKUP($A231,check!$A:$L,5,FALSE))","v":""},{"$f":"IF(ISERROR(VLOOKUP($A231,check!$A:$L,6,FALSE))=TRUE,\"\",VLOOKUP($A231,check!$A:$L,6,FALSE))","v":""},{"$f":"IF(ISERROR(VLOOKUP($A231,check!$A:$L,7,FALSE))=TRUE,\"\",VLOOKUP($A231,check!$A:$L,7,FALSE))","v":""},{"$f":"IF(ISERROR(VLOOKUP($A231,check!$A:$L,8,FALSE))=TRUE,\"\",VLOOKUP($A231,check!$A:$L,8,FALSE))","v":""},{"$f":"IF(ISERROR(VLOOKUP($A231,check!$A:$L,9,FALSE))=TRUE,\"\",VLOOKUP($A231,check!$A:$L,9,FALSE))","v":""},{"$f":"IF(ISERROR(VLOOKUP($A231,check!$A:$L,10,FALSE))=TRUE,\"\",VLOOKUP($A231,check!$A:$L,10,FALSE))","v":""},{"$f":"IF(ISERROR(VLOOKUP($A231,check!$A:$L,11,FALSE))=TRUE,\"\",VLOOKUP($A231,check!$A:$L,11,FALSE))","v":""},{"$f":"IF(ISERROR(VLOOKUP($A231,check!$A:$L,12,FALSE))=TRUE,\"\",VLOOKUP($A231,check!$A:$L,12,FALSE))","v":""}]
[232,{"$f":"IF(C232=\"\",\"\",MATCH(A232,check!A:A,0))","v":""},{"$f":"IF(ISERROR(VLOOKUP($A232,check!$A:$L,2,FALSE))=TRUE,\"\",VLOOKUP($A232,check!$A:$L,2,FALSE))","v":""},{"$f":"IF(ISERROR(VLOOKUP($A232,check!$A:$L,3,FALSE))=TRUE,\"\",VLOOKUP($A232,check!$A:$L,3,FALSE))","v":""},{"$f":"IF(ISERROR(VLOOKUP($A232,check!$A:$L,4,FALSE))=TRUE,\"\",VLOOKUP($A232,check!$A:$L,4,FALSE))","v":""},{"$f":"IF(ISERROR(VLOOKUP($A232,check!$A:$L,5,FALSE))=TRUE,\"\",VLOOKUP($A232,check!$A:$L,5,FALSE))","v":""},{"$f":"IF(ISERROR(VLOOKUP($A232,check!$A:$L,6,FALSE))=TRUE,\"\",VLOOKUP($A232,check!$A:$L,6,FALSE))","v":""},{"$f":"IF(ISERROR(VLOOKUP($A232,check!$A:$L,7,FALSE))=TRUE,\"\",VLOOKUP($A232,check!$A:$L,7,FALSE))","v":""},{"$f":"IF(ISERROR(VLOOKUP($A232,check!$A:$L,8,FALSE))=TRUE,\"\",VLOOKUP($A232,check!$A:$L,8,FALSE))","v":""},{"$f":"IF(ISERROR(VLOOKUP($A232,check!$A:$L,9,FALSE))=TRUE,\"\",VLOOKUP($A232,check!$A:$L,9,FALSE))","v":""},{"$f":"IF(ISERROR(VLOOKUP($A232,check!$A:$L,10,FALSE))=TRUE,\"\",VLOOKUP($A232,check!$A:$L,10,FALSE))","v":""},{"$f":"IF(ISERROR(VLOOKUP($A232,check!$A:$L,11,FALSE))=TRUE,\"\",VLOOKUP($A232,check!$A:$L,11,FALSE))","v":""},{"$f":"IF(ISERROR(VLOOKUP($A232,check!$A:$L,12,FALSE))=TRUE,\"\",VLOOKUP($A232,check!$A:$L,12,FALSE))","v":""}]
[233,{"$f":"IF(C233=\"\",\"\",MATCH(A233,check!A:A,0))","v":""},{"$f":"IF(ISERROR(VLOOKUP($A233,check!$A:$L,2,FALSE))=TRUE,\"\",VLOOKUP($A233,check!$A:$L,2,FALSE))","v":""},{"$f":"IF(ISERROR(VLOOKUP($A233,check!$A:$L,3,FALSE))=TRUE,\"\",VLOOKUP($A233,check!$A:$L,3,FALSE))","v":""},{"$f":"IF(ISERROR(VLOOKUP($A233,check!$A:$L,4,FALSE))=TRUE,\"\",VLOOKUP($A233,check!$A:$L,4,FALSE))","v":""},{"$f":"IF(ISERROR(VLOOKUP($A233,check!$A:$L,5,FALSE))=TRUE,\"\",VLOOKUP($A233,check!$A:$L,5,FALSE))","v":""},{"$f":"IF(ISERROR(VLOOKUP($A233,check!$A:$L,6,FALSE))=TRUE,\"\",VLOOKUP($A233,check!$A:$L,6,FALSE))","v":""},{"$f":"IF(ISERROR(VLOOKUP($A233,check!$A:$L,7,FALSE))=TRUE,\"\",VLOOKUP($A233,check!$A:$L,7,FALSE))","v":""},{"$f":"IF(ISERROR(VLOOKUP($A233,check!$A:$L,8,FALSE))=TRUE,\"\",VLOOKUP($A233,check!$A:$L,8,FALSE))","v":""},{"$f":"IF(ISERROR(VLOOKUP($A233,check!$A:$L,9,FALSE))=TRUE,\"\",VLOOKUP($A233,check!$A:$L,9,FALSE))","v":""},{"$f":"IF(ISERROR(VLOOKUP($A233,check!$A:$L,10,FALSE))=TRUE,\"\",VLOOKUP($A233,check!$A:$L,10,FALSE))","v":""},{"$f":"IF(ISERROR(VLOOKUP($A233,check!$A:$L,11,FALSE))=TRUE,\"\",VLOOKUP($A233,check!$A:$L,11,FALSE))","v":""},{"$f":"IF(ISERROR(VLOOKUP($A233,check!$A:$L,12,FALSE))=TRUE,\"\",VLOOKUP($A233,check!$A:$L,12,FALSE))","v":""}]
[234,{"$f":"IF(C234=\"\",\"\",MATCH(A234,check!A:A,0))","v":""},{"$f":"IF(ISERROR(VLOOKUP($A234,check!$A:$L,2,FALSE))=TRUE,\"\",VLOOKUP($A234,check!$A:$L,2,FALSE))","v":""},{"$f":"IF(ISERROR(VLOOKUP($A234,check!$A:$L,3,FALSE))=TRUE,\"\",VLOOKUP($A234,check!$A:$L,3,FALSE))","v":""},{"$f":"IF(ISERROR(VLOOKUP($A234,check!$A:$L,4,FALSE))=TRUE,\"\",VLOOKUP($A234,check!$A:$L,4,FALSE))","v":""},{"$f":"IF(ISERROR(VLOOKUP($A234,check!$A:$L,5,FALSE))=TRUE,\"\",VLOOKUP($A234,check!$A:$L,5,FALSE))","v":""},{"$f":"IF(ISERROR(VLOOKUP($A234,check!$A:$L,6,FALSE))=TRUE,\"\",VLOOKUP($A234,check!$A:$L,6,FALSE))","v":""},{"$f":"IF(ISERROR(VLOOKUP($A234,check!$A:$L,7,FALSE))=TRUE,\"\",VLOOKUP($A234,check!$A:$L,7,FALSE))","v":""},{"$f":"IF(ISERROR(VLOOKUP($A234,check!$A:$L,8,FALSE))=TRUE,\"\",VLOOKUP($A234,check!$A:$L,8,FALSE))","v":""},{"$f":"IF(ISERROR(VLOOKUP($A234,check!$A:$L,9,FALSE))=TRUE,\"\",VLOOKUP($A234,check!$A:$L,9,FALSE))","v":""},{"$f":"IF(ISERROR(VLOOKUP($A234,check!$A:$L,10,FALSE))=TRUE,\"\",VLOOKUP($A234,check!$A:$L,10,FALSE))","v":""},{"$f":"IF(ISERROR(VLOOKUP($A234,check!$A:$L,11,FALSE))=TRUE,\"\",VLOOKUP($A234,check!$A:$L,11,FALSE))","v":""},{"$f":"IF(ISERROR(VLOOKUP($A234,check!$A:$L,12,FALSE))=TRUE,\"\",VLOOKUP($A234,check!$A:$L,12,FALSE))","v":""}]
[235,{"$f":"IF(C235=\"\",\"\",MATCH(A235,check!A:A,0))","v":""},{"$f":"IF(ISERROR(VLOOKUP($A235,check!$A:$L,2,FALSE))=TRUE,\"\",VLOOKUP($A235,check!$A:$L,2,FALSE))","v":""},{"$f":"IF(ISERROR(VLOOKUP($A235,check!$A:$L,3,FALSE))=TRUE,\"\",VLOOKUP($A235,check!$A:$L,3,FALSE))","v":""},{"$f":"IF(ISERROR(VLOOKUP($A235,check!$A:$L,4,FALSE))=TRUE,\"\",VLOOKUP($A235,check!$A:$L,4,FALSE))","v":""},{"$f":"IF(ISERROR(VLOOKUP($A235,check!$A:$L,5,FALSE))=TRUE,\"\",VLOOKUP($A235,check!$A:$L,5,FALSE))","v":""},{"$f":"IF(ISERROR(VLOOKUP($A235,check!$A:$L,6,FALSE))=TRUE,\"\",VLOOKUP($A235,check!$A:$L,6,FALSE))","v":""},{"$f":"IF(ISERROR(VLOOKUP($A235,check!$A:$L,7,FALSE))=TRUE,\"\",VLOOKUP($A235,check!$A:$L,7,FALSE))","v":""},{"$f":"IF(ISERROR(VLOOKUP($A235,check!$A:$L,8,FALSE))=TRUE,\"\",VLOOKUP($A235,check!$A:$L,8,FALSE))","v":""},{"$f":"IF(ISERROR(VLOOKUP($A235,check!$A:$L,9,FALSE))=TRUE,\"\",VLOOKUP($A235,check!$A:$L,9,FALSE))","v":""},{"$f":"IF(ISERROR(VLOOKUP($A235,check!$A:$L,10,FALSE))=TRUE,\"\",VLOOKUP($A235,check!$A:$L,10,FALSE))","v":""},{"$f":"IF(ISERROR(VLOOKUP($A235,check!$A:$L,11,FALSE))=TRUE,\"\",VLOOKUP($A235,check!$A:$L,11,FALSE))","v":""},{"$f":"IF(ISERROR(VLOOKUP($A235,check!$A:$L,12,FALSE))=TRUE,\"\",VLOOKUP($A235,check!$A:$L,12,FALSE))","v":""}]
[236,{"$f":"IF(C236=\"\",\"\",MATCH(A236,check!A:A,0))","v":""},{"$f":"IF(ISERROR(VLOOKUP($A236,check!$A:$L,2,FALSE))=TRUE,\"\",VLOOKUP($A236,check!$A:$L,2,FALSE))","v":""},{"$f":"IF(ISERROR(VLOOKUP($A236,check!$A:$L,3,FALSE))=TRUE,\"\",VLOOKUP($A236,check!$A:$L,3,FALSE))","v":""},{"$f":"IF(ISERROR(VLOOKUP($A236,check!$A:$L,4,FALSE))=TRUE,\"\",VLOOKUP($A236,check!$A:$L,4,FALSE))","v":""},{"$f":"IF(ISERROR(VLOOKUP($A236,check!$A:$L,5,FALSE))=TRUE,\"\",VLOOKUP($A236,check!$A:$L,5,FALSE))","v":""},{"$f":"IF(ISERROR(VLOOKUP($A236,check!$A:$L,6,FALSE))=TRUE,\"\",VLOOKUP($A236,check!$A:$L,6,FALSE))","v":""},{"$f":"IF(ISERROR(VLOOKUP($A236,check!$A:$L,7,FALSE))=TRUE,\"\",VLOOKUP($A236,check!$A:$L,7,FALSE))","v":""},{"$f":"IF(ISERROR(VLOOKUP($A236,check!$A:$L,8,FALSE))=TRUE,\"\",VLOOKUP($A236,check!$A:$L,8,FALSE))","v":""},{"$f":"IF(ISERROR(VLOOKUP($A236,check!$A:$L,9,FALSE))=TRUE,\"\",VLOOKUP($A236,check!$A:$L,9,FALSE))","v":""},{"$f":"IF(ISERROR(VLOOKUP($A236,check!$A:$L,10,FALSE))=TRUE,\"\",VLOOKUP($A236,check!$A:$L,10,FALSE))","v":""},{"$f":"IF(ISERROR(VLOOKUP($A236,check!$A:$L,11,FALSE))=TRUE,\"\",VLOOKUP($A236,check!$A:$L,11,FALSE))","v":""},{"$f":"IF(ISERROR(VLOOKUP($A236,check!$A:$L,12,FALSE))=TRUE,\"\",VLOOKUP($A236,check!$A:$L,12,FALSE))","v":""}]
[237,{"$f":"IF(C237=\"\",\"\",MATCH(A237,check!A:A,0))","v":""},{"$f":"IF(ISERROR(VLOOKUP($A237,check!$A:$L,2,FALSE))=TRUE,\"\",VLOOKUP($A237,check!$A:$L,2,FALSE))","v":""},{"$f":"IF(ISERROR(VLOOKUP($A237,check!$A:$L,3,FALSE))=TRUE,\"\",VLOOKUP($A237,check!$A:$L,3,FALSE))","v":""},{"$f":"IF(ISERROR(VLOOKUP($A237,check!$A:$L,4,FALSE))=TRUE,\"\",VLOOKUP($A237,check!$A:$L,4,FALSE))","v":""},{"$f":"IF(ISERROR(VLOOKUP($A237,check!$A:$L,5,FALSE))=TRUE,\"\",VLOOKUP($A237,check!$A:$L,5,FALSE))","v":""},{"$f":"IF(ISERROR(VLOOKUP($A237,check!$A:$L,6,FALSE))=TRUE,\"\",VLOOKUP($A237,check!$A:$L,6,FALSE))","v":""},{"$f":"IF(ISERROR(VLOOKUP($A237,check!$A:$L,7,FALSE))=TRUE,\"\",VLOOKUP($A237,check!$A:$L,7,FALSE))","v":""},{"$f":"IF(ISERROR(VLOOKUP($A237,check!$A:$L,8,FALSE))=TRUE,\"\",VLOOKUP($A237,check!$A:$L,8,FALSE))","v":""},{"$f":"IF(ISERROR(VLOOKUP($A237,check!$A:$L,9,FALSE))=TRUE,\"\",VLOOKUP($A237,check!$A:$L,9,FALSE))","v":""},{"$f":"IF(ISERROR(VLOOKUP($A237,check!$A:$L,10,FALSE))=TRUE,\"\",VLOOKUP($A237,check!$A:$L,10,FALSE))","v":""},{"$f":"IF(ISERROR(VLOOKUP($A237,check!$A:$L,11,FALSE))=TRUE,\"\",VLOOKUP($A237,check!$A:$L,11,FALSE))","v":""},{"$f":"IF(ISERROR(VLOOKUP($A237,check!$A:$L,12,FALSE))=TRUE,\"\",VLOOKUP($A237,check!$A:$L,12,FALSE))","v":""}]
[238,{"$f":"IF(C238=\"\",\"\",MATCH(A238,check!A:A,0))","v":""},{"$f":"IF(ISERROR(VLOOKUP($A238,check!$A:$L,2,FALSE))=TRUE,\"\",VLOOKUP($A238,check!$A:$L,2,FALSE))","v":""},{"$f":"IF(ISERROR(VLOOKUP($A238,check!$A:$L,3,FALSE))=TRUE,\"\",VLOOKUP($A238,check!$A:$L,3,FALSE))","v":""},{"$f":"IF(ISERROR(VLOOKUP($A238,check!$A:$L,4,FALSE))=TRUE,\"\",VLOOKUP($A238,check!$A:$L,4,FALSE))","v":""},{"$f":"IF(ISERROR(VLOOKUP($A238,check!$A:$L,5,FALSE))=TRUE,\"\",VLOOKUP($A238,check!$A:$L,5,FALSE))","v":""},{"$f":"IF(ISERROR(VLOOKUP($A238,check!$A:$L,6,FALSE))=TRUE,\"\",VLOOKUP($A238,check!$A:$L,6,FALSE))","v":""},{"$f":"IF(ISERROR(VLOOKUP($A238,check!$A:$L,7,FALSE))=TRUE,\"\",VLOOKUP($A238,check!$A:$L,7,FALSE))","v":""},{"$f":"IF(ISERROR(VLOOKUP($A238,check!$A:$L,8,FALSE))=TRUE,\"\",VLOOKUP($A238,check!$A:$L,8,FALSE))","v":""},{"$f":"IF(ISERROR(VLOOKUP($A238,check!$A:$L,9,FALSE))=TRUE,\"\",VLOOKUP($A238,check!$A:$L,9,FALSE))","v":""},{"$f":"IF(ISERROR(VLOOKUP($A238,check!$A:$L,10,FALSE))=TRUE,\"\",VLOOKUP($A238,check!$A:$L,10,FALSE))","v":""},{"$f":"IF(ISERROR(VLOOKUP($A238,check!$A:$L,11,FALSE))=TRUE,\"\",VLOOKUP($A238,check!$A:$L,11,FALSE))","v":""},{"$f":"IF(ISERROR(VLOOKUP($A238,check!$A:$L,12,FALSE))=TRUE,\"\",VLOOKUP($A238,check!$A:$L,12,FALSE))","v":""}]
[239,{"$f":"IF(C239=\"\",\"\",MATCH(A239,check!A:A,0))","v":""},{"$f":"IF(ISERROR(VLOOKUP($A239,check!$A:$L,2,FALSE))=TRUE,\"\",VLOOKUP($A239,check!$A:$L,2,FALSE))","v":""},{"$f":"IF(ISERROR(VLOOKUP($A239,check!$A:$L,3,FALSE))=TRUE,\"\",VLOOKUP($A239,check!$A:$L,3,FALSE))","v":""},{"$f":"IF(ISERROR(VLOOKUP($A239,check!$A:$L,4,FALSE))=TRUE,\"\",VLOOKUP($A239,check!$A:$L,4,FALSE))","v":""},{"$f":"IF(ISERROR(VLOOKUP($A239,check!$A:$L,5,FALSE))=TRUE,\"\",VLOOKUP($A239,check!$A:$L,5,FALSE))","v":""},{"$f":"IF(ISERROR(VLOOKUP($A239,check!$A:$L,6,FALSE))=TRUE,\"\",VLOOKUP($A239,check!$A:$L,6,FALSE))","v":""},{"$f":"IF(ISERROR(VLOOKUP($A239,check!$A:$L,7,FALSE))=TRUE,\"\",VLOOKUP($A239,check!$A:$L,7,FALSE))","v":""},{"$f":"IF(ISERROR(VLOOKUP($A239,check!$A:$L,8,FALSE))=TRUE,\"\",VLOOKUP($A239,check!$A:$L,8,FALSE))","v":""},{"$f":"IF(ISERROR(VLOOKUP($A239,check!$A:$L,9,FALSE))=TRUE,\"\",VLOOKUP($A239,check!$A:$L,9,FALSE))","v":""},{"$f":"IF(ISERROR(VLOOKUP($A239,check!$A:$L,10,FALSE))=TRUE,\"\",VLOOKUP($A239,check!$A:$L,10,FALSE))","v":""},{"$f":"IF(ISERROR(VLOOKUP($A239,check!$A:$L,11,FALSE))=TRUE,\"\",VLOOKUP($A239,check!$A:$L,11,FALSE))","v":""},{"$f":"IF(ISERROR(VLOOKUP($A239,check!$A:$L,12,FALSE))=TRUE,\"\",VLOOKUP($A239,check!$A:$L,12,FALSE))","v":""}]
[240,{"$f":"IF(C240=\"\",\"\",MATCH(A240,check!A:A,0))","v":""},{"$f":"IF(ISERROR(VLOOKUP($A240,check!$A:$L,2,FALSE))=TRUE,\"\",VLOOKUP($A240,check!$A:$L,2,FALSE))","v":""},{"$f":"IF(ISERROR(VLOOKUP($A240,check!$A:$L,3,FALSE))=TRUE,\"\",VLOOKUP($A240,check!$A:$L,3,FALSE))","v":""},{"$f":"IF(ISERROR(VLOOKUP($A240,check!$A:$L,4,FALSE))=TRUE,\"\",VLOOKUP($A240,check!$A:$L,4,FALSE))","v":""},{"$f":"IF(ISERROR(VLOOKUP($A240,check!$A:$L,5,FALSE))=TRUE,\"\",VLOOKUP($A240,check!$A:$L,5,FALSE))","v":""},{"$f":"IF(ISERROR(VLOOKUP($A240,check!$A:$L,6,FALSE))=TRUE,\"\",VLOOKUP($A240,check!$A:$L,6,FALSE))","v":""},{"$f":"IF(ISERROR(VLOOKUP($A240,check!$A:$L,7,FALSE))=TRUE,\"\",VLOOKUP($A240,check!$A:$L,7,FALSE))","v":""},{"$f":"IF(ISERROR(VLOOKUP($A240,check!$A:$L,8,FALSE))=TRUE,\"\",VLOOKUP($A240,check!$A:$L,8,FALSE))","v":""},{"$f":"IF(ISERROR(VLOOKUP($A240,check!$A:$L,9,FALSE))=TRUE,\"\",VLOOKUP($A240,check!$A:$L,9,FALSE))","v":""},{"$f":"IF(ISERROR(VLOOKUP($A240,check!$A:$L,10,FALSE))=TRUE,\"\",VLOOKUP($A240,check!$A:$L,10,FALSE))","v":""},{"$f":"IF(ISERROR(VLOOKUP($A240,check!$A:$L,11,FALSE))=TRUE,\"\",VLOOKUP($A240,check!$A:$L,11,FALSE))","v":""},{"$f":"IF(ISERROR(VLOOKUP($A240,check!$A:$L,12,FALSE))=TRUE,\"\",VLOOKUP($A240,check!$A:$L,12,FALSE))","v":""}]
[241,{"$f":"IF(C241=\"\",\"\",MATCH(A241,check!A:A,0))","v":""},{"$f":"IF(ISERROR(VLOOKUP($A241,check!$A:$L,2,FALSE))=TRUE,\"\",VLOOKUP($A241,check!$A:$L,2,FALSE))","v":""},{"$f":"IF(ISERROR(VLOOKUP($A241,check!$A:$L,3,FALSE))=TRUE,\"\",VLOOKUP($A241,check!$A:$L,3,FALSE))","v":""},{"$f":"IF(ISERROR(VLOOKUP($A241,check!$A:$L,4,FALSE))=TRUE,\"\",VLOOKUP($A241,check!$A:$L,4,FALSE))","v":""},{"$f":"IF(ISERROR(VLOOKUP($A241,check!$A:$L,5,FALSE))=TRUE,\"\",VLOOKUP($A241,check!$A:$L,5,FALSE))","v":""},{"$f":"IF(ISERROR(VLOOKUP($A241,check!$A:$L,6,FALSE))=TRUE,\"\",VLOOKUP($A241,check!$A:$L,6,FALSE))","v":""},{"$f":"IF(ISERROR(VLOOKUP($A241,check!$A:$L,7,FALSE))=TRUE,\"\",VLOOKUP($A241,check!$A:$L,7,FALSE))","v":""},{"$f":"IF(ISERROR(VLOOKUP($A241,check!$A:$L,8,FALSE))=TRUE,\"\",VLOOKUP($A241,check!$A:$L,8,FALSE))","v":""},{"$f":"IF(ISERROR(VLOOKUP($A241,check!$A:$L,9,FALSE))=TRUE,\"\",VLOOKUP($A241,check!$A:$L,9,FALSE))","v":""},{"$f":"IF(ISERROR(VLOOKUP($A241,check!$A:$L,10,FALSE))=TRUE,\"\",VLOOKUP($A241,check!$A:$L,10,FALSE))","v":""},{"$f":"IF(ISERROR(VLOOKUP($A241,check!$A:$L,11,FALSE))=TRUE,\"\",VLOOKUP($A241,check!$A:$L,11,FALSE))","v":""},{"$f":"IF(ISERROR(VLOOKUP($A241,check!$A:$L,12,FALSE))=TRUE,\"\",VLOOKUP($A241,check!$A:$L,12,FALSE))","v":""}]
[242,{"$f":"IF(C242=\"\",\"\",MATCH(A242,check!A:A,0))","v":""},{"$f":"IF(ISERROR(VLOOKUP($A242,check!$A:$L,2,FALSE))=TRUE,\"\",VLOOKUP($A242,check!$A:$L,2,FALSE))","v":""},{"$f":"IF(ISERROR(VLOOKUP($A242,check!$A:$L,3,FALSE))=TRUE,\"\",VLOOKUP($A242,check!$A:$L,3,FALSE))","v":""},{"$f":"IF(ISERROR(VLOOKUP($A242,check!$A:$L,4,FALSE))=TRUE,\"\",VLOOKUP($A242,check!$A:$L,4,FALSE))","v":""},{"$f":"IF(ISERROR(VLOOKUP($A242,check!$A:$L,5,FALSE))=TRUE,\"\",VLOOKUP($A242,check!$A:$L,5,FALSE))","v":""},{"$f":"IF(ISERROR(VLOOKUP($A242,check!$A:$L,6,FALSE))=TRUE,\"\",VLOOKUP($A242,check!$A:$L,6,FALSE))","v":""},{"$f":"IF(ISERROR(VLOOKUP($A242,check!$A:$L,7,FALSE))=TRUE,\"\",VLOOKUP($A242,check!$A:$L,7,FALSE))","v":""},{"$f":"IF(ISERROR(VLOOKUP($A242,check!$A:$L,8,FALSE))=TRUE,\"\",VLOOKUP($A242,check!$A:$L,8,FALSE))","v":""},{"$f":"IF(ISERROR(VLOOKUP($A242,check!$A:$L,9,FALSE))=TRUE,\"\",VLOOKUP($A242,check!$A:$L,9,FALSE))","v":""},{"$f":"IF(ISERROR(VLOOKUP($A242,check!$A:$L,10,FALSE))=TRUE,\"\",VLOOKUP($A242,check!$A:$L,10,FALSE))","v":""},{"$f":"IF(ISERROR(VLOOKUP($A242,check!$A:$L,11,FALSE))=TRUE,\"\",VLOOKUP($A242,check!$A:$L,11,FALSE))","v":""},{"$f":"IF(ISERROR(VLOOKUP($A242,check!$A:$L,12,FALSE))=TRUE,\"\",VLOOKUP($A242,check!$A:$L,12,FALSE))","v":""}]
[243,{"$f":"IF(C243=\"\",\"\",MATCH(A243,check!A:A,0))","v":""},{"$f":"IF(ISERROR(VLOOKUP($A243,check!$A:$L,2,FALSE))=TRUE,\"\",VLOOKUP($A243,check!$A:$L,2,FALSE))","v":""},{"$f":"IF(ISERROR(VLOOKUP($A243,check!$A:$L,3,FALSE))=TRUE,\"\",VLOOKUP($A243,check!$A:$L,3,FALSE))","v":""},{"$f":"IF(ISERROR(VLOOKUP($A243,check!$A:$L,4,FALSE))=TRUE,\"\",VLOOKUP($A243,check!$A:$L,4,FALSE))","v":""},{"$f":"IF(ISERROR(VLOOKUP($A243,check!$A:$L,5,FALSE))=TRUE,\"\",VLOOKUP($A243,check!$A:$L,5,FALSE))","v":""},{"$f":"IF(ISERROR(VLOOKUP($A243,check!$A:$L,6,FALSE))=TRUE,\"\",VLOOKUP($A243,check!$A:$L,6,FALSE))","v":""},{"$f":"IF(ISERROR(VLOOKUP($A243,check!$A:$L,7,FALSE))=TRUE,\"\",VLOOKUP($A243,check!$A:$L,7,FALSE))","v":""},{"$f":"IF(ISERROR(VLOOKUP($A243,check!$A:$L,8,FALSE))=TRUE,\"\",VLOOKUP($A243,check!$A:$L,8,FALSE))","v":""},{"$f":"IF(ISERROR(VLOOKUP($A243,check!$A:$L,9,FALSE))=TRUE,\"\",VLOOKUP($A243,check!$A:$L,9,FALSE))","v":""},{"$f":"IF(ISERROR(VLOOKUP($A243,check!$A:$L,10,FALSE))=TRUE,\"\",VLOOKUP($A243,check!$A:$L,10,FALSE))","v":""},{"$f":"IF(ISERROR(VLOOKUP($A243,check!$A:$L,11,FALSE))=TRUE,\"\",VLOOKUP($A243,check!$A:$L,11,FALSE))","v":""},{"$f":"IF(ISERROR(VLOOKUP($A243,check!$A:$L,12,FALSE))=TRUE,\"\",VLOOKUP($A243,check!$A:$L,12,FALSE))","v":""}]
[244,{"$f":"IF(C244=\"\",\"\",MATCH(A244,check!A:A,0))","v":""},{"$f":"IF(ISERROR(VLOOKUP($A244,check!$A:$L,2,FALSE))=TRUE,\"\",VLOOKUP($A244,check!$A:$L,2,FALSE))","v":""},{"$f":"IF(ISERROR(VLOOKUP($A244,check!$A:$L,3,FALSE))=TRUE,\"\",VLOOKUP($A244,check!$A:$L,3,FALSE))","v":""},{"$f":"IF(ISERROR(VLOOKUP($A244,check!$A:$L,4,FALSE))=TRUE,\"\",VLOOKUP($A244,check!$A:$L,4,FALSE))","v":""},{"$f":"IF(ISERROR(VLOOKUP($A244,check!$A:$L,5,FALSE))=TRUE,\"\",VLOOKUP($A244,check!$A:$L,5,FALSE))","v":""},{"$f":"IF(ISERROR(VLOOKUP($A244,check!$A:$L,6,FALSE))=TRUE,\"\",VLOOKUP($A244,check!$A:$L,6,FALSE))","v":""},{"$f":"IF(ISERROR(VLOOKUP($A244,check!$A:$L,7,FALSE))=TRUE,\"\",VLOOKUP($A244,check!$A:$L,7,FALSE))","v":""},{"$f":"IF(ISERROR(VLOOKUP($A244,check!$A:$L,8,FALSE))=TRUE,\"\",VLOOKUP($A244,check!$A:$L,8,FALSE))","v":""},{"$f":"IF(ISERROR(VLOOKUP($A244,check!$A:$L,9,FALSE))=TRUE,\"\",VLOOKUP($A244,check!$A:$L,9,FALSE))","v":""},{"$f":"IF(ISERROR(VLOOKUP($A244,check!$A:$L,10,FALSE))=TRUE,\"\",VLOOKUP($A244,check!$A:$L,10,FALSE))","v":""},{"$f":"IF(ISERROR(VLOOKUP($A244,check!$A:$L,11,FALSE))=TRUE,\"\",VLOOKUP($A244,check!$A:$L,11,FALSE))","v":""},{"$f":"IF(ISERROR(VLOOKUP($A244,check!$A:$L,12,FALSE))=TRUE,\"\",VLOOKUP($A244,check!$A:$L,12,FALSE))","v":""}]
[245,{"$f":"IF(C245=\"\",\"\",MATCH(A245,check!A:A,0))","v":""},{"$f":"IF(ISERROR(VLOOKUP($A245,check!$A:$L,2,FALSE))=TRUE,\"\",VLOOKUP($A245,check!$A:$L,2,FALSE))","v":""},{"$f":"IF(ISERROR(VLOOKUP($A245,check!$A:$L,3,FALSE))=TRUE,\"\",VLOOKUP($A245,check!$A:$L,3,FALSE))","v":""},{"$f":"IF(ISERROR(VLOOKUP($A245,check!$A:$L,4,FALSE))=TRUE,\"\",VLOOKUP($A245,check!$A:$L,4,FALSE))","v":""},{"$f":"IF(ISERROR(VLOOKUP($A245,check!$A:$L,5,FALSE))=TRUE,\"\",VLOOKUP($A245,check!$A:$L,5,FALSE))","v":""},{"$f":"IF(ISERROR(VLOOKUP($A245,check!$A:$L,6,FALSE))=TRUE,\"\",VLOOKUP($A245,check!$A:$L,6,FALSE))","v":""},{"$f":"IF(ISERROR(VLOOKUP($A245,check!$A:$L,7,FALSE))=TRUE,\"\",VLOOKUP($A245,check!$A:$L,7,FALSE))","v":""},{"$f":"IF(ISERROR(VLOOKUP($A245,check!$A:$L,8,FALSE))=TRUE,\"\",VLOOKUP($A245,check!$A:$L,8,FALSE))","v":""},{"$f":"IF(ISERROR(VLOOKUP($A245,check!$A:$L,9,FALSE))=TRUE,\"\",VLOOKUP($A245,check!$A:$L,9,FALSE))","v":""},{"$f":"IF(ISERROR(VLOOKUP($A245,check!$A:$L,10,FALSE))=TRUE,\"\",VLOOKUP($A245,check!$A:$L,10,FALSE))","v":""},{"$f":"IF(ISERROR(VLOOKUP($A245,check!$A:$L,11,FALSE))=TRUE,\"\",VLOOKUP($A245,check!$A:$L,11,FALSE))","v":""},{"$f":"IF(ISERROR(VLOOKUP($A245,check!$A:$L,12,FALSE))=TRUE,\"\",VLOOKUP($A245,check!$A:$L,12,FALSE))","v":""}]
[246,{"$f":"IF(C246=\"\",\"\",MATCH(A246,check!A:A,0))","v":""},{"$f":"IF(ISERROR(VLOOKUP($A246,check!$A:$L,2,FALSE))=TRUE,\"\",VLOOKUP($A246,check!$A:$L,2,FALSE))","v":""},{"$f":"IF(ISERROR(VLOOKUP($A246,check!$A:$L,3,FALSE))=TRUE,\"\",VLOOKUP($A246,check!$A:$L,3,FALSE))","v":""},{"$f":"IF(ISERROR(VLOOKUP($A246,check!$A:$L,4,FALSE))=TRUE,\"\",VLOOKUP($A246,check!$A:$L,4,FALSE))","v":""},{"$f":"IF(ISERROR(VLOOKUP($A246,check!$A:$L,5,FALSE))=TRUE,\"\",VLOOKUP($A246,check!$A:$L,5,FALSE))","v":""},{"$f":"IF(ISERROR(VLOOKUP($A246,check!$A:$L,6,FALSE))=TRUE,\"\",VLOOKUP($A246,check!$A:$L,6,FALSE))","v":""},{"$f":"IF(ISERROR(VLOOKUP($A246,check!$A:$L,7,FALSE))=TRUE,\"\",VLOOKUP($A246,check!$A:$L,7,FALSE))","v":""},{"$f":"IF(ISERROR(VLOOKUP($A246,check!$A:$L,8,FALSE))=TRUE,\"\",VLOOKUP($A246,check!$A:$L,8,FALSE))","v":""},{"$f":"IF(ISERROR(VLOOKUP($A246,check!$A:$L,9,FALSE))=TRUE,\"\",VLOOKUP($A246,check!$A:$L,9,FALSE))","v":""},{"$f":"IF(ISERROR(VLOOKUP($A246,check!$A:$L,10,FALSE))=TRUE,\"\",VLOOKUP($A246,check!$A:$L,10,FALSE))","v":""},{"$f":"IF(ISERROR(VLOOKUP($A246,check!$A:$L,11,FALSE))=TRUE,\"\",VLOOKUP($A246,check!$A:$L,11,FALSE))","v":""},{"$f":"IF(ISERROR(VLOOKUP($A246,check!$A:$L,12,FALSE))=TRUE,\"\",VLOOKUP($A246,check!$A:$L,12,FALSE))","v":""}]
[247,{"$f":"IF(C247=\"\",\"\",MATCH(A247,check!A:A,0))","v":""},{"$f":"IF(ISERROR(VLOOKUP($A247,check!$A:$L,2,FALSE))=TRUE,\"\",VLOOKUP($A247,check!$A:$L,2,FALSE))","v":""},{"$f":"IF(ISERROR(VLOOKUP($A247,check!$A:$L,3,FALSE))=TRUE,\"\",VLOOKUP($A247,check!$A:$L,3,FALSE))","v":""},{"$f":"IF(ISERROR(VLOOKUP($A247,check!$A:$L,4,FALSE))=TRUE,\"\",VLOOKUP($A247,check!$A:$L,4,FALSE))","v":""},{"$f":"IF(ISERROR(VLOOKUP($A247,check!$A:$L,5,FALSE))=TRUE,\"\",VLOOKUP($A247,check!$A:$L,5,FALSE))","v":""},{"$f":"IF(ISERROR(VLOOKUP($A247,check!$A:$L,6,FALSE))=TRUE,\"\",VLOOKUP($A247,check!$A:$L,6,FALSE))","v":""},{"$f":"IF(ISERROR(VLOOKUP($A247,check!$A:$L,7,FALSE))=TRUE,\"\",VLOOKUP($A247,check!$A:$L,7,FALSE))","v":""},{"$f":"IF(ISERROR(VLOOKUP($A247,check!$A:$L,8,FALSE))=TRUE,\"\",VLOOKUP($A247,check!$A:$L,8,FALSE))","v":""},{"$f":"IF(ISERROR(VLOOKUP($A247,check!$A:$L,9,FALSE))=TRUE,\"\",VLOOKUP($A247,check!$A:$L,9,FALSE))","v":""},{"$f":"IF(ISERROR(VLOOKUP($A247,check!$A:$L,10,FALSE))=TRUE,\"\",VLOOKUP($A247,check!$A:$L,10,FALSE))","v":""},{"$f":"IF(ISERROR(VLOOKUP($A247,check!$A:$L,11,FALSE))=TRUE,\"\",VLOOKUP($A247,check!$A:$L,11,FALSE))","v":""},{"$f":"IF(ISERROR(VLOOKUP($A247,check!$A:$L,12,FALSE))=TRUE,\"\",VLOOKUP($A247,check!$A:$L,12,FALSE))","v":""}]
[248,{"$f":"IF(C248=\"\",\"\",MATCH(A248,check!A:A,0))","v":""},{"$f":"IF(ISERROR(VLOOKUP($A248,check!$A:$L,2,FALSE))=TRUE,\"\",VLOOKUP($A248,check!$A:$L,2,FALSE))","v":""},{"$f":"IF(ISERROR(VLOOKUP($A248,check!$A:$L,3,FALSE))=TRUE,\"\",VLOOKUP($A248,check!$A:$L,3,FALSE))","v":""},{"$f":"IF(ISERROR(VLOOKUP($A248,check!$A:$L,4,FALSE))=TRUE,\"\",VLOOKUP($A248,check!$A:$L,4,FALSE))","v":""},{"$f":"IF(ISERROR(VLOOKUP($A248,check!$A:$L,5,FALSE))=TRUE,\"\",VLOOKUP($A248,check!$A:$L,5,FALSE))","v":""},{"$f":"IF(ISERROR(VLOOKUP($A248,check!$A:$L,6,FALSE))=TRUE,\"\",VLOOKUP($A248,check!$A:$L,6,FALSE))","v":""},{"$f":"IF(ISERROR(VLOOKUP($A248,check!$A:$L,7,FALSE))=TRUE,\"\",VLOOKUP($A248,check!$A:$L,7,FALSE))","v":""},{"$f":"IF(ISERROR(VLOOKUP($A248,check!$A:$L,8,FALSE))=TRUE,\"\",VLOOKUP($A248,check!$A:$L,8,FALSE))","v":""},{"$f":"IF(ISERROR(VLOOKUP($A248,check!$A:$L,9,FALSE))=TRUE,\"\",VLOOKUP($A248,check!$A:$L,9,FALSE))","v":""},{"$f":"IF(ISERROR(VLOOKUP($A248,check!$A:$L,10,FALSE))=TRUE,\"\",VLOOKUP($A248,check!$A:$L,10,FALSE))","v":""},{"$f":"IF(ISERROR(VLOOKUP($A248,check!$A:$L,11,FALSE))=TRUE,\"\",VLOOKUP($A248,check!$A:$L,11,FALSE))","v":""},{"$f":"IF(ISERROR(VLOOKUP($A248,check!$A:$L,12,FALSE))=TRUE,\"\",VLOOKUP($A248,check!$A:$L,12,FALSE))","v":""}]
[249,{"$f":"IF(C249=\"\",\"\",MATCH(A249,check!A:A,0))","v":""},{"$f":"IF(ISERROR(VLOOKUP($A249,check!$A:$L,2,FALSE))=TRUE,\"\",VLOOKUP($A249,check!$A:$L,2,FALSE))","v":""},{"$f":"IF(ISERROR(VLOOKUP($A249,check!$A:$L,3,FALSE))=TRUE,\"\",VLOOKUP($A249,check!$A:$L,3,FALSE))","v":""},{"$f":"IF(ISERROR(VLOOKUP($A249,check!$A:$L,4,FALSE))=TRUE,\"\",VLOOKUP($A249,check!$A:$L,4,FALSE))","v":""},{"$f":"IF(ISERROR(VLOOKUP($A249,check!$A:$L,5,FALSE))=TRUE,\"\",VLOOKUP($A249,check!$A:$L,5,FALSE))","v":""},{"$f":"IF(ISERROR(VLOOKUP($A249,check!$A:$L,6,FALSE))=TRUE,\"\",VLOOKUP($A249,check!$A:$L,6,FALSE))","v":""},{"$f":"IF(ISERROR(VLOOKUP($A249,check!$A:$L,7,FALSE))=TRUE,\"\",VLOOKUP($A249,check!$A:$L,7,FALSE))","v":""},{"$f":"IF(ISERROR(VLOOKUP($A249,check!$A:$L,8,FALSE))=TRUE,\"\",VLOOKUP($A249,check!$A:$L,8,FALSE))","v":""},{"$f":"IF(ISERROR(VLOOKUP($A249,check!$A:$L,9,FALSE))=TRUE,\"\",VLOOKUP($A249,check!$A:$L,9,FALSE))","v":""},{"$f":"IF(ISERROR(VLOOKUP($A249,check!$A:$L,10,FALSE))=TRUE,\"\",VLOOKUP($A249,check!$A:$L,10,FALSE))","v":""},{"$f":"IF(ISERROR(VLOOKUP($A249,check!$A:$L,11,FALSE))=TRUE,\"\",VLOOKUP($A249,check!$A:$L,11,FALSE))","v":""},{"$f":"IF(ISERROR(VLOOKUP($A249,check!$A:$L,12,FALSE))=TRUE,\"\",VLOOKUP($A249,check!$A:$L,12,FALSE))","v":""}]
[250,{"$f":"IF(C250=\"\",\"\",MATCH(A250,check!A:A,0))","v":""},{"$f":"IF(ISERROR(VLOOKUP($A250,check!$A:$L,2,FALSE))=TRUE,\"\",VLOOKUP($A250,check!$A:$L,2,FALSE))","v":""},{"$f":"IF(ISERROR(VLOOKUP($A250,check!$A:$L,3,FALSE))=TRUE,\"\",VLOOKUP($A250,check!$A:$L,3,FALSE))","v":""},{"$f":"IF(ISERROR(VLOOKUP($A250,check!$A:$L,4,FALSE))=TRUE,\"\",VLOOKUP($A250,check!$A:$L,4,FALSE))","v":""},{"$f":"IF(ISERROR(VLOOKUP($A250,check!$A:$L,5,FALSE))=TRUE,\"\",VLOOKUP($A250,check!$A:$L,5,FALSE))","v":""},{"$f":"IF(ISERROR(VLOOKUP($A250,check!$A:$L,6,FALSE))=TRUE,\"\",VLOOKUP($A250,check!$A:$L,6,FALSE))","v":""},{"$f":"IF(ISERROR(VLOOKUP($A250,check!$A:$L,7,FALSE))=TRUE,\"\",VLOOKUP($A250,check!$A:$L,7,FALSE))","v":""},{"$f":"IF(ISERROR(VLOOKUP($A250,check!$A:$L,8,FALSE))=TRUE,\"\",VLOOKUP($A250,check!$A:$L,8,FALSE))","v":""},{"$f":"IF(ISERROR(VLOOKUP($A250,check!$A:$L,9,FALSE))=TRUE,\"\",VLOOKUP($A250,check!$A:$L,9,FALSE))","v":""},{"$f":"IF(ISERROR(VLOOKUP($A250,check!$A:$L,10,FALSE))=TRUE,\"\",VLOOKUP($A250,check!$A:$L,10,FALSE))","v":""},{"$f":"IF(ISERROR(VLOOKUP($A250,check!$A:$L,11,FALSE))=TRUE,\"\",VLOOKUP($A250,check!$A:$L,11,FALSE))","v":""},{"$f":"IF(ISERROR(VLOOKUP($A250,check!$A:$L,12,FALSE))=TRUE,\"\",VLOOKUP($A250,check!$A:$L,12,FALSE))","v":""}]
[251,{"$f":"IF(C251=\"\",\"\",MATCH(A251,check!A:A,0))","v":""},{"$f":"IF(ISERROR(VLOOKUP($A251,check!$A:$L,2,FALSE))=TRUE,\"\",VLOOKUP($A251,check!$A:$L,2,FALSE))","v":""},{"$f":"IF(ISERROR(VLOOKUP($A251,check!$A:$L,3,FALSE))=TRUE,\"\",VLOOKUP($A251,check!$A:$L,3,FALSE))","v":""},{"$f":"IF(ISERROR(VLOOKUP($A251,check!$A:$L,4,FALSE))=TRUE,\"\",VLOOKUP($A251,check!$A:$L,4,FALSE))","v":""},{"$f":"IF(ISERROR(VLOOKUP($A251,check!$A:$L,5,FALSE))=TRUE,\"\",VLOOKUP($A251,check!$A:$L,5,FALSE))","v":""},{"$f":"IF(ISERROR(VLOOKUP($A251,check!$A:$L,6,FALSE))=TRUE,\"\",VLOOKUP($A251,check!$A:$L,6,FALSE))","v":""},{"$f":"IF(ISERROR(VLOOKUP($A251,check!$A:$L,7,FALSE))=TRUE,\"\",VLOOKUP($A251,check!$A:$L,7,FALSE))","v":""},{"$f":"IF(ISERROR(VLOOKUP($A251,check!$A:$L,8,FALSE))=TRUE,\"\",VLOOKUP($A251,check!$A:$L,8,FALSE))","v":""},{"$f":"IF(ISERROR(VLOOKUP($A251,check!$A:$L,9,FALSE))=TRUE,\"\",VLOOKUP($A251,check!$A:$L,9,FALSE))","v":""},{"$f":"IF(ISERROR(VLOOKUP($A251,check!$A:$L,10,FALSE))=TRUE,\"\",VLOOKUP($A251,check!$A:$L,10,FALSE))","v":""},{"$f":"IF(ISERROR(VLOOKUP($A251,check!$A:$L,11,FALSE))=TRUE,\"\",VLOOKUP($A251,check!$A:$L,11,FALSE))","v":""},{"$f":"IF(ISERROR(VLOOKUP($A251,check!$A:$L,12,FALSE))=TRUE,\"\",VLOOKUP($A251,check!$A:$L,12,FALSE))","v":""}]
[252,{"$f":"IF(C252=\"\",\"\",MATCH(A252,check!A:A,0))","v":""},{"$f":"IF(ISERROR(VLOOKUP($A252,check!$A:$L,2,FALSE))=TRUE,\"\",VLOOKUP($A252,check!$A:$L,2,FALSE))","v":""},{"$f":"IF(ISERROR(VLOOKUP($A252,check!$A:$L,3,FALSE))=TRUE,\"\",VLOOKUP($A252,check!$A:$L,3,FALSE))","v":""},{"$f":"IF(ISERROR(VLOOKUP($A252,check!$A:$L,4,FALSE))=TRUE,\"\",VLOOKUP($A252,check!$A:$L,4,FALSE))","v":""},{"$f":"IF(ISERROR(VLOOKUP($A252,check!$A:$L,5,FALSE))=TRUE,\"\",VLOOKUP($A252,check!$A:$L,5,FALSE))","v":""},{"$f":"IF(ISERROR(VLOOKUP($A252,check!$A:$L,6,FALSE))=TRUE,\"\",VLOOKUP($A252,check!$A:$L,6,FALSE))","v":""},{"$f":"IF(ISERROR(VLOOKUP($A252,check!$A:$L,7,FALSE))=TRUE,\"\",VLOOKUP($A252,check!$A:$L,7,FALSE))","v":""},{"$f":"IF(ISERROR(VLOOKUP($A252,check!$A:$L,8,FALSE))=TRUE,\"\",VLOOKUP($A252,check!$A:$L,8,FALSE))","v":""},{"$f":"IF(ISERROR(VLOOKUP($A252,check!$A:$L,9,FALSE))=TRUE,\"\",VLOOKUP($A252,check!$A:$L,9,FALSE))","v":""},{"$f":"IF(ISERROR(VLOOKUP($A252,check!$A:$L,10,FALSE))=TRUE,\"\",VLOOKUP($A252,check!$A:$L,10,FALSE))","v":""},{"$f":"IF(ISERROR(VLOOKUP($A252,check!$A:$L,11,FALSE))=TRUE,\"\",VLOOKUP($A252,check!$A:$L,11,FALSE))","v":""},{"$f":"IF(ISERROR(VLOOKUP($A252,check!$A:$L,12,FALSE))=TRUE,\"\",VLOOKUP($A252,check!$A:$L,12,FALSE))","v":""}]
[253,{"$f":"IF(C253=\"\",\"\",MATCH(A253,check!A:A,0))","v":""},{"$f":"IF(ISERROR(VLOOKUP($A253,check!$A:$L,2,FALSE))=TRUE,\"\",VLOOKUP($A253,check!$A:$L,2,FALSE))","v":""},{"$f":"IF(ISERROR(VLOOKUP($A253,check!$A:$L,3,FALSE))=TRUE,\"\",VLOOKUP($A253,check!$A:$L,3,FALSE))","v":""},{"$f":"IF(ISERROR(VLOOKUP($A253,check!$A:$L,4,FALSE))=TRUE,\"\",VLOOKUP($A253,check!$A:$L,4,FALSE))","v":""},{"$f":"IF(ISERROR(VLOOKUP($A253,check!$A:$L,5,FALSE))=TRUE,\"\",VLOOKUP($A253,check!$A:$L,5,FALSE))","v":""},{"$f":"IF(ISERROR(VLOOKUP($A253,check!$A:$L,6,FALSE))=TRUE,\"\",VLOOKUP($A253,check!$A:$L,6,FALSE))","v":""},{"$f":"IF(ISERROR(VLOOKUP($A253,check!$A:$L,7,FALSE))=TRUE,\"\",VLOOKUP($A253,check!$A:$L,7,FALSE))","v":""},{"$f":"IF(ISERROR(VLOOKUP($A253,check!$A:$L,8,FALSE))=TRUE,\"\",VLOOKUP($A253,check!$A:$L,8,FALSE))","v":""},{"$f":"IF(ISERROR(VLOOKUP($A253,check!$A:$L,9,FALSE))=TRUE,\"\",VLOOKUP($A253,check!$A:$L,9,FALSE))","v":""},{"$f":"IF(ISERROR(VLOOKUP($A253,check!$A:$L,10,FALSE))=TRUE,\"\",VLOOKUP($A253,check!$A:$L,10,FALSE))","v":""},{"$f":"IF(ISERROR(VLOOKUP($A253,check!$A:$L,11,FALSE))=TRUE,\"\",VLOOKUP($A253,check!$A:$L,11,FALSE))","v":""},{"$f":"IF(ISERROR(VLOOKUP($A253,check!$A:$L,12,FALSE))=TRUE,\"\",VLOOKUP($A253,check!$A:$L,12,FALSE))","v":""}]
[254,{"$f":"IF(C254=\"\",\"\",MATCH(A254,check!A:A,0))","v":""},{"$f":"IF(ISERROR(VLOOKUP($A254,check!$A:$L,2,FALSE))=TRUE,\"\",VLOOKUP($A254,check!$A:$L,2,FALSE))","v":""},{"$f":"IF(ISERROR(VLOOKUP($A254,check!$A:$L,3,FALSE))=TRUE,\"\",VLOOKUP($A254,check!$A:$L,3,FALSE))","v":""},{"$f":"IF(ISERROR(VLOOKUP($A254,check!$A:$L,4,FALSE))=TRUE,\"\",VLOOKUP($A254,check!$A:$L,4,FALSE))","v":""},{"$f":"IF(ISERROR(VLOOKUP($A254,check!$A:$L,5,FALSE))=TRUE,\"\",VLOOKUP($A254,check!$A:$L,5,FALSE))","v":""},{"$f":"IF(ISERROR(VLOOKUP($A254,check!$A:$L,6,FALSE))=TRUE,\"\",VLOOKUP($A254,check!$A:$L,6,FALSE))","v":""},{"$f":"IF(ISERROR(VLOOKUP($A254,check!$A:$L,7,FALSE))=TRUE,\"\",VLOOKUP($A254,check!$A:$L,7,FALSE))","v":""},{"$f":"IF(ISERROR(VLOOKUP($A254,check!$A:$L,8,FALSE))=TRUE,\"\",VLOOKUP($A254,check!$A:$L,8,FALSE))","v":""},{"$f":"IF(ISERROR(VLOOKUP($A254,check!$A:$L,9,FALSE))=TRUE,\"\",VLOOKUP($A254,check!$A:$L,9,FALSE))","v":""},{"$f":"IF(ISERROR(VLOOKUP($A254,check!$A:$L,10,FALSE))=TRUE,\"\",VLOOKUP($A254,check!$A:$L,10,FALSE))","v":""},{"$f":"IF(ISERROR(VLOOKUP($A254,check!$A:$L,11,FALSE))=TRUE,\"\",VLOOKUP($A254,check!$A:$L,11,FALSE))","v":""},{"$f":"IF(ISERROR(VLOOKUP($A254,check!$A:$L,12,FALSE))=TRUE,\"\",VLOOKUP($A254,check!$A:$L,12,FALSE))","v":""}]
[255,{"$f":"IF(C255=\"\",\"\",MATCH(A255,check!A:A,0))","v":""},{"$f":"IF(ISERROR(VLOOKUP($A255,check!$A:$L,2,FALSE))=TRUE,\"\",VLOOKUP($A255,check!$A:$L,2,FALSE))","v":""},{"$f":"IF(ISERROR(VLOOKUP($A255,check!$A:$L,3,FALSE))=TRUE,\"\",VLOOKUP($A255,check!$A:$L,3,FALSE))","v":""},{"$f":"IF(ISERROR(VLOOKUP($A255,check!$A:$L,4,FALSE))=TRUE,\"\",VLOOKUP($A255,check!$A:$L,4,FALSE))","v":""},{"$f":"IF(ISERROR(VLOOKUP($A255,check!$A:$L,5,FALSE))=TRUE,\"\",VLOOKUP($A255,check!$A:$L,5,FALSE))","v":""},{"$f":"IF(ISERROR(VLOOKUP($A255,check!$A:$L,6,FALSE))=TRUE,\"\",VLOOKUP($A255,check!$A:$L,6,FALSE))","v":""},{"$f":"IF(ISERROR(VLOOKUP($A255,check!$A:$L,7,FALSE))=TRUE,\"\",VLOOKUP($A255,check!$A:$L,7,FALSE))","v":""},{"$f":"IF(ISERROR(VLOOKUP($A255,check!$A:$L,8,FALSE))=TRUE,\"\",VLOOKUP($A255,check!$A:$L,8,FALSE))","v":""},{"$f":"IF(ISERROR(VLOOKUP($A255,check!$A:$L,9,FALSE))=TRUE,\"\",VLOOKUP($A255,check!$A:$L,9,FALSE))","v":""},{"$f":"IF(ISERROR(VLOOKUP($A255,check!$A:$L,10,FALSE))=TRUE,\"\",VLOOKUP($A255,check!$A:$L,10,FALSE))","v":""},{"$f":"IF(ISERROR(VLOOKUP($A255,check!$A:$L,11,FALSE))=TRUE,\"\",VLOOKUP($A255,check!$A:$L,11,FALSE))","v":""},{"$f":"IF(ISERROR(VLOOKUP($A255,check!$A:$L,12,FALSE))=TRUE,\"\",VLOOKUP($A255,check!$A:$L,12,FALSE))","v":""}]
[256,{"$f":"IF(C256=\"\",\"\",MATCH(A256,check!A:A,0))","v":""},{"$f":"IF(ISERROR(VLOOKUP($A256,check!$A:$L,2,FALSE))=TRUE,\"\",VLOOKUP($A256,check!$A:$L,2,FALSE))","v":""},{"$f":"IF(ISERROR(VLOOKUP($A256,check!$A:$L,3,FALSE))=TRUE,\"\",VLOOKUP($A256,check!$A:$L,3,FALSE))","v":""},{"$f":"IF(ISERROR(VLOOKUP($A256,check!$A:$L,4,FALSE))=TRUE,\"\",VLOOKUP($A256,check!$A:$L,4,FALSE))","v":""},{"$f":"IF(ISERROR(VLOOKUP($A256,check!$A:$L,5,FALSE))=TRUE,\"\",VLOOKUP($A256,check!$A:$L,5,FALSE))","v":""},{"$f":"IF(ISERROR(VLOOKUP($A256,check!$A:$L,6,FALSE))=TRUE,\"\",VLOOKUP($A256,check!$A:$L,6,FALSE))","v":""},{"$f":"IF(ISERROR(VLOOKUP($A256,check!$A:$L,7,FALSE))=TRUE,\"\",VLOOKUP($A256,check!$A:$L,7,FALSE))","v":""},{"$f":"IF(ISERROR(VLOOKUP($A256,check!$A:$L,8,FALSE))=TRUE,\"\",VLOOKUP($A256,check!$A:$L,8,FALSE))","v":""},{"$f":"IF(ISERROR(VLOOKUP($A256,check!$A:$L,9,FALSE))=TRUE,\"\",VLOOKUP($A256,check!$A:$L,9,FALSE))","v":""},{"$f":"IF(ISERROR(VLOOKUP($A256,check!$A:$L,10,FALSE))=TRUE,\"\",VLOOKUP($A256,check!$A:$L,10,FALSE))","v":""},{"$f":"IF(ISERROR(VLOOKUP($A256,check!$A:$L,11,FALSE))=TRUE,\"\",VLOOKUP($A256,check!$A:$L,11,FALSE))","v":""},{"$f":"IF(ISERROR(VLOOKUP($A256,check!$A:$L,12,FALSE))=TRUE,\"\",VLOOKUP($A256,check!$A:$L,12,FALSE))","v":""}]
[257,{"$f":"IF(C257=\"\",\"\",MATCH(A257,check!A:A,0))","v":""},{"$f":"IF(ISERROR(VLOOKUP($A257,check!$A:$L,2,FALSE))=TRUE,\"\",VLOOKUP($A257,check!$A:$L,2,FALSE))","v":""},{"$f":"IF(ISERROR(VLOOKUP($A257,check!$A:$L,3,FALSE))=TRUE,\"\",VLOOKUP($A257,check!$A:$L,3,FALSE))","v":""},{"$f":"IF(ISERROR(VLOOKUP($A257,check!$A:$L,4,FALSE))=TRUE,\"\",VLOOKUP($A257,check!$A:$L,4,FALSE))","v":""},{"$f":"IF(ISERROR(VLOOKUP($A257,check!$A:$L,5,FALSE))=TRUE,\"\",VLOOKUP($A257,check!$A:$L,5,FALSE))","v":""},{"$f":"IF(ISERROR(VLOOKUP($A257,check!$A:$L,6,FALSE))=TRUE,\"\",VLOOKUP($A257,check!$A:$L,6,FALSE))","v":""},{"$f":"IF(ISERROR(VLOOKUP($A257,check!$A:$L,7,FALSE))=TRUE,\"\",VLOOKUP($A257,check!$A:$L,7,FALSE))","v":""},{"$f":"IF(ISERROR(VLOOKUP($A257,check!$A:$L,8,FALSE))=TRUE,\"\",VLOOKUP($A257,check!$A:$L,8,FALSE))","v":""},{"$f":"IF(ISERROR(VLOOKUP($A257,check!$A:$L,9,FALSE))=TRUE,\"\",VLOOKUP($A257,check!$A:$L,9,FALSE))","v":""},{"$f":"IF(ISERROR(VLOOKUP($A257,check!$A:$L,10,FALSE))=TRUE,\"\",VLOOKUP($A257,check!$A:$L,10,FALSE))","v":""},{"$f":"IF(ISERROR(VLOOKUP($A257,check!$A:$L,11,FALSE))=TRUE,\"\",VLOOKUP($A257,check!$A:$L,11,FALSE))","v":""},{"$f":"IF(ISERROR(VLOOKUP($A257,check!$A:$L,12,FALSE))=TRUE,\"\",VLOOKUP($A257,check!$A:$L,12,FALSE))","v":""}]
[258,{"$f":"IF(C258=\"\",\"\",MATCH(A258,check!A:A,0))","v":""},{"$f":"IF(ISERROR(VLOOKUP($A258,check!$A:$L,2,FALSE))=TRUE,\"\",VLOOKUP($A258,check!$A:$L,2,FALSE))","v":""},{"$f":"IF(ISERROR(VLOOKUP($A258,check!$A:$L,3,FALSE))=TRUE,\"\",VLOOKUP($A258,check!$A:$L,3,FALSE))","v":""},{"$f":"IF(ISERROR(VLOOKUP($A258,check!$A:$L,4,FALSE))=TRUE,\"\",VLOOKUP($A258,check!$A:$L,4,FALSE))","v":""},{"$f":"IF(ISERROR(VLOOKUP($A258,check!$A:$L,5,FALSE))=TRUE,\"\",VLOOKUP($A258,check!$A:$L,5,FALSE))","v":""},{"$f":"IF(ISERROR(VLOOKUP($A258,check!$A:$L,6,FALSE))=TRUE,\"\",VLOOKUP($A258,check!$A:$L,6,FALSE))","v":""},{"$f":"IF(ISERROR(VLOOKUP($A258,check!$A:$L,7,FALSE))=TRUE,\"\",VLOOKUP($A258,check!$A:$L,7,FALSE))","v":""},{"$f":"IF(ISERROR(VLOOKUP($A258,check!$A:$L,8,FALSE))=TRUE,\"\",VLOOKUP($A258,check!$A:$L,8,FALSE))","v":""},{"$f":"IF(ISERROR(VLOOKUP($A258,check!$A:$L,9,FALSE))=TRUE,\"\",VLOOKUP($A258,check!$A:$L,9,FALSE))","v":""},{"$f":"IF(ISERROR(VLOOKUP($A258,check!$A:$L,10,FALSE))=TRUE,\"\",VLOOKUP($A258,check!$A:$L,10,FALSE))","v":""},{"$f":"IF(ISERROR(VLOOKUP($A258,check!$A:$L,11,FALSE))=TRUE,\"\",VLOOKUP($A258,check!$A:$L,11,FALSE))","v":""},{"$f":"IF(ISERROR(VLOOKUP($A258,check!$A:$L,12,FALSE))=TRUE,\"\",VLOOKUP($A258,check!$A:$L,12,FALSE))","v":""}]
[259,{"$f":"IF(C259=\"\",\"\",MATCH(A259,check!A:A,0))","v":""},{"$f":"IF(ISERROR(VLOOKUP($A259,check!$A:$L,2,FALSE))=TRUE,\"\",VLOOKUP($A259,check!$A:$L,2,FALSE))","v":""},{"$f":"IF(ISERROR(VLOOKUP($A259,check!$A:$L,3,FALSE))=TRUE,\"\",VLOOKUP($A259,check!$A:$L,3,FALSE))","v":""},{"$f":"IF(ISERROR(VLOOKUP($A259,check!$A:$L,4,FALSE))=TRUE,\"\",VLOOKUP($A259,check!$A:$L,4,FALSE))","v":""},{"$f":"IF(ISERROR(VLOOKUP($A259,check!$A:$L,5,FALSE))=TRUE,\"\",VLOOKUP($A259,check!$A:$L,5,FALSE))","v":""},{"$f":"IF(ISERROR(VLOOKUP($A259,check!$A:$L,6,FALSE))=TRUE,\"\",VLOOKUP($A259,check!$A:$L,6,FALSE))","v":""},{"$f":"IF(ISERROR(VLOOKUP($A259,check!$A:$L,7,FALSE))=TRUE,\"\",VLOOKUP($A259,check!$A:$L,7,FALSE))","v":""},{"$f":"IF(ISERROR(VLOOKUP($A259,check!$A:$L,8,FALSE))=TRUE,\"\",VLOOKUP($A259,check!$A:$L,8,FALSE))","v":""},{"$f":"IF(ISERROR(VLOOKUP($A259,check!$A:$L,9,FALSE))=TRUE,\"\",VLOOKUP($A259,check!$A:$L,9,FALSE))","v":""},{"$f":"IF(ISERROR(VLOOKUP($A259,check!$A:$L,10,FALSE))=TRUE,\"\",VLOOKUP($A259,check!$A:$L,10,FALSE))","v":""},{"$f":"IF(ISERROR(VLOOKUP($A259,check!$A:$L,11,FALSE))=TRUE,\"\",VLOOKUP($A259,check!$A:$L,11,FALSE))","v":""},{"$f":"IF(ISERROR(VLOOKUP($A259,check!$A:$L,12,FALSE))=TRUE,\"\",VLOOKUP($A259,check!$A:$L,12,FALSE))","v":""}]
[{"$f":"A259+1","v":260},{"$f":"IF(C260=\"\",\"\",MATCH(A260,check!A:A,0))","v":""},{"$f":"IF(ISERROR(VLOOKUP($A260,check!$A:$L,2,FALSE))=TRUE,\"\",VLOOKUP($A260,check!$A:$L,2,FALSE))","v":""},{"$f":"IF(ISERROR(VLOOKUP($A260,check!$A:$L,3,FALSE))=TRUE,\"\",VLOOKUP($A260,check!$A:$L,3,FALSE))","v":""},{"$f":"IF(ISERROR(VLOOKUP($A260,check!$A:$L,4,FALSE))=TRUE,\"\",VLOOKUP($A260,check!$A:$L,4,FALSE))","v":""},{"$f":"IF(ISERROR(VLOOKUP($A260,check!$A:$L,5,FALSE))=TRUE,\"\",VLOOKUP($A260,check!$A:$L,5,FALSE))","v":""},{"$f":"IF(ISERROR(VLOOKUP($A260,check!$A:$L,6,FALSE))=TRUE,\"\",VLOOKUP($A260,check!$A:$L,6,FALSE))","v":""},{"$f":"IF(ISERROR(VLOOKUP($A260,check!$A:$L,7,FALSE))=TRUE,\"\",VLOOKUP($A260,check!$A:$L,7,FALSE))","v":""},{"$f":"IF(ISERROR(VLOOKUP($A260,check!$A:$L,8,FALSE))=TRUE,\"\",VLOOKUP($A260,check!$A:$L,8,FALSE))","v":""},{"$f":"IF(ISERROR(VLOOKUP($A260,check!$A:$L,9,FALSE))=TRUE,\"\",VLOOKUP($A260,check!$A:$L,9,FALSE))","v":""},{"$f":"IF(ISERROR(VLOOKUP($A260,check!$A:$L,10,FALSE))=TRUE,\"\",VLOOKUP($A260,check!$A:$L,10,FALSE))","v":""},{"$f":"IF(ISERROR(VLOOKUP($A260,check!$A:$L,11,FALSE))=TRUE,\"\",VLOOKUP($A260,check!$A:$L,11,FALSE))","v":""},{"$f":"IF(ISERROR(VLOOKUP($A260,check!$A:$L,12,FALSE))=TRUE,\"\",VLOOKUP($A260,check!$A:$L,12,FALSE))","v":""}]
[261,{"$f":"IF(C261=\"\",\"\",MATCH(A261,check!A:A,0))","v":""},{"$f":"IF(ISERROR(VLOOKUP($A261,check!$A:$L,2,FALSE))=TRUE,\"\",VLOOKUP($A261,check!$A:$L,2,FALSE))","v":""},{"$f":"IF(ISERROR(VLOOKUP($A261,check!$A:$L,3,FALSE))=TRUE,\"\",VLOOKUP($A261,check!$A:$L,3,FALSE))","v":""},{"$f":"IF(ISERROR(VLOOKUP($A261,check!$A:$L,4,FALSE))=TRUE,\"\",VLOOKUP($A261,check!$A:$L,4,FALSE))","v":""},{"$f":"IF(ISERROR(VLOOKUP($A261,check!$A:$L,5,FALSE))=TRUE,\"\",VLOOKUP($A261,check!$A:$L,5,FALSE))","v":""},{"$f":"IF(ISERROR(VLOOKUP($A261,check!$A:$L,6,FALSE))=TRUE,\"\",VLOOKUP($A261,check!$A:$L,6,FALSE))","v":""},{"$f":"IF(ISERROR(VLOOKUP($A261,check!$A:$L,7,FALSE))=TRUE,\"\",VLOOKUP($A261,check!$A:$L,7,FALSE))","v":""},{"$f":"IF(ISERROR(VLOOKUP($A261,check!$A:$L,8,FALSE))=TRUE,\"\",VLOOKUP($A261,check!$A:$L,8,FALSE))","v":""},{"$f":"IF(ISERROR(VLOOKUP($A261,check!$A:$L,9,FALSE))=TRUE,\"\",VLOOKUP($A261,check!$A:$L,9,FALSE))","v":""},{"$f":"IF(ISERROR(VLOOKUP($A261,check!$A:$L,10,FALSE))=TRUE,\"\",VLOOKUP($A261,check!$A:$L,10,FALSE))","v":""},{"$f":"IF(ISERROR(VLOOKUP($A261,check!$A:$L,11,FALSE))=TRUE,\"\",VLOOKUP($A261,check!$A:$L,11,FALSE))","v":""},{"$f":"IF(ISERROR(VLOOKUP($A261,check!$A:$L,12,FALSE))=TRUE,\"\",VLOOKUP($A261,check!$A:$L,12,FALSE))","v":""}]
[262,{"$f":"IF(C262=\"\",\"\",MATCH(A262,check!A:A,0))","v":""},{"$f":"IF(ISERROR(VLOOKUP($A262,check!$A:$L,2,FALSE))=TRUE,\"\",VLOOKUP($A262,check!$A:$L,2,FALSE))","v":""},{"$f":"IF(ISERROR(VLOOKUP($A262,check!$A:$L,3,FALSE))=TRUE,\"\",VLOOKUP($A262,check!$A:$L,3,FALSE))","v":""},{"$f":"IF(ISERROR(VLOOKUP($A262,check!$A:$L,4,FALSE))=TRUE,\"\",VLOOKUP($A262,check!$A:$L,4,FALSE))","v":""},{"$f":"IF(ISERROR(VLOOKUP($A262,check!$A:$L,5,FALSE))=TRUE,\"\",VLOOKUP($A262,check!$A:$L,5,FALSE))","v":""},{"$f":"IF(ISERROR(VLOOKUP($A262,check!$A:$L,6,FALSE))=TRUE,\"\",VLOOKUP($A262,check!$A:$L,6,FALSE))","v":""},{"$f":"IF(ISERROR(VLOOKUP($A262,check!$A:$L,7,FALSE))=TRUE,\"\",VLOOKUP($A262,check!$A:$L,7,FALSE))","v":""},{"$f":"IF(ISERROR(VLOOKUP($A262,check!$A:$L,8,FALSE))=TRUE,\"\",VLOOKUP($A262,check!$A:$L,8,FALSE))","v":""},{"$f":"IF(ISERROR(VLOOKUP($A262,check!$A:$L,9,FALSE))=TRUE,\"\",VLOOKUP($A262,check!$A:$L,9,FALSE))","v":""},{"$f":"IF(ISERROR(VLOOKUP($A262,check!$A:$L,10,FALSE))=TRUE,\"\",VLOOKUP($A262,check!$A:$L,10,FALSE))","v":""},{"$f":"IF(ISERROR(VLOOKUP($A262,check!$A:$L,11,FALSE))=TRUE,\"\",VLOOKUP($A262,check!$A:$L,11,FALSE))","v":""},{"$f":"IF(ISERROR(VLOOKUP($A262,check!$A:$L,12,FALSE))=TRUE,\"\",VLOOKUP($A262,check!$A:$L,12,FALSE))","v":""}]
[263,{"$f":"IF(C263=\"\",\"\",MATCH(A263,check!A:A,0))","v":""},{"$f":"IF(ISERROR(VLOOKUP($A263,check!$A:$L,2,FALSE))=TRUE,\"\",VLOOKUP($A263,check!$A:$L,2,FALSE))","v":""},{"$f":"IF(ISERROR(VLOOKUP($A263,check!$A:$L,3,FALSE))=TRUE,\"\",VLOOKUP($A263,check!$A:$L,3,FALSE))","v":""},{"$f":"IF(ISERROR(VLOOKUP($A263,check!$A:$L,4,FALSE))=TRUE,\"\",VLOOKUP($A263,check!$A:$L,4,FALSE))","v":""},{"$f":"IF(ISERROR(VLOOKUP($A263,check!$A:$L,5,FALSE))=TRUE,\"\",VLOOKUP($A263,check!$A:$L,5,FALSE))","v":""},{"$f":"IF(ISERROR(VLOOKUP($A263,check!$A:$L,6,FALSE))=TRUE,\"\",VLOOKUP($A263,check!$A:$L,6,FALSE))","v":""},{"$f":"IF(ISERROR(VLOOKUP($A263,check!$A:$L,7,FALSE))=TRUE,\"\",VLOOKUP($A263,check!$A:$L,7,FALSE))","v":""},{"$f":"IF(ISERROR(VLOOKUP($A263,check!$A:$L,8,FALSE))=TRUE,\"\",VLOOKUP($A263,check!$A:$L,8,FALSE))","v":""},{"$f":"IF(ISERROR(VLOOKUP($A263,check!$A:$L,9,FALSE))=TRUE,\"\",VLOOKUP($A263,check!$A:$L,9,FALSE))","v":""},{"$f":"IF(ISERROR(VLOOKUP($A263,check!$A:$L,10,FALSE))=TRUE,\"\",VLOOKUP($A263,check!$A:$L,10,FALSE))","v":""},{"$f":"IF(ISERROR(VLOOKUP($A263,check!$A:$L,11,FALSE))=TRUE,\"\",VLOOKUP($A263,check!$A:$L,11,FALSE))","v":""},{"$f":"IF(ISERROR(VLOOKUP($A263,check!$A:$L,12,FALSE))=TRUE,\"\",VLOOKUP($A263,check!$A:$L,12,FALSE))","v":""}]
[264,{"$f":"IF(C264=\"\",\"\",MATCH(A264,check!A:A,0))","v":""},{"$f":"IF(ISERROR(VLOOKUP($A264,check!$A:$L,2,FALSE))=TRUE,\"\",VLOOKUP($A264,check!$A:$L,2,FALSE))","v":""},{"$f":"IF(ISERROR(VLOOKUP($A264,check!$A:$L,3,FALSE))=TRUE,\"\",VLOOKUP($A264,check!$A:$L,3,FALSE))","v":""},{"$f":"IF(ISERROR(VLOOKUP($A264,check!$A:$L,4,FALSE))=TRUE,\"\",VLOOKUP($A264,check!$A:$L,4,FALSE))","v":""},{"$f":"IF(ISERROR(VLOOKUP($A264,check!$A:$L,5,FALSE))=TRUE,\"\",VLOOKUP($A264,check!$A:$L,5,FALSE))","v":""},{"$f":"IF(ISERROR(VLOOKUP($A264,check!$A:$L,6,FALSE))=TRUE,\"\",VLOOKUP($A264,check!$A:$L,6,FALSE))","v":""},{"$f":"IF(ISERROR(VLOOKUP($A264,check!$A:$L,7,FALSE))=TRUE,\"\",VLOOKUP($A264,check!$A:$L,7,FALSE))","v":""},{"$f":"IF(ISERROR(VLOOKUP($A264,check!$A:$L,8,FALSE))=TRUE,\"\",VLOOKUP($A264,check!$A:$L,8,FALSE))","v":""},{"$f":"IF(ISERROR(VLOOKUP($A264,check!$A:$L,9,FALSE))=TRUE,\"\",VLOOKUP($A264,check!$A:$L,9,FALSE))","v":""},{"$f":"IF(ISERROR(VLOOKUP($A264,check!$A:$L,10,FALSE))=TRUE,\"\",VLOOKUP($A264,check!$A:$L,10,FALSE))","v":""},{"$f":"IF(ISERROR(VLOOKUP($A264,check!$A:$L,11,FALSE))=TRUE,\"\",VLOOKUP($A264,check!$A:$L,11,FALSE))","v":""},{"$f":"IF(ISERROR(VLOOKUP($A264,check!$A:$L,12,FALSE))=TRUE,\"\",VLOOKUP($A264,check!$A:$L,12,FALSE))","v":""}]
[265,{"$f":"IF(C265=\"\",\"\",MATCH(A265,check!A:A,0))","v":""},{"$f":"IF(ISERROR(VLOOKUP($A265,check!$A:$L,2,FALSE))=TRUE,\"\",VLOOKUP($A265,check!$A:$L,2,FALSE))","v":""},{"$f":"IF(ISERROR(VLOOKUP($A265,check!$A:$L,3,FALSE))=TRUE,\"\",VLOOKUP($A265,check!$A:$L,3,FALSE))","v":""},{"$f":"IF(ISERROR(VLOOKUP($A265,check!$A:$L,4,FALSE))=TRUE,\"\",VLOOKUP($A265,check!$A:$L,4,FALSE))","v":""},{"$f":"IF(ISERROR(VLOOKUP($A265,check!$A:$L,5,FALSE))=TRUE,\"\",VLOOKUP($A265,check!$A:$L,5,FALSE))","v":""},{"$f":"IF(ISERROR(VLOOKUP($A265,check!$A:$L,6,FALSE))=TRUE,\"\",VLOOKUP($A265,check!$A:$L,6,FALSE))","v":""},{"$f":"IF(ISERROR(VLOOKUP($A265,check!$A:$L,7,FALSE))=TRUE,\"\",VLOOKUP($A265,check!$A:$L,7,FALSE))","v":""},{"$f":"IF(ISERROR(VLOOKUP($A265,check!$A:$L,8,FALSE))=TRUE,\"\",VLOOKUP($A265,check!$A:$L,8,FALSE))","v":""},{"$f":"IF(ISERROR(VLOOKUP($A265,check!$A:$L,9,FALSE))=TRUE,\"\",VLOOKUP($A265,check!$A:$L,9,FALSE))","v":""},{"$f":"IF(ISERROR(VLOOKUP($A265,check!$A:$L,10,FALSE))=TRUE,\"\",VLOOKUP($A265,check!$A:$L,10,FALSE))","v":""},{"$f":"IF(ISERROR(VLOOKUP($A265,check!$A:$L,11,FALSE))=TRUE,\"\",VLOOKUP($A265,check!$A:$L,11,FALSE))","v":""},{"$f":"IF(ISERROR(VLOOKUP($A265,check!$A:$L,12,FALSE))=TRUE,\"\",VLOOKUP($A265,check!$A:$L,12,FALSE))","v":""}]
[266,{"$f":"IF(C266=\"\",\"\",MATCH(A266,check!A:A,0))","v":""},{"$f":"IF(ISERROR(VLOOKUP($A266,check!$A:$L,2,FALSE))=TRUE,\"\",VLOOKUP($A266,check!$A:$L,2,FALSE))","v":""},{"$f":"IF(ISERROR(VLOOKUP($A266,check!$A:$L,3,FALSE))=TRUE,\"\",VLOOKUP($A266,check!$A:$L,3,FALSE))","v":""},{"$f":"IF(ISERROR(VLOOKUP($A266,check!$A:$L,4,FALSE))=TRUE,\"\",VLOOKUP($A266,check!$A:$L,4,FALSE))","v":""},{"$f":"IF(ISERROR(VLOOKUP($A266,check!$A:$L,5,FALSE))=TRUE,\"\",VLOOKUP($A266,check!$A:$L,5,FALSE))","v":""},{"$f":"IF(ISERROR(VLOOKUP($A266,check!$A:$L,6,FALSE))=TRUE,\"\",VLOOKUP($A266,check!$A:$L,6,FALSE))","v":""},{"$f":"IF(ISERROR(VLOOKUP($A266,check!$A:$L,7,FALSE))=TRUE,\"\",VLOOKUP($A266,check!$A:$L,7,FALSE))","v":""},{"$f":"IF(ISERROR(VLOOKUP($A266,check!$A:$L,8,FALSE))=TRUE,\"\",VLOOKUP($A266,check!$A:$L,8,FALSE))","v":""},{"$f":"IF(ISERROR(VLOOKUP($A266,check!$A:$L,9,FALSE))=TRUE,\"\",VLOOKUP($A266,check!$A:$L,9,FALSE))","v":""},{"$f":"IF(ISERROR(VLOOKUP($A266,check!$A:$L,10,FALSE))=TRUE,\"\",VLOOKUP($A266,check!$A:$L,10,FALSE))","v":""},{"$f":"IF(ISERROR(VLOOKUP($A266,check!$A:$L,11,FALSE))=TRUE,\"\",VLOOKUP($A266,check!$A:$L,11,FALSE))","v":""},{"$f":"IF(ISERROR(VLOOKUP($A266,check!$A:$L,12,FALSE))=TRUE,\"\",VLOOKUP($A266,check!$A:$L,12,FALSE))","v":""}]
[267,{"$f":"IF(C267=\"\",\"\",MATCH(A267,check!A:A,0))","v":""},{"$f":"IF(ISERROR(VLOOKUP($A267,check!$A:$L,2,FALSE))=TRUE,\"\",VLOOKUP($A267,check!$A:$L,2,FALSE))","v":""},{"$f":"IF(ISERROR(VLOOKUP($A267,check!$A:$L,3,FALSE))=TRUE,\"\",VLOOKUP($A267,check!$A:$L,3,FALSE))","v":""},{"$f":"IF(ISERROR(VLOOKUP($A267,check!$A:$L,4,FALSE))=TRUE,\"\",VLOOKUP($A267,check!$A:$L,4,FALSE))","v":""},{"$f":"IF(ISERROR(VLOOKUP($A267,check!$A:$L,5,FALSE))=TRUE,\"\",VLOOKUP($A267,check!$A:$L,5,FALSE))","v":""},{"$f":"IF(ISERROR(VLOOKUP($A267,check!$A:$L,6,FALSE))=TRUE,\"\",VLOOKUP($A267,check!$A:$L,6,FALSE))","v":""},{"$f":"IF(ISERROR(VLOOKUP($A267,check!$A:$L,7,FALSE))=TRUE,\"\",VLOOKUP($A267,check!$A:$L,7,FALSE))","v":""},{"$f":"IF(ISERROR(VLOOKUP($A267,check!$A:$L,8,FALSE))=TRUE,\"\",VLOOKUP($A267,check!$A:$L,8,FALSE))","v":""},{"$f":"IF(ISERROR(VLOOKUP($A267,check!$A:$L,9,FALSE))=TRUE,\"\",VLOOKUP($A267,check!$A:$L,9,FALSE))","v":""},{"$f":"IF(ISERROR(VLOOKUP($A267,check!$A:$L,10,FALSE))=TRUE,\"\",VLOOKUP($A267,check!$A:$L,10,FALSE))","v":""},{"$f":"IF(ISERROR(VLOOKUP($A267,check!$A:$L,11,FALSE))=TRUE,\"\",VLOOKUP($A267,check!$A:$L,11,FALSE))","v":""},{"$f":"IF(ISERROR(VLOOKUP($A267,check!$A:$L,12,FALSE))=TRUE,\"\",VLOOKUP($A267,check!$A:$L,12,FALSE))","v":""}]
[268,{"$f":"IF(C268=\"\",\"\",MATCH(A268,check!A:A,0))","v":""},{"$f":"IF(ISERROR(VLOOKUP($A268,check!$A:$L,2,FALSE))=TRUE,\"\",VLOOKUP($A268,check!$A:$L,2,FALSE))","v":""},{"$f":"IF(ISERROR(VLOOKUP($A268,check!$A:$L,3,FALSE))=TRUE,\"\",VLOOKUP($A268,check!$A:$L,3,FALSE))","v":""},{"$f":"IF(ISERROR(VLOOKUP($A268,check!$A:$L,4,FALSE))=TRUE,\"\",VLOOKUP($A268,check!$A:$L,4,FALSE))","v":""},{"$f":"IF(ISERROR(VLOOKUP($A268,check!$A:$L,5,FALSE))=TRUE,\"\",VLOOKUP($A268,check!$A:$L,5,FALSE))","v":""},{"$f":"IF(ISERROR(VLOOKUP($A268,check!$A:$L,6,FALSE))=TRUE,\"\",VLOOKUP($A268,check!$A:$L,6,FALSE))","v":""},{"$f":"IF(ISERROR(VLOOKUP($A268,check!$A:$L,7,FALSE))=TRUE,\"\",VLOOKUP($A268,check!$A:$L,7,FALSE))","v":""},{"$f":"IF(ISERROR(VLOOKUP($A268,check!$A:$L,8,FALSE))=TRUE,\"\",VLOOKUP($A268,check!$A:$L,8,FALSE))","v":""},{"$f":"IF(ISERROR(VLOOKUP($A268,check!$A:$L,9,FALSE))=TRUE,\"\",VLOOKUP($A268,check!$A:$L,9,FALSE))","v":""},{"$f":"IF(ISERROR(VLOOKUP($A268,check!$A:$L,10,FALSE))=TRUE,\"\",VLOOKUP($A268,check!$A:$L,10,FALSE))","v":""},{"$f":"IF(ISERROR(VLOOKUP($A268,check!$A:$L,11,FALSE))=TRUE,\"\",VLOOKUP($A268,check!$A:$L,11,FALSE))","v":""},{"$f":"IF(ISERROR(VLOOKUP($A268,check!$A:$L,12,FALSE))=TRUE,\"\",VLOOKUP($A268,check!$A:$L,12,FALSE))","v":""}]
[269,{"$f":"IF(C269=\"\",\"\",MATCH(A269,check!A:A,0))","v":""},{"$f":"IF(ISERROR(VLOOKUP($A269,check!$A:$L,2,FALSE))=TRUE,\"\",VLOOKUP($A269,check!$A:$L,2,FALSE))","v":""},{"$f":"IF(ISERROR(VLOOKUP($A269,check!$A:$L,3,FALSE))=TRUE,\"\",VLOOKUP($A269,check!$A:$L,3,FALSE))","v":""},{"$f":"IF(ISERROR(VLOOKUP($A269,check!$A:$L,4,FALSE))=TRUE,\"\",VLOOKUP($A269,check!$A:$L,4,FALSE))","v":""},{"$f":"IF(ISERROR(VLOOKUP($A269,check!$A:$L,5,FALSE))=TRUE,\"\",VLOOKUP($A269,check!$A:$L,5,FALSE))","v":""},{"$f":"IF(ISERROR(VLOOKUP($A269,check!$A:$L,6,FALSE))=TRUE,\"\",VLOOKUP($A269,check!$A:$L,6,FALSE))","v":""},{"$f":"IF(ISERROR(VLOOKUP($A269,check!$A:$L,7,FALSE))=TRUE,\"\",VLOOKUP($A269,check!$A:$L,7,FALSE))","v":""},{"$f":"IF(ISERROR(VLOOKUP($A269,check!$A:$L,8,FALSE))=TRUE,\"\",VLOOKUP($A269,check!$A:$L,8,FALSE))","v":""},{"$f":"IF(ISERROR(VLOOKUP($A269,check!$A:$L,9,FALSE))=TRUE,\"\",VLOOKUP($A269,check!$A:$L,9,FALSE))","v":""},{"$f":"IF(ISERROR(VLOOKUP($A269,check!$A:$L,10,FALSE))=TRUE,\"\",VLOOKUP($A269,check!$A:$L,10,FALSE))","v":""},{"$f":"IF(ISERROR(VLOOKUP($A269,check!$A:$L,11,FALSE))=TRUE,\"\",VLOOKUP($A269,check!$A:$L,11,FALSE))","v":""},{"$f":"IF(ISERROR(VLOOKUP($A269,check!$A:$L,12,FALSE))=TRUE,\"\",VLOOKUP($A269,check!$A:$L,12,FALSE))","v":""}]
[270,{"$f":"IF(C270=\"\",\"\",MATCH(A270,check!A:A,0))","v":""},{"$f":"IF(ISERROR(VLOOKUP($A270,check!$A:$L,2,FALSE))=TRUE,\"\",VLOOKUP($A270,check!$A:$L,2,FALSE))","v":""},{"$f":"IF(ISERROR(VLOOKUP($A270,check!$A:$L,3,FALSE))=TRUE,\"\",VLOOKUP($A270,check!$A:$L,3,FALSE))","v":""},{"$f":"IF(ISERROR(VLOOKUP($A270,check!$A:$L,4,FALSE))=TRUE,\"\",VLOOKUP($A270,check!$A:$L,4,FALSE))","v":""},{"$f":"IF(ISERROR(VLOOKUP($A270,check!$A:$L,5,FALSE))=TRUE,\"\",VLOOKUP($A270,check!$A:$L,5,FALSE))","v":""},{"$f":"IF(ISERROR(VLOOKUP($A270,check!$A:$L,6,FALSE))=TRUE,\"\",VLOOKUP($A270,check!$A:$L,6,FALSE))","v":""},{"$f":"IF(ISERROR(VLOOKUP($A270,check!$A:$L,7,FALSE))=TRUE,\"\",VLOOKUP($A270,check!$A:$L,7,FALSE))","v":""},{"$f":"IF(ISERROR(VLOOKUP($A270,check!$A:$L,8,FALSE))=TRUE,\"\",VLOOKUP($A270,check!$A:$L,8,FALSE))","v":""},{"$f":"IF(ISERROR(VLOOKUP($A270,check!$A:$L,9,FALSE))=TRUE,\"\",VLOOKUP($A270,check!$A:$L,9,FALSE))","v":""},{"$f":"IF(ISERROR(VLOOKUP($A270,check!$A:$L,10,FALSE))=TRUE,\"\",VLOOKUP($A270,check!$A:$L,10,FALSE))","v":""},{"$f":"IF(ISERROR(VLOOKUP($A270,check!$A:$L,11,FALSE))=TRUE,\"\",VLOOKUP($A270,check!$A:$L,11,FALSE))","v":""},{"$f":"IF(ISERROR(VLOOKUP($A270,check!$A:$L,12,FALSE))=TRUE,\"\",VLOOKUP($A270,check!$A:$L,12,FALSE))","v":""}]
[271,{"$f":"IF(C271=\"\",\"\",MATCH(A271,check!A:A,0))","v":""},{"$f":"IF(ISERROR(VLOOKUP($A271,check!$A:$L,2,FALSE))=TRUE,\"\",VLOOKUP($A271,check!$A:$L,2,FALSE))","v":""},{"$f":"IF(ISERROR(VLOOKUP($A271,check!$A:$L,3,FALSE))=TRUE,\"\",VLOOKUP($A271,check!$A:$L,3,FALSE))","v":""},{"$f":"IF(ISERROR(VLOOKUP($A271,check!$A:$L,4,FALSE))=TRUE,\"\",VLOOKUP($A271,check!$A:$L,4,FALSE))","v":""},{"$f":"IF(ISERROR(VLOOKUP($A271,check!$A:$L,5,FALSE))=TRUE,\"\",VLOOKUP($A271,check!$A:$L,5,FALSE))","v":""},{"$f":"IF(ISERROR(VLOOKUP($A271,check!$A:$L,6,FALSE))=TRUE,\"\",VLOOKUP($A271,check!$A:$L,6,FALSE))","v":""},{"$f":"IF(ISERROR(VLOOKUP($A271,check!$A:$L,7,FALSE))=TRUE,\"\",VLOOKUP($A271,check!$A:$L,7,FALSE))","v":""},{"$f":"IF(ISERROR(VLOOKUP($A271,check!$A:$L,8,FALSE))=TRUE,\"\",VLOOKUP($A271,check!$A:$L,8,FALSE))","v":""},{"$f":"IF(ISERROR(VLOOKUP($A271,check!$A:$L,9,FALSE))=TRUE,\"\",VLOOKUP($A271,check!$A:$L,9,FALSE))","v":""},{"$f":"IF(ISERROR(VLOOKUP($A271,check!$A:$L,10,FALSE))=TRUE,\"\",VLOOKUP($A271,check!$A:$L,10,FALSE))","v":""},{"$f":"IF(ISERROR(VLOOKUP($A271,check!$A:$L,11,FALSE))=TRUE,\"\",VLOOKUP($A271,check!$A:$L,11,FALSE))","v":""},{"$f":"IF(ISERROR(VLOOKUP($A271,check!$A:$L,12,FALSE))=TRUE,\"\",VLOOKUP($A271,check!$A:$L,12,FALSE))","v":""}]
[272,{"$f":"IF(C272=\"\",\"\",MATCH(A272,check!A:A,0))","v":""},{"$f":"IF(ISERROR(VLOOKUP($A272,check!$A:$L,2,FALSE))=TRUE,\"\",VLOOKUP($A272,check!$A:$L,2,FALSE))","v":""},{"$f":"IF(ISERROR(VLOOKUP($A272,check!$A:$L,3,FALSE))=TRUE,\"\",VLOOKUP($A272,check!$A:$L,3,FALSE))","v":""},{"$f":"IF(ISERROR(VLOOKUP($A272,check!$A:$L,4,FALSE))=TRUE,\"\",VLOOKUP($A272,check!$A:$L,4,FALSE))","v":""},{"$f":"IF(ISERROR(VLOOKUP($A272,check!$A:$L,5,FALSE))=TRUE,\"\",VLOOKUP($A272,check!$A:$L,5,FALSE))","v":""},{"$f":"IF(ISERROR(VLOOKUP($A272,check!$A:$L,6,FALSE))=TRUE,\"\",VLOOKUP($A272,check!$A:$L,6,FALSE))","v":""},{"$f":"IF(ISERROR(VLOOKUP($A272,check!$A:$L,7,FALSE))=TRUE,\"\",VLOOKUP($A272,check!$A:$L,7,FALSE))","v":""},{"$f":"IF(ISERROR(VLOOKUP($A272,check!$A:$L,8,FALSE))=TRUE,\"\",VLOOKUP($A272,check!$A:$L,8,FALSE))","v":""},{"$f":"IF(ISERROR(VLOOKUP($A272,check!$A:$L,9,FALSE))=TRUE,\"\",VLOOKUP($A272,check!$A:$L,9,FALSE))","v":""},{"$f":"IF(ISERROR(VLOOKUP($A272,check!$A:$L,10,FALSE))=TRUE,\"\",VLOOKUP($A272,check!$A:$L,10,FALSE))","v":""},{"$f":"IF(ISERROR(VLOOKUP($A272,check!$A:$L,11,FALSE))=TRUE,\"\",VLOOKUP($A272,check!$A:$L,11,FALSE))","v":""},{"$f":"IF(ISERROR(VLOOKUP($A272,check!$A:$L,12,FALSE))=TRUE,\"\",VLOOKUP($A272,check!$A:$L,12,FALSE))","v":""}]
[273,{"$f":"IF(C273=\"\",\"\",MATCH(A273,check!A:A,0))","v":""},{"$f":"IF(ISERROR(VLOOKUP($A273,check!$A:$L,2,FALSE))=TRUE,\"\",VLOOKUP($A273,check!$A:$L,2,FALSE))","v":""},{"$f":"IF(ISERROR(VLOOKUP($A273,check!$A:$L,3,FALSE))=TRUE,\"\",VLOOKUP($A273,check!$A:$L,3,FALSE))","v":""},{"$f":"IF(ISERROR(VLOOKUP($A273,check!$A:$L,4,FALSE))=TRUE,\"\",VLOOKUP($A273,check!$A:$L,4,FALSE))","v":""},{"$f":"IF(ISERROR(VLOOKUP($A273,check!$A:$L,5,FALSE))=TRUE,\"\",VLOOKUP($A273,check!$A:$L,5,FALSE))","v":""},{"$f":"IF(ISERROR(VLOOKUP($A273,check!$A:$L,6,FALSE))=TRUE,\"\",VLOOKUP($A273,check!$A:$L,6,FALSE))","v":""},{"$f":"IF(ISERROR(VLOOKUP($A273,check!$A:$L,7,FALSE))=TRUE,\"\",VLOOKUP($A273,check!$A:$L,7,FALSE))","v":""},{"$f":"IF(ISERROR(VLOOKUP($A273,check!$A:$L,8,FALSE))=TRUE,\"\",VLOOKUP($A273,check!$A:$L,8,FALSE))","v":""},{"$f":"IF(ISERROR(VLOOKUP($A273,check!$A:$L,9,FALSE))=TRUE,\"\",VLOOKUP($A273,check!$A:$L,9,FALSE))","v":""},{"$f":"IF(ISERROR(VLOOKUP($A273,check!$A:$L,10,FALSE))=TRUE,\"\",VLOOKUP($A273,check!$A:$L,10,FALSE))","v":""},{"$f":"IF(ISERROR(VLOOKUP($A273,check!$A:$L,11,FALSE))=TRUE,\"\",VLOOKUP($A273,check!$A:$L,11,FALSE))","v":""},{"$f":"IF(ISERROR(VLOOKUP($A273,check!$A:$L,12,FALSE))=TRUE,\"\",VLOOKUP($A273,check!$A:$L,12,FALSE))","v":""}]
[274,{"$f":"IF(C274=\"\",\"\",MATCH(A274,check!A:A,0))","v":""},{"$f":"IF(ISERROR(VLOOKUP($A274,check!$A:$L,2,FALSE))=TRUE,\"\",VLOOKUP($A274,check!$A:$L,2,FALSE))","v":""},{"$f":"IF(ISERROR(VLOOKUP($A274,check!$A:$L,3,FALSE))=TRUE,\"\",VLOOKUP($A274,check!$A:$L,3,FALSE))","v":""},{"$f":"IF(ISERROR(VLOOKUP($A274,check!$A:$L,4,FALSE))=TRUE,\"\",VLOOKUP($A274,check!$A:$L,4,FALSE))","v":""},{"$f":"IF(ISERROR(VLOOKUP($A274,check!$A:$L,5,FALSE))=TRUE,\"\",VLOOKUP($A274,check!$A:$L,5,FALSE))","v":""},{"$f":"IF(ISERROR(VLOOKUP($A274,check!$A:$L,6,FALSE))=TRUE,\"\",VLOOKUP($A274,check!$A:$L,6,FALSE))","v":""},{"$f":"IF(ISERROR(VLOOKUP($A274,check!$A:$L,7,FALSE))=TRUE,\"\",VLOOKUP($A274,check!$A:$L,7,FALSE))","v":""},{"$f":"IF(ISERROR(VLOOKUP($A274,check!$A:$L,8,FALSE))=TRUE,\"\",VLOOKUP($A274,check!$A:$L,8,FALSE))","v":""},{"$f":"IF(ISERROR(VLOOKUP($A274,check!$A:$L,9,FALSE))=TRUE,\"\",VLOOKUP($A274,check!$A:$L,9,FALSE))","v":""},{"$f":"IF(ISERROR(VLOOKUP($A274,check!$A:$L,10,FALSE))=TRUE,\"\",VLOOKUP($A274,check!$A:$L,10,FALSE))","v":""},{"$f":"IF(ISERROR(VLOOKUP($A274,check!$A:$L,11,FALSE))=TRUE,\"\",VLOOKUP($A274,check!$A:$L,11,FALSE))","v":""},{"$f":"IF(ISERROR(VLOOKUP($A274,check!$A:$L,12,FALSE))=TRUE,\"\",VLOOKUP($A274,check!$A:$L,12,FALSE))","v":""}]
[275,{"$f":"IF(C275=\"\",\"\",MATCH(A275,check!A:A,0))","v":""},{"$f":"IF(ISERROR(VLOOKUP($A275,check!$A:$L,2,FALSE))=TRUE,\"\",VLOOKUP($A275,check!$A:$L,2,FALSE))","v":""},{"$f":"IF(ISERROR(VLOOKUP($A275,check!$A:$L,3,FALSE))=TRUE,\"\",VLOOKUP($A275,check!$A:$L,3,FALSE))","v":""},{"$f":"IF(ISERROR(VLOOKUP($A275,check!$A:$L,4,FALSE))=TRUE,\"\",VLOOKUP($A275,check!$A:$L,4,FALSE))","v":""},{"$f":"IF(ISERROR(VLOOKUP($A275,check!$A:$L,5,FALSE))=TRUE,\"\",VLOOKUP($A275,check!$A:$L,5,FALSE))","v":""},{"$f":"IF(ISERROR(VLOOKUP($A275,check!$A:$L,6,FALSE))=TRUE,\"\",VLOOKUP($A275,check!$A:$L,6,FALSE))","v":""},{"$f":"IF(ISERROR(VLOOKUP($A275,check!$A:$L,7,FALSE))=TRUE,\"\",VLOOKUP($A275,check!$A:$L,7,FALSE))","v":""},{"$f":"IF(ISERROR(VLOOKUP($A275,check!$A:$L,8,FALSE))=TRUE,\"\",VLOOKUP($A275,check!$A:$L,8,FALSE))","v":""},{"$f":"IF(ISERROR(VLOOKUP($A275,check!$A:$L,9,FALSE))=TRUE,\"\",VLOOKUP($A275,check!$A:$L,9,FALSE))","v":""},{"$f":"IF(ISERROR(VLOOKUP($A275,check!$A:$L,10,FALSE))=TRUE,\"\",VLOOKUP($A275,check!$A:$L,10,FALSE))","v":""},{"$f":"IF(ISERROR(VLOOKUP($A275,check!$A:$L,11,FALSE))=TRUE,\"\",VLOOKUP($A275,check!$A:$L,11,FALSE))","v":""},{"$f":"IF(ISERROR(VLOOKUP($A275,check!$A:$L,12,FALSE))=TRUE,\"\",VLOOKUP($A275,check!$A:$L,12,FALSE))","v":""}]
[276,{"$f":"IF(C276=\"\",\"\",MATCH(A276,check!A:A,0))","v":""},{"$f":"IF(ISERROR(VLOOKUP($A276,check!$A:$L,2,FALSE))=TRUE,\"\",VLOOKUP($A276,check!$A:$L,2,FALSE))","v":""},{"$f":"IF(ISERROR(VLOOKUP($A276,check!$A:$L,3,FALSE))=TRUE,\"\",VLOOKUP($A276,check!$A:$L,3,FALSE))","v":""},{"$f":"IF(ISERROR(VLOOKUP($A276,check!$A:$L,4,FALSE))=TRUE,\"\",VLOOKUP($A276,check!$A:$L,4,FALSE))","v":""},{"$f":"IF(ISERROR(VLOOKUP($A276,check!$A:$L,5,FALSE))=TRUE,\"\",VLOOKUP($A276,check!$A:$L,5,FALSE))","v":""},{"$f":"IF(ISERROR(VLOOKUP($A276,check!$A:$L,6,FALSE))=TRUE,\"\",VLOOKUP($A276,check!$A:$L,6,FALSE))","v":""},{"$f":"IF(ISERROR(VLOOKUP($A276,check!$A:$L,7,FALSE))=TRUE,\"\",VLOOKUP($A276,check!$A:$L,7,FALSE))","v":""},{"$f":"IF(ISERROR(VLOOKUP($A276,check!$A:$L,8,FALSE))=TRUE,\"\",VLOOKUP($A276,check!$A:$L,8,FALSE))","v":""},{"$f":"IF(ISERROR(VLOOKUP($A276,check!$A:$L,9,FALSE))=TRUE,\"\",VLOOKUP($A276,check!$A:$L,9,FALSE))","v":""},{"$f":"IF(ISERROR(VLOOKUP($A276,check!$A:$L,10,FALSE))=TRUE,\"\",VLOOKUP($A276,check!$A:$L,10,FALSE))","v":""},{"$f":"IF(ISERROR(VLOOKUP($A276,check!$A:$L,11,FALSE))=TRUE,\"\",VLOOKUP($A276,check!$A:$L,11,FALSE))","v":""},{"$f":"IF(ISERROR(VLOOKUP($A276,check!$A:$L,12,FALSE))=TRUE,\"\",VLOOKUP($A276,check!$A:$L,12,FALSE))","v":""}]
[277,{"$f":"IF(C277=\"\",\"\",MATCH(A277,check!A:A,0))","v":""},{"$f":"IF(ISERROR(VLOOKUP($A277,check!$A:$L,2,FALSE))=TRUE,\"\",VLOOKUP($A277,check!$A:$L,2,FALSE))","v":""},{"$f":"IF(ISERROR(VLOOKUP($A277,check!$A:$L,3,FALSE))=TRUE,\"\",VLOOKUP($A277,check!$A:$L,3,FALSE))","v":""},{"$f":"IF(ISERROR(VLOOKUP($A277,check!$A:$L,4,FALSE))=TRUE,\"\",VLOOKUP($A277,check!$A:$L,4,FALSE))","v":""},{"$f":"IF(ISERROR(VLOOKUP($A277,check!$A:$L,5,FALSE))=TRUE,\"\",VLOOKUP($A277,check!$A:$L,5,FALSE))","v":""},{"$f":"IF(ISERROR(VLOOKUP($A277,check!$A:$L,6,FALSE))=TRUE,\"\",VLOOKUP($A277,check!$A:$L,6,FALSE))","v":""},{"$f":"IF(ISERROR(VLOOKUP($A277,check!$A:$L,7,FALSE))=TRUE,\"\",VLOOKUP($A277,check!$A:$L,7,FALSE))","v":""},{"$f":"IF(ISERROR(VLOOKUP($A277,check!$A:$L,8,FALSE))=TRUE,\"\",VLOOKUP($A277,check!$A:$L,8,FALSE))","v":""},{"$f":"IF(ISERROR(VLOOKUP($A277,check!$A:$L,9,FALSE))=TRUE,\"\",VLOOKUP($A277,check!$A:$L,9,FALSE))","v":""},{"$f":"IF(ISERROR(VLOOKUP($A277,check!$A:$L,10,FALSE))=TRUE,\"\",VLOOKUP($A277,check!$A:$L,10,FALSE))","v":""},{"$f":"IF(ISERROR(VLOOKUP($A277,check!$A:$L,11,FALSE))=TRUE,\"\",VLOOKUP($A277,check!$A:$L,11,FALSE))","v":""},{"$f":"IF(ISERROR(VLOOKUP($A277,check!$A:$L,12,FALSE))=TRUE,\"\",VLOOKUP($A277,check!$A:$L,12,FALSE))","v":""}]
[278,{"$f":"IF(C278=\"\",\"\",MATCH(A278,check!A:A,0))","v":""},{"$f":"IF(ISERROR(VLOOKUP($A278,check!$A:$L,2,FALSE))=TRUE,\"\",VLOOKUP($A278,check!$A:$L,2,FALSE))","v":""},{"$f":"IF(ISERROR(VLOOKUP($A278,check!$A:$L,3,FALSE))=TRUE,\"\",VLOOKUP($A278,check!$A:$L,3,FALSE))","v":""},{"$f":"IF(ISERROR(VLOOKUP($A278,check!$A:$L,4,FALSE))=TRUE,\"\",VLOOKUP($A278,check!$A:$L,4,FALSE))","v":""},{"$f":"IF(ISERROR(VLOOKUP($A278,check!$A:$L,5,FALSE))=TRUE,\"\",VLOOKUP($A278,check!$A:$L,5,FALSE))","v":""},{"$f":"IF(ISERROR(VLOOKUP($A278,check!$A:$L,6,FALSE))=TRUE,\"\",VLOOKUP($A278,check!$A:$L,6,FALSE))","v":""},{"$f":"IF(ISERROR(VLOOKUP($A278,check!$A:$L,7,FALSE))=TRUE,\"\",VLOOKUP($A278,check!$A:$L,7,FALSE))","v":""},{"$f":"IF(ISERROR(VLOOKUP($A278,check!$A:$L,8,FALSE))=TRUE,\"\",VLOOKUP($A278,check!$A:$L,8,FALSE))","v":""},{"$f":"IF(ISERROR(VLOOKUP($A278,check!$A:$L,9,FALSE))=TRUE,\"\",VLOOKUP($A278,check!$A:$L,9,FALSE))","v":""},{"$f":"IF(ISERROR(VLOOKUP($A278,check!$A:$L,10,FALSE))=TRUE,\"\",VLOOKUP($A278,check!$A:$L,10,FALSE))","v":""},{"$f":"IF(ISERROR(VLOOKUP($A278,check!$A:$L,11,FALSE))=TRUE,\"\",VLOOKUP($A278,check!$A:$L,11,FALSE))","v":""},{"$f":"IF(ISERROR(VLOOKUP($A278,check!$A:$L,12,FALSE))=TRUE,\"\",VLOOKUP($A278,check!$A:$L,12,FALSE))","v":""}]
[279,{"$f":"IF(C279=\"\",\"\",MATCH(A279,check!A:A,0))","v":""},{"$f":"IF(ISERROR(VLOOKUP($A279,check!$A:$L,2,FALSE))=TRUE,\"\",VLOOKUP($A279,check!$A:$L,2,FALSE))","v":""},{"$f":"IF(ISERROR(VLOOKUP($A279,check!$A:$L,3,FALSE))=TRUE,\"\",VLOOKUP($A279,check!$A:$L,3,FALSE))","v":""},{"$f":"IF(ISERROR(VLOOKUP($A279,check!$A:$L,4,FALSE))=TRUE,\"\",VLOOKUP($A279,check!$A:$L,4,FALSE))","v":""},{"$f":"IF(ISERROR(VLOOKUP($A279,check!$A:$L,5,FALSE))=TRUE,\"\",VLOOKUP($A279,check!$A:$L,5,FALSE))","v":""},{"$f":"IF(ISERROR(VLOOKUP($A279,check!$A:$L,6,FALSE))=TRUE,\"\",VLOOKUP($A279,check!$A:$L,6,FALSE))","v":""},{"$f":"IF(ISERROR(VLOOKUP($A279,check!$A:$L,7,FALSE))=TRUE,\"\",VLOOKUP($A279,check!$A:$L,7,FALSE))","v":""},{"$f":"IF(ISERROR(VLOOKUP($A279,check!$A:$L,8,FALSE))=TRUE,\"\",VLOOKUP($A279,check!$A:$L,8,FALSE))","v":""},{"$f":"IF(ISERROR(VLOOKUP($A279,check!$A:$L,9,FALSE))=TRUE,\"\",VLOOKUP($A279,check!$A:$L,9,FALSE))","v":""},{"$f":"IF(ISERROR(VLOOKUP($A279,check!$A:$L,10,FALSE))=TRUE,\"\",VLOOKUP($A279,check!$A:$L,10,FALSE))","v":""},{"$f":"IF(ISERROR(VLOOKUP($A279,check!$A:$L,11,FALSE))=TRUE,\"\",VLOOKUP($A279,check!$A:$L,11,FALSE))","v":""},{"$f":"IF(ISERROR(VLOOKUP($A279,check!$A:$L,12,FALSE))=TRUE,\"\",VLOOKUP($A279,check!$A:$L,12,FALSE))","v":""}]
[280,{"$f":"IF(C280=\"\",\"\",MATCH(A280,check!A:A,0))","v":""},{"$f":"IF(ISERROR(VLOOKUP($A280,check!$A:$L,2,FALSE))=TRUE,\"\",VLOOKUP($A280,check!$A:$L,2,FALSE))","v":""},{"$f":"IF(ISERROR(VLOOKUP($A280,check!$A:$L,3,FALSE))=TRUE,\"\",VLOOKUP($A280,check!$A:$L,3,FALSE))","v":""},{"$f":"IF(ISERROR(VLOOKUP($A280,check!$A:$L,4,FALSE))=TRUE,\"\",VLOOKUP($A280,check!$A:$L,4,FALSE))","v":""},{"$f":"IF(ISERROR(VLOOKUP($A280,check!$A:$L,5,FALSE))=TRUE,\"\",VLOOKUP($A280,check!$A:$L,5,FALSE))","v":""},{"$f":"IF(ISERROR(VLOOKUP($A280,check!$A:$L,6,FALSE))=TRUE,\"\",VLOOKUP($A280,check!$A:$L,6,FALSE))","v":""},{"$f":"IF(ISERROR(VLOOKUP($A280,check!$A:$L,7,FALSE))=TRUE,\"\",VLOOKUP($A280,check!$A:$L,7,FALSE))","v":""},{"$f":"IF(ISERROR(VLOOKUP($A280,check!$A:$L,8,FALSE))=TRUE,\"\",VLOOKUP($A280,check!$A:$L,8,FALSE))","v":""},{"$f":"IF(ISERROR(VLOOKUP($A280,check!$A:$L,9,FALSE))=TRUE,\"\",VLOOKUP($A280,check!$A:$L,9,FALSE))","v":""},{"$f":"IF(ISERROR(VLOOKUP($A280,check!$A:$L,10,FALSE))=TRUE,\"\",VLOOKUP($A280,check!$A:$L,10,FALSE))","v":""},{"$f":"IF(ISERROR(VLOOKUP($A280,check!$A:$L,11,FALSE))=TRUE,\"\",VLOOKUP($A280,check!$A:$L,11,FALSE))","v":""},{"$f":"IF(ISERROR(VLOOKUP($A280,check!$A:$L,12,FALSE))=TRUE,\"\",VLOOKUP($A280,check!$A:$L,12,FALSE))","v":""}]
[281,{"$f":"IF(C281=\"\",\"\",MATCH(A281,check!A:A,0))","v":""},{"$f":"IF(ISERROR(VLOOKUP($A281,check!$A:$L,2,FALSE))=TRUE,\"\",VLOOKUP($A281,check!$A:$L,2,FALSE))","v":""},{"$f":"IF(ISERROR(VLOOKUP($A281,check!$A:$L,3,FALSE))=TRUE,\"\",VLOOKUP($A281,check!$A:$L,3,FALSE))","v":""},{"$f":"IF(ISERROR(VLOOKUP($A281,check!$A:$L,4,FALSE))=TRUE,\"\",VLOOKUP($A281,check!$A:$L,4,FALSE))","v":""},{"$f":"IF(ISERROR(VLOOKUP($A281,check!$A:$L,5,FALSE))=TRUE,\"\",VLOOKUP($A281,check!$A:$L,5,FALSE))","v":""},{"$f":"IF(ISERROR(VLOOKUP($A281,check!$A:$L,6,FALSE))=TRUE,\"\",VLOOKUP($A281,check!$A:$L,6,FALSE))","v":""},{"$f":"IF(ISERROR(VLOOKUP($A281,check!$A:$L,7,FALSE))=TRUE,\"\",VLOOKUP($A281,check!$A:$L,7,FALSE))","v":""},{"$f":"IF(ISERROR(VLOOKUP($A281,check!$A:$L,8,FALSE))=TRUE,\"\",VLOOKUP($A281,check!$A:$L,8,FALSE))","v":""},{"$f":"IF(ISERROR(VLOOKUP($A281,check!$A:$L,9,FALSE))=TRUE,\"\",VLOOKUP($A281,check!$A:$L,9,FALSE))","v":""},{"$f":"IF(ISERROR(VLOOKUP($A281,check!$A:$L,10,FALSE))=TRUE,\"\",VLOOKUP($A281,check!$A:$L,10,FALSE))","v":""},{"$f":"IF(ISERROR(VLOOKUP($A281,check!$A:$L,11,FALSE))=TRUE,\"\",VLOOKUP($A281,check!$A:$L,11,FALSE))","v":""},{"$f":"IF(ISERROR(VLOOKUP($A281,check!$A:$L,12,FALSE))=TRUE,\"\",VLOOKUP($A281,check!$A:$L,12,FALSE))","v":""}]
[282,{"$f":"IF(C282=\"\",\"\",MATCH(A282,check!A:A,0))","v":""},{"$f":"IF(ISERROR(VLOOKUP($A282,check!$A:$L,2,FALSE))=TRUE,\"\",VLOOKUP($A282,check!$A:$L,2,FALSE))","v":""},{"$f":"IF(ISERROR(VLOOKUP($A282,check!$A:$L,3,FALSE))=TRUE,\"\",VLOOKUP($A282,check!$A:$L,3,FALSE))","v":""},{"$f":"IF(ISERROR(VLOOKUP($A282,check!$A:$L,4,FALSE))=TRUE,\"\",VLOOKUP($A282,check!$A:$L,4,FALSE))","v":""},{"$f":"IF(ISERROR(VLOOKUP($A282,check!$A:$L,5,FALSE))=TRUE,\"\",VLOOKUP($A282,check!$A:$L,5,FALSE))","v":""},{"$f":"IF(ISERROR(VLOOKUP($A282,check!$A:$L,6,FALSE))=TRUE,\"\",VLOOKUP($A282,check!$A:$L,6,FALSE))","v":""},{"$f":"IF(ISERROR(VLOOKUP($A282,check!$A:$L,7,FALSE))=TRUE,\"\",VLOOKUP($A282,check!$A:$L,7,FALSE))","v":""},{"$f":"IF(ISERROR(VLOOKUP($A282,check!$A:$L,8,FALSE))=TRUE,\"\",VLOOKUP($A282,check!$A:$L,8,FALSE))","v":""},{"$f":"IF(ISERROR(VLOOKUP($A282,check!$A:$L,9,FALSE))=TRUE,\"\",VLOOKUP($A282,check!$A:$L,9,FALSE))","v":""},{"$f":"IF(ISERROR(VLOOKUP($A282,check!$A:$L,10,FALSE))=TRUE,\"\",VLOOKUP($A282,check!$A:$L,10,FALSE))","v":""},{"$f":"IF(ISERROR(VLOOKUP($A282,check!$A:$L,11,FALSE))=TRUE,\"\",VLOOKUP($A282,check!$A:$L,11,FALSE))","v":""},{"$f":"IF(ISERROR(VLOOKUP($A282,check!$A:$L,12,FALSE))=TRUE,\"\",VLOOKUP($A282,check!$A:$L,12,FALSE))","v":""}]
[283,{"$f":"IF(C283=\"\",\"\",MATCH(A283,check!A:A,0))","v":""},{"$f":"IF(ISERROR(VLOOKUP($A283,check!$A:$L,2,FALSE))=TRUE,\"\",VLOOKUP($A283,check!$A:$L,2,FALSE))","v":""},{"$f":"IF(ISERROR(VLOOKUP($A283,check!$A:$L,3,FALSE))=TRUE,\"\",VLOOKUP($A283,check!$A:$L,3,FALSE))","v":""},{"$f":"IF(ISERROR(VLOOKUP($A283,check!$A:$L,4,FALSE))=TRUE,\"\",VLOOKUP($A283,check!$A:$L,4,FALSE))","v":""},{"$f":"IF(ISERROR(VLOOKUP($A283,check!$A:$L,5,FALSE))=TRUE,\"\",VLOOKUP($A283,check!$A:$L,5,FALSE))","v":""},{"$f":"IF(ISERROR(VLOOKUP($A283,check!$A:$L,6,FALSE))=TRUE,\"\",VLOOKUP($A283,check!$A:$L,6,FALSE))","v":""},{"$f":"IF(ISERROR(VLOOKUP($A283,check!$A:$L,7,FALSE))=TRUE,\"\",VLOOKUP($A283,check!$A:$L,7,FALSE))","v":""},{"$f":"IF(ISERROR(VLOOKUP($A283,check!$A:$L,8,FALSE))=TRUE,\"\",VLOOKUP($A283,check!$A:$L,8,FALSE))","v":""},{"$f":"IF(ISERROR(VLOOKUP($A283,check!$A:$L,9,FALSE))=TRUE,\"\",VLOOKUP($A283,check!$A:$L,9,FALSE))","v":""},{"$f":"IF(ISERROR(VLOOKUP($A283,check!$A:$L,10,FALSE))=TRUE,\"\",VLOOKUP($A283,check!$A:$L,10,FALSE))","v":""},{"$f":"IF(ISERROR(VLOOKUP($A283,check!$A:$L,11,FALSE))=TRUE,\"\",VLOOKUP($A283,check!$A:$L,11,FALSE))","v":""},{"$f":"IF(ISERROR(VLOOKUP($A283,check!$A:$L,12,FALSE))=TRUE,\"\",VLOOKUP($A283,check!$A:$L,12,FALSE))","v":""}]
[284,{"$f":"IF(C284=\"\",\"\",MATCH(A284,check!A:A,0))","v":""},{"$f":"IF(ISERROR(VLOOKUP($A284,check!$A:$L,2,FALSE))=TRUE,\"\",VLOOKUP($A284,check!$A:$L,2,FALSE))","v":""},{"$f":"IF(ISERROR(VLOOKUP($A284,check!$A:$L,3,FALSE))=TRUE,\"\",VLOOKUP($A284,check!$A:$L,3,FALSE))","v":""},{"$f":"IF(ISERROR(VLOOKUP($A284,check!$A:$L,4,FALSE))=TRUE,\"\",VLOOKUP($A284,check!$A:$L,4,FALSE))","v":""},{"$f":"IF(ISERROR(VLOOKUP($A284,check!$A:$L,5,FALSE))=TRUE,\"\",VLOOKUP($A284,check!$A:$L,5,FALSE))","v":""},{"$f":"IF(ISERROR(VLOOKUP($A284,check!$A:$L,6,FALSE))=TRUE,\"\",VLOOKUP($A284,check!$A:$L,6,FALSE))","v":""},{"$f":"IF(ISERROR(VLOOKUP($A284,check!$A:$L,7,FALSE))=TRUE,\"\",VLOOKUP($A284,check!$A:$L,7,FALSE))","v":""},{"$f":"IF(ISERROR(VLOOKUP($A284,check!$A:$L,8,FALSE))=TRUE,\"\",VLOOKUP($A284,check!$A:$L,8,FALSE))","v":""},{"$f":"IF(ISERROR(VLOOKUP($A284,check!$A:$L,9,FALSE))=TRUE,\"\",VLOOKUP($A284,check!$A:$L,9,FALSE))","v":""},{"$f":"IF(ISERROR(VLOOKUP($A284,check!$A:$L,10,FALSE))=TRUE,\"\",VLOOKUP($A284,check!$A:$L,10,FALSE))","v":""},{"$f":"IF(ISERROR(VLOOKUP($A284,check!$A:$L,11,FALSE))=TRUE,\"\",VLOOKUP($A284,check!$A:$L,11,FALSE))","v":""},{"$f":"IF(ISERROR(VLOOKUP($A284,check!$A:$L,12,FALSE))=TRUE,\"\",VLOOKUP($A284,check!$A:$L,12,FALSE))","v":""}]
[285,{"$f":"IF(C285=\"\",\"\",MATCH(A285,check!A:A,0))","v":""},{"$f":"IF(ISERROR(VLOOKUP($A285,check!$A:$L,2,FALSE))=TRUE,\"\",VLOOKUP($A285,check!$A:$L,2,FALSE))","v":""},{"$f":"IF(ISERROR(VLOOKUP($A285,check!$A:$L,3,FALSE))=TRUE,\"\",VLOOKUP($A285,check!$A:$L,3,FALSE))","v":""},{"$f":"IF(ISERROR(VLOOKUP($A285,check!$A:$L,4,FALSE))=TRUE,\"\",VLOOKUP($A285,check!$A:$L,4,FALSE))","v":""},{"$f":"IF(ISERROR(VLOOKUP($A285,check!$A:$L,5,FALSE))=TRUE,\"\",VLOOKUP($A285,check!$A:$L,5,FALSE))","v":""},{"$f":"IF(ISERROR(VLOOKUP($A285,check!$A:$L,6,FALSE))=TRUE,\"\",VLOOKUP($A285,check!$A:$L,6,FALSE))","v":""},{"$f":"IF(ISERROR(VLOOKUP($A285,check!$A:$L,7,FALSE))=TRUE,\"\",VLOOKUP($A285,check!$A:$L,7,FALSE))","v":""},{"$f":"IF(ISERROR(VLOOKUP($A285,check!$A:$L,8,FALSE))=TRUE,\"\",VLOOKUP($A285,check!$A:$L,8,FALSE))","v":""},{"$f":"IF(ISERROR(VLOOKUP($A285,check!$A:$L,9,FALSE))=TRUE,\"\",VLOOKUP($A285,check!$A:$L,9,FALSE))","v":""},{"$f":"IF(ISERROR(VLOOKUP($A285,check!$A:$L,10,FALSE))=TRUE,\"\",VLOOKUP($A285,check!$A:$L,10,FALSE))","v":""},{"$f":"IF(ISERROR(VLOOKUP($A285,check!$A:$L,11,FALSE))=TRUE,\"\",VLOOKUP($A285,check!$A:$L,11,FALSE))","v":""},{"$f":"IF(ISERROR(VLOOKUP($A285,check!$A:$L,12,FALSE))=TRUE,\"\",VLOOKUP($A285,check!$A:$L,12,FALSE))","v":""}]
[286,{"$f":"IF(C286=\"\",\"\",MATCH(A286,check!A:A,0))","v":""},{"$f":"IF(ISERROR(VLOOKUP($A286,check!$A:$L,2,FALSE))=TRUE,\"\",VLOOKUP($A286,check!$A:$L,2,FALSE))","v":""},{"$f":"IF(ISERROR(VLOOKUP($A286,check!$A:$L,3,FALSE))=TRUE,\"\",VLOOKUP($A286,check!$A:$L,3,FALSE))","v":""},{"$f":"IF(ISERROR(VLOOKUP($A286,check!$A:$L,4,FALSE))=TRUE,\"\",VLOOKUP($A286,check!$A:$L,4,FALSE))","v":""},{"$f":"IF(ISERROR(VLOOKUP($A286,check!$A:$L,5,FALSE))=TRUE,\"\",VLOOKUP($A286,check!$A:$L,5,FALSE))","v":""},{"$f":"IF(ISERROR(VLOOKUP($A286,check!$A:$L,6,FALSE))=TRUE,\"\",VLOOKUP($A286,check!$A:$L,6,FALSE))","v":""},{"$f":"IF(ISERROR(VLOOKUP($A286,check!$A:$L,7,FALSE))=TRUE,\"\",VLOOKUP($A286,check!$A:$L,7,FALSE))","v":""},{"$f":"IF(ISERROR(VLOOKUP($A286,check!$A:$L,8,FALSE))=TRUE,\"\",VLOOKUP($A286,check!$A:$L,8,FALSE))","v":""},{"$f":"IF(ISERROR(VLOOKUP($A286,check!$A:$L,9,FALSE))=TRUE,\"\",VLOOKUP($A286,check!$A:$L,9,FALSE))","v":""},{"$f":"IF(ISERROR(VLOOKUP($A286,check!$A:$L,10,FALSE))=TRUE,\"\",VLOOKUP($A286,check!$A:$L,10,FALSE))","v":""},{"$f":"IF(ISERROR(VLOOKUP($A286,check!$A:$L,11,FALSE))=TRUE,\"\",VLOOKUP($A286,check!$A:$L,11,FALSE))","v":""},{"$f":"IF(ISERROR(VLOOKUP($A286,check!$A:$L,12,FALSE))=TRUE,\"\",VLOOKUP($A286,check!$A:$L,12,FALSE))","v":""}]
[287,{"$f":"IF(C287=\"\",\"\",MATCH(A287,check!A:A,0))","v":""},{"$f":"IF(ISERROR(VLOOKUP($A287,check!$A:$L,2,FALSE))=TRUE,\"\",VLOOKUP($A287,check!$A:$L,2,FALSE))","v":""},{"$f":"IF(ISERROR(VLOOKUP($A287,check!$A:$L,3,FALSE))=TRUE,\"\",VLOOKUP($A287,check!$A:$L,3,FALSE))","v":""},{"$f":"IF(ISERROR(VLOOKUP($A287,check!$A:$L,4,FALSE))=TRUE,\"\",VLOOKUP($A287,check!$A:$L,4,FALSE))","v":""},{"$f":"IF(ISERROR(VLOOKUP($A287,check!$A:$L,5,FALSE))=TRUE,\"\",VLOOKUP($A287,check!$A:$L,5,FALSE))","v":""},{"$f":"IF(ISERROR(VLOOKUP($A287,check!$A:$L,6,FALSE))=TRUE,\"\",VLOOKUP($A287,check!$A:$L,6,FALSE))","v":""},{"$f":"IF(ISERROR(VLOOKUP($A287,check!$A:$L,7,FALSE))=TRUE,\"\",VLOOKUP($A287,check!$A:$L,7,FALSE))","v":""},{"$f":"IF(ISERROR(VLOOKUP($A287,check!$A:$L,8,FALSE))=TRUE,\"\",VLOOKUP($A287,check!$A:$L,8,FALSE))","v":""},{"$f":"IF(ISERROR(VLOOKUP($A287,check!$A:$L,9,FALSE))=TRUE,\"\",VLOOKUP($A287,check!$A:$L,9,FALSE))","v":""},{"$f":"IF(ISERROR(VLOOKUP($A287,check!$A:$L,10,FALSE))=TRUE,\"\",VLOOKUP($A287,check!$A:$L,10,FALSE))","v":""},{"$f":"IF(ISERROR(VLOOKUP($A287,check!$A:$L,11,FALSE))=TRUE,\"\",VLOOKUP($A287,check!$A:$L,11,FALSE))","v":""},{"$f":"IF(ISERROR(VLOOKUP($A287,check!$A:$L,12,FALSE))=TRUE,\"\",VLOOKUP($A287,check!$A:$L,12,FALSE))","v":""}]
[288,{"$f":"IF(C288=\"\",\"\",MATCH(A288,check!A:A,0))","v":""},{"$f":"IF(ISERROR(VLOOKUP($A288,check!$A:$L,2,FALSE))=TRUE,\"\",VLOOKUP($A288,check!$A:$L,2,FALSE))","v":""},{"$f":"IF(ISERROR(VLOOKUP($A288,check!$A:$L,3,FALSE))=TRUE,\"\",VLOOKUP($A288,check!$A:$L,3,FALSE))","v":""},{"$f":"IF(ISERROR(VLOOKUP($A288,check!$A:$L,4,FALSE))=TRUE,\"\",VLOOKUP($A288,check!$A:$L,4,FALSE))","v":""},{"$f":"IF(ISERROR(VLOOKUP($A288,check!$A:$L,5,FALSE))=TRUE,\"\",VLOOKUP($A288,check!$A:$L,5,FALSE))","v":""},{"$f":"IF(ISERROR(VLOOKUP($A288,check!$A:$L,6,FALSE))=TRUE,\"\",VLOOKUP($A288,check!$A:$L,6,FALSE))","v":""},{"$f":"IF(ISERROR(VLOOKUP($A288,check!$A:$L,7,FALSE))=TRUE,\"\",VLOOKUP($A288,check!$A:$L,7,FALSE))","v":""},{"$f":"IF(ISERROR(VLOOKUP($A288,check!$A:$L,8,FALSE))=TRUE,\"\",VLOOKUP($A288,check!$A:$L,8,FALSE))","v":""},{"$f":"IF(ISERROR(VLOOKUP($A288,check!$A:$L,9,FALSE))=TRUE,\"\",VLOOKUP($A288,check!$A:$L,9,FALSE))","v":""},{"$f":"IF(ISERROR(VLOOKUP($A288,check!$A:$L,10,FALSE))=TRUE,\"\",VLOOKUP($A288,check!$A:$L,10,FALSE))","v":""},{"$f":"IF(ISERROR(VLOOKUP($A288,check!$A:$L,11,FALSE))=TRUE,\"\",VLOOKUP($A288,check!$A:$L,11,FALSE))","v":""},{"$f":"IF(ISERROR(VLOOKUP($A288,check!$A:$L,12,FALSE))=TRUE,\"\",VLOOKUP($A288,check!$A:$L,12,FALSE))","v":""}]
[289,{"$f":"IF(C289=\"\",\"\",MATCH(A289,check!A:A,0))","v":""},{"$f":"IF(ISERROR(VLOOKUP($A289,check!$A:$L,2,FALSE))=TRUE,\"\",VLOOKUP($A289,check!$A:$L,2,FALSE))","v":""},{"$f":"IF(ISERROR(VLOOKUP($A289,check!$A:$L,3,FALSE))=TRUE,\"\",VLOOKUP($A289,check!$A:$L,3,FALSE))","v":""},{"$f":"IF(ISERROR(VLOOKUP($A289,check!$A:$L,4,FALSE))=TRUE,\"\",VLOOKUP($A289,check!$A:$L,4,FALSE))","v":""},{"$f":"IF(ISERROR(VLOOKUP($A289,check!$A:$L,5,FALSE))=TRUE,\"\",VLOOKUP($A289,check!$A:$L,5,FALSE))","v":""},{"$f":"IF(ISERROR(VLOOKUP($A289,check!$A:$L,6,FALSE))=TRUE,\"\",VLOOKUP($A289,check!$A:$L,6,FALSE))","v":""},{"$f":"IF(ISERROR(VLOOKUP($A289,check!$A:$L,7,FALSE))=TRUE,\"\",VLOOKUP($A289,check!$A:$L,7,FALSE))","v":""},{"$f":"IF(ISERROR(VLOOKUP($A289,check!$A:$L,8,FALSE))=TRUE,\"\",VLOOKUP($A289,check!$A:$L,8,FALSE))","v":""},{"$f":"IF(ISERROR(VLOOKUP($A289,check!$A:$L,9,FALSE))=TRUE,\"\",VLOOKUP($A289,check!$A:$L,9,FALSE))","v":""},{"$f":"IF(ISERROR(VLOOKUP($A289,check!$A:$L,10,FALSE))=TRUE,\"\",VLOOKUP($A289,check!$A:$L,10,FALSE))","v":""},{"$f":"IF(ISERROR(VLOOKUP($A289,check!$A:$L,11,FALSE))=TRUE,\"\",VLOOKUP($A289,check!$A:$L,11,FALSE))","v":""},{"$f":"IF(ISERROR(VLOOKUP($A289,check!$A:$L,12,FALSE))=TRUE,\"\",VLOOKUP($A289,check!$A:$L,12,FALSE))","v":""}]
[290,{"$f":"IF(C290=\"\",\"\",MATCH(A290,check!A:A,0))","v":""},{"$f":"IF(ISERROR(VLOOKUP($A290,check!$A:$L,2,FALSE))=TRUE,\"\",VLOOKUP($A290,check!$A:$L,2,FALSE))","v":""},{"$f":"IF(ISERROR(VLOOKUP($A290,check!$A:$L,3,FALSE))=TRUE,\"\",VLOOKUP($A290,check!$A:$L,3,FALSE))","v":""},{"$f":"IF(ISERROR(VLOOKUP($A290,check!$A:$L,4,FALSE))=TRUE,\"\",VLOOKUP($A290,check!$A:$L,4,FALSE))","v":""},{"$f":"IF(ISERROR(VLOOKUP($A290,check!$A:$L,5,FALSE))=TRUE,\"\",VLOOKUP($A290,check!$A:$L,5,FALSE))","v":""},{"$f":"IF(ISERROR(VLOOKUP($A290,check!$A:$L,6,FALSE))=TRUE,\"\",VLOOKUP($A290,check!$A:$L,6,FALSE))","v":""},{"$f":"IF(ISERROR(VLOOKUP($A290,check!$A:$L,7,FALSE))=TRUE,\"\",VLOOKUP($A290,check!$A:$L,7,FALSE))","v":""},{"$f":"IF(ISERROR(VLOOKUP($A290,check!$A:$L,8,FALSE))=TRUE,\"\",VLOOKUP($A290,check!$A:$L,8,FALSE))","v":""},{"$f":"IF(ISERROR(VLOOKUP($A290,check!$A:$L,9,FALSE))=TRUE,\"\",VLOOKUP($A290,check!$A:$L,9,FALSE))","v":""},{"$f":"IF(ISERROR(VLOOKUP($A290,check!$A:$L,10,FALSE))=TRUE,\"\",VLOOKUP($A290,check!$A:$L,10,FALSE))","v":""},{"$f":"IF(ISERROR(VLOOKUP($A290,check!$A:$L,11,FALSE))=TRUE,\"\",VLOOKUP($A290,check!$A:$L,11,FALSE))","v":""},{"$f":"IF(ISERROR(VLOOKUP($A290,check!$A:$L,12,FALSE))=TRUE,\"\",VLOOKUP($A290,check!$A:$L,12,FALSE))","v":""}]
[291,{"$f":"IF(C291=\"\",\"\",MATCH(A291,check!A:A,0))","v":""},{"$f":"IF(ISERROR(VLOOKUP($A291,check!$A:$L,2,FALSE))=TRUE,\"\",VLOOKUP($A291,check!$A:$L,2,FALSE))","v":""},{"$f":"IF(ISERROR(VLOOKUP($A291,check!$A:$L,3,FALSE))=TRUE,\"\",VLOOKUP($A291,check!$A:$L,3,FALSE))","v":""},{"$f":"IF(ISERROR(VLOOKUP($A291,check!$A:$L,4,FALSE))=TRUE,\"\",VLOOKUP($A291,check!$A:$L,4,FALSE))","v":""},{"$f":"IF(ISERROR(VLOOKUP($A291,check!$A:$L,5,FALSE))=TRUE,\"\",VLOOKUP($A291,check!$A:$L,5,FALSE))","v":""},{"$f":"IF(ISERROR(VLOOKUP($A291,check!$A:$L,6,FALSE))=TRUE,\"\",VLOOKUP($A291,check!$A:$L,6,FALSE))","v":""},{"$f":"IF(ISERROR(VLOOKUP($A291,check!$A:$L,7,FALSE))=TRUE,\"\",VLOOKUP($A291,check!$A:$L,7,FALSE))","v":""},{"$f":"IF(ISERROR(VLOOKUP($A291,check!$A:$L,8,FALSE))=TRUE,\"\",VLOOKUP($A291,check!$A:$L,8,FALSE))","v":""},{"$f":"IF(ISERROR(VLOOKUP($A291,check!$A:$L,9,FALSE))=TRUE,\"\",VLOOKUP($A291,check!$A:$L,9,FALSE))","v":""},{"$f":"IF(ISERROR(VLOOKUP($A291,check!$A:$L,10,FALSE))=TRUE,\"\",VLOOKUP($A291,check!$A:$L,10,FALSE))","v":""},{"$f":"IF(ISERROR(VLOOKUP($A291,check!$A:$L,11,FALSE))=TRUE,\"\",VLOOKUP($A291,check!$A:$L,11,FALSE))","v":""},{"$f":"IF(ISERROR(VLOOKUP($A291,check!$A:$L,12,FALSE))=TRUE,\"\",VLOOKUP($A291,check!$A:$L,12,FALSE))","v":""}]
[292,{"$f":"IF(C292=\"\",\"\",MATCH(A292,check!A:A,0))","v":""},{"$f":"IF(ISERROR(VLOOKUP($A292,check!$A:$L,2,FALSE))=TRUE,\"\",VLOOKUP($A292,check!$A:$L,2,FALSE))","v":""},{"$f":"IF(ISERROR(VLOOKUP($A292,check!$A:$L,3,FALSE))=TRUE,\"\",VLOOKUP($A292,check!$A:$L,3,FALSE))","v":""},{"$f":"IF(ISERROR(VLOOKUP($A292,check!$A:$L,4,FALSE))=TRUE,\"\",VLOOKUP($A292,check!$A:$L,4,FALSE))","v":""},{"$f":"IF(ISERROR(VLOOKUP($A292,check!$A:$L,5,FALSE))=TRUE,\"\",VLOOKUP($A292,check!$A:$L,5,FALSE))","v":""},{"$f":"IF(ISERROR(VLOOKUP($A292,check!$A:$L,6,FALSE))=TRUE,\"\",VLOOKUP($A292,check!$A:$L,6,FALSE))","v":""},{"$f":"IF(ISERROR(VLOOKUP($A292,check!$A:$L,7,FALSE))=TRUE,\"\",VLOOKUP($A292,check!$A:$L,7,FALSE))","v":""},{"$f":"IF(ISERROR(VLOOKUP($A292,check!$A:$L,8,FALSE))=TRUE,\"\",VLOOKUP($A292,check!$A:$L,8,FALSE))","v":""},{"$f":"IF(ISERROR(VLOOKUP($A292,check!$A:$L,9,FALSE))=TRUE,\"\",VLOOKUP($A292,check!$A:$L,9,FALSE))","v":""},{"$f":"IF(ISERROR(VLOOKUP($A292,check!$A:$L,10,FALSE))=TRUE,\"\",VLOOKUP($A292,check!$A:$L,10,FALSE))","v":""},{"$f":"IF(ISERROR(VLOOKUP($A292,check!$A:$L,11,FALSE))=TRUE,\"\",VLOOKUP($A292,check!$A:$L,11,FALSE))","v":""},{"$f":"IF(ISERROR(VLOOKUP($A292,check!$A:$L,12,FALSE))=TRUE,\"\",VLOOKUP($A292,check!$A:$L,12,FALSE))","v":""}]
[293,{"$f":"IF(C293=\"\",\"\",MATCH(A293,check!A:A,0))","v":""},{"$f":"IF(ISERROR(VLOOKUP($A293,check!$A:$L,2,FALSE))=TRUE,\"\",VLOOKUP($A293,check!$A:$L,2,FALSE))","v":""},{"$f":"IF(ISERROR(VLOOKUP($A293,check!$A:$L,3,FALSE))=TRUE,\"\",VLOOKUP($A293,check!$A:$L,3,FALSE))","v":""},{"$f":"IF(ISERROR(VLOOKUP($A293,check!$A:$L,4,FALSE))=TRUE,\"\",VLOOKUP($A293,check!$A:$L,4,FALSE))","v":""},{"$f":"IF(ISERROR(VLOOKUP($A293,check!$A:$L,5,FALSE))=TRUE,\"\",VLOOKUP($A293,check!$A:$L,5,FALSE))","v":""},{"$f":"IF(ISERROR(VLOOKUP($A293,check!$A:$L,6,FALSE))=TRUE,\"\",VLOOKUP($A293,check!$A:$L,6,FALSE))","v":""},{"$f":"IF(ISERROR(VLOOKUP($A293,check!$A:$L,7,FALSE))=TRUE,\"\",VLOOKUP($A293,check!$A:$L,7,FALSE))","v":""},{"$f":"IF(ISERROR(VLOOKUP($A293,check!$A:$L,8,FALSE))=TRUE,\"\",VLOOKUP($A293,check!$A:$L,8,FALSE))","v":""},{"$f":"IF(ISERROR(VLOOKUP($A293,check!$A:$L,9,FALSE))=TRUE,\"\",VLOOKUP($A293,check!$A:$L,9,FALSE))","v":""},{"$f":"IF(ISERROR(VLOOKUP($A293,check!$A:$L,10,FALSE))=TRUE,\"\",VLOOKUP($A293,check!$A:$L,10,FALSE))","v":""},{"$f":"IF(ISERROR(VLOOKUP($A293,check!$A:$L,11,FALSE))=TRUE,\"\",VLOOKUP($A293,check!$A:$L,11,FALSE))","v":""},{"$f":"IF(ISERROR(VLOOKUP($A293,check!$A:$L,12,FALSE))=TRUE,\"\",VLOOKUP($A293,check!$A:$L,12,FALSE))","v":""}]
[294,{"$f":"IF(C294=\"\",\"\",MATCH(A294,check!A:A,0))","v":""},{"$f":"IF(ISERROR(VLOOKUP($A294,check!$A:$L,2,FALSE))=TRUE,\"\",VLOOKUP($A294,check!$A:$L,2,FALSE))","v":""},{"$f":"IF(ISERROR(VLOOKUP($A294,check!$A:$L,3,FALSE))=TRUE,\"\",VLOOKUP($A294,check!$A:$L,3,FALSE))","v":""},{"$f":"IF(ISERROR(VLOOKUP($A294,check!$A:$L,4,FALSE))=TRUE,\"\",VLOOKUP($A294,check!$A:$L,4,FALSE))","v":""},{"$f":"IF(ISERROR(VLOOKUP($A294,check!$A:$L,5,FALSE))=TRUE,\"\",VLOOKUP($A294,check!$A:$L,5,FALSE))","v":""},{"$f":"IF(ISERROR(VLOOKUP($A294,check!$A:$L,6,FALSE))=TRUE,\"\",VLOOKUP($A294,check!$A:$L,6,FALSE))","v":""},{"$f":"IF(ISERROR(VLOOKUP($A294,check!$A:$L,7,FALSE))=TRUE,\"\",VLOOKUP($A294,check!$A:$L,7,FALSE))","v":""},{"$f":"IF(ISERROR(VLOOKUP($A294,check!$A:$L,8,FALSE))=TRUE,\"\",VLOOKUP($A294,check!$A:$L,8,FALSE))","v":""},{"$f":"IF(ISERROR(VLOOKUP($A294,check!$A:$L,9,FALSE))=TRUE,\"\",VLOOKUP($A294,check!$A:$L,9,FALSE))","v":""},{"$f":"IF(ISERROR(VLOOKUP($A294,check!$A:$L,10,FALSE))=TRUE,\"\",VLOOKUP($A294,check!$A:$L,10,FALSE))","v":""},{"$f":"IF(ISERROR(VLOOKUP($A294,check!$A:$L,11,FALSE))=TRUE,\"\",VLOOKUP($A294,check!$A:$L,11,FALSE))","v":""},{"$f":"IF(ISERROR(VLOOKUP($A294,check!$A:$L,12,FALSE))=TRUE,\"\",VLOOKUP($A294,check!$A:$L,12,FALSE))","v":""}]
[295,{"$f":"IF(C295=\"\",\"\",MATCH(A295,check!A:A,0))","v":""},{"$f":"IF(ISERROR(VLOOKUP($A295,check!$A:$L,2,FALSE))=TRUE,\"\",VLOOKUP($A295,check!$A:$L,2,FALSE))","v":""},{"$f":"IF(ISERROR(VLOOKUP($A295,check!$A:$L,3,FALSE))=TRUE,\"\",VLOOKUP($A295,check!$A:$L,3,FALSE))","v":""},{"$f":"IF(ISERROR(VLOOKUP($A295,check!$A:$L,4,FALSE))=TRUE,\"\",VLOOKUP($A295,check!$A:$L,4,FALSE))","v":""},{"$f":"IF(ISERROR(VLOOKUP($A295,check!$A:$L,5,FALSE))=TRUE,\"\",VLOOKUP($A295,check!$A:$L,5,FALSE))","v":""},{"$f":"IF(ISERROR(VLOOKUP($A295,check!$A:$L,6,FALSE))=TRUE,\"\",VLOOKUP($A295,check!$A:$L,6,FALSE))","v":""},{"$f":"IF(ISERROR(VLOOKUP($A295,check!$A:$L,7,FALSE))=TRUE,\"\",VLOOKUP($A295,check!$A:$L,7,FALSE))","v":""},{"$f":"IF(ISERROR(VLOOKUP($A295,check!$A:$L,8,FALSE))=TRUE,\"\",VLOOKUP($A295,check!$A:$L,8,FALSE))","v":""},{"$f":"IF(ISERROR(VLOOKUP($A295,check!$A:$L,9,FALSE))=TRUE,\"\",VLOOKUP($A295,check!$A:$L,9,FALSE))","v":""},{"$f":"IF(ISERROR(VLOOKUP($A295,check!$A:$L,10,FALSE))=TRUE,\"\",VLOOKUP($A295,check!$A:$L,10,FALSE))","v":""},{"$f":"IF(ISERROR(VLOOKUP($A295,check!$A:$L,11,FALSE))=TRUE,\"\",VLOOKUP($A295,check!$A:$L,11,FALSE))","v":""},{"$f":"IF(ISERROR(VLOOKUP($A295,check!$A:$L,12,FALSE))=TRUE,\"\",VLOOKUP($A295,check!$A:$L,12,FALSE))","v":""}]
[296,{"$f":"IF(C296=\"\",\"\",MATCH(A296,check!A:A,0))","v":""},{"$f":"IF(ISERROR(VLOOKUP($A296,check!$A:$L,2,FALSE))=TRUE,\"\",VLOOKUP($A296,check!$A:$L,2,FALSE))","v":""},{"$f":"IF(ISERROR(VLOOKUP($A296,check!$A:$L,3,FALSE))=TRUE,\"\",VLOOKUP($A296,check!$A:$L,3,FALSE))","v":""},{"$f":"IF(ISERROR(VLOOKUP($A296,check!$A:$L,4,FALSE))=TRUE,\"\",VLOOKUP($A296,check!$A:$L,4,FALSE))","v":""},{"$f":"IF(ISERROR(VLOOKUP($A296,check!$A:$L,5,FALSE))=TRUE,\"\",VLOOKUP($A296,check!$A:$L,5,FALSE))","v":""},{"$f":"IF(ISERROR(VLOOKUP($A296,check!$A:$L,6,FALSE))=TRUE,\"\",VLOOKUP($A296,check!$A:$L,6,FALSE))","v":""},{"$f":"IF(ISERROR(VLOOKUP($A296,check!$A:$L,7,FALSE))=TRUE,\"\",VLOOKUP($A296,check!$A:$L,7,FALSE))","v":""},{"$f":"IF(ISERROR(VLOOKUP($A296,check!$A:$L,8,FALSE))=TRUE,\"\",VLOOKUP($A296,check!$A:$L,8,FALSE))","v":""},{"$f":"IF(ISERROR(VLOOKUP($A296,check!$A:$L,9,FALSE))=TRUE,\"\",VLOOKUP($A296,check!$A:$L,9,FALSE))","v":""},{"$f":"IF(ISERROR(VLOOKUP($A296,check!$A:$L,10,FALSE))=TRUE,\"\",VLOOKUP($A296,check!$A:$L,10,FALSE))","v":""},{"$f":"IF(ISERROR(VLOOKUP($A296,check!$A:$L,11,FALSE))=TRUE,\"\",VLOOKUP($A296,check!$A:$L,11,FALSE))","v":""},{"$f":"IF(ISERROR(VLOOKUP($A296,check!$A:$L,12,FALSE))=TRUE,\"\",VLOOKUP($A296,check!$A:$L,12,FALSE))","v":""}]
[297,{"$f":"IF(C297=\"\",\"\",MATCH(A297,check!A:A,0))","v":""},{"$f":"IF(ISERROR(VLOOKUP($A297,check!$A:$L,2,FALSE))=TRUE,\"\",VLOOKUP($A297,check!$A:$L,2,FALSE))","v":""},{"$f":"IF(ISERROR(VLOOKUP($A297,check!$A:$L,3,FALSE))=TRUE,\"\",VLOOKUP($A297,check!$A:$L,3,FALSE))","v":""},{"$f":"IF(ISERROR(VLOOKUP($A297,check!$A:$L,4,FALSE))=TRUE,\"\",VLOOKUP($A297,check!$A:$L,4,FALSE))","v":""},{"$f":"IF(ISERROR(VLOOKUP($A297,check!$A:$L,5,FALSE))=TRUE,\"\",VLOOKUP($A297,check!$A:$L,5,FALSE))","v":""},{"$f":"IF(ISERROR(VLOOKUP($A297,check!$A:$L,6,FALSE))=TRUE,\"\",VLOOKUP($A297,check!$A:$L,6,FALSE))","v":""},{"$f":"IF(ISERROR(VLOOKUP($A297,check!$A:$L,7,FALSE))=TRUE,\"\",VLOOKUP($A297,check!$A:$L,7,FALSE))","v":""},{"$f":"IF(ISERROR(VLOOKUP($A297,check!$A:$L,8,FALSE))=TRUE,\"\",VLOOKUP($A297,check!$A:$L,8,FALSE))","v":""},{"$f":"IF(ISERROR(VLOOKUP($A297,check!$A:$L,9,FALSE))=TRUE,\"\",VLOOKUP($A297,check!$A:$L,9,FALSE))","v":""},{"$f":"IF(ISERROR(VLOOKUP($A297,check!$A:$L,10,FALSE))=TRUE,\"\",VLOOKUP($A297,check!$A:$L,10,FALSE))","v":""},{"$f":"IF(ISERROR(VLOOKUP($A297,check!$A:$L,11,FALSE))=TRUE,\"\",VLOOKUP($A297,check!$A:$L,11,FALSE))","v":""},{"$f":"IF(ISERROR(VLOOKUP($A297,check!$A:$L,12,FALSE))=TRUE,\"\",VLOOKUP($A297,check!$A:$L,12,FALSE))","v":""}]
[298,{"$f":"IF(C298=\"\",\"\",MATCH(A298,check!A:A,0))","v":""},{"$f":"IF(ISERROR(VLOOKUP($A298,check!$A:$L,2,FALSE))=TRUE,\"\",VLOOKUP($A298,check!$A:$L,2,FALSE))","v":""},{"$f":"IF(ISERROR(VLOOKUP($A298,check!$A:$L,3,FALSE))=TRUE,\"\",VLOOKUP($A298,check!$A:$L,3,FALSE))","v":""},{"$f":"IF(ISERROR(VLOOKUP($A298,check!$A:$L,4,FALSE))=TRUE,\"\",VLOOKUP($A298,check!$A:$L,4,FALSE))","v":""},{"$f":"IF(ISERROR(VLOOKUP($A298,check!$A:$L,5,FALSE))=TRUE,\"\",VLOOKUP($A298,check!$A:$L,5,FALSE))","v":""},{"$f":"IF(ISERROR(VLOOKUP($A298,check!$A:$L,6,FALSE))=TRUE,\"\",VLOOKUP($A298,check!$A:$L,6,FALSE))","v":""},{"$f":"IF(ISERROR(VLOOKUP($A298,check!$A:$L,7,FALSE))=TRUE,\"\",VLOOKUP($A298,check!$A:$L,7,FALSE))","v":""},{"$f":"IF(ISERROR(VLOOKUP($A298,check!$A:$L,8,FALSE))=TRUE,\"\",VLOOKUP($A298,check!$A:$L,8,FALSE))","v":""},{"$f":"IF(ISERROR(VLOOKUP($A298,check!$A:$L,9,FALSE))=TRUE,\"\",VLOOKUP($A298,check!$A:$L,9,FALSE))","v":""},{"$f":"IF(ISERROR(VLOOKUP($A298,check!$A:$L,10,FALSE))=TRUE,\"\",VLOOKUP($A298,check!$A:$L,10,FALSE))","v":""},{"$f":"IF(ISERROR(VLOOKUP($A298,check!$A:$L,11,FALSE))=TRUE,\"\",VLOOKUP($A298,check!$A:$L,11,FALSE))","v":""},{"$f":"IF(ISERROR(VLOOKUP($A298,check!$A:$L,12,FALSE))=TRUE,\"\",VLOOKUP($A298,check!$A:$L,12,FALSE))","v":""}]
[299,{"$f":"IF(C299=\"\",\"\",MATCH(A299,check!A:A,0))","v":""},{"$f":"IF(ISERROR(VLOOKUP($A299,check!$A:$L,2,FALSE))=TRUE,\"\",VLOOKUP($A299,check!$A:$L,2,FALSE))","v":""},{"$f":"IF(ISERROR(VLOOKUP($A299,check!$A:$L,3,FALSE))=TRUE,\"\",VLOOKUP($A299,check!$A:$L,3,FALSE))","v":""},{"$f":"IF(ISERROR(VLOOKUP($A299,check!$A:$L,4,FALSE))=TRUE,\"\",VLOOKUP($A299,check!$A:$L,4,FALSE))","v":""},{"$f":"IF(ISERROR(VLOOKUP($A299,check!$A:$L,5,FALSE))=TRUE,\"\",VLOOKUP($A299,check!$A:$L,5,FALSE))","v":""},{"$f":"IF(ISERROR(VLOOKUP($A299,check!$A:$L,6,FALSE))=TRUE,\"\",VLOOKUP($A299,check!$A:$L,6,FALSE))","v":""},{"$f":"IF(ISERROR(VLOOKUP($A299,check!$A:$L,7,FALSE))=TRUE,\"\",VLOOKUP($A299,check!$A:$L,7,FALSE))","v":""},{"$f":"IF(ISERROR(VLOOKUP($A299,check!$A:$L,8,FALSE))=TRUE,\"\",VLOOKUP($A299,check!$A:$L,8,FALSE))","v":""},{"$f":"IF(ISERROR(VLOOKUP($A299,check!$A:$L,9,FALSE))=TRUE,\"\",VLOOKUP($A299,check!$A:$L,9,FALSE))","v":""},{"$f":"IF(ISERROR(VLOOKUP($A299,check!$A:$L,10,FALSE))=TRUE,\"\",VLOOKUP($A299,check!$A:$L,10,FALSE))","v":""},{"$f":"IF(ISERROR(VLOOKUP($A299,check!$A:$L,11,FALSE))=TRUE,\"\",VLOOKUP($A299,check!$A:$L,11,FALSE))","v":""},{"$f":"IF(ISERROR(VLOOKUP($A299,check!$A:$L,12,FALSE))=TRUE,\"\",VLOOKUP($A299,check!$A:$L,12,FALSE))","v":""}]
[300,{"$f":"IF(C300=\"\",\"\",MATCH(A300,check!A:A,0))","v":""},{"$f":"IF(ISERROR(VLOOKUP($A300,check!$A:$L,2,FALSE))=TRUE,\"\",VLOOKUP($A300,check!$A:$L,2,FALSE))","v":""},{"$f":"IF(ISERROR(VLOOKUP($A300,check!$A:$L,3,FALSE))=TRUE,\"\",VLOOKUP($A300,check!$A:$L,3,FALSE))","v":""},{"$f":"IF(ISERROR(VLOOKUP($A300,check!$A:$L,4,FALSE))=TRUE,\"\",VLOOKUP($A300,check!$A:$L,4,FALSE))","v":""},{"$f":"IF(ISERROR(VLOOKUP($A300,check!$A:$L,5,FALSE))=TRUE,\"\",VLOOKUP($A300,check!$A:$L,5,FALSE))","v":""},{"$f":"IF(ISERROR(VLOOKUP($A300,check!$A:$L,6,FALSE))=TRUE,\"\",VLOOKUP($A300,check!$A:$L,6,FALSE))","v":""},{"$f":"IF(ISERROR(VLOOKUP($A300,check!$A:$L,7,FALSE))=TRUE,\"\",VLOOKUP($A300,check!$A:$L,7,FALSE))","v":""},{"$f":"IF(ISERROR(VLOOKUP($A300,check!$A:$L,8,FALSE))=TRUE,\"\",VLOOKUP($A300,check!$A:$L,8,FALSE))","v":""},{"$f":"IF(ISERROR(VLOOKUP($A300,check!$A:$L,9,FALSE))=TRUE,\"\",VLOOKUP($A300,check!$A:$L,9,FALSE))","v":""},{"$f":"IF(ISERROR(VLOOKUP($A300,check!$A:$L,10,FALSE))=TRUE,\"\",VLOOKUP($A300,check!$A:$L,10,FALSE))","v":""},{"$f":"IF(ISERROR(VLOOKUP($A300,check!$A:$L,11,FALSE))=TRUE,\"\",VLOOKUP($A300,check!$A:$L,11,FALSE))","v":""},{"$f":"IF(ISERROR(VLOOKUP($A300,check!$A:$L,12,FALSE))=TRUE,\"\",VLOOKUP($A300,check!$A:$L,12,FALSE))","v":""}]
[301,{"$f":"IF(C301=\"\",\"\",MATCH(A301,check!A:A,0))","v":""},{"$f":"IF(ISERROR(VLOOKUP($A301,check!$A:$L,2,FALSE))=TRUE,\"\",VLOOKUP($A301,check!$A:$L,2,FALSE))","v":""},{"$f":"IF(ISERROR(VLOOKUP($A301,check!$A:$L,3,FALSE))=TRUE,\"\",VLOOKUP($A301,check!$A:$L,3,FALSE))","v":""},{"$f":"IF(ISERROR(VLOOKUP($A301,check!$A:$L,4,FALSE))=TRUE,\"\",VLOOKUP($A301,check!$A:$L,4,FALSE))","v":""},{"$f":"IF(ISERROR(VLOOKUP($A301,check!$A:$L,5,FALSE))=TRUE,\"\",VLOOKUP($A301,check!$A:$L,5,FALSE))","v":""},{"$f":"IF(ISERROR(VLOOKUP($A301,check!$A:$L,6,FALSE))=TRUE,\"\",VLOOKUP($A301,check!$A:$L,6,FALSE))","v":""},{"$f":"IF(ISERROR(VLOOKUP($A301,check!$A:$L,7,FALSE))=TRUE,\"\",VLOOKUP($A301,check!$A:$L,7,FALSE))","v":""},{"$f":"IF(ISERROR(VLOOKUP($A301,check!$A:$L,8,FALSE))=TRUE,\"\",VLOOKUP($A301,check!$A:$L,8,FALSE))","v":""},{"$f":"IF(ISERROR(VLOOKUP($A301,check!$A:$L,9,FALSE))=TRUE,\"\",VLOOKUP($A301,check!$A:$L,9,FALSE))","v":""},{"$f":"IF(ISERROR(VLOOKUP($A301,check!$A:$L,10,FALSE))=TRUE,\"\",VLOOKUP($A301,check!$A:$L,10,FALSE))","v":""},{"$f":"IF(ISERROR(VLOOKUP($A301,check!$A:$L,11,FALSE))=TRUE,\"\",VLOOKUP($A301,check!$A:$L,11,FALSE))","v":""},{"$f":"IF(ISERROR(VLOOKUP($A301,check!$A:$L,12,FALSE))=TRUE,\"\",VLOOKUP($A301,check!$A:$L,12,FALSE))","v":""}]
[302,{"$f":"IF(C302=\"\",\"\",MATCH(A302,check!A:A,0))","v":""},{"$f":"IF(ISERROR(VLOOKUP($A302,check!$A:$L,2,FALSE))=TRUE,\"\",VLOOKUP($A302,check!$A:$L,2,FALSE))","v":""},{"$f":"IF(ISERROR(VLOOKUP($A302,check!$A:$L,3,FALSE))=TRUE,\"\",VLOOKUP($A302,check!$A:$L,3,FALSE))","v":""},{"$f":"IF(ISERROR(VLOOKUP($A302,check!$A:$L,4,FALSE))=TRUE,\"\",VLOOKUP($A302,check!$A:$L,4,FALSE))","v":""},{"$f":"IF(ISERROR(VLOOKUP($A302,check!$A:$L,5,FALSE))=TRUE,\"\",VLOOKUP($A302,check!$A:$L,5,FALSE))","v":""},{"$f":"IF(ISERROR(VLOOKUP($A302,check!$A:$L,6,FALSE))=TRUE,\"\",VLOOKUP($A302,check!$A:$L,6,FALSE))","v":""},{"$f":"IF(ISERROR(VLOOKUP($A302,check!$A:$L,7,FALSE))=TRUE,\"\",VLOOKUP($A302,check!$A:$L,7,FALSE))","v":""},{"$f":"IF(ISERROR(VLOOKUP($A302,check!$A:$L,8,FALSE))=TRUE,\"\",VLOOKUP($A302,check!$A:$L,8,FALSE))","v":""},{"$f":"IF(ISERROR(VLOOKUP($A302,check!$A:$L,9,FALSE))=TRUE,\"\",VLOOKUP($A302,check!$A:$L,9,FALSE))","v":""},{"$f":"IF(ISERROR(VLOOKUP($A302,check!$A:$L,10,FALSE))=TRUE,\"\",VLOOKUP($A302,check!$A:$L,10,FALSE))","v":""},{"$f":"IF(ISERROR(VLOOKUP($A302,check!$A:$L,11,FALSE))=TRUE,\"\",VLOOKUP($A302,check!$A:$L,11,FALSE))","v":""},{"$f":"IF(ISERROR(VLOOKUP($A302,check!$A:$L,12,FALSE))=TRUE,\"\",VLOOKUP($A302,check!$A:$L,12,FALSE))","v":""}]
[303,{"$f":"IF(C303=\"\",\"\",MATCH(A303,check!A:A,0))","v":""},{"$f":"IF(ISERROR(VLOOKUP($A303,check!$A:$L,2,FALSE))=TRUE,\"\",VLOOKUP($A303,check!$A:$L,2,FALSE))","v":""},{"$f":"IF(ISERROR(VLOOKUP($A303,check!$A:$L,3,FALSE))=TRUE,\"\",VLOOKUP($A303,check!$A:$L,3,FALSE))","v":""},{"$f":"IF(ISERROR(VLOOKUP($A303,check!$A:$L,4,FALSE))=TRUE,\"\",VLOOKUP($A303,check!$A:$L,4,FALSE))","v":""},{"$f":"IF(ISERROR(VLOOKUP($A303,check!$A:$L,5,FALSE))=TRUE,\"\",VLOOKUP($A303,check!$A:$L,5,FALSE))","v":""},{"$f":"IF(ISERROR(VLOOKUP($A303,check!$A:$L,6,FALSE))=TRUE,\"\",VLOOKUP($A303,check!$A:$L,6,FALSE))","v":""},{"$f":"IF(ISERROR(VLOOKUP($A303,check!$A:$L,7,FALSE))=TRUE,\"\",VLOOKUP($A303,check!$A:$L,7,FALSE))","v":""},{"$f":"IF(ISERROR(VLOOKUP($A303,check!$A:$L,8,FALSE))=TRUE,\"\",VLOOKUP($A303,check!$A:$L,8,FALSE))","v":""},{"$f":"IF(ISERROR(VLOOKUP($A303,check!$A:$L,9,FALSE))=TRUE,\"\",VLOOKUP($A303,check!$A:$L,9,FALSE))","v":""},{"$f":"IF(ISERROR(VLOOKUP($A303,check!$A:$L,10,FALSE))=TRUE,\"\",VLOOKUP($A303,check!$A:$L,10,FALSE))","v":""},{"$f":"IF(ISERROR(VLOOKUP($A303,check!$A:$L,11,FALSE))=TRUE,\"\",VLOOKUP($A303,check!$A:$L,11,FALSE))","v":""},{"$f":"IF(ISERROR(VLOOKUP($A303,check!$A:$L,12,FALSE))=TRUE,\"\",VLOOKUP($A303,check!$A:$L,12,FALSE))","v":""}]
[304,{"$f":"IF(C304=\"\",\"\",MATCH(A304,check!A:A,0))","v":""},{"$f":"IF(ISERROR(VLOOKUP($A304,check!$A:$L,2,FALSE))=TRUE,\"\",VLOOKUP($A304,check!$A:$L,2,FALSE))","v":""},{"$f":"IF(ISERROR(VLOOKUP($A304,check!$A:$L,3,FALSE))=TRUE,\"\",VLOOKUP($A304,check!$A:$L,3,FALSE))","v":""},{"$f":"IF(ISERROR(VLOOKUP($A304,check!$A:$L,4,FALSE))=TRUE,\"\",VLOOKUP($A304,check!$A:$L,4,FALSE))","v":""},{"$f":"IF(ISERROR(VLOOKUP($A304,check!$A:$L,5,FALSE))=TRUE,\"\",VLOOKUP($A304,check!$A:$L,5,FALSE))","v":""},{"$f":"IF(ISERROR(VLOOKUP($A304,check!$A:$L,6,FALSE))=TRUE,\"\",VLOOKUP($A304,check!$A:$L,6,FALSE))","v":""},{"$f":"IF(ISERROR(VLOOKUP($A304,check!$A:$L,7,FALSE))=TRUE,\"\",VLOOKUP($A304,check!$A:$L,7,FALSE))","v":""},{"$f":"IF(ISERROR(VLOOKUP($A304,check!$A:$L,8,FALSE))=TRUE,\"\",VLOOKUP($A304,check!$A:$L,8,FALSE))","v":""},{"$f":"IF(ISERROR(VLOOKUP($A304,check!$A:$L,9,FALSE))=TRUE,\"\",VLOOKUP($A304,check!$A:$L,9,FALSE))","v":""},{"$f":"IF(ISERROR(VLOOKUP($A304,check!$A:$L,10,FALSE))=TRUE,\"\",VLOOKUP($A304,check!$A:$L,10,FALSE))","v":""},{"$f":"IF(ISERROR(VLOOKUP($A304,check!$A:$L,11,FALSE))=TRUE,\"\",VLOOKUP($A304,check!$A:$L,11,FALSE))","v":""},{"$f":"IF(ISERROR(VLOOKUP($A304,check!$A:$L,12,FALSE))=TRUE,\"\",VLOOKUP($A304,check!$A:$L,12,FALSE))","v":""}]
[305,{"$f":"IF(C305=\"\",\"\",MATCH(A305,check!A:A,0))","v":""},{"$f":"IF(ISERROR(VLOOKUP($A305,check!$A:$L,2,FALSE))=TRUE,\"\",VLOOKUP($A305,check!$A:$L,2,FALSE))","v":""},{"$f":"IF(ISERROR(VLOOKUP($A305,check!$A:$L,3,FALSE))=TRUE,\"\",VLOOKUP($A305,check!$A:$L,3,FALSE))","v":""},{"$f":"IF(ISERROR(VLOOKUP($A305,check!$A:$L,4,FALSE))=TRUE,\"\",VLOOKUP($A305,check!$A:$L,4,FALSE))","v":""},{"$f":"IF(ISERROR(VLOOKUP($A305,check!$A:$L,5,FALSE))=TRUE,\"\",VLOOKUP($A305,check!$A:$L,5,FALSE))","v":""},{"$f":"IF(ISERROR(VLOOKUP($A305,check!$A:$L,6,FALSE))=TRUE,\"\",VLOOKUP($A305,check!$A:$L,6,FALSE))","v":""},{"$f":"IF(ISERROR(VLOOKUP($A305,check!$A:$L,7,FALSE))=TRUE,\"\",VLOOKUP($A305,check!$A:$L,7,FALSE))","v":""},{"$f":"IF(ISERROR(VLOOKUP($A305,check!$A:$L,8,FALSE))=TRUE,\"\",VLOOKUP($A305,check!$A:$L,8,FALSE))","v":""},{"$f":"IF(ISERROR(VLOOKUP($A305,check!$A:$L,9,FALSE))=TRUE,\"\",VLOOKUP($A305,check!$A:$L,9,FALSE))","v":""},{"$f":"IF(ISERROR(VLOOKUP($A305,check!$A:$L,10,FALSE))=TRUE,\"\",VLOOKUP($A305,check!$A:$L,10,FALSE))","v":""},{"$f":"IF(ISERROR(VLOOKUP($A305,check!$A:$L,11,FALSE))=TRUE,\"\",VLOOKUP($A305,check!$A:$L,11,FALSE))","v":""},{"$f":"IF(ISERROR(VLOOKUP($A305,check!$A:$L,12,FALSE))=TRUE,\"\",VLOOKUP($A305,check!$A:$L,12,FALSE))","v":""}]
[306,{"$f":"IF(C306=\"\",\"\",MATCH(A306,check!A:A,0))","v":""},{"$f":"IF(ISERROR(VLOOKUP($A306,check!$A:$L,2,FALSE))=TRUE,\"\",VLOOKUP($A306,check!$A:$L,2,FALSE))","v":""},{"$f":"IF(ISERROR(VLOOKUP($A306,check!$A:$L,3,FALSE))=TRUE,\"\",VLOOKUP($A306,check!$A:$L,3,FALSE))","v":""},{"$f":"IF(ISERROR(VLOOKUP($A306,check!$A:$L,4,FALSE))=TRUE,\"\",VLOOKUP($A306,check!$A:$L,4,FALSE))","v":""},{"$f":"IF(ISERROR(VLOOKUP($A306,check!$A:$L,5,FALSE))=TRUE,\"\",VLOOKUP($A306,check!$A:$L,5,FALSE))","v":""},{"$f":"IF(ISERROR(VLOOKUP($A306,check!$A:$L,6,FALSE))=TRUE,\"\",VLOOKUP($A306,check!$A:$L,6,FALSE))","v":""},{"$f":"IF(ISERROR(VLOOKUP($A306,check!$A:$L,7,FALSE))=TRUE,\"\",VLOOKUP($A306,check!$A:$L,7,FALSE))","v":""},{"$f":"IF(ISERROR(VLOOKUP($A306,check!$A:$L,8,FALSE))=TRUE,\"\",VLOOKUP($A306,check!$A:$L,8,FALSE))","v":""},{"$f":"IF(ISERROR(VLOOKUP($A306,check!$A:$L,9,FALSE))=TRUE,\"\",VLOOKUP($A306,check!$A:$L,9,FALSE))","v":""},{"$f":"IF(ISERROR(VLOOKUP($A306,check!$A:$L,10,FALSE))=TRUE,\"\",VLOOKUP($A306,check!$A:$L,10,FALSE))","v":""},{"$f":"IF(ISERROR(VLOOKUP($A306,check!$A:$L,11,FALSE))=TRUE,\"\",VLOOKUP($A306,check!$A:$L,11,FALSE))","v":""},{"$f":"IF(ISERROR(VLOOKUP($A306,check!$A:$L,12,FALSE))=TRUE,\"\",VLOOKUP($A306,check!$A:$L,12,FALSE))","v":""}]
[307,{"$f":"IF(C307=\"\",\"\",MATCH(A307,check!A:A,0))","v":""},{"$f":"IF(ISERROR(VLOOKUP($A307,check!$A:$L,2,FALSE))=TRUE,\"\",VLOOKUP($A307,check!$A:$L,2,FALSE))","v":""},{"$f":"IF(ISERROR(VLOOKUP($A307,check!$A:$L,3,FALSE))=TRUE,\"\",VLOOKUP($A307,check!$A:$L,3,FALSE))","v":""},{"$f":"IF(ISERROR(VLOOKUP($A307,check!$A:$L,4,FALSE))=TRUE,\"\",VLOOKUP($A307,check!$A:$L,4,FALSE))","v":""},{"$f":"IF(ISERROR(VLOOKUP($A307,check!$A:$L,5,FALSE))=TRUE,\"\",VLOOKUP($A307,check!$A:$L,5,FALSE))","v":""},{"$f":"IF(ISERROR(VLOOKUP($A307,check!$A:$L,6,FALSE))=TRUE,\"\",VLOOKUP($A307,check!$A:$L,6,FALSE))","v":""},{"$f":"IF(ISERROR(VLOOKUP($A307,check!$A:$L,7,FALSE))=TRUE,\"\",VLOOKUP($A307,check!$A:$L,7,FALSE))","v":""},{"$f":"IF(ISERROR(VLOOKUP($A307,check!$A:$L,8,FALSE))=TRUE,\"\",VLOOKUP($A307,check!$A:$L,8,FALSE))","v":""},{"$f":"IF(ISERROR(VLOOKUP($A307,check!$A:$L,9,FALSE))=TRUE,\"\",VLOOKUP($A307,check!$A:$L,9,FALSE))","v":""},{"$f":"IF(ISERROR(VLOOKUP($A307,check!$A:$L,10,FALSE))=TRUE,\"\",VLOOKUP($A307,check!$A:$L,10,FALSE))","v":""},{"$f":"IF(ISERROR(VLOOKUP($A307,check!$A:$L,11,FALSE))=TRUE,\"\",VLOOKUP($A307,check!$A:$L,11,FALSE))","v":""},{"$f":"IF(ISERROR(VLOOKUP($A307,check!$A:$L,12,FALSE))=TRUE,\"\",VLOOKUP($A307,check!$A:$L,12,FALSE))","v":""}]
[308,{"$f":"IF(C308=\"\",\"\",MATCH(A308,check!A:A,0))","v":""},{"$f":"IF(ISERROR(VLOOKUP($A308,check!$A:$L,2,FALSE))=TRUE,\"\",VLOOKUP($A308,check!$A:$L,2,FALSE))","v":""},{"$f":"IF(ISERROR(VLOOKUP($A308,check!$A:$L,3,FALSE))=TRUE,\"\",VLOOKUP($A308,check!$A:$L,3,FALSE))","v":""},{"$f":"IF(ISERROR(VLOOKUP($A308,check!$A:$L,4,FALSE))=TRUE,\"\",VLOOKUP($A308,check!$A:$L,4,FALSE))","v":""},{"$f":"IF(ISERROR(VLOOKUP($A308,check!$A:$L,5,FALSE))=TRUE,\"\",VLOOKUP($A308,check!$A:$L,5,FALSE))","v":""},{"$f":"IF(ISERROR(VLOOKUP($A308,check!$A:$L,6,FALSE))=TRUE,\"\",VLOOKUP($A308,check!$A:$L,6,FALSE))","v":""},{"$f":"IF(ISERROR(VLOOKUP($A308,check!$A:$L,7,FALSE))=TRUE,\"\",VLOOKUP($A308,check!$A:$L,7,FALSE))","v":""},{"$f":"IF(ISERROR(VLOOKUP($A308,check!$A:$L,8,FALSE))=TRUE,\"\",VLOOKUP($A308,check!$A:$L,8,FALSE))","v":""},{"$f":"IF(ISERROR(VLOOKUP($A308,check!$A:$L,9,FALSE))=TRUE,\"\",VLOOKUP($A308,check!$A:$L,9,FALSE))","v":""},{"$f":"IF(ISERROR(VLOOKUP($A308,check!$A:$L,10,FALSE))=TRUE,\"\",VLOOKUP($A308,check!$A:$L,10,FALSE))","v":""},{"$f":"IF(ISERROR(VLOOKUP($A308,check!$A:$L,11,FALSE))=TRUE,\"\",VLOOKUP($A308,check!$A:$L,11,FALSE))","v":""},{"$f":"IF(ISERROR(VLOOKUP($A308,check!$A:$L,12,FALSE))=TRUE,\"\",VLOOKUP($A308,check!$A:$L,12,FALSE))","v":""}]
[309,{"$f":"IF(C309=\"\",\"\",MATCH(A309,check!A:A,0))","v":""},{"$f":"IF(ISERROR(VLOOKUP($A309,check!$A:$L,2,FALSE))=TRUE,\"\",VLOOKUP($A309,check!$A:$L,2,FALSE))","v":""},{"$f":"IF(ISERROR(VLOOKUP($A309,check!$A:$L,3,FALSE))=TRUE,\"\",VLOOKUP($A309,check!$A:$L,3,FALSE))","v":""},{"$f":"IF(ISERROR(VLOOKUP($A309,check!$A:$L,4,FALSE))=TRUE,\"\",VLOOKUP($A309,check!$A:$L,4,FALSE))","v":""},{"$f":"IF(ISERROR(VLOOKUP($A309,check!$A:$L,5,FALSE))=TRUE,\"\",VLOOKUP($A309,check!$A:$L,5,FALSE))","v":""},{"$f":"IF(ISERROR(VLOOKUP($A309,check!$A:$L,6,FALSE))=TRUE,\"\",VLOOKUP($A309,check!$A:$L,6,FALSE))","v":""},{"$f":"IF(ISERROR(VLOOKUP($A309,check!$A:$L,7,FALSE))=TRUE,\"\",VLOOKUP($A309,check!$A:$L,7,FALSE))","v":""},{"$f":"IF(ISERROR(VLOOKUP($A309,check!$A:$L,8,FALSE))=TRUE,\"\",VLOOKUP($A309,check!$A:$L,8,FALSE))","v":""},{"$f":"IF(ISERROR(VLOOKUP($A309,check!$A:$L,9,FALSE))=TRUE,\"\",VLOOKUP($A309,check!$A:$L,9,FALSE))","v":""},{"$f":"IF(ISERROR(VLOOKUP($A309,check!$A:$L,10,FALSE))=TRUE,\"\",VLOOKUP($A309,check!$A:$L,10,FALSE))","v":""},{"$f":"IF(ISERROR(VLOOKUP($A309,check!$A:$L,11,FALSE))=TRUE,\"\",VLOOKUP($A309,check!$A:$L,11,FALSE))","v":""},{"$f":"IF(ISERROR(VLOOKUP($A309,check!$A:$L,12,FALSE))=TRUE,\"\",VLOOKUP($A309,check!$A:$L,12,FALSE))","v":""}]
[310,{"$f":"IF(C310=\"\",\"\",MATCH(A310,check!A:A,0))","v":""},{"$f":"IF(ISERROR(VLOOKUP($A310,check!$A:$L,2,FALSE))=TRUE,\"\",VLOOKUP($A310,check!$A:$L,2,FALSE))","v":""},{"$f":"IF(ISERROR(VLOOKUP($A310,check!$A:$L,3,FALSE))=TRUE,\"\",VLOOKUP($A310,check!$A:$L,3,FALSE))","v":""},{"$f":"IF(ISERROR(VLOOKUP($A310,check!$A:$L,4,FALSE))=TRUE,\"\",VLOOKUP($A310,check!$A:$L,4,FALSE))","v":""},{"$f":"IF(ISERROR(VLOOKUP($A310,check!$A:$L,5,FALSE))=TRUE,\"\",VLOOKUP($A310,check!$A:$L,5,FALSE))","v":""},{"$f":"IF(ISERROR(VLOOKUP($A310,check!$A:$L,6,FALSE))=TRUE,\"\",VLOOKUP($A310,check!$A:$L,6,FALSE))","v":""},{"$f":"IF(ISERROR(VLOOKUP($A310,check!$A:$L,7,FALSE))=TRUE,\"\",VLOOKUP($A310,check!$A:$L,7,FALSE))","v":""},{"$f":"IF(ISERROR(VLOOKUP($A310,check!$A:$L,8,FALSE))=TRUE,\"\",VLOOKUP($A310,check!$A:$L,8,FALSE))","v":""},{"$f":"IF(ISERROR(VLOOKUP($A310,check!$A:$L,9,FALSE))=TRUE,\"\",VLOOKUP($A310,check!$A:$L,9,FALSE))","v":""},{"$f":"IF(ISERROR(VLOOKUP($A310,check!$A:$L,10,FALSE))=TRUE,\"\",VLOOKUP($A310,check!$A:$L,10,FALSE))","v":""},{"$f":"IF(ISERROR(VLOOKUP($A310,check!$A:$L,11,FALSE))=TRUE,\"\",VLOOKUP($A310,check!$A:$L,11,FALSE))","v":""},{"$f":"IF(ISERROR(VLOOKUP($A310,check!$A:$L,12,FALSE))=TRUE,\"\",VLOOKUP($A310,check!$A:$L,12,FALSE))","v":""}]
[311,{"$f":"IF(C311=\"\",\"\",MATCH(A311,check!A:A,0))","v":""},{"$f":"IF(ISERROR(VLOOKUP($A311,check!$A:$L,2,FALSE))=TRUE,\"\",VLOOKUP($A311,check!$A:$L,2,FALSE))","v":""},{"$f":"IF(ISERROR(VLOOKUP($A311,check!$A:$L,3,FALSE))=TRUE,\"\",VLOOKUP($A311,check!$A:$L,3,FALSE))","v":""},{"$f":"IF(ISERROR(VLOOKUP($A311,check!$A:$L,4,FALSE))=TRUE,\"\",VLOOKUP($A311,check!$A:$L,4,FALSE))","v":""},{"$f":"IF(ISERROR(VLOOKUP($A311,check!$A:$L,5,FALSE))=TRUE,\"\",VLOOKUP($A311,check!$A:$L,5,FALSE))","v":""},{"$f":"IF(ISERROR(VLOOKUP($A311,check!$A:$L,6,FALSE))=TRUE,\"\",VLOOKUP($A311,check!$A:$L,6,FALSE))","v":""},{"$f":"IF(ISERROR(VLOOKUP($A311,check!$A:$L,7,FALSE))=TRUE,\"\",VLOOKUP($A311,check!$A:$L,7,FALSE))","v":""},{"$f":"IF(ISERROR(VLOOKUP($A311,check!$A:$L,8,FALSE))=TRUE,\"\",VLOOKUP($A311,check!$A:$L,8,FALSE))","v":""},{"$f":"IF(ISERROR(VLOOKUP($A311,check!$A:$L,9,FALSE))=TRUE,\"\",VLOOKUP($A311,check!$A:$L,9,FALSE))","v":""},{"$f":"IF(ISERROR(VLOOKUP($A311,check!$A:$L,10,FALSE))=TRUE,\"\",VLOOKUP($A311,check!$A:$L,10,FALSE))","v":""},{"$f":"IF(ISERROR(VLOOKUP($A311,check!$A:$L,11,FALSE))=TRUE,\"\",VLOOKUP($A311,check!$A:$L,11,FALSE))","v":""},{"$f":"IF(ISERROR(VLOOKUP($A311,check!$A:$L,12,FALSE))=TRUE,\"\",VLOOKUP($A311,check!$A:$L,12,FALSE))","v":""}]
[312,{"$f":"IF(C312=\"\",\"\",MATCH(A312,check!A:A,0))","v":""},{"$f":"IF(ISERROR(VLOOKUP($A312,check!$A:$L,2,FALSE))=TRUE,\"\",VLOOKUP($A312,check!$A:$L,2,FALSE))","v":""},{"$f":"IF(ISERROR(VLOOKUP($A312,check!$A:$L,3,FALSE))=TRUE,\"\",VLOOKUP($A312,check!$A:$L,3,FALSE))","v":""},{"$f":"IF(ISERROR(VLOOKUP($A312,check!$A:$L,4,FALSE))=TRUE,\"\",VLOOKUP($A312,check!$A:$L,4,FALSE))","v":""},{"$f":"IF(ISERROR(VLOOKUP($A312,check!$A:$L,5,FALSE))=TRUE,\"\",VLOOKUP($A312,check!$A:$L,5,FALSE))","v":""},{"$f":"IF(ISERROR(VLOOKUP($A312,check!$A:$L,6,FALSE))=TRUE,\"\",VLOOKUP($A312,check!$A:$L,6,FALSE))","v":""},{"$f":"IF(ISERROR(VLOOKUP($A312,check!$A:$L,7,FALSE))=TRUE,\"\",VLOOKUP($A312,check!$A:$L,7,FALSE))","v":""},{"$f":"IF(ISERROR(VLOOKUP($A312,check!$A:$L,8,FALSE))=TRUE,\"\",VLOOKUP($A312,check!$A:$L,8,FALSE))","v":""},{"$f":"IF(ISERROR(VLOOKUP($A312,check!$A:$L,9,FALSE))=TRUE,\"\",VLOOKUP($A312,check!$A:$L,9,FALSE))","v":""},{"$f":"IF(ISERROR(VLOOKUP($A312,check!$A:$L,10,FALSE))=TRUE,\"\",VLOOKUP($A312,check!$A:$L,10,FALSE))","v":""},{"$f":"IF(ISERROR(VLOOKUP($A312,check!$A:$L,11,FALSE))=TRUE,\"\",VLOOKUP($A312,check!$A:$L,11,FALSE))","v":""},{"$f":"IF(ISERROR(VLOOKUP($A312,check!$A:$L,12,FALSE))=TRUE,\"\",VLOOKUP($A312,check!$A:$L,12,FALSE))","v":""}]
[313,{"$f":"IF(C313=\"\",\"\",MATCH(A313,check!A:A,0))","v":""},{"$f":"IF(ISERROR(VLOOKUP($A313,check!$A:$L,2,FALSE))=TRUE,\"\",VLOOKUP($A313,check!$A:$L,2,FALSE))","v":""},{"$f":"IF(ISERROR(VLOOKUP($A313,check!$A:$L,3,FALSE))=TRUE,\"\",VLOOKUP($A313,check!$A:$L,3,FALSE))","v":""},{"$f":"IF(ISERROR(VLOOKUP($A313,check!$A:$L,4,FALSE))=TRUE,\"\",VLOOKUP($A313,check!$A:$L,4,FALSE))","v":""},{"$f":"IF(ISERROR(VLOOKUP($A313,check!$A:$L,5,FALSE))=TRUE,\"\",VLOOKUP($A313,check!$A:$L,5,FALSE))","v":""},{"$f":"IF(ISERROR(VLOOKUP($A313,check!$A:$L,6,FALSE))=TRUE,\"\",VLOOKUP($A313,check!$A:$L,6,FALSE))","v":""},{"$f":"IF(ISERROR(VLOOKUP($A313,check!$A:$L,7,FALSE))=TRUE,\"\",VLOOKUP($A313,check!$A:$L,7,FALSE))","v":""},{"$f":"IF(ISERROR(VLOOKUP($A313,check!$A:$L,8,FALSE))=TRUE,\"\",VLOOKUP($A313,check!$A:$L,8,FALSE))","v":""},{"$f":"IF(ISERROR(VLOOKUP($A313,check!$A:$L,9,FALSE))=TRUE,\"\",VLOOKUP($A313,check!$A:$L,9,FALSE))","v":""},{"$f":"IF(ISERROR(VLOOKUP($A313,check!$A:$L,10,FALSE))=TRUE,\"\",VLOOKUP($A313,check!$A:$L,10,FALSE))","v":""},{"$f":"IF(ISERROR(VLOOKUP($A313,check!$A:$L,11,FALSE))=TRUE,\"\",VLOOKUP($A313,check!$A:$L,11,FALSE))","v":""},{"$f":"IF(ISERROR(VLOOKUP($A313,check!$A:$L,12,FALSE))=TRUE,\"\",VLOOKUP($A313,check!$A:$L,12,FALSE))","v":""}]
[314,{"$f":"IF(C314=\"\",\"\",MATCH(A314,check!A:A,0))","v":""},{"$f":"IF(ISERROR(VLOOKUP($A314,check!$A:$L,2,FALSE))=TRUE,\"\",VLOOKUP($A314,check!$A:$L,2,FALSE))","v":""},{"$f":"IF(ISERROR(VLOOKUP($A314,check!$A:$L,3,FALSE))=TRUE,\"\",VLOOKUP($A314,check!$A:$L,3,FALSE))","v":""},{"$f":"IF(ISERROR(VLOOKUP($A314,check!$A:$L,4,FALSE))=TRUE,\"\",VLOOKUP($A314,check!$A:$L,4,FALSE))","v":""},{"$f":"IF(ISERROR(VLOOKUP($A314,check!$A:$L,5,FALSE))=TRUE,\"\",VLOOKUP($A314,check!$A:$L,5,FALSE))","v":""},{"$f":"IF(ISERROR(VLOOKUP($A314,check!$A:$L,6,FALSE))=TRUE,\"\",VLOOKUP($A314,check!$A:$L,6,FALSE))","v":""},{"$f":"IF(ISERROR(VLOOKUP($A314,check!$A:$L,7,FALSE))=TRUE,\"\",VLOOKUP($A314,check!$A:$L,7,FALSE))","v":""},{"$f":"IF(ISERROR(VLOOKUP($A314,check!$A:$L,8,FALSE))=TRUE,\"\",VLOOKUP($A314,check!$A:$L,8,FALSE))","v":""},{"$f":"IF(ISERROR(VLOOKUP($A314,check!$A:$L,9,FALSE))=TRUE,\"\",VLOOKUP($A314,check!$A:$L,9,FALSE))","v":""},{"$f":"IF(ISERROR(VLOOKUP($A314,check!$A:$L,10,FALSE))=TRUE,\"\",VLOOKUP($A314,check!$A:$L,10,FALSE))","v":""},{"$f":"IF(ISERROR(VLOOKUP($A314,check!$A:$L,11,FALSE))=TRUE,\"\",VLOOKUP($A314,check!$A:$L,11,FALSE))","v":""},{"$f":"IF(ISERROR(VLOOKUP($A314,check!$A:$L,12,FALSE))=TRUE,\"\",VLOOKUP($A314,check!$A:$L,12,FALSE))","v":""}]
[315,{"$f":"IF(C315=\"\",\"\",MATCH(A315,check!A:A,0))","v":""},{"$f":"IF(ISERROR(VLOOKUP($A315,check!$A:$L,2,FALSE))=TRUE,\"\",VLOOKUP($A315,check!$A:$L,2,FALSE))","v":""},{"$f":"IF(ISERROR(VLOOKUP($A315,check!$A:$L,3,FALSE))=TRUE,\"\",VLOOKUP($A315,check!$A:$L,3,FALSE))","v":""},{"$f":"IF(ISERROR(VLOOKUP($A315,check!$A:$L,4,FALSE))=TRUE,\"\",VLOOKUP($A315,check!$A:$L,4,FALSE))","v":""},{"$f":"IF(ISERROR(VLOOKUP($A315,check!$A:$L,5,FALSE))=TRUE,\"\",VLOOKUP($A315,check!$A:$L,5,FALSE))","v":""},{"$f":"IF(ISERROR(VLOOKUP($A315,check!$A:$L,6,FALSE))=TRUE,\"\",VLOOKUP($A315,check!$A:$L,6,FALSE))","v":""},{"$f":"IF(ISERROR(VLOOKUP($A315,check!$A:$L,7,FALSE))=TRUE,\"\",VLOOKUP($A315,check!$A:$L,7,FALSE))","v":""},{"$f":"IF(ISERROR(VLOOKUP($A315,check!$A:$L,8,FALSE))=TRUE,\"\",VLOOKUP($A315,check!$A:$L,8,FALSE))","v":""},{"$f":"IF(ISERROR(VLOOKUP($A315,check!$A:$L,9,FALSE))=TRUE,\"\",VLOOKUP($A315,check!$A:$L,9,FALSE))","v":""},{"$f":"IF(ISERROR(VLOOKUP($A315,check!$A:$L,10,FALSE))=TRUE,\"\",VLOOKUP($A315,check!$A:$L,10,FALSE))","v":""},{"$f":"IF(ISERROR(VLOOKUP($A315,check!$A:$L,11,FALSE))=TRUE,\"\",VLOOKUP($A315,check!$A:$L,11,FALSE))","v":""},{"$f":"IF(ISERROR(VLOOKUP($A315,check!$A:$L,12,FALSE))=TRUE,\"\",VLOOKUP($A315,check!$A:$L,12,FALSE))","v":""}]
[316,{"$f":"IF(C316=\"\",\"\",MATCH(A316,check!A:A,0))","v":""},{"$f":"IF(ISERROR(VLOOKUP($A316,check!$A:$L,2,FALSE))=TRUE,\"\",VLOOKUP($A316,check!$A:$L,2,FALSE))","v":""},{"$f":"IF(ISERROR(VLOOKUP($A316,check!$A:$L,3,FALSE))=TRUE,\"\",VLOOKUP($A316,check!$A:$L,3,FALSE))","v":""},{"$f":"IF(ISERROR(VLOOKUP($A316,check!$A:$L,4,FALSE))=TRUE,\"\",VLOOKUP($A316,check!$A:$L,4,FALSE))","v":""},{"$f":"IF(ISERROR(VLOOKUP($A316,check!$A:$L,5,FALSE))=TRUE,\"\",VLOOKUP($A316,check!$A:$L,5,FALSE))","v":""},{"$f":"IF(ISERROR(VLOOKUP($A316,check!$A:$L,6,FALSE))=TRUE,\"\",VLOOKUP($A316,check!$A:$L,6,FALSE))","v":""},{"$f":"IF(ISERROR(VLOOKUP($A316,check!$A:$L,7,FALSE))=TRUE,\"\",VLOOKUP($A316,check!$A:$L,7,FALSE))","v":""},{"$f":"IF(ISERROR(VLOOKUP($A316,check!$A:$L,8,FALSE))=TRUE,\"\",VLOOKUP($A316,check!$A:$L,8,FALSE))","v":""},{"$f":"IF(ISERROR(VLOOKUP($A316,check!$A:$L,9,FALSE))=TRUE,\"\",VLOOKUP($A316,check!$A:$L,9,FALSE))","v":""},{"$f":"IF(ISERROR(VLOOKUP($A316,check!$A:$L,10,FALSE))=TRUE,\"\",VLOOKUP($A316,check!$A:$L,10,FALSE))","v":""},{"$f":"IF(ISERROR(VLOOKUP($A316,check!$A:$L,11,FALSE))=TRUE,\"\",VLOOKUP($A316,check!$A:$L,11,FALSE))","v":""},{"$f":"IF(ISERROR(VLOOKUP($A316,check!$A:$L,12,FALSE))=TRUE,\"\",VLOOKUP($A316,check!$A:$L,12,FALSE))","v":""}]
[317,{"$f":"IF(C317=\"\",\"\",MATCH(A317,check!A:A,0))","v":""},{"$f":"IF(ISERROR(VLOOKUP($A317,check!$A:$L,2,FALSE))=TRUE,\"\",VLOOKUP($A317,check!$A:$L,2,FALSE))","v":""},{"$f":"IF(ISERROR(VLOOKUP($A317,check!$A:$L,3,FALSE))=TRUE,\"\",VLOOKUP($A317,check!$A:$L,3,FALSE))","v":""},{"$f":"IF(ISERROR(VLOOKUP($A317,check!$A:$L,4,FALSE))=TRUE,\"\",VLOOKUP($A317,check!$A:$L,4,FALSE))","v":""},{"$f":"IF(ISERROR(VLOOKUP($A317,check!$A:$L,5,FALSE))=TRUE,\"\",VLOOKUP($A317,check!$A:$L,5,FALSE))","v":""},{"$f":"IF(ISERROR(VLOOKUP($A317,check!$A:$L,6,FALSE))=TRUE,\"\",VLOOKUP($A317,check!$A:$L,6,FALSE))","v":""},{"$f":"IF(ISERROR(VLOOKUP($A317,check!$A:$L,7,FALSE))=TRUE,\"\",VLOOKUP($A317,check!$A:$L,7,FALSE))","v":""},{"$f":"IF(ISERROR(VLOOKUP($A317,check!$A:$L,8,FALSE))=TRUE,\"\",VLOOKUP($A317,check!$A:$L,8,FALSE))","v":""},{"$f":"IF(ISERROR(VLOOKUP($A317,check!$A:$L,9,FALSE))=TRUE,\"\",VLOOKUP($A317,check!$A:$L,9,FALSE))","v":""},{"$f":"IF(ISERROR(VLOOKUP($A317,check!$A:$L,10,FALSE))=TRUE,\"\",VLOOKUP($A317,check!$A:$L,10,FALSE))","v":""},{"$f":"IF(ISERROR(VLOOKUP($A317,check!$A:$L,11,FALSE))=TRUE,\"\",VLOOKUP($A317,check!$A:$L,11,FALSE))","v":""},{"$f":"IF(ISERROR(VLOOKUP($A317,check!$A:$L,12,FALSE))=TRUE,\"\",VLOOKUP($A317,check!$A:$L,12,FALSE))","v":""}]
[318,{"$f":"IF(C318=\"\",\"\",MATCH(A318,check!A:A,0))","v":""},{"$f":"IF(ISERROR(VLOOKUP($A318,check!$A:$L,2,FALSE))=TRUE,\"\",VLOOKUP($A318,check!$A:$L,2,FALSE))","v":""},{"$f":"IF(ISERROR(VLOOKUP($A318,check!$A:$L,3,FALSE))=TRUE,\"\",VLOOKUP($A318,check!$A:$L,3,FALSE))","v":""},{"$f":"IF(ISERROR(VLOOKUP($A318,check!$A:$L,4,FALSE))=TRUE,\"\",VLOOKUP($A318,check!$A:$L,4,FALSE))","v":""},{"$f":"IF(ISERROR(VLOOKUP($A318,check!$A:$L,5,FALSE))=TRUE,\"\",VLOOKUP($A318,check!$A:$L,5,FALSE))","v":""},{"$f":"IF(ISERROR(VLOOKUP($A318,check!$A:$L,6,FALSE))=TRUE,\"\",VLOOKUP($A318,check!$A:$L,6,FALSE))","v":""},{"$f":"IF(ISERROR(VLOOKUP($A318,check!$A:$L,7,FALSE))=TRUE,\"\",VLOOKUP($A318,check!$A:$L,7,FALSE))","v":""},{"$f":"IF(ISERROR(VLOOKUP($A318,check!$A:$L,8,FALSE))=TRUE,\"\",VLOOKUP($A318,check!$A:$L,8,FALSE))","v":""},{"$f":"IF(ISERROR(VLOOKUP($A318,check!$A:$L,9,FALSE))=TRUE,\"\",VLOOKUP($A318,check!$A:$L,9,FALSE))","v":""},{"$f":"IF(ISERROR(VLOOKUP($A318,check!$A:$L,10,FALSE))=TRUE,\"\",VLOOKUP($A318,check!$A:$L,10,FALSE))","v":""},{"$f":"IF(ISERROR(VLOOKUP($A318,check!$A:$L,11,FALSE))=TRUE,\"\",VLOOKUP($A318,check!$A:$L,11,FALSE))","v":""},{"$f":"IF(ISERROR(VLOOKUP($A318,check!$A:$L,12,FALSE))=TRUE,\"\",VLOOKUP($A318,check!$A:$L,12,FALSE))","v":""}]
[319,{"$f":"IF(C319=\"\",\"\",MATCH(A319,check!A:A,0))","v":""},{"$f":"IF(ISERROR(VLOOKUP($A319,check!$A:$L,2,FALSE))=TRUE,\"\",VLOOKUP($A319,check!$A:$L,2,FALSE))","v":""},{"$f":"IF(ISERROR(VLOOKUP($A319,check!$A:$L,3,FALSE))=TRUE,\"\",VLOOKUP($A319,check!$A:$L,3,FALSE))","v":""},{"$f":"IF(ISERROR(VLOOKUP($A319,check!$A:$L,4,FALSE))=TRUE,\"\",VLOOKUP($A319,check!$A:$L,4,FALSE))","v":""},{"$f":"IF(ISERROR(VLOOKUP($A319,check!$A:$L,5,FALSE))=TRUE,\"\",VLOOKUP($A319,check!$A:$L,5,FALSE))","v":""},{"$f":"IF(ISERROR(VLOOKUP($A319,check!$A:$L,6,FALSE))=TRUE,\"\",VLOOKUP($A319,check!$A:$L,6,FALSE))","v":""},{"$f":"IF(ISERROR(VLOOKUP($A319,check!$A:$L,7,FALSE))=TRUE,\"\",VLOOKUP($A319,check!$A:$L,7,FALSE))","v":""},{"$f":"IF(ISERROR(VLOOKUP($A319,check!$A:$L,8,FALSE))=TRUE,\"\",VLOOKUP($A319,check!$A:$L,8,FALSE))","v":""},{"$f":"IF(ISERROR(VLOOKUP($A319,check!$A:$L,9,FALSE))=TRUE,\"\",VLOOKUP($A319,check!$A:$L,9,FALSE))","v":""},{"$f":"IF(ISERROR(VLOOKUP($A319,check!$A:$L,10,FALSE))=TRUE,\"\",VLOOKUP($A319,check!$A:$L,10,FALSE))","v":""},{"$f":"IF(ISERROR(VLOOKUP($A319,check!$A:$L,11,FALSE))=TRUE,\"\",VLOOKUP($A319,check!$A:$L,11,FALSE))","v":""},{"$f":"IF(ISERROR(VLOOKUP($A319,check!$A:$L,12,FALSE))=TRUE,\"\",VLOOKUP($A319,check!$A:$L,12,FALSE))","v":""}]
[320,{"$f":"IF(C320=\"\",\"\",MATCH(A320,check!A:A,0))","v":""},{"$f":"IF(ISERROR(VLOOKUP($A320,check!$A:$L,2,FALSE))=TRUE,\"\",VLOOKUP($A320,check!$A:$L,2,FALSE))","v":""},{"$f":"IF(ISERROR(VLOOKUP($A320,check!$A:$L,3,FALSE))=TRUE,\"\",VLOOKUP($A320,check!$A:$L,3,FALSE))","v":""},{"$f":"IF(ISERROR(VLOOKUP($A320,check!$A:$L,4,FALSE))=TRUE,\"\",VLOOKUP($A320,check!$A:$L,4,FALSE))","v":""},{"$f":"IF(ISERROR(VLOOKUP($A320,check!$A:$L,5,FALSE))=TRUE,\"\",VLOOKUP($A320,check!$A:$L,5,FALSE))","v":""},{"$f":"IF(ISERROR(VLOOKUP($A320,check!$A:$L,6,FALSE))=TRUE,\"\",VLOOKUP($A320,check!$A:$L,6,FALSE))","v":""},{"$f":"IF(ISERROR(VLOOKUP($A320,check!$A:$L,7,FALSE))=TRUE,\"\",VLOOKUP($A320,check!$A:$L,7,FALSE))","v":""},{"$f":"IF(ISERROR(VLOOKUP($A320,check!$A:$L,8,FALSE))=TRUE,\"\",VLOOKUP($A320,check!$A:$L,8,FALSE))","v":""},{"$f":"IF(ISERROR(VLOOKUP($A320,check!$A:$L,9,FALSE))=TRUE,\"\",VLOOKUP($A320,check!$A:$L,9,FALSE))","v":""},{"$f":"IF(ISERROR(VLOOKUP($A320,check!$A:$L,10,FALSE))=TRUE,\"\",VLOOKUP($A320,check!$A:$L,10,FALSE))","v":""},{"$f":"IF(ISERROR(VLOOKUP($A320,check!$A:$L,11,FALSE))=TRUE,\"\",VLOOKUP($A320,check!$A:$L,11,FALSE))","v":""},{"$f":"IF(ISERROR(VLOOKUP($A320,check!$A:$L,12,FALSE))=TRUE,\"\",VLOOKUP($A320,check!$A:$L,12,FALSE))","v":""}]
[321,{"$f":"IF(C321=\"\",\"\",MATCH(A321,check!A:A,0))","v":""},{"$f":"IF(ISERROR(VLOOKUP($A321,check!$A:$L,2,FALSE))=TRUE,\"\",VLOOKUP($A321,check!$A:$L,2,FALSE))","v":""},{"$f":"IF(ISERROR(VLOOKUP($A321,check!$A:$L,3,FALSE))=TRUE,\"\",VLOOKUP($A321,check!$A:$L,3,FALSE))","v":""},{"$f":"IF(ISERROR(VLOOKUP($A321,check!$A:$L,4,FALSE))=TRUE,\"\",VLOOKUP($A321,check!$A:$L,4,FALSE))","v":""},{"$f":"IF(ISERROR(VLOOKUP($A321,check!$A:$L,5,FALSE))=TRUE,\"\",VLOOKUP($A321,check!$A:$L,5,FALSE))","v":""},{"$f":"IF(ISERROR(VLOOKUP($A321,check!$A:$L,6,FALSE))=TRUE,\"\",VLOOKUP($A321,check!$A:$L,6,FALSE))","v":""},{"$f":"IF(ISERROR(VLOOKUP($A321,check!$A:$L,7,FALSE))=TRUE,\"\",VLOOKUP($A321,check!$A:$L,7,FALSE))","v":""},{"$f":"IF(ISERROR(VLOOKUP($A321,check!$A:$L,8,FALSE))=TRUE,\"\",VLOOKUP($A321,check!$A:$L,8,FALSE))","v":""},{"$f":"IF(ISERROR(VLOOKUP($A321,check!$A:$L,9,FALSE))=TRUE,\"\",VLOOKUP($A321,check!$A:$L,9,FALSE))","v":""},{"$f":"IF(ISERROR(VLOOKUP($A321,check!$A:$L,10,FALSE))=TRUE,\"\",VLOOKUP($A321,check!$A:$L,10,FALSE))","v":""},{"$f":"IF(ISERROR(VLOOKUP($A321,check!$A:$L,11,FALSE))=TRUE,\"\",VLOOKUP($A321,check!$A:$L,11,FALSE))","v":""},{"$f":"IF(ISERROR(VLOOKUP($A321,check!$A:$L,12,FALSE))=TRUE,\"\",VLOOKUP($A321,check!$A:$L,12,FALSE))","v":""}]
[322,{"$f":"IF(C322=\"\",\"\",MATCH(A322,check!A:A,0))","v":""},{"$f":"IF(ISERROR(VLOOKUP($A322,check!$A:$L,2,FALSE))=TRUE,\"\",VLOOKUP($A322,check!$A:$L,2,FALSE))","v":""},{"$f":"IF(ISERROR(VLOOKUP($A322,check!$A:$L,3,FALSE))=TRUE,\"\",VLOOKUP($A322,check!$A:$L,3,FALSE))","v":""},{"$f":"IF(ISERROR(VLOOKUP($A322,check!$A:$L,4,FALSE))=TRUE,\"\",VLOOKUP($A322,check!$A:$L,4,FALSE))","v":""},{"$f":"IF(ISERROR(VLOOKUP($A322,check!$A:$L,5,FALSE))=TRUE,\"\",VLOOKUP($A322,check!$A:$L,5,FALSE))","v":""},{"$f":"IF(ISERROR(VLOOKUP($A322,check!$A:$L,6,FALSE))=TRUE,\"\",VLOOKUP($A322,check!$A:$L,6,FALSE))","v":""},{"$f":"IF(ISERROR(VLOOKUP($A322,check!$A:$L,7,FALSE))=TRUE,\"\",VLOOKUP($A322,check!$A:$L,7,FALSE))","v":""},{"$f":"IF(ISERROR(VLOOKUP($A322,check!$A:$L,8,FALSE))=TRUE,\"\",VLOOKUP($A322,check!$A:$L,8,FALSE))","v":""},{"$f":"IF(ISERROR(VLOOKUP($A322,check!$A:$L,9,FALSE))=TRUE,\"\",VLOOKUP($A322,check!$A:$L,9,FALSE))","v":""},{"$f":"IF(ISERROR(VLOOKUP($A322,check!$A:$L,10,FALSE))=TRUE,\"\",VLOOKUP($A322,check!$A:$L,10,FALSE))","v":""},{"$f":"IF(ISERROR(VLOOKUP($A322,check!$A:$L,11,FALSE))=TRUE,\"\",VLOOKUP($A322,check!$A:$L,11,FALSE))","v":""},{"$f":"IF(ISERROR(VLOOKUP($A322,check!$A:$L,12,FALSE))=TRUE,\"\",VLOOKUP($A322,check!$A:$L,12,FALSE))","v":""}]
[323,{"$f":"IF(C323=\"\",\"\",MATCH(A323,check!A:A,0))","v":""},{"$f":"IF(ISERROR(VLOOKUP($A323,check!$A:$L,2,FALSE))=TRUE,\"\",VLOOKUP($A323,check!$A:$L,2,FALSE))","v":""},{"$f":"IF(ISERROR(VLOOKUP($A323,check!$A:$L,3,FALSE))=TRUE,\"\",VLOOKUP($A323,check!$A:$L,3,FALSE))","v":""},{"$f":"IF(ISERROR(VLOOKUP($A323,check!$A:$L,4,FALSE))=TRUE,\"\",VLOOKUP($A323,check!$A:$L,4,FALSE))","v":""},{"$f":"IF(ISERROR(VLOOKUP($A323,check!$A:$L,5,FALSE))=TRUE,\"\",VLOOKUP($A323,check!$A:$L,5,FALSE))","v":""},{"$f":"IF(ISERROR(VLOOKUP($A323,check!$A:$L,6,FALSE))=TRUE,\"\",VLOOKUP($A323,check!$A:$L,6,FALSE))","v":""},{"$f":"IF(ISERROR(VLOOKUP($A323,check!$A:$L,7,FALSE))=TRUE,\"\",VLOOKUP($A323,check!$A:$L,7,FALSE))","v":""},{"$f":"IF(ISERROR(VLOOKUP($A323,check!$A:$L,8,FALSE))=TRUE,\"\",VLOOKUP($A323,check!$A:$L,8,FALSE))","v":""},{"$f":"IF(ISERROR(VLOOKUP($A323,check!$A:$L,9,FALSE))=TRUE,\"\",VLOOKUP($A323,check!$A:$L,9,FALSE))","v":""},{"$f":"IF(ISERROR(VLOOKUP($A323,check!$A:$L,10,FALSE))=TRUE,\"\",VLOOKUP($A323,check!$A:$L,10,FALSE))","v":""},{"$f":"IF(ISERROR(VLOOKUP($A323,check!$A:$L,11,FALSE))=TRUE,\"\",VLOOKUP($A323,check!$A:$L,11,FALSE))","v":""},{"$f":"IF(ISERROR(VLOOKUP($A323,check!$A:$L,12,FALSE))=TRUE,\"\",VLOOKUP($A323,check!$A:$L,12,FALSE))","v":""}]
[{"$f":"A323+1","v":324},{"$f":"IF(C324=\"\",\"\",MATCH(A324,check!A:A,0))","v":""},{"$f":"IF(ISERROR(VLOOKUP($A324,check!$A:$L,2,FALSE))=TRUE,\"\",VLOOKUP($A324,check!$A:$L,2,FALSE))","v":""},{"$f":"IF(ISERROR(VLOOKUP($A324,check!$A:$L,3,FALSE))=TRUE,\"\",VLOOKUP($A324,check!$A:$L,3,FALSE))","v":""},{"$f":"IF(ISERROR(VLOOKUP($A324,check!$A:$L,4,FALSE))=TRUE,\"\",VLOOKUP($A324,check!$A:$L,4,FALSE))","v":""},{"$f":"IF(ISERROR(VLOOKUP($A324,check!$A:$L,5,FALSE))=TRUE,\"\",VLOOKUP($A324,check!$A:$L,5,FALSE))","v":""},{"$f":"IF(ISERROR(VLOOKUP($A324,check!$A:$L,6,FALSE))=TRUE,\"\",VLOOKUP($A324,check!$A:$L,6,FALSE))","v":""},{"$f":"IF(ISERROR(VLOOKUP($A324,check!$A:$L,7,FALSE))=TRUE,\"\",VLOOKUP($A324,check!$A:$L,7,FALSE))","v":""},{"$f":"IF(ISERROR(VLOOKUP($A324,check!$A:$L,8,FALSE))=TRUE,\"\",VLOOKUP($A324,check!$A:$L,8,FALSE))","v":""},{"$f":"IF(ISERROR(VLOOKUP($A324,check!$A:$L,9,FALSE))=TRUE,\"\",VLOOKUP($A324,check!$A:$L,9,FALSE))","v":""},{"$f":"IF(ISERROR(VLOOKUP($A324,check!$A:$L,10,FALSE))=TRUE,\"\",VLOOKUP($A324,check!$A:$L,10,FALSE))","v":""},{"$f":"IF(ISERROR(VLOOKUP($A324,check!$A:$L,11,FALSE))=TRUE,\"\",VLOOKUP($A324,check!$A:$L,11,FALSE))","v":""},{"$f":"IF(ISERROR(VLOOKUP($A324,check!$A:$L,12,FALSE))=TRUE,\"\",VLOOKUP($A324,check!$A:$L,12,FALSE))","v":""}]
[325,{"$f":"IF(C325=\"\",\"\",MATCH(A325,check!A:A,0))","v":""},{"$f":"IF(ISERROR(VLOOKUP($A325,check!$A:$L,2,FALSE))=TRUE,\"\",VLOOKUP($A325,check!$A:$L,2,FALSE))","v":""},{"$f":"IF(ISERROR(VLOOKUP($A325,check!$A:$L,3,FALSE))=TRUE,\"\",VLOOKUP($A325,check!$A:$L,3,FALSE))","v":""},{"$f":"IF(ISERROR(VLOOKUP($A325,check!$A:$L,4,FALSE))=TRUE,\"\",VLOOKUP($A325,check!$A:$L,4,FALSE))","v":""},{"$f":"IF(ISERROR(VLOOKUP($A325,check!$A:$L,5,FALSE))=TRUE,\"\",VLOOKUP($A325,check!$A:$L,5,FALSE))","v":""},{"$f":"IF(ISERROR(VLOOKUP($A325,check!$A:$L,6,FALSE))=TRUE,\"\",VLOOKUP($A325,check!$A:$L,6,FALSE))","v":""},{"$f":"IF(ISERROR(VLOOKUP($A325,check!$A:$L,7,FALSE))=TRUE,\"\",VLOOKUP($A325,check!$A:$L,7,FALSE))","v":""},{"$f":"IF(ISERROR(VLOOKUP($A325,check!$A:$L,8,FALSE))=TRUE,\"\",VLOOKUP($A325,check!$A:$L,8,FALSE))","v":""},{"$f":"IF(ISERROR(VLOOKUP($A325,check!$A:$L,9,FALSE))=TRUE,\"\",VLOOKUP($A325,check!$A:$L,9,FALSE))","v":""},{"$f":"IF(ISERROR(VLOOKUP($A325,check!$A:$L,10,FALSE))=TRUE,\"\",VLOOKUP($A325,check!$A:$L,10,FALSE))","v":""},{"$f":"IF(ISERROR(VLOOKUP($A325,check!$A:$L,11,FALSE))=TRUE,\"\",VLOOKUP($A325,check!$A:$L,11,FALSE))","v":""},{"$f":"IF(ISERROR(VLOOKUP($A325,check!$A:$L,12,FALSE))=TRUE,\"\",VLOOKUP($A325,check!$A:$L,12,FALSE))","v":""}]
[326,{"$f":"IF(C326=\"\",\"\",MATCH(A326,check!A:A,0))","v":""},{"$f":"IF(ISERROR(VLOOKUP($A326,check!$A:$L,2,FALSE))=TRUE,\"\",VLOOKUP($A326,check!$A:$L,2,FALSE))","v":""},{"$f":"IF(ISERROR(VLOOKUP($A326,check!$A:$L,3,FALSE))=TRUE,\"\",VLOOKUP($A326,check!$A:$L,3,FALSE))","v":""},{"$f":"IF(ISERROR(VLOOKUP($A326,check!$A:$L,4,FALSE))=TRUE,\"\",VLOOKUP($A326,check!$A:$L,4,FALSE))","v":""},{"$f":"IF(ISERROR(VLOOKUP($A326,check!$A:$L,5,FALSE))=TRUE,\"\",VLOOKUP($A326,check!$A:$L,5,FALSE))","v":""},{"$f":"IF(ISERROR(VLOOKUP($A326,check!$A:$L,6,FALSE))=TRUE,\"\",VLOOKUP($A326,check!$A:$L,6,FALSE))","v":""},{"$f":"IF(ISERROR(VLOOKUP($A326,check!$A:$L,7,FALSE))=TRUE,\"\",VLOOKUP($A326,check!$A:$L,7,FALSE))","v":""},{"$f":"IF(ISERROR(VLOOKUP($A326,check!$A:$L,8,FALSE))=TRUE,\"\",VLOOKUP($A326,check!$A:$L,8,FALSE))","v":""},{"$f":"IF(ISERROR(VLOOKUP($A326,check!$A:$L,9,FALSE))=TRUE,\"\",VLOOKUP($A326,check!$A:$L,9,FALSE))","v":""},{"$f":"IF(ISERROR(VLOOKUP($A326,check!$A:$L,10,FALSE))=TRUE,\"\",VLOOKUP($A326,check!$A:$L,10,FALSE))","v":""},{"$f":"IF(ISERROR(VLOOKUP($A326,check!$A:$L,11,FALSE))=TRUE,\"\",VLOOKUP($A326,check!$A:$L,11,FALSE))","v":""},{"$f":"IF(ISERROR(VLOOKUP($A326,check!$A:$L,12,FALSE))=TRUE,\"\",VLOOKUP($A326,check!$A:$L,12,FALSE))","v":""}]
[327,{"$f":"IF(C327=\"\",\"\",MATCH(A327,check!A:A,0))","v":""},{"$f":"IF(ISERROR(VLOOKUP($A327,check!$A:$L,2,FALSE))=TRUE,\"\",VLOOKUP($A327,check!$A:$L,2,FALSE))","v":""},{"$f":"IF(ISERROR(VLOOKUP($A327,check!$A:$L,3,FALSE))=TRUE,\"\",VLOOKUP($A327,check!$A:$L,3,FALSE))","v":""},{"$f":"IF(ISERROR(VLOOKUP($A327,check!$A:$L,4,FALSE))=TRUE,\"\",VLOOKUP($A327,check!$A:$L,4,FALSE))","v":""},{"$f":"IF(ISERROR(VLOOKUP($A327,check!$A:$L,5,FALSE))=TRUE,\"\",VLOOKUP($A327,check!$A:$L,5,FALSE))","v":""},{"$f":"IF(ISERROR(VLOOKUP($A327,check!$A:$L,6,FALSE))=TRUE,\"\",VLOOKUP($A327,check!$A:$L,6,FALSE))","v":""},{"$f":"IF(ISERROR(VLOOKUP($A327,check!$A:$L,7,FALSE))=TRUE,\"\",VLOOKUP($A327,check!$A:$L,7,FALSE))","v":""},{"$f":"IF(ISERROR(VLOOKUP($A327,check!$A:$L,8,FALSE))=TRUE,\"\",VLOOKUP($A327,check!$A:$L,8,FALSE))","v":""},{"$f":"IF(ISERROR(VLOOKUP($A327,check!$A:$L,9,FALSE))=TRUE,\"\",VLOOKUP($A327,check!$A:$L,9,FALSE))","v":""},{"$f":"IF(ISERROR(VLOOKUP($A327,check!$A:$L,10,FALSE))=TRUE,\"\",VLOOKUP($A327,check!$A:$L,10,FALSE))","v":""},{"$f":"IF(ISERROR(VLOOKUP($A327,check!$A:$L,11,FALSE))=TRUE,\"\",VLOOKUP($A327,check!$A:$L,11,FALSE))","v":""},{"$f":"IF(ISERROR(VLOOKUP($A327,check!$A:$L,12,FALSE))=TRUE,\"\",VLOOKUP($A327,check!$A:$L,12,FALSE))","v":""}]
[328,{"$f":"IF(C328=\"\",\"\",MATCH(A328,check!A:A,0))","v":""},{"$f":"IF(ISERROR(VLOOKUP($A328,check!$A:$L,2,FALSE))=TRUE,\"\",VLOOKUP($A328,check!$A:$L,2,FALSE))","v":""},{"$f":"IF(ISERROR(VLOOKUP($A328,check!$A:$L,3,FALSE))=TRUE,\"\",VLOOKUP($A328,check!$A:$L,3,FALSE))","v":""},{"$f":"IF(ISERROR(VLOOKUP($A328,check!$A:$L,4,FALSE))=TRUE,\"\",VLOOKUP($A328,check!$A:$L,4,FALSE))","v":""},{"$f":"IF(ISERROR(VLOOKUP($A328,check!$A:$L,5,FALSE))=TRUE,\"\",VLOOKUP($A328,check!$A:$L,5,FALSE))","v":""},{"$f":"IF(ISERROR(VLOOKUP($A328,check!$A:$L,6,FALSE))=TRUE,\"\",VLOOKUP($A328,check!$A:$L,6,FALSE))","v":""},{"$f":"IF(ISERROR(VLOOKUP($A328,check!$A:$L,7,FALSE))=TRUE,\"\",VLOOKUP($A328,check!$A:$L,7,FALSE))","v":""},{"$f":"IF(ISERROR(VLOOKUP($A328,check!$A:$L,8,FALSE))=TRUE,\"\",VLOOKUP($A328,check!$A:$L,8,FALSE))","v":""},{"$f":"IF(ISERROR(VLOOKUP($A328,check!$A:$L,9,FALSE))=TRUE,\"\",VLOOKUP($A328,check!$A:$L,9,FALSE))","v":""},{"$f":"IF(ISERROR(VLOOKUP($A328,check!$A:$L,10,FALSE))=TRUE,\"\",VLOOKUP($A328,check!$A:$L,10,FALSE))","v":""},{"$f":"IF(ISERROR(VLOOKUP($A328,check!$A:$L,11,FALSE))=TRUE,\"\",VLOOKUP($A328,check!$A:$L,11,FALSE))","v":""},{"$f":"IF(ISERROR(VLOOKUP($A328,check!$A:$L,12,FALSE))=TRUE,\"\",VLOOKUP($A328,check!$A:$L,12,FALSE))","v":""}]
[329,{"$f":"IF(C329=\"\",\"\",MATCH(A329,check!A:A,0))","v":""},{"$f":"IF(ISERROR(VLOOKUP($A329,check!$A:$L,2,FALSE))=TRUE,\"\",VLOOKUP($A329,check!$A:$L,2,FALSE))","v":""},{"$f":"IF(ISERROR(VLOOKUP($A329,check!$A:$L,3,FALSE))=TRUE,\"\",VLOOKUP($A329,check!$A:$L,3,FALSE))","v":""},{"$f":"IF(ISERROR(VLOOKUP($A329,check!$A:$L,4,FALSE))=TRUE,\"\",VLOOKUP($A329,check!$A:$L,4,FALSE))","v":""},{"$f":"IF(ISERROR(VLOOKUP($A329,check!$A:$L,5,FALSE))=TRUE,\"\",VLOOKUP($A329,check!$A:$L,5,FALSE))","v":""},{"$f":"IF(ISERROR(VLOOKUP($A329,check!$A:$L,6,FALSE))=TRUE,\"\",VLOOKUP($A329,check!$A:$L,6,FALSE))","v":""},{"$f":"IF(ISERROR(VLOOKUP($A329,check!$A:$L,7,FALSE))=TRUE,\"\",VLOOKUP($A329,check!$A:$L,7,FALSE))","v":""},{"$f":"IF(ISERROR(VLOOKUP($A329,check!$A:$L,8,FALSE))=TRUE,\"\",VLOOKUP($A329,check!$A:$L,8,FALSE))","v":""},{"$f":"IF(ISERROR(VLOOKUP($A329,check!$A:$L,9,FALSE))=TRUE,\"\",VLOOKUP($A329,check!$A:$L,9,FALSE))","v":""},{"$f":"IF(ISERROR(VLOOKUP($A329,check!$A:$L,10,FALSE))=TRUE,\"\",VLOOKUP($A329,check!$A:$L,10,FALSE))","v":""},{"$f":"IF(ISERROR(VLOOKUP($A329,check!$A:$L,11,FALSE))=TRUE,\"\",VLOOKUP($A329,check!$A:$L,11,FALSE))","v":""},{"$f":"IF(ISERROR(VLOOKUP($A329,check!$A:$L,12,FALSE))=TRUE,\"\",VLOOKUP($A329,check!$A:$L,12,FALSE))","v":""}]
[330,{"$f":"IF(C330=\"\",\"\",MATCH(A330,check!A:A,0))","v":""},{"$f":"IF(ISERROR(VLOOKUP($A330,check!$A:$L,2,FALSE))=TRUE,\"\",VLOOKUP($A330,check!$A:$L,2,FALSE))","v":""},{"$f":"IF(ISERROR(VLOOKUP($A330,check!$A:$L,3,FALSE))=TRUE,\"\",VLOOKUP($A330,check!$A:$L,3,FALSE))","v":""},{"$f":"IF(ISERROR(VLOOKUP($A330,check!$A:$L,4,FALSE))=TRUE,\"\",VLOOKUP($A330,check!$A:$L,4,FALSE))","v":""},{"$f":"IF(ISERROR(VLOOKUP($A330,check!$A:$L,5,FALSE))=TRUE,\"\",VLOOKUP($A330,check!$A:$L,5,FALSE))","v":""},{"$f":"IF(ISERROR(VLOOKUP($A330,check!$A:$L,6,FALSE))=TRUE,\"\",VLOOKUP($A330,check!$A:$L,6,FALSE))","v":""},{"$f":"IF(ISERROR(VLOOKUP($A330,check!$A:$L,7,FALSE))=TRUE,\"\",VLOOKUP($A330,check!$A:$L,7,FALSE))","v":""},{"$f":"IF(ISERROR(VLOOKUP($A330,check!$A:$L,8,FALSE))=TRUE,\"\",VLOOKUP($A330,check!$A:$L,8,FALSE))","v":""},{"$f":"IF(ISERROR(VLOOKUP($A330,check!$A:$L,9,FALSE))=TRUE,\"\",VLOOKUP($A330,check!$A:$L,9,FALSE))","v":""},{"$f":"IF(ISERROR(VLOOKUP($A330,check!$A:$L,10,FALSE))=TRUE,\"\",VLOOKUP($A330,check!$A:$L,10,FALSE))","v":""},{"$f":"IF(ISERROR(VLOOKUP($A330,check!$A:$L,11,FALSE))=TRUE,\"\",VLOOKUP($A330,check!$A:$L,11,FALSE))","v":""},{"$f":"IF(ISERROR(VLOOKUP($A330,check!$A:$L,12,FALSE))=TRUE,\"\",VLOOKUP($A330,check!$A:$L,12,FALSE))","v":""}]
[331,{"$f":"IF(C331=\"\",\"\",MATCH(A331,check!A:A,0))","v":""},{"$f":"IF(ISERROR(VLOOKUP($A331,check!$A:$L,2,FALSE))=TRUE,\"\",VLOOKUP($A331,check!$A:$L,2,FALSE))","v":""},{"$f":"IF(ISERROR(VLOOKUP($A331,check!$A:$L,3,FALSE))=TRUE,\"\",VLOOKUP($A331,check!$A:$L,3,FALSE))","v":""},{"$f":"IF(ISERROR(VLOOKUP($A331,check!$A:$L,4,FALSE))=TRUE,\"\",VLOOKUP($A331,check!$A:$L,4,FALSE))","v":""},{"$f":"IF(ISERROR(VLOOKUP($A331,check!$A:$L,5,FALSE))=TRUE,\"\",VLOOKUP($A331,check!$A:$L,5,FALSE))","v":""},{"$f":"IF(ISERROR(VLOOKUP($A331,check!$A:$L,6,FALSE))=TRUE,\"\",VLOOKUP($A331,check!$A:$L,6,FALSE))","v":""},{"$f":"IF(ISERROR(VLOOKUP($A331,check!$A:$L,7,FALSE))=TRUE,\"\",VLOOKUP($A331,check!$A:$L,7,FALSE))","v":""},{"$f":"IF(ISERROR(VLOOKUP($A331,check!$A:$L,8,FALSE))=TRUE,\"\",VLOOKUP($A331,check!$A:$L,8,FALSE))","v":""},{"$f":"IF(ISERROR(VLOOKUP($A331,check!$A:$L,9,FALSE))=TRUE,\"\",VLOOKUP($A331,check!$A:$L,9,FALSE))","v":""},{"$f":"IF(ISERROR(VLOOKUP($A331,check!$A:$L,10,FALSE))=TRUE,\"\",VLOOKUP($A331,check!$A:$L,10,FALSE))","v":""},{"$f":"IF(ISERROR(VLOOKUP($A331,check!$A:$L,11,FALSE))=TRUE,\"\",VLOOKUP($A331,check!$A:$L,11,FALSE))","v":""},{"$f":"IF(ISERROR(VLOOKUP($A331,check!$A:$L,12,FALSE))=TRUE,\"\",VLOOKUP($A331,check!$A:$L,12,FALSE))","v":""}]
[332,{"$f":"IF(C332=\"\",\"\",MATCH(A332,check!A:A,0))","v":""},{"$f":"IF(ISERROR(VLOOKUP($A332,check!$A:$L,2,FALSE))=TRUE,\"\",VLOOKUP($A332,check!$A:$L,2,FALSE))","v":""},{"$f":"IF(ISERROR(VLOOKUP($A332,check!$A:$L,3,FALSE))=TRUE,\"\",VLOOKUP($A332,check!$A:$L,3,FALSE))","v":""},{"$f":"IF(ISERROR(VLOOKUP($A332,check!$A:$L,4,FALSE))=TRUE,\"\",VLOOKUP($A332,check!$A:$L,4,FALSE))","v":""},{"$f":"IF(ISERROR(VLOOKUP($A332,check!$A:$L,5,FALSE))=TRUE,\"\",VLOOKUP($A332,check!$A:$L,5,FALSE))","v":""},{"$f":"IF(ISERROR(VLOOKUP($A332,check!$A:$L,6,FALSE))=TRUE,\"\",VLOOKUP($A332,check!$A:$L,6,FALSE))","v":""},{"$f":"IF(ISERROR(VLOOKUP($A332,check!$A:$L,7,FALSE))=TRUE,\"\",VLOOKUP($A332,check!$A:$L,7,FALSE))","v":""},{"$f":"IF(ISERROR(VLOOKUP($A332,check!$A:$L,8,FALSE))=TRUE,\"\",VLOOKUP($A332,check!$A:$L,8,FALSE))","v":""},{"$f":"IF(ISERROR(VLOOKUP($A332,check!$A:$L,9,FALSE))=TRUE,\"\",VLOOKUP($A332,check!$A:$L,9,FALSE))","v":""},{"$f":"IF(ISERROR(VLOOKUP($A332,check!$A:$L,10,FALSE))=TRUE,\"\",VLOOKUP($A332,check!$A:$L,10,FALSE))","v":""},{"$f":"IF(ISERROR(VLOOKUP($A332,check!$A:$L,11,FALSE))=TRUE,\"\",VLOOKUP($A332,check!$A:$L,11,FALSE))","v":""},{"$f":"IF(ISERROR(VLOOKUP($A332,check!$A:$L,12,FALSE))=TRUE,\"\",VLOOKUP($A332,check!$A:$L,12,FALSE))","v":""}]
[333,{"$f":"IF(C333=\"\",\"\",MATCH(A333,check!A:A,0))","v":""},{"$f":"IF(ISERROR(VLOOKUP($A333,check!$A:$L,2,FALSE))=TRUE,\"\",VLOOKUP($A333,check!$A:$L,2,FALSE))","v":""},{"$f":"IF(ISERROR(VLOOKUP($A333,check!$A:$L,3,FALSE))=TRUE,\"\",VLOOKUP($A333,check!$A:$L,3,FALSE))","v":""},{"$f":"IF(ISERROR(VLOOKUP($A333,check!$A:$L,4,FALSE))=TRUE,\"\",VLOOKUP($A333,check!$A:$L,4,FALSE))","v":""},{"$f":"IF(ISERROR(VLOOKUP($A333,check!$A:$L,5,FALSE))=TRUE,\"\",VLOOKUP($A333,check!$A:$L,5,FALSE))","v":""},{"$f":"IF(ISERROR(VLOOKUP($A333,check!$A:$L,6,FALSE))=TRUE,\"\",VLOOKUP($A333,check!$A:$L,6,FALSE))","v":""},{"$f":"IF(ISERROR(VLOOKUP($A333,check!$A:$L,7,FALSE))=TRUE,\"\",VLOOKUP($A333,check!$A:$L,7,FALSE))","v":""},{"$f":"IF(ISERROR(VLOOKUP($A333,check!$A:$L,8,FALSE))=TRUE,\"\",VLOOKUP($A333,check!$A:$L,8,FALSE))","v":""},{"$f":"IF(ISERROR(VLOOKUP($A333,check!$A:$L,9,FALSE))=TRUE,\"\",VLOOKUP($A333,check!$A:$L,9,FALSE))","v":""},{"$f":"IF(ISERROR(VLOOKUP($A333,check!$A:$L,10,FALSE))=TRUE,\"\",VLOOKUP($A333,check!$A:$L,10,FALSE))","v":""},{"$f":"IF(ISERROR(VLOOKUP($A333,check!$A:$L,11,FALSE))=TRUE,\"\",VLOOKUP($A333,check!$A:$L,11,FALSE))","v":""},{"$f":"IF(ISERROR(VLOOKUP($A333,check!$A:$L,12,FALSE))=TRUE,\"\",VLOOKUP($A333,check!$A:$L,12,FALSE))","v":""}]
[334,{"$f":"IF(C334=\"\",\"\",MATCH(A334,check!A:A,0))","v":""},{"$f":"IF(ISERROR(VLOOKUP($A334,check!$A:$L,2,FALSE))=TRUE,\"\",VLOOKUP($A334,check!$A:$L,2,FALSE))","v":""},{"$f":"IF(ISERROR(VLOOKUP($A334,check!$A:$L,3,FALSE))=TRUE,\"\",VLOOKUP($A334,check!$A:$L,3,FALSE))","v":""},{"$f":"IF(ISERROR(VLOOKUP($A334,check!$A:$L,4,FALSE))=TRUE,\"\",VLOOKUP($A334,check!$A:$L,4,FALSE))","v":""},{"$f":"IF(ISERROR(VLOOKUP($A334,check!$A:$L,5,FALSE))=TRUE,\"\",VLOOKUP($A334,check!$A:$L,5,FALSE))","v":""},{"$f":"IF(ISERROR(VLOOKUP($A334,check!$A:$L,6,FALSE))=TRUE,\"\",VLOOKUP($A334,check!$A:$L,6,FALSE))","v":""},{"$f":"IF(ISERROR(VLOOKUP($A334,check!$A:$L,7,FALSE))=TRUE,\"\",VLOOKUP($A334,check!$A:$L,7,FALSE))","v":""},{"$f":"IF(ISERROR(VLOOKUP($A334,check!$A:$L,8,FALSE))=TRUE,\"\",VLOOKUP($A334,check!$A:$L,8,FALSE))","v":""},{"$f":"IF(ISERROR(VLOOKUP($A334,check!$A:$L,9,FALSE))=TRUE,\"\",VLOOKUP($A334,check!$A:$L,9,FALSE))","v":""},{"$f":"IF(ISERROR(VLOOKUP($A334,check!$A:$L,10,FALSE))=TRUE,\"\",VLOOKUP($A334,check!$A:$L,10,FALSE))","v":""},{"$f":"IF(ISERROR(VLOOKUP($A334,check!$A:$L,11,FALSE))=TRUE,\"\",VLOOKUP($A334,check!$A:$L,11,FALSE))","v":""},{"$f":"IF(ISERROR(VLOOKUP($A334,check!$A:$L,12,FALSE))=TRUE,\"\",VLOOKUP($A334,check!$A:$L,12,FALSE))","v":""}]
[335,{"$f":"IF(C335=\"\",\"\",MATCH(A335,check!A:A,0))","v":""},{"$f":"IF(ISERROR(VLOOKUP($A335,check!$A:$L,2,FALSE))=TRUE,\"\",VLOOKUP($A335,check!$A:$L,2,FALSE))","v":""},{"$f":"IF(ISERROR(VLOOKUP($A335,check!$A:$L,3,FALSE))=TRUE,\"\",VLOOKUP($A335,check!$A:$L,3,FALSE))","v":""},{"$f":"IF(ISERROR(VLOOKUP($A335,check!$A:$L,4,FALSE))=TRUE,\"\",VLOOKUP($A335,check!$A:$L,4,FALSE))","v":""},{"$f":"IF(ISERROR(VLOOKUP($A335,check!$A:$L,5,FALSE))=TRUE,\"\",VLOOKUP($A335,check!$A:$L,5,FALSE))","v":""},{"$f":"IF(ISERROR(VLOOKUP($A335,check!$A:$L,6,FALSE))=TRUE,\"\",VLOOKUP($A335,check!$A:$L,6,FALSE))","v":""},{"$f":"IF(ISERROR(VLOOKUP($A335,check!$A:$L,7,FALSE))=TRUE,\"\",VLOOKUP($A335,check!$A:$L,7,FALSE))","v":""},{"$f":"IF(ISERROR(VLOOKUP($A335,check!$A:$L,8,FALSE))=TRUE,\"\",VLOOKUP($A335,check!$A:$L,8,FALSE))","v":""},{"$f":"IF(ISERROR(VLOOKUP($A335,check!$A:$L,9,FALSE))=TRUE,\"\",VLOOKUP($A335,check!$A:$L,9,FALSE))","v":""},{"$f":"IF(ISERROR(VLOOKUP($A335,check!$A:$L,10,FALSE))=TRUE,\"\",VLOOKUP($A335,check!$A:$L,10,FALSE))","v":""},{"$f":"IF(ISERROR(VLOOKUP($A335,check!$A:$L,11,FALSE))=TRUE,\"\",VLOOKUP($A335,check!$A:$L,11,FALSE))","v":""},{"$f":"IF(ISERROR(VLOOKUP($A335,check!$A:$L,12,FALSE))=TRUE,\"\",VLOOKUP($A335,check!$A:$L,12,FALSE))","v":""}]
[336,{"$f":"IF(C336=\"\",\"\",MATCH(A336,check!A:A,0))","v":""},{"$f":"IF(ISERROR(VLOOKUP($A336,check!$A:$L,2,FALSE))=TRUE,\"\",VLOOKUP($A336,check!$A:$L,2,FALSE))","v":""},{"$f":"IF(ISERROR(VLOOKUP($A336,check!$A:$L,3,FALSE))=TRUE,\"\",VLOOKUP($A336,check!$A:$L,3,FALSE))","v":""},{"$f":"IF(ISERROR(VLOOKUP($A336,check!$A:$L,4,FALSE))=TRUE,\"\",VLOOKUP($A336,check!$A:$L,4,FALSE))","v":""},{"$f":"IF(ISERROR(VLOOKUP($A336,check!$A:$L,5,FALSE))=TRUE,\"\",VLOOKUP($A336,check!$A:$L,5,FALSE))","v":""},{"$f":"IF(ISERROR(VLOOKUP($A336,check!$A:$L,6,FALSE))=TRUE,\"\",VLOOKUP($A336,check!$A:$L,6,FALSE))","v":""},{"$f":"IF(ISERROR(VLOOKUP($A336,check!$A:$L,7,FALSE))=TRUE,\"\",VLOOKUP($A336,check!$A:$L,7,FALSE))","v":""},{"$f":"IF(ISERROR(VLOOKUP($A336,check!$A:$L,8,FALSE))=TRUE,\"\",VLOOKUP($A336,check!$A:$L,8,FALSE))","v":""},{"$f":"IF(ISERROR(VLOOKUP($A336,check!$A:$L,9,FALSE))=TRUE,\"\",VLOOKUP($A336,check!$A:$L,9,FALSE))","v":""},{"$f":"IF(ISERROR(VLOOKUP($A336,check!$A:$L,10,FALSE))=TRUE,\"\",VLOOKUP($A336,check!$A:$L,10,FALSE))","v":""},{"$f":"IF(ISERROR(VLOOKUP($A336,check!$A:$L,11,FALSE))=TRUE,\"\",VLOOKUP($A336,check!$A:$L,11,FALSE))","v":""},{"$f":"IF(ISERROR(VLOOKUP($A336,check!$A:$L,12,FALSE))=TRUE,\"\",VLOOKUP($A336,check!$A:$L,12,FALSE))","v":""}]
[337,{"$f":"IF(C337=\"\",\"\",MATCH(A337,check!A:A,0))","v":""},{"$f":"IF(ISERROR(VLOOKUP($A337,check!$A:$L,2,FALSE))=TRUE,\"\",VLOOKUP($A337,check!$A:$L,2,FALSE))","v":""},{"$f":"IF(ISERROR(VLOOKUP($A337,check!$A:$L,3,FALSE))=TRUE,\"\",VLOOKUP($A337,check!$A:$L,3,FALSE))","v":""},{"$f":"IF(ISERROR(VLOOKUP($A337,check!$A:$L,4,FALSE))=TRUE,\"\",VLOOKUP($A337,check!$A:$L,4,FALSE))","v":""},{"$f":"IF(ISERROR(VLOOKUP($A337,check!$A:$L,5,FALSE))=TRUE,\"\",VLOOKUP($A337,check!$A:$L,5,FALSE))","v":""},{"$f":"IF(ISERROR(VLOOKUP($A337,check!$A:$L,6,FALSE))=TRUE,\"\",VLOOKUP($A337,check!$A:$L,6,FALSE))","v":""},{"$f":"IF(ISERROR(VLOOKUP($A337,check!$A:$L,7,FALSE))=TRUE,\"\",VLOOKUP($A337,check!$A:$L,7,FALSE))","v":""},{"$f":"IF(ISERROR(VLOOKUP($A337,check!$A:$L,8,FALSE))=TRUE,\"\",VLOOKUP($A337,check!$A:$L,8,FALSE))","v":""},{"$f":"IF(ISERROR(VLOOKUP($A337,check!$A:$L,9,FALSE))=TRUE,\"\",VLOOKUP($A337,check!$A:$L,9,FALSE))","v":""},{"$f":"IF(ISERROR(VLOOKUP($A337,check!$A:$L,10,FALSE))=TRUE,\"\",VLOOKUP($A337,check!$A:$L,10,FALSE))","v":""},{"$f":"IF(ISERROR(VLOOKUP($A337,check!$A:$L,11,FALSE))=TRUE,\"\",VLOOKUP($A337,check!$A:$L,11,FALSE))","v":""},{"$f":"IF(ISERROR(VLOOKUP($A337,check!$A:$L,12,FALSE))=TRUE,\"\",VLOOKUP($A337,check!$A:$L,12,FALSE))","v":""}]
[338,{"$f":"IF(C338=\"\",\"\",MATCH(A338,check!A:A,0))","v":""},{"$f":"IF(ISERROR(VLOOKUP($A338,check!$A:$L,2,FALSE))=TRUE,\"\",VLOOKUP($A338,check!$A:$L,2,FALSE))","v":""},{"$f":"IF(ISERROR(VLOOKUP($A338,check!$A:$L,3,FALSE))=TRUE,\"\",VLOOKUP($A338,check!$A:$L,3,FALSE))","v":""},{"$f":"IF(ISERROR(VLOOKUP($A338,check!$A:$L,4,FALSE))=TRUE,\"\",VLOOKUP($A338,check!$A:$L,4,FALSE))","v":""},{"$f":"IF(ISERROR(VLOOKUP($A338,check!$A:$L,5,FALSE))=TRUE,\"\",VLOOKUP($A338,check!$A:$L,5,FALSE))","v":""},{"$f":"IF(ISERROR(VLOOKUP($A338,check!$A:$L,6,FALSE))=TRUE,\"\",VLOOKUP($A338,check!$A:$L,6,FALSE))","v":""},{"$f":"IF(ISERROR(VLOOKUP($A338,check!$A:$L,7,FALSE))=TRUE,\"\",VLOOKUP($A338,check!$A:$L,7,FALSE))","v":""},{"$f":"IF(ISERROR(VLOOKUP($A338,check!$A:$L,8,FALSE))=TRUE,\"\",VLOOKUP($A338,check!$A:$L,8,FALSE))","v":""},{"$f":"IF(ISERROR(VLOOKUP($A338,check!$A:$L,9,FALSE))=TRUE,\"\",VLOOKUP($A338,check!$A:$L,9,FALSE))","v":""},{"$f":"IF(ISERROR(VLOOKUP($A338,check!$A:$L,10,FALSE))=TRUE,\"\",VLOOKUP($A338,check!$A:$L,10,FALSE))","v":""},{"$f":"IF(ISERROR(VLOOKUP($A338,check!$A:$L,11,FALSE))=TRUE,\"\",VLOOKUP($A338,check!$A:$L,11,FALSE))","v":""},{"$f":"IF(ISERROR(VLOOKUP($A338,check!$A:$L,12,FALSE))=TRUE,\"\",VLOOKUP($A338,check!$A:$L,12,FALSE))","v":""}]
[339,{"$f":"IF(C339=\"\",\"\",MATCH(A339,check!A:A,0))","v":""},{"$f":"IF(ISERROR(VLOOKUP($A339,check!$A:$L,2,FALSE))=TRUE,\"\",VLOOKUP($A339,check!$A:$L,2,FALSE))","v":""},{"$f":"IF(ISERROR(VLOOKUP($A339,check!$A:$L,3,FALSE))=TRUE,\"\",VLOOKUP($A339,check!$A:$L,3,FALSE))","v":""},{"$f":"IF(ISERROR(VLOOKUP($A339,check!$A:$L,4,FALSE))=TRUE,\"\",VLOOKUP($A339,check!$A:$L,4,FALSE))","v":""},{"$f":"IF(ISERROR(VLOOKUP($A339,check!$A:$L,5,FALSE))=TRUE,\"\",VLOOKUP($A339,check!$A:$L,5,FALSE))","v":""},{"$f":"IF(ISERROR(VLOOKUP($A339,check!$A:$L,6,FALSE))=TRUE,\"\",VLOOKUP($A339,check!$A:$L,6,FALSE))","v":""},{"$f":"IF(ISERROR(VLOOKUP($A339,check!$A:$L,7,FALSE))=TRUE,\"\",VLOOKUP($A339,check!$A:$L,7,FALSE))","v":""},{"$f":"IF(ISERROR(VLOOKUP($A339,check!$A:$L,8,FALSE))=TRUE,\"\",VLOOKUP($A339,check!$A:$L,8,FALSE))","v":""},{"$f":"IF(ISERROR(VLOOKUP($A339,check!$A:$L,9,FALSE))=TRUE,\"\",VLOOKUP($A339,check!$A:$L,9,FALSE))","v":""},{"$f":"IF(ISERROR(VLOOKUP($A339,check!$A:$L,10,FALSE))=TRUE,\"\",VLOOKUP($A339,check!$A:$L,10,FALSE))","v":""},{"$f":"IF(ISERROR(VLOOKUP($A339,check!$A:$L,11,FALSE))=TRUE,\"\",VLOOKUP($A339,check!$A:$L,11,FALSE))","v":""},{"$f":"IF(ISERROR(VLOOKUP($A339,check!$A:$L,12,FALSE))=TRUE,\"\",VLOOKUP($A339,check!$A:$L,12,FALSE))","v":""}]
[340,{"$f":"IF(C340=\"\",\"\",MATCH(A340,check!A:A,0))","v":""},{"$f":"IF(ISERROR(VLOOKUP($A340,check!$A:$L,2,FALSE))=TRUE,\"\",VLOOKUP($A340,check!$A:$L,2,FALSE))","v":""},{"$f":"IF(ISERROR(VLOOKUP($A340,check!$A:$L,3,FALSE))=TRUE,\"\",VLOOKUP($A340,check!$A:$L,3,FALSE))","v":""},{"$f":"IF(ISERROR(VLOOKUP($A340,check!$A:$L,4,FALSE))=TRUE,\"\",VLOOKUP($A340,check!$A:$L,4,FALSE))","v":""},{"$f":"IF(ISERROR(VLOOKUP($A340,check!$A:$L,5,FALSE))=TRUE,\"\",VLOOKUP($A340,check!$A:$L,5,FALSE))","v":""},{"$f":"IF(ISERROR(VLOOKUP($A340,check!$A:$L,6,FALSE))=TRUE,\"\",VLOOKUP($A340,check!$A:$L,6,FALSE))","v":""},{"$f":"IF(ISERROR(VLOOKUP($A340,check!$A:$L,7,FALSE))=TRUE,\"\",VLOOKUP($A340,check!$A:$L,7,FALSE))","v":""},{"$f":"IF(ISERROR(VLOOKUP($A340,check!$A:$L,8,FALSE))=TRUE,\"\",VLOOKUP($A340,check!$A:$L,8,FALSE))","v":""},{"$f":"IF(ISERROR(VLOOKUP($A340,check!$A:$L,9,FALSE))=TRUE,\"\",VLOOKUP($A340,check!$A:$L,9,FALSE))","v":""},{"$f":"IF(ISERROR(VLOOKUP($A340,check!$A:$L,10,FALSE))=TRUE,\"\",VLOOKUP($A340,check!$A:$L,10,FALSE))","v":""},{"$f":"IF(ISERROR(VLOOKUP($A340,check!$A:$L,11,FALSE))=TRUE,\"\",VLOOKUP($A340,check!$A:$L,11,FALSE))","v":""},{"$f":"IF(ISERROR(VLOOKUP($A340,check!$A:$L,12,FALSE))=TRUE,\"\",VLOOKUP($A340,check!$A:$L,12,FALSE))","v":""}]
[341,{"$f":"IF(C341=\"\",\"\",MATCH(A341,check!A:A,0))","v":""},{"$f":"IF(ISERROR(VLOOKUP($A341,check!$A:$L,2,FALSE))=TRUE,\"\",VLOOKUP($A341,check!$A:$L,2,FALSE))","v":""},{"$f":"IF(ISERROR(VLOOKUP($A341,check!$A:$L,3,FALSE))=TRUE,\"\",VLOOKUP($A341,check!$A:$L,3,FALSE))","v":""},{"$f":"IF(ISERROR(VLOOKUP($A341,check!$A:$L,4,FALSE))=TRUE,\"\",VLOOKUP($A341,check!$A:$L,4,FALSE))","v":""},{"$f":"IF(ISERROR(VLOOKUP($A341,check!$A:$L,5,FALSE))=TRUE,\"\",VLOOKUP($A341,check!$A:$L,5,FALSE))","v":""},{"$f":"IF(ISERROR(VLOOKUP($A341,check!$A:$L,6,FALSE))=TRUE,\"\",VLOOKUP($A341,check!$A:$L,6,FALSE))","v":""},{"$f":"IF(ISERROR(VLOOKUP($A341,check!$A:$L,7,FALSE))=TRUE,\"\",VLOOKUP($A341,check!$A:$L,7,FALSE))","v":""},{"$f":"IF(ISERROR(VLOOKUP($A341,check!$A:$L,8,FALSE))=TRUE,\"\",VLOOKUP($A341,check!$A:$L,8,FALSE))","v":""},{"$f":"IF(ISERROR(VLOOKUP($A341,check!$A:$L,9,FALSE))=TRUE,\"\",VLOOKUP($A341,check!$A:$L,9,FALSE))","v":""},{"$f":"IF(ISERROR(VLOOKUP($A341,check!$A:$L,10,FALSE))=TRUE,\"\",VLOOKUP($A341,check!$A:$L,10,FALSE))","v":""},{"$f":"IF(ISERROR(VLOOKUP($A341,check!$A:$L,11,FALSE))=TRUE,\"\",VLOOKUP($A341,check!$A:$L,11,FALSE))","v":""},{"$f":"IF(ISERROR(VLOOKUP($A341,check!$A:$L,12,FALSE))=TRUE,\"\",VLOOKUP($A341,check!$A:$L,12,FALSE))","v":""}]
[342,{"$f":"IF(C342=\"\",\"\",MATCH(A342,check!A:A,0))","v":""},{"$f":"IF(ISERROR(VLOOKUP($A342,check!$A:$L,2,FALSE))=TRUE,\"\",VLOOKUP($A342,check!$A:$L,2,FALSE))","v":""},{"$f":"IF(ISERROR(VLOOKUP($A342,check!$A:$L,3,FALSE))=TRUE,\"\",VLOOKUP($A342,check!$A:$L,3,FALSE))","v":""},{"$f":"IF(ISERROR(VLOOKUP($A342,check!$A:$L,4,FALSE))=TRUE,\"\",VLOOKUP($A342,check!$A:$L,4,FALSE))","v":""},{"$f":"IF(ISERROR(VLOOKUP($A342,check!$A:$L,5,FALSE))=TRUE,\"\",VLOOKUP($A342,check!$A:$L,5,FALSE))","v":""},{"$f":"IF(ISERROR(VLOOKUP($A342,check!$A:$L,6,FALSE))=TRUE,\"\",VLOOKUP($A342,check!$A:$L,6,FALSE))","v":""},{"$f":"IF(ISERROR(VLOOKUP($A342,check!$A:$L,7,FALSE))=TRUE,\"\",VLOOKUP($A342,check!$A:$L,7,FALSE))","v":""},{"$f":"IF(ISERROR(VLOOKUP($A342,check!$A:$L,8,FALSE))=TRUE,\"\",VLOOKUP($A342,check!$A:$L,8,FALSE))","v":""},{"$f":"IF(ISERROR(VLOOKUP($A342,check!$A:$L,9,FALSE))=TRUE,\"\",VLOOKUP($A342,check!$A:$L,9,FALSE))","v":""},{"$f":"IF(ISERROR(VLOOKUP($A342,check!$A:$L,10,FALSE))=TRUE,\"\",VLOOKUP($A342,check!$A:$L,10,FALSE))","v":""},{"$f":"IF(ISERROR(VLOOKUP($A342,check!$A:$L,11,FALSE))=TRUE,\"\",VLOOKUP($A342,check!$A:$L,11,FALSE))","v":""},{"$f":"IF(ISERROR(VLOOKUP($A342,check!$A:$L,12,FALSE))=TRUE,\"\",VLOOKUP($A342,check!$A:$L,12,FALSE))","v":""}]
[343,{"$f":"IF(C343=\"\",\"\",MATCH(A343,check!A:A,0))","v":""},{"$f":"IF(ISERROR(VLOOKUP($A343,check!$A:$L,2,FALSE))=TRUE,\"\",VLOOKUP($A343,check!$A:$L,2,FALSE))","v":""},{"$f":"IF(ISERROR(VLOOKUP($A343,check!$A:$L,3,FALSE))=TRUE,\"\",VLOOKUP($A343,check!$A:$L,3,FALSE))","v":""},{"$f":"IF(ISERROR(VLOOKUP($A343,check!$A:$L,4,FALSE))=TRUE,\"\",VLOOKUP($A343,check!$A:$L,4,FALSE))","v":""},{"$f":"IF(ISERROR(VLOOKUP($A343,check!$A:$L,5,FALSE))=TRUE,\"\",VLOOKUP($A343,check!$A:$L,5,FALSE))","v":""},{"$f":"IF(ISERROR(VLOOKUP($A343,check!$A:$L,6,FALSE))=TRUE,\"\",VLOOKUP($A343,check!$A:$L,6,FALSE))","v":""},{"$f":"IF(ISERROR(VLOOKUP($A343,check!$A:$L,7,FALSE))=TRUE,\"\",VLOOKUP($A343,check!$A:$L,7,FALSE))","v":""},{"$f":"IF(ISERROR(VLOOKUP($A343,check!$A:$L,8,FALSE))=TRUE,\"\",VLOOKUP($A343,check!$A:$L,8,FALSE))","v":""},{"$f":"IF(ISERROR(VLOOKUP($A343,check!$A:$L,9,FALSE))=TRUE,\"\",VLOOKUP($A343,check!$A:$L,9,FALSE))","v":""},{"$f":"IF(ISERROR(VLOOKUP($A343,check!$A:$L,10,FALSE))=TRUE,\"\",VLOOKUP($A343,check!$A:$L,10,FALSE))","v":""},{"$f":"IF(ISERROR(VLOOKUP($A343,check!$A:$L,11,FALSE))=TRUE,\"\",VLOOKUP($A343,check!$A:$L,11,FALSE))","v":""},{"$f":"IF(ISERROR(VLOOKUP($A343,check!$A:$L,12,FALSE))=TRUE,\"\",VLOOKUP($A343,check!$A:$L,12,FALSE))","v":""}]
[344,{"$f":"IF(C344=\"\",\"\",MATCH(A344,check!A:A,0))","v":""},{"$f":"IF(ISERROR(VLOOKUP($A344,check!$A:$L,2,FALSE))=TRUE,\"\",VLOOKUP($A344,check!$A:$L,2,FALSE))","v":""},{"$f":"IF(ISERROR(VLOOKUP($A344,check!$A:$L,3,FALSE))=TRUE,\"\",VLOOKUP($A344,check!$A:$L,3,FALSE))","v":""},{"$f":"IF(ISERROR(VLOOKUP($A344,check!$A:$L,4,FALSE))=TRUE,\"\",VLOOKUP($A344,check!$A:$L,4,FALSE))","v":""},{"$f":"IF(ISERROR(VLOOKUP($A344,check!$A:$L,5,FALSE))=TRUE,\"\",VLOOKUP($A344,check!$A:$L,5,FALSE))","v":""},{"$f":"IF(ISERROR(VLOOKUP($A344,check!$A:$L,6,FALSE))=TRUE,\"\",VLOOKUP($A344,check!$A:$L,6,FALSE))","v":""},{"$f":"IF(ISERROR(VLOOKUP($A344,check!$A:$L,7,FALSE))=TRUE,\"\",VLOOKUP($A344,check!$A:$L,7,FALSE))","v":""},{"$f":"IF(ISERROR(VLOOKUP($A344,check!$A:$L,8,FALSE))=TRUE,\"\",VLOOKUP($A344,check!$A:$L,8,FALSE))","v":""},{"$f":"IF(ISERROR(VLOOKUP($A344,check!$A:$L,9,FALSE))=TRUE,\"\",VLOOKUP($A344,check!$A:$L,9,FALSE))","v":""},{"$f":"IF(ISERROR(VLOOKUP($A344,check!$A:$L,10,FALSE))=TRUE,\"\",VLOOKUP($A344,check!$A:$L,10,FALSE))","v":""},{"$f":"IF(ISERROR(VLOOKUP($A344,check!$A:$L,11,FALSE))=TRUE,\"\",VLOOKUP($A344,check!$A:$L,11,FALSE))","v":""},{"$f":"IF(ISERROR(VLOOKUP($A344,check!$A:$L,12,FALSE))=TRUE,\"\",VLOOKUP($A344,check!$A:$L,12,FALSE))","v":""}]
[345,{"$f":"IF(C345=\"\",\"\",MATCH(A345,check!A:A,0))","v":""},{"$f":"IF(ISERROR(VLOOKUP($A345,check!$A:$L,2,FALSE))=TRUE,\"\",VLOOKUP($A345,check!$A:$L,2,FALSE))","v":""},{"$f":"IF(ISERROR(VLOOKUP($A345,check!$A:$L,3,FALSE))=TRUE,\"\",VLOOKUP($A345,check!$A:$L,3,FALSE))","v":""},{"$f":"IF(ISERROR(VLOOKUP($A345,check!$A:$L,4,FALSE))=TRUE,\"\",VLOOKUP($A345,check!$A:$L,4,FALSE))","v":""},{"$f":"IF(ISERROR(VLOOKUP($A345,check!$A:$L,5,FALSE))=TRUE,\"\",VLOOKUP($A345,check!$A:$L,5,FALSE))","v":""},{"$f":"IF(ISERROR(VLOOKUP($A345,check!$A:$L,6,FALSE))=TRUE,\"\",VLOOKUP($A345,check!$A:$L,6,FALSE))","v":""},{"$f":"IF(ISERROR(VLOOKUP($A345,check!$A:$L,7,FALSE))=TRUE,\"\",VLOOKUP($A345,check!$A:$L,7,FALSE))","v":""},{"$f":"IF(ISERROR(VLOOKUP($A345,check!$A:$L,8,FALSE))=TRUE,\"\",VLOOKUP($A345,check!$A:$L,8,FALSE))","v":""},{"$f":"IF(ISERROR(VLOOKUP($A345,check!$A:$L,9,FALSE))=TRUE,\"\",VLOOKUP($A345,check!$A:$L,9,FALSE))","v":""},{"$f":"IF(ISERROR(VLOOKUP($A345,check!$A:$L,10,FALSE))=TRUE,\"\",VLOOKUP($A345,check!$A:$L,10,FALSE))","v":""},{"$f":"IF(ISERROR(VLOOKUP($A345,check!$A:$L,11,FALSE))=TRUE,\"\",VLOOKUP($A345,check!$A:$L,11,FALSE))","v":""},{"$f":"IF(ISERROR(VLOOKUP($A345,check!$A:$L,12,FALSE))=TRUE,\"\",VLOOKUP($A345,check!$A:$L,12,FALSE))","v":""}]
[346,{"$f":"IF(C346=\"\",\"\",MATCH(A346,check!A:A,0))","v":""},{"$f":"IF(ISERROR(VLOOKUP($A346,check!$A:$L,2,FALSE))=TRUE,\"\",VLOOKUP($A346,check!$A:$L,2,FALSE))","v":""},{"$f":"IF(ISERROR(VLOOKUP($A346,check!$A:$L,3,FALSE))=TRUE,\"\",VLOOKUP($A346,check!$A:$L,3,FALSE))","v":""},{"$f":"IF(ISERROR(VLOOKUP($A346,check!$A:$L,4,FALSE))=TRUE,\"\",VLOOKUP($A346,check!$A:$L,4,FALSE))","v":""},{"$f":"IF(ISERROR(VLOOKUP($A346,check!$A:$L,5,FALSE))=TRUE,\"\",VLOOKUP($A346,check!$A:$L,5,FALSE))","v":""},{"$f":"IF(ISERROR(VLOOKUP($A346,check!$A:$L,6,FALSE))=TRUE,\"\",VLOOKUP($A346,check!$A:$L,6,FALSE))","v":""},{"$f":"IF(ISERROR(VLOOKUP($A346,check!$A:$L,7,FALSE))=TRUE,\"\",VLOOKUP($A346,check!$A:$L,7,FALSE))","v":""},{"$f":"IF(ISERROR(VLOOKUP($A346,check!$A:$L,8,FALSE))=TRUE,\"\",VLOOKUP($A346,check!$A:$L,8,FALSE))","v":""},{"$f":"IF(ISERROR(VLOOKUP($A346,check!$A:$L,9,FALSE))=TRUE,\"\",VLOOKUP($A346,check!$A:$L,9,FALSE))","v":""},{"$f":"IF(ISERROR(VLOOKUP($A346,check!$A:$L,10,FALSE))=TRUE,\"\",VLOOKUP($A346,check!$A:$L,10,FALSE))","v":""},{"$f":"IF(ISERROR(VLOOKUP($A346,check!$A:$L,11,FALSE))=TRUE,\"\",VLOOKUP($A346,check!$A:$L,11,FALSE))","v":""},{"$f":"IF(ISERROR(VLOOKUP($A346,check!$A:$L,12,FALSE))=TRUE,\"\",VLOOKUP($A346,check!$A:$L,12,FALSE))","v":""}]
[347,{"$f":"IF(C347=\"\",\"\",MATCH(A347,check!A:A,0))","v":""},{"$f":"IF(ISERROR(VLOOKUP($A347,check!$A:$L,2,FALSE))=TRUE,\"\",VLOOKUP($A347,check!$A:$L,2,FALSE))","v":""},{"$f":"IF(ISERROR(VLOOKUP($A347,check!$A:$L,3,FALSE))=TRUE,\"\",VLOOKUP($A347,check!$A:$L,3,FALSE))","v":""},{"$f":"IF(ISERROR(VLOOKUP($A347,check!$A:$L,4,FALSE))=TRUE,\"\",VLOOKUP($A347,check!$A:$L,4,FALSE))","v":""},{"$f":"IF(ISERROR(VLOOKUP($A347,check!$A:$L,5,FALSE))=TRUE,\"\",VLOOKUP($A347,check!$A:$L,5,FALSE))","v":""},{"$f":"IF(ISERROR(VLOOKUP($A347,check!$A:$L,6,FALSE))=TRUE,\"\",VLOOKUP($A347,check!$A:$L,6,FALSE))","v":""},{"$f":"IF(ISERROR(VLOOKUP($A347,check!$A:$L,7,FALSE))=TRUE,\"\",VLOOKUP($A347,check!$A:$L,7,FALSE))","v":""},{"$f":"IF(ISERROR(VLOOKUP($A347,check!$A:$L,8,FALSE))=TRUE,\"\",VLOOKUP($A347,check!$A:$L,8,FALSE))","v":""},{"$f":"IF(ISERROR(VLOOKUP($A347,check!$A:$L,9,FALSE))=TRUE,\"\",VLOOKUP($A347,check!$A:$L,9,FALSE))","v":""},{"$f":"IF(ISERROR(VLOOKUP($A347,check!$A:$L,10,FALSE))=TRUE,\"\",VLOOKUP($A347,check!$A:$L,10,FALSE))","v":""},{"$f":"IF(ISERROR(VLOOKUP($A347,check!$A:$L,11,FALSE))=TRUE,\"\",VLOOKUP($A347,check!$A:$L,11,FALSE))","v":""},{"$f":"IF(ISERROR(VLOOKUP($A347,check!$A:$L,12,FALSE))=TRUE,\"\",VLOOKUP($A347,check!$A:$L,12,FALSE))","v":""}]
[348,{"$f":"IF(C348=\"\",\"\",MATCH(A348,check!A:A,0))","v":""},{"$f":"IF(ISERROR(VLOOKUP($A348,check!$A:$L,2,FALSE))=TRUE,\"\",VLOOKUP($A348,check!$A:$L,2,FALSE))","v":""},{"$f":"IF(ISERROR(VLOOKUP($A348,check!$A:$L,3,FALSE))=TRUE,\"\",VLOOKUP($A348,check!$A:$L,3,FALSE))","v":""},{"$f":"IF(ISERROR(VLOOKUP($A348,check!$A:$L,4,FALSE))=TRUE,\"\",VLOOKUP($A348,check!$A:$L,4,FALSE))","v":""},{"$f":"IF(ISERROR(VLOOKUP($A348,check!$A:$L,5,FALSE))=TRUE,\"\",VLOOKUP($A348,check!$A:$L,5,FALSE))","v":""},{"$f":"IF(ISERROR(VLOOKUP($A348,check!$A:$L,6,FALSE))=TRUE,\"\",VLOOKUP($A348,check!$A:$L,6,FALSE))","v":""},{"$f":"IF(ISERROR(VLOOKUP($A348,check!$A:$L,7,FALSE))=TRUE,\"\",VLOOKUP($A348,check!$A:$L,7,FALSE))","v":""},{"$f":"IF(ISERROR(VLOOKUP($A348,check!$A:$L,8,FALSE))=TRUE,\"\",VLOOKUP($A348,check!$A:$L,8,FALSE))","v":""},{"$f":"IF(ISERROR(VLOOKUP($A348,check!$A:$L,9,FALSE))=TRUE,\"\",VLOOKUP($A348,check!$A:$L,9,FALSE))","v":""},{"$f":"IF(ISERROR(VLOOKUP($A348,check!$A:$L,10,FALSE))=TRUE,\"\",VLOOKUP($A348,check!$A:$L,10,FALSE))","v":""},{"$f":"IF(ISERROR(VLOOKUP($A348,check!$A:$L,11,FALSE))=TRUE,\"\",VLOOKUP($A348,check!$A:$L,11,FALSE))","v":""},{"$f":"IF(ISERROR(VLOOKUP($A348,check!$A:$L,12,FALSE))=TRUE,\"\",VLOOKUP($A348,check!$A:$L,12,FALSE))","v":""}]
[349,{"$f":"IF(C349=\"\",\"\",MATCH(A349,check!A:A,0))","v":""},{"$f":"IF(ISERROR(VLOOKUP($A349,check!$A:$L,2,FALSE))=TRUE,\"\",VLOOKUP($A349,check!$A:$L,2,FALSE))","v":""},{"$f":"IF(ISERROR(VLOOKUP($A349,check!$A:$L,3,FALSE))=TRUE,\"\",VLOOKUP($A349,check!$A:$L,3,FALSE))","v":""},{"$f":"IF(ISERROR(VLOOKUP($A349,check!$A:$L,4,FALSE))=TRUE,\"\",VLOOKUP($A349,check!$A:$L,4,FALSE))","v":""},{"$f":"IF(ISERROR(VLOOKUP($A349,check!$A:$L,5,FALSE))=TRUE,\"\",VLOOKUP($A349,check!$A:$L,5,FALSE))","v":""},{"$f":"IF(ISERROR(VLOOKUP($A349,check!$A:$L,6,FALSE))=TRUE,\"\",VLOOKUP($A349,check!$A:$L,6,FALSE))","v":""},{"$f":"IF(ISERROR(VLOOKUP($A349,check!$A:$L,7,FALSE))=TRUE,\"\",VLOOKUP($A349,check!$A:$L,7,FALSE))","v":""},{"$f":"IF(ISERROR(VLOOKUP($A349,check!$A:$L,8,FALSE))=TRUE,\"\",VLOOKUP($A349,check!$A:$L,8,FALSE))","v":""},{"$f":"IF(ISERROR(VLOOKUP($A349,check!$A:$L,9,FALSE))=TRUE,\"\",VLOOKUP($A349,check!$A:$L,9,FALSE))","v":""},{"$f":"IF(ISERROR(VLOOKUP($A349,check!$A:$L,10,FALSE))=TRUE,\"\",VLOOKUP($A349,check!$A:$L,10,FALSE))","v":""},{"$f":"IF(ISERROR(VLOOKUP($A349,check!$A:$L,11,FALSE))=TRUE,\"\",VLOOKUP($A349,check!$A:$L,11,FALSE))","v":""},{"$f":"IF(ISERROR(VLOOKUP($A349,check!$A:$L,12,FALSE))=TRUE,\"\",VLOOKUP($A349,check!$A:$L,12,FALSE))","v":""}]
[350,{"$f":"IF(C350=\"\",\"\",MATCH(A350,check!A:A,0))","v":""},{"$f":"IF(ISERROR(VLOOKUP($A350,check!$A:$L,2,FALSE))=TRUE,\"\",VLOOKUP($A350,check!$A:$L,2,FALSE))","v":""},{"$f":"IF(ISERROR(VLOOKUP($A350,check!$A:$L,3,FALSE))=TRUE,\"\",VLOOKUP($A350,check!$A:$L,3,FALSE))","v":""},{"$f":"IF(ISERROR(VLOOKUP($A350,check!$A:$L,4,FALSE))=TRUE,\"\",VLOOKUP($A350,check!$A:$L,4,FALSE))","v":""},{"$f":"IF(ISERROR(VLOOKUP($A350,check!$A:$L,5,FALSE))=TRUE,\"\",VLOOKUP($A350,check!$A:$L,5,FALSE))","v":""},{"$f":"IF(ISERROR(VLOOKUP($A350,check!$A:$L,6,FALSE))=TRUE,\"\",VLOOKUP($A350,check!$A:$L,6,FALSE))","v":""},{"$f":"IF(ISERROR(VLOOKUP($A350,check!$A:$L,7,FALSE))=TRUE,\"\",VLOOKUP($A350,check!$A:$L,7,FALSE))","v":""},{"$f":"IF(ISERROR(VLOOKUP($A350,check!$A:$L,8,FALSE))=TRUE,\"\",VLOOKUP($A350,check!$A:$L,8,FALSE))","v":""},{"$f":"IF(ISERROR(VLOOKUP($A350,check!$A:$L,9,FALSE))=TRUE,\"\",VLOOKUP($A350,check!$A:$L,9,FALSE))","v":""},{"$f":"IF(ISERROR(VLOOKUP($A350,check!$A:$L,10,FALSE))=TRUE,\"\",VLOOKUP($A350,check!$A:$L,10,FALSE))","v":""},{"$f":"IF(ISERROR(VLOOKUP($A350,check!$A:$L,11,FALSE))=TRUE,\"\",VLOOKUP($A350,check!$A:$L,11,FALSE))","v":""},{"$f":"IF(ISERROR(VLOOKUP($A350,check!$A:$L,12,FALSE))=TRUE,\"\",VLOOKUP($A350,check!$A:$L,12,FALSE))","v":""}]
[351,{"$f":"IF(C351=\"\",\"\",MATCH(A351,check!A:A,0))","v":""},{"$f":"IF(ISERROR(VLOOKUP($A351,check!$A:$L,2,FALSE))=TRUE,\"\",VLOOKUP($A351,check!$A:$L,2,FALSE))","v":""},{"$f":"IF(ISERROR(VLOOKUP($A351,check!$A:$L,3,FALSE))=TRUE,\"\",VLOOKUP($A351,check!$A:$L,3,FALSE))","v":""},{"$f":"IF(ISERROR(VLOOKUP($A351,check!$A:$L,4,FALSE))=TRUE,\"\",VLOOKUP($A351,check!$A:$L,4,FALSE))","v":""},{"$f":"IF(ISERROR(VLOOKUP($A351,check!$A:$L,5,FALSE))=TRUE,\"\",VLOOKUP($A351,check!$A:$L,5,FALSE))","v":""},{"$f":"IF(ISERROR(VLOOKUP($A351,check!$A:$L,6,FALSE))=TRUE,\"\",VLOOKUP($A351,check!$A:$L,6,FALSE))","v":""},{"$f":"IF(ISERROR(VLOOKUP($A351,check!$A:$L,7,FALSE))=TRUE,\"\",VLOOKUP($A351,check!$A:$L,7,FALSE))","v":""},{"$f":"IF(ISERROR(VLOOKUP($A351,check!$A:$L,8,FALSE))=TRUE,\"\",VLOOKUP($A351,check!$A:$L,8,FALSE))","v":""},{"$f":"IF(ISERROR(VLOOKUP($A351,check!$A:$L,9,FALSE))=TRUE,\"\",VLOOKUP($A351,check!$A:$L,9,FALSE))","v":""},{"$f":"IF(ISERROR(VLOOKUP($A351,check!$A:$L,10,FALSE))=TRUE,\"\",VLOOKUP($A351,check!$A:$L,10,FALSE))","v":""},{"$f":"IF(ISERROR(VLOOKUP($A351,check!$A:$L,11,FALSE))=TRUE,\"\",VLOOKUP($A351,check!$A:$L,11,FALSE))","v":""},{"$f":"IF(ISERROR(VLOOKUP($A351,check!$A:$L,12,FALSE))=TRUE,\"\",VLOOKUP($A351,check!$A:$L,12,FALSE))","v":""}]
[352,{"$f":"IF(C352=\"\",\"\",MATCH(A352,check!A:A,0))","v":""},{"$f":"IF(ISERROR(VLOOKUP($A352,check!$A:$L,2,FALSE))=TRUE,\"\",VLOOKUP($A352,check!$A:$L,2,FALSE))","v":""},{"$f":"IF(ISERROR(VLOOKUP($A352,check!$A:$L,3,FALSE))=TRUE,\"\",VLOOKUP($A352,check!$A:$L,3,FALSE))","v":""},{"$f":"IF(ISERROR(VLOOKUP($A352,check!$A:$L,4,FALSE))=TRUE,\"\",VLOOKUP($A352,check!$A:$L,4,FALSE))","v":""},{"$f":"IF(ISERROR(VLOOKUP($A352,check!$A:$L,5,FALSE))=TRUE,\"\",VLOOKUP($A352,check!$A:$L,5,FALSE))","v":""},{"$f":"IF(ISERROR(VLOOKUP($A352,check!$A:$L,6,FALSE))=TRUE,\"\",VLOOKUP($A352,check!$A:$L,6,FALSE))","v":""},{"$f":"IF(ISERROR(VLOOKUP($A352,check!$A:$L,7,FALSE))=TRUE,\"\",VLOOKUP($A352,check!$A:$L,7,FALSE))","v":""},{"$f":"IF(ISERROR(VLOOKUP($A352,check!$A:$L,8,FALSE))=TRUE,\"\",VLOOKUP($A352,check!$A:$L,8,FALSE))","v":""},{"$f":"IF(ISERROR(VLOOKUP($A352,check!$A:$L,9,FALSE))=TRUE,\"\",VLOOKUP($A352,check!$A:$L,9,FALSE))","v":""},{"$f":"IF(ISERROR(VLOOKUP($A352,check!$A:$L,10,FALSE))=TRUE,\"\",VLOOKUP($A352,check!$A:$L,10,FALSE))","v":""},{"$f":"IF(ISERROR(VLOOKUP($A352,check!$A:$L,11,FALSE))=TRUE,\"\",VLOOKUP($A352,check!$A:$L,11,FALSE))","v":""},{"$f":"IF(ISERROR(VLOOKUP($A352,check!$A:$L,12,FALSE))=TRUE,\"\",VLOOKUP($A352,check!$A:$L,12,FALSE))","v":""}]
[353,{"$f":"IF(C353=\"\",\"\",MATCH(A353,check!A:A,0))","v":""},{"$f":"IF(ISERROR(VLOOKUP($A353,check!$A:$L,2,FALSE))=TRUE,\"\",VLOOKUP($A353,check!$A:$L,2,FALSE))","v":""},{"$f":"IF(ISERROR(VLOOKUP($A353,check!$A:$L,3,FALSE))=TRUE,\"\",VLOOKUP($A353,check!$A:$L,3,FALSE))","v":""},{"$f":"IF(ISERROR(VLOOKUP($A353,check!$A:$L,4,FALSE))=TRUE,\"\",VLOOKUP($A353,check!$A:$L,4,FALSE))","v":""},{"$f":"IF(ISERROR(VLOOKUP($A353,check!$A:$L,5,FALSE))=TRUE,\"\",VLOOKUP($A353,check!$A:$L,5,FALSE))","v":""},{"$f":"IF(ISERROR(VLOOKUP($A353,check!$A:$L,6,FALSE))=TRUE,\"\",VLOOKUP($A353,check!$A:$L,6,FALSE))","v":""},{"$f":"IF(ISERROR(VLOOKUP($A353,check!$A:$L,7,FALSE))=TRUE,\"\",VLOOKUP($A353,check!$A:$L,7,FALSE))","v":""},{"$f":"IF(ISERROR(VLOOKUP($A353,check!$A:$L,8,FALSE))=TRUE,\"\",VLOOKUP($A353,check!$A:$L,8,FALSE))","v":""},{"$f":"IF(ISERROR(VLOOKUP($A353,check!$A:$L,9,FALSE))=TRUE,\"\",VLOOKUP($A353,check!$A:$L,9,FALSE))","v":""},{"$f":"IF(ISERROR(VLOOKUP($A353,check!$A:$L,10,FALSE))=TRUE,\"\",VLOOKUP($A353,check!$A:$L,10,FALSE))","v":""},{"$f":"IF(ISERROR(VLOOKUP($A353,check!$A:$L,11,FALSE))=TRUE,\"\",VLOOKUP($A353,check!$A:$L,11,FALSE))","v":""},{"$f":"IF(ISERROR(VLOOKUP($A353,check!$A:$L,12,FALSE))=TRUE,\"\",VLOOKUP($A353,check!$A:$L,12,FALSE))","v":""}]
[354,{"$f":"IF(C354=\"\",\"\",MATCH(A354,check!A:A,0))","v":""},{"$f":"IF(ISERROR(VLOOKUP($A354,check!$A:$L,2,FALSE))=TRUE,\"\",VLOOKUP($A354,check!$A:$L,2,FALSE))","v":""},{"$f":"IF(ISERROR(VLOOKUP($A354,check!$A:$L,3,FALSE))=TRUE,\"\",VLOOKUP($A354,check!$A:$L,3,FALSE))","v":""},{"$f":"IF(ISERROR(VLOOKUP($A354,check!$A:$L,4,FALSE))=TRUE,\"\",VLOOKUP($A354,check!$A:$L,4,FALSE))","v":""},{"$f":"IF(ISERROR(VLOOKUP($A354,check!$A:$L,5,FALSE))=TRUE,\"\",VLOOKUP($A354,check!$A:$L,5,FALSE))","v":""},{"$f":"IF(ISERROR(VLOOKUP($A354,check!$A:$L,6,FALSE))=TRUE,\"\",VLOOKUP($A354,check!$A:$L,6,FALSE))","v":""},{"$f":"IF(ISERROR(VLOOKUP($A354,check!$A:$L,7,FALSE))=TRUE,\"\",VLOOKUP($A354,check!$A:$L,7,FALSE))","v":""},{"$f":"IF(ISERROR(VLOOKUP($A354,check!$A:$L,8,FALSE))=TRUE,\"\",VLOOKUP($A354,check!$A:$L,8,FALSE))","v":""},{"$f":"IF(ISERROR(VLOOKUP($A354,check!$A:$L,9,FALSE))=TRUE,\"\",VLOOKUP($A354,check!$A:$L,9,FALSE))","v":""},{"$f":"IF(ISERROR(VLOOKUP($A354,check!$A:$L,10,FALSE))=TRUE,\"\",VLOOKUP($A354,check!$A:$L,10,FALSE))","v":""},{"$f":"IF(ISERROR(VLOOKUP($A354,check!$A:$L,11,FALSE))=TRUE,\"\",VLOOKUP($A354,check!$A:$L,11,FALSE))","v":""},{"$f":"IF(ISERROR(VLOOKUP($A354,check!$A:$L,12,FALSE))=TRUE,\"\",VLOOKUP($A354,check!$A:$L,12,FALSE))","v":""}]
[355,{"$f":"IF(C355=\"\",\"\",MATCH(A355,check!A:A,0))","v":""},{"$f":"IF(ISERROR(VLOOKUP($A355,check!$A:$L,2,FALSE))=TRUE,\"\",VLOOKUP($A355,check!$A:$L,2,FALSE))","v":""},{"$f":"IF(ISERROR(VLOOKUP($A355,check!$A:$L,3,FALSE))=TRUE,\"\",VLOOKUP($A355,check!$A:$L,3,FALSE))","v":""},{"$f":"IF(ISERROR(VLOOKUP($A355,check!$A:$L,4,FALSE))=TRUE,\"\",VLOOKUP($A355,check!$A:$L,4,FALSE))","v":""},{"$f":"IF(ISERROR(VLOOKUP($A355,check!$A:$L,5,FALSE))=TRUE,\"\",VLOOKUP($A355,check!$A:$L,5,FALSE))","v":""},{"$f":"IF(ISERROR(VLOOKUP($A355,check!$A:$L,6,FALSE))=TRUE,\"\",VLOOKUP($A355,check!$A:$L,6,FALSE))","v":""},{"$f":"IF(ISERROR(VLOOKUP($A355,check!$A:$L,7,FALSE))=TRUE,\"\",VLOOKUP($A355,check!$A:$L,7,FALSE))","v":""},{"$f":"IF(ISERROR(VLOOKUP($A355,check!$A:$L,8,FALSE))=TRUE,\"\",VLOOKUP($A355,check!$A:$L,8,FALSE))","v":""},{"$f":"IF(ISERROR(VLOOKUP($A355,check!$A:$L,9,FALSE))=TRUE,\"\",VLOOKUP($A355,check!$A:$L,9,FALSE))","v":""},{"$f":"IF(ISERROR(VLOOKUP($A355,check!$A:$L,10,FALSE))=TRUE,\"\",VLOOKUP($A355,check!$A:$L,10,FALSE))","v":""},{"$f":"IF(ISERROR(VLOOKUP($A355,check!$A:$L,11,FALSE))=TRUE,\"\",VLOOKUP($A355,check!$A:$L,11,FALSE))","v":""},{"$f":"IF(ISERROR(VLOOKUP($A355,check!$A:$L,12,FALSE))=TRUE,\"\",VLOOKUP($A355,check!$A:$L,12,FALSE))","v":""}]
[356,{"$f":"IF(C356=\"\",\"\",MATCH(A356,check!A:A,0))","v":""},{"$f":"IF(ISERROR(VLOOKUP($A356,check!$A:$L,2,FALSE))=TRUE,\"\",VLOOKUP($A356,check!$A:$L,2,FALSE))","v":""},{"$f":"IF(ISERROR(VLOOKUP($A356,check!$A:$L,3,FALSE))=TRUE,\"\",VLOOKUP($A356,check!$A:$L,3,FALSE))","v":""},{"$f":"IF(ISERROR(VLOOKUP($A356,check!$A:$L,4,FALSE))=TRUE,\"\",VLOOKUP($A356,check!$A:$L,4,FALSE))","v":""},{"$f":"IF(ISERROR(VLOOKUP($A356,check!$A:$L,5,FALSE))=TRUE,\"\",VLOOKUP($A356,check!$A:$L,5,FALSE))","v":""},{"$f":"IF(ISERROR(VLOOKUP($A356,check!$A:$L,6,FALSE))=TRUE,\"\",VLOOKUP($A356,check!$A:$L,6,FALSE))","v":""},{"$f":"IF(ISERROR(VLOOKUP($A356,check!$A:$L,7,FALSE))=TRUE,\"\",VLOOKUP($A356,check!$A:$L,7,FALSE))","v":""},{"$f":"IF(ISERROR(VLOOKUP($A356,check!$A:$L,8,FALSE))=TRUE,\"\",VLOOKUP($A356,check!$A:$L,8,FALSE))","v":""},{"$f":"IF(ISERROR(VLOOKUP($A356,check!$A:$L,9,FALSE))=TRUE,\"\",VLOOKUP($A356,check!$A:$L,9,FALSE))","v":""},{"$f":"IF(ISERROR(VLOOKUP($A356,check!$A:$L,10,FALSE))=TRUE,\"\",VLOOKUP($A356,check!$A:$L,10,FALSE))","v":""},{"$f":"IF(ISERROR(VLOOKUP($A356,check!$A:$L,11,FALSE))=TRUE,\"\",VLOOKUP($A356,check!$A:$L,11,FALSE))","v":""},{"$f":"IF(ISERROR(VLOOKUP($A356,check!$A:$L,12,FALSE))=TRUE,\"\",VLOOKUP($A356,check!$A:$L,12,FALSE))","v":""}]
[357,{"$f":"IF(C357=\"\",\"\",MATCH(A357,check!A:A,0))","v":""},{"$f":"IF(ISERROR(VLOOKUP($A357,check!$A:$L,2,FALSE))=TRUE,\"\",VLOOKUP($A357,check!$A:$L,2,FALSE))","v":""},{"$f":"IF(ISERROR(VLOOKUP($A357,check!$A:$L,3,FALSE))=TRUE,\"\",VLOOKUP($A357,check!$A:$L,3,FALSE))","v":""},{"$f":"IF(ISERROR(VLOOKUP($A357,check!$A:$L,4,FALSE))=TRUE,\"\",VLOOKUP($A357,check!$A:$L,4,FALSE))","v":""},{"$f":"IF(ISERROR(VLOOKUP($A357,check!$A:$L,5,FALSE))=TRUE,\"\",VLOOKUP($A357,check!$A:$L,5,FALSE))","v":""},{"$f":"IF(ISERROR(VLOOKUP($A357,check!$A:$L,6,FALSE))=TRUE,\"\",VLOOKUP($A357,check!$A:$L,6,FALSE))","v":""},{"$f":"IF(ISERROR(VLOOKUP($A357,check!$A:$L,7,FALSE))=TRUE,\"\",VLOOKUP($A357,check!$A:$L,7,FALSE))","v":""},{"$f":"IF(ISERROR(VLOOKUP($A357,check!$A:$L,8,FALSE))=TRUE,\"\",VLOOKUP($A357,check!$A:$L,8,FALSE))","v":""},{"$f":"IF(ISERROR(VLOOKUP($A357,check!$A:$L,9,FALSE))=TRUE,\"\",VLOOKUP($A357,check!$A:$L,9,FALSE))","v":""},{"$f":"IF(ISERROR(VLOOKUP($A357,check!$A:$L,10,FALSE))=TRUE,\"\",VLOOKUP($A357,check!$A:$L,10,FALSE))","v":""},{"$f":"IF(ISERROR(VLOOKUP($A357,check!$A:$L,11,FALSE))=TRUE,\"\",VLOOKUP($A357,check!$A:$L,11,FALSE))","v":""},{"$f":"IF(ISERROR(VLOOKUP($A357,check!$A:$L,12,FALSE))=TRUE,\"\",VLOOKUP($A357,check!$A:$L,12,FALSE))","v":""}]
[358,{"$f":"IF(C358=\"\",\"\",MATCH(A358,check!A:A,0))","v":""},{"$f":"IF(ISERROR(VLOOKUP($A358,check!$A:$L,2,FALSE))=TRUE,\"\",VLOOKUP($A358,check!$A:$L,2,FALSE))","v":""},{"$f":"IF(ISERROR(VLOOKUP($A358,check!$A:$L,3,FALSE))=TRUE,\"\",VLOOKUP($A358,check!$A:$L,3,FALSE))","v":""},{"$f":"IF(ISERROR(VLOOKUP($A358,check!$A:$L,4,FALSE))=TRUE,\"\",VLOOKUP($A358,check!$A:$L,4,FALSE))","v":""},{"$f":"IF(ISERROR(VLOOKUP($A358,check!$A:$L,5,FALSE))=TRUE,\"\",VLOOKUP($A358,check!$A:$L,5,FALSE))","v":""},{"$f":"IF(ISERROR(VLOOKUP($A358,check!$A:$L,6,FALSE))=TRUE,\"\",VLOOKUP($A358,check!$A:$L,6,FALSE))","v":""},{"$f":"IF(ISERROR(VLOOKUP($A358,check!$A:$L,7,FALSE))=TRUE,\"\",VLOOKUP($A358,check!$A:$L,7,FALSE))","v":""},{"$f":"IF(ISERROR(VLOOKUP($A358,check!$A:$L,8,FALSE))=TRUE,\"\",VLOOKUP($A358,check!$A:$L,8,FALSE))","v":""},{"$f":"IF(ISERROR(VLOOKUP($A358,check!$A:$L,9,FALSE))=TRUE,\"\",VLOOKUP($A358,check!$A:$L,9,FALSE))","v":""},{"$f":"IF(ISERROR(VLOOKUP($A358,check!$A:$L,10,FALSE))=TRUE,\"\",VLOOKUP($A358,check!$A:$L,10,FALSE))","v":""},{"$f":"IF(ISERROR(VLOOKUP($A358,check!$A:$L,11,FALSE))=TRUE,\"\",VLOOKUP($A358,check!$A:$L,11,FALSE))","v":""},{"$f":"IF(ISERROR(VLOOKUP($A358,check!$A:$L,12,FALSE))=TRUE,\"\",VLOOKUP($A358,check!$A:$L,12,FALSE))","v":""}]
[359,{"$f":"IF(C359=\"\",\"\",MATCH(A359,check!A:A,0))","v":""},{"$f":"IF(ISERROR(VLOOKUP($A359,check!$A:$L,2,FALSE))=TRUE,\"\",VLOOKUP($A359,check!$A:$L,2,FALSE))","v":""},{"$f":"IF(ISERROR(VLOOKUP($A359,check!$A:$L,3,FALSE))=TRUE,\"\",VLOOKUP($A359,check!$A:$L,3,FALSE))","v":""},{"$f":"IF(ISERROR(VLOOKUP($A359,check!$A:$L,4,FALSE))=TRUE,\"\",VLOOKUP($A359,check!$A:$L,4,FALSE))","v":""},{"$f":"IF(ISERROR(VLOOKUP($A359,check!$A:$L,5,FALSE))=TRUE,\"\",VLOOKUP($A359,check!$A:$L,5,FALSE))","v":""},{"$f":"IF(ISERROR(VLOOKUP($A359,check!$A:$L,6,FALSE))=TRUE,\"\",VLOOKUP($A359,check!$A:$L,6,FALSE))","v":""},{"$f":"IF(ISERROR(VLOOKUP($A359,check!$A:$L,7,FALSE))=TRUE,\"\",VLOOKUP($A359,check!$A:$L,7,FALSE))","v":""},{"$f":"IF(ISERROR(VLOOKUP($A359,check!$A:$L,8,FALSE))=TRUE,\"\",VLOOKUP($A359,check!$A:$L,8,FALSE))","v":""},{"$f":"IF(ISERROR(VLOOKUP($A359,check!$A:$L,9,FALSE))=TRUE,\"\",VLOOKUP($A359,check!$A:$L,9,FALSE))","v":""},{"$f":"IF(ISERROR(VLOOKUP($A359,check!$A:$L,10,FALSE))=TRUE,\"\",VLOOKUP($A359,check!$A:$L,10,FALSE))","v":""},{"$f":"IF(ISERROR(VLOOKUP($A359,check!$A:$L,11,FALSE))=TRUE,\"\",VLOOKUP($A359,check!$A:$L,11,FALSE))","v":""},{"$f":"IF(ISERROR(VLOOKUP($A359,check!$A:$L,12,FALSE))=TRUE,\"\",VLOOKUP($A359,check!$A:$L,12,FALSE))","v":""}]
[360,{"$f":"IF(C360=\"\",\"\",MATCH(A360,check!A:A,0))","v":""},{"$f":"IF(ISERROR(VLOOKUP($A360,check!$A:$L,2,FALSE))=TRUE,\"\",VLOOKUP($A360,check!$A:$L,2,FALSE))","v":""},{"$f":"IF(ISERROR(VLOOKUP($A360,check!$A:$L,3,FALSE))=TRUE,\"\",VLOOKUP($A360,check!$A:$L,3,FALSE))","v":""},{"$f":"IF(ISERROR(VLOOKUP($A360,check!$A:$L,4,FALSE))=TRUE,\"\",VLOOKUP($A360,check!$A:$L,4,FALSE))","v":""},{"$f":"IF(ISERROR(VLOOKUP($A360,check!$A:$L,5,FALSE))=TRUE,\"\",VLOOKUP($A360,check!$A:$L,5,FALSE))","v":""},{"$f":"IF(ISERROR(VLOOKUP($A360,check!$A:$L,6,FALSE))=TRUE,\"\",VLOOKUP($A360,check!$A:$L,6,FALSE))","v":""},{"$f":"IF(ISERROR(VLOOKUP($A360,check!$A:$L,7,FALSE))=TRUE,\"\",VLOOKUP($A360,check!$A:$L,7,FALSE))","v":""},{"$f":"IF(ISERROR(VLOOKUP($A360,check!$A:$L,8,FALSE))=TRUE,\"\",VLOOKUP($A360,check!$A:$L,8,FALSE))","v":""},{"$f":"IF(ISERROR(VLOOKUP($A360,check!$A:$L,9,FALSE))=TRUE,\"\",VLOOKUP($A360,check!$A:$L,9,FALSE))","v":""},{"$f":"IF(ISERROR(VLOOKUP($A360,check!$A:$L,10,FALSE))=TRUE,\"\",VLOOKUP($A360,check!$A:$L,10,FALSE))","v":""},{"$f":"IF(ISERROR(VLOOKUP($A360,check!$A:$L,11,FALSE))=TRUE,\"\",VLOOKUP($A360,check!$A:$L,11,FALSE))","v":""},{"$f":"IF(ISERROR(VLOOKUP($A360,check!$A:$L,12,FALSE))=TRUE,\"\",VLOOKUP($A360,check!$A:$L,12,FALSE))","v":""}]
[361,{"$f":"IF(C361=\"\",\"\",MATCH(A361,check!A:A,0))","v":""},{"$f":"IF(ISERROR(VLOOKUP($A361,check!$A:$L,2,FALSE))=TRUE,\"\",VLOOKUP($A361,check!$A:$L,2,FALSE))","v":""},{"$f":"IF(ISERROR(VLOOKUP($A361,check!$A:$L,3,FALSE))=TRUE,\"\",VLOOKUP($A361,check!$A:$L,3,FALSE))","v":""},{"$f":"IF(ISERROR(VLOOKUP($A361,check!$A:$L,4,FALSE))=TRUE,\"\",VLOOKUP($A361,check!$A:$L,4,FALSE))","v":""},{"$f":"IF(ISERROR(VLOOKUP($A361,check!$A:$L,5,FALSE))=TRUE,\"\",VLOOKUP($A361,check!$A:$L,5,FALSE))","v":""},{"$f":"IF(ISERROR(VLOOKUP($A361,check!$A:$L,6,FALSE))=TRUE,\"\",VLOOKUP($A361,check!$A:$L,6,FALSE))","v":""},{"$f":"IF(ISERROR(VLOOKUP($A361,check!$A:$L,7,FALSE))=TRUE,\"\",VLOOKUP($A361,check!$A:$L,7,FALSE))","v":""},{"$f":"IF(ISERROR(VLOOKUP($A361,check!$A:$L,8,FALSE))=TRUE,\"\",VLOOKUP($A361,check!$A:$L,8,FALSE))","v":""},{"$f":"IF(ISERROR(VLOOKUP($A361,check!$A:$L,9,FALSE))=TRUE,\"\",VLOOKUP($A361,check!$A:$L,9,FALSE))","v":""},{"$f":"IF(ISERROR(VLOOKUP($A361,check!$A:$L,10,FALSE))=TRUE,\"\",VLOOKUP($A361,check!$A:$L,10,FALSE))","v":""},{"$f":"IF(ISERROR(VLOOKUP($A361,check!$A:$L,11,FALSE))=TRUE,\"\",VLOOKUP($A361,check!$A:$L,11,FALSE))","v":""},{"$f":"IF(ISERROR(VLOOKUP($A361,check!$A:$L,12,FALSE))=TRUE,\"\",VLOOKUP($A361,check!$A:$L,12,FALSE))","v":""}]
[362,{"$f":"IF(C362=\"\",\"\",MATCH(A362,check!A:A,0))","v":""},{"$f":"IF(ISERROR(VLOOKUP($A362,check!$A:$L,2,FALSE))=TRUE,\"\",VLOOKUP($A362,check!$A:$L,2,FALSE))","v":""},{"$f":"IF(ISERROR(VLOOKUP($A362,check!$A:$L,3,FALSE))=TRUE,\"\",VLOOKUP($A362,check!$A:$L,3,FALSE))","v":""},{"$f":"IF(ISERROR(VLOOKUP($A362,check!$A:$L,4,FALSE))=TRUE,\"\",VLOOKUP($A362,check!$A:$L,4,FALSE))","v":""},{"$f":"IF(ISERROR(VLOOKUP($A362,check!$A:$L,5,FALSE))=TRUE,\"\",VLOOKUP($A362,check!$A:$L,5,FALSE))","v":""},{"$f":"IF(ISERROR(VLOOKUP($A362,check!$A:$L,6,FALSE))=TRUE,\"\",VLOOKUP($A362,check!$A:$L,6,FALSE))","v":""},{"$f":"IF(ISERROR(VLOOKUP($A362,check!$A:$L,7,FALSE))=TRUE,\"\",VLOOKUP($A362,check!$A:$L,7,FALSE))","v":""},{"$f":"IF(ISERROR(VLOOKUP($A362,check!$A:$L,8,FALSE))=TRUE,\"\",VLOOKUP($A362,check!$A:$L,8,FALSE))","v":""},{"$f":"IF(ISERROR(VLOOKUP($A362,check!$A:$L,9,FALSE))=TRUE,\"\",VLOOKUP($A362,check!$A:$L,9,FALSE))","v":""},{"$f":"IF(ISERROR(VLOOKUP($A362,check!$A:$L,10,FALSE))=TRUE,\"\",VLOOKUP($A362,check!$A:$L,10,FALSE))","v":""},{"$f":"IF(ISERROR(VLOOKUP($A362,check!$A:$L,11,FALSE))=TRUE,\"\",VLOOKUP($A362,check!$A:$L,11,FALSE))","v":""},{"$f":"IF(ISERROR(VLOOKUP($A362,check!$A:$L,12,FALSE))=TRUE,\"\",VLOOKUP($A362,check!$A:$L,12,FALSE))","v":""}]
[363,{"$f":"IF(C363=\"\",\"\",MATCH(A363,check!A:A,0))","v":""},{"$f":"IF(ISERROR(VLOOKUP($A363,check!$A:$L,2,FALSE))=TRUE,\"\",VLOOKUP($A363,check!$A:$L,2,FALSE))","v":""},{"$f":"IF(ISERROR(VLOOKUP($A363,check!$A:$L,3,FALSE))=TRUE,\"\",VLOOKUP($A363,check!$A:$L,3,FALSE))","v":""},{"$f":"IF(ISERROR(VLOOKUP($A363,check!$A:$L,4,FALSE))=TRUE,\"\",VLOOKUP($A363,check!$A:$L,4,FALSE))","v":""},{"$f":"IF(ISERROR(VLOOKUP($A363,check!$A:$L,5,FALSE))=TRUE,\"\",VLOOKUP($A363,check!$A:$L,5,FALSE))","v":""},{"$f":"IF(ISERROR(VLOOKUP($A363,check!$A:$L,6,FALSE))=TRUE,\"\",VLOOKUP($A363,check!$A:$L,6,FALSE))","v":""},{"$f":"IF(ISERROR(VLOOKUP($A363,check!$A:$L,7,FALSE))=TRUE,\"\",VLOOKUP($A363,check!$A:$L,7,FALSE))","v":""},{"$f":"IF(ISERROR(VLOOKUP($A363,check!$A:$L,8,FALSE))=TRUE,\"\",VLOOKUP($A363,check!$A:$L,8,FALSE))","v":""},{"$f":"IF(ISERROR(VLOOKUP($A363,check!$A:$L,9,FALSE))=TRUE,\"\",VLOOKUP($A363,check!$A:$L,9,FALSE))","v":""},{"$f":"IF(ISERROR(VLOOKUP($A363,check!$A:$L,10,FALSE))=TRUE,\"\",VLOOKUP($A363,check!$A:$L,10,FALSE))","v":""},{"$f":"IF(ISERROR(VLOOKUP($A363,check!$A:$L,11,FALSE))=TRUE,\"\",VLOOKUP($A363,check!$A:$L,11,FALSE))","v":""},{"$f":"IF(ISERROR(VLOOKUP($A363,check!$A:$L,12,FALSE))=TRUE,\"\",VLOOKUP($A363,check!$A:$L,12,FALSE))","v":""}]
[364,{"$f":"IF(C364=\"\",\"\",MATCH(A364,check!A:A,0))","v":""},{"$f":"IF(ISERROR(VLOOKUP($A364,check!$A:$L,2,FALSE))=TRUE,\"\",VLOOKUP($A364,check!$A:$L,2,FALSE))","v":""},{"$f":"IF(ISERROR(VLOOKUP($A364,check!$A:$L,3,FALSE))=TRUE,\"\",VLOOKUP($A364,check!$A:$L,3,FALSE))","v":""},{"$f":"IF(ISERROR(VLOOKUP($A364,check!$A:$L,4,FALSE))=TRUE,\"\",VLOOKUP($A364,check!$A:$L,4,FALSE))","v":""},{"$f":"IF(ISERROR(VLOOKUP($A364,check!$A:$L,5,FALSE))=TRUE,\"\",VLOOKUP($A364,check!$A:$L,5,FALSE))","v":""},{"$f":"IF(ISERROR(VLOOKUP($A364,check!$A:$L,6,FALSE))=TRUE,\"\",VLOOKUP($A364,check!$A:$L,6,FALSE))","v":""},{"$f":"IF(ISERROR(VLOOKUP($A364,check!$A:$L,7,FALSE))=TRUE,\"\",VLOOKUP($A364,check!$A:$L,7,FALSE))","v":""},{"$f":"IF(ISERROR(VLOOKUP($A364,check!$A:$L,8,FALSE))=TRUE,\"\",VLOOKUP($A364,check!$A:$L,8,FALSE))","v":""},{"$f":"IF(ISERROR(VLOOKUP($A364,check!$A:$L,9,FALSE))=TRUE,\"\",VLOOKUP($A364,check!$A:$L,9,FALSE))","v":""},{"$f":"IF(ISERROR(VLOOKUP($A364,check!$A:$L,10,FALSE))=TRUE,\"\",VLOOKUP($A364,check!$A:$L,10,FALSE))","v":""},{"$f":"IF(ISERROR(VLOOKUP($A364,check!$A:$L,11,FALSE))=TRUE,\"\",VLOOKUP($A364,check!$A:$L,11,FALSE))","v":""},{"$f":"IF(ISERROR(VLOOKUP($A364,check!$A:$L,12,FALSE))=TRUE,\"\",VLOOKUP($A364,check!$A:$L,12,FALSE))","v":""}]
[365,{"$f":"IF(C365=\"\",\"\",MATCH(A365,check!A:A,0))","v":""},{"$f":"IF(ISERROR(VLOOKUP($A365,check!$A:$L,2,FALSE))=TRUE,\"\",VLOOKUP($A365,check!$A:$L,2,FALSE))","v":""},{"$f":"IF(ISERROR(VLOOKUP($A365,check!$A:$L,3,FALSE))=TRUE,\"\",VLOOKUP($A365,check!$A:$L,3,FALSE))","v":""},{"$f":"IF(ISERROR(VLOOKUP($A365,check!$A:$L,4,FALSE))=TRUE,\"\",VLOOKUP($A365,check!$A:$L,4,FALSE))","v":""},{"$f":"IF(ISERROR(VLOOKUP($A365,check!$A:$L,5,FALSE))=TRUE,\"\",VLOOKUP($A365,check!$A:$L,5,FALSE))","v":""},{"$f":"IF(ISERROR(VLOOKUP($A365,check!$A:$L,6,FALSE))=TRUE,\"\",VLOOKUP($A365,check!$A:$L,6,FALSE))","v":""},{"$f":"IF(ISERROR(VLOOKUP($A365,check!$A:$L,7,FALSE))=TRUE,\"\",VLOOKUP($A365,check!$A:$L,7,FALSE))","v":""},{"$f":"IF(ISERROR(VLOOKUP($A365,check!$A:$L,8,FALSE))=TRUE,\"\",VLOOKUP($A365,check!$A:$L,8,FALSE))","v":""},{"$f":"IF(ISERROR(VLOOKUP($A365,check!$A:$L,9,FALSE))=TRUE,\"\",VLOOKUP($A365,check!$A:$L,9,FALSE))","v":""},{"$f":"IF(ISERROR(VLOOKUP($A365,check!$A:$L,10,FALSE))=TRUE,\"\",VLOOKUP($A365,check!$A:$L,10,FALSE))","v":""},{"$f":"IF(ISERROR(VLOOKUP($A365,check!$A:$L,11,FALSE))=TRUE,\"\",VLOOKUP($A365,check!$A:$L,11,FALSE))","v":""},{"$f":"IF(ISERROR(VLOOKUP($A365,check!$A:$L,12,FALSE))=TRUE,\"\",VLOOKUP($A365,check!$A:$L,12,FALSE))","v":""}]
[366,{"$f":"IF(C366=\"\",\"\",MATCH(A366,check!A:A,0))","v":""},{"$f":"IF(ISERROR(VLOOKUP($A366,check!$A:$L,2,FALSE))=TRUE,\"\",VLOOKUP($A366,check!$A:$L,2,FALSE))","v":""},{"$f":"IF(ISERROR(VLOOKUP($A366,check!$A:$L,3,FALSE))=TRUE,\"\",VLOOKUP($A366,check!$A:$L,3,FALSE))","v":""},{"$f":"IF(ISERROR(VLOOKUP($A366,check!$A:$L,4,FALSE))=TRUE,\"\",VLOOKUP($A366,check!$A:$L,4,FALSE))","v":""},{"$f":"IF(ISERROR(VLOOKUP($A366,check!$A:$L,5,FALSE))=TRUE,\"\",VLOOKUP($A366,check!$A:$L,5,FALSE))","v":""},{"$f":"IF(ISERROR(VLOOKUP($A366,check!$A:$L,6,FALSE))=TRUE,\"\",VLOOKUP($A366,check!$A:$L,6,FALSE))","v":""},{"$f":"IF(ISERROR(VLOOKUP($A366,check!$A:$L,7,FALSE))=TRUE,\"\",VLOOKUP($A366,check!$A:$L,7,FALSE))","v":""},{"$f":"IF(ISERROR(VLOOKUP($A366,check!$A:$L,8,FALSE))=TRUE,\"\",VLOOKUP($A366,check!$A:$L,8,FALSE))","v":""},{"$f":"IF(ISERROR(VLOOKUP($A366,check!$A:$L,9,FALSE))=TRUE,\"\",VLOOKUP($A366,check!$A:$L,9,FALSE))","v":""},{"$f":"IF(ISERROR(VLOOKUP($A366,check!$A:$L,10,FALSE))=TRUE,\"\",VLOOKUP($A366,check!$A:$L,10,FALSE))","v":""},{"$f":"IF(ISERROR(VLOOKUP($A366,check!$A:$L,11,FALSE))=TRUE,\"\",VLOOKUP($A366,check!$A:$L,11,FALSE))","v":""},{"$f":"IF(ISERROR(VLOOKUP($A366,check!$A:$L,12,FALSE))=TRUE,\"\",VLOOKUP($A366,check!$A:$L,12,FALSE))","v":""}]
[367,{"$f":"IF(C367=\"\",\"\",MATCH(A367,check!A:A,0))","v":""},{"$f":"IF(ISERROR(VLOOKUP($A367,check!$A:$L,2,FALSE))=TRUE,\"\",VLOOKUP($A367,check!$A:$L,2,FALSE))","v":""},{"$f":"IF(ISERROR(VLOOKUP($A367,check!$A:$L,3,FALSE))=TRUE,\"\",VLOOKUP($A367,check!$A:$L,3,FALSE))","v":""},{"$f":"IF(ISERROR(VLOOKUP($A367,check!$A:$L,4,FALSE))=TRUE,\"\",VLOOKUP($A367,check!$A:$L,4,FALSE))","v":""},{"$f":"IF(ISERROR(VLOOKUP($A367,check!$A:$L,5,FALSE))=TRUE,\"\",VLOOKUP($A367,check!$A:$L,5,FALSE))","v":""},{"$f":"IF(ISERROR(VLOOKUP($A367,check!$A:$L,6,FALSE))=TRUE,\"\",VLOOKUP($A367,check!$A:$L,6,FALSE))","v":""},{"$f":"IF(ISERROR(VLOOKUP($A367,check!$A:$L,7,FALSE))=TRUE,\"\",VLOOKUP($A367,check!$A:$L,7,FALSE))","v":""},{"$f":"IF(ISERROR(VLOOKUP($A367,check!$A:$L,8,FALSE))=TRUE,\"\",VLOOKUP($A367,check!$A:$L,8,FALSE))","v":""},{"$f":"IF(ISERROR(VLOOKUP($A367,check!$A:$L,9,FALSE))=TRUE,\"\",VLOOKUP($A367,check!$A:$L,9,FALSE))","v":""},{"$f":"IF(ISERROR(VLOOKUP($A367,check!$A:$L,10,FALSE))=TRUE,\"\",VLOOKUP($A367,check!$A:$L,10,FALSE))","v":""},{"$f":"IF(ISERROR(VLOOKUP($A367,check!$A:$L,11,FALSE))=TRUE,\"\",VLOOKUP($A367,check!$A:$L,11,FALSE))","v":""},{"$f":"IF(ISERROR(VLOOKUP($A367,check!$A:$L,12,FALSE))=TRUE,\"\",VLOOKUP($A367,check!$A:$L,12,FALSE))","v":""}]
[368,{"$f":"IF(C368=\"\",\"\",MATCH(A368,check!A:A,0))","v":""},{"$f":"IF(ISERROR(VLOOKUP($A368,check!$A:$L,2,FALSE))=TRUE,\"\",VLOOKUP($A368,check!$A:$L,2,FALSE))","v":""},{"$f":"IF(ISERROR(VLOOKUP($A368,check!$A:$L,3,FALSE))=TRUE,\"\",VLOOKUP($A368,check!$A:$L,3,FALSE))","v":""},{"$f":"IF(ISERROR(VLOOKUP($A368,check!$A:$L,4,FALSE))=TRUE,\"\",VLOOKUP($A368,check!$A:$L,4,FALSE))","v":""},{"$f":"IF(ISERROR(VLOOKUP($A368,check!$A:$L,5,FALSE))=TRUE,\"\",VLOOKUP($A368,check!$A:$L,5,FALSE))","v":""},{"$f":"IF(ISERROR(VLOOKUP($A368,check!$A:$L,6,FALSE))=TRUE,\"\",VLOOKUP($A368,check!$A:$L,6,FALSE))","v":""},{"$f":"IF(ISERROR(VLOOKUP($A368,check!$A:$L,7,FALSE))=TRUE,\"\",VLOOKUP($A368,check!$A:$L,7,FALSE))","v":""},{"$f":"IF(ISERROR(VLOOKUP($A368,check!$A:$L,8,FALSE))=TRUE,\"\",VLOOKUP($A368,check!$A:$L,8,FALSE))","v":""},{"$f":"IF(ISERROR(VLOOKUP($A368,check!$A:$L,9,FALSE))=TRUE,\"\",VLOOKUP($A368,check!$A:$L,9,FALSE))","v":""},{"$f":"IF(ISERROR(VLOOKUP($A368,check!$A:$L,10,FALSE))=TRUE,\"\",VLOOKUP($A368,check!$A:$L,10,FALSE))","v":""},{"$f":"IF(ISERROR(VLOOKUP($A368,check!$A:$L,11,FALSE))=TRUE,\"\",VLOOKUP($A368,check!$A:$L,11,FALSE))","v":""},{"$f":"IF(ISERROR(VLOOKUP($A368,check!$A:$L,12,FALSE))=TRUE,\"\",VLOOKUP($A368,check!$A:$L,12,FALSE))","v":""}]
[369,{"$f":"IF(C369=\"\",\"\",MATCH(A369,check!A:A,0))","v":""},{"$f":"IF(ISERROR(VLOOKUP($A369,check!$A:$L,2,FALSE))=TRUE,\"\",VLOOKUP($A369,check!$A:$L,2,FALSE))","v":""},{"$f":"IF(ISERROR(VLOOKUP($A369,check!$A:$L,3,FALSE))=TRUE,\"\",VLOOKUP($A369,check!$A:$L,3,FALSE))","v":""},{"$f":"IF(ISERROR(VLOOKUP($A369,check!$A:$L,4,FALSE))=TRUE,\"\",VLOOKUP($A369,check!$A:$L,4,FALSE))","v":""},{"$f":"IF(ISERROR(VLOOKUP($A369,check!$A:$L,5,FALSE))=TRUE,\"\",VLOOKUP($A369,check!$A:$L,5,FALSE))","v":""},{"$f":"IF(ISERROR(VLOOKUP($A369,check!$A:$L,6,FALSE))=TRUE,\"\",VLOOKUP($A369,check!$A:$L,6,FALSE))","v":""},{"$f":"IF(ISERROR(VLOOKUP($A369,check!$A:$L,7,FALSE))=TRUE,\"\",VLOOKUP($A369,check!$A:$L,7,FALSE))","v":""},{"$f":"IF(ISERROR(VLOOKUP($A369,check!$A:$L,8,FALSE))=TRUE,\"\",VLOOKUP($A369,check!$A:$L,8,FALSE))","v":""},{"$f":"IF(ISERROR(VLOOKUP($A369,check!$A:$L,9,FALSE))=TRUE,\"\",VLOOKUP($A369,check!$A:$L,9,FALSE))","v":""},{"$f":"IF(ISERROR(VLOOKUP($A369,check!$A:$L,10,FALSE))=TRUE,\"\",VLOOKUP($A369,check!$A:$L,10,FALSE))","v":""},{"$f":"IF(ISERROR(VLOOKUP($A369,check!$A:$L,11,FALSE))=TRUE,\"\",VLOOKUP($A369,check!$A:$L,11,FALSE))","v":""},{"$f":"IF(ISERROR(VLOOKUP($A369,check!$A:$L,12,FALSE))=TRUE,\"\",VLOOKUP($A369,check!$A:$L,12,FALSE))","v":""}]
[370,{"$f":"IF(C370=\"\",\"\",MATCH(A370,check!A:A,0))","v":""},{"$f":"IF(ISERROR(VLOOKUP($A370,check!$A:$L,2,FALSE))=TRUE,\"\",VLOOKUP($A370,check!$A:$L,2,FALSE))","v":""},{"$f":"IF(ISERROR(VLOOKUP($A370,check!$A:$L,3,FALSE))=TRUE,\"\",VLOOKUP($A370,check!$A:$L,3,FALSE))","v":""},{"$f":"IF(ISERROR(VLOOKUP($A370,check!$A:$L,4,FALSE))=TRUE,\"\",VLOOKUP($A370,check!$A:$L,4,FALSE))","v":""},{"$f":"IF(ISERROR(VLOOKUP($A370,check!$A:$L,5,FALSE))=TRUE,\"\",VLOOKUP($A370,check!$A:$L,5,FALSE))","v":""},{"$f":"IF(ISERROR(VLOOKUP($A370,check!$A:$L,6,FALSE))=TRUE,\"\",VLOOKUP($A370,check!$A:$L,6,FALSE))","v":""},{"$f":"IF(ISERROR(VLOOKUP($A370,check!$A:$L,7,FALSE))=TRUE,\"\",VLOOKUP($A370,check!$A:$L,7,FALSE))","v":""},{"$f":"IF(ISERROR(VLOOKUP($A370,check!$A:$L,8,FALSE))=TRUE,\"\",VLOOKUP($A370,check!$A:$L,8,FALSE))","v":""},{"$f":"IF(ISERROR(VLOOKUP($A370,check!$A:$L,9,FALSE))=TRUE,\"\",VLOOKUP($A370,check!$A:$L,9,FALSE))","v":""},{"$f":"IF(ISERROR(VLOOKUP($A370,check!$A:$L,10,FALSE))=TRUE,\"\",VLOOKUP($A370,check!$A:$L,10,FALSE))","v":""},{"$f":"IF(ISERROR(VLOOKUP($A370,check!$A:$L,11,FALSE))=TRUE,\"\",VLOOKUP($A370,check!$A:$L,11,FALSE))","v":""},{"$f":"IF(ISERROR(VLOOKUP($A370,check!$A:$L,12,FALSE))=TRUE,\"\",VLOOKUP($A370,check!$A:$L,12,FALSE))","v":""}]
[371,{"$f":"IF(C371=\"\",\"\",MATCH(A371,check!A:A,0))","v":""},{"$f":"IF(ISERROR(VLOOKUP($A371,check!$A:$L,2,FALSE))=TRUE,\"\",VLOOKUP($A371,check!$A:$L,2,FALSE))","v":""},{"$f":"IF(ISERROR(VLOOKUP($A371,check!$A:$L,3,FALSE))=TRUE,\"\",VLOOKUP($A371,check!$A:$L,3,FALSE))","v":""},{"$f":"IF(ISERROR(VLOOKUP($A371,check!$A:$L,4,FALSE))=TRUE,\"\",VLOOKUP($A371,check!$A:$L,4,FALSE))","v":""},{"$f":"IF(ISERROR(VLOOKUP($A371,check!$A:$L,5,FALSE))=TRUE,\"\",VLOOKUP($A371,check!$A:$L,5,FALSE))","v":""},{"$f":"IF(ISERROR(VLOOKUP($A371,check!$A:$L,6,FALSE))=TRUE,\"\",VLOOKUP($A371,check!$A:$L,6,FALSE))","v":""},{"$f":"IF(ISERROR(VLOOKUP($A371,check!$A:$L,7,FALSE))=TRUE,\"\",VLOOKUP($A371,check!$A:$L,7,FALSE))","v":""},{"$f":"IF(ISERROR(VLOOKUP($A371,check!$A:$L,8,FALSE))=TRUE,\"\",VLOOKUP($A371,check!$A:$L,8,FALSE))","v":""},{"$f":"IF(ISERROR(VLOOKUP($A371,check!$A:$L,9,FALSE))=TRUE,\"\",VLOOKUP($A371,check!$A:$L,9,FALSE))","v":""},{"$f":"IF(ISERROR(VLOOKUP($A371,check!$A:$L,10,FALSE))=TRUE,\"\",VLOOKUP($A371,check!$A:$L,10,FALSE))","v":""},{"$f":"IF(ISERROR(VLOOKUP($A371,check!$A:$L,11,FALSE))=TRUE,\"\",VLOOKUP($A371,check!$A:$L,11,FALSE))","v":""},{"$f":"IF(ISERROR(VLOOKUP($A371,check!$A:$L,12,FALSE))=TRUE,\"\",VLOOKUP($A371,check!$A:$L,12,FALSE))","v":""}]
[372,{"$f":"IF(C372=\"\",\"\",MATCH(A372,check!A:A,0))","v":""},{"$f":"IF(ISERROR(VLOOKUP($A372,check!$A:$L,2,FALSE))=TRUE,\"\",VLOOKUP($A372,check!$A:$L,2,FALSE))","v":""},{"$f":"IF(ISERROR(VLOOKUP($A372,check!$A:$L,3,FALSE))=TRUE,\"\",VLOOKUP($A372,check!$A:$L,3,FALSE))","v":""},{"$f":"IF(ISERROR(VLOOKUP($A372,check!$A:$L,4,FALSE))=TRUE,\"\",VLOOKUP($A372,check!$A:$L,4,FALSE))","v":""},{"$f":"IF(ISERROR(VLOOKUP($A372,check!$A:$L,5,FALSE))=TRUE,\"\",VLOOKUP($A372,check!$A:$L,5,FALSE))","v":""},{"$f":"IF(ISERROR(VLOOKUP($A372,check!$A:$L,6,FALSE))=TRUE,\"\",VLOOKUP($A372,check!$A:$L,6,FALSE))","v":""},{"$f":"IF(ISERROR(VLOOKUP($A372,check!$A:$L,7,FALSE))=TRUE,\"\",VLOOKUP($A372,check!$A:$L,7,FALSE))","v":""},{"$f":"IF(ISERROR(VLOOKUP($A372,check!$A:$L,8,FALSE))=TRUE,\"\",VLOOKUP($A372,check!$A:$L,8,FALSE))","v":""},{"$f":"IF(ISERROR(VLOOKUP($A372,check!$A:$L,9,FALSE))=TRUE,\"\",VLOOKUP($A372,check!$A:$L,9,FALSE))","v":""},{"$f":"IF(ISERROR(VLOOKUP($A372,check!$A:$L,10,FALSE))=TRUE,\"\",VLOOKUP($A372,check!$A:$L,10,FALSE))","v":""},{"$f":"IF(ISERROR(VLOOKUP($A372,check!$A:$L,11,FALSE))=TRUE,\"\",VLOOKUP($A372,check!$A:$L,11,FALSE))","v":""},{"$f":"IF(ISERROR(VLOOKUP($A372,check!$A:$L,12,FALSE))=TRUE,\"\",VLOOKUP($A372,check!$A:$L,12,FALSE))","v":""}]
[373,{"$f":"IF(C373=\"\",\"\",MATCH(A373,check!A:A,0))","v":""},{"$f":"IF(ISERROR(VLOOKUP($A373,check!$A:$L,2,FALSE))=TRUE,\"\",VLOOKUP($A373,check!$A:$L,2,FALSE))","v":""},{"$f":"IF(ISERROR(VLOOKUP($A373,check!$A:$L,3,FALSE))=TRUE,\"\",VLOOKUP($A373,check!$A:$L,3,FALSE))","v":""},{"$f":"IF(ISERROR(VLOOKUP($A373,check!$A:$L,4,FALSE))=TRUE,\"\",VLOOKUP($A373,check!$A:$L,4,FALSE))","v":""},{"$f":"IF(ISERROR(VLOOKUP($A373,check!$A:$L,5,FALSE))=TRUE,\"\",VLOOKUP($A373,check!$A:$L,5,FALSE))","v":""},{"$f":"IF(ISERROR(VLOOKUP($A373,check!$A:$L,6,FALSE))=TRUE,\"\",VLOOKUP($A373,check!$A:$L,6,FALSE))","v":""},{"$f":"IF(ISERROR(VLOOKUP($A373,check!$A:$L,7,FALSE))=TRUE,\"\",VLOOKUP($A373,check!$A:$L,7,FALSE))","v":""},{"$f":"IF(ISERROR(VLOOKUP($A373,check!$A:$L,8,FALSE))=TRUE,\"\",VLOOKUP($A373,check!$A:$L,8,FALSE))","v":""},{"$f":"IF(ISERROR(VLOOKUP($A373,check!$A:$L,9,FALSE))=TRUE,\"\",VLOOKUP($A373,check!$A:$L,9,FALSE))","v":""},{"$f":"IF(ISERROR(VLOOKUP($A373,check!$A:$L,10,FALSE))=TRUE,\"\",VLOOKUP($A373,check!$A:$L,10,FALSE))","v":""},{"$f":"IF(ISERROR(VLOOKUP($A373,check!$A:$L,11,FALSE))=TRUE,\"\",VLOOKUP($A373,check!$A:$L,11,FALSE))","v":""},{"$f":"IF(ISERROR(VLOOKUP($A373,check!$A:$L,12,FALSE))=TRUE,\"\",VLOOKUP($A373,check!$A:$L,12,FALSE))","v":""}]
[374,{"$f":"IF(C374=\"\",\"\",MATCH(A374,check!A:A,0))","v":""},{"$f":"IF(ISERROR(VLOOKUP($A374,check!$A:$L,2,FALSE))=TRUE,\"\",VLOOKUP($A374,check!$A:$L,2,FALSE))","v":""},{"$f":"IF(ISERROR(VLOOKUP($A374,check!$A:$L,3,FALSE))=TRUE,\"\",VLOOKUP($A374,check!$A:$L,3,FALSE))","v":""},{"$f":"IF(ISERROR(VLOOKUP($A374,check!$A:$L,4,FALSE))=TRUE,\"\",VLOOKUP($A374,check!$A:$L,4,FALSE))","v":""},{"$f":"IF(ISERROR(VLOOKUP($A374,check!$A:$L,5,FALSE))=TRUE,\"\",VLOOKUP($A374,check!$A:$L,5,FALSE))","v":""},{"$f":"IF(ISERROR(VLOOKUP($A374,check!$A:$L,6,FALSE))=TRUE,\"\",VLOOKUP($A374,check!$A:$L,6,FALSE))","v":""},{"$f":"IF(ISERROR(VLOOKUP($A374,check!$A:$L,7,FALSE))=TRUE,\"\",VLOOKUP($A374,check!$A:$L,7,FALSE))","v":""},{"$f":"IF(ISERROR(VLOOKUP($A374,check!$A:$L,8,FALSE))=TRUE,\"\",VLOOKUP($A374,check!$A:$L,8,FALSE))","v":""},{"$f":"IF(ISERROR(VLOOKUP($A374,check!$A:$L,9,FALSE))=TRUE,\"\",VLOOKUP($A374,check!$A:$L,9,FALSE))","v":""},{"$f":"IF(ISERROR(VLOOKUP($A374,check!$A:$L,10,FALSE))=TRUE,\"\",VLOOKUP($A374,check!$A:$L,10,FALSE))","v":""},{"$f":"IF(ISERROR(VLOOKUP($A374,check!$A:$L,11,FALSE))=TRUE,\"\",VLOOKUP($A374,check!$A:$L,11,FALSE))","v":""},{"$f":"IF(ISERROR(VLOOKUP($A374,check!$A:$L,12,FALSE))=TRUE,\"\",VLOOKUP($A374,check!$A:$L,12,FALSE))","v":""}]
[375,{"$f":"IF(C375=\"\",\"\",MATCH(A375,check!A:A,0))","v":""},{"$f":"IF(ISERROR(VLOOKUP($A375,check!$A:$L,2,FALSE))=TRUE,\"\",VLOOKUP($A375,check!$A:$L,2,FALSE))","v":""},{"$f":"IF(ISERROR(VLOOKUP($A375,check!$A:$L,3,FALSE))=TRUE,\"\",VLOOKUP($A375,check!$A:$L,3,FALSE))","v":""},{"$f":"IF(ISERROR(VLOOKUP($A375,check!$A:$L,4,FALSE))=TRUE,\"\",VLOOKUP($A375,check!$A:$L,4,FALSE))","v":""},{"$f":"IF(ISERROR(VLOOKUP($A375,check!$A:$L,5,FALSE))=TRUE,\"\",VLOOKUP($A375,check!$A:$L,5,FALSE))","v":""},{"$f":"IF(ISERROR(VLOOKUP($A375,check!$A:$L,6,FALSE))=TRUE,\"\",VLOOKUP($A375,check!$A:$L,6,FALSE))","v":""},{"$f":"IF(ISERROR(VLOOKUP($A375,check!$A:$L,7,FALSE))=TRUE,\"\",VLOOKUP($A375,check!$A:$L,7,FALSE))","v":""},{"$f":"IF(ISERROR(VLOOKUP($A375,check!$A:$L,8,FALSE))=TRUE,\"\",VLOOKUP($A375,check!$A:$L,8,FALSE))","v":""},{"$f":"IF(ISERROR(VLOOKUP($A375,check!$A:$L,9,FALSE))=TRUE,\"\",VLOOKUP($A375,check!$A:$L,9,FALSE))","v":""},{"$f":"IF(ISERROR(VLOOKUP($A375,check!$A:$L,10,FALSE))=TRUE,\"\",VLOOKUP($A375,check!$A:$L,10,FALSE))","v":""},{"$f":"IF(ISERROR(VLOOKUP($A375,check!$A:$L,11,FALSE))=TRUE,\"\",VLOOKUP($A375,check!$A:$L,11,FALSE))","v":""},{"$f":"IF(ISERROR(VLOOKUP($A375,check!$A:$L,12,FALSE))=TRUE,\"\",VLOOKUP($A375,check!$A:$L,12,FALSE))","v":""}]
[376,{"$f":"IF(C376=\"\",\"\",MATCH(A376,check!A:A,0))","v":""},{"$f":"IF(ISERROR(VLOOKUP($A376,check!$A:$L,2,FALSE))=TRUE,\"\",VLOOKUP($A376,check!$A:$L,2,FALSE))","v":""},{"$f":"IF(ISERROR(VLOOKUP($A376,check!$A:$L,3,FALSE))=TRUE,\"\",VLOOKUP($A376,check!$A:$L,3,FALSE))","v":""},{"$f":"IF(ISERROR(VLOOKUP($A376,check!$A:$L,4,FALSE))=TRUE,\"\",VLOOKUP($A376,check!$A:$L,4,FALSE))","v":""},{"$f":"IF(ISERROR(VLOOKUP($A376,check!$A:$L,5,FALSE))=TRUE,\"\",VLOOKUP($A376,check!$A:$L,5,FALSE))","v":""},{"$f":"IF(ISERROR(VLOOKUP($A376,check!$A:$L,6,FALSE))=TRUE,\"\",VLOOKUP($A376,check!$A:$L,6,FALSE))","v":""},{"$f":"IF(ISERROR(VLOOKUP($A376,check!$A:$L,7,FALSE))=TRUE,\"\",VLOOKUP($A376,check!$A:$L,7,FALSE))","v":""},{"$f":"IF(ISERROR(VLOOKUP($A376,check!$A:$L,8,FALSE))=TRUE,\"\",VLOOKUP($A376,check!$A:$L,8,FALSE))","v":""},{"$f":"IF(ISERROR(VLOOKUP($A376,check!$A:$L,9,FALSE))=TRUE,\"\",VLOOKUP($A376,check!$A:$L,9,FALSE))","v":""},{"$f":"IF(ISERROR(VLOOKUP($A376,check!$A:$L,10,FALSE))=TRUE,\"\",VLOOKUP($A376,check!$A:$L,10,FALSE))","v":""},{"$f":"IF(ISERROR(VLOOKUP($A376,check!$A:$L,11,FALSE))=TRUE,\"\",VLOOKUP($A376,check!$A:$L,11,FALSE))","v":""},{"$f":"IF(ISERROR(VLOOKUP($A376,check!$A:$L,12,FALSE))=TRUE,\"\",VLOOKUP($A376,check!$A:$L,12,FALSE))","v":""}]
[377,{"$f":"IF(C377=\"\",\"\",MATCH(A377,check!A:A,0))","v":""},{"$f":"IF(ISERROR(VLOOKUP($A377,check!$A:$L,2,FALSE))=TRUE,\"\",VLOOKUP($A377,check!$A:$L,2,FALSE))","v":""},{"$f":"IF(ISERROR(VLOOKUP($A377,check!$A:$L,3,FALSE))=TRUE,\"\",VLOOKUP($A377,check!$A:$L,3,FALSE))","v":""},{"$f":"IF(ISERROR(VLOOKUP($A377,check!$A:$L,4,FALSE))=TRUE,\"\",VLOOKUP($A377,check!$A:$L,4,FALSE))","v":""},{"$f":"IF(ISERROR(VLOOKUP($A377,check!$A:$L,5,FALSE))=TRUE,\"\",VLOOKUP($A377,check!$A:$L,5,FALSE))","v":""},{"$f":"IF(ISERROR(VLOOKUP($A377,check!$A:$L,6,FALSE))=TRUE,\"\",VLOOKUP($A377,check!$A:$L,6,FALSE))","v":""},{"$f":"IF(ISERROR(VLOOKUP($A377,check!$A:$L,7,FALSE))=TRUE,\"\",VLOOKUP($A377,check!$A:$L,7,FALSE))","v":""},{"$f":"IF(ISERROR(VLOOKUP($A377,check!$A:$L,8,FALSE))=TRUE,\"\",VLOOKUP($A377,check!$A:$L,8,FALSE))","v":""},{"$f":"IF(ISERROR(VLOOKUP($A377,check!$A:$L,9,FALSE))=TRUE,\"\",VLOOKUP($A377,check!$A:$L,9,FALSE))","v":""},{"$f":"IF(ISERROR(VLOOKUP($A377,check!$A:$L,10,FALSE))=TRUE,\"\",VLOOKUP($A377,check!$A:$L,10,FALSE))","v":""},{"$f":"IF(ISERROR(VLOOKUP($A377,check!$A:$L,11,FALSE))=TRUE,\"\",VLOOKUP($A377,check!$A:$L,11,FALSE))","v":""},{"$f":"IF(ISERROR(VLOOKUP($A377,check!$A:$L,12,FALSE))=TRUE,\"\",VLOOKUP($A377,check!$A:$L,12,FALSE))","v":""}]
[378,{"$f":"IF(C378=\"\",\"\",MATCH(A378,check!A:A,0))","v":""},{"$f":"IF(ISERROR(VLOOKUP($A378,check!$A:$L,2,FALSE))=TRUE,\"\",VLOOKUP($A378,check!$A:$L,2,FALSE))","v":""},{"$f":"IF(ISERROR(VLOOKUP($A378,check!$A:$L,3,FALSE))=TRUE,\"\",VLOOKUP($A378,check!$A:$L,3,FALSE))","v":""},{"$f":"IF(ISERROR(VLOOKUP($A378,check!$A:$L,4,FALSE))=TRUE,\"\",VLOOKUP($A378,check!$A:$L,4,FALSE))","v":""},{"$f":"IF(ISERROR(VLOOKUP($A378,check!$A:$L,5,FALSE))=TRUE,\"\",VLOOKUP($A378,check!$A:$L,5,FALSE))","v":""},{"$f":"IF(ISERROR(VLOOKUP($A378,check!$A:$L,6,FALSE))=TRUE,\"\",VLOOKUP($A378,check!$A:$L,6,FALSE))","v":""},{"$f":"IF(ISERROR(VLOOKUP($A378,check!$A:$L,7,FALSE))=TRUE,\"\",VLOOKUP($A378,check!$A:$L,7,FALSE))","v":""},{"$f":"IF(ISERROR(VLOOKUP($A378,check!$A:$L,8,FALSE))=TRUE,\"\",VLOOKUP($A378,check!$A:$L,8,FALSE))","v":""},{"$f":"IF(ISERROR(VLOOKUP($A378,check!$A:$L,9,FALSE))=TRUE,\"\",VLOOKUP($A378,check!$A:$L,9,FALSE))","v":""},{"$f":"IF(ISERROR(VLOOKUP($A378,check!$A:$L,10,FALSE))=TRUE,\"\",VLOOKUP($A378,check!$A:$L,10,FALSE))","v":""},{"$f":"IF(ISERROR(VLOOKUP($A378,check!$A:$L,11,FALSE))=TRUE,\"\",VLOOKUP($A378,check!$A:$L,11,FALSE))","v":""},{"$f":"IF(ISERROR(VLOOKUP($A378,check!$A:$L,12,FALSE))=TRUE,\"\",VLOOKUP($A378,check!$A:$L,12,FALSE))","v":""}]
[379,{"$f":"IF(C379=\"\",\"\",MATCH(A379,check!A:A,0))","v":""},{"$f":"IF(ISERROR(VLOOKUP($A379,check!$A:$L,2,FALSE))=TRUE,\"\",VLOOKUP($A379,check!$A:$L,2,FALSE))","v":""},{"$f":"IF(ISERROR(VLOOKUP($A379,check!$A:$L,3,FALSE))=TRUE,\"\",VLOOKUP($A379,check!$A:$L,3,FALSE))","v":""},{"$f":"IF(ISERROR(VLOOKUP($A379,check!$A:$L,4,FALSE))=TRUE,\"\",VLOOKUP($A379,check!$A:$L,4,FALSE))","v":""},{"$f":"IF(ISERROR(VLOOKUP($A379,check!$A:$L,5,FALSE))=TRUE,\"\",VLOOKUP($A379,check!$A:$L,5,FALSE))","v":""},{"$f":"IF(ISERROR(VLOOKUP($A379,check!$A:$L,6,FALSE))=TRUE,\"\",VLOOKUP($A379,check!$A:$L,6,FALSE))","v":""},{"$f":"IF(ISERROR(VLOOKUP($A379,check!$A:$L,7,FALSE))=TRUE,\"\",VLOOKUP($A379,check!$A:$L,7,FALSE))","v":""},{"$f":"IF(ISERROR(VLOOKUP($A379,check!$A:$L,8,FALSE))=TRUE,\"\",VLOOKUP($A379,check!$A:$L,8,FALSE))","v":""},{"$f":"IF(ISERROR(VLOOKUP($A379,check!$A:$L,9,FALSE))=TRUE,\"\",VLOOKUP($A379,check!$A:$L,9,FALSE))","v":""},{"$f":"IF(ISERROR(VLOOKUP($A379,check!$A:$L,10,FALSE))=TRUE,\"\",VLOOKUP($A379,check!$A:$L,10,FALSE))","v":""},{"$f":"IF(ISERROR(VLOOKUP($A379,check!$A:$L,11,FALSE))=TRUE,\"\",VLOOKUP($A379,check!$A:$L,11,FALSE))","v":""},{"$f":"IF(ISERROR(VLOOKUP($A379,check!$A:$L,12,FALSE))=TRUE,\"\",VLOOKUP($A379,check!$A:$L,12,FALSE))","v":""}]
[380,{"$f":"IF(C380=\"\",\"\",MATCH(A380,check!A:A,0))","v":""},{"$f":"IF(ISERROR(VLOOKUP($A380,check!$A:$L,2,FALSE))=TRUE,\"\",VLOOKUP($A380,check!$A:$L,2,FALSE))","v":""},{"$f":"IF(ISERROR(VLOOKUP($A380,check!$A:$L,3,FALSE))=TRUE,\"\",VLOOKUP($A380,check!$A:$L,3,FALSE))","v":""},{"$f":"IF(ISERROR(VLOOKUP($A380,check!$A:$L,4,FALSE))=TRUE,\"\",VLOOKUP($A380,check!$A:$L,4,FALSE))","v":""},{"$f":"IF(ISERROR(VLOOKUP($A380,check!$A:$L,5,FALSE))=TRUE,\"\",VLOOKUP($A380,check!$A:$L,5,FALSE))","v":""},{"$f":"IF(ISERROR(VLOOKUP($A380,check!$A:$L,6,FALSE))=TRUE,\"\",VLOOKUP($A380,check!$A:$L,6,FALSE))","v":""},{"$f":"IF(ISERROR(VLOOKUP($A380,check!$A:$L,7,FALSE))=TRUE,\"\",VLOOKUP($A380,check!$A:$L,7,FALSE))","v":""},{"$f":"IF(ISERROR(VLOOKUP($A380,check!$A:$L,8,FALSE))=TRUE,\"\",VLOOKUP($A380,check!$A:$L,8,FALSE))","v":""},{"$f":"IF(ISERROR(VLOOKUP($A380,check!$A:$L,9,FALSE))=TRUE,\"\",VLOOKUP($A380,check!$A:$L,9,FALSE))","v":""},{"$f":"IF(ISERROR(VLOOKUP($A380,check!$A:$L,10,FALSE))=TRUE,\"\",VLOOKUP($A380,check!$A:$L,10,FALSE))","v":""},{"$f":"IF(ISERROR(VLOOKUP($A380,check!$A:$L,11,FALSE))=TRUE,\"\",VLOOKUP($A380,check!$A:$L,11,FALSE))","v":""},{"$f":"IF(ISERROR(VLOOKUP($A380,check!$A:$L,12,FALSE))=TRUE,\"\",VLOOKUP($A380,check!$A:$L,12,FALSE))","v":""}]
[381,{"$f":"IF(C381=\"\",\"\",MATCH(A381,check!A:A,0))","v":""},{"$f":"IF(ISERROR(VLOOKUP($A381,check!$A:$L,2,FALSE))=TRUE,\"\",VLOOKUP($A381,check!$A:$L,2,FALSE))","v":""},{"$f":"IF(ISERROR(VLOOKUP($A381,check!$A:$L,3,FALSE))=TRUE,\"\",VLOOKUP($A381,check!$A:$L,3,FALSE))","v":""},{"$f":"IF(ISERROR(VLOOKUP($A381,check!$A:$L,4,FALSE))=TRUE,\"\",VLOOKUP($A381,check!$A:$L,4,FALSE))","v":""},{"$f":"IF(ISERROR(VLOOKUP($A381,check!$A:$L,5,FALSE))=TRUE,\"\",VLOOKUP($A381,check!$A:$L,5,FALSE))","v":""},{"$f":"IF(ISERROR(VLOOKUP($A381,check!$A:$L,6,FALSE))=TRUE,\"\",VLOOKUP($A381,check!$A:$L,6,FALSE))","v":""},{"$f":"IF(ISERROR(VLOOKUP($A381,check!$A:$L,7,FALSE))=TRUE,\"\",VLOOKUP($A381,check!$A:$L,7,FALSE))","v":""},{"$f":"IF(ISERROR(VLOOKUP($A381,check!$A:$L,8,FALSE))=TRUE,\"\",VLOOKUP($A381,check!$A:$L,8,FALSE))","v":""},{"$f":"IF(ISERROR(VLOOKUP($A381,check!$A:$L,9,FALSE))=TRUE,\"\",VLOOKUP($A381,check!$A:$L,9,FALSE))","v":""},{"$f":"IF(ISERROR(VLOOKUP($A381,check!$A:$L,10,FALSE))=TRUE,\"\",VLOOKUP($A381,check!$A:$L,10,FALSE))","v":""},{"$f":"IF(ISERROR(VLOOKUP($A381,check!$A:$L,11,FALSE))=TRUE,\"\",VLOOKUP($A381,check!$A:$L,11,FALSE))","v":""},{"$f":"IF(ISERROR(VLOOKUP($A381,check!$A:$L,12,FALSE))=TRUE,\"\",VLOOKUP($A381,check!$A:$L,12,FALSE))","v":""}]
[382,{"$f":"IF(C382=\"\",\"\",MATCH(A382,check!A:A,0))","v":""},{"$f":"IF(ISERROR(VLOOKUP($A382,check!$A:$L,2,FALSE))=TRUE,\"\",VLOOKUP($A382,check!$A:$L,2,FALSE))","v":""},{"$f":"IF(ISERROR(VLOOKUP($A382,check!$A:$L,3,FALSE))=TRUE,\"\",VLOOKUP($A382,check!$A:$L,3,FALSE))","v":""},{"$f":"IF(ISERROR(VLOOKUP($A382,check!$A:$L,4,FALSE))=TRUE,\"\",VLOOKUP($A382,check!$A:$L,4,FALSE))","v":""},{"$f":"IF(ISERROR(VLOOKUP($A382,check!$A:$L,5,FALSE))=TRUE,\"\",VLOOKUP($A382,check!$A:$L,5,FALSE))","v":""},{"$f":"IF(ISERROR(VLOOKUP($A382,check!$A:$L,6,FALSE))=TRUE,\"\",VLOOKUP($A382,check!$A:$L,6,FALSE))","v":""},{"$f":"IF(ISERROR(VLOOKUP($A382,check!$A:$L,7,FALSE))=TRUE,\"\",VLOOKUP($A382,check!$A:$L,7,FALSE))","v":""},{"$f":"IF(ISERROR(VLOOKUP($A382,check!$A:$L,8,FALSE))=TRUE,\"\",VLOOKUP($A382,check!$A:$L,8,FALSE))","v":""},{"$f":"IF(ISERROR(VLOOKUP($A382,check!$A:$L,9,FALSE))=TRUE,\"\",VLOOKUP($A382,check!$A:$L,9,FALSE))","v":""},{"$f":"IF(ISERROR(VLOOKUP($A382,check!$A:$L,10,FALSE))=TRUE,\"\",VLOOKUP($A382,check!$A:$L,10,FALSE))","v":""},{"$f":"IF(ISERROR(VLOOKUP($A382,check!$A:$L,11,FALSE))=TRUE,\"\",VLOOKUP($A382,check!$A:$L,11,FALSE))","v":""},{"$f":"IF(ISERROR(VLOOKUP($A382,check!$A:$L,12,FALSE))=TRUE,\"\",VLOOKUP($A382,check!$A:$L,12,FALSE))","v":""}]
[383,{"$f":"IF(C383=\"\",\"\",MATCH(A383,check!A:A,0))","v":""},{"$f":"IF(ISERROR(VLOOKUP($A383,check!$A:$L,2,FALSE))=TRUE,\"\",VLOOKUP($A383,check!$A:$L,2,FALSE))","v":""},{"$f":"IF(ISERROR(VLOOKUP($A383,check!$A:$L,3,FALSE))=TRUE,\"\",VLOOKUP($A383,check!$A:$L,3,FALSE))","v":""},{"$f":"IF(ISERROR(VLOOKUP($A383,check!$A:$L,4,FALSE))=TRUE,\"\",VLOOKUP($A383,check!$A:$L,4,FALSE))","v":""},{"$f":"IF(ISERROR(VLOOKUP($A383,check!$A:$L,5,FALSE))=TRUE,\"\",VLOOKUP($A383,check!$A:$L,5,FALSE))","v":""},{"$f":"IF(ISERROR(VLOOKUP($A383,check!$A:$L,6,FALSE))=TRUE,\"\",VLOOKUP($A383,check!$A:$L,6,FALSE))","v":""},{"$f":"IF(ISERROR(VLOOKUP($A383,check!$A:$L,7,FALSE))=TRUE,\"\",VLOOKUP($A383,check!$A:$L,7,FALSE))","v":""},{"$f":"IF(ISERROR(VLOOKUP($A383,check!$A:$L,8,FALSE))=TRUE,\"\",VLOOKUP($A383,check!$A:$L,8,FALSE))","v":""},{"$f":"IF(ISERROR(VLOOKUP($A383,check!$A:$L,9,FALSE))=TRUE,\"\",VLOOKUP($A383,check!$A:$L,9,FALSE))","v":""},{"$f":"IF(ISERROR(VLOOKUP($A383,check!$A:$L,10,FALSE))=TRUE,\"\",VLOOKUP($A383,check!$A:$L,10,FALSE))","v":""},{"$f":"IF(ISERROR(VLOOKUP($A383,check!$A:$L,11,FALSE))=TRUE,\"\",VLOOKUP($A383,check!$A:$L,11,FALSE))","v":""},{"$f":"IF(ISERROR(VLOOKUP($A383,check!$A:$L,12,FALSE))=TRUE,\"\",VLOOKUP($A383,check!$A:$L,12,FALSE))","v":""}]
[384,{"$f":"IF(C384=\"\",\"\",MATCH(A384,check!A:A,0))","v":""},{"$f":"IF(ISERROR(VLOOKUP($A384,check!$A:$L,2,FALSE))=TRUE,\"\",VLOOKUP($A384,check!$A:$L,2,FALSE))","v":""},{"$f":"IF(ISERROR(VLOOKUP($A384,check!$A:$L,3,FALSE))=TRUE,\"\",VLOOKUP($A384,check!$A:$L,3,FALSE))","v":""},{"$f":"IF(ISERROR(VLOOKUP($A384,check!$A:$L,4,FALSE))=TRUE,\"\",VLOOKUP($A384,check!$A:$L,4,FALSE))","v":""},{"$f":"IF(ISERROR(VLOOKUP($A384,check!$A:$L,5,FALSE))=TRUE,\"\",VLOOKUP($A384,check!$A:$L,5,FALSE))","v":""},{"$f":"IF(ISERROR(VLOOKUP($A384,check!$A:$L,6,FALSE))=TRUE,\"\",VLOOKUP($A384,check!$A:$L,6,FALSE))","v":""},{"$f":"IF(ISERROR(VLOOKUP($A384,check!$A:$L,7,FALSE))=TRUE,\"\",VLOOKUP($A384,check!$A:$L,7,FALSE))","v":""},{"$f":"IF(ISERROR(VLOOKUP($A384,check!$A:$L,8,FALSE))=TRUE,\"\",VLOOKUP($A384,check!$A:$L,8,FALSE))","v":""},{"$f":"IF(ISERROR(VLOOKUP($A384,check!$A:$L,9,FALSE))=TRUE,\"\",VLOOKUP($A384,check!$A:$L,9,FALSE))","v":""},{"$f":"IF(ISERROR(VLOOKUP($A384,check!$A:$L,10,FALSE))=TRUE,\"\",VLOOKUP($A384,check!$A:$L,10,FALSE))","v":""},{"$f":"IF(ISERROR(VLOOKUP($A384,check!$A:$L,11,FALSE))=TRUE,\"\",VLOOKUP($A384,check!$A:$L,11,FALSE))","v":""},{"$f":"IF(ISERROR(VLOOKUP($A384,check!$A:$L,12,FALSE))=TRUE,\"\",VLOOKUP($A384,check!$A:$L,12,FALSE))","v":""}]
[385,{"$f":"IF(C385=\"\",\"\",MATCH(A385,check!A:A,0))","v":""},{"$f":"IF(ISERROR(VLOOKUP($A385,check!$A:$L,2,FALSE))=TRUE,\"\",VLOOKUP($A385,check!$A:$L,2,FALSE))","v":""},{"$f":"IF(ISERROR(VLOOKUP($A385,check!$A:$L,3,FALSE))=TRUE,\"\",VLOOKUP($A385,check!$A:$L,3,FALSE))","v":""},{"$f":"IF(ISERROR(VLOOKUP($A385,check!$A:$L,4,FALSE))=TRUE,\"\",VLOOKUP($A385,check!$A:$L,4,FALSE))","v":""},{"$f":"IF(ISERROR(VLOOKUP($A385,check!$A:$L,5,FALSE))=TRUE,\"\",VLOOKUP($A385,check!$A:$L,5,FALSE))","v":""},{"$f":"IF(ISERROR(VLOOKUP($A385,check!$A:$L,6,FALSE))=TRUE,\"\",VLOOKUP($A385,check!$A:$L,6,FALSE))","v":""},{"$f":"IF(ISERROR(VLOOKUP($A385,check!$A:$L,7,FALSE))=TRUE,\"\",VLOOKUP($A385,check!$A:$L,7,FALSE))","v":""},{"$f":"IF(ISERROR(VLOOKUP($A385,check!$A:$L,8,FALSE))=TRUE,\"\",VLOOKUP($A385,check!$A:$L,8,FALSE))","v":""},{"$f":"IF(ISERROR(VLOOKUP($A385,check!$A:$L,9,FALSE))=TRUE,\"\",VLOOKUP($A385,check!$A:$L,9,FALSE))","v":""},{"$f":"IF(ISERROR(VLOOKUP($A385,check!$A:$L,10,FALSE))=TRUE,\"\",VLOOKUP($A385,check!$A:$L,10,FALSE))","v":""},{"$f":"IF(ISERROR(VLOOKUP($A385,check!$A:$L,11,FALSE))=TRUE,\"\",VLOOKUP($A385,check!$A:$L,11,FALSE))","v":""},{"$f":"IF(ISERROR(VLOOKUP($A385,check!$A:$L,12,FALSE))=TRUE,\"\",VLOOKUP($A385,check!$A:$L,12,FALSE))","v":""}]
[386,{"$f":"IF(C386=\"\",\"\",MATCH(A386,check!A:A,0))","v":""},{"$f":"IF(ISERROR(VLOOKUP($A386,check!$A:$L,2,FALSE))=TRUE,\"\",VLOOKUP($A386,check!$A:$L,2,FALSE))","v":""},{"$f":"IF(ISERROR(VLOOKUP($A386,check!$A:$L,3,FALSE))=TRUE,\"\",VLOOKUP($A386,check!$A:$L,3,FALSE))","v":""},{"$f":"IF(ISERROR(VLOOKUP($A386,check!$A:$L,4,FALSE))=TRUE,\"\",VLOOKUP($A386,check!$A:$L,4,FALSE))","v":""},{"$f":"IF(ISERROR(VLOOKUP($A386,check!$A:$L,5,FALSE))=TRUE,\"\",VLOOKUP($A386,check!$A:$L,5,FALSE))","v":""},{"$f":"IF(ISERROR(VLOOKUP($A386,check!$A:$L,6,FALSE))=TRUE,\"\",VLOOKUP($A386,check!$A:$L,6,FALSE))","v":""},{"$f":"IF(ISERROR(VLOOKUP($A386,check!$A:$L,7,FALSE))=TRUE,\"\",VLOOKUP($A386,check!$A:$L,7,FALSE))","v":""},{"$f":"IF(ISERROR(VLOOKUP($A386,check!$A:$L,8,FALSE))=TRUE,\"\",VLOOKUP($A386,check!$A:$L,8,FALSE))","v":""},{"$f":"IF(ISERROR(VLOOKUP($A386,check!$A:$L,9,FALSE))=TRUE,\"\",VLOOKUP($A386,check!$A:$L,9,FALSE))","v":""},{"$f":"IF(ISERROR(VLOOKUP($A386,check!$A:$L,10,FALSE))=TRUE,\"\",VLOOKUP($A386,check!$A:$L,10,FALSE))","v":""},{"$f":"IF(ISERROR(VLOOKUP($A386,check!$A:$L,11,FALSE))=TRUE,\"\",VLOOKUP($A386,check!$A:$L,11,FALSE))","v":""},{"$f":"IF(ISERROR(VLOOKUP($A386,check!$A:$L,12,FALSE))=TRUE,\"\",VLOOKUP($A386,check!$A:$L,12,FALSE))","v":""}]
[387,{"$f":"IF(C387=\"\",\"\",MATCH(A387,check!A:A,0))","v":""},{"$f":"IF(ISERROR(VLOOKUP($A387,check!$A:$L,2,FALSE))=TRUE,\"\",VLOOKUP($A387,check!$A:$L,2,FALSE))","v":""},{"$f":"IF(ISERROR(VLOOKUP($A387,check!$A:$L,3,FALSE))=TRUE,\"\",VLOOKUP($A387,check!$A:$L,3,FALSE))","v":""},{"$f":"IF(ISERROR(VLOOKUP($A387,check!$A:$L,4,FALSE))=TRUE,\"\",VLOOKUP($A387,check!$A:$L,4,FALSE))","v":""},{"$f":"IF(ISERROR(VLOOKUP($A387,check!$A:$L,5,FALSE))=TRUE,\"\",VLOOKUP($A387,check!$A:$L,5,FALSE))","v":""},{"$f":"IF(ISERROR(VLOOKUP($A387,check!$A:$L,6,FALSE))=TRUE,\"\",VLOOKUP($A387,check!$A:$L,6,FALSE))","v":""},{"$f":"IF(ISERROR(VLOOKUP($A387,check!$A:$L,7,FALSE))=TRUE,\"\",VLOOKUP($A387,check!$A:$L,7,FALSE))","v":""},{"$f":"IF(ISERROR(VLOOKUP($A387,check!$A:$L,8,FALSE))=TRUE,\"\",VLOOKUP($A387,check!$A:$L,8,FALSE))","v":""},{"$f":"IF(ISERROR(VLOOKUP($A387,check!$A:$L,9,FALSE))=TRUE,\"\",VLOOKUP($A387,check!$A:$L,9,FALSE))","v":""},{"$f":"IF(ISERROR(VLOOKUP($A387,check!$A:$L,10,FALSE))=TRUE,\"\",VLOOKUP($A387,check!$A:$L,10,FALSE))","v":""},{"$f":"IF(ISERROR(VLOOKUP($A387,check!$A:$L,11,FALSE))=TRUE,\"\",VLOOKUP($A387,check!$A:$L,11,FALSE))","v":""},{"$f":"IF(ISERROR(VLOOKUP($A387,check!$A:$L,12,FALSE))=TRUE,\"\",VLOOKUP($A387,check!$A:$L,12,FALSE))","v":""}]
[{"$f":"A387+1","v":388},{"$f":"IF(C388=\"\",\"\",MATCH(A388,check!A:A,0))","v":""},{"$f":"IF(ISERROR(VLOOKUP($A388,check!$A:$L,2,FALSE))=TRUE,\"\",VLOOKUP($A388,check!$A:$L,2,FALSE))","v":""},{"$f":"IF(ISERROR(VLOOKUP($A388,check!$A:$L,3,FALSE))=TRUE,\"\",VLOOKUP($A388,check!$A:$L,3,FALSE))","v":""},{"$f":"IF(ISERROR(VLOOKUP($A388,check!$A:$L,4,FALSE))=TRUE,\"\",VLOOKUP($A388,check!$A:$L,4,FALSE))","v":""},{"$f":"IF(ISERROR(VLOOKUP($A388,check!$A:$L,5,FALSE))=TRUE,\"\",VLOOKUP($A388,check!$A:$L,5,FALSE))","v":""},{"$f":"IF(ISERROR(VLOOKUP($A388,check!$A:$L,6,FALSE))=TRUE,\"\",VLOOKUP($A388,check!$A:$L,6,FALSE))","v":""},{"$f":"IF(ISERROR(VLOOKUP($A388,check!$A:$L,7,FALSE))=TRUE,\"\",VLOOKUP($A388,check!$A:$L,7,FALSE))","v":""},{"$f":"IF(ISERROR(VLOOKUP($A388,check!$A:$L,8,FALSE))=TRUE,\"\",VLOOKUP($A388,check!$A:$L,8,FALSE))","v":""},{"$f":"IF(ISERROR(VLOOKUP($A388,check!$A:$L,9,FALSE))=TRUE,\"\",VLOOKUP($A388,check!$A:$L,9,FALSE))","v":""},{"$f":"IF(ISERROR(VLOOKUP($A388,check!$A:$L,10,FALSE))=TRUE,\"\",VLOOKUP($A388,check!$A:$L,10,FALSE))","v":""},{"$f":"IF(ISERROR(VLOOKUP($A388,check!$A:$L,11,FALSE))=TRUE,\"\",VLOOKUP($A388,check!$A:$L,11,FALSE))","v":""},{"$f":"IF(ISERROR(VLOOKUP($A388,check!$A:$L,12,FALSE))=TRUE,\"\",VLOOKUP($A388,check!$A:$L,12,FALSE))","v":""}]
[389,{"$f":"IF(C389=\"\",\"\",MATCH(A389,check!A:A,0))","v":""},{"$f":"IF(ISERROR(VLOOKUP($A389,check!$A:$L,2,FALSE))=TRUE,\"\",VLOOKUP($A389,check!$A:$L,2,FALSE))","v":""},{"$f":"IF(ISERROR(VLOOKUP($A389,check!$A:$L,3,FALSE))=TRUE,\"\",VLOOKUP($A389,check!$A:$L,3,FALSE))","v":""},{"$f":"IF(ISERROR(VLOOKUP($A389,check!$A:$L,4,FALSE))=TRUE,\"\",VLOOKUP($A389,check!$A:$L,4,FALSE))","v":""},{"$f":"IF(ISERROR(VLOOKUP($A389,check!$A:$L,5,FALSE))=TRUE,\"\",VLOOKUP($A389,check!$A:$L,5,FALSE))","v":""},{"$f":"IF(ISERROR(VLOOKUP($A389,check!$A:$L,6,FALSE))=TRUE,\"\",VLOOKUP($A389,check!$A:$L,6,FALSE))","v":""},{"$f":"IF(ISERROR(VLOOKUP($A389,check!$A:$L,7,FALSE))=TRUE,\"\",VLOOKUP($A389,check!$A:$L,7,FALSE))","v":""},{"$f":"IF(ISERROR(VLOOKUP($A389,check!$A:$L,8,FALSE))=TRUE,\"\",VLOOKUP($A389,check!$A:$L,8,FALSE))","v":""},{"$f":"IF(ISERROR(VLOOKUP($A389,check!$A:$L,9,FALSE))=TRUE,\"\",VLOOKUP($A389,check!$A:$L,9,FALSE))","v":""},{"$f":"IF(ISERROR(VLOOKUP($A389,check!$A:$L,10,FALSE))=TRUE,\"\",VLOOKUP($A389,check!$A:$L,10,FALSE))","v":""},{"$f":"IF(ISERROR(VLOOKUP($A389,check!$A:$L,11,FALSE))=TRUE,\"\",VLOOKUP($A389,check!$A:$L,11,FALSE))","v":""},{"$f":"IF(ISERROR(VLOOKUP($A389,check!$A:$L,12,FALSE))=TRUE,\"\",VLOOKUP($A389,check!$A:$L,12,FALSE))","v":""}]
[390,{"$f":"IF(C390=\"\",\"\",MATCH(A390,check!A:A,0))","v":""},{"$f":"IF(ISERROR(VLOOKUP($A390,check!$A:$L,2,FALSE))=TRUE,\"\",VLOOKUP($A390,check!$A:$L,2,FALSE))","v":""},{"$f":"IF(ISERROR(VLOOKUP($A390,check!$A:$L,3,FALSE))=TRUE,\"\",VLOOKUP($A390,check!$A:$L,3,FALSE))","v":""},{"$f":"IF(ISERROR(VLOOKUP($A390,check!$A:$L,4,FALSE))=TRUE,\"\",VLOOKUP($A390,check!$A:$L,4,FALSE))","v":""},{"$f":"IF(ISERROR(VLOOKUP($A390,check!$A:$L,5,FALSE))=TRUE,\"\",VLOOKUP($A390,check!$A:$L,5,FALSE))","v":""},{"$f":"IF(ISERROR(VLOOKUP($A390,check!$A:$L,6,FALSE))=TRUE,\"\",VLOOKUP($A390,check!$A:$L,6,FALSE))","v":""},{"$f":"IF(ISERROR(VLOOKUP($A390,check!$A:$L,7,FALSE))=TRUE,\"\",VLOOKUP($A390,check!$A:$L,7,FALSE))","v":""},{"$f":"IF(ISERROR(VLOOKUP($A390,check!$A:$L,8,FALSE))=TRUE,\"\",VLOOKUP($A390,check!$A:$L,8,FALSE))","v":""},{"$f":"IF(ISERROR(VLOOKUP($A390,check!$A:$L,9,FALSE))=TRUE,\"\",VLOOKUP($A390,check!$A:$L,9,FALSE))","v":""},{"$f":"IF(ISERROR(VLOOKUP($A390,check!$A:$L,10,FALSE))=TRUE,\"\",VLOOKUP($A390,check!$A:$L,10,FALSE))","v":""},{"$f":"IF(ISERROR(VLOOKUP($A390,check!$A:$L,11,FALSE))=TRUE,\"\",VLOOKUP($A390,check!$A:$L,11,FALSE))","v":""},{"$f":"IF(ISERROR(VLOOKUP($A390,check!$A:$L,12,FALSE))=TRUE,\"\",VLOOKUP($A390,check!$A:$L,12,FALSE))","v":""}]
[391,{"$f":"IF(C391=\"\",\"\",MATCH(A391,check!A:A,0))","v":""},{"$f":"IF(ISERROR(VLOOKUP($A391,check!$A:$L,2,FALSE))=TRUE,\"\",VLOOKUP($A391,check!$A:$L,2,FALSE))","v":""},{"$f":"IF(ISERROR(VLOOKUP($A391,check!$A:$L,3,FALSE))=TRUE,\"\",VLOOKUP($A391,check!$A:$L,3,FALSE))","v":""},{"$f":"IF(ISERROR(VLOOKUP($A391,check!$A:$L,4,FALSE))=TRUE,\"\",VLOOKUP($A391,check!$A:$L,4,FALSE))","v":""},{"$f":"IF(ISERROR(VLOOKUP($A391,check!$A:$L,5,FALSE))=TRUE,\"\",VLOOKUP($A391,check!$A:$L,5,FALSE))","v":""},{"$f":"IF(ISERROR(VLOOKUP($A391,check!$A:$L,6,FALSE))=TRUE,\"\",VLOOKUP($A391,check!$A:$L,6,FALSE))","v":""},{"$f":"IF(ISERROR(VLOOKUP($A391,check!$A:$L,7,FALSE))=TRUE,\"\",VLOOKUP($A391,check!$A:$L,7,FALSE))","v":""},{"$f":"IF(ISERROR(VLOOKUP($A391,check!$A:$L,8,FALSE))=TRUE,\"\",VLOOKUP($A391,check!$A:$L,8,FALSE))","v":""},{"$f":"IF(ISERROR(VLOOKUP($A391,check!$A:$L,9,FALSE))=TRUE,\"\",VLOOKUP($A391,check!$A:$L,9,FALSE))","v":""},{"$f":"IF(ISERROR(VLOOKUP($A391,check!$A:$L,10,FALSE))=TRUE,\"\",VLOOKUP($A391,check!$A:$L,10,FALSE))","v":""},{"$f":"IF(ISERROR(VLOOKUP($A391,check!$A:$L,11,FALSE))=TRUE,\"\",VLOOKUP($A391,check!$A:$L,11,FALSE))","v":""},{"$f":"IF(ISERROR(VLOOKUP($A391,check!$A:$L,12,FALSE))=TRUE,\"\",VLOOKUP($A391,check!$A:$L,12,FALSE))","v":""}]
[392,{"$f":"IF(C392=\"\",\"\",MATCH(A392,check!A:A,0))","v":""},{"$f":"IF(ISERROR(VLOOKUP($A392,check!$A:$L,2,FALSE))=TRUE,\"\",VLOOKUP($A392,check!$A:$L,2,FALSE))","v":""},{"$f":"IF(ISERROR(VLOOKUP($A392,check!$A:$L,3,FALSE))=TRUE,\"\",VLOOKUP($A392,check!$A:$L,3,FALSE))","v":""},{"$f":"IF(ISERROR(VLOOKUP($A392,check!$A:$L,4,FALSE))=TRUE,\"\",VLOOKUP($A392,check!$A:$L,4,FALSE))","v":""},{"$f":"IF(ISERROR(VLOOKUP($A392,check!$A:$L,5,FALSE))=TRUE,\"\",VLOOKUP($A392,check!$A:$L,5,FALSE))","v":""},{"$f":"IF(ISERROR(VLOOKUP($A392,check!$A:$L,6,FALSE))=TRUE,\"\",VLOOKUP($A392,check!$A:$L,6,FALSE))","v":""},{"$f":"IF(ISERROR(VLOOKUP($A392,check!$A:$L,7,FALSE))=TRUE,\"\",VLOOKUP($A392,check!$A:$L,7,FALSE))","v":""},{"$f":"IF(ISERROR(VLOOKUP($A392,check!$A:$L,8,FALSE))=TRUE,\"\",VLOOKUP($A392,check!$A:$L,8,FALSE))","v":""},{"$f":"IF(ISERROR(VLOOKUP($A392,check!$A:$L,9,FALSE))=TRUE,\"\",VLOOKUP($A392,check!$A:$L,9,FALSE))","v":""},{"$f":"IF(ISERROR(VLOOKUP($A392,check!$A:$L,10,FALSE))=TRUE,\"\",VLOOKUP($A392,check!$A:$L,10,FALSE))","v":""},{"$f":"IF(ISERROR(VLOOKUP($A392,check!$A:$L,11,FALSE))=TRUE,\"\",VLOOKUP($A392,check!$A:$L,11,FALSE))","v":""},{"$f":"IF(ISERROR(VLOOKUP($A392,check!$A:$L,12,FALSE))=TRUE,\"\",VLOOKUP($A392,check!$A:$L,12,FALSE))","v":""}]
[393,{"$f":"IF(C393=\"\",\"\",MATCH(A393,check!A:A,0))","v":""},{"$f":"IF(ISERROR(VLOOKUP($A393,check!$A:$L,2,FALSE))=TRUE,\"\",VLOOKUP($A393,check!$A:$L,2,FALSE))","v":""},{"$f":"IF(ISERROR(VLOOKUP($A393,check!$A:$L,3,FALSE))=TRUE,\"\",VLOOKUP($A393,check!$A:$L,3,FALSE))","v":""},{"$f":"IF(ISERROR(VLOOKUP($A393,check!$A:$L,4,FALSE))=TRUE,\"\",VLOOKUP($A393,check!$A:$L,4,FALSE))","v":""},{"$f":"IF(ISERROR(VLOOKUP($A393,check!$A:$L,5,FALSE))=TRUE,\"\",VLOOKUP($A393,check!$A:$L,5,FALSE))","v":""},{"$f":"IF(ISERROR(VLOOKUP($A393,check!$A:$L,6,FALSE))=TRUE,\"\",VLOOKUP($A393,check!$A:$L,6,FALSE))","v":""},{"$f":"IF(ISERROR(VLOOKUP($A393,check!$A:$L,7,FALSE))=TRUE,\"\",VLOOKUP($A393,check!$A:$L,7,FALSE))","v":""},{"$f":"IF(ISERROR(VLOOKUP($A393,check!$A:$L,8,FALSE))=TRUE,\"\",VLOOKUP($A393,check!$A:$L,8,FALSE))","v":""},{"$f":"IF(ISERROR(VLOOKUP($A393,check!$A:$L,9,FALSE))=TRUE,\"\",VLOOKUP($A393,check!$A:$L,9,FALSE))","v":""},{"$f":"IF(ISERROR(VLOOKUP($A393,check!$A:$L,10,FALSE))=TRUE,\"\",VLOOKUP($A393,check!$A:$L,10,FALSE))","v":""},{"$f":"IF(ISERROR(VLOOKUP($A393,check!$A:$L,11,FALSE))=TRUE,\"\",VLOOKUP($A393,check!$A:$L,11,FALSE))","v":""},{"$f":"IF(ISERROR(VLOOKUP($A393,check!$A:$L,12,FALSE))=TRUE,\"\",VLOOKUP($A393,check!$A:$L,12,FALSE))","v":""}]
[394,{"$f":"IF(C394=\"\",\"\",MATCH(A394,check!A:A,0))","v":""},{"$f":"IF(ISERROR(VLOOKUP($A394,check!$A:$L,2,FALSE))=TRUE,\"\",VLOOKUP($A394,check!$A:$L,2,FALSE))","v":""},{"$f":"IF(ISERROR(VLOOKUP($A394,check!$A:$L,3,FALSE))=TRUE,\"\",VLOOKUP($A394,check!$A:$L,3,FALSE))","v":""},{"$f":"IF(ISERROR(VLOOKUP($A394,check!$A:$L,4,FALSE))=TRUE,\"\",VLOOKUP($A394,check!$A:$L,4,FALSE))","v":""},{"$f":"IF(ISERROR(VLOOKUP($A394,check!$A:$L,5,FALSE))=TRUE,\"\",VLOOKUP($A394,check!$A:$L,5,FALSE))","v":""},{"$f":"IF(ISERROR(VLOOKUP($A394,check!$A:$L,6,FALSE))=TRUE,\"\",VLOOKUP($A394,check!$A:$L,6,FALSE))","v":""},{"$f":"IF(ISERROR(VLOOKUP($A394,check!$A:$L,7,FALSE))=TRUE,\"\",VLOOKUP($A394,check!$A:$L,7,FALSE))","v":""},{"$f":"IF(ISERROR(VLOOKUP($A394,check!$A:$L,8,FALSE))=TRUE,\"\",VLOOKUP($A394,check!$A:$L,8,FALSE))","v":""},{"$f":"IF(ISERROR(VLOOKUP($A394,check!$A:$L,9,FALSE))=TRUE,\"\",VLOOKUP($A394,check!$A:$L,9,FALSE))","v":""},{"$f":"IF(ISERROR(VLOOKUP($A394,check!$A:$L,10,FALSE))=TRUE,\"\",VLOOKUP($A394,check!$A:$L,10,FALSE))","v":""},{"$f":"IF(ISERROR(VLOOKUP($A394,check!$A:$L,11,FALSE))=TRUE,\"\",VLOOKUP($A394,check!$A:$L,11,FALSE))","v":""},{"$f":"IF(ISERROR(VLOOKUP($A394,check!$A:$L,12,FALSE))=TRUE,\"\",VLOOKUP($A394,check!$A:$L,12,FALSE))","v":""}]
[395,{"$f":"IF(C395=\"\",\"\",MATCH(A395,check!A:A,0))","v":""},{"$f":"IF(ISERROR(VLOOKUP($A395,check!$A:$L,2,FALSE))=TRUE,\"\",VLOOKUP($A395,check!$A:$L,2,FALSE))","v":""},{"$f":"IF(ISERROR(VLOOKUP($A395,check!$A:$L,3,FALSE))=TRUE,\"\",VLOOKUP($A395,check!$A:$L,3,FALSE))","v":""},{"$f":"IF(ISERROR(VLOOKUP($A395,check!$A:$L,4,FALSE))=TRUE,\"\",VLOOKUP($A395,check!$A:$L,4,FALSE))","v":""},{"$f":"IF(ISERROR(VLOOKUP($A395,check!$A:$L,5,FALSE))=TRUE,\"\",VLOOKUP($A395,check!$A:$L,5,FALSE))","v":""},{"$f":"IF(ISERROR(VLOOKUP($A395,check!$A:$L,6,FALSE))=TRUE,\"\",VLOOKUP($A395,check!$A:$L,6,FALSE))","v":""},{"$f":"IF(ISERROR(VLOOKUP($A395,check!$A:$L,7,FALSE))=TRUE,\"\",VLOOKUP($A395,check!$A:$L,7,FALSE))","v":""},{"$f":"IF(ISERROR(VLOOKUP($A395,check!$A:$L,8,FALSE))=TRUE,\"\",VLOOKUP($A395,check!$A:$L,8,FALSE))","v":""},{"$f":"IF(ISERROR(VLOOKUP($A395,check!$A:$L,9,FALSE))=TRUE,\"\",VLOOKUP($A395,check!$A:$L,9,FALSE))","v":""},{"$f":"IF(ISERROR(VLOOKUP($A395,check!$A:$L,10,FALSE))=TRUE,\"\",VLOOKUP($A395,check!$A:$L,10,FALSE))","v":""},{"$f":"IF(ISERROR(VLOOKUP($A395,check!$A:$L,11,FALSE))=TRUE,\"\",VLOOKUP($A395,check!$A:$L,11,FALSE))","v":""},{"$f":"IF(ISERROR(VLOOKUP($A395,check!$A:$L,12,FALSE))=TRUE,\"\",VLOOKUP($A395,check!$A:$L,12,FALSE))","v":""}]
[396,{"$f":"IF(C396=\"\",\"\",MATCH(A396,check!A:A,0))","v":""},{"$f":"IF(ISERROR(VLOOKUP($A396,check!$A:$L,2,FALSE))=TRUE,\"\",VLOOKUP($A396,check!$A:$L,2,FALSE))","v":""},{"$f":"IF(ISERROR(VLOOKUP($A396,check!$A:$L,3,FALSE))=TRUE,\"\",VLOOKUP($A396,check!$A:$L,3,FALSE))","v":""},{"$f":"IF(ISERROR(VLOOKUP($A396,check!$A:$L,4,FALSE))=TRUE,\"\",VLOOKUP($A396,check!$A:$L,4,FALSE))","v":""},{"$f":"IF(ISERROR(VLOOKUP($A396,check!$A:$L,5,FALSE))=TRUE,\"\",VLOOKUP($A396,check!$A:$L,5,FALSE))","v":""},{"$f":"IF(ISERROR(VLOOKUP($A396,check!$A:$L,6,FALSE))=TRUE,\"\",VLOOKUP($A396,check!$A:$L,6,FALSE))","v":""},{"$f":"IF(ISERROR(VLOOKUP($A396,check!$A:$L,7,FALSE))=TRUE,\"\",VLOOKUP($A396,check!$A:$L,7,FALSE))","v":""},{"$f":"IF(ISERROR(VLOOKUP($A396,check!$A:$L,8,FALSE))=TRUE,\"\",VLOOKUP($A396,check!$A:$L,8,FALSE))","v":""},{"$f":"IF(ISERROR(VLOOKUP($A396,check!$A:$L,9,FALSE))=TRUE,\"\",VLOOKUP($A396,check!$A:$L,9,FALSE))","v":""},{"$f":"IF(ISERROR(VLOOKUP($A396,check!$A:$L,10,FALSE))=TRUE,\"\",VLOOKUP($A396,check!$A:$L,10,FALSE))","v":""},{"$f":"IF(ISERROR(VLOOKUP($A396,check!$A:$L,11,FALSE))=TRUE,\"\",VLOOKUP($A396,check!$A:$L,11,FALSE))","v":""},{"$f":"IF(ISERROR(VLOOKUP($A396,check!$A:$L,12,FALSE))=TRUE,\"\",VLOOKUP($A396,check!$A:$L,12,FALSE))","v":""}]
[397,{"$f":"IF(C397=\"\",\"\",MATCH(A397,check!A:A,0))","v":""},{"$f":"IF(ISERROR(VLOOKUP($A397,check!$A:$L,2,FALSE))=TRUE,\"\",VLOOKUP($A397,check!$A:$L,2,FALSE))","v":""},{"$f":"IF(ISERROR(VLOOKUP($A397,check!$A:$L,3,FALSE))=TRUE,\"\",VLOOKUP($A397,check!$A:$L,3,FALSE))","v":""},{"$f":"IF(ISERROR(VLOOKUP($A397,check!$A:$L,4,FALSE))=TRUE,\"\",VLOOKUP($A397,check!$A:$L,4,FALSE))","v":""},{"$f":"IF(ISERROR(VLOOKUP($A397,check!$A:$L,5,FALSE))=TRUE,\"\",VLOOKUP($A397,check!$A:$L,5,FALSE))","v":""},{"$f":"IF(ISERROR(VLOOKUP($A397,check!$A:$L,6,FALSE))=TRUE,\"\",VLOOKUP($A397,check!$A:$L,6,FALSE))","v":""},{"$f":"IF(ISERROR(VLOOKUP($A397,check!$A:$L,7,FALSE))=TRUE,\"\",VLOOKUP($A397,check!$A:$L,7,FALSE))","v":""},{"$f":"IF(ISERROR(VLOOKUP($A397,check!$A:$L,8,FALSE))=TRUE,\"\",VLOOKUP($A397,check!$A:$L,8,FALSE))","v":""},{"$f":"IF(ISERROR(VLOOKUP($A397,check!$A:$L,9,FALSE))=TRUE,\"\",VLOOKUP($A397,check!$A:$L,9,FALSE))","v":""},{"$f":"IF(ISERROR(VLOOKUP($A397,check!$A:$L,10,FALSE))=TRUE,\"\",VLOOKUP($A397,check!$A:$L,10,FALSE))","v":""},{"$f":"IF(ISERROR(VLOOKUP($A397,check!$A:$L,11,FALSE))=TRUE,\"\",VLOOKUP($A397,check!$A:$L,11,FALSE))","v":""},{"$f":"IF(ISERROR(VLOOKUP($A397,check!$A:$L,12,FALSE))=TRUE,\"\",VLOOKUP($A397,check!$A:$L,12,FALSE))","v":""}]
[398,{"$f":"IF(C398=\"\",\"\",MATCH(A398,check!A:A,0))","v":""},{"$f":"IF(ISERROR(VLOOKUP($A398,check!$A:$L,2,FALSE))=TRUE,\"\",VLOOKUP($A398,check!$A:$L,2,FALSE))","v":""},{"$f":"IF(ISERROR(VLOOKUP($A398,check!$A:$L,3,FALSE))=TRUE,\"\",VLOOKUP($A398,check!$A:$L,3,FALSE))","v":""},{"$f":"IF(ISERROR(VLOOKUP($A398,check!$A:$L,4,FALSE))=TRUE,\"\",VLOOKUP($A398,check!$A:$L,4,FALSE))","v":""},{"$f":"IF(ISERROR(VLOOKUP($A398,check!$A:$L,5,FALSE))=TRUE,\"\",VLOOKUP($A398,check!$A:$L,5,FALSE))","v":""},{"$f":"IF(ISERROR(VLOOKUP($A398,check!$A:$L,6,FALSE))=TRUE,\"\",VLOOKUP($A398,check!$A:$L,6,FALSE))","v":""},{"$f":"IF(ISERROR(VLOOKUP($A398,check!$A:$L,7,FALSE))=TRUE,\"\",VLOOKUP($A398,check!$A:$L,7,FALSE))","v":""},{"$f":"IF(ISERROR(VLOOKUP($A398,check!$A:$L,8,FALSE))=TRUE,\"\",VLOOKUP($A398,check!$A:$L,8,FALSE))","v":""},{"$f":"IF(ISERROR(VLOOKUP($A398,check!$A:$L,9,FALSE))=TRUE,\"\",VLOOKUP($A398,check!$A:$L,9,FALSE))","v":""},{"$f":"IF(ISERROR(VLOOKUP($A398,check!$A:$L,10,FALSE))=TRUE,\"\",VLOOKUP($A398,check!$A:$L,10,FALSE))","v":""},{"$f":"IF(ISERROR(VLOOKUP($A398,check!$A:$L,11,FALSE))=TRUE,\"\",VLOOKUP($A398,check!$A:$L,11,FALSE))","v":""},{"$f":"IF(ISERROR(VLOOKUP($A398,check!$A:$L,12,FALSE))=TRUE,\"\",VLOOKUP($A398,check!$A:$L,12,FALSE))","v":""}]
[399,{"$f":"IF(C399=\"\",\"\",MATCH(A399,check!A:A,0))","v":""},{"$f":"IF(ISERROR(VLOOKUP($A399,check!$A:$L,2,FALSE))=TRUE,\"\",VLOOKUP($A399,check!$A:$L,2,FALSE))","v":""},{"$f":"IF(ISERROR(VLOOKUP($A399,check!$A:$L,3,FALSE))=TRUE,\"\",VLOOKUP($A399,check!$A:$L,3,FALSE))","v":""},{"$f":"IF(ISERROR(VLOOKUP($A399,check!$A:$L,4,FALSE))=TRUE,\"\",VLOOKUP($A399,check!$A:$L,4,FALSE))","v":""},{"$f":"IF(ISERROR(VLOOKUP($A399,check!$A:$L,5,FALSE))=TRUE,\"\",VLOOKUP($A399,check!$A:$L,5,FALSE))","v":""},{"$f":"IF(ISERROR(VLOOKUP($A399,check!$A:$L,6,FALSE))=TRUE,\"\",VLOOKUP($A399,check!$A:$L,6,FALSE))","v":""},{"$f":"IF(ISERROR(VLOOKUP($A399,check!$A:$L,7,FALSE))=TRUE,\"\",VLOOKUP($A399,check!$A:$L,7,FALSE))","v":""},{"$f":"IF(ISERROR(VLOOKUP($A399,check!$A:$L,8,FALSE))=TRUE,\"\",VLOOKUP($A399,check!$A:$L,8,FALSE))","v":""},{"$f":"IF(ISERROR(VLOOKUP($A399,check!$A:$L,9,FALSE))=TRUE,\"\",VLOOKUP($A399,check!$A:$L,9,FALSE))","v":""},{"$f":"IF(ISERROR(VLOOKUP($A399,check!$A:$L,10,FALSE))=TRUE,\"\",VLOOKUP($A399,check!$A:$L,10,FALSE))","v":""},{"$f":"IF(ISERROR(VLOOKUP($A399,check!$A:$L,11,FALSE))=TRUE,\"\",VLOOKUP($A399,check!$A:$L,11,FALSE))","v":""},{"$f":"IF(ISERROR(VLOOKUP($A399,check!$A:$L,12,FALSE))=TRUE,\"\",VLOOKUP($A399,check!$A:$L,12,FALSE))","v":""}]
[400,{"$f":"IF(C400=\"\",\"\",MATCH(A400,check!A:A,0))","v":""},{"$f":"IF(ISERROR(VLOOKUP($A400,check!$A:$L,2,FALSE))=TRUE,\"\",VLOOKUP($A400,check!$A:$L,2,FALSE))","v":""},{"$f":"IF(ISERROR(VLOOKUP($A400,check!$A:$L,3,FALSE))=TRUE,\"\",VLOOKUP($A400,check!$A:$L,3,FALSE))","v":""},{"$f":"IF(ISERROR(VLOOKUP($A400,check!$A:$L,4,FALSE))=TRUE,\"\",VLOOKUP($A400,check!$A:$L,4,FALSE))","v":""},{"$f":"IF(ISERROR(VLOOKUP($A400,check!$A:$L,5,FALSE))=TRUE,\"\",VLOOKUP($A400,check!$A:$L,5,FALSE))","v":""},{"$f":"IF(ISERROR(VLOOKUP($A400,check!$A:$L,6,FALSE))=TRUE,\"\",VLOOKUP($A400,check!$A:$L,6,FALSE))","v":""},{"$f":"IF(ISERROR(VLOOKUP($A400,check!$A:$L,7,FALSE))=TRUE,\"\",VLOOKUP($A400,check!$A:$L,7,FALSE))","v":""},{"$f":"IF(ISERROR(VLOOKUP($A400,check!$A:$L,8,FALSE))=TRUE,\"\",VLOOKUP($A400,check!$A:$L,8,FALSE))","v":""},{"$f":"IF(ISERROR(VLOOKUP($A400,check!$A:$L,9,FALSE))=TRUE,\"\",VLOOKUP($A400,check!$A:$L,9,FALSE))","v":""},{"$f":"IF(ISERROR(VLOOKUP($A400,check!$A:$L,10,FALSE))=TRUE,\"\",VLOOKUP($A400,check!$A:$L,10,FALSE))","v":""},{"$f":"IF(ISERROR(VLOOKUP($A400,check!$A:$L,11,FALSE))=TRUE,\"\",VLOOKUP($A400,check!$A:$L,11,FALSE))","v":""},{"$f":"IF(ISERROR(VLOOKUP($A400,check!$A:$L,12,FALSE))=TRUE,\"\",VLOOKUP($A400,check!$A:$L,12,FALSE))","v":""}]
[401,{"$f":"IF(C401=\"\",\"\",MATCH(A401,check!A:A,0))","v":""},{"$f":"IF(ISERROR(VLOOKUP($A401,check!$A:$L,2,FALSE))=TRUE,\"\",VLOOKUP($A401,check!$A:$L,2,FALSE))","v":""},{"$f":"IF(ISERROR(VLOOKUP($A401,check!$A:$L,3,FALSE))=TRUE,\"\",VLOOKUP($A401,check!$A:$L,3,FALSE))","v":""},{"$f":"IF(ISERROR(VLOOKUP($A401,check!$A:$L,4,FALSE))=TRUE,\"\",VLOOKUP($A401,check!$A:$L,4,FALSE))","v":""},{"$f":"IF(ISERROR(VLOOKUP($A401,check!$A:$L,5,FALSE))=TRUE,\"\",VLOOKUP($A401,check!$A:$L,5,FALSE))","v":""},{"$f":"IF(ISERROR(VLOOKUP($A401,check!$A:$L,6,FALSE))=TRUE,\"\",VLOOKUP($A401,check!$A:$L,6,FALSE))","v":""},{"$f":"IF(ISERROR(VLOOKUP($A401,check!$A:$L,7,FALSE))=TRUE,\"\",VLOOKUP($A401,check!$A:$L,7,FALSE))","v":""},{"$f":"IF(ISERROR(VLOOKUP($A401,check!$A:$L,8,FALSE))=TRUE,\"\",VLOOKUP($A401,check!$A:$L,8,FALSE))","v":""},{"$f":"IF(ISERROR(VLOOKUP($A401,check!$A:$L,9,FALSE))=TRUE,\"\",VLOOKUP($A401,check!$A:$L,9,FALSE))","v":""},{"$f":"IF(ISERROR(VLOOKUP($A401,check!$A:$L,10,FALSE))=TRUE,\"\",VLOOKUP($A401,check!$A:$L,10,FALSE))","v":""},{"$f":"IF(ISERROR(VLOOKUP($A401,check!$A:$L,11,FALSE))=TRUE,\"\",VLOOKUP($A401,check!$A:$L,11,FALSE))","v":""},{"$f":"IF(ISERROR(VLOOKUP($A401,check!$A:$L,12,FALSE))=TRUE,\"\",VLOOKUP($A401,check!$A:$L,12,FALSE))","v":""}]
[402,{"$f":"IF(C402=\"\",\"\",MATCH(A402,check!A:A,0))","v":""},{"$f":"IF(ISERROR(VLOOKUP($A402,check!$A:$L,2,FALSE))=TRUE,\"\",VLOOKUP($A402,check!$A:$L,2,FALSE))","v":""},{"$f":"IF(ISERROR(VLOOKUP($A402,check!$A:$L,3,FALSE))=TRUE,\"\",VLOOKUP($A402,check!$A:$L,3,FALSE))","v":""},{"$f":"IF(ISERROR(VLOOKUP($A402,check!$A:$L,4,FALSE))=TRUE,\"\",VLOOKUP($A402,check!$A:$L,4,FALSE))","v":""},{"$f":"IF(ISERROR(VLOOKUP($A402,check!$A:$L,5,FALSE))=TRUE,\"\",VLOOKUP($A402,check!$A:$L,5,FALSE))","v":""},{"$f":"IF(ISERROR(VLOOKUP($A402,check!$A:$L,6,FALSE))=TRUE,\"\",VLOOKUP($A402,check!$A:$L,6,FALSE))","v":""},{"$f":"IF(ISERROR(VLOOKUP($A402,check!$A:$L,7,FALSE))=TRUE,\"\",VLOOKUP($A402,check!$A:$L,7,FALSE))","v":""},{"$f":"IF(ISERROR(VLOOKUP($A402,check!$A:$L,8,FALSE))=TRUE,\"\",VLOOKUP($A402,check!$A:$L,8,FALSE))","v":""},{"$f":"IF(ISERROR(VLOOKUP($A402,check!$A:$L,9,FALSE))=TRUE,\"\",VLOOKUP($A402,check!$A:$L,9,FALSE))","v":""},{"$f":"IF(ISERROR(VLOOKUP($A402,check!$A:$L,10,FALSE))=TRUE,\"\",VLOOKUP($A402,check!$A:$L,10,FALSE))","v":""},{"$f":"IF(ISERROR(VLOOKUP($A402,check!$A:$L,11,FALSE))=TRUE,\"\",VLOOKUP($A402,check!$A:$L,11,FALSE))","v":""},{"$f":"IF(ISERROR(VLOOKUP($A402,check!$A:$L,12,FALSE))=TRUE,\"\",VLOOKUP($A402,check!$A:$L,12,FALSE))","v":""}]
[403,{"$f":"IF(C403=\"\",\"\",MATCH(A403,check!A:A,0))","v":""},{"$f":"IF(ISERROR(VLOOKUP($A403,check!$A:$L,2,FALSE))=TRUE,\"\",VLOOKUP($A403,check!$A:$L,2,FALSE))","v":""},{"$f":"IF(ISERROR(VLOOKUP($A403,check!$A:$L,3,FALSE))=TRUE,\"\",VLOOKUP($A403,check!$A:$L,3,FALSE))","v":""},{"$f":"IF(ISERROR(VLOOKUP($A403,check!$A:$L,4,FALSE))=TRUE,\"\",VLOOKUP($A403,check!$A:$L,4,FALSE))","v":""},{"$f":"IF(ISERROR(VLOOKUP($A403,check!$A:$L,5,FALSE))=TRUE,\"\",VLOOKUP($A403,check!$A:$L,5,FALSE))","v":""},{"$f":"IF(ISERROR(VLOOKUP($A403,check!$A:$L,6,FALSE))=TRUE,\"\",VLOOKUP($A403,check!$A:$L,6,FALSE))","v":""},{"$f":"IF(ISERROR(VLOOKUP($A403,check!$A:$L,7,FALSE))=TRUE,\"\",VLOOKUP($A403,check!$A:$L,7,FALSE))","v":""},{"$f":"IF(ISERROR(VLOOKUP($A403,check!$A:$L,8,FALSE))=TRUE,\"\",VLOOKUP($A403,check!$A:$L,8,FALSE))","v":""},{"$f":"IF(ISERROR(VLOOKUP($A403,check!$A:$L,9,FALSE))=TRUE,\"\",VLOOKUP($A403,check!$A:$L,9,FALSE))","v":""},{"$f":"IF(ISERROR(VLOOKUP($A403,check!$A:$L,10,FALSE))=TRUE,\"\",VLOOKUP($A403,check!$A:$L,10,FALSE))","v":""},{"$f":"IF(ISERROR(VLOOKUP($A403,check!$A:$L,11,FALSE))=TRUE,\"\",VLOOKUP($A403,check!$A:$L,11,FALSE))","v":""},{"$f":"IF(ISERROR(VLOOKUP($A403,check!$A:$L,12,FALSE))=TRUE,\"\",VLOOKUP($A403,check!$A:$L,12,FALSE))","v":""}]
[404,{"$f":"IF(C404=\"\",\"\",MATCH(A404,check!A:A,0))","v":""},{"$f":"IF(ISERROR(VLOOKUP($A404,check!$A:$L,2,FALSE))=TRUE,\"\",VLOOKUP($A404,check!$A:$L,2,FALSE))","v":""},{"$f":"IF(ISERROR(VLOOKUP($A404,check!$A:$L,3,FALSE))=TRUE,\"\",VLOOKUP($A404,check!$A:$L,3,FALSE))","v":""},{"$f":"IF(ISERROR(VLOOKUP($A404,check!$A:$L,4,FALSE))=TRUE,\"\",VLOOKUP($A404,check!$A:$L,4,FALSE))","v":""},{"$f":"IF(ISERROR(VLOOKUP($A404,check!$A:$L,5,FALSE))=TRUE,\"\",VLOOKUP($A404,check!$A:$L,5,FALSE))","v":""},{"$f":"IF(ISERROR(VLOOKUP($A404,check!$A:$L,6,FALSE))=TRUE,\"\",VLOOKUP($A404,check!$A:$L,6,FALSE))","v":""},{"$f":"IF(ISERROR(VLOOKUP($A404,check!$A:$L,7,FALSE))=TRUE,\"\",VLOOKUP($A404,check!$A:$L,7,FALSE))","v":""},{"$f":"IF(ISERROR(VLOOKUP($A404,check!$A:$L,8,FALSE))=TRUE,\"\",VLOOKUP($A404,check!$A:$L,8,FALSE))","v":""},{"$f":"IF(ISERROR(VLOOKUP($A404,check!$A:$L,9,FALSE))=TRUE,\"\",VLOOKUP($A404,check!$A:$L,9,FALSE))","v":""},{"$f":"IF(ISERROR(VLOOKUP($A404,check!$A:$L,10,FALSE))=TRUE,\"\",VLOOKUP($A404,check!$A:$L,10,FALSE))","v":""},{"$f":"IF(ISERROR(VLOOKUP($A404,check!$A:$L,11,FALSE))=TRUE,\"\",VLOOKUP($A404,check!$A:$L,11,FALSE))","v":""},{"$f":"IF(ISERROR(VLOOKUP($A404,check!$A:$L,12,FALSE))=TRUE,\"\",VLOOKUP($A404,check!$A:$L,12,FALSE))","v":""}]
[405,{"$f":"IF(C405=\"\",\"\",MATCH(A405,check!A:A,0))","v":""},{"$f":"IF(ISERROR(VLOOKUP($A405,check!$A:$L,2,FALSE))=TRUE,\"\",VLOOKUP($A405,check!$A:$L,2,FALSE))","v":""},{"$f":"IF(ISERROR(VLOOKUP($A405,check!$A:$L,3,FALSE))=TRUE,\"\",VLOOKUP($A405,check!$A:$L,3,FALSE))","v":""},{"$f":"IF(ISERROR(VLOOKUP($A405,check!$A:$L,4,FALSE))=TRUE,\"\",VLOOKUP($A405,check!$A:$L,4,FALSE))","v":""},{"$f":"IF(ISERROR(VLOOKUP($A405,check!$A:$L,5,FALSE))=TRUE,\"\",VLOOKUP($A405,check!$A:$L,5,FALSE))","v":""},{"$f":"IF(ISERROR(VLOOKUP($A405,check!$A:$L,6,FALSE))=TRUE,\"\",VLOOKUP($A405,check!$A:$L,6,FALSE))","v":""},{"$f":"IF(ISERROR(VLOOKUP($A405,check!$A:$L,7,FALSE))=TRUE,\"\",VLOOKUP($A405,check!$A:$L,7,FALSE))","v":""},{"$f":"IF(ISERROR(VLOOKUP($A405,check!$A:$L,8,FALSE))=TRUE,\"\",VLOOKUP($A405,check!$A:$L,8,FALSE))","v":""},{"$f":"IF(ISERROR(VLOOKUP($A405,check!$A:$L,9,FALSE))=TRUE,\"\",VLOOKUP($A405,check!$A:$L,9,FALSE))","v":""},{"$f":"IF(ISERROR(VLOOKUP($A405,check!$A:$L,10,FALSE))=TRUE,\"\",VLOOKUP($A405,check!$A:$L,10,FALSE))","v":""},{"$f":"IF(ISERROR(VLOOKUP($A405,check!$A:$L,11,FALSE))=TRUE,\"\",VLOOKUP($A405,check!$A:$L,11,FALSE))","v":""},{"$f":"IF(ISERROR(VLOOKUP($A405,check!$A:$L,12,FALSE))=TRUE,\"\",VLOOKUP($A405,check!$A:$L,12,FALSE))","v":""}]
[406,{"$f":"IF(C406=\"\",\"\",MATCH(A406,check!A:A,0))","v":""},{"$f":"IF(ISERROR(VLOOKUP($A406,check!$A:$L,2,FALSE))=TRUE,\"\",VLOOKUP($A406,check!$A:$L,2,FALSE))","v":""},{"$f":"IF(ISERROR(VLOOKUP($A406,check!$A:$L,3,FALSE))=TRUE,\"\",VLOOKUP($A406,check!$A:$L,3,FALSE))","v":""},{"$f":"IF(ISERROR(VLOOKUP($A406,check!$A:$L,4,FALSE))=TRUE,\"\",VLOOKUP($A406,check!$A:$L,4,FALSE))","v":""},{"$f":"IF(ISERROR(VLOOKUP($A406,check!$A:$L,5,FALSE))=TRUE,\"\",VLOOKUP($A406,check!$A:$L,5,FALSE))","v":""},{"$f":"IF(ISERROR(VLOOKUP($A406,check!$A:$L,6,FALSE))=TRUE,\"\",VLOOKUP($A406,check!$A:$L,6,FALSE))","v":""},{"$f":"IF(ISERROR(VLOOKUP($A406,check!$A:$L,7,FALSE))=TRUE,\"\",VLOOKUP($A406,check!$A:$L,7,FALSE))","v":""},{"$f":"IF(ISERROR(VLOOKUP($A406,check!$A:$L,8,FALSE))=TRUE,\"\",VLOOKUP($A406,check!$A:$L,8,FALSE))","v":""},{"$f":"IF(ISERROR(VLOOKUP($A406,check!$A:$L,9,FALSE))=TRUE,\"\",VLOOKUP($A406,check!$A:$L,9,FALSE))","v":""},{"$f":"IF(ISERROR(VLOOKUP($A406,check!$A:$L,10,FALSE))=TRUE,\"\",VLOOKUP($A406,check!$A:$L,10,FALSE))","v":""},{"$f":"IF(ISERROR(VLOOKUP($A406,check!$A:$L,11,FALSE))=TRUE,\"\",VLOOKUP($A406,check!$A:$L,11,FALSE))","v":""},{"$f":"IF(ISERROR(VLOOKUP($A406,check!$A:$L,12,FALSE))=TRUE,\"\",VLOOKUP($A406,check!$A:$L,12,FALSE))","v":""}]
[407,{"$f":"IF(C407=\"\",\"\",MATCH(A407,check!A:A,0))","v":""},{"$f":"IF(ISERROR(VLOOKUP($A407,check!$A:$L,2,FALSE))=TRUE,\"\",VLOOKUP($A407,check!$A:$L,2,FALSE))","v":""},{"$f":"IF(ISERROR(VLOOKUP($A407,check!$A:$L,3,FALSE))=TRUE,\"\",VLOOKUP($A407,check!$A:$L,3,FALSE))","v":""},{"$f":"IF(ISERROR(VLOOKUP($A407,check!$A:$L,4,FALSE))=TRUE,\"\",VLOOKUP($A407,check!$A:$L,4,FALSE))","v":""},{"$f":"IF(ISERROR(VLOOKUP($A407,check!$A:$L,5,FALSE))=TRUE,\"\",VLOOKUP($A407,check!$A:$L,5,FALSE))","v":""},{"$f":"IF(ISERROR(VLOOKUP($A407,check!$A:$L,6,FALSE))=TRUE,\"\",VLOOKUP($A407,check!$A:$L,6,FALSE))","v":""},{"$f":"IF(ISERROR(VLOOKUP($A407,check!$A:$L,7,FALSE))=TRUE,\"\",VLOOKUP($A407,check!$A:$L,7,FALSE))","v":""},{"$f":"IF(ISERROR(VLOOKUP($A407,check!$A:$L,8,FALSE))=TRUE,\"\",VLOOKUP($A407,check!$A:$L,8,FALSE))","v":""},{"$f":"IF(ISERROR(VLOOKUP($A407,check!$A:$L,9,FALSE))=TRUE,\"\",VLOOKUP($A407,check!$A:$L,9,FALSE))","v":""},{"$f":"IF(ISERROR(VLOOKUP($A407,check!$A:$L,10,FALSE))=TRUE,\"\",VLOOKUP($A407,check!$A:$L,10,FALSE))","v":""},{"$f":"IF(ISERROR(VLOOKUP($A407,check!$A:$L,11,FALSE))=TRUE,\"\",VLOOKUP($A407,check!$A:$L,11,FALSE))","v":""},{"$f":"IF(ISERROR(VLOOKUP($A407,check!$A:$L,12,FALSE))=TRUE,\"\",VLOOKUP($A407,check!$A:$L,12,FALSE))","v":""}]
[408,{"$f":"IF(C408=\"\",\"\",MATCH(A408,check!A:A,0))","v":""},{"$f":"IF(ISERROR(VLOOKUP($A408,check!$A:$L,2,FALSE))=TRUE,\"\",VLOOKUP($A408,check!$A:$L,2,FALSE))","v":""},{"$f":"IF(ISERROR(VLOOKUP($A408,check!$A:$L,3,FALSE))=TRUE,\"\",VLOOKUP($A408,check!$A:$L,3,FALSE))","v":""},{"$f":"IF(ISERROR(VLOOKUP($A408,check!$A:$L,4,FALSE))=TRUE,\"\",VLOOKUP($A408,check!$A:$L,4,FALSE))","v":""},{"$f":"IF(ISERROR(VLOOKUP($A408,check!$A:$L,5,FALSE))=TRUE,\"\",VLOOKUP($A408,check!$A:$L,5,FALSE))","v":""},{"$f":"IF(ISERROR(VLOOKUP($A408,check!$A:$L,6,FALSE))=TRUE,\"\",VLOOKUP($A408,check!$A:$L,6,FALSE))","v":""},{"$f":"IF(ISERROR(VLOOKUP($A408,check!$A:$L,7,FALSE))=TRUE,\"\",VLOOKUP($A408,check!$A:$L,7,FALSE))","v":""},{"$f":"IF(ISERROR(VLOOKUP($A408,check!$A:$L,8,FALSE))=TRUE,\"\",VLOOKUP($A408,check!$A:$L,8,FALSE))","v":""},{"$f":"IF(ISERROR(VLOOKUP($A408,check!$A:$L,9,FALSE))=TRUE,\"\",VLOOKUP($A408,check!$A:$L,9,FALSE))","v":""},{"$f":"IF(ISERROR(VLOOKUP($A408,check!$A:$L,10,FALSE))=TRUE,\"\",VLOOKUP($A408,check!$A:$L,10,FALSE))","v":""},{"$f":"IF(ISERROR(VLOOKUP($A408,check!$A:$L,11,FALSE))=TRUE,\"\",VLOOKUP($A408,check!$A:$L,11,FALSE))","v":""},{"$f":"IF(ISERROR(VLOOKUP($A408,check!$A:$L,12,FALSE))=TRUE,\"\",VLOOKUP($A408,check!$A:$L,12,FALSE))","v":""}]
[409,{"$f":"IF(C409=\"\",\"\",MATCH(A409,check!A:A,0))","v":""},{"$f":"IF(ISERROR(VLOOKUP($A409,check!$A:$L,2,FALSE))=TRUE,\"\",VLOOKUP($A409,check!$A:$L,2,FALSE))","v":""},{"$f":"IF(ISERROR(VLOOKUP($A409,check!$A:$L,3,FALSE))=TRUE,\"\",VLOOKUP($A409,check!$A:$L,3,FALSE))","v":""},{"$f":"IF(ISERROR(VLOOKUP($A409,check!$A:$L,4,FALSE))=TRUE,\"\",VLOOKUP($A409,check!$A:$L,4,FALSE))","v":""},{"$f":"IF(ISERROR(VLOOKUP($A409,check!$A:$L,5,FALSE))=TRUE,\"\",VLOOKUP($A409,check!$A:$L,5,FALSE))","v":""},{"$f":"IF(ISERROR(VLOOKUP($A409,check!$A:$L,6,FALSE))=TRUE,\"\",VLOOKUP($A409,check!$A:$L,6,FALSE))","v":""},{"$f":"IF(ISERROR(VLOOKUP($A409,check!$A:$L,7,FALSE))=TRUE,\"\",VLOOKUP($A409,check!$A:$L,7,FALSE))","v":""},{"$f":"IF(ISERROR(VLOOKUP($A409,check!$A:$L,8,FALSE))=TRUE,\"\",VLOOKUP($A409,check!$A:$L,8,FALSE))","v":""},{"$f":"IF(ISERROR(VLOOKUP($A409,check!$A:$L,9,FALSE))=TRUE,\"\",VLOOKUP($A409,check!$A:$L,9,FALSE))","v":""},{"$f":"IF(ISERROR(VLOOKUP($A409,check!$A:$L,10,FALSE))=TRUE,\"\",VLOOKUP($A409,check!$A:$L,10,FALSE))","v":""},{"$f":"IF(ISERROR(VLOOKUP($A409,check!$A:$L,11,FALSE))=TRUE,\"\",VLOOKUP($A409,check!$A:$L,11,FALSE))","v":""},{"$f":"IF(ISERROR(VLOOKUP($A409,check!$A:$L,12,FALSE))=TRUE,\"\",VLOOKUP($A409,check!$A:$L,12,FALSE))","v":""}]
[410,{"$f":"IF(C410=\"\",\"\",MATCH(A410,check!A:A,0))","v":""},{"$f":"IF(ISERROR(VLOOKUP($A410,check!$A:$L,2,FALSE))=TRUE,\"\",VLOOKUP($A410,check!$A:$L,2,FALSE))","v":""},{"$f":"IF(ISERROR(VLOOKUP($A410,check!$A:$L,3,FALSE))=TRUE,\"\",VLOOKUP($A410,check!$A:$L,3,FALSE))","v":""},{"$f":"IF(ISERROR(VLOOKUP($A410,check!$A:$L,4,FALSE))=TRUE,\"\",VLOOKUP($A410,check!$A:$L,4,FALSE))","v":""},{"$f":"IF(ISERROR(VLOOKUP($A410,check!$A:$L,5,FALSE))=TRUE,\"\",VLOOKUP($A410,check!$A:$L,5,FALSE))","v":""},{"$f":"IF(ISERROR(VLOOKUP($A410,check!$A:$L,6,FALSE))=TRUE,\"\",VLOOKUP($A410,check!$A:$L,6,FALSE))","v":""},{"$f":"IF(ISERROR(VLOOKUP($A410,check!$A:$L,7,FALSE))=TRUE,\"\",VLOOKUP($A410,check!$A:$L,7,FALSE))","v":""},{"$f":"IF(ISERROR(VLOOKUP($A410,check!$A:$L,8,FALSE))=TRUE,\"\",VLOOKUP($A410,check!$A:$L,8,FALSE))","v":""},{"$f":"IF(ISERROR(VLOOKUP($A410,check!$A:$L,9,FALSE))=TRUE,\"\",VLOOKUP($A410,check!$A:$L,9,FALSE))","v":""},{"$f":"IF(ISERROR(VLOOKUP($A410,check!$A:$L,10,FALSE))=TRUE,\"\",VLOOKUP($A410,check!$A:$L,10,FALSE))","v":""},{"$f":"IF(ISERROR(VLOOKUP($A410,check!$A:$L,11,FALSE))=TRUE,\"\",VLOOKUP($A410,check!$A:$L,11,FALSE))","v":""},{"$f":"IF(ISERROR(VLOOKUP($A410,check!$A:$L,12,FALSE))=TRUE,\"\",VLOOKUP($A410,check!$A:$L,12,FALSE))","v":""}]
[411,{"$f":"IF(C411=\"\",\"\",MATCH(A411,check!A:A,0))","v":""},{"$f":"IF(ISERROR(VLOOKUP($A411,check!$A:$L,2,FALSE))=TRUE,\"\",VLOOKUP($A411,check!$A:$L,2,FALSE))","v":""},{"$f":"IF(ISERROR(VLOOKUP($A411,check!$A:$L,3,FALSE))=TRUE,\"\",VLOOKUP($A411,check!$A:$L,3,FALSE))","v":""},{"$f":"IF(ISERROR(VLOOKUP($A411,check!$A:$L,4,FALSE))=TRUE,\"\",VLOOKUP($A411,check!$A:$L,4,FALSE))","v":""},{"$f":"IF(ISERROR(VLOOKUP($A411,check!$A:$L,5,FALSE))=TRUE,\"\",VLOOKUP($A411,check!$A:$L,5,FALSE))","v":""},{"$f":"IF(ISERROR(VLOOKUP($A411,check!$A:$L,6,FALSE))=TRUE,\"\",VLOOKUP($A411,check!$A:$L,6,FALSE))","v":""},{"$f":"IF(ISERROR(VLOOKUP($A411,check!$A:$L,7,FALSE))=TRUE,\"\",VLOOKUP($A411,check!$A:$L,7,FALSE))","v":""},{"$f":"IF(ISERROR(VLOOKUP($A411,check!$A:$L,8,FALSE))=TRUE,\"\",VLOOKUP($A411,check!$A:$L,8,FALSE))","v":""},{"$f":"IF(ISERROR(VLOOKUP($A411,check!$A:$L,9,FALSE))=TRUE,\"\",VLOOKUP($A411,check!$A:$L,9,FALSE))","v":""},{"$f":"IF(ISERROR(VLOOKUP($A411,check!$A:$L,10,FALSE))=TRUE,\"\",VLOOKUP($A411,check!$A:$L,10,FALSE))","v":""},{"$f":"IF(ISERROR(VLOOKUP($A411,check!$A:$L,11,FALSE))=TRUE,\"\",VLOOKUP($A411,check!$A:$L,11,FALSE))","v":""},{"$f":"IF(ISERROR(VLOOKUP($A411,check!$A:$L,12,FALSE))=TRUE,\"\",VLOOKUP($A411,check!$A:$L,12,FALSE))","v":""}]
[412,{"$f":"IF(C412=\"\",\"\",MATCH(A412,check!A:A,0))","v":""},{"$f":"IF(ISERROR(VLOOKUP($A412,check!$A:$L,2,FALSE))=TRUE,\"\",VLOOKUP($A412,check!$A:$L,2,FALSE))","v":""},{"$f":"IF(ISERROR(VLOOKUP($A412,check!$A:$L,3,FALSE))=TRUE,\"\",VLOOKUP($A412,check!$A:$L,3,FALSE))","v":""},{"$f":"IF(ISERROR(VLOOKUP($A412,check!$A:$L,4,FALSE))=TRUE,\"\",VLOOKUP($A412,check!$A:$L,4,FALSE))","v":""},{"$f":"IF(ISERROR(VLOOKUP($A412,check!$A:$L,5,FALSE))=TRUE,\"\",VLOOKUP($A412,check!$A:$L,5,FALSE))","v":""},{"$f":"IF(ISERROR(VLOOKUP($A412,check!$A:$L,6,FALSE))=TRUE,\"\",VLOOKUP($A412,check!$A:$L,6,FALSE))","v":""},{"$f":"IF(ISERROR(VLOOKUP($A412,check!$A:$L,7,FALSE))=TRUE,\"\",VLOOKUP($A412,check!$A:$L,7,FALSE))","v":""},{"$f":"IF(ISERROR(VLOOKUP($A412,check!$A:$L,8,FALSE))=TRUE,\"\",VLOOKUP($A412,check!$A:$L,8,FALSE))","v":""},{"$f":"IF(ISERROR(VLOOKUP($A412,check!$A:$L,9,FALSE))=TRUE,\"\",VLOOKUP($A412,check!$A:$L,9,FALSE))","v":""},{"$f":"IF(ISERROR(VLOOKUP($A412,check!$A:$L,10,FALSE))=TRUE,\"\",VLOOKUP($A412,check!$A:$L,10,FALSE))","v":""},{"$f":"IF(ISERROR(VLOOKUP($A412,check!$A:$L,11,FALSE))=TRUE,\"\",VLOOKUP($A412,check!$A:$L,11,FALSE))","v":""},{"$f":"IF(ISERROR(VLOOKUP($A412,check!$A:$L,12,FALSE))=TRUE,\"\",VLOOKUP($A412,check!$A:$L,12,FALSE))","v":""}]
[413,{"$f":"IF(C413=\"\",\"\",MATCH(A413,check!A:A,0))","v":""},{"$f":"IF(ISERROR(VLOOKUP($A413,check!$A:$L,2,FALSE))=TRUE,\"\",VLOOKUP($A413,check!$A:$L,2,FALSE))","v":""},{"$f":"IF(ISERROR(VLOOKUP($A413,check!$A:$L,3,FALSE))=TRUE,\"\",VLOOKUP($A413,check!$A:$L,3,FALSE))","v":""},{"$f":"IF(ISERROR(VLOOKUP($A413,check!$A:$L,4,FALSE))=TRUE,\"\",VLOOKUP($A413,check!$A:$L,4,FALSE))","v":""},{"$f":"IF(ISERROR(VLOOKUP($A413,check!$A:$L,5,FALSE))=TRUE,\"\",VLOOKUP($A413,check!$A:$L,5,FALSE))","v":""},{"$f":"IF(ISERROR(VLOOKUP($A413,check!$A:$L,6,FALSE))=TRUE,\"\",VLOOKUP($A413,check!$A:$L,6,FALSE))","v":""},{"$f":"IF(ISERROR(VLOOKUP($A413,check!$A:$L,7,FALSE))=TRUE,\"\",VLOOKUP($A413,check!$A:$L,7,FALSE))","v":""},{"$f":"IF(ISERROR(VLOOKUP($A413,check!$A:$L,8,FALSE))=TRUE,\"\",VLOOKUP($A413,check!$A:$L,8,FALSE))","v":""},{"$f":"IF(ISERROR(VLOOKUP($A413,check!$A:$L,9,FALSE))=TRUE,\"\",VLOOKUP($A413,check!$A:$L,9,FALSE))","v":""},{"$f":"IF(ISERROR(VLOOKUP($A413,check!$A:$L,10,FALSE))=TRUE,\"\",VLOOKUP($A413,check!$A:$L,10,FALSE))","v":""},{"$f":"IF(ISERROR(VLOOKUP($A413,check!$A:$L,11,FALSE))=TRUE,\"\",VLOOKUP($A413,check!$A:$L,11,FALSE))","v":""},{"$f":"IF(ISERROR(VLOOKUP($A413,check!$A:$L,12,FALSE))=TRUE,\"\",VLOOKUP($A413,check!$A:$L,12,FALSE))","v":""}]
[414,{"$f":"IF(C414=\"\",\"\",MATCH(A414,check!A:A,0))","v":""},{"$f":"IF(ISERROR(VLOOKUP($A414,check!$A:$L,2,FALSE))=TRUE,\"\",VLOOKUP($A414,check!$A:$L,2,FALSE))","v":""},{"$f":"IF(ISERROR(VLOOKUP($A414,check!$A:$L,3,FALSE))=TRUE,\"\",VLOOKUP($A414,check!$A:$L,3,FALSE))","v":""},{"$f":"IF(ISERROR(VLOOKUP($A414,check!$A:$L,4,FALSE))=TRUE,\"\",VLOOKUP($A414,check!$A:$L,4,FALSE))","v":""},{"$f":"IF(ISERROR(VLOOKUP($A414,check!$A:$L,5,FALSE))=TRUE,\"\",VLOOKUP($A414,check!$A:$L,5,FALSE))","v":""},{"$f":"IF(ISERROR(VLOOKUP($A414,check!$A:$L,6,FALSE))=TRUE,\"\",VLOOKUP($A414,check!$A:$L,6,FALSE))","v":""},{"$f":"IF(ISERROR(VLOOKUP($A414,check!$A:$L,7,FALSE))=TRUE,\"\",VLOOKUP($A414,check!$A:$L,7,FALSE))","v":""},{"$f":"IF(ISERROR(VLOOKUP($A414,check!$A:$L,8,FALSE))=TRUE,\"\",VLOOKUP($A414,check!$A:$L,8,FALSE))","v":""},{"$f":"IF(ISERROR(VLOOKUP($A414,check!$A:$L,9,FALSE))=TRUE,\"\",VLOOKUP($A414,check!$A:$L,9,FALSE))","v":""},{"$f":"IF(ISERROR(VLOOKUP($A414,check!$A:$L,10,FALSE))=TRUE,\"\",VLOOKUP($A414,check!$A:$L,10,FALSE))","v":""},{"$f":"IF(ISERROR(VLOOKUP($A414,check!$A:$L,11,FALSE))=TRUE,\"\",VLOOKUP($A414,check!$A:$L,11,FALSE))","v":""},{"$f":"IF(ISERROR(VLOOKUP($A414,check!$A:$L,12,FALSE))=TRUE,\"\",VLOOKUP($A414,check!$A:$L,12,FALSE))","v":""}]
[415,{"$f":"IF(C415=\"\",\"\",MATCH(A415,check!A:A,0))","v":""},{"$f":"IF(ISERROR(VLOOKUP($A415,check!$A:$L,2,FALSE))=TRUE,\"\",VLOOKUP($A415,check!$A:$L,2,FALSE))","v":""},{"$f":"IF(ISERROR(VLOOKUP($A415,check!$A:$L,3,FALSE))=TRUE,\"\",VLOOKUP($A415,check!$A:$L,3,FALSE))","v":""},{"$f":"IF(ISERROR(VLOOKUP($A415,check!$A:$L,4,FALSE))=TRUE,\"\",VLOOKUP($A415,check!$A:$L,4,FALSE))","v":""},{"$f":"IF(ISERROR(VLOOKUP($A415,check!$A:$L,5,FALSE))=TRUE,\"\",VLOOKUP($A415,check!$A:$L,5,FALSE))","v":""},{"$f":"IF(ISERROR(VLOOKUP($A415,check!$A:$L,6,FALSE))=TRUE,\"\",VLOOKUP($A415,check!$A:$L,6,FALSE))","v":""},{"$f":"IF(ISERROR(VLOOKUP($A415,check!$A:$L,7,FALSE))=TRUE,\"\",VLOOKUP($A415,check!$A:$L,7,FALSE))","v":""},{"$f":"IF(ISERROR(VLOOKUP($A415,check!$A:$L,8,FALSE))=TRUE,\"\",VLOOKUP($A415,check!$A:$L,8,FALSE))","v":""},{"$f":"IF(ISERROR(VLOOKUP($A415,check!$A:$L,9,FALSE))=TRUE,\"\",VLOOKUP($A415,check!$A:$L,9,FALSE))","v":""},{"$f":"IF(ISERROR(VLOOKUP($A415,check!$A:$L,10,FALSE))=TRUE,\"\",VLOOKUP($A415,check!$A:$L,10,FALSE))","v":""},{"$f":"IF(ISERROR(VLOOKUP($A415,check!$A:$L,11,FALSE))=TRUE,\"\",VLOOKUP($A415,check!$A:$L,11,FALSE))","v":""},{"$f":"IF(ISERROR(VLOOKUP($A415,check!$A:$L,12,FALSE))=TRUE,\"\",VLOOKUP($A415,check!$A:$L,12,FALSE))","v":""}]
[416,{"$f":"IF(C416=\"\",\"\",MATCH(A416,check!A:A,0))","v":""},{"$f":"IF(ISERROR(VLOOKUP($A416,check!$A:$L,2,FALSE))=TRUE,\"\",VLOOKUP($A416,check!$A:$L,2,FALSE))","v":""},{"$f":"IF(ISERROR(VLOOKUP($A416,check!$A:$L,3,FALSE))=TRUE,\"\",VLOOKUP($A416,check!$A:$L,3,FALSE))","v":""},{"$f":"IF(ISERROR(VLOOKUP($A416,check!$A:$L,4,FALSE))=TRUE,\"\",VLOOKUP($A416,check!$A:$L,4,FALSE))","v":""},{"$f":"IF(ISERROR(VLOOKUP($A416,check!$A:$L,5,FALSE))=TRUE,\"\",VLOOKUP($A416,check!$A:$L,5,FALSE))","v":""},{"$f":"IF(ISERROR(VLOOKUP($A416,check!$A:$L,6,FALSE))=TRUE,\"\",VLOOKUP($A416,check!$A:$L,6,FALSE))","v":""},{"$f":"IF(ISERROR(VLOOKUP($A416,check!$A:$L,7,FALSE))=TRUE,\"\",VLOOKUP($A416,check!$A:$L,7,FALSE))","v":""},{"$f":"IF(ISERROR(VLOOKUP($A416,check!$A:$L,8,FALSE))=TRUE,\"\",VLOOKUP($A416,check!$A:$L,8,FALSE))","v":""},{"$f":"IF(ISERROR(VLOOKUP($A416,check!$A:$L,9,FALSE))=TRUE,\"\",VLOOKUP($A416,check!$A:$L,9,FALSE))","v":""},{"$f":"IF(ISERROR(VLOOKUP($A416,check!$A:$L,10,FALSE))=TRUE,\"\",VLOOKUP($A416,check!$A:$L,10,FALSE))","v":""},{"$f":"IF(ISERROR(VLOOKUP($A416,check!$A:$L,11,FALSE))=TRUE,\"\",VLOOKUP($A416,check!$A:$L,11,FALSE))","v":""},{"$f":"IF(ISERROR(VLOOKUP($A416,check!$A:$L,12,FALSE))=TRUE,\"\",VLOOKUP($A416,check!$A:$L,12,FALSE))","v":""}]
[417,{"$f":"IF(C417=\"\",\"\",MATCH(A417,check!A:A,0))","v":""},{"$f":"IF(ISERROR(VLOOKUP($A417,check!$A:$L,2,FALSE))=TRUE,\"\",VLOOKUP($A417,check!$A:$L,2,FALSE))","v":""},{"$f":"IF(ISERROR(VLOOKUP($A417,check!$A:$L,3,FALSE))=TRUE,\"\",VLOOKUP($A417,check!$A:$L,3,FALSE))","v":""},{"$f":"IF(ISERROR(VLOOKUP($A417,check!$A:$L,4,FALSE))=TRUE,\"\",VLOOKUP($A417,check!$A:$L,4,FALSE))","v":""},{"$f":"IF(ISERROR(VLOOKUP($A417,check!$A:$L,5,FALSE))=TRUE,\"\",VLOOKUP($A417,check!$A:$L,5,FALSE))","v":""},{"$f":"IF(ISERROR(VLOOKUP($A417,check!$A:$L,6,FALSE))=TRUE,\"\",VLOOKUP($A417,check!$A:$L,6,FALSE))","v":""},{"$f":"IF(ISERROR(VLOOKUP($A417,check!$A:$L,7,FALSE))=TRUE,\"\",VLOOKUP($A417,check!$A:$L,7,FALSE))","v":""},{"$f":"IF(ISERROR(VLOOKUP($A417,check!$A:$L,8,FALSE))=TRUE,\"\",VLOOKUP($A417,check!$A:$L,8,FALSE))","v":""},{"$f":"IF(ISERROR(VLOOKUP($A417,check!$A:$L,9,FALSE))=TRUE,\"\",VLOOKUP($A417,check!$A:$L,9,FALSE))","v":""},{"$f":"IF(ISERROR(VLOOKUP($A417,check!$A:$L,10,FALSE))=TRUE,\"\",VLOOKUP($A417,check!$A:$L,10,FALSE))","v":""},{"$f":"IF(ISERROR(VLOOKUP($A417,check!$A:$L,11,FALSE))=TRUE,\"\",VLOOKUP($A417,check!$A:$L,11,FALSE))","v":""},{"$f":"IF(ISERROR(VLOOKUP($A417,check!$A:$L,12,FALSE))=TRUE,\"\",VLOOKUP($A417,check!$A:$L,12,FALSE))","v":""}]
[418,{"$f":"IF(C418=\"\",\"\",MATCH(A418,check!A:A,0))","v":""},{"$f":"IF(ISERROR(VLOOKUP($A418,check!$A:$L,2,FALSE))=TRUE,\"\",VLOOKUP($A418,check!$A:$L,2,FALSE))","v":""},{"$f":"IF(ISERROR(VLOOKUP($A418,check!$A:$L,3,FALSE))=TRUE,\"\",VLOOKUP($A418,check!$A:$L,3,FALSE))","v":""},{"$f":"IF(ISERROR(VLOOKUP($A418,check!$A:$L,4,FALSE))=TRUE,\"\",VLOOKUP($A418,check!$A:$L,4,FALSE))","v":""},{"$f":"IF(ISERROR(VLOOKUP($A418,check!$A:$L,5,FALSE))=TRUE,\"\",VLOOKUP($A418,check!$A:$L,5,FALSE))","v":""},{"$f":"IF(ISERROR(VLOOKUP($A418,check!$A:$L,6,FALSE))=TRUE,\"\",VLOOKUP($A418,check!$A:$L,6,FALSE))","v":""},{"$f":"IF(ISERROR(VLOOKUP($A418,check!$A:$L,7,FALSE))=TRUE,\"\",VLOOKUP($A418,check!$A:$L,7,FALSE))","v":""},{"$f":"IF(ISERROR(VLOOKUP($A418,check!$A:$L,8,FALSE))=TRUE,\"\",VLOOKUP($A418,check!$A:$L,8,FALSE))","v":""},{"$f":"IF(ISERROR(VLOOKUP($A418,check!$A:$L,9,FALSE))=TRUE,\"\",VLOOKUP($A418,check!$A:$L,9,FALSE))","v":""},{"$f":"IF(ISERROR(VLOOKUP($A418,check!$A:$L,10,FALSE))=TRUE,\"\",VLOOKUP($A418,check!$A:$L,10,FALSE))","v":""},{"$f":"IF(ISERROR(VLOOKUP($A418,check!$A:$L,11,FALSE))=TRUE,\"\",VLOOKUP($A418,check!$A:$L,11,FALSE))","v":""},{"$f":"IF(ISERROR(VLOOKUP($A418,check!$A:$L,12,FALSE))=TRUE,\"\",VLOOKUP($A418,check!$A:$L,12,FALSE))","v":""}]
[419,{"$f":"IF(C419=\"\",\"\",MATCH(A419,check!A:A,0))","v":""},{"$f":"IF(ISERROR(VLOOKUP($A419,check!$A:$L,2,FALSE))=TRUE,\"\",VLOOKUP($A419,check!$A:$L,2,FALSE))","v":""},{"$f":"IF(ISERROR(VLOOKUP($A419,check!$A:$L,3,FALSE))=TRUE,\"\",VLOOKUP($A419,check!$A:$L,3,FALSE))","v":""},{"$f":"IF(ISERROR(VLOOKUP($A419,check!$A:$L,4,FALSE))=TRUE,\"\",VLOOKUP($A419,check!$A:$L,4,FALSE))","v":""},{"$f":"IF(ISERROR(VLOOKUP($A419,check!$A:$L,5,FALSE))=TRUE,\"\",VLOOKUP($A419,check!$A:$L,5,FALSE))","v":""},{"$f":"IF(ISERROR(VLOOKUP($A419,check!$A:$L,6,FALSE))=TRUE,\"\",VLOOKUP($A419,check!$A:$L,6,FALSE))","v":""},{"$f":"IF(ISERROR(VLOOKUP($A419,check!$A:$L,7,FALSE))=TRUE,\"\",VLOOKUP($A419,check!$A:$L,7,FALSE))","v":""},{"$f":"IF(ISERROR(VLOOKUP($A419,check!$A:$L,8,FALSE))=TRUE,\"\",VLOOKUP($A419,check!$A:$L,8,FALSE))","v":""},{"$f":"IF(ISERROR(VLOOKUP($A419,check!$A:$L,9,FALSE))=TRUE,\"\",VLOOKUP($A419,check!$A:$L,9,FALSE))","v":""},{"$f":"IF(ISERROR(VLOOKUP($A419,check!$A:$L,10,FALSE))=TRUE,\"\",VLOOKUP($A419,check!$A:$L,10,FALSE))","v":""},{"$f":"IF(ISERROR(VLOOKUP($A419,check!$A:$L,11,FALSE))=TRUE,\"\",VLOOKUP($A419,check!$A:$L,11,FALSE))","v":""},{"$f":"IF(ISERROR(VLOOKUP($A419,check!$A:$L,12,FALSE))=TRUE,\"\",VLOOKUP($A419,check!$A:$L,12,FALSE))","v":""}]
[420,{"$f":"IF(C420=\"\",\"\",MATCH(A420,check!A:A,0))","v":""},{"$f":"IF(ISERROR(VLOOKUP($A420,check!$A:$L,2,FALSE))=TRUE,\"\",VLOOKUP($A420,check!$A:$L,2,FALSE))","v":""},{"$f":"IF(ISERROR(VLOOKUP($A420,check!$A:$L,3,FALSE))=TRUE,\"\",VLOOKUP($A420,check!$A:$L,3,FALSE))","v":""},{"$f":"IF(ISERROR(VLOOKUP($A420,check!$A:$L,4,FALSE))=TRUE,\"\",VLOOKUP($A420,check!$A:$L,4,FALSE))","v":""},{"$f":"IF(ISERROR(VLOOKUP($A420,check!$A:$L,5,FALSE))=TRUE,\"\",VLOOKUP($A420,check!$A:$L,5,FALSE))","v":""},{"$f":"IF(ISERROR(VLOOKUP($A420,check!$A:$L,6,FALSE))=TRUE,\"\",VLOOKUP($A420,check!$A:$L,6,FALSE))","v":""},{"$f":"IF(ISERROR(VLOOKUP($A420,check!$A:$L,7,FALSE))=TRUE,\"\",VLOOKUP($A420,check!$A:$L,7,FALSE))","v":""},{"$f":"IF(ISERROR(VLOOKUP($A420,check!$A:$L,8,FALSE))=TRUE,\"\",VLOOKUP($A420,check!$A:$L,8,FALSE))","v":""},{"$f":"IF(ISERROR(VLOOKUP($A420,check!$A:$L,9,FALSE))=TRUE,\"\",VLOOKUP($A420,check!$A:$L,9,FALSE))","v":""},{"$f":"IF(ISERROR(VLOOKUP($A420,check!$A:$L,10,FALSE))=TRUE,\"\",VLOOKUP($A420,check!$A:$L,10,FALSE))","v":""},{"$f":"IF(ISERROR(VLOOKUP($A420,check!$A:$L,11,FALSE))=TRUE,\"\",VLOOKUP($A420,check!$A:$L,11,FALSE))","v":""},{"$f":"IF(ISERROR(VLOOKUP($A420,check!$A:$L,12,FALSE))=TRUE,\"\",VLOOKUP($A420,check!$A:$L,12,FALSE))","v":""}]
[421,{"$f":"IF(C421=\"\",\"\",MATCH(A421,check!A:A,0))","v":""},{"$f":"IF(ISERROR(VLOOKUP($A421,check!$A:$L,2,FALSE))=TRUE,\"\",VLOOKUP($A421,check!$A:$L,2,FALSE))","v":""},{"$f":"IF(ISERROR(VLOOKUP($A421,check!$A:$L,3,FALSE))=TRUE,\"\",VLOOKUP($A421,check!$A:$L,3,FALSE))","v":""},{"$f":"IF(ISERROR(VLOOKUP($A421,check!$A:$L,4,FALSE))=TRUE,\"\",VLOOKUP($A421,check!$A:$L,4,FALSE))","v":""},{"$f":"IF(ISERROR(VLOOKUP($A421,check!$A:$L,5,FALSE))=TRUE,\"\",VLOOKUP($A421,check!$A:$L,5,FALSE))","v":""},{"$f":"IF(ISERROR(VLOOKUP($A421,check!$A:$L,6,FALSE))=TRUE,\"\",VLOOKUP($A421,check!$A:$L,6,FALSE))","v":""},{"$f":"IF(ISERROR(VLOOKUP($A421,check!$A:$L,7,FALSE))=TRUE,\"\",VLOOKUP($A421,check!$A:$L,7,FALSE))","v":""},{"$f":"IF(ISERROR(VLOOKUP($A421,check!$A:$L,8,FALSE))=TRUE,\"\",VLOOKUP($A421,check!$A:$L,8,FALSE))","v":""},{"$f":"IF(ISERROR(VLOOKUP($A421,check!$A:$L,9,FALSE))=TRUE,\"\",VLOOKUP($A421,check!$A:$L,9,FALSE))","v":""},{"$f":"IF(ISERROR(VLOOKUP($A421,check!$A:$L,10,FALSE))=TRUE,\"\",VLOOKUP($A421,check!$A:$L,10,FALSE))","v":""},{"$f":"IF(ISERROR(VLOOKUP($A421,check!$A:$L,11,FALSE))=TRUE,\"\",VLOOKUP($A421,check!$A:$L,11,FALSE))","v":""},{"$f":"IF(ISERROR(VLOOKUP($A421,check!$A:$L,12,FALSE))=TRUE,\"\",VLOOKUP($A421,check!$A:$L,12,FALSE))","v":""}]
[422,{"$f":"IF(C422=\"\",\"\",MATCH(A422,check!A:A,0))","v":""},{"$f":"IF(ISERROR(VLOOKUP($A422,check!$A:$L,2,FALSE))=TRUE,\"\",VLOOKUP($A422,check!$A:$L,2,FALSE))","v":""},{"$f":"IF(ISERROR(VLOOKUP($A422,check!$A:$L,3,FALSE))=TRUE,\"\",VLOOKUP($A422,check!$A:$L,3,FALSE))","v":""},{"$f":"IF(ISERROR(VLOOKUP($A422,check!$A:$L,4,FALSE))=TRUE,\"\",VLOOKUP($A422,check!$A:$L,4,FALSE))","v":""},{"$f":"IF(ISERROR(VLOOKUP($A422,check!$A:$L,5,FALSE))=TRUE,\"\",VLOOKUP($A422,check!$A:$L,5,FALSE))","v":""},{"$f":"IF(ISERROR(VLOOKUP($A422,check!$A:$L,6,FALSE))=TRUE,\"\",VLOOKUP($A422,check!$A:$L,6,FALSE))","v":""},{"$f":"IF(ISERROR(VLOOKUP($A422,check!$A:$L,7,FALSE))=TRUE,\"\",VLOOKUP($A422,check!$A:$L,7,FALSE))","v":""},{"$f":"IF(ISERROR(VLOOKUP($A422,check!$A:$L,8,FALSE))=TRUE,\"\",VLOOKUP($A422,check!$A:$L,8,FALSE))","v":""},{"$f":"IF(ISERROR(VLOOKUP($A422,check!$A:$L,9,FALSE))=TRUE,\"\",VLOOKUP($A422,check!$A:$L,9,FALSE))","v":""},{"$f":"IF(ISERROR(VLOOKUP($A422,check!$A:$L,10,FALSE))=TRUE,\"\",VLOOKUP($A422,check!$A:$L,10,FALSE))","v":""},{"$f":"IF(ISERROR(VLOOKUP($A422,check!$A:$L,11,FALSE))=TRUE,\"\",VLOOKUP($A422,check!$A:$L,11,FALSE))","v":""},{"$f":"IF(ISERROR(VLOOKUP($A422,check!$A:$L,12,FALSE))=TRUE,\"\",VLOOKUP($A422,check!$A:$L,12,FALSE))","v":""}]
[423,{"$f":"IF(C423=\"\",\"\",MATCH(A423,check!A:A,0))","v":""},{"$f":"IF(ISERROR(VLOOKUP($A423,check!$A:$L,2,FALSE))=TRUE,\"\",VLOOKUP($A423,check!$A:$L,2,FALSE))","v":""},{"$f":"IF(ISERROR(VLOOKUP($A423,check!$A:$L,3,FALSE))=TRUE,\"\",VLOOKUP($A423,check!$A:$L,3,FALSE))","v":""},{"$f":"IF(ISERROR(VLOOKUP($A423,check!$A:$L,4,FALSE))=TRUE,\"\",VLOOKUP($A423,check!$A:$L,4,FALSE))","v":""},{"$f":"IF(ISERROR(VLOOKUP($A423,check!$A:$L,5,FALSE))=TRUE,\"\",VLOOKUP($A423,check!$A:$L,5,FALSE))","v":""},{"$f":"IF(ISERROR(VLOOKUP($A423,check!$A:$L,6,FALSE))=TRUE,\"\",VLOOKUP($A423,check!$A:$L,6,FALSE))","v":""},{"$f":"IF(ISERROR(VLOOKUP($A423,check!$A:$L,7,FALSE))=TRUE,\"\",VLOOKUP($A423,check!$A:$L,7,FALSE))","v":""},{"$f":"IF(ISERROR(VLOOKUP($A423,check!$A:$L,8,FALSE))=TRUE,\"\",VLOOKUP($A423,check!$A:$L,8,FALSE))","v":""},{"$f":"IF(ISERROR(VLOOKUP($A423,check!$A:$L,9,FALSE))=TRUE,\"\",VLOOKUP($A423,check!$A:$L,9,FALSE))","v":""},{"$f":"IF(ISERROR(VLOOKUP($A423,check!$A:$L,10,FALSE))=TRUE,\"\",VLOOKUP($A423,check!$A:$L,10,FALSE))","v":""},{"$f":"IF(ISERROR(VLOOKUP($A423,check!$A:$L,11,FALSE))=TRUE,\"\",VLOOKUP($A423,check!$A:$L,11,FALSE))","v":""},{"$f":"IF(ISERROR(VLOOKUP($A423,check!$A:$L,12,FALSE))=TRUE,\"\",VLOOKUP($A423,check!$A:$L,12,FALSE))","v":""}]
[424,{"$f":"IF(C424=\"\",\"\",MATCH(A424,check!A:A,0))","v":""},{"$f":"IF(ISERROR(VLOOKUP($A424,check!$A:$L,2,FALSE))=TRUE,\"\",VLOOKUP($A424,check!$A:$L,2,FALSE))","v":""},{"$f":"IF(ISERROR(VLOOKUP($A424,check!$A:$L,3,FALSE))=TRUE,\"\",VLOOKUP($A424,check!$A:$L,3,FALSE))","v":""},{"$f":"IF(ISERROR(VLOOKUP($A424,check!$A:$L,4,FALSE))=TRUE,\"\",VLOOKUP($A424,check!$A:$L,4,FALSE))","v":""},{"$f":"IF(ISERROR(VLOOKUP($A424,check!$A:$L,5,FALSE))=TRUE,\"\",VLOOKUP($A424,check!$A:$L,5,FALSE))","v":""},{"$f":"IF(ISERROR(VLOOKUP($A424,check!$A:$L,6,FALSE))=TRUE,\"\",VLOOKUP($A424,check!$A:$L,6,FALSE))","v":""},{"$f":"IF(ISERROR(VLOOKUP($A424,check!$A:$L,7,FALSE))=TRUE,\"\",VLOOKUP($A424,check!$A:$L,7,FALSE))","v":""},{"$f":"IF(ISERROR(VLOOKUP($A424,check!$A:$L,8,FALSE))=TRUE,\"\",VLOOKUP($A424,check!$A:$L,8,FALSE))","v":""},{"$f":"IF(ISERROR(VLOOKUP($A424,check!$A:$L,9,FALSE))=TRUE,\"\",VLOOKUP($A424,check!$A:$L,9,FALSE))","v":""},{"$f":"IF(ISERROR(VLOOKUP($A424,check!$A:$L,10,FALSE))=TRUE,\"\",VLOOKUP($A424,check!$A:$L,10,FALSE))","v":""},{"$f":"IF(ISERROR(VLOOKUP($A424,check!$A:$L,11,FALSE))=TRUE,\"\",VLOOKUP($A424,check!$A:$L,11,FALSE))","v":""},{"$f":"IF(ISERROR(VLOOKUP($A424,check!$A:$L,12,FALSE))=TRUE,\"\",VLOOKUP($A424,check!$A:$L,12,FALSE))","v":""}]
[425,{"$f":"IF(C425=\"\",\"\",MATCH(A425,check!A:A,0))","v":""},{"$f":"IF(ISERROR(VLOOKUP($A425,check!$A:$L,2,FALSE))=TRUE,\"\",VLOOKUP($A425,check!$A:$L,2,FALSE))","v":""},{"$f":"IF(ISERROR(VLOOKUP($A425,check!$A:$L,3,FALSE))=TRUE,\"\",VLOOKUP($A425,check!$A:$L,3,FALSE))","v":""},{"$f":"IF(ISERROR(VLOOKUP($A425,check!$A:$L,4,FALSE))=TRUE,\"\",VLOOKUP($A425,check!$A:$L,4,FALSE))","v":""},{"$f":"IF(ISERROR(VLOOKUP($A425,check!$A:$L,5,FALSE))=TRUE,\"\",VLOOKUP($A425,check!$A:$L,5,FALSE))","v":""},{"$f":"IF(ISERROR(VLOOKUP($A425,check!$A:$L,6,FALSE))=TRUE,\"\",VLOOKUP($A425,check!$A:$L,6,FALSE))","v":""},{"$f":"IF(ISERROR(VLOOKUP($A425,check!$A:$L,7,FALSE))=TRUE,\"\",VLOOKUP($A425,check!$A:$L,7,FALSE))","v":""},{"$f":"IF(ISERROR(VLOOKUP($A425,check!$A:$L,8,FALSE))=TRUE,\"\",VLOOKUP($A425,check!$A:$L,8,FALSE))","v":""},{"$f":"IF(ISERROR(VLOOKUP($A425,check!$A:$L,9,FALSE))=TRUE,\"\",VLOOKUP($A425,check!$A:$L,9,FALSE))","v":""},{"$f":"IF(ISERROR(VLOOKUP($A425,check!$A:$L,10,FALSE))=TRUE,\"\",VLOOKUP($A425,check!$A:$L,10,FALSE))","v":""},{"$f":"IF(ISERROR(VLOOKUP($A425,check!$A:$L,11,FALSE))=TRUE,\"\",VLOOKUP($A425,check!$A:$L,11,FALSE))","v":""},{"$f":"IF(ISERROR(VLOOKUP($A425,check!$A:$L,12,FALSE))=TRUE,\"\",VLOOKUP($A425,check!$A:$L,12,FALSE))","v":""}]
[426,{"$f":"IF(C426=\"\",\"\",MATCH(A426,check!A:A,0))","v":""},{"$f":"IF(ISERROR(VLOOKUP($A426,check!$A:$L,2,FALSE))=TRUE,\"\",VLOOKUP($A426,check!$A:$L,2,FALSE))","v":""},{"$f":"IF(ISERROR(VLOOKUP($A426,check!$A:$L,3,FALSE))=TRUE,\"\",VLOOKUP($A426,check!$A:$L,3,FALSE))","v":""},{"$f":"IF(ISERROR(VLOOKUP($A426,check!$A:$L,4,FALSE))=TRUE,\"\",VLOOKUP($A426,check!$A:$L,4,FALSE))","v":""},{"$f":"IF(ISERROR(VLOOKUP($A426,check!$A:$L,5,FALSE))=TRUE,\"\",VLOOKUP($A426,check!$A:$L,5,FALSE))","v":""},{"$f":"IF(ISERROR(VLOOKUP($A426,check!$A:$L,6,FALSE))=TRUE,\"\",VLOOKUP($A426,check!$A:$L,6,FALSE))","v":""},{"$f":"IF(ISERROR(VLOOKUP($A426,check!$A:$L,7,FALSE))=TRUE,\"\",VLOOKUP($A426,check!$A:$L,7,FALSE))","v":""},{"$f":"IF(ISERROR(VLOOKUP($A426,check!$A:$L,8,FALSE))=TRUE,\"\",VLOOKUP($A426,check!$A:$L,8,FALSE))","v":""},{"$f":"IF(ISERROR(VLOOKUP($A426,check!$A:$L,9,FALSE))=TRUE,\"\",VLOOKUP($A426,check!$A:$L,9,FALSE))","v":""},{"$f":"IF(ISERROR(VLOOKUP($A426,check!$A:$L,10,FALSE))=TRUE,\"\",VLOOKUP($A426,check!$A:$L,10,FALSE))","v":""},{"$f":"IF(ISERROR(VLOOKUP($A426,check!$A:$L,11,FALSE))=TRUE,\"\",VLOOKUP($A426,check!$A:$L,11,FALSE))","v":""},{"$f":"IF(ISERROR(VLOOKUP($A426,check!$A:$L,12,FALSE))=TRUE,\"\",VLOOKUP($A426,check!$A:$L,12,FALSE))","v":""}]
[427,{"$f":"IF(C427=\"\",\"\",MATCH(A427,check!A:A,0))","v":""},{"$f":"IF(ISERROR(VLOOKUP($A427,check!$A:$L,2,FALSE))=TRUE,\"\",VLOOKUP($A427,check!$A:$L,2,FALSE))","v":""},{"$f":"IF(ISERROR(VLOOKUP($A427,check!$A:$L,3,FALSE))=TRUE,\"\",VLOOKUP($A427,check!$A:$L,3,FALSE))","v":""},{"$f":"IF(ISERROR(VLOOKUP($A427,check!$A:$L,4,FALSE))=TRUE,\"\",VLOOKUP($A427,check!$A:$L,4,FALSE))","v":""},{"$f":"IF(ISERROR(VLOOKUP($A427,check!$A:$L,5,FALSE))=TRUE,\"\",VLOOKUP($A427,check!$A:$L,5,FALSE))","v":""},{"$f":"IF(ISERROR(VLOOKUP($A427,check!$A:$L,6,FALSE))=TRUE,\"\",VLOOKUP($A427,check!$A:$L,6,FALSE))","v":""},{"$f":"IF(ISERROR(VLOOKUP($A427,check!$A:$L,7,FALSE))=TRUE,\"\",VLOOKUP($A427,check!$A:$L,7,FALSE))","v":""},{"$f":"IF(ISERROR(VLOOKUP($A427,check!$A:$L,8,FALSE))=TRUE,\"\",VLOOKUP($A427,check!$A:$L,8,FALSE))","v":""},{"$f":"IF(ISERROR(VLOOKUP($A427,check!$A:$L,9,FALSE))=TRUE,\"\",VLOOKUP($A427,check!$A:$L,9,FALSE))","v":""},{"$f":"IF(ISERROR(VLOOKUP($A427,check!$A:$L,10,FALSE))=TRUE,\"\",VLOOKUP($A427,check!$A:$L,10,FALSE))","v":""},{"$f":"IF(ISERROR(VLOOKUP($A427,check!$A:$L,11,FALSE))=TRUE,\"\",VLOOKUP($A427,check!$A:$L,11,FALSE))","v":""},{"$f":"IF(ISERROR(VLOOKUP($A427,check!$A:$L,12,FALSE))=TRUE,\"\",VLOOKUP($A427,check!$A:$L,12,FALSE))","v":""}]
[428,{"$f":"IF(C428=\"\",\"\",MATCH(A428,check!A:A,0))","v":""},{"$f":"IF(ISERROR(VLOOKUP($A428,check!$A:$L,2,FALSE))=TRUE,\"\",VLOOKUP($A428,check!$A:$L,2,FALSE))","v":""},{"$f":"IF(ISERROR(VLOOKUP($A428,check!$A:$L,3,FALSE))=TRUE,\"\",VLOOKUP($A428,check!$A:$L,3,FALSE))","v":""},{"$f":"IF(ISERROR(VLOOKUP($A428,check!$A:$L,4,FALSE))=TRUE,\"\",VLOOKUP($A428,check!$A:$L,4,FALSE))","v":""},{"$f":"IF(ISERROR(VLOOKUP($A428,check!$A:$L,5,FALSE))=TRUE,\"\",VLOOKUP($A428,check!$A:$L,5,FALSE))","v":""},{"$f":"IF(ISERROR(VLOOKUP($A428,check!$A:$L,6,FALSE))=TRUE,\"\",VLOOKUP($A428,check!$A:$L,6,FALSE))","v":""},{"$f":"IF(ISERROR(VLOOKUP($A428,check!$A:$L,7,FALSE))=TRUE,\"\",VLOOKUP($A428,check!$A:$L,7,FALSE))","v":""},{"$f":"IF(ISERROR(VLOOKUP($A428,check!$A:$L,8,FALSE))=TRUE,\"\",VLOOKUP($A428,check!$A:$L,8,FALSE))","v":""},{"$f":"IF(ISERROR(VLOOKUP($A428,check!$A:$L,9,FALSE))=TRUE,\"\",VLOOKUP($A428,check!$A:$L,9,FALSE))","v":""},{"$f":"IF(ISERROR(VLOOKUP($A428,check!$A:$L,10,FALSE))=TRUE,\"\",VLOOKUP($A428,check!$A:$L,10,FALSE))","v":""},{"$f":"IF(ISERROR(VLOOKUP($A428,check!$A:$L,11,FALSE))=TRUE,\"\",VLOOKUP($A428,check!$A:$L,11,FALSE))","v":""},{"$f":"IF(ISERROR(VLOOKUP($A428,check!$A:$L,12,FALSE))=TRUE,\"\",VLOOKUP($A428,check!$A:$L,12,FALSE))","v":""}]
[429,{"$f":"IF(C429=\"\",\"\",MATCH(A429,check!A:A,0))","v":""},{"$f":"IF(ISERROR(VLOOKUP($A429,check!$A:$L,2,FALSE))=TRUE,\"\",VLOOKUP($A429,check!$A:$L,2,FALSE))","v":""},{"$f":"IF(ISERROR(VLOOKUP($A429,check!$A:$L,3,FALSE))=TRUE,\"\",VLOOKUP($A429,check!$A:$L,3,FALSE))","v":""},{"$f":"IF(ISERROR(VLOOKUP($A429,check!$A:$L,4,FALSE))=TRUE,\"\",VLOOKUP($A429,check!$A:$L,4,FALSE))","v":""},{"$f":"IF(ISERROR(VLOOKUP($A429,check!$A:$L,5,FALSE))=TRUE,\"\",VLOOKUP($A429,check!$A:$L,5,FALSE))","v":""},{"$f":"IF(ISERROR(VLOOKUP($A429,check!$A:$L,6,FALSE))=TRUE,\"\",VLOOKUP($A429,check!$A:$L,6,FALSE))","v":""},{"$f":"IF(ISERROR(VLOOKUP($A429,check!$A:$L,7,FALSE))=TRUE,\"\",VLOOKUP($A429,check!$A:$L,7,FALSE))","v":""},{"$f":"IF(ISERROR(VLOOKUP($A429,check!$A:$L,8,FALSE))=TRUE,\"\",VLOOKUP($A429,check!$A:$L,8,FALSE))","v":""},{"$f":"IF(ISERROR(VLOOKUP($A429,check!$A:$L,9,FALSE))=TRUE,\"\",VLOOKUP($A429,check!$A:$L,9,FALSE))","v":""},{"$f":"IF(ISERROR(VLOOKUP($A429,check!$A:$L,10,FALSE))=TRUE,\"\",VLOOKUP($A429,check!$A:$L,10,FALSE))","v":""},{"$f":"IF(ISERROR(VLOOKUP($A429,check!$A:$L,11,FALSE))=TRUE,\"\",VLOOKUP($A429,check!$A:$L,11,FALSE))","v":""},{"$f":"IF(ISERROR(VLOOKUP($A429,check!$A:$L,12,FALSE))=TRUE,\"\",VLOOKUP($A429,check!$A:$L,12,FALSE))","v":""}]
[430,{"$f":"IF(C430=\"\",\"\",MATCH(A430,check!A:A,0))","v":""},{"$f":"IF(ISERROR(VLOOKUP($A430,check!$A:$L,2,FALSE))=TRUE,\"\",VLOOKUP($A430,check!$A:$L,2,FALSE))","v":""},{"$f":"IF(ISERROR(VLOOKUP($A430,check!$A:$L,3,FALSE))=TRUE,\"\",VLOOKUP($A430,check!$A:$L,3,FALSE))","v":""},{"$f":"IF(ISERROR(VLOOKUP($A430,check!$A:$L,4,FALSE))=TRUE,\"\",VLOOKUP($A430,check!$A:$L,4,FALSE))","v":""},{"$f":"IF(ISERROR(VLOOKUP($A430,check!$A:$L,5,FALSE))=TRUE,\"\",VLOOKUP($A430,check!$A:$L,5,FALSE))","v":""},{"$f":"IF(ISERROR(VLOOKUP($A430,check!$A:$L,6,FALSE))=TRUE,\"\",VLOOKUP($A430,check!$A:$L,6,FALSE))","v":""},{"$f":"IF(ISERROR(VLOOKUP($A430,check!$A:$L,7,FALSE))=TRUE,\"\",VLOOKUP($A430,check!$A:$L,7,FALSE))","v":""},{"$f":"IF(ISERROR(VLOOKUP($A430,check!$A:$L,8,FALSE))=TRUE,\"\",VLOOKUP($A430,check!$A:$L,8,FALSE))","v":""},{"$f":"IF(ISERROR(VLOOKUP($A430,check!$A:$L,9,FALSE))=TRUE,\"\",VLOOKUP($A430,check!$A:$L,9,FALSE))","v":""},{"$f":"IF(ISERROR(VLOOKUP($A430,check!$A:$L,10,FALSE))=TRUE,\"\",VLOOKUP($A430,check!$A:$L,10,FALSE))","v":""},{"$f":"IF(ISERROR(VLOOKUP($A430,check!$A:$L,11,FALSE))=TRUE,\"\",VLOOKUP($A430,check!$A:$L,11,FALSE))","v":""},{"$f":"IF(ISERROR(VLOOKUP($A430,check!$A:$L,12,FALSE))=TRUE,\"\",VLOOKUP($A430,check!$A:$L,12,FALSE))","v":""}]
[431,{"$f":"IF(C431=\"\",\"\",MATCH(A431,check!A:A,0))","v":""},{"$f":"IF(ISERROR(VLOOKUP($A431,check!$A:$L,2,FALSE))=TRUE,\"\",VLOOKUP($A431,check!$A:$L,2,FALSE))","v":""},{"$f":"IF(ISERROR(VLOOKUP($A431,check!$A:$L,3,FALSE))=TRUE,\"\",VLOOKUP($A431,check!$A:$L,3,FALSE))","v":""},{"$f":"IF(ISERROR(VLOOKUP($A431,check!$A:$L,4,FALSE))=TRUE,\"\",VLOOKUP($A431,check!$A:$L,4,FALSE))","v":""},{"$f":"IF(ISERROR(VLOOKUP($A431,check!$A:$L,5,FALSE))=TRUE,\"\",VLOOKUP($A431,check!$A:$L,5,FALSE))","v":""},{"$f":"IF(ISERROR(VLOOKUP($A431,check!$A:$L,6,FALSE))=TRUE,\"\",VLOOKUP($A431,check!$A:$L,6,FALSE))","v":""},{"$f":"IF(ISERROR(VLOOKUP($A431,check!$A:$L,7,FALSE))=TRUE,\"\",VLOOKUP($A431,check!$A:$L,7,FALSE))","v":""},{"$f":"IF(ISERROR(VLOOKUP($A431,check!$A:$L,8,FALSE))=TRUE,\"\",VLOOKUP($A431,check!$A:$L,8,FALSE))","v":""},{"$f":"IF(ISERROR(VLOOKUP($A431,check!$A:$L,9,FALSE))=TRUE,\"\",VLOOKUP($A431,check!$A:$L,9,FALSE))","v":""},{"$f":"IF(ISERROR(VLOOKUP($A431,check!$A:$L,10,FALSE))=TRUE,\"\",VLOOKUP($A431,check!$A:$L,10,FALSE))","v":""},{"$f":"IF(ISERROR(VLOOKUP($A431,check!$A:$L,11,FALSE))=TRUE,\"\",VLOOKUP($A431,check!$A:$L,11,FALSE))","v":""},{"$f":"IF(ISERROR(VLOOKUP($A431,check!$A:$L,12,FALSE))=TRUE,\"\",VLOOKUP($A431,check!$A:$L,12,FALSE))","v":""}]
[432,{"$f":"IF(C432=\"\",\"\",MATCH(A432,check!A:A,0))","v":""},{"$f":"IF(ISERROR(VLOOKUP($A432,check!$A:$L,2,FALSE))=TRUE,\"\",VLOOKUP($A432,check!$A:$L,2,FALSE))","v":""},{"$f":"IF(ISERROR(VLOOKUP($A432,check!$A:$L,3,FALSE))=TRUE,\"\",VLOOKUP($A432,check!$A:$L,3,FALSE))","v":""},{"$f":"IF(ISERROR(VLOOKUP($A432,check!$A:$L,4,FALSE))=TRUE,\"\",VLOOKUP($A432,check!$A:$L,4,FALSE))","v":""},{"$f":"IF(ISERROR(VLOOKUP($A432,check!$A:$L,5,FALSE))=TRUE,\"\",VLOOKUP($A432,check!$A:$L,5,FALSE))","v":""},{"$f":"IF(ISERROR(VLOOKUP($A432,check!$A:$L,6,FALSE))=TRUE,\"\",VLOOKUP($A432,check!$A:$L,6,FALSE))","v":""},{"$f":"IF(ISERROR(VLOOKUP($A432,check!$A:$L,7,FALSE))=TRUE,\"\",VLOOKUP($A432,check!$A:$L,7,FALSE))","v":""},{"$f":"IF(ISERROR(VLOOKUP($A432,check!$A:$L,8,FALSE))=TRUE,\"\",VLOOKUP($A432,check!$A:$L,8,FALSE))","v":""},{"$f":"IF(ISERROR(VLOOKUP($A432,check!$A:$L,9,FALSE))=TRUE,\"\",VLOOKUP($A432,check!$A:$L,9,FALSE))","v":""},{"$f":"IF(ISERROR(VLOOKUP($A432,check!$A:$L,10,FALSE))=TRUE,\"\",VLOOKUP($A432,check!$A:$L,10,FALSE))","v":""},{"$f":"IF(ISERROR(VLOOKUP($A432,check!$A:$L,11,FALSE))=TRUE,\"\",VLOOKUP($A432,check!$A:$L,11,FALSE))","v":""},{"$f":"IF(ISERROR(VLOOKUP($A432,check!$A:$L,12,FALSE))=TRUE,\"\",VLOOKUP($A432,check!$A:$L,12,FALSE))","v":""}]
[433,{"$f":"IF(C433=\"\",\"\",MATCH(A433,check!A:A,0))","v":""},{"$f":"IF(ISERROR(VLOOKUP($A433,check!$A:$L,2,FALSE))=TRUE,\"\",VLOOKUP($A433,check!$A:$L,2,FALSE))","v":""},{"$f":"IF(ISERROR(VLOOKUP($A433,check!$A:$L,3,FALSE))=TRUE,\"\",VLOOKUP($A433,check!$A:$L,3,FALSE))","v":""},{"$f":"IF(ISERROR(VLOOKUP($A433,check!$A:$L,4,FALSE))=TRUE,\"\",VLOOKUP($A433,check!$A:$L,4,FALSE))","v":""},{"$f":"IF(ISERROR(VLOOKUP($A433,check!$A:$L,5,FALSE))=TRUE,\"\",VLOOKUP($A433,check!$A:$L,5,FALSE))","v":""},{"$f":"IF(ISERROR(VLOOKUP($A433,check!$A:$L,6,FALSE))=TRUE,\"\",VLOOKUP($A433,check!$A:$L,6,FALSE))","v":""},{"$f":"IF(ISERROR(VLOOKUP($A433,check!$A:$L,7,FALSE))=TRUE,\"\",VLOOKUP($A433,check!$A:$L,7,FALSE))","v":""},{"$f":"IF(ISERROR(VLOOKUP($A433,check!$A:$L,8,FALSE))=TRUE,\"\",VLOOKUP($A433,check!$A:$L,8,FALSE))","v":""},{"$f":"IF(ISERROR(VLOOKUP($A433,check!$A:$L,9,FALSE))=TRUE,\"\",VLOOKUP($A433,check!$A:$L,9,FALSE))","v":""},{"$f":"IF(ISERROR(VLOOKUP($A433,check!$A:$L,10,FALSE))=TRUE,\"\",VLOOKUP($A433,check!$A:$L,10,FALSE))","v":""},{"$f":"IF(ISERROR(VLOOKUP($A433,check!$A:$L,11,FALSE))=TRUE,\"\",VLOOKUP($A433,check!$A:$L,11,FALSE))","v":""},{"$f":"IF(ISERROR(VLOOKUP($A433,check!$A:$L,12,FALSE))=TRUE,\"\",VLOOKUP($A433,check!$A:$L,12,FALSE))","v":""}]
[434,{"$f":"IF(C434=\"\",\"\",MATCH(A434,check!A:A,0))","v":""},{"$f":"IF(ISERROR(VLOOKUP($A434,check!$A:$L,2,FALSE))=TRUE,\"\",VLOOKUP($A434,check!$A:$L,2,FALSE))","v":""},{"$f":"IF(ISERROR(VLOOKUP($A434,check!$A:$L,3,FALSE))=TRUE,\"\",VLOOKUP($A434,check!$A:$L,3,FALSE))","v":""},{"$f":"IF(ISERROR(VLOOKUP($A434,check!$A:$L,4,FALSE))=TRUE,\"\",VLOOKUP($A434,check!$A:$L,4,FALSE))","v":""},{"$f":"IF(ISERROR(VLOOKUP($A434,check!$A:$L,5,FALSE))=TRUE,\"\",VLOOKUP($A434,check!$A:$L,5,FALSE))","v":""},{"$f":"IF(ISERROR(VLOOKUP($A434,check!$A:$L,6,FALSE))=TRUE,\"\",VLOOKUP($A434,check!$A:$L,6,FALSE))","v":""},{"$f":"IF(ISERROR(VLOOKUP($A434,check!$A:$L,7,FALSE))=TRUE,\"\",VLOOKUP($A434,check!$A:$L,7,FALSE))","v":""},{"$f":"IF(ISERROR(VLOOKUP($A434,check!$A:$L,8,FALSE))=TRUE,\"\",VLOOKUP($A434,check!$A:$L,8,FALSE))","v":""},{"$f":"IF(ISERROR(VLOOKUP($A434,check!$A:$L,9,FALSE))=TRUE,\"\",VLOOKUP($A434,check!$A:$L,9,FALSE))","v":""},{"$f":"IF(ISERROR(VLOOKUP($A434,check!$A:$L,10,FALSE))=TRUE,\"\",VLOOKUP($A434,check!$A:$L,10,FALSE))","v":""},{"$f":"IF(ISERROR(VLOOKUP($A434,check!$A:$L,11,FALSE))=TRUE,\"\",VLOOKUP($A434,check!$A:$L,11,FALSE))","v":""},{"$f":"IF(ISERROR(VLOOKUP($A434,check!$A:$L,12,FALSE))=TRUE,\"\",VLOOKUP($A434,check!$A:$L,12,FALSE))","v":""}]
[435,{"$f":"IF(C435=\"\",\"\",MATCH(A435,check!A:A,0))","v":""},{"$f":"IF(ISERROR(VLOOKUP($A435,check!$A:$L,2,FALSE))=TRUE,\"\",VLOOKUP($A435,check!$A:$L,2,FALSE))","v":""},{"$f":"IF(ISERROR(VLOOKUP($A435,check!$A:$L,3,FALSE))=TRUE,\"\",VLOOKUP($A435,check!$A:$L,3,FALSE))","v":""},{"$f":"IF(ISERROR(VLOOKUP($A435,check!$A:$L,4,FALSE))=TRUE,\"\",VLOOKUP($A435,check!$A:$L,4,FALSE))","v":""},{"$f":"IF(ISERROR(VLOOKUP($A435,check!$A:$L,5,FALSE))=TRUE,\"\",VLOOKUP($A435,check!$A:$L,5,FALSE))","v":""},{"$f":"IF(ISERROR(VLOOKUP($A435,check!$A:$L,6,FALSE))=TRUE,\"\",VLOOKUP($A435,check!$A:$L,6,FALSE))","v":""},{"$f":"IF(ISERROR(VLOOKUP($A435,check!$A:$L,7,FALSE))=TRUE,\"\",VLOOKUP($A435,check!$A:$L,7,FALSE))","v":""},{"$f":"IF(ISERROR(VLOOKUP($A435,check!$A:$L,8,FALSE))=TRUE,\"\",VLOOKUP($A435,check!$A:$L,8,FALSE))","v":""},{"$f":"IF(ISERROR(VLOOKUP($A435,check!$A:$L,9,FALSE))=TRUE,\"\",VLOOKUP($A435,check!$A:$L,9,FALSE))","v":""},{"$f":"IF(ISERROR(VLOOKUP($A435,check!$A:$L,10,FALSE))=TRUE,\"\",VLOOKUP($A435,check!$A:$L,10,FALSE))","v":""},{"$f":"IF(ISERROR(VLOOKUP($A435,check!$A:$L,11,FALSE))=TRUE,\"\",VLOOKUP($A435,check!$A:$L,11,FALSE))","v":""},{"$f":"IF(ISERROR(VLOOKUP($A435,check!$A:$L,12,FALSE))=TRUE,\"\",VLOOKUP($A435,check!$A:$L,12,FALSE))","v":""}]
[436,{"$f":"IF(C436=\"\",\"\",MATCH(A436,check!A:A,0))","v":""},{"$f":"IF(ISERROR(VLOOKUP($A436,check!$A:$L,2,FALSE))=TRUE,\"\",VLOOKUP($A436,check!$A:$L,2,FALSE))","v":""},{"$f":"IF(ISERROR(VLOOKUP($A436,check!$A:$L,3,FALSE))=TRUE,\"\",VLOOKUP($A436,check!$A:$L,3,FALSE))","v":""},{"$f":"IF(ISERROR(VLOOKUP($A436,check!$A:$L,4,FALSE))=TRUE,\"\",VLOOKUP($A436,check!$A:$L,4,FALSE))","v":""},{"$f":"IF(ISERROR(VLOOKUP($A436,check!$A:$L,5,FALSE))=TRUE,\"\",VLOOKUP($A436,check!$A:$L,5,FALSE))","v":""},{"$f":"IF(ISERROR(VLOOKUP($A436,check!$A:$L,6,FALSE))=TRUE,\"\",VLOOKUP($A436,check!$A:$L,6,FALSE))","v":""},{"$f":"IF(ISERROR(VLOOKUP($A436,check!$A:$L,7,FALSE))=TRUE,\"\",VLOOKUP($A436,check!$A:$L,7,FALSE))","v":""},{"$f":"IF(ISERROR(VLOOKUP($A436,check!$A:$L,8,FALSE))=TRUE,\"\",VLOOKUP($A436,check!$A:$L,8,FALSE))","v":""},{"$f":"IF(ISERROR(VLOOKUP($A436,check!$A:$L,9,FALSE))=TRUE,\"\",VLOOKUP($A436,check!$A:$L,9,FALSE))","v":""},{"$f":"IF(ISERROR(VLOOKUP($A436,check!$A:$L,10,FALSE))=TRUE,\"\",VLOOKUP($A436,check!$A:$L,10,FALSE))","v":""},{"$f":"IF(ISERROR(VLOOKUP($A436,check!$A:$L,11,FALSE))=TRUE,\"\",VLOOKUP($A436,check!$A:$L,11,FALSE))","v":""},{"$f":"IF(ISERROR(VLOOKUP($A436,check!$A:$L,12,FALSE))=TRUE,\"\",VLOOKUP($A436,check!$A:$L,12,FALSE))","v":""}]
[437,{"$f":"IF(C437=\"\",\"\",MATCH(A437,check!A:A,0))","v":""},{"$f":"IF(ISERROR(VLOOKUP($A437,check!$A:$L,2,FALSE))=TRUE,\"\",VLOOKUP($A437,check!$A:$L,2,FALSE))","v":""},{"$f":"IF(ISERROR(VLOOKUP($A437,check!$A:$L,3,FALSE))=TRUE,\"\",VLOOKUP($A437,check!$A:$L,3,FALSE))","v":""},{"$f":"IF(ISERROR(VLOOKUP($A437,check!$A:$L,4,FALSE))=TRUE,\"\",VLOOKUP($A437,check!$A:$L,4,FALSE))","v":""},{"$f":"IF(ISERROR(VLOOKUP($A437,check!$A:$L,5,FALSE))=TRUE,\"\",VLOOKUP($A437,check!$A:$L,5,FALSE))","v":""},{"$f":"IF(ISERROR(VLOOKUP($A437,check!$A:$L,6,FALSE))=TRUE,\"\",VLOOKUP($A437,check!$A:$L,6,FALSE))","v":""},{"$f":"IF(ISERROR(VLOOKUP($A437,check!$A:$L,7,FALSE))=TRUE,\"\",VLOOKUP($A437,check!$A:$L,7,FALSE))","v":""},{"$f":"IF(ISERROR(VLOOKUP($A437,check!$A:$L,8,FALSE))=TRUE,\"\",VLOOKUP($A437,check!$A:$L,8,FALSE))","v":""},{"$f":"IF(ISERROR(VLOOKUP($A437,check!$A:$L,9,FALSE))=TRUE,\"\",VLOOKUP($A437,check!$A:$L,9,FALSE))","v":""},{"$f":"IF(ISERROR(VLOOKUP($A437,check!$A:$L,10,FALSE))=TRUE,\"\",VLOOKUP($A437,check!$A:$L,10,FALSE))","v":""},{"$f":"IF(ISERROR(VLOOKUP($A437,check!$A:$L,11,FALSE))=TRUE,\"\",VLOOKUP($A437,check!$A:$L,11,FALSE))","v":""},{"$f":"IF(ISERROR(VLOOKUP($A437,check!$A:$L,12,FALSE))=TRUE,\"\",VLOOKUP($A437,check!$A:$L,12,FALSE))","v":""}]
[438,{"$f":"IF(C438=\"\",\"\",MATCH(A438,check!A:A,0))","v":""},{"$f":"IF(ISERROR(VLOOKUP($A438,check!$A:$L,2,FALSE))=TRUE,\"\",VLOOKUP($A438,check!$A:$L,2,FALSE))","v":""},{"$f":"IF(ISERROR(VLOOKUP($A438,check!$A:$L,3,FALSE))=TRUE,\"\",VLOOKUP($A438,check!$A:$L,3,FALSE))","v":""},{"$f":"IF(ISERROR(VLOOKUP($A438,check!$A:$L,4,FALSE))=TRUE,\"\",VLOOKUP($A438,check!$A:$L,4,FALSE))","v":""},{"$f":"IF(ISERROR(VLOOKUP($A438,check!$A:$L,5,FALSE))=TRUE,\"\",VLOOKUP($A438,check!$A:$L,5,FALSE))","v":""},{"$f":"IF(ISERROR(VLOOKUP($A438,check!$A:$L,6,FALSE))=TRUE,\"\",VLOOKUP($A438,check!$A:$L,6,FALSE))","v":""},{"$f":"IF(ISERROR(VLOOKUP($A438,check!$A:$L,7,FALSE))=TRUE,\"\",VLOOKUP($A438,check!$A:$L,7,FALSE))","v":""},{"$f":"IF(ISERROR(VLOOKUP($A438,check!$A:$L,8,FALSE))=TRUE,\"\",VLOOKUP($A438,check!$A:$L,8,FALSE))","v":""},{"$f":"IF(ISERROR(VLOOKUP($A438,check!$A:$L,9,FALSE))=TRUE,\"\",VLOOKUP($A438,check!$A:$L,9,FALSE))","v":""},{"$f":"IF(ISERROR(VLOOKUP($A438,check!$A:$L,10,FALSE))=TRUE,\"\",VLOOKUP($A438,check!$A:$L,10,FALSE))","v":""},{"$f":"IF(ISERROR(VLOOKUP($A438,check!$A:$L,11,FALSE))=TRUE,\"\",VLOOKUP($A438,check!$A:$L,11,FALSE))","v":""},{"$f":"IF(ISERROR(VLOOKUP($A438,check!$A:$L,12,FALSE))=TRUE,\"\",VLOOKUP($A438,check!$A:$L,12,FALSE))","v":""}]
[439,{"$f":"IF(C439=\"\",\"\",MATCH(A439,check!A:A,0))","v":""},{"$f":"IF(ISERROR(VLOOKUP($A439,check!$A:$L,2,FALSE))=TRUE,\"\",VLOOKUP($A439,check!$A:$L,2,FALSE))","v":""},{"$f":"IF(ISERROR(VLOOKUP($A439,check!$A:$L,3,FALSE))=TRUE,\"\",VLOOKUP($A439,check!$A:$L,3,FALSE))","v":""},{"$f":"IF(ISERROR(VLOOKUP($A439,check!$A:$L,4,FALSE))=TRUE,\"\",VLOOKUP($A439,check!$A:$L,4,FALSE))","v":""},{"$f":"IF(ISERROR(VLOOKUP($A439,check!$A:$L,5,FALSE))=TRUE,\"\",VLOOKUP($A439,check!$A:$L,5,FALSE))","v":""},{"$f":"IF(ISERROR(VLOOKUP($A439,check!$A:$L,6,FALSE))=TRUE,\"\",VLOOKUP($A439,check!$A:$L,6,FALSE))","v":""},{"$f":"IF(ISERROR(VLOOKUP($A439,check!$A:$L,7,FALSE))=TRUE,\"\",VLOOKUP($A439,check!$A:$L,7,FALSE))","v":""},{"$f":"IF(ISERROR(VLOOKUP($A439,check!$A:$L,8,FALSE))=TRUE,\"\",VLOOKUP($A439,check!$A:$L,8,FALSE))","v":""},{"$f":"IF(ISERROR(VLOOKUP($A439,check!$A:$L,9,FALSE))=TRUE,\"\",VLOOKUP($A439,check!$A:$L,9,FALSE))","v":""},{"$f":"IF(ISERROR(VLOOKUP($A439,check!$A:$L,10,FALSE))=TRUE,\"\",VLOOKUP($A439,check!$A:$L,10,FALSE))","v":""},{"$f":"IF(ISERROR(VLOOKUP($A439,check!$A:$L,11,FALSE))=TRUE,\"\",VLOOKUP($A439,check!$A:$L,11,FALSE))","v":""},{"$f":"IF(ISERROR(VLOOKUP($A439,check!$A:$L,12,FALSE))=TRUE,\"\",VLOOKUP($A439,check!$A:$L,12,FALSE))","v":""}]
[440,{"$f":"IF(C440=\"\",\"\",MATCH(A440,check!A:A,0))","v":""},{"$f":"IF(ISERROR(VLOOKUP($A440,check!$A:$L,2,FALSE))=TRUE,\"\",VLOOKUP($A440,check!$A:$L,2,FALSE))","v":""},{"$f":"IF(ISERROR(VLOOKUP($A440,check!$A:$L,3,FALSE))=TRUE,\"\",VLOOKUP($A440,check!$A:$L,3,FALSE))","v":""},{"$f":"IF(ISERROR(VLOOKUP($A440,check!$A:$L,4,FALSE))=TRUE,\"\",VLOOKUP($A440,check!$A:$L,4,FALSE))","v":""},{"$f":"IF(ISERROR(VLOOKUP($A440,check!$A:$L,5,FALSE))=TRUE,\"\",VLOOKUP($A440,check!$A:$L,5,FALSE))","v":""},{"$f":"IF(ISERROR(VLOOKUP($A440,check!$A:$L,6,FALSE))=TRUE,\"\",VLOOKUP($A440,check!$A:$L,6,FALSE))","v":""},{"$f":"IF(ISERROR(VLOOKUP($A440,check!$A:$L,7,FALSE))=TRUE,\"\",VLOOKUP($A440,check!$A:$L,7,FALSE))","v":""},{"$f":"IF(ISERROR(VLOOKUP($A440,check!$A:$L,8,FALSE))=TRUE,\"\",VLOOKUP($A440,check!$A:$L,8,FALSE))","v":""},{"$f":"IF(ISERROR(VLOOKUP($A440,check!$A:$L,9,FALSE))=TRUE,\"\",VLOOKUP($A440,check!$A:$L,9,FALSE))","v":""},{"$f":"IF(ISERROR(VLOOKUP($A440,check!$A:$L,10,FALSE))=TRUE,\"\",VLOOKUP($A440,check!$A:$L,10,FALSE))","v":""},{"$f":"IF(ISERROR(VLOOKUP($A440,check!$A:$L,11,FALSE))=TRUE,\"\",VLOOKUP($A440,check!$A:$L,11,FALSE))","v":""},{"$f":"IF(ISERROR(VLOOKUP($A440,check!$A:$L,12,FALSE))=TRUE,\"\",VLOOKUP($A440,check!$A:$L,12,FALSE))","v":""}]
[441,{"$f":"IF(C441=\"\",\"\",MATCH(A441,check!A:A,0))","v":""},{"$f":"IF(ISERROR(VLOOKUP($A441,check!$A:$L,2,FALSE))=TRUE,\"\",VLOOKUP($A441,check!$A:$L,2,FALSE))","v":""},{"$f":"IF(ISERROR(VLOOKUP($A441,check!$A:$L,3,FALSE))=TRUE,\"\",VLOOKUP($A441,check!$A:$L,3,FALSE))","v":""},{"$f":"IF(ISERROR(VLOOKUP($A441,check!$A:$L,4,FALSE))=TRUE,\"\",VLOOKUP($A441,check!$A:$L,4,FALSE))","v":""},{"$f":"IF(ISERROR(VLOOKUP($A441,check!$A:$L,5,FALSE))=TRUE,\"\",VLOOKUP($A441,check!$A:$L,5,FALSE))","v":""},{"$f":"IF(ISERROR(VLOOKUP($A441,check!$A:$L,6,FALSE))=TRUE,\"\",VLOOKUP($A441,check!$A:$L,6,FALSE))","v":""},{"$f":"IF(ISERROR(VLOOKUP($A441,check!$A:$L,7,FALSE))=TRUE,\"\",VLOOKUP($A441,check!$A:$L,7,FALSE))","v":""},{"$f":"IF(ISERROR(VLOOKUP($A441,check!$A:$L,8,FALSE))=TRUE,\"\",VLOOKUP($A441,check!$A:$L,8,FALSE))","v":""},{"$f":"IF(ISERROR(VLOOKUP($A441,check!$A:$L,9,FALSE))=TRUE,\"\",VLOOKUP($A441,check!$A:$L,9,FALSE))","v":""},{"$f":"IF(ISERROR(VLOOKUP($A441,check!$A:$L,10,FALSE))=TRUE,\"\",VLOOKUP($A441,check!$A:$L,10,FALSE))","v":""},{"$f":"IF(ISERROR(VLOOKUP($A441,check!$A:$L,11,FALSE))=TRUE,\"\",VLOOKUP($A441,check!$A:$L,11,FALSE))","v":""},{"$f":"IF(ISERROR(VLOOKUP($A441,check!$A:$L,12,FALSE))=TRUE,\"\",VLOOKUP($A441,check!$A:$L,12,FALSE))","v":""}]
[442,{"$f":"IF(C442=\"\",\"\",MATCH(A442,check!A:A,0))","v":""},{"$f":"IF(ISERROR(VLOOKUP($A442,check!$A:$L,2,FALSE))=TRUE,\"\",VLOOKUP($A442,check!$A:$L,2,FALSE))","v":""},{"$f":"IF(ISERROR(VLOOKUP($A442,check!$A:$L,3,FALSE))=TRUE,\"\",VLOOKUP($A442,check!$A:$L,3,FALSE))","v":""},{"$f":"IF(ISERROR(VLOOKUP($A442,check!$A:$L,4,FALSE))=TRUE,\"\",VLOOKUP($A442,check!$A:$L,4,FALSE))","v":""},{"$f":"IF(ISERROR(VLOOKUP($A442,check!$A:$L,5,FALSE))=TRUE,\"\",VLOOKUP($A442,check!$A:$L,5,FALSE))","v":""},{"$f":"IF(ISERROR(VLOOKUP($A442,check!$A:$L,6,FALSE))=TRUE,\"\",VLOOKUP($A442,check!$A:$L,6,FALSE))","v":""},{"$f":"IF(ISERROR(VLOOKUP($A442,check!$A:$L,7,FALSE))=TRUE,\"\",VLOOKUP($A442,check!$A:$L,7,FALSE))","v":""},{"$f":"IF(ISERROR(VLOOKUP($A442,check!$A:$L,8,FALSE))=TRUE,\"\",VLOOKUP($A442,check!$A:$L,8,FALSE))","v":""},{"$f":"IF(ISERROR(VLOOKUP($A442,check!$A:$L,9,FALSE))=TRUE,\"\",VLOOKUP($A442,check!$A:$L,9,FALSE))","v":""},{"$f":"IF(ISERROR(VLOOKUP($A442,check!$A:$L,10,FALSE))=TRUE,\"\",VLOOKUP($A442,check!$A:$L,10,FALSE))","v":""},{"$f":"IF(ISERROR(VLOOKUP($A442,check!$A:$L,11,FALSE))=TRUE,\"\",VLOOKUP($A442,check!$A:$L,11,FALSE))","v":""},{"$f":"IF(ISERROR(VLOOKUP($A442,check!$A:$L,12,FALSE))=TRUE,\"\",VLOOKUP($A442,check!$A:$L,12,FALSE))","v":""}]
[443,{"$f":"IF(C443=\"\",\"\",MATCH(A443,check!A:A,0))","v":""},{"$f":"IF(ISERROR(VLOOKUP($A443,check!$A:$L,2,FALSE))=TRUE,\"\",VLOOKUP($A443,check!$A:$L,2,FALSE))","v":""},{"$f":"IF(ISERROR(VLOOKUP($A443,check!$A:$L,3,FALSE))=TRUE,\"\",VLOOKUP($A443,check!$A:$L,3,FALSE))","v":""},{"$f":"IF(ISERROR(VLOOKUP($A443,check!$A:$L,4,FALSE))=TRUE,\"\",VLOOKUP($A443,check!$A:$L,4,FALSE))","v":""},{"$f":"IF(ISERROR(VLOOKUP($A443,check!$A:$L,5,FALSE))=TRUE,\"\",VLOOKUP($A443,check!$A:$L,5,FALSE))","v":""},{"$f":"IF(ISERROR(VLOOKUP($A443,check!$A:$L,6,FALSE))=TRUE,\"\",VLOOKUP($A443,check!$A:$L,6,FALSE))","v":""},{"$f":"IF(ISERROR(VLOOKUP($A443,check!$A:$L,7,FALSE))=TRUE,\"\",VLOOKUP($A443,check!$A:$L,7,FALSE))","v":""},{"$f":"IF(ISERROR(VLOOKUP($A443,check!$A:$L,8,FALSE))=TRUE,\"\",VLOOKUP($A443,check!$A:$L,8,FALSE))","v":""},{"$f":"IF(ISERROR(VLOOKUP($A443,check!$A:$L,9,FALSE))=TRUE,\"\",VLOOKUP($A443,check!$A:$L,9,FALSE))","v":""},{"$f":"IF(ISERROR(VLOOKUP($A443,check!$A:$L,10,FALSE))=TRUE,\"\",VLOOKUP($A443,check!$A:$L,10,FALSE))","v":""},{"$f":"IF(ISERROR(VLOOKUP($A443,check!$A:$L,11,FALSE))=TRUE,\"\",VLOOKUP($A443,check!$A:$L,11,FALSE))","v":""},{"$f":"IF(ISERROR(VLOOKUP($A443,check!$A:$L,12,FALSE))=TRUE,\"\",VLOOKUP($A443,check!$A:$L,12,FALSE))","v":""}]
[444,{"$f":"IF(C444=\"\",\"\",MATCH(A444,check!A:A,0))","v":""},{"$f":"IF(ISERROR(VLOOKUP($A444,check!$A:$L,2,FALSE))=TRUE,\"\",VLOOKUP($A444,check!$A:$L,2,FALSE))","v":""},{"$f":"IF(ISERROR(VLOOKUP($A444,check!$A:$L,3,FALSE))=TRUE,\"\",VLOOKUP($A444,check!$A:$L,3,FALSE))","v":""},{"$f":"IF(ISERROR(VLOOKUP($A444,check!$A:$L,4,FALSE))=TRUE,\"\",VLOOKUP($A444,check!$A:$L,4,FALSE))","v":""},{"$f":"IF(ISERROR(VLOOKUP($A444,check!$A:$L,5,FALSE))=TRUE,\"\",VLOOKUP($A444,check!$A:$L,5,FALSE))","v":""},{"$f":"IF(ISERROR(VLOOKUP($A444,check!$A:$L,6,FALSE))=TRUE,\"\",VLOOKUP($A444,check!$A:$L,6,FALSE))","v":""},{"$f":"IF(ISERROR(VLOOKUP($A444,check!$A:$L,7,FALSE))=TRUE,\"\",VLOOKUP($A444,check!$A:$L,7,FALSE))","v":""},{"$f":"IF(ISERROR(VLOOKUP($A444,check!$A:$L,8,FALSE))=TRUE,\"\",VLOOKUP($A444,check!$A:$L,8,FALSE))","v":""},{"$f":"IF(ISERROR(VLOOKUP($A444,check!$A:$L,9,FALSE))=TRUE,\"\",VLOOKUP($A444,check!$A:$L,9,FALSE))","v":""},{"$f":"IF(ISERROR(VLOOKUP($A444,check!$A:$L,10,FALSE))=TRUE,\"\",VLOOKUP($A444,check!$A:$L,10,FALSE))","v":""},{"$f":"IF(ISERROR(VLOOKUP($A444,check!$A:$L,11,FALSE))=TRUE,\"\",VLOOKUP($A444,check!$A:$L,11,FALSE))","v":""},{"$f":"IF(ISERROR(VLOOKUP($A444,check!$A:$L,12,FALSE))=TRUE,\"\",VLOOKUP($A444,check!$A:$L,12,FALSE))","v":""}]
[445,{"$f":"IF(C445=\"\",\"\",MATCH(A445,check!A:A,0))","v":""},{"$f":"IF(ISERROR(VLOOKUP($A445,check!$A:$L,2,FALSE))=TRUE,\"\",VLOOKUP($A445,check!$A:$L,2,FALSE))","v":""},{"$f":"IF(ISERROR(VLOOKUP($A445,check!$A:$L,3,FALSE))=TRUE,\"\",VLOOKUP($A445,check!$A:$L,3,FALSE))","v":""},{"$f":"IF(ISERROR(VLOOKUP($A445,check!$A:$L,4,FALSE))=TRUE,\"\",VLOOKUP($A445,check!$A:$L,4,FALSE))","v":""},{"$f":"IF(ISERROR(VLOOKUP($A445,check!$A:$L,5,FALSE))=TRUE,\"\",VLOOKUP($A445,check!$A:$L,5,FALSE))","v":""},{"$f":"IF(ISERROR(VLOOKUP($A445,check!$A:$L,6,FALSE))=TRUE,\"\",VLOOKUP($A445,check!$A:$L,6,FALSE))","v":""},{"$f":"IF(ISERROR(VLOOKUP($A445,check!$A:$L,7,FALSE))=TRUE,\"\",VLOOKUP($A445,check!$A:$L,7,FALSE))","v":""},{"$f":"IF(ISERROR(VLOOKUP($A445,check!$A:$L,8,FALSE))=TRUE,\"\",VLOOKUP($A445,check!$A:$L,8,FALSE))","v":""},{"$f":"IF(ISERROR(VLOOKUP($A445,check!$A:$L,9,FALSE))=TRUE,\"\",VLOOKUP($A445,check!$A:$L,9,FALSE))","v":""},{"$f":"IF(ISERROR(VLOOKUP($A445,check!$A:$L,10,FALSE))=TRUE,\"\",VLOOKUP($A445,check!$A:$L,10,FALSE))","v":""},{"$f":"IF(ISERROR(VLOOKUP($A445,check!$A:$L,11,FALSE))=TRUE,\"\",VLOOKUP($A445,check!$A:$L,11,FALSE))","v":""},{"$f":"IF(ISERROR(VLOOKUP($A445,check!$A:$L,12,FALSE))=TRUE,\"\",VLOOKUP($A445,check!$A:$L,12,FALSE))","v":""}]
[446,{"$f":"IF(C446=\"\",\"\",MATCH(A446,check!A:A,0))","v":""},{"$f":"IF(ISERROR(VLOOKUP($A446,check!$A:$L,2,FALSE))=TRUE,\"\",VLOOKUP($A446,check!$A:$L,2,FALSE))","v":""},{"$f":"IF(ISERROR(VLOOKUP($A446,check!$A:$L,3,FALSE))=TRUE,\"\",VLOOKUP($A446,check!$A:$L,3,FALSE))","v":""},{"$f":"IF(ISERROR(VLOOKUP($A446,check!$A:$L,4,FALSE))=TRUE,\"\",VLOOKUP($A446,check!$A:$L,4,FALSE))","v":""},{"$f":"IF(ISERROR(VLOOKUP($A446,check!$A:$L,5,FALSE))=TRUE,\"\",VLOOKUP($A446,check!$A:$L,5,FALSE))","v":""},{"$f":"IF(ISERROR(VLOOKUP($A446,check!$A:$L,6,FALSE))=TRUE,\"\",VLOOKUP($A446,check!$A:$L,6,FALSE))","v":""},{"$f":"IF(ISERROR(VLOOKUP($A446,check!$A:$L,7,FALSE))=TRUE,\"\",VLOOKUP($A446,check!$A:$L,7,FALSE))","v":""},{"$f":"IF(ISERROR(VLOOKUP($A446,check!$A:$L,8,FALSE))=TRUE,\"\",VLOOKUP($A446,check!$A:$L,8,FALSE))","v":""},{"$f":"IF(ISERROR(VLOOKUP($A446,check!$A:$L,9,FALSE))=TRUE,\"\",VLOOKUP($A446,check!$A:$L,9,FALSE))","v":""},{"$f":"IF(ISERROR(VLOOKUP($A446,check!$A:$L,10,FALSE))=TRUE,\"\",VLOOKUP($A446,check!$A:$L,10,FALSE))","v":""},{"$f":"IF(ISERROR(VLOOKUP($A446,check!$A:$L,11,FALSE))=TRUE,\"\",VLOOKUP($A446,check!$A:$L,11,FALSE))","v":""},{"$f":"IF(ISERROR(VLOOKUP($A446,check!$A:$L,12,FALSE))=TRUE,\"\",VLOOKUP($A446,check!$A:$L,12,FALSE))","v":""}]
[447,{"$f":"IF(C447=\"\",\"\",MATCH(A447,check!A:A,0))","v":""},{"$f":"IF(ISERROR(VLOOKUP($A447,check!$A:$L,2,FALSE))=TRUE,\"\",VLOOKUP($A447,check!$A:$L,2,FALSE))","v":""},{"$f":"IF(ISERROR(VLOOKUP($A447,check!$A:$L,3,FALSE))=TRUE,\"\",VLOOKUP($A447,check!$A:$L,3,FALSE))","v":""},{"$f":"IF(ISERROR(VLOOKUP($A447,check!$A:$L,4,FALSE))=TRUE,\"\",VLOOKUP($A447,check!$A:$L,4,FALSE))","v":""},{"$f":"IF(ISERROR(VLOOKUP($A447,check!$A:$L,5,FALSE))=TRUE,\"\",VLOOKUP($A447,check!$A:$L,5,FALSE))","v":""},{"$f":"IF(ISERROR(VLOOKUP($A447,check!$A:$L,6,FALSE))=TRUE,\"\",VLOOKUP($A447,check!$A:$L,6,FALSE))","v":""},{"$f":"IF(ISERROR(VLOOKUP($A447,check!$A:$L,7,FALSE))=TRUE,\"\",VLOOKUP($A447,check!$A:$L,7,FALSE))","v":""},{"$f":"IF(ISERROR(VLOOKUP($A447,check!$A:$L,8,FALSE))=TRUE,\"\",VLOOKUP($A447,check!$A:$L,8,FALSE))","v":""},{"$f":"IF(ISERROR(VLOOKUP($A447,check!$A:$L,9,FALSE))=TRUE,\"\",VLOOKUP($A447,check!$A:$L,9,FALSE))","v":""},{"$f":"IF(ISERROR(VLOOKUP($A447,check!$A:$L,10,FALSE))=TRUE,\"\",VLOOKUP($A447,check!$A:$L,10,FALSE))","v":""},{"$f":"IF(ISERROR(VLOOKUP($A447,check!$A:$L,11,FALSE))=TRUE,\"\",VLOOKUP($A447,check!$A:$L,11,FALSE))","v":""},{"$f":"IF(ISERROR(VLOOKUP($A447,check!$A:$L,12,FALSE))=TRUE,\"\",VLOOKUP($A447,check!$A:$L,12,FALSE))","v":""}]
[448,{"$f":"IF(C448=\"\",\"\",MATCH(A448,check!A:A,0))","v":""},{"$f":"IF(ISERROR(VLOOKUP($A448,check!$A:$L,2,FALSE))=TRUE,\"\",VLOOKUP($A448,check!$A:$L,2,FALSE))","v":""},{"$f":"IF(ISERROR(VLOOKUP($A448,check!$A:$L,3,FALSE))=TRUE,\"\",VLOOKUP($A448,check!$A:$L,3,FALSE))","v":""},{"$f":"IF(ISERROR(VLOOKUP($A448,check!$A:$L,4,FALSE))=TRUE,\"\",VLOOKUP($A448,check!$A:$L,4,FALSE))","v":""},{"$f":"IF(ISERROR(VLOOKUP($A448,check!$A:$L,5,FALSE))=TRUE,\"\",VLOOKUP($A448,check!$A:$L,5,FALSE))","v":""},{"$f":"IF(ISERROR(VLOOKUP($A448,check!$A:$L,6,FALSE))=TRUE,\"\",VLOOKUP($A448,check!$A:$L,6,FALSE))","v":""},{"$f":"IF(ISERROR(VLOOKUP($A448,check!$A:$L,7,FALSE))=TRUE,\"\",VLOOKUP($A448,check!$A:$L,7,FALSE))","v":""},{"$f":"IF(ISERROR(VLOOKUP($A448,check!$A:$L,8,FALSE))=TRUE,\"\",VLOOKUP($A448,check!$A:$L,8,FALSE))","v":""},{"$f":"IF(ISERROR(VLOOKUP($A448,check!$A:$L,9,FALSE))=TRUE,\"\",VLOOKUP($A448,check!$A:$L,9,FALSE))","v":""},{"$f":"IF(ISERROR(VLOOKUP($A448,check!$A:$L,10,FALSE))=TRUE,\"\",VLOOKUP($A448,check!$A:$L,10,FALSE))","v":""},{"$f":"IF(ISERROR(VLOOKUP($A448,check!$A:$L,11,FALSE))=TRUE,\"\",VLOOKUP($A448,check!$A:$L,11,FALSE))","v":""},{"$f":"IF(ISERROR(VLOOKUP($A448,check!$A:$L,12,FALSE))=TRUE,\"\",VLOOKUP($A448,check!$A:$L,12,FALSE))","v":""}]
[449,{"$f":"IF(C449=\"\",\"\",MATCH(A449,check!A:A,0))","v":""},{"$f":"IF(ISERROR(VLOOKUP($A449,check!$A:$L,2,FALSE))=TRUE,\"\",VLOOKUP($A449,check!$A:$L,2,FALSE))","v":""},{"$f":"IF(ISERROR(VLOOKUP($A449,check!$A:$L,3,FALSE))=TRUE,\"\",VLOOKUP($A449,check!$A:$L,3,FALSE))","v":""},{"$f":"IF(ISERROR(VLOOKUP($A449,check!$A:$L,4,FALSE))=TRUE,\"\",VLOOKUP($A449,check!$A:$L,4,FALSE))","v":""},{"$f":"IF(ISERROR(VLOOKUP($A449,check!$A:$L,5,FALSE))=TRUE,\"\",VLOOKUP($A449,check!$A:$L,5,FALSE))","v":""},{"$f":"IF(ISERROR(VLOOKUP($A449,check!$A:$L,6,FALSE))=TRUE,\"\",VLOOKUP($A449,check!$A:$L,6,FALSE))","v":""},{"$f":"IF(ISERROR(VLOOKUP($A449,check!$A:$L,7,FALSE))=TRUE,\"\",VLOOKUP($A449,check!$A:$L,7,FALSE))","v":""},{"$f":"IF(ISERROR(VLOOKUP($A449,check!$A:$L,8,FALSE))=TRUE,\"\",VLOOKUP($A449,check!$A:$L,8,FALSE))","v":""},{"$f":"IF(ISERROR(VLOOKUP($A449,check!$A:$L,9,FALSE))=TRUE,\"\",VLOOKUP($A449,check!$A:$L,9,FALSE))","v":""},{"$f":"IF(ISERROR(VLOOKUP($A449,check!$A:$L,10,FALSE))=TRUE,\"\",VLOOKUP($A449,check!$A:$L,10,FALSE))","v":""},{"$f":"IF(ISERROR(VLOOKUP($A449,check!$A:$L,11,FALSE))=TRUE,\"\",VLOOKUP($A449,check!$A:$L,11,FALSE))","v":""},{"$f":"IF(ISERROR(VLOOKUP($A449,check!$A:$L,12,FALSE))=TRUE,\"\",VLOOKUP($A449,check!$A:$L,12,FALSE))","v":""}]
[450,{"$f":"IF(C450=\"\",\"\",MATCH(A450,check!A:A,0))","v":""},{"$f":"IF(ISERROR(VLOOKUP($A450,check!$A:$L,2,FALSE))=TRUE,\"\",VLOOKUP($A450,check!$A:$L,2,FALSE))","v":""},{"$f":"IF(ISERROR(VLOOKUP($A450,check!$A:$L,3,FALSE))=TRUE,\"\",VLOOKUP($A450,check!$A:$L,3,FALSE))","v":""},{"$f":"IF(ISERROR(VLOOKUP($A450,check!$A:$L,4,FALSE))=TRUE,\"\",VLOOKUP($A450,check!$A:$L,4,FALSE))","v":""},{"$f":"IF(ISERROR(VLOOKUP($A450,check!$A:$L,5,FALSE))=TRUE,\"\",VLOOKUP($A450,check!$A:$L,5,FALSE))","v":""},{"$f":"IF(ISERROR(VLOOKUP($A450,check!$A:$L,6,FALSE))=TRUE,\"\",VLOOKUP($A450,check!$A:$L,6,FALSE))","v":""},{"$f":"IF(ISERROR(VLOOKUP($A450,check!$A:$L,7,FALSE))=TRUE,\"\",VLOOKUP($A450,check!$A:$L,7,FALSE))","v":""},{"$f":"IF(ISERROR(VLOOKUP($A450,check!$A:$L,8,FALSE))=TRUE,\"\",VLOOKUP($A450,check!$A:$L,8,FALSE))","v":""},{"$f":"IF(ISERROR(VLOOKUP($A450,check!$A:$L,9,FALSE))=TRUE,\"\",VLOOKUP($A450,check!$A:$L,9,FALSE))","v":""},{"$f":"IF(ISERROR(VLOOKUP($A450,check!$A:$L,10,FALSE))=TRUE,\"\",VLOOKUP($A450,check!$A:$L,10,FALSE))","v":""},{"$f":"IF(ISERROR(VLOOKUP($A450,check!$A:$L,11,FALSE))=TRUE,\"\",VLOOKUP($A450,check!$A:$L,11,FALSE))","v":""},{"$f":"IF(ISERROR(VLOOKUP($A450,check!$A:$L,12,FALSE))=TRUE,\"\",VLOOKUP($A450,check!$A:$L,12,FALSE))","v":""}]
[451,{"$f":"IF(C451=\"\",\"\",MATCH(A451,check!A:A,0))","v":""},{"$f":"IF(ISERROR(VLOOKUP($A451,check!$A:$L,2,FALSE))=TRUE,\"\",VLOOKUP($A451,check!$A:$L,2,FALSE))","v":""},{"$f":"IF(ISERROR(VLOOKUP($A451,check!$A:$L,3,FALSE))=TRUE,\"\",VLOOKUP($A451,check!$A:$L,3,FALSE))","v":""},{"$f":"IF(ISERROR(VLOOKUP($A451,check!$A:$L,4,FALSE))=TRUE,\"\",VLOOKUP($A451,check!$A:$L,4,FALSE))","v":""},{"$f":"IF(ISERROR(VLOOKUP($A451,check!$A:$L,5,FALSE))=TRUE,\"\",VLOOKUP($A451,check!$A:$L,5,FALSE))","v":""},{"$f":"IF(ISERROR(VLOOKUP($A451,check!$A:$L,6,FALSE))=TRUE,\"\",VLOOKUP($A451,check!$A:$L,6,FALSE))","v":""},{"$f":"IF(ISERROR(VLOOKUP($A451,check!$A:$L,7,FALSE))=TRUE,\"\",VLOOKUP($A451,check!$A:$L,7,FALSE))","v":""},{"$f":"IF(ISERROR(VLOOKUP($A451,check!$A:$L,8,FALSE))=TRUE,\"\",VLOOKUP($A451,check!$A:$L,8,FALSE))","v":""},{"$f":"IF(ISERROR(VLOOKUP($A451,check!$A:$L,9,FALSE))=TRUE,\"\",VLOOKUP($A451,check!$A:$L,9,FALSE))","v":""},{"$f":"IF(ISERROR(VLOOKUP($A451,check!$A:$L,10,FALSE))=TRUE,\"\",VLOOKUP($A451,check!$A:$L,10,FALSE))","v":""},{"$f":"IF(ISERROR(VLOOKUP($A451,check!$A:$L,11,FALSE))=TRUE,\"\",VLOOKUP($A451,check!$A:$L,11,FALSE))","v":""},{"$f":"IF(ISERROR(VLOOKUP($A451,check!$A:$L,12,FALSE))=TRUE,\"\",VLOOKUP($A451,check!$A:$L,12,FALSE))","v":""}]
[{"$f":"A451+1","v":452},{"$f":"IF(C452=\"\",\"\",MATCH(A452,check!A:A,0))","v":""},{"$f":"IF(ISERROR(VLOOKUP($A452,check!$A:$L,2,FALSE))=TRUE,\"\",VLOOKUP($A452,check!$A:$L,2,FALSE))","v":""},{"$f":"IF(ISERROR(VLOOKUP($A452,check!$A:$L,3,FALSE))=TRUE,\"\",VLOOKUP($A452,check!$A:$L,3,FALSE))","v":""},{"$f":"IF(ISERROR(VLOOKUP($A452,check!$A:$L,4,FALSE))=TRUE,\"\",VLOOKUP($A452,check!$A:$L,4,FALSE))","v":""},{"$f":"IF(ISERROR(VLOOKUP($A452,check!$A:$L,5,FALSE))=TRUE,\"\",VLOOKUP($A452,check!$A:$L,5,FALSE))","v":""},{"$f":"IF(ISERROR(VLOOKUP($A452,check!$A:$L,6,FALSE))=TRUE,\"\",VLOOKUP($A452,check!$A:$L,6,FALSE))","v":""},{"$f":"IF(ISERROR(VLOOKUP($A452,check!$A:$L,7,FALSE))=TRUE,\"\",VLOOKUP($A452,check!$A:$L,7,FALSE))","v":""},{"$f":"IF(ISERROR(VLOOKUP($A452,check!$A:$L,8,FALSE))=TRUE,\"\",VLOOKUP($A452,check!$A:$L,8,FALSE))","v":""},{"$f":"IF(ISERROR(VLOOKUP($A452,check!$A:$L,9,FALSE))=TRUE,\"\",VLOOKUP($A452,check!$A:$L,9,FALSE))","v":""},{"$f":"IF(ISERROR(VLOOKUP($A452,check!$A:$L,10,FALSE))=TRUE,\"\",VLOOKUP($A452,check!$A:$L,10,FALSE))","v":""},{"$f":"IF(ISERROR(VLOOKUP($A452,check!$A:$L,11,FALSE))=TRUE,\"\",VLOOKUP($A452,check!$A:$L,11,FALSE))","v":""},{"$f":"IF(ISERROR(VLOOKUP($A452,check!$A:$L,12,FALSE))=TRUE,\"\",VLOOKUP($A452,check!$A:$L,12,FALSE))","v":""}]
[453,{"$f":"IF(C453=\"\",\"\",MATCH(A453,check!A:A,0))","v":""},{"$f":"IF(ISERROR(VLOOKUP($A453,check!$A:$L,2,FALSE))=TRUE,\"\",VLOOKUP($A453,check!$A:$L,2,FALSE))","v":""},{"$f":"IF(ISERROR(VLOOKUP($A453,check!$A:$L,3,FALSE))=TRUE,\"\",VLOOKUP($A453,check!$A:$L,3,FALSE))","v":""},{"$f":"IF(ISERROR(VLOOKUP($A453,check!$A:$L,4,FALSE))=TRUE,\"\",VLOOKUP($A453,check!$A:$L,4,FALSE))","v":""},{"$f":"IF(ISERROR(VLOOKUP($A453,check!$A:$L,5,FALSE))=TRUE,\"\",VLOOKUP($A453,check!$A:$L,5,FALSE))","v":""},{"$f":"IF(ISERROR(VLOOKUP($A453,check!$A:$L,6,FALSE))=TRUE,\"\",VLOOKUP($A453,check!$A:$L,6,FALSE))","v":""},{"$f":"IF(ISERROR(VLOOKUP($A453,check!$A:$L,7,FALSE))=TRUE,\"\",VLOOKUP($A453,check!$A:$L,7,FALSE))","v":""},{"$f":"IF(ISERROR(VLOOKUP($A453,check!$A:$L,8,FALSE))=TRUE,\"\",VLOOKUP($A453,check!$A:$L,8,FALSE))","v":""},{"$f":"IF(ISERROR(VLOOKUP($A453,check!$A:$L,9,FALSE))=TRUE,\"\",VLOOKUP($A453,check!$A:$L,9,FALSE))","v":""},{"$f":"IF(ISERROR(VLOOKUP($A453,check!$A:$L,10,FALSE))=TRUE,\"\",VLOOKUP($A453,check!$A:$L,10,FALSE))","v":""},{"$f":"IF(ISERROR(VLOOKUP($A453,check!$A:$L,11,FALSE))=TRUE,\"\",VLOOKUP($A453,check!$A:$L,11,FALSE))","v":""},{"$f":"IF(ISERROR(VLOOKUP($A453,check!$A:$L,12,FALSE))=TRUE,\"\",VLOOKUP($A453,check!$A:$L,12,FALSE))","v":""}]
[454,{"$f":"IF(C454=\"\",\"\",MATCH(A454,check!A:A,0))","v":""},{"$f":"IF(ISERROR(VLOOKUP($A454,check!$A:$L,2,FALSE))=TRUE,\"\",VLOOKUP($A454,check!$A:$L,2,FALSE))","v":""},{"$f":"IF(ISERROR(VLOOKUP($A454,check!$A:$L,3,FALSE))=TRUE,\"\",VLOOKUP($A454,check!$A:$L,3,FALSE))","v":""},{"$f":"IF(ISERROR(VLOOKUP($A454,check!$A:$L,4,FALSE))=TRUE,\"\",VLOOKUP($A454,check!$A:$L,4,FALSE))","v":""},{"$f":"IF(ISERROR(VLOOKUP($A454,check!$A:$L,5,FALSE))=TRUE,\"\",VLOOKUP($A454,check!$A:$L,5,FALSE))","v":""},{"$f":"IF(ISERROR(VLOOKUP($A454,check!$A:$L,6,FALSE))=TRUE,\"\",VLOOKUP($A454,check!$A:$L,6,FALSE))","v":""},{"$f":"IF(ISERROR(VLOOKUP($A454,check!$A:$L,7,FALSE))=TRUE,\"\",VLOOKUP($A454,check!$A:$L,7,FALSE))","v":""},{"$f":"IF(ISERROR(VLOOKUP($A454,check!$A:$L,8,FALSE))=TRUE,\"\",VLOOKUP($A454,check!$A:$L,8,FALSE))","v":""},{"$f":"IF(ISERROR(VLOOKUP($A454,check!$A:$L,9,FALSE))=TRUE,\"\",VLOOKUP($A454,check!$A:$L,9,FALSE))","v":""},{"$f":"IF(ISERROR(VLOOKUP($A454,check!$A:$L,10,FALSE))=TRUE,\"\",VLOOKUP($A454,check!$A:$L,10,FALSE))","v":""},{"$f":"IF(ISERROR(VLOOKUP($A454,check!$A:$L,11,FALSE))=TRUE,\"\",VLOOKUP($A454,check!$A:$L,11,FALSE))","v":""},{"$f":"IF(ISERROR(VLOOKUP($A454,check!$A:$L,12,FALSE))=TRUE,\"\",VLOOKUP($A454,check!$A:$L,12,FALSE))","v":""}]
[455,{"$f":"IF(C455=\"\",\"\",MATCH(A455,check!A:A,0))","v":""},{"$f":"IF(ISERROR(VLOOKUP($A455,check!$A:$L,2,FALSE))=TRUE,\"\",VLOOKUP($A455,check!$A:$L,2,FALSE))","v":""},{"$f":"IF(ISERROR(VLOOKUP($A455,check!$A:$L,3,FALSE))=TRUE,\"\",VLOOKUP($A455,check!$A:$L,3,FALSE))","v":""},{"$f":"IF(ISERROR(VLOOKUP($A455,check!$A:$L,4,FALSE))=TRUE,\"\",VLOOKUP($A455,check!$A:$L,4,FALSE))","v":""},{"$f":"IF(ISERROR(VLOOKUP($A455,check!$A:$L,5,FALSE))=TRUE,\"\",VLOOKUP($A455,check!$A:$L,5,FALSE))","v":""},{"$f":"IF(ISERROR(VLOOKUP($A455,check!$A:$L,6,FALSE))=TRUE,\"\",VLOOKUP($A455,check!$A:$L,6,FALSE))","v":""},{"$f":"IF(ISERROR(VLOOKUP($A455,check!$A:$L,7,FALSE))=TRUE,\"\",VLOOKUP($A455,check!$A:$L,7,FALSE))","v":""},{"$f":"IF(ISERROR(VLOOKUP($A455,check!$A:$L,8,FALSE))=TRUE,\"\",VLOOKUP($A455,check!$A:$L,8,FALSE))","v":""},{"$f":"IF(ISERROR(VLOOKUP($A455,check!$A:$L,9,FALSE))=TRUE,\"\",VLOOKUP($A455,check!$A:$L,9,FALSE))","v":""},{"$f":"IF(ISERROR(VLOOKUP($A455,check!$A:$L,10,FALSE))=TRUE,\"\",VLOOKUP($A455,check!$A:$L,10,FALSE))","v":""},{"$f":"IF(ISERROR(VLOOKUP($A455,check!$A:$L,11,FALSE))=TRUE,\"\",VLOOKUP($A455,check!$A:$L,11,FALSE))","v":""},{"$f":"IF(ISERROR(VLOOKUP($A455,check!$A:$L,12,FALSE))=TRUE,\"\",VLOOKUP($A455,check!$A:$L,12,FALSE))","v":""}]
[456,{"$f":"IF(C456=\"\",\"\",MATCH(A456,check!A:A,0))","v":""},{"$f":"IF(ISERROR(VLOOKUP($A456,check!$A:$L,2,FALSE))=TRUE,\"\",VLOOKUP($A456,check!$A:$L,2,FALSE))","v":""},{"$f":"IF(ISERROR(VLOOKUP($A456,check!$A:$L,3,FALSE))=TRUE,\"\",VLOOKUP($A456,check!$A:$L,3,FALSE))","v":""},{"$f":"IF(ISERROR(VLOOKUP($A456,check!$A:$L,4,FALSE))=TRUE,\"\",VLOOKUP($A456,check!$A:$L,4,FALSE))","v":""},{"$f":"IF(ISERROR(VLOOKUP($A456,check!$A:$L,5,FALSE))=TRUE,\"\",VLOOKUP($A456,check!$A:$L,5,FALSE))","v":""},{"$f":"IF(ISERROR(VLOOKUP($A456,check!$A:$L,6,FALSE))=TRUE,\"\",VLOOKUP($A456,check!$A:$L,6,FALSE))","v":""},{"$f":"IF(ISERROR(VLOOKUP($A456,check!$A:$L,7,FALSE))=TRUE,\"\",VLOOKUP($A456,check!$A:$L,7,FALSE))","v":""},{"$f":"IF(ISERROR(VLOOKUP($A456,check!$A:$L,8,FALSE))=TRUE,\"\",VLOOKUP($A456,check!$A:$L,8,FALSE))","v":""},{"$f":"IF(ISERROR(VLOOKUP($A456,check!$A:$L,9,FALSE))=TRUE,\"\",VLOOKUP($A456,check!$A:$L,9,FALSE))","v":""},{"$f":"IF(ISERROR(VLOOKUP($A456,check!$A:$L,10,FALSE))=TRUE,\"\",VLOOKUP($A456,check!$A:$L,10,FALSE))","v":""},{"$f":"IF(ISERROR(VLOOKUP($A456,check!$A:$L,11,FALSE))=TRUE,\"\",VLOOKUP($A456,check!$A:$L,11,FALSE))","v":""},{"$f":"IF(ISERROR(VLOOKUP($A456,check!$A:$L,12,FALSE))=TRUE,\"\",VLOOKUP($A456,check!$A:$L,12,FALSE))","v":""}]
[457,{"$f":"IF(C457=\"\",\"\",MATCH(A457,check!A:A,0))","v":""},{"$f":"IF(ISERROR(VLOOKUP($A457,check!$A:$L,2,FALSE))=TRUE,\"\",VLOOKUP($A457,check!$A:$L,2,FALSE))","v":""},{"$f":"IF(ISERROR(VLOOKUP($A457,check!$A:$L,3,FALSE))=TRUE,\"\",VLOOKUP($A457,check!$A:$L,3,FALSE))","v":""},{"$f":"IF(ISERROR(VLOOKUP($A457,check!$A:$L,4,FALSE))=TRUE,\"\",VLOOKUP($A457,check!$A:$L,4,FALSE))","v":""},{"$f":"IF(ISERROR(VLOOKUP($A457,check!$A:$L,5,FALSE))=TRUE,\"\",VLOOKUP($A457,check!$A:$L,5,FALSE))","v":""},{"$f":"IF(ISERROR(VLOOKUP($A457,check!$A:$L,6,FALSE))=TRUE,\"\",VLOOKUP($A457,check!$A:$L,6,FALSE))","v":""},{"$f":"IF(ISERROR(VLOOKUP($A457,check!$A:$L,7,FALSE))=TRUE,\"\",VLOOKUP($A457,check!$A:$L,7,FALSE))","v":""},{"$f":"IF(ISERROR(VLOOKUP($A457,check!$A:$L,8,FALSE))=TRUE,\"\",VLOOKUP($A457,check!$A:$L,8,FALSE))","v":""},{"$f":"IF(ISERROR(VLOOKUP($A457,check!$A:$L,9,FALSE))=TRUE,\"\",VLOOKUP($A457,check!$A:$L,9,FALSE))","v":""},{"$f":"IF(ISERROR(VLOOKUP($A457,check!$A:$L,10,FALSE))=TRUE,\"\",VLOOKUP($A457,check!$A:$L,10,FALSE))","v":""},{"$f":"IF(ISERROR(VLOOKUP($A457,check!$A:$L,11,FALSE))=TRUE,\"\",VLOOKUP($A457,check!$A:$L,11,FALSE))","v":""},{"$f":"IF(ISERROR(VLOOKUP($A457,check!$A:$L,12,FALSE))=TRUE,\"\",VLOOKUP($A457,check!$A:$L,12,FALSE))","v":""}]
[458,{"$f":"IF(C458=\"\",\"\",MATCH(A458,check!A:A,0))","v":""},{"$f":"IF(ISERROR(VLOOKUP($A458,check!$A:$L,2,FALSE))=TRUE,\"\",VLOOKUP($A458,check!$A:$L,2,FALSE))","v":""},{"$f":"IF(ISERROR(VLOOKUP($A458,check!$A:$L,3,FALSE))=TRUE,\"\",VLOOKUP($A458,check!$A:$L,3,FALSE))","v":""},{"$f":"IF(ISERROR(VLOOKUP($A458,check!$A:$L,4,FALSE))=TRUE,\"\",VLOOKUP($A458,check!$A:$L,4,FALSE))","v":""},{"$f":"IF(ISERROR(VLOOKUP($A458,check!$A:$L,5,FALSE))=TRUE,\"\",VLOOKUP($A458,check!$A:$L,5,FALSE))","v":""},{"$f":"IF(ISERROR(VLOOKUP($A458,check!$A:$L,6,FALSE))=TRUE,\"\",VLOOKUP($A458,check!$A:$L,6,FALSE))","v":""},{"$f":"IF(ISERROR(VLOOKUP($A458,check!$A:$L,7,FALSE))=TRUE,\"\",VLOOKUP($A458,check!$A:$L,7,FALSE))","v":""},{"$f":"IF(ISERROR(VLOOKUP($A458,check!$A:$L,8,FALSE))=TRUE,\"\",VLOOKUP($A458,check!$A:$L,8,FALSE))","v":""},{"$f":"IF(ISERROR(VLOOKUP($A458,check!$A:$L,9,FALSE))=TRUE,\"\",VLOOKUP($A458,check!$A:$L,9,FALSE))","v":""},{"$f":"IF(ISERROR(VLOOKUP($A458,check!$A:$L,10,FALSE))=TRUE,\"\",VLOOKUP($A458,check!$A:$L,10,FALSE))","v":""},{"$f":"IF(ISERROR(VLOOKUP($A458,check!$A:$L,11,FALSE))=TRUE,\"\",VLOOKUP($A458,check!$A:$L,11,FALSE))","v":""},{"$f":"IF(ISERROR(VLOOKUP($A458,check!$A:$L,12,FALSE))=TRUE,\"\",VLOOKUP($A458,check!$A:$L,12,FALSE))","v":""}]
[459,{"$f":"IF(C459=\"\",\"\",MATCH(A459,check!A:A,0))","v":""},{"$f":"IF(ISERROR(VLOOKUP($A459,check!$A:$L,2,FALSE))=TRUE,\"\",VLOOKUP($A459,check!$A:$L,2,FALSE))","v":""},{"$f":"IF(ISERROR(VLOOKUP($A459,check!$A:$L,3,FALSE))=TRUE,\"\",VLOOKUP($A459,check!$A:$L,3,FALSE))","v":""},{"$f":"IF(ISERROR(VLOOKUP($A459,check!$A:$L,4,FALSE))=TRUE,\"\",VLOOKUP($A459,check!$A:$L,4,FALSE))","v":""},{"$f":"IF(ISERROR(VLOOKUP($A459,check!$A:$L,5,FALSE))=TRUE,\"\",VLOOKUP($A459,check!$A:$L,5,FALSE))","v":""},{"$f":"IF(ISERROR(VLOOKUP($A459,check!$A:$L,6,FALSE))=TRUE,\"\",VLOOKUP($A459,check!$A:$L,6,FALSE))","v":""},{"$f":"IF(ISERROR(VLOOKUP($A459,check!$A:$L,7,FALSE))=TRUE,\"\",VLOOKUP($A459,check!$A:$L,7,FALSE))","v":""},{"$f":"IF(ISERROR(VLOOKUP($A459,check!$A:$L,8,FALSE))=TRUE,\"\",VLOOKUP($A459,check!$A:$L,8,FALSE))","v":""},{"$f":"IF(ISERROR(VLOOKUP($A459,check!$A:$L,9,FALSE))=TRUE,\"\",VLOOKUP($A459,check!$A:$L,9,FALSE))","v":""},{"$f":"IF(ISERROR(VLOOKUP($A459,check!$A:$L,10,FALSE))=TRUE,\"\",VLOOKUP($A459,check!$A:$L,10,FALSE))","v":""},{"$f":"IF(ISERROR(VLOOKUP($A459,check!$A:$L,11,FALSE))=TRUE,\"\",VLOOKUP($A459,check!$A:$L,11,FALSE))","v":""},{"$f":"IF(ISERROR(VLOOKUP($A459,check!$A:$L,12,FALSE))=TRUE,\"\",VLOOKUP($A459,check!$A:$L,12,FALSE))","v":""}]
[460,{"$f":"IF(C460=\"\",\"\",MATCH(A460,check!A:A,0))","v":""},{"$f":"IF(ISERROR(VLOOKUP($A460,check!$A:$L,2,FALSE))=TRUE,\"\",VLOOKUP($A460,check!$A:$L,2,FALSE))","v":""},{"$f":"IF(ISERROR(VLOOKUP($A460,check!$A:$L,3,FALSE))=TRUE,\"\",VLOOKUP($A460,check!$A:$L,3,FALSE))","v":""},{"$f":"IF(ISERROR(VLOOKUP($A460,check!$A:$L,4,FALSE))=TRUE,\"\",VLOOKUP($A460,check!$A:$L,4,FALSE))","v":""},{"$f":"IF(ISERROR(VLOOKUP($A460,check!$A:$L,5,FALSE))=TRUE,\"\",VLOOKUP($A460,check!$A:$L,5,FALSE))","v":""},{"$f":"IF(ISERROR(VLOOKUP($A460,check!$A:$L,6,FALSE))=TRUE,\"\",VLOOKUP($A460,check!$A:$L,6,FALSE))","v":""},{"$f":"IF(ISERROR(VLOOKUP($A460,check!$A:$L,7,FALSE))=TRUE,\"\",VLOOKUP($A460,check!$A:$L,7,FALSE))","v":""},{"$f":"IF(ISERROR(VLOOKUP($A460,check!$A:$L,8,FALSE))=TRUE,\"\",VLOOKUP($A460,check!$A:$L,8,FALSE))","v":""},{"$f":"IF(ISERROR(VLOOKUP($A460,check!$A:$L,9,FALSE))=TRUE,\"\",VLOOKUP($A460,check!$A:$L,9,FALSE))","v":""},{"$f":"IF(ISERROR(VLOOKUP($A460,check!$A:$L,10,FALSE))=TRUE,\"\",VLOOKUP($A460,check!$A:$L,10,FALSE))","v":""},{"$f":"IF(ISERROR(VLOOKUP($A460,check!$A:$L,11,FALSE))=TRUE,\"\",VLOOKUP($A460,check!$A:$L,11,FALSE))","v":""},{"$f":"IF(ISERROR(VLOOKUP($A460,check!$A:$L,12,FALSE))=TRUE,\"\",VLOOKUP($A460,check!$A:$L,12,FALSE))","v":""}]
[461,{"$f":"IF(C461=\"\",\"\",MATCH(A461,check!A:A,0))","v":""},{"$f":"IF(ISERROR(VLOOKUP($A461,check!$A:$L,2,FALSE))=TRUE,\"\",VLOOKUP($A461,check!$A:$L,2,FALSE))","v":""},{"$f":"IF(ISERROR(VLOOKUP($A461,check!$A:$L,3,FALSE))=TRUE,\"\",VLOOKUP($A461,check!$A:$L,3,FALSE))","v":""},{"$f":"IF(ISERROR(VLOOKUP($A461,check!$A:$L,4,FALSE))=TRUE,\"\",VLOOKUP($A461,check!$A:$L,4,FALSE))","v":""},{"$f":"IF(ISERROR(VLOOKUP($A461,check!$A:$L,5,FALSE))=TRUE,\"\",VLOOKUP($A461,check!$A:$L,5,FALSE))","v":""},{"$f":"IF(ISERROR(VLOOKUP($A461,check!$A:$L,6,FALSE))=TRUE,\"\",VLOOKUP($A461,check!$A:$L,6,FALSE))","v":""},{"$f":"IF(ISERROR(VLOOKUP($A461,check!$A:$L,7,FALSE))=TRUE,\"\",VLOOKUP($A461,check!$A:$L,7,FALSE))","v":""},{"$f":"IF(ISERROR(VLOOKUP($A461,check!$A:$L,8,FALSE))=TRUE,\"\",VLOOKUP($A461,check!$A:$L,8,FALSE))","v":""},{"$f":"IF(ISERROR(VLOOKUP($A461,check!$A:$L,9,FALSE))=TRUE,\"\",VLOOKUP($A461,check!$A:$L,9,FALSE))","v":""},{"$f":"IF(ISERROR(VLOOKUP($A461,check!$A:$L,10,FALSE))=TRUE,\"\",VLOOKUP($A461,check!$A:$L,10,FALSE))","v":""},{"$f":"IF(ISERROR(VLOOKUP($A461,check!$A:$L,11,FALSE))=TRUE,\"\",VLOOKUP($A461,check!$A:$L,11,FALSE))","v":""},{"$f":"IF(ISERROR(VLOOKUP($A461,check!$A:$L,12,FALSE))=TRUE,\"\",VLOOKUP($A461,check!$A:$L,12,FALSE))","v":""}]
[462,{"$f":"IF(C462=\"\",\"\",MATCH(A462,check!A:A,0))","v":""},{"$f":"IF(ISERROR(VLOOKUP($A462,check!$A:$L,2,FALSE))=TRUE,\"\",VLOOKUP($A462,check!$A:$L,2,FALSE))","v":""},{"$f":"IF(ISERROR(VLOOKUP($A462,check!$A:$L,3,FALSE))=TRUE,\"\",VLOOKUP($A462,check!$A:$L,3,FALSE))","v":""},{"$f":"IF(ISERROR(VLOOKUP($A462,check!$A:$L,4,FALSE))=TRUE,\"\",VLOOKUP($A462,check!$A:$L,4,FALSE))","v":""},{"$f":"IF(ISERROR(VLOOKUP($A462,check!$A:$L,5,FALSE))=TRUE,\"\",VLOOKUP($A462,check!$A:$L,5,FALSE))","v":""},{"$f":"IF(ISERROR(VLOOKUP($A462,check!$A:$L,6,FALSE))=TRUE,\"\",VLOOKUP($A462,check!$A:$L,6,FALSE))","v":""},{"$f":"IF(ISERROR(VLOOKUP($A462,check!$A:$L,7,FALSE))=TRUE,\"\",VLOOKUP($A462,check!$A:$L,7,FALSE))","v":""},{"$f":"IF(ISERROR(VLOOKUP($A462,check!$A:$L,8,FALSE))=TRUE,\"\",VLOOKUP($A462,check!$A:$L,8,FALSE))","v":""},{"$f":"IF(ISERROR(VLOOKUP($A462,check!$A:$L,9,FALSE))=TRUE,\"\",VLOOKUP($A462,check!$A:$L,9,FALSE))","v":""},{"$f":"IF(ISERROR(VLOOKUP($A462,check!$A:$L,10,FALSE))=TRUE,\"\",VLOOKUP($A462,check!$A:$L,10,FALSE))","v":""},{"$f":"IF(ISERROR(VLOOKUP($A462,check!$A:$L,11,FALSE))=TRUE,\"\",VLOOKUP($A462,check!$A:$L,11,FALSE))","v":""},{"$f":"IF(ISERROR(VLOOKUP($A462,check!$A:$L,12,FALSE))=TRUE,\"\",VLOOKUP($A462,check!$A:$L,12,FALSE))","v":""}]
[463,{"$f":"IF(C463=\"\",\"\",MATCH(A463,check!A:A,0))","v":""},{"$f":"IF(ISERROR(VLOOKUP($A463,check!$A:$L,2,FALSE))=TRUE,\"\",VLOOKUP($A463,check!$A:$L,2,FALSE))","v":""},{"$f":"IF(ISERROR(VLOOKUP($A463,check!$A:$L,3,FALSE))=TRUE,\"\",VLOOKUP($A463,check!$A:$L,3,FALSE))","v":""},{"$f":"IF(ISERROR(VLOOKUP($A463,check!$A:$L,4,FALSE))=TRUE,\"\",VLOOKUP($A463,check!$A:$L,4,FALSE))","v":""},{"$f":"IF(ISERROR(VLOOKUP($A463,check!$A:$L,5,FALSE))=TRUE,\"\",VLOOKUP($A463,check!$A:$L,5,FALSE))","v":""},{"$f":"IF(ISERROR(VLOOKUP($A463,check!$A:$L,6,FALSE))=TRUE,\"\",VLOOKUP($A463,check!$A:$L,6,FALSE))","v":""},{"$f":"IF(ISERROR(VLOOKUP($A463,check!$A:$L,7,FALSE))=TRUE,\"\",VLOOKUP($A463,check!$A:$L,7,FALSE))","v":""},{"$f":"IF(ISERROR(VLOOKUP($A463,check!$A:$L,8,FALSE))=TRUE,\"\",VLOOKUP($A463,check!$A:$L,8,FALSE))","v":""},{"$f":"IF(ISERROR(VLOOKUP($A463,check!$A:$L,9,FALSE))=TRUE,\"\",VLOOKUP($A463,check!$A:$L,9,FALSE))","v":""},{"$f":"IF(ISERROR(VLOOKUP($A463,check!$A:$L,10,FALSE))=TRUE,\"\",VLOOKUP($A463,check!$A:$L,10,FALSE))","v":""},{"$f":"IF(ISERROR(VLOOKUP($A463,check!$A:$L,11,FALSE))=TRUE,\"\",VLOOKUP($A463,check!$A:$L,11,FALSE))","v":""},{"$f":"IF(ISERROR(VLOOKUP($A463,check!$A:$L,12,FALSE))=TRUE,\"\",VLOOKUP($A463,check!$A:$L,12,FALSE))","v":""}]
[464,{"$f":"IF(C464=\"\",\"\",MATCH(A464,check!A:A,0))","v":""},{"$f":"IF(ISERROR(VLOOKUP($A464,check!$A:$L,2,FALSE))=TRUE,\"\",VLOOKUP($A464,check!$A:$L,2,FALSE))","v":""},{"$f":"IF(ISERROR(VLOOKUP($A464,check!$A:$L,3,FALSE))=TRUE,\"\",VLOOKUP($A464,check!$A:$L,3,FALSE))","v":""},{"$f":"IF(ISERROR(VLOOKUP($A464,check!$A:$L,4,FALSE))=TRUE,\"\",VLOOKUP($A464,check!$A:$L,4,FALSE))","v":""},{"$f":"IF(ISERROR(VLOOKUP($A464,check!$A:$L,5,FALSE))=TRUE,\"\",VLOOKUP($A464,check!$A:$L,5,FALSE))","v":""},{"$f":"IF(ISERROR(VLOOKUP($A464,check!$A:$L,6,FALSE))=TRUE,\"\",VLOOKUP($A464,check!$A:$L,6,FALSE))","v":""},{"$f":"IF(ISERROR(VLOOKUP($A464,check!$A:$L,7,FALSE))=TRUE,\"\",VLOOKUP($A464,check!$A:$L,7,FALSE))","v":""},{"$f":"IF(ISERROR(VLOOKUP($A464,check!$A:$L,8,FALSE))=TRUE,\"\",VLOOKUP($A464,check!$A:$L,8,FALSE))","v":""},{"$f":"IF(ISERROR(VLOOKUP($A464,check!$A:$L,9,FALSE))=TRUE,\"\",VLOOKUP($A464,check!$A:$L,9,FALSE))","v":""},{"$f":"IF(ISERROR(VLOOKUP($A464,check!$A:$L,10,FALSE))=TRUE,\"\",VLOOKUP($A464,check!$A:$L,10,FALSE))","v":""},{"$f":"IF(ISERROR(VLOOKUP($A464,check!$A:$L,11,FALSE))=TRUE,\"\",VLOOKUP($A464,check!$A:$L,11,FALSE))","v":""},{"$f":"IF(ISERROR(VLOOKUP($A464,check!$A:$L,12,FALSE))=TRUE,\"\",VLOOKUP($A464,check!$A:$L,12,FALSE))","v":""}]
[465,{"$f":"IF(C465=\"\",\"\",MATCH(A465,check!A:A,0))","v":""},{"$f":"IF(ISERROR(VLOOKUP($A465,check!$A:$L,2,FALSE))=TRUE,\"\",VLOOKUP($A465,check!$A:$L,2,FALSE))","v":""},{"$f":"IF(ISERROR(VLOOKUP($A465,check!$A:$L,3,FALSE))=TRUE,\"\",VLOOKUP($A465,check!$A:$L,3,FALSE))","v":""},{"$f":"IF(ISERROR(VLOOKUP($A465,check!$A:$L,4,FALSE))=TRUE,\"\",VLOOKUP($A465,check!$A:$L,4,FALSE))","v":""},{"$f":"IF(ISERROR(VLOOKUP($A465,check!$A:$L,5,FALSE))=TRUE,\"\",VLOOKUP($A465,check!$A:$L,5,FALSE))","v":""},{"$f":"IF(ISERROR(VLOOKUP($A465,check!$A:$L,6,FALSE))=TRUE,\"\",VLOOKUP($A465,check!$A:$L,6,FALSE))","v":""},{"$f":"IF(ISERROR(VLOOKUP($A465,check!$A:$L,7,FALSE))=TRUE,\"\",VLOOKUP($A465,check!$A:$L,7,FALSE))","v":""},{"$f":"IF(ISERROR(VLOOKUP($A465,check!$A:$L,8,FALSE))=TRUE,\"\",VLOOKUP($A465,check!$A:$L,8,FALSE))","v":""},{"$f":"IF(ISERROR(VLOOKUP($A465,check!$A:$L,9,FALSE))=TRUE,\"\",VLOOKUP($A465,check!$A:$L,9,FALSE))","v":""},{"$f":"IF(ISERROR(VLOOKUP($A465,check!$A:$L,10,FALSE))=TRUE,\"\",VLOOKUP($A465,check!$A:$L,10,FALSE))","v":""},{"$f":"IF(ISERROR(VLOOKUP($A465,check!$A:$L,11,FALSE))=TRUE,\"\",VLOOKUP($A465,check!$A:$L,11,FALSE))","v":""},{"$f":"IF(ISERROR(VLOOKUP($A465,check!$A:$L,12,FALSE))=TRUE,\"\",VLOOKUP($A465,check!$A:$L,12,FALSE))","v":""}]
[466,{"$f":"IF(C466=\"\",\"\",MATCH(A466,check!A:A,0))","v":""},{"$f":"IF(ISERROR(VLOOKUP($A466,check!$A:$L,2,FALSE))=TRUE,\"\",VLOOKUP($A466,check!$A:$L,2,FALSE))","v":""},{"$f":"IF(ISERROR(VLOOKUP($A466,check!$A:$L,3,FALSE))=TRUE,\"\",VLOOKUP($A466,check!$A:$L,3,FALSE))","v":""},{"$f":"IF(ISERROR(VLOOKUP($A466,check!$A:$L,4,FALSE))=TRUE,\"\",VLOOKUP($A466,check!$A:$L,4,FALSE))","v":""},{"$f":"IF(ISERROR(VLOOKUP($A466,check!$A:$L,5,FALSE))=TRUE,\"\",VLOOKUP($A466,check!$A:$L,5,FALSE))","v":""},{"$f":"IF(ISERROR(VLOOKUP($A466,check!$A:$L,6,FALSE))=TRUE,\"\",VLOOKUP($A466,check!$A:$L,6,FALSE))","v":""},{"$f":"IF(ISERROR(VLOOKUP($A466,check!$A:$L,7,FALSE))=TRUE,\"\",VLOOKUP($A466,check!$A:$L,7,FALSE))","v":""},{"$f":"IF(ISERROR(VLOOKUP($A466,check!$A:$L,8,FALSE))=TRUE,\"\",VLOOKUP($A466,check!$A:$L,8,FALSE))","v":""},{"$f":"IF(ISERROR(VLOOKUP($A466,check!$A:$L,9,FALSE))=TRUE,\"\",VLOOKUP($A466,check!$A:$L,9,FALSE))","v":""},{"$f":"IF(ISERROR(VLOOKUP($A466,check!$A:$L,10,FALSE))=TRUE,\"\",VLOOKUP($A466,check!$A:$L,10,FALSE))","v":""},{"$f":"IF(ISERROR(VLOOKUP($A466,check!$A:$L,11,FALSE))=TRUE,\"\",VLOOKUP($A466,check!$A:$L,11,FALSE))","v":""},{"$f":"IF(ISERROR(VLOOKUP($A466,check!$A:$L,12,FALSE))=TRUE,\"\",VLOOKUP($A466,check!$A:$L,12,FALSE))","v":""}]
[467,{"$f":"IF(C467=\"\",\"\",MATCH(A467,check!A:A,0))","v":""},{"$f":"IF(ISERROR(VLOOKUP($A467,check!$A:$L,2,FALSE))=TRUE,\"\",VLOOKUP($A467,check!$A:$L,2,FALSE))","v":""},{"$f":"IF(ISERROR(VLOOKUP($A467,check!$A:$L,3,FALSE))=TRUE,\"\",VLOOKUP($A467,check!$A:$L,3,FALSE))","v":""},{"$f":"IF(ISERROR(VLOOKUP($A467,check!$A:$L,4,FALSE))=TRUE,\"\",VLOOKUP($A467,check!$A:$L,4,FALSE))","v":""},{"$f":"IF(ISERROR(VLOOKUP($A467,check!$A:$L,5,FALSE))=TRUE,\"\",VLOOKUP($A467,check!$A:$L,5,FALSE))","v":""},{"$f":"IF(ISERROR(VLOOKUP($A467,check!$A:$L,6,FALSE))=TRUE,\"\",VLOOKUP($A467,check!$A:$L,6,FALSE))","v":""},{"$f":"IF(ISERROR(VLOOKUP($A467,check!$A:$L,7,FALSE))=TRUE,\"\",VLOOKUP($A467,check!$A:$L,7,FALSE))","v":""},{"$f":"IF(ISERROR(VLOOKUP($A467,check!$A:$L,8,FALSE))=TRUE,\"\",VLOOKUP($A467,check!$A:$L,8,FALSE))","v":""},{"$f":"IF(ISERROR(VLOOKUP($A467,check!$A:$L,9,FALSE))=TRUE,\"\",VLOOKUP($A467,check!$A:$L,9,FALSE))","v":""},{"$f":"IF(ISERROR(VLOOKUP($A467,check!$A:$L,10,FALSE))=TRUE,\"\",VLOOKUP($A467,check!$A:$L,10,FALSE))","v":""},{"$f":"IF(ISERROR(VLOOKUP($A467,check!$A:$L,11,FALSE))=TRUE,\"\",VLOOKUP($A467,check!$A:$L,11,FALSE))","v":""},{"$f":"IF(ISERROR(VLOOKUP($A467,check!$A:$L,12,FALSE))=TRUE,\"\",VLOOKUP($A467,check!$A:$L,12,FALSE))","v":""}]
[468,{"$f":"IF(C468=\"\",\"\",MATCH(A468,check!A:A,0))","v":""},{"$f":"IF(ISERROR(VLOOKUP($A468,check!$A:$L,2,FALSE))=TRUE,\"\",VLOOKUP($A468,check!$A:$L,2,FALSE))","v":""},{"$f":"IF(ISERROR(VLOOKUP($A468,check!$A:$L,3,FALSE))=TRUE,\"\",VLOOKUP($A468,check!$A:$L,3,FALSE))","v":""},{"$f":"IF(ISERROR(VLOOKUP($A468,check!$A:$L,4,FALSE))=TRUE,\"\",VLOOKUP($A468,check!$A:$L,4,FALSE))","v":""},{"$f":"IF(ISERROR(VLOOKUP($A468,check!$A:$L,5,FALSE))=TRUE,\"\",VLOOKUP($A468,check!$A:$L,5,FALSE))","v":""},{"$f":"IF(ISERROR(VLOOKUP($A468,check!$A:$L,6,FALSE))=TRUE,\"\",VLOOKUP($A468,check!$A:$L,6,FALSE))","v":""},{"$f":"IF(ISERROR(VLOOKUP($A468,check!$A:$L,7,FALSE))=TRUE,\"\",VLOOKUP($A468,check!$A:$L,7,FALSE))","v":""},{"$f":"IF(ISERROR(VLOOKUP($A468,check!$A:$L,8,FALSE))=TRUE,\"\",VLOOKUP($A468,check!$A:$L,8,FALSE))","v":""},{"$f":"IF(ISERROR(VLOOKUP($A468,check!$A:$L,9,FALSE))=TRUE,\"\",VLOOKUP($A468,check!$A:$L,9,FALSE))","v":""},{"$f":"IF(ISERROR(VLOOKUP($A468,check!$A:$L,10,FALSE))=TRUE,\"\",VLOOKUP($A468,check!$A:$L,10,FALSE))","v":""},{"$f":"IF(ISERROR(VLOOKUP($A468,check!$A:$L,11,FALSE))=TRUE,\"\",VLOOKUP($A468,check!$A:$L,11,FALSE))","v":""},{"$f":"IF(ISERROR(VLOOKUP($A468,check!$A:$L,12,FALSE))=TRUE,\"\",VLOOKUP($A468,check!$A:$L,12,FALSE))","v":""}]
[469,{"$f":"IF(C469=\"\",\"\",MATCH(A469,check!A:A,0))","v":""},{"$f":"IF(ISERROR(VLOOKUP($A469,check!$A:$L,2,FALSE))=TRUE,\"\",VLOOKUP($A469,check!$A:$L,2,FALSE))","v":""},{"$f":"IF(ISERROR(VLOOKUP($A469,check!$A:$L,3,FALSE))=TRUE,\"\",VLOOKUP($A469,check!$A:$L,3,FALSE))","v":""},{"$f":"IF(ISERROR(VLOOKUP($A469,check!$A:$L,4,FALSE))=TRUE,\"\",VLOOKUP($A469,check!$A:$L,4,FALSE))","v":""},{"$f":"IF(ISERROR(VLOOKUP($A469,check!$A:$L,5,FALSE))=TRUE,\"\",VLOOKUP($A469,check!$A:$L,5,FALSE))","v":""},{"$f":"IF(ISERROR(VLOOKUP($A469,check!$A:$L,6,FALSE))=TRUE,\"\",VLOOKUP($A469,check!$A:$L,6,FALSE))","v":""},{"$f":"IF(ISERROR(VLOOKUP($A469,check!$A:$L,7,FALSE))=TRUE,\"\",VLOOKUP($A469,check!$A:$L,7,FALSE))","v":""},{"$f":"IF(ISERROR(VLOOKUP($A469,check!$A:$L,8,FALSE))=TRUE,\"\",VLOOKUP($A469,check!$A:$L,8,FALSE))","v":""},{"$f":"IF(ISERROR(VLOOKUP($A469,check!$A:$L,9,FALSE))=TRUE,\"\",VLOOKUP($A469,check!$A:$L,9,FALSE))","v":""},{"$f":"IF(ISERROR(VLOOKUP($A469,check!$A:$L,10,FALSE))=TRUE,\"\",VLOOKUP($A469,check!$A:$L,10,FALSE))","v":""},{"$f":"IF(ISERROR(VLOOKUP($A469,check!$A:$L,11,FALSE))=TRUE,\"\",VLOOKUP($A469,check!$A:$L,11,FALSE))","v":""},{"$f":"IF(ISERROR(VLOOKUP($A469,check!$A:$L,12,FALSE))=TRUE,\"\",VLOOKUP($A469,check!$A:$L,12,FALSE))","v":""}]
[470,{"$f":"IF(C470=\"\",\"\",MATCH(A470,check!A:A,0))","v":""},{"$f":"IF(ISERROR(VLOOKUP($A470,check!$A:$L,2,FALSE))=TRUE,\"\",VLOOKUP($A470,check!$A:$L,2,FALSE))","v":""},{"$f":"IF(ISERROR(VLOOKUP($A470,check!$A:$L,3,FALSE))=TRUE,\"\",VLOOKUP($A470,check!$A:$L,3,FALSE))","v":""},{"$f":"IF(ISERROR(VLOOKUP($A470,check!$A:$L,4,FALSE))=TRUE,\"\",VLOOKUP($A470,check!$A:$L,4,FALSE))","v":""},{"$f":"IF(ISERROR(VLOOKUP($A470,check!$A:$L,5,FALSE))=TRUE,\"\",VLOOKUP($A470,check!$A:$L,5,FALSE))","v":""},{"$f":"IF(ISERROR(VLOOKUP($A470,check!$A:$L,6,FALSE))=TRUE,\"\",VLOOKUP($A470,check!$A:$L,6,FALSE))","v":""},{"$f":"IF(ISERROR(VLOOKUP($A470,check!$A:$L,7,FALSE))=TRUE,\"\",VLOOKUP($A470,check!$A:$L,7,FALSE))","v":""},{"$f":"IF(ISERROR(VLOOKUP($A470,check!$A:$L,8,FALSE))=TRUE,\"\",VLOOKUP($A470,check!$A:$L,8,FALSE))","v":""},{"$f":"IF(ISERROR(VLOOKUP($A470,check!$A:$L,9,FALSE))=TRUE,\"\",VLOOKUP($A470,check!$A:$L,9,FALSE))","v":""},{"$f":"IF(ISERROR(VLOOKUP($A470,check!$A:$L,10,FALSE))=TRUE,\"\",VLOOKUP($A470,check!$A:$L,10,FALSE))","v":""},{"$f":"IF(ISERROR(VLOOKUP($A470,check!$A:$L,11,FALSE))=TRUE,\"\",VLOOKUP($A470,check!$A:$L,11,FALSE))","v":""},{"$f":"IF(ISERROR(VLOOKUP($A470,check!$A:$L,12,FALSE))=TRUE,\"\",VLOOKUP($A470,check!$A:$L,12,FALSE))","v":""}]
[471,{"$f":"IF(C471=\"\",\"\",MATCH(A471,check!A:A,0))","v":""},{"$f":"IF(ISERROR(VLOOKUP($A471,check!$A:$L,2,FALSE))=TRUE,\"\",VLOOKUP($A471,check!$A:$L,2,FALSE))","v":""},{"$f":"IF(ISERROR(VLOOKUP($A471,check!$A:$L,3,FALSE))=TRUE,\"\",VLOOKUP($A471,check!$A:$L,3,FALSE))","v":""},{"$f":"IF(ISERROR(VLOOKUP($A471,check!$A:$L,4,FALSE))=TRUE,\"\",VLOOKUP($A471,check!$A:$L,4,FALSE))","v":""},{"$f":"IF(ISERROR(VLOOKUP($A471,check!$A:$L,5,FALSE))=TRUE,\"\",VLOOKUP($A471,check!$A:$L,5,FALSE))","v":""},{"$f":"IF(ISERROR(VLOOKUP($A471,check!$A:$L,6,FALSE))=TRUE,\"\",VLOOKUP($A471,check!$A:$L,6,FALSE))","v":""},{"$f":"IF(ISERROR(VLOOKUP($A471,check!$A:$L,7,FALSE))=TRUE,\"\",VLOOKUP($A471,check!$A:$L,7,FALSE))","v":""},{"$f":"IF(ISERROR(VLOOKUP($A471,check!$A:$L,8,FALSE))=TRUE,\"\",VLOOKUP($A471,check!$A:$L,8,FALSE))","v":""},{"$f":"IF(ISERROR(VLOOKUP($A471,check!$A:$L,9,FALSE))=TRUE,\"\",VLOOKUP($A471,check!$A:$L,9,FALSE))","v":""},{"$f":"IF(ISERROR(VLOOKUP($A471,check!$A:$L,10,FALSE))=TRUE,\"\",VLOOKUP($A471,check!$A:$L,10,FALSE))","v":""},{"$f":"IF(ISERROR(VLOOKUP($A471,check!$A:$L,11,FALSE))=TRUE,\"\",VLOOKUP($A471,check!$A:$L,11,FALSE))","v":""},{"$f":"IF(ISERROR(VLOOKUP($A471,check!$A:$L,12,FALSE))=TRUE,\"\",VLOOKUP($A471,check!$A:$L,12,FALSE))","v":""}]
[472,{"$f":"IF(C472=\"\",\"\",MATCH(A472,check!A:A,0))","v":""},{"$f":"IF(ISERROR(VLOOKUP($A472,check!$A:$L,2,FALSE))=TRUE,\"\",VLOOKUP($A472,check!$A:$L,2,FALSE))","v":""},{"$f":"IF(ISERROR(VLOOKUP($A472,check!$A:$L,3,FALSE))=TRUE,\"\",VLOOKUP($A472,check!$A:$L,3,FALSE))","v":""},{"$f":"IF(ISERROR(VLOOKUP($A472,check!$A:$L,4,FALSE))=TRUE,\"\",VLOOKUP($A472,check!$A:$L,4,FALSE))","v":""},{"$f":"IF(ISERROR(VLOOKUP($A472,check!$A:$L,5,FALSE))=TRUE,\"\",VLOOKUP($A472,check!$A:$L,5,FALSE))","v":""},{"$f":"IF(ISERROR(VLOOKUP($A472,check!$A:$L,6,FALSE))=TRUE,\"\",VLOOKUP($A472,check!$A:$L,6,FALSE))","v":""},{"$f":"IF(ISERROR(VLOOKUP($A472,check!$A:$L,7,FALSE))=TRUE,\"\",VLOOKUP($A472,check!$A:$L,7,FALSE))","v":""},{"$f":"IF(ISERROR(VLOOKUP($A472,check!$A:$L,8,FALSE))=TRUE,\"\",VLOOKUP($A472,check!$A:$L,8,FALSE))","v":""},{"$f":"IF(ISERROR(VLOOKUP($A472,check!$A:$L,9,FALSE))=TRUE,\"\",VLOOKUP($A472,check!$A:$L,9,FALSE))","v":""},{"$f":"IF(ISERROR(VLOOKUP($A472,check!$A:$L,10,FALSE))=TRUE,\"\",VLOOKUP($A472,check!$A:$L,10,FALSE))","v":""},{"$f":"IF(ISERROR(VLOOKUP($A472,check!$A:$L,11,FALSE))=TRUE,\"\",VLOOKUP($A472,check!$A:$L,11,FALSE))","v":""},{"$f":"IF(ISERROR(VLOOKUP($A472,check!$A:$L,12,FALSE))=TRUE,\"\",VLOOKUP($A472,check!$A:$L,12,FALSE))","v":""}]
[473,{"$f":"IF(C473=\"\",\"\",MATCH(A473,check!A:A,0))","v":""},{"$f":"IF(ISERROR(VLOOKUP($A473,check!$A:$L,2,FALSE))=TRUE,\"\",VLOOKUP($A473,check!$A:$L,2,FALSE))","v":""},{"$f":"IF(ISERROR(VLOOKUP($A473,check!$A:$L,3,FALSE))=TRUE,\"\",VLOOKUP($A473,check!$A:$L,3,FALSE))","v":""},{"$f":"IF(ISERROR(VLOOKUP($A473,check!$A:$L,4,FALSE))=TRUE,\"\",VLOOKUP($A473,check!$A:$L,4,FALSE))","v":""},{"$f":"IF(ISERROR(VLOOKUP($A473,check!$A:$L,5,FALSE))=TRUE,\"\",VLOOKUP($A473,check!$A:$L,5,FALSE))","v":""},{"$f":"IF(ISERROR(VLOOKUP($A473,check!$A:$L,6,FALSE))=TRUE,\"\",VLOOKUP($A473,check!$A:$L,6,FALSE))","v":""},{"$f":"IF(ISERROR(VLOOKUP($A473,check!$A:$L,7,FALSE))=TRUE,\"\",VLOOKUP($A473,check!$A:$L,7,FALSE))","v":""},{"$f":"IF(ISERROR(VLOOKUP($A473,check!$A:$L,8,FALSE))=TRUE,\"\",VLOOKUP($A473,check!$A:$L,8,FALSE))","v":""},{"$f":"IF(ISERROR(VLOOKUP($A473,check!$A:$L,9,FALSE))=TRUE,\"\",VLOOKUP($A473,check!$A:$L,9,FALSE))","v":""},{"$f":"IF(ISERROR(VLOOKUP($A473,check!$A:$L,10,FALSE))=TRUE,\"\",VLOOKUP($A473,check!$A:$L,10,FALSE))","v":""},{"$f":"IF(ISERROR(VLOOKUP($A473,check!$A:$L,11,FALSE))=TRUE,\"\",VLOOKUP($A473,check!$A:$L,11,FALSE))","v":""},{"$f":"IF(ISERROR(VLOOKUP($A473,check!$A:$L,12,FALSE))=TRUE,\"\",VLOOKUP($A473,check!$A:$L,12,FALSE))","v":""}]
[474,{"$f":"IF(C474=\"\",\"\",MATCH(A474,check!A:A,0))","v":""},{"$f":"IF(ISERROR(VLOOKUP($A474,check!$A:$L,2,FALSE))=TRUE,\"\",VLOOKUP($A474,check!$A:$L,2,FALSE))","v":""},{"$f":"IF(ISERROR(VLOOKUP($A474,check!$A:$L,3,FALSE))=TRUE,\"\",VLOOKUP($A474,check!$A:$L,3,FALSE))","v":""},{"$f":"IF(ISERROR(VLOOKUP($A474,check!$A:$L,4,FALSE))=TRUE,\"\",VLOOKUP($A474,check!$A:$L,4,FALSE))","v":""},{"$f":"IF(ISERROR(VLOOKUP($A474,check!$A:$L,5,FALSE))=TRUE,\"\",VLOOKUP($A474,check!$A:$L,5,FALSE))","v":""},{"$f":"IF(ISERROR(VLOOKUP($A474,check!$A:$L,6,FALSE))=TRUE,\"\",VLOOKUP($A474,check!$A:$L,6,FALSE))","v":""},{"$f":"IF(ISERROR(VLOOKUP($A474,check!$A:$L,7,FALSE))=TRUE,\"\",VLOOKUP($A474,check!$A:$L,7,FALSE))","v":""},{"$f":"IF(ISERROR(VLOOKUP($A474,check!$A:$L,8,FALSE))=TRUE,\"\",VLOOKUP($A474,check!$A:$L,8,FALSE))","v":""},{"$f":"IF(ISERROR(VLOOKUP($A474,check!$A:$L,9,FALSE))=TRUE,\"\",VLOOKUP($A474,check!$A:$L,9,FALSE))","v":""},{"$f":"IF(ISERROR(VLOOKUP($A474,check!$A:$L,10,FALSE))=TRUE,\"\",VLOOKUP($A474,check!$A:$L,10,FALSE))","v":""},{"$f":"IF(ISERROR(VLOOKUP($A474,check!$A:$L,11,FALSE))=TRUE,\"\",VLOOKUP($A474,check!$A:$L,11,FALSE))","v":""},{"$f":"IF(ISERROR(VLOOKUP($A474,check!$A:$L,12,FALSE))=TRUE,\"\",VLOOKUP($A474,check!$A:$L,12,FALSE))","v":""}]
[475,{"$f":"IF(C475=\"\",\"\",MATCH(A475,check!A:A,0))","v":""},{"$f":"IF(ISERROR(VLOOKUP($A475,check!$A:$L,2,FALSE))=TRUE,\"\",VLOOKUP($A475,check!$A:$L,2,FALSE))","v":""},{"$f":"IF(ISERROR(VLOOKUP($A475,check!$A:$L,3,FALSE))=TRUE,\"\",VLOOKUP($A475,check!$A:$L,3,FALSE))","v":""},{"$f":"IF(ISERROR(VLOOKUP($A475,check!$A:$L,4,FALSE))=TRUE,\"\",VLOOKUP($A475,check!$A:$L,4,FALSE))","v":""},{"$f":"IF(ISERROR(VLOOKUP($A475,check!$A:$L,5,FALSE))=TRUE,\"\",VLOOKUP($A475,check!$A:$L,5,FALSE))","v":""},{"$f":"IF(ISERROR(VLOOKUP($A475,check!$A:$L,6,FALSE))=TRUE,\"\",VLOOKUP($A475,check!$A:$L,6,FALSE))","v":""},{"$f":"IF(ISERROR(VLOOKUP($A475,check!$A:$L,7,FALSE))=TRUE,\"\",VLOOKUP($A475,check!$A:$L,7,FALSE))","v":""},{"$f":"IF(ISERROR(VLOOKUP($A475,check!$A:$L,8,FALSE))=TRUE,\"\",VLOOKUP($A475,check!$A:$L,8,FALSE))","v":""},{"$f":"IF(ISERROR(VLOOKUP($A475,check!$A:$L,9,FALSE))=TRUE,\"\",VLOOKUP($A475,check!$A:$L,9,FALSE))","v":""},{"$f":"IF(ISERROR(VLOOKUP($A475,check!$A:$L,10,FALSE))=TRUE,\"\",VLOOKUP($A475,check!$A:$L,10,FALSE))","v":""},{"$f":"IF(ISERROR(VLOOKUP($A475,check!$A:$L,11,FALSE))=TRUE,\"\",VLOOKUP($A475,check!$A:$L,11,FALSE))","v":""},{"$f":"IF(ISERROR(VLOOKUP($A475,check!$A:$L,12,FALSE))=TRUE,\"\",VLOOKUP($A475,check!$A:$L,12,FALSE))","v":""}]
[476,{"$f":"IF(C476=\"\",\"\",MATCH(A476,check!A:A,0))","v":""},{"$f":"IF(ISERROR(VLOOKUP($A476,check!$A:$L,2,FALSE))=TRUE,\"\",VLOOKUP($A476,check!$A:$L,2,FALSE))","v":""},{"$f":"IF(ISERROR(VLOOKUP($A476,check!$A:$L,3,FALSE))=TRUE,\"\",VLOOKUP($A476,check!$A:$L,3,FALSE))","v":""},{"$f":"IF(ISERROR(VLOOKUP($A476,check!$A:$L,4,FALSE))=TRUE,\"\",VLOOKUP($A476,check!$A:$L,4,FALSE))","v":""},{"$f":"IF(ISERROR(VLOOKUP($A476,check!$A:$L,5,FALSE))=TRUE,\"\",VLOOKUP($A476,check!$A:$L,5,FALSE))","v":""},{"$f":"IF(ISERROR(VLOOKUP($A476,check!$A:$L,6,FALSE))=TRUE,\"\",VLOOKUP($A476,check!$A:$L,6,FALSE))","v":""},{"$f":"IF(ISERROR(VLOOKUP($A476,check!$A:$L,7,FALSE))=TRUE,\"\",VLOOKUP($A476,check!$A:$L,7,FALSE))","v":""},{"$f":"IF(ISERROR(VLOOKUP($A476,check!$A:$L,8,FALSE))=TRUE,\"\",VLOOKUP($A476,check!$A:$L,8,FALSE))","v":""},{"$f":"IF(ISERROR(VLOOKUP($A476,check!$A:$L,9,FALSE))=TRUE,\"\",VLOOKUP($A476,check!$A:$L,9,FALSE))","v":""},{"$f":"IF(ISERROR(VLOOKUP($A476,check!$A:$L,10,FALSE))=TRUE,\"\",VLOOKUP($A476,check!$A:$L,10,FALSE))","v":""},{"$f":"IF(ISERROR(VLOOKUP($A476,check!$A:$L,11,FALSE))=TRUE,\"\",VLOOKUP($A476,check!$A:$L,11,FALSE))","v":""},{"$f":"IF(ISERROR(VLOOKUP($A476,check!$A:$L,12,FALSE))=TRUE,\"\",VLOOKUP($A476,check!$A:$L,12,FALSE))","v":""}]
[477,{"$f":"IF(C477=\"\",\"\",MATCH(A477,check!A:A,0))","v":""},{"$f":"IF(ISERROR(VLOOKUP($A477,check!$A:$L,2,FALSE))=TRUE,\"\",VLOOKUP($A477,check!$A:$L,2,FALSE))","v":""},{"$f":"IF(ISERROR(VLOOKUP($A477,check!$A:$L,3,FALSE))=TRUE,\"\",VLOOKUP($A477,check!$A:$L,3,FALSE))","v":""},{"$f":"IF(ISERROR(VLOOKUP($A477,check!$A:$L,4,FALSE))=TRUE,\"\",VLOOKUP($A477,check!$A:$L,4,FALSE))","v":""},{"$f":"IF(ISERROR(VLOOKUP($A477,check!$A:$L,5,FALSE))=TRUE,\"\",VLOOKUP($A477,check!$A:$L,5,FALSE))","v":""},{"$f":"IF(ISERROR(VLOOKUP($A477,check!$A:$L,6,FALSE))=TRUE,\"\",VLOOKUP($A477,check!$A:$L,6,FALSE))","v":""},{"$f":"IF(ISERROR(VLOOKUP($A477,check!$A:$L,7,FALSE))=TRUE,\"\",VLOOKUP($A477,check!$A:$L,7,FALSE))","v":""},{"$f":"IF(ISERROR(VLOOKUP($A477,check!$A:$L,8,FALSE))=TRUE,\"\",VLOOKUP($A477,check!$A:$L,8,FALSE))","v":""},{"$f":"IF(ISERROR(VLOOKUP($A477,check!$A:$L,9,FALSE))=TRUE,\"\",VLOOKUP($A477,check!$A:$L,9,FALSE))","v":""},{"$f":"IF(ISERROR(VLOOKUP($A477,check!$A:$L,10,FALSE))=TRUE,\"\",VLOOKUP($A477,check!$A:$L,10,FALSE))","v":""},{"$f":"IF(ISERROR(VLOOKUP($A477,check!$A:$L,11,FALSE))=TRUE,\"\",VLOOKUP($A477,check!$A:$L,11,FALSE))","v":""},{"$f":"IF(ISERROR(VLOOKUP($A477,check!$A:$L,12,FALSE))=TRUE,\"\",VLOOKUP($A477,check!$A:$L,12,FALSE))","v":""}]
[478,{"$f":"IF(C478=\"\",\"\",MATCH(A478,check!A:A,0))","v":""},{"$f":"IF(ISERROR(VLOOKUP($A478,check!$A:$L,2,FALSE))=TRUE,\"\",VLOOKUP($A478,check!$A:$L,2,FALSE))","v":""},{"$f":"IF(ISERROR(VLOOKUP($A478,check!$A:$L,3,FALSE))=TRUE,\"\",VLOOKUP($A478,check!$A:$L,3,FALSE))","v":""},{"$f":"IF(ISERROR(VLOOKUP($A478,check!$A:$L,4,FALSE))=TRUE,\"\",VLOOKUP($A478,check!$A:$L,4,FALSE))","v":""},{"$f":"IF(ISERROR(VLOOKUP($A478,check!$A:$L,5,FALSE))=TRUE,\"\",VLOOKUP($A478,check!$A:$L,5,FALSE))","v":""},{"$f":"IF(ISERROR(VLOOKUP($A478,check!$A:$L,6,FALSE))=TRUE,\"\",VLOOKUP($A478,check!$A:$L,6,FALSE))","v":""},{"$f":"IF(ISERROR(VLOOKUP($A478,check!$A:$L,7,FALSE))=TRUE,\"\",VLOOKUP($A478,check!$A:$L,7,FALSE))","v":""},{"$f":"IF(ISERROR(VLOOKUP($A478,check!$A:$L,8,FALSE))=TRUE,\"\",VLOOKUP($A478,check!$A:$L,8,FALSE))","v":""},{"$f":"IF(ISERROR(VLOOKUP($A478,check!$A:$L,9,FALSE))=TRUE,\"\",VLOOKUP($A478,check!$A:$L,9,FALSE))","v":""},{"$f":"IF(ISERROR(VLOOKUP($A478,check!$A:$L,10,FALSE))=TRUE,\"\",VLOOKUP($A478,check!$A:$L,10,FALSE))","v":""},{"$f":"IF(ISERROR(VLOOKUP($A478,check!$A:$L,11,FALSE))=TRUE,\"\",VLOOKUP($A478,check!$A:$L,11,FALSE))","v":""},{"$f":"IF(ISERROR(VLOOKUP($A478,check!$A:$L,12,FALSE))=TRUE,\"\",VLOOKUP($A478,check!$A:$L,12,FALSE))","v":""}]
[479,{"$f":"IF(C479=\"\",\"\",MATCH(A479,check!A:A,0))","v":""},{"$f":"IF(ISERROR(VLOOKUP($A479,check!$A:$L,2,FALSE))=TRUE,\"\",VLOOKUP($A479,check!$A:$L,2,FALSE))","v":""},{"$f":"IF(ISERROR(VLOOKUP($A479,check!$A:$L,3,FALSE))=TRUE,\"\",VLOOKUP($A479,check!$A:$L,3,FALSE))","v":""},{"$f":"IF(ISERROR(VLOOKUP($A479,check!$A:$L,4,FALSE))=TRUE,\"\",VLOOKUP($A479,check!$A:$L,4,FALSE))","v":""},{"$f":"IF(ISERROR(VLOOKUP($A479,check!$A:$L,5,FALSE))=TRUE,\"\",VLOOKUP($A479,check!$A:$L,5,FALSE))","v":""},{"$f":"IF(ISERROR(VLOOKUP($A479,check!$A:$L,6,FALSE))=TRUE,\"\",VLOOKUP($A479,check!$A:$L,6,FALSE))","v":""},{"$f":"IF(ISERROR(VLOOKUP($A479,check!$A:$L,7,FALSE))=TRUE,\"\",VLOOKUP($A479,check!$A:$L,7,FALSE))","v":""},{"$f":"IF(ISERROR(VLOOKUP($A479,check!$A:$L,8,FALSE))=TRUE,\"\",VLOOKUP($A479,check!$A:$L,8,FALSE))","v":""},{"$f":"IF(ISERROR(VLOOKUP($A479,check!$A:$L,9,FALSE))=TRUE,\"\",VLOOKUP($A479,check!$A:$L,9,FALSE))","v":""},{"$f":"IF(ISERROR(VLOOKUP($A479,check!$A:$L,10,FALSE))=TRUE,\"\",VLOOKUP($A479,check!$A:$L,10,FALSE))","v":""},{"$f":"IF(ISERROR(VLOOKUP($A479,check!$A:$L,11,FALSE))=TRUE,\"\",VLOOKUP($A479,check!$A:$L,11,FALSE))","v":""},{"$f":"IF(ISERROR(VLOOKUP($A479,check!$A:$L,12,FALSE))=TRUE,\"\",VLOOKUP($A479,check!$A:$L,12,FALSE))","v":""}]
[480,{"$f":"IF(C480=\"\",\"\",MATCH(A480,check!A:A,0))","v":""},{"$f":"IF(ISERROR(VLOOKUP($A480,check!$A:$L,2,FALSE))=TRUE,\"\",VLOOKUP($A480,check!$A:$L,2,FALSE))","v":""},{"$f":"IF(ISERROR(VLOOKUP($A480,check!$A:$L,3,FALSE))=TRUE,\"\",VLOOKUP($A480,check!$A:$L,3,FALSE))","v":""},{"$f":"IF(ISERROR(VLOOKUP($A480,check!$A:$L,4,FALSE))=TRUE,\"\",VLOOKUP($A480,check!$A:$L,4,FALSE))","v":""},{"$f":"IF(ISERROR(VLOOKUP($A480,check!$A:$L,5,FALSE))=TRUE,\"\",VLOOKUP($A480,check!$A:$L,5,FALSE))","v":""},{"$f":"IF(ISERROR(VLOOKUP($A480,check!$A:$L,6,FALSE))=TRUE,\"\",VLOOKUP($A480,check!$A:$L,6,FALSE))","v":""},{"$f":"IF(ISERROR(VLOOKUP($A480,check!$A:$L,7,FALSE))=TRUE,\"\",VLOOKUP($A480,check!$A:$L,7,FALSE))","v":""},{"$f":"IF(ISERROR(VLOOKUP($A480,check!$A:$L,8,FALSE))=TRUE,\"\",VLOOKUP($A480,check!$A:$L,8,FALSE))","v":""},{"$f":"IF(ISERROR(VLOOKUP($A480,check!$A:$L,9,FALSE))=TRUE,\"\",VLOOKUP($A480,check!$A:$L,9,FALSE))","v":""},{"$f":"IF(ISERROR(VLOOKUP($A480,check!$A:$L,10,FALSE))=TRUE,\"\",VLOOKUP($A480,check!$A:$L,10,FALSE))","v":""},{"$f":"IF(ISERROR(VLOOKUP($A480,check!$A:$L,11,FALSE))=TRUE,\"\",VLOOKUP($A480,check!$A:$L,11,FALSE))","v":""},{"$f":"IF(ISERROR(VLOOKUP($A480,check!$A:$L,12,FALSE))=TRUE,\"\",VLOOKUP($A480,check!$A:$L,12,FALSE))","v":""}]
[481,{"$f":"IF(C481=\"\",\"\",MATCH(A481,check!A:A,0))","v":""},{"$f":"IF(ISERROR(VLOOKUP($A481,check!$A:$L,2,FALSE))=TRUE,\"\",VLOOKUP($A481,check!$A:$L,2,FALSE))","v":""},{"$f":"IF(ISERROR(VLOOKUP($A481,check!$A:$L,3,FALSE))=TRUE,\"\",VLOOKUP($A481,check!$A:$L,3,FALSE))","v":""},{"$f":"IF(ISERROR(VLOOKUP($A481,check!$A:$L,4,FALSE))=TRUE,\"\",VLOOKUP($A481,check!$A:$L,4,FALSE))","v":""},{"$f":"IF(ISERROR(VLOOKUP($A481,check!$A:$L,5,FALSE))=TRUE,\"\",VLOOKUP($A481,check!$A:$L,5,FALSE))","v":""},{"$f":"IF(ISERROR(VLOOKUP($A481,check!$A:$L,6,FALSE))=TRUE,\"\",VLOOKUP($A481,check!$A:$L,6,FALSE))","v":""},{"$f":"IF(ISERROR(VLOOKUP($A481,check!$A:$L,7,FALSE))=TRUE,\"\",VLOOKUP($A481,check!$A:$L,7,FALSE))","v":""},{"$f":"IF(ISERROR(VLOOKUP($A481,check!$A:$L,8,FALSE))=TRUE,\"\",VLOOKUP($A481,check!$A:$L,8,FALSE))","v":""},{"$f":"IF(ISERROR(VLOOKUP($A481,check!$A:$L,9,FALSE))=TRUE,\"\",VLOOKUP($A481,check!$A:$L,9,FALSE))","v":""},{"$f":"IF(ISERROR(VLOOKUP($A481,check!$A:$L,10,FALSE))=TRUE,\"\",VLOOKUP($A481,check!$A:$L,10,FALSE))","v":""},{"$f":"IF(ISERROR(VLOOKUP($A481,check!$A:$L,11,FALSE))=TRUE,\"\",VLOOKUP($A481,check!$A:$L,11,FALSE))","v":""},{"$f":"IF(ISERROR(VLOOKUP($A481,check!$A:$L,12,FALSE))=TRUE,\"\",VLOOKUP($A481,check!$A:$L,12,FALSE))","v":""}]
[482,{"$f":"IF(C482=\"\",\"\",MATCH(A482,check!A:A,0))","v":""},{"$f":"IF(ISERROR(VLOOKUP($A482,check!$A:$L,2,FALSE))=TRUE,\"\",VLOOKUP($A482,check!$A:$L,2,FALSE))","v":""},{"$f":"IF(ISERROR(VLOOKUP($A482,check!$A:$L,3,FALSE))=TRUE,\"\",VLOOKUP($A482,check!$A:$L,3,FALSE))","v":""},{"$f":"IF(ISERROR(VLOOKUP($A482,check!$A:$L,4,FALSE))=TRUE,\"\",VLOOKUP($A482,check!$A:$L,4,FALSE))","v":""},{"$f":"IF(ISERROR(VLOOKUP($A482,check!$A:$L,5,FALSE))=TRUE,\"\",VLOOKUP($A482,check!$A:$L,5,FALSE))","v":""},{"$f":"IF(ISERROR(VLOOKUP($A482,check!$A:$L,6,FALSE))=TRUE,\"\",VLOOKUP($A482,check!$A:$L,6,FALSE))","v":""},{"$f":"IF(ISERROR(VLOOKUP($A482,check!$A:$L,7,FALSE))=TRUE,\"\",VLOOKUP($A482,check!$A:$L,7,FALSE))","v":""},{"$f":"IF(ISERROR(VLOOKUP($A482,check!$A:$L,8,FALSE))=TRUE,\"\",VLOOKUP($A482,check!$A:$L,8,FALSE))","v":""},{"$f":"IF(ISERROR(VLOOKUP($A482,check!$A:$L,9,FALSE))=TRUE,\"\",VLOOKUP($A482,check!$A:$L,9,FALSE))","v":""},{"$f":"IF(ISERROR(VLOOKUP($A482,check!$A:$L,10,FALSE))=TRUE,\"\",VLOOKUP($A482,check!$A:$L,10,FALSE))","v":""},{"$f":"IF(ISERROR(VLOOKUP($A482,check!$A:$L,11,FALSE))=TRUE,\"\",VLOOKUP($A482,check!$A:$L,11,FALSE))","v":""},{"$f":"IF(ISERROR(VLOOKUP($A482,check!$A:$L,12,FALSE))=TRUE,\"\",VLOOKUP($A482,check!$A:$L,12,FALSE))","v":""}]
[483,{"$f":"IF(C483=\"\",\"\",MATCH(A483,check!A:A,0))","v":""},{"$f":"IF(ISERROR(VLOOKUP($A483,check!$A:$L,2,FALSE))=TRUE,\"\",VLOOKUP($A483,check!$A:$L,2,FALSE))","v":""},{"$f":"IF(ISERROR(VLOOKUP($A483,check!$A:$L,3,FALSE))=TRUE,\"\",VLOOKUP($A483,check!$A:$L,3,FALSE))","v":""},{"$f":"IF(ISERROR(VLOOKUP($A483,check!$A:$L,4,FALSE))=TRUE,\"\",VLOOKUP($A483,check!$A:$L,4,FALSE))","v":""},{"$f":"IF(ISERROR(VLOOKUP($A483,check!$A:$L,5,FALSE))=TRUE,\"\",VLOOKUP($A483,check!$A:$L,5,FALSE))","v":""},{"$f":"IF(ISERROR(VLOOKUP($A483,check!$A:$L,6,FALSE))=TRUE,\"\",VLOOKUP($A483,check!$A:$L,6,FALSE))","v":""},{"$f":"IF(ISERROR(VLOOKUP($A483,check!$A:$L,7,FALSE))=TRUE,\"\",VLOOKUP($A483,check!$A:$L,7,FALSE))","v":""},{"$f":"IF(ISERROR(VLOOKUP($A483,check!$A:$L,8,FALSE))=TRUE,\"\",VLOOKUP($A483,check!$A:$L,8,FALSE))","v":""},{"$f":"IF(ISERROR(VLOOKUP($A483,check!$A:$L,9,FALSE))=TRUE,\"\",VLOOKUP($A483,check!$A:$L,9,FALSE))","v":""},{"$f":"IF(ISERROR(VLOOKUP($A483,check!$A:$L,10,FALSE))=TRUE,\"\",VLOOKUP($A483,check!$A:$L,10,FALSE))","v":""},{"$f":"IF(ISERROR(VLOOKUP($A483,check!$A:$L,11,FALSE))=TRUE,\"\",VLOOKUP($A483,check!$A:$L,11,FALSE))","v":""},{"$f":"IF(ISERROR(VLOOKUP($A483,check!$A:$L,12,FALSE))=TRUE,\"\",VLOOKUP($A483,check!$A:$L,12,FALSE))","v":""}]
[484,{"$f":"IF(C484=\"\",\"\",MATCH(A484,check!A:A,0))","v":""},{"$f":"IF(ISERROR(VLOOKUP($A484,check!$A:$L,2,FALSE))=TRUE,\"\",VLOOKUP($A484,check!$A:$L,2,FALSE))","v":""},{"$f":"IF(ISERROR(VLOOKUP($A484,check!$A:$L,3,FALSE))=TRUE,\"\",VLOOKUP($A484,check!$A:$L,3,FALSE))","v":""},{"$f":"IF(ISERROR(VLOOKUP($A484,check!$A:$L,4,FALSE))=TRUE,\"\",VLOOKUP($A484,check!$A:$L,4,FALSE))","v":""},{"$f":"IF(ISERROR(VLOOKUP($A484,check!$A:$L,5,FALSE))=TRUE,\"\",VLOOKUP($A484,check!$A:$L,5,FALSE))","v":""},{"$f":"IF(ISERROR(VLOOKUP($A484,check!$A:$L,6,FALSE))=TRUE,\"\",VLOOKUP($A484,check!$A:$L,6,FALSE))","v":""},{"$f":"IF(ISERROR(VLOOKUP($A484,check!$A:$L,7,FALSE))=TRUE,\"\",VLOOKUP($A484,check!$A:$L,7,FALSE))","v":""},{"$f":"IF(ISERROR(VLOOKUP($A484,check!$A:$L,8,FALSE))=TRUE,\"\",VLOOKUP($A484,check!$A:$L,8,FALSE))","v":""},{"$f":"IF(ISERROR(VLOOKUP($A484,check!$A:$L,9,FALSE))=TRUE,\"\",VLOOKUP($A484,check!$A:$L,9,FALSE))","v":""},{"$f":"IF(ISERROR(VLOOKUP($A484,check!$A:$L,10,FALSE))=TRUE,\"\",VLOOKUP($A484,check!$A:$L,10,FALSE))","v":""},{"$f":"IF(ISERROR(VLOOKUP($A484,check!$A:$L,11,FALSE))=TRUE,\"\",VLOOKUP($A484,check!$A:$L,11,FALSE))","v":""},{"$f":"IF(ISERROR(VLOOKUP($A484,check!$A:$L,12,FALSE))=TRUE,\"\",VLOOKUP($A484,check!$A:$L,12,FALSE))","v":""}]
[485,{"$f":"IF(C485=\"\",\"\",MATCH(A485,check!A:A,0))","v":""},{"$f":"IF(ISERROR(VLOOKUP($A485,check!$A:$L,2,FALSE))=TRUE,\"\",VLOOKUP($A485,check!$A:$L,2,FALSE))","v":""},{"$f":"IF(ISERROR(VLOOKUP($A485,check!$A:$L,3,FALSE))=TRUE,\"\",VLOOKUP($A485,check!$A:$L,3,FALSE))","v":""},{"$f":"IF(ISERROR(VLOOKUP($A485,check!$A:$L,4,FALSE))=TRUE,\"\",VLOOKUP($A485,check!$A:$L,4,FALSE))","v":""},{"$f":"IF(ISERROR(VLOOKUP($A485,check!$A:$L,5,FALSE))=TRUE,\"\",VLOOKUP($A485,check!$A:$L,5,FALSE))","v":""},{"$f":"IF(ISERROR(VLOOKUP($A485,check!$A:$L,6,FALSE))=TRUE,\"\",VLOOKUP($A485,check!$A:$L,6,FALSE))","v":""},{"$f":"IF(ISERROR(VLOOKUP($A485,check!$A:$L,7,FALSE))=TRUE,\"\",VLOOKUP($A485,check!$A:$L,7,FALSE))","v":""},{"$f":"IF(ISERROR(VLOOKUP($A485,check!$A:$L,8,FALSE))=TRUE,\"\",VLOOKUP($A485,check!$A:$L,8,FALSE))","v":""},{"$f":"IF(ISERROR(VLOOKUP($A485,check!$A:$L,9,FALSE))=TRUE,\"\",VLOOKUP($A485,check!$A:$L,9,FALSE))","v":""},{"$f":"IF(ISERROR(VLOOKUP($A485,check!$A:$L,10,FALSE))=TRUE,\"\",VLOOKUP($A485,check!$A:$L,10,FALSE))","v":""},{"$f":"IF(ISERROR(VLOOKUP($A485,check!$A:$L,11,FALSE))=TRUE,\"\",VLOOKUP($A485,check!$A:$L,11,FALSE))","v":""},{"$f":"IF(ISERROR(VLOOKUP($A485,check!$A:$L,12,FALSE))=TRUE,\"\",VLOOKUP($A485,check!$A:$L,12,FALSE))","v":""}]
[486,{"$f":"IF(C486=\"\",\"\",MATCH(A486,check!A:A,0))","v":""},{"$f":"IF(ISERROR(VLOOKUP($A486,check!$A:$L,2,FALSE))=TRUE,\"\",VLOOKUP($A486,check!$A:$L,2,FALSE))","v":""},{"$f":"IF(ISERROR(VLOOKUP($A486,check!$A:$L,3,FALSE))=TRUE,\"\",VLOOKUP($A486,check!$A:$L,3,FALSE))","v":""},{"$f":"IF(ISERROR(VLOOKUP($A486,check!$A:$L,4,FALSE))=TRUE,\"\",VLOOKUP($A486,check!$A:$L,4,FALSE))","v":""},{"$f":"IF(ISERROR(VLOOKUP($A486,check!$A:$L,5,FALSE))=TRUE,\"\",VLOOKUP($A486,check!$A:$L,5,FALSE))","v":""},{"$f":"IF(ISERROR(VLOOKUP($A486,check!$A:$L,6,FALSE))=TRUE,\"\",VLOOKUP($A486,check!$A:$L,6,FALSE))","v":""},{"$f":"IF(ISERROR(VLOOKUP($A486,check!$A:$L,7,FALSE))=TRUE,\"\",VLOOKUP($A486,check!$A:$L,7,FALSE))","v":""},{"$f":"IF(ISERROR(VLOOKUP($A486,check!$A:$L,8,FALSE))=TRUE,\"\",VLOOKUP($A486,check!$A:$L,8,FALSE))","v":""},{"$f":"IF(ISERROR(VLOOKUP($A486,check!$A:$L,9,FALSE))=TRUE,\"\",VLOOKUP($A486,check!$A:$L,9,FALSE))","v":""},{"$f":"IF(ISERROR(VLOOKUP($A486,check!$A:$L,10,FALSE))=TRUE,\"\",VLOOKUP($A486,check!$A:$L,10,FALSE))","v":""},{"$f":"IF(ISERROR(VLOOKUP($A486,check!$A:$L,11,FALSE))=TRUE,\"\",VLOOKUP($A486,check!$A:$L,11,FALSE))","v":""},{"$f":"IF(ISERROR(VLOOKUP($A486,check!$A:$L,12,FALSE))=TRUE,\"\",VLOOKUP($A486,check!$A:$L,12,FALSE))","v":""}]
[487,{"$f":"IF(C487=\"\",\"\",MATCH(A487,check!A:A,0))","v":""},{"$f":"IF(ISERROR(VLOOKUP($A487,check!$A:$L,2,FALSE))=TRUE,\"\",VLOOKUP($A487,check!$A:$L,2,FALSE))","v":""},{"$f":"IF(ISERROR(VLOOKUP($A487,check!$A:$L,3,FALSE))=TRUE,\"\",VLOOKUP($A487,check!$A:$L,3,FALSE))","v":""},{"$f":"IF(ISERROR(VLOOKUP($A487,check!$A:$L,4,FALSE))=TRUE,\"\",VLOOKUP($A487,check!$A:$L,4,FALSE))","v":""},{"$f":"IF(ISERROR(VLOOKUP($A487,check!$A:$L,5,FALSE))=TRUE,\"\",VLOOKUP($A487,check!$A:$L,5,FALSE))","v":""},{"$f":"IF(ISERROR(VLOOKUP($A487,check!$A:$L,6,FALSE))=TRUE,\"\",VLOOKUP($A487,check!$A:$L,6,FALSE))","v":""},{"$f":"IF(ISERROR(VLOOKUP($A487,check!$A:$L,7,FALSE))=TRUE,\"\",VLOOKUP($A487,check!$A:$L,7,FALSE))","v":""},{"$f":"IF(ISERROR(VLOOKUP($A487,check!$A:$L,8,FALSE))=TRUE,\"\",VLOOKUP($A487,check!$A:$L,8,FALSE))","v":""},{"$f":"IF(ISERROR(VLOOKUP($A487,check!$A:$L,9,FALSE))=TRUE,\"\",VLOOKUP($A487,check!$A:$L,9,FALSE))","v":""},{"$f":"IF(ISERROR(VLOOKUP($A487,check!$A:$L,10,FALSE))=TRUE,\"\",VLOOKUP($A487,check!$A:$L,10,FALSE))","v":""},{"$f":"IF(ISERROR(VLOOKUP($A487,check!$A:$L,11,FALSE))=TRUE,\"\",VLOOKUP($A487,check!$A:$L,11,FALSE))","v":""},{"$f":"IF(ISERROR(VLOOKUP($A487,check!$A:$L,12,FALSE))=TRUE,\"\",VLOOKUP($A487,check!$A:$L,12,FALSE))","v":""}]
[488,{"$f":"IF(C488=\"\",\"\",MATCH(A488,check!A:A,0))","v":""},{"$f":"IF(ISERROR(VLOOKUP($A488,check!$A:$L,2,FALSE))=TRUE,\"\",VLOOKUP($A488,check!$A:$L,2,FALSE))","v":""},{"$f":"IF(ISERROR(VLOOKUP($A488,check!$A:$L,3,FALSE))=TRUE,\"\",VLOOKUP($A488,check!$A:$L,3,FALSE))","v":""},{"$f":"IF(ISERROR(VLOOKUP($A488,check!$A:$L,4,FALSE))=TRUE,\"\",VLOOKUP($A488,check!$A:$L,4,FALSE))","v":""},{"$f":"IF(ISERROR(VLOOKUP($A488,check!$A:$L,5,FALSE))=TRUE,\"\",VLOOKUP($A488,check!$A:$L,5,FALSE))","v":""},{"$f":"IF(ISERROR(VLOOKUP($A488,check!$A:$L,6,FALSE))=TRUE,\"\",VLOOKUP($A488,check!$A:$L,6,FALSE))","v":""},{"$f":"IF(ISERROR(VLOOKUP($A488,check!$A:$L,7,FALSE))=TRUE,\"\",VLOOKUP($A488,check!$A:$L,7,FALSE))","v":""},{"$f":"IF(ISERROR(VLOOKUP($A488,check!$A:$L,8,FALSE))=TRUE,\"\",VLOOKUP($A488,check!$A:$L,8,FALSE))","v":""},{"$f":"IF(ISERROR(VLOOKUP($A488,check!$A:$L,9,FALSE))=TRUE,\"\",VLOOKUP($A488,check!$A:$L,9,FALSE))","v":""},{"$f":"IF(ISERROR(VLOOKUP($A488,check!$A:$L,10,FALSE))=TRUE,\"\",VLOOKUP($A488,check!$A:$L,10,FALSE))","v":""},{"$f":"IF(ISERROR(VLOOKUP($A488,check!$A:$L,11,FALSE))=TRUE,\"\",VLOOKUP($A488,check!$A:$L,11,FALSE))","v":""},{"$f":"IF(ISERROR(VLOOKUP($A488,check!$A:$L,12,FALSE))=TRUE,\"\",VLOOKUP($A488,check!$A:$L,12,FALSE))","v":""}]
[489,{"$f":"IF(C489=\"\",\"\",MATCH(A489,check!A:A,0))","v":""},{"$f":"IF(ISERROR(VLOOKUP($A489,check!$A:$L,2,FALSE))=TRUE,\"\",VLOOKUP($A489,check!$A:$L,2,FALSE))","v":""},{"$f":"IF(ISERROR(VLOOKUP($A489,check!$A:$L,3,FALSE))=TRUE,\"\",VLOOKUP($A489,check!$A:$L,3,FALSE))","v":""},{"$f":"IF(ISERROR(VLOOKUP($A489,check!$A:$L,4,FALSE))=TRUE,\"\",VLOOKUP($A489,check!$A:$L,4,FALSE))","v":""},{"$f":"IF(ISERROR(VLOOKUP($A489,check!$A:$L,5,FALSE))=TRUE,\"\",VLOOKUP($A489,check!$A:$L,5,FALSE))","v":""},{"$f":"IF(ISERROR(VLOOKUP($A489,check!$A:$L,6,FALSE))=TRUE,\"\",VLOOKUP($A489,check!$A:$L,6,FALSE))","v":""},{"$f":"IF(ISERROR(VLOOKUP($A489,check!$A:$L,7,FALSE))=TRUE,\"\",VLOOKUP($A489,check!$A:$L,7,FALSE))","v":""},{"$f":"IF(ISERROR(VLOOKUP($A489,check!$A:$L,8,FALSE))=TRUE,\"\",VLOOKUP($A489,check!$A:$L,8,FALSE))","v":""},{"$f":"IF(ISERROR(VLOOKUP($A489,check!$A:$L,9,FALSE))=TRUE,\"\",VLOOKUP($A489,check!$A:$L,9,FALSE))","v":""},{"$f":"IF(ISERROR(VLOOKUP($A489,check!$A:$L,10,FALSE))=TRUE,\"\",VLOOKUP($A489,check!$A:$L,10,FALSE))","v":""},{"$f":"IF(ISERROR(VLOOKUP($A489,check!$A:$L,11,FALSE))=TRUE,\"\",VLOOKUP($A489,check!$A:$L,11,FALSE))","v":""},{"$f":"IF(ISERROR(VLOOKUP($A489,check!$A:$L,12,FALSE))=TRUE,\"\",VLOOKUP($A489,check!$A:$L,12,FALSE))","v":""}]
[490,{"$f":"IF(C490=\"\",\"\",MATCH(A490,check!A:A,0))","v":""},{"$f":"IF(ISERROR(VLOOKUP($A490,check!$A:$L,2,FALSE))=TRUE,\"\",VLOOKUP($A490,check!$A:$L,2,FALSE))","v":""},{"$f":"IF(ISERROR(VLOOKUP($A490,check!$A:$L,3,FALSE))=TRUE,\"\",VLOOKUP($A490,check!$A:$L,3,FALSE))","v":""},{"$f":"IF(ISERROR(VLOOKUP($A490,check!$A:$L,4,FALSE))=TRUE,\"\",VLOOKUP($A490,check!$A:$L,4,FALSE))","v":""},{"$f":"IF(ISERROR(VLOOKUP($A490,check!$A:$L,5,FALSE))=TRUE,\"\",VLOOKUP($A490,check!$A:$L,5,FALSE))","v":""},{"$f":"IF(ISERROR(VLOOKUP($A490,check!$A:$L,6,FALSE))=TRUE,\"\",VLOOKUP($A490,check!$A:$L,6,FALSE))","v":""},{"$f":"IF(ISERROR(VLOOKUP($A490,check!$A:$L,7,FALSE))=TRUE,\"\",VLOOKUP($A490,check!$A:$L,7,FALSE))","v":""},{"$f":"IF(ISERROR(VLOOKUP($A490,check!$A:$L,8,FALSE))=TRUE,\"\",VLOOKUP($A490,check!$A:$L,8,FALSE))","v":""},{"$f":"IF(ISERROR(VLOOKUP($A490,check!$A:$L,9,FALSE))=TRUE,\"\",VLOOKUP($A490,check!$A:$L,9,FALSE))","v":""},{"$f":"IF(ISERROR(VLOOKUP($A490,check!$A:$L,10,FALSE))=TRUE,\"\",VLOOKUP($A490,check!$A:$L,10,FALSE))","v":""},{"$f":"IF(ISERROR(VLOOKUP($A490,check!$A:$L,11,FALSE))=TRUE,\"\",VLOOKUP($A490,check!$A:$L,11,FALSE))","v":""},{"$f":"IF(ISERROR(VLOOKUP($A490,check!$A:$L,12,FALSE))=TRUE,\"\",VLOOKUP($A490,check!$A:$L,12,FALSE))","v":""}]
[491,{"$f":"IF(C491=\"\",\"\",MATCH(A491,check!A:A,0))","v":""},{"$f":"IF(ISERROR(VLOOKUP($A491,check!$A:$L,2,FALSE))=TRUE,\"\",VLOOKUP($A491,check!$A:$L,2,FALSE))","v":""},{"$f":"IF(ISERROR(VLOOKUP($A491,check!$A:$L,3,FALSE))=TRUE,\"\",VLOOKUP($A491,check!$A:$L,3,FALSE))","v":""},{"$f":"IF(ISERROR(VLOOKUP($A491,check!$A:$L,4,FALSE))=TRUE,\"\",VLOOKUP($A491,check!$A:$L,4,FALSE))","v":""},{"$f":"IF(ISERROR(VLOOKUP($A491,check!$A:$L,5,FALSE))=TRUE,\"\",VLOOKUP($A491,check!$A:$L,5,FALSE))","v":""},{"$f":"IF(ISERROR(VLOOKUP($A491,check!$A:$L,6,FALSE))=TRUE,\"\",VLOOKUP($A491,check!$A:$L,6,FALSE))","v":""},{"$f":"IF(ISERROR(VLOOKUP($A491,check!$A:$L,7,FALSE))=TRUE,\"\",VLOOKUP($A491,check!$A:$L,7,FALSE))","v":""},{"$f":"IF(ISERROR(VLOOKUP($A491,check!$A:$L,8,FALSE))=TRUE,\"\",VLOOKUP($A491,check!$A:$L,8,FALSE))","v":""},{"$f":"IF(ISERROR(VLOOKUP($A491,check!$A:$L,9,FALSE))=TRUE,\"\",VLOOKUP($A491,check!$A:$L,9,FALSE))","v":""},{"$f":"IF(ISERROR(VLOOKUP($A491,check!$A:$L,10,FALSE))=TRUE,\"\",VLOOKUP($A491,check!$A:$L,10,FALSE))","v":""},{"$f":"IF(ISERROR(VLOOKUP($A491,check!$A:$L,11,FALSE))=TRUE,\"\",VLOOKUP($A491,check!$A:$L,11,FALSE))","v":""},{"$f":"IF(ISERROR(VLOOKUP($A491,check!$A:$L,12,FALSE))=TRUE,\"\",VLOOKUP($A491,check!$A:$L,12,FALSE))","v":""}]
[492,{"$f":"IF(C492=\"\",\"\",MATCH(A492,check!A:A,0))","v":""},{"$f":"IF(ISERROR(VLOOKUP($A492,check!$A:$L,2,FALSE))=TRUE,\"\",VLOOKUP($A492,check!$A:$L,2,FALSE))","v":""},{"$f":"IF(ISERROR(VLOOKUP($A492,check!$A:$L,3,FALSE))=TRUE,\"\",VLOOKUP($A492,check!$A:$L,3,FALSE))","v":""},{"$f":"IF(ISERROR(VLOOKUP($A492,check!$A:$L,4,FALSE))=TRUE,\"\",VLOOKUP($A492,check!$A:$L,4,FALSE))","v":""},{"$f":"IF(ISERROR(VLOOKUP($A492,check!$A:$L,5,FALSE))=TRUE,\"\",VLOOKUP($A492,check!$A:$L,5,FALSE))","v":""},{"$f":"IF(ISERROR(VLOOKUP($A492,check!$A:$L,6,FALSE))=TRUE,\"\",VLOOKUP($A492,check!$A:$L,6,FALSE))","v":""},{"$f":"IF(ISERROR(VLOOKUP($A492,check!$A:$L,7,FALSE))=TRUE,\"\",VLOOKUP($A492,check!$A:$L,7,FALSE))","v":""},{"$f":"IF(ISERROR(VLOOKUP($A492,check!$A:$L,8,FALSE))=TRUE,\"\",VLOOKUP($A492,check!$A:$L,8,FALSE))","v":""},{"$f":"IF(ISERROR(VLOOKUP($A492,check!$A:$L,9,FALSE))=TRUE,\"\",VLOOKUP($A492,check!$A:$L,9,FALSE))","v":""},{"$f":"IF(ISERROR(VLOOKUP($A492,check!$A:$L,10,FALSE))=TRUE,\"\",VLOOKUP($A492,check!$A:$L,10,FALSE))","v":""},{"$f":"IF(ISERROR(VLOOKUP($A492,check!$A:$L,11,FALSE))=TRUE,\"\",VLOOKUP($A492,check!$A:$L,11,FALSE))","v":""},{"$f":"IF(ISERROR(VLOOKUP($A492,check!$A:$L,12,FALSE))=TRUE,\"\",VLOOKUP($A492,check!$A:$L,12,FALSE))","v":""}]
[493,{"$f":"IF(C493=\"\",\"\",MATCH(A493,check!A:A,0))","v":""},{"$f":"IF(ISERROR(VLOOKUP($A493,check!$A:$L,2,FALSE))=TRUE,\"\",VLOOKUP($A493,check!$A:$L,2,FALSE))","v":""},{"$f":"IF(ISERROR(VLOOKUP($A493,check!$A:$L,3,FALSE))=TRUE,\"\",VLOOKUP($A493,check!$A:$L,3,FALSE))","v":""},{"$f":"IF(ISERROR(VLOOKUP($A493,check!$A:$L,4,FALSE))=TRUE,\"\",VLOOKUP($A493,check!$A:$L,4,FALSE))","v":""},{"$f":"IF(ISERROR(VLOOKUP($A493,check!$A:$L,5,FALSE))=TRUE,\"\",VLOOKUP($A493,check!$A:$L,5,FALSE))","v":""},{"$f":"IF(ISERROR(VLOOKUP($A493,check!$A:$L,6,FALSE))=TRUE,\"\",VLOOKUP($A493,check!$A:$L,6,FALSE))","v":""},{"$f":"IF(ISERROR(VLOOKUP($A493,check!$A:$L,7,FALSE))=TRUE,\"\",VLOOKUP($A493,check!$A:$L,7,FALSE))","v":""},{"$f":"IF(ISERROR(VLOOKUP($A493,check!$A:$L,8,FALSE))=TRUE,\"\",VLOOKUP($A493,check!$A:$L,8,FALSE))","v":""},{"$f":"IF(ISERROR(VLOOKUP($A493,check!$A:$L,9,FALSE))=TRUE,\"\",VLOOKUP($A493,check!$A:$L,9,FALSE))","v":""},{"$f":"IF(ISERROR(VLOOKUP($A493,check!$A:$L,10,FALSE))=TRUE,\"\",VLOOKUP($A493,check!$A:$L,10,FALSE))","v":""},{"$f":"IF(ISERROR(VLOOKUP($A493,check!$A:$L,11,FALSE))=TRUE,\"\",VLOOKUP($A493,check!$A:$L,11,FALSE))","v":""},{"$f":"IF(ISERROR(VLOOKUP($A493,check!$A:$L,12,FALSE))=TRUE,\"\",VLOOKUP($A493,check!$A:$L,12,FALSE))","v":""}]
[494,{"$f":"IF(C494=\"\",\"\",MATCH(A494,check!A:A,0))","v":""},{"$f":"IF(ISERROR(VLOOKUP($A494,check!$A:$L,2,FALSE))=TRUE,\"\",VLOOKUP($A494,check!$A:$L,2,FALSE))","v":""},{"$f":"IF(ISERROR(VLOOKUP($A494,check!$A:$L,3,FALSE))=TRUE,\"\",VLOOKUP($A494,check!$A:$L,3,FALSE))","v":""},{"$f":"IF(ISERROR(VLOOKUP($A494,check!$A:$L,4,FALSE))=TRUE,\"\",VLOOKUP($A494,check!$A:$L,4,FALSE))","v":""},{"$f":"IF(ISERROR(VLOOKUP($A494,check!$A:$L,5,FALSE))=TRUE,\"\",VLOOKUP($A494,check!$A:$L,5,FALSE))","v":""},{"$f":"IF(ISERROR(VLOOKUP($A494,check!$A:$L,6,FALSE))=TRUE,\"\",VLOOKUP($A494,check!$A:$L,6,FALSE))","v":""},{"$f":"IF(ISERROR(VLOOKUP($A494,check!$A:$L,7,FALSE))=TRUE,\"\",VLOOKUP($A494,check!$A:$L,7,FALSE))","v":""},{"$f":"IF(ISERROR(VLOOKUP($A494,check!$A:$L,8,FALSE))=TRUE,\"\",VLOOKUP($A494,check!$A:$L,8,FALSE))","v":""},{"$f":"IF(ISERROR(VLOOKUP($A494,check!$A:$L,9,FALSE))=TRUE,\"\",VLOOKUP($A494,check!$A:$L,9,FALSE))","v":""},{"$f":"IF(ISERROR(VLOOKUP($A494,check!$A:$L,10,FALSE))=TRUE,\"\",VLOOKUP($A494,check!$A:$L,10,FALSE))","v":""},{"$f":"IF(ISERROR(VLOOKUP($A494,check!$A:$L,11,FALSE))=TRUE,\"\",VLOOKUP($A494,check!$A:$L,11,FALSE))","v":""},{"$f":"IF(ISERROR(VLOOKUP($A494,check!$A:$L,12,FALSE))=TRUE,\"\",VLOOKUP($A494,check!$A:$L,12,FALSE))","v":""}]
[495,{"$f":"IF(C495=\"\",\"\",MATCH(A495,check!A:A,0))","v":""},{"$f":"IF(ISERROR(VLOOKUP($A495,check!$A:$L,2,FALSE))=TRUE,\"\",VLOOKUP($A495,check!$A:$L,2,FALSE))","v":""},{"$f":"IF(ISERROR(VLOOKUP($A495,check!$A:$L,3,FALSE))=TRUE,\"\",VLOOKUP($A495,check!$A:$L,3,FALSE))","v":""},{"$f":"IF(ISERROR(VLOOKUP($A495,check!$A:$L,4,FALSE))=TRUE,\"\",VLOOKUP($A495,check!$A:$L,4,FALSE))","v":""},{"$f":"IF(ISERROR(VLOOKUP($A495,check!$A:$L,5,FALSE))=TRUE,\"\",VLOOKUP($A495,check!$A:$L,5,FALSE))","v":""},{"$f":"IF(ISERROR(VLOOKUP($A495,check!$A:$L,6,FALSE))=TRUE,\"\",VLOOKUP($A495,check!$A:$L,6,FALSE))","v":""},{"$f":"IF(ISERROR(VLOOKUP($A495,check!$A:$L,7,FALSE))=TRUE,\"\",VLOOKUP($A495,check!$A:$L,7,FALSE))","v":""},{"$f":"IF(ISERROR(VLOOKUP($A495,check!$A:$L,8,FALSE))=TRUE,\"\",VLOOKUP($A495,check!$A:$L,8,FALSE))","v":""},{"$f":"IF(ISERROR(VLOOKUP($A495,check!$A:$L,9,FALSE))=TRUE,\"\",VLOOKUP($A495,check!$A:$L,9,FALSE))","v":""},{"$f":"IF(ISERROR(VLOOKUP($A495,check!$A:$L,10,FALSE))=TRUE,\"\",VLOOKUP($A495,check!$A:$L,10,FALSE))","v":""},{"$f":"IF(ISERROR(VLOOKUP($A495,check!$A:$L,11,FALSE))=TRUE,\"\",VLOOKUP($A495,check!$A:$L,11,FALSE))","v":""},{"$f":"IF(ISERROR(VLOOKUP($A495,check!$A:$L,12,FALSE))=TRUE,\"\",VLOOKUP($A495,check!$A:$L,12,FALSE))","v":""}]
[496,{"$f":"IF(C496=\"\",\"\",MATCH(A496,check!A:A,0))","v":""},{"$f":"IF(ISERROR(VLOOKUP($A496,check!$A:$L,2,FALSE))=TRUE,\"\",VLOOKUP($A496,check!$A:$L,2,FALSE))","v":""},{"$f":"IF(ISERROR(VLOOKUP($A496,check!$A:$L,3,FALSE))=TRUE,\"\",VLOOKUP($A496,check!$A:$L,3,FALSE))","v":""},{"$f":"IF(ISERROR(VLOOKUP($A496,check!$A:$L,4,FALSE))=TRUE,\"\",VLOOKUP($A496,check!$A:$L,4,FALSE))","v":""},{"$f":"IF(ISERROR(VLOOKUP($A496,check!$A:$L,5,FALSE))=TRUE,\"\",VLOOKUP($A496,check!$A:$L,5,FALSE))","v":""},{"$f":"IF(ISERROR(VLOOKUP($A496,check!$A:$L,6,FALSE))=TRUE,\"\",VLOOKUP($A496,check!$A:$L,6,FALSE))","v":""},{"$f":"IF(ISERROR(VLOOKUP($A496,check!$A:$L,7,FALSE))=TRUE,\"\",VLOOKUP($A496,check!$A:$L,7,FALSE))","v":""},{"$f":"IF(ISERROR(VLOOKUP($A496,check!$A:$L,8,FALSE))=TRUE,\"\",VLOOKUP($A496,check!$A:$L,8,FALSE))","v":""},{"$f":"IF(ISERROR(VLOOKUP($A496,check!$A:$L,9,FALSE))=TRUE,\"\",VLOOKUP($A496,check!$A:$L,9,FALSE))","v":""},{"$f":"IF(ISERROR(VLOOKUP($A496,check!$A:$L,10,FALSE))=TRUE,\"\",VLOOKUP($A496,check!$A:$L,10,FALSE))","v":""},{"$f":"IF(ISERROR(VLOOKUP($A496,check!$A:$L,11,FALSE))=TRUE,\"\",VLOOKUP($A496,check!$A:$L,11,FALSE))","v":""},{"$f":"IF(ISERROR(VLOOKUP($A496,check!$A:$L,12,FALSE))=TRUE,\"\",VLOOKUP($A496,check!$A:$L,12,FALSE))","v":""}]
[497,{"$f":"IF(C497=\"\",\"\",MATCH(A497,check!A:A,0))","v":""},{"$f":"IF(ISERROR(VLOOKUP($A497,check!$A:$L,2,FALSE))=TRUE,\"\",VLOOKUP($A497,check!$A:$L,2,FALSE))","v":""},{"$f":"IF(ISERROR(VLOOKUP($A497,check!$A:$L,3,FALSE))=TRUE,\"\",VLOOKUP($A497,check!$A:$L,3,FALSE))","v":""},{"$f":"IF(ISERROR(VLOOKUP($A497,check!$A:$L,4,FALSE))=TRUE,\"\",VLOOKUP($A497,check!$A:$L,4,FALSE))","v":""},{"$f":"IF(ISERROR(VLOOKUP($A497,check!$A:$L,5,FALSE))=TRUE,\"\",VLOOKUP($A497,check!$A:$L,5,FALSE))","v":""},{"$f":"IF(ISERROR(VLOOKUP($A497,check!$A:$L,6,FALSE))=TRUE,\"\",VLOOKUP($A497,check!$A:$L,6,FALSE))","v":""},{"$f":"IF(ISERROR(VLOOKUP($A497,check!$A:$L,7,FALSE))=TRUE,\"\",VLOOKUP($A497,check!$A:$L,7,FALSE))","v":""},{"$f":"IF(ISERROR(VLOOKUP($A497,check!$A:$L,8,FALSE))=TRUE,\"\",VLOOKUP($A497,check!$A:$L,8,FALSE))","v":""},{"$f":"IF(ISERROR(VLOOKUP($A497,check!$A:$L,9,FALSE))=TRUE,\"\",VLOOKUP($A497,check!$A:$L,9,FALSE))","v":""},{"$f":"IF(ISERROR(VLOOKUP($A497,check!$A:$L,10,FALSE))=TRUE,\"\",VLOOKUP($A497,check!$A:$L,10,FALSE))","v":""},{"$f":"IF(ISERROR(VLOOKUP($A497,check!$A:$L,11,FALSE))=TRUE,\"\",VLOOKUP($A497,check!$A:$L,11,FALSE))","v":""},{"$f":"IF(ISERROR(VLOOKUP($A497,check!$A:$L,12,FALSE))=TRUE,\"\",VLOOKUP($A497,check!$A:$L,12,FALSE))","v":""}]
[498,{"$f":"IF(C498=\"\",\"\",MATCH(A498,check!A:A,0))","v":""},{"$f":"IF(ISERROR(VLOOKUP($A498,check!$A:$L,2,FALSE))=TRUE,\"\",VLOOKUP($A498,check!$A:$L,2,FALSE))","v":""},{"$f":"IF(ISERROR(VLOOKUP($A498,check!$A:$L,3,FALSE))=TRUE,\"\",VLOOKUP($A498,check!$A:$L,3,FALSE))","v":""},{"$f":"IF(ISERROR(VLOOKUP($A498,check!$A:$L,4,FALSE))=TRUE,\"\",VLOOKUP($A498,check!$A:$L,4,FALSE))","v":""},{"$f":"IF(ISERROR(VLOOKUP($A498,check!$A:$L,5,FALSE))=TRUE,\"\",VLOOKUP($A498,check!$A:$L,5,FALSE))","v":""},{"$f":"IF(ISERROR(VLOOKUP($A498,check!$A:$L,6,FALSE))=TRUE,\"\",VLOOKUP($A498,check!$A:$L,6,FALSE))","v":""},{"$f":"IF(ISERROR(VLOOKUP($A498,check!$A:$L,7,FALSE))=TRUE,\"\",VLOOKUP($A498,check!$A:$L,7,FALSE))","v":""},{"$f":"IF(ISERROR(VLOOKUP($A498,check!$A:$L,8,FALSE))=TRUE,\"\",VLOOKUP($A498,check!$A:$L,8,FALSE))","v":""},{"$f":"IF(ISERROR(VLOOKUP($A498,check!$A:$L,9,FALSE))=TRUE,\"\",VLOOKUP($A498,check!$A:$L,9,FALSE))","v":""},{"$f":"IF(ISERROR(VLOOKUP($A498,check!$A:$L,10,FALSE))=TRUE,\"\",VLOOKUP($A498,check!$A:$L,10,FALSE))","v":""},{"$f":"IF(ISERROR(VLOOKUP($A498,check!$A:$L,11,FALSE))=TRUE,\"\",VLOOKUP($A498,check!$A:$L,11,FALSE))","v":""},{"$f":"IF(ISERROR(VLOOKUP($A498,check!$A:$L,12,FALSE))=TRUE,\"\",VLOOKUP($A498,check!$A:$L,12,FALSE))","v":""}]
[499,{"$f":"IF(C499=\"\",\"\",MATCH(A499,check!A:A,0))","v":""},{"$f":"IF(ISERROR(VLOOKUP($A499,check!$A:$L,2,FALSE))=TRUE,\"\",VLOOKUP($A499,check!$A:$L,2,FALSE))","v":""},{"$f":"IF(ISERROR(VLOOKUP($A499,check!$A:$L,3,FALSE))=TRUE,\"\",VLOOKUP($A499,check!$A:$L,3,FALSE))","v":""},{"$f":"IF(ISERROR(VLOOKUP($A499,check!$A:$L,4,FALSE))=TRUE,\"\",VLOOKUP($A499,check!$A:$L,4,FALSE))","v":""},{"$f":"IF(ISERROR(VLOOKUP($A499,check!$A:$L,5,FALSE))=TRUE,\"\",VLOOKUP($A499,check!$A:$L,5,FALSE))","v":""},{"$f":"IF(ISERROR(VLOOKUP($A499,check!$A:$L,6,FALSE))=TRUE,\"\",VLOOKUP($A499,check!$A:$L,6,FALSE))","v":""},{"$f":"IF(ISERROR(VLOOKUP($A499,check!$A:$L,7,FALSE))=TRUE,\"\",VLOOKUP($A499,check!$A:$L,7,FALSE))","v":""},{"$f":"IF(ISERROR(VLOOKUP($A499,check!$A:$L,8,FALSE))=TRUE,\"\",VLOOKUP($A499,check!$A:$L,8,FALSE))","v":""},{"$f":"IF(ISERROR(VLOOKUP($A499,check!$A:$L,9,FALSE))=TRUE,\"\",VLOOKUP($A499,check!$A:$L,9,FALSE))","v":""},{"$f":"IF(ISERROR(VLOOKUP($A499,check!$A:$L,10,FALSE))=TRUE,\"\",VLOOKUP($A499,check!$A:$L,10,FALSE))","v":""},{"$f":"IF(ISERROR(VLOOKUP($A499,check!$A:$L,11,FALSE))=TRUE,\"\",VLOOKUP($A499,check!$A:$L,11,FALSE))","v":""},{"$f":"IF(ISERROR(VLOOKUP($A499,check!$A:$L,12,FALSE))=TRUE,\"\",VLOOKUP($A499,check!$A:$L,12,FALSE))","v":""}]
[500,{"$f":"IF(C500=\"\",\"\",MATCH(A500,check!A:A,0))","v":""},{"$f":"IF(ISERROR(VLOOKUP($A500,check!$A:$L,2,FALSE))=TRUE,\"\",VLOOKUP($A500,check!$A:$L,2,FALSE))","v":""},{"$f":"IF(ISERROR(VLOOKUP($A500,check!$A:$L,3,FALSE))=TRUE,\"\",VLOOKUP($A500,check!$A:$L,3,FALSE))","v":""},{"$f":"IF(ISERROR(VLOOKUP($A500,check!$A:$L,4,FALSE))=TRUE,\"\",VLOOKUP($A500,check!$A:$L,4,FALSE))","v":""},{"$f":"IF(ISERROR(VLOOKUP($A500,check!$A:$L,5,FALSE))=TRUE,\"\",VLOOKUP($A500,check!$A:$L,5,FALSE))","v":""},{"$f":"IF(ISERROR(VLOOKUP($A500,check!$A:$L,6,FALSE))=TRUE,\"\",VLOOKUP($A500,check!$A:$L,6,FALSE))","v":""},{"$f":"IF(ISERROR(VLOOKUP($A500,check!$A:$L,7,FALSE))=TRUE,\"\",VLOOKUP($A500,check!$A:$L,7,FALSE))","v":""},{"$f":"IF(ISERROR(VLOOKUP($A500,check!$A:$L,8,FALSE))=TRUE,\"\",VLOOKUP($A500,check!$A:$L,8,FALSE))","v":""},{"$f":"IF(ISERROR(VLOOKUP($A500,check!$A:$L,9,FALSE))=TRUE,\"\",VLOOKUP($A500,check!$A:$L,9,FALSE))","v":""},{"$f":"IF(ISERROR(VLOOKUP($A500,check!$A:$L,10,FALSE))=TRUE,\"\",VLOOKUP($A500,check!$A:$L,10,FALSE))","v":""},{"$f":"IF(ISERROR(VLOOKUP($A500,check!$A:$L,11,FALSE))=TRUE,\"\",VLOOKUP($A500,check!$A:$L,11,FALSE))","v":""},{"$f":"IF(ISERROR(VLOOKUP($A500,check!$A:$L,12,FALSE))=TRUE,\"\",VLOOKUP($A500,check!$A:$L,12,FALSE))","v":""}]
[501,{"$f":"IF(C501=\"\",\"\",MATCH(A501,check!A:A,0))","v":""},{"$f":"IF(ISERROR(VLOOKUP($A501,check!$A:$L,2,FALSE))=TRUE,\"\",VLOOKUP($A501,check!$A:$L,2,FALSE))","v":""},{"$f":"IF(ISERROR(VLOOKUP($A501,check!$A:$L,3,FALSE))=TRUE,\"\",VLOOKUP($A501,check!$A:$L,3,FALSE))","v":""},{"$f":"IF(ISERROR(VLOOKUP($A501,check!$A:$L,4,FALSE))=TRUE,\"\",VLOOKUP($A501,check!$A:$L,4,FALSE))","v":""},{"$f":"IF(ISERROR(VLOOKUP($A501,check!$A:$L,5,FALSE))=TRUE,\"\",VLOOKUP($A501,check!$A:$L,5,FALSE))","v":""},{"$f":"IF(ISERROR(VLOOKUP($A501,check!$A:$L,6,FALSE))=TRUE,\"\",VLOOKUP($A501,check!$A:$L,6,FALSE))","v":""},{"$f":"IF(ISERROR(VLOOKUP($A501,check!$A:$L,7,FALSE))=TRUE,\"\",VLOOKUP($A501,check!$A:$L,7,FALSE))","v":""},{"$f":"IF(ISERROR(VLOOKUP($A501,check!$A:$L,8,FALSE))=TRUE,\"\",VLOOKUP($A501,check!$A:$L,8,FALSE))","v":""},{"$f":"IF(ISERROR(VLOOKUP($A501,check!$A:$L,9,FALSE))=TRUE,\"\",VLOOKUP($A501,check!$A:$L,9,FALSE))","v":""},{"$f":"IF(ISERROR(VLOOKUP($A501,check!$A:$L,10,FALSE))=TRUE,\"\",VLOOKUP($A501,check!$A:$L,10,FALSE))","v":""},{"$f":"IF(ISERROR(VLOOKUP($A501,check!$A:$L,11,FALSE))=TRUE,\"\",VLOOKUP($A501,check!$A:$L,11,FALSE))","v":""},{"$f":"IF(ISERROR(VLOOKUP($A501,check!$A:$L,12,FALSE))=TRUE,\"\",VLOOKUP($A501,check!$A:$L,12,FALSE))","v":""}]
[502,{"$f":"IF(C502=\"\",\"\",MATCH(A502,check!A:A,0))","v":""},{"$f":"IF(ISERROR(VLOOKUP($A502,check!$A:$L,2,FALSE))=TRUE,\"\",VLOOKUP($A502,check!$A:$L,2,FALSE))","v":""},{"$f":"IF(ISERROR(VLOOKUP($A502,check!$A:$L,3,FALSE))=TRUE,\"\",VLOOKUP($A502,check!$A:$L,3,FALSE))","v":""},{"$f":"IF(ISERROR(VLOOKUP($A502,check!$A:$L,4,FALSE))=TRUE,\"\",VLOOKUP($A502,check!$A:$L,4,FALSE))","v":""},{"$f":"IF(ISERROR(VLOOKUP($A502,check!$A:$L,5,FALSE))=TRUE,\"\",VLOOKUP($A502,check!$A:$L,5,FALSE))","v":""},{"$f":"IF(ISERROR(VLOOKUP($A502,check!$A:$L,6,FALSE))=TRUE,\"\",VLOOKUP($A502,check!$A:$L,6,FALSE))","v":""},{"$f":"IF(ISERROR(VLOOKUP($A502,check!$A:$L,7,FALSE))=TRUE,\"\",VLOOKUP($A502,check!$A:$L,7,FALSE))","v":""},{"$f":"IF(ISERROR(VLOOKUP($A502,check!$A:$L,8,FALSE))=TRUE,\"\",VLOOKUP($A502,check!$A:$L,8,FALSE))","v":""},{"$f":"IF(ISERROR(VLOOKUP($A502,check!$A:$L,9,FALSE))=TRUE,\"\",VLOOKUP($A502,check!$A:$L,9,FALSE))","v":""},{"$f":"IF(ISERROR(VLOOKUP($A502,check!$A:$L,10,FALSE))=TRUE,\"\",VLOOKUP($A502,check!$A:$L,10,FALSE))","v":""},{"$f":"IF(ISERROR(VLOOKUP($A502,check!$A:$L,11,FALSE))=TRUE,\"\",VLOOKUP($A502,check!$A:$L,11,FALSE))","v":""},{"$f":"IF(ISERROR(VLOOKUP($A502,check!$A:$L,12,FALSE))=TRUE,\"\",VLOOKUP($A502,check!$A:$L,12,FALSE))","v":""}]
[503,{"$f":"IF(C503=\"\",\"\",MATCH(A503,check!A:A,0))","v":""},{"$f":"IF(ISERROR(VLOOKUP($A503,check!$A:$L,2,FALSE))=TRUE,\"\",VLOOKUP($A503,check!$A:$L,2,FALSE))","v":""},{"$f":"IF(ISERROR(VLOOKUP($A503,check!$A:$L,3,FALSE))=TRUE,\"\",VLOOKUP($A503,check!$A:$L,3,FALSE))","v":""},{"$f":"IF(ISERROR(VLOOKUP($A503,check!$A:$L,4,FALSE))=TRUE,\"\",VLOOKUP($A503,check!$A:$L,4,FALSE))","v":""},{"$f":"IF(ISERROR(VLOOKUP($A503,check!$A:$L,5,FALSE))=TRUE,\"\",VLOOKUP($A503,check!$A:$L,5,FALSE))","v":""},{"$f":"IF(ISERROR(VLOOKUP($A503,check!$A:$L,6,FALSE))=TRUE,\"\",VLOOKUP($A503,check!$A:$L,6,FALSE))","v":""},{"$f":"IF(ISERROR(VLOOKUP($A503,check!$A:$L,7,FALSE))=TRUE,\"\",VLOOKUP($A503,check!$A:$L,7,FALSE))","v":""},{"$f":"IF(ISERROR(VLOOKUP($A503,check!$A:$L,8,FALSE))=TRUE,\"\",VLOOKUP($A503,check!$A:$L,8,FALSE))","v":""},{"$f":"IF(ISERROR(VLOOKUP($A503,check!$A:$L,9,FALSE))=TRUE,\"\",VLOOKUP($A503,check!$A:$L,9,FALSE))","v":""},{"$f":"IF(ISERROR(VLOOKUP($A503,check!$A:$L,10,FALSE))=TRUE,\"\",VLOOKUP($A503,check!$A:$L,10,FALSE))","v":""},{"$f":"IF(ISERROR(VLOOKUP($A503,check!$A:$L,11,FALSE))=TRUE,\"\",VLOOKUP($A503,check!$A:$L,11,FALSE))","v":""},{"$f":"IF(ISERROR(VLOOKUP($A503,check!$A:$L,12,FALSE))=TRUE,\"\",VLOOKUP($A503,check!$A:$L,12,FALSE))","v":""}]
[504,{"$f":"IF(C504=\"\",\"\",MATCH(A504,check!A:A,0))","v":""},{"$f":"IF(ISERROR(VLOOKUP($A504,check!$A:$L,2,FALSE))=TRUE,\"\",VLOOKUP($A504,check!$A:$L,2,FALSE))","v":""},{"$f":"IF(ISERROR(VLOOKUP($A504,check!$A:$L,3,FALSE))=TRUE,\"\",VLOOKUP($A504,check!$A:$L,3,FALSE))","v":""},{"$f":"IF(ISERROR(VLOOKUP($A504,check!$A:$L,4,FALSE))=TRUE,\"\",VLOOKUP($A504,check!$A:$L,4,FALSE))","v":""},{"$f":"IF(ISERROR(VLOOKUP($A504,check!$A:$L,5,FALSE))=TRUE,\"\",VLOOKUP($A504,check!$A:$L,5,FALSE))","v":""},{"$f":"IF(ISERROR(VLOOKUP($A504,check!$A:$L,6,FALSE))=TRUE,\"\",VLOOKUP($A504,check!$A:$L,6,FALSE))","v":""},{"$f":"IF(ISERROR(VLOOKUP($A504,check!$A:$L,7,FALSE))=TRUE,\"\",VLOOKUP($A504,check!$A:$L,7,FALSE))","v":""},{"$f":"IF(ISERROR(VLOOKUP($A504,check!$A:$L,8,FALSE))=TRUE,\"\",VLOOKUP($A504,check!$A:$L,8,FALSE))","v":""},{"$f":"IF(ISERROR(VLOOKUP($A504,check!$A:$L,9,FALSE))=TRUE,\"\",VLOOKUP($A504,check!$A:$L,9,FALSE))","v":""},{"$f":"IF(ISERROR(VLOOKUP($A504,check!$A:$L,10,FALSE))=TRUE,\"\",VLOOKUP($A504,check!$A:$L,10,FALSE))","v":""},{"$f":"IF(ISERROR(VLOOKUP($A504,check!$A:$L,11,FALSE))=TRUE,\"\",VLOOKUP($A504,check!$A:$L,11,FALSE))","v":""},{"$f":"IF(ISERROR(VLOOKUP($A504,check!$A:$L,12,FALSE))=TRUE,\"\",VLOOKUP($A504,check!$A:$L,12,FALSE))","v":""}]
[505,{"$f":"IF(C505=\"\",\"\",MATCH(A505,check!A:A,0))","v":""},{"$f":"IF(ISERROR(VLOOKUP($A505,check!$A:$L,2,FALSE))=TRUE,\"\",VLOOKUP($A505,check!$A:$L,2,FALSE))","v":""},{"$f":"IF(ISERROR(VLOOKUP($A505,check!$A:$L,3,FALSE))=TRUE,\"\",VLOOKUP($A505,check!$A:$L,3,FALSE))","v":""},{"$f":"IF(ISERROR(VLOOKUP($A505,check!$A:$L,4,FALSE))=TRUE,\"\",VLOOKUP($A505,check!$A:$L,4,FALSE))","v":""},{"$f":"IF(ISERROR(VLOOKUP($A505,check!$A:$L,5,FALSE))=TRUE,\"\",VLOOKUP($A505,check!$A:$L,5,FALSE))","v":""},{"$f":"IF(ISERROR(VLOOKUP($A505,check!$A:$L,6,FALSE))=TRUE,\"\",VLOOKUP($A505,check!$A:$L,6,FALSE))","v":""},{"$f":"IF(ISERROR(VLOOKUP($A505,check!$A:$L,7,FALSE))=TRUE,\"\",VLOOKUP($A505,check!$A:$L,7,FALSE))","v":""},{"$f":"IF(ISERROR(VLOOKUP($A505,check!$A:$L,8,FALSE))=TRUE,\"\",VLOOKUP($A505,check!$A:$L,8,FALSE))","v":""},{"$f":"IF(ISERROR(VLOOKUP($A505,check!$A:$L,9,FALSE))=TRUE,\"\",VLOOKUP($A505,check!$A:$L,9,FALSE))","v":""},{"$f":"IF(ISERROR(VLOOKUP($A505,check!$A:$L,10,FALSE))=TRUE,\"\",VLOOKUP($A505,check!$A:$L,10,FALSE))","v":""},{"$f":"IF(ISERROR(VLOOKUP($A505,check!$A:$L,11,FALSE))=TRUE,\"\",VLOOKUP($A505,check!$A:$L,11,FALSE))","v":""},{"$f":"IF(ISERROR(VLOOKUP($A505,check!$A:$L,12,FALSE))=TRUE,\"\",VLOOKUP($A505,check!$A:$L,12,FALSE))","v":""}]
[506,{"$f":"IF(C506=\"\",\"\",MATCH(A506,check!A:A,0))","v":""},{"$f":"IF(ISERROR(VLOOKUP($A506,check!$A:$L,2,FALSE))=TRUE,\"\",VLOOKUP($A506,check!$A:$L,2,FALSE))","v":""},{"$f":"IF(ISERROR(VLOOKUP($A506,check!$A:$L,3,FALSE))=TRUE,\"\",VLOOKUP($A506,check!$A:$L,3,FALSE))","v":""},{"$f":"IF(ISERROR(VLOOKUP($A506,check!$A:$L,4,FALSE))=TRUE,\"\",VLOOKUP($A506,check!$A:$L,4,FALSE))","v":""},{"$f":"IF(ISERROR(VLOOKUP($A506,check!$A:$L,5,FALSE))=TRUE,\"\",VLOOKUP($A506,check!$A:$L,5,FALSE))","v":""},{"$f":"IF(ISERROR(VLOOKUP($A506,check!$A:$L,6,FALSE))=TRUE,\"\",VLOOKUP($A506,check!$A:$L,6,FALSE))","v":""},{"$f":"IF(ISERROR(VLOOKUP($A506,check!$A:$L,7,FALSE))=TRUE,\"\",VLOOKUP($A506,check!$A:$L,7,FALSE))","v":""},{"$f":"IF(ISERROR(VLOOKUP($A506,check!$A:$L,8,FALSE))=TRUE,\"\",VLOOKUP($A506,check!$A:$L,8,FALSE))","v":""},{"$f":"IF(ISERROR(VLOOKUP($A506,check!$A:$L,9,FALSE))=TRUE,\"\",VLOOKUP($A506,check!$A:$L,9,FALSE))","v":""},{"$f":"IF(ISERROR(VLOOKUP($A506,check!$A:$L,10,FALSE))=TRUE,\"\",VLOOKUP($A506,check!$A:$L,10,FALSE))","v":""},{"$f":"IF(ISERROR(VLOOKUP($A506,check!$A:$L,11,FALSE))=TRUE,\"\",VLOOKUP($A506,check!$A:$L,11,FALSE))","v":""},{"$f":"IF(ISERROR(VLOOKUP($A506,check!$A:$L,12,FALSE))=TRUE,\"\",VLOOKUP($A506,check!$A:$L,12,FALSE))","v":""}]
[507,{"$f":"IF(C507=\"\",\"\",MATCH(A507,check!A:A,0))","v":""},{"$f":"IF(ISERROR(VLOOKUP($A507,check!$A:$L,2,FALSE))=TRUE,\"\",VLOOKUP($A507,check!$A:$L,2,FALSE))","v":""},{"$f":"IF(ISERROR(VLOOKUP($A507,check!$A:$L,3,FALSE))=TRUE,\"\",VLOOKUP($A507,check!$A:$L,3,FALSE))","v":""},{"$f":"IF(ISERROR(VLOOKUP($A507,check!$A:$L,4,FALSE))=TRUE,\"\",VLOOKUP($A507,check!$A:$L,4,FALSE))","v":""},{"$f":"IF(ISERROR(VLOOKUP($A507,check!$A:$L,5,FALSE))=TRUE,\"\",VLOOKUP($A507,check!$A:$L,5,FALSE))","v":""},{"$f":"IF(ISERROR(VLOOKUP($A507,check!$A:$L,6,FALSE))=TRUE,\"\",VLOOKUP($A507,check!$A:$L,6,FALSE))","v":""},{"$f":"IF(ISERROR(VLOOKUP($A507,check!$A:$L,7,FALSE))=TRUE,\"\",VLOOKUP($A507,check!$A:$L,7,FALSE))","v":""},{"$f":"IF(ISERROR(VLOOKUP($A507,check!$A:$L,8,FALSE))=TRUE,\"\",VLOOKUP($A507,check!$A:$L,8,FALSE))","v":""},{"$f":"IF(ISERROR(VLOOKUP($A507,check!$A:$L,9,FALSE))=TRUE,\"\",VLOOKUP($A507,check!$A:$L,9,FALSE))","v":""},{"$f":"IF(ISERROR(VLOOKUP($A507,check!$A:$L,10,FALSE))=TRUE,\"\",VLOOKUP($A507,check!$A:$L,10,FALSE))","v":""},{"$f":"IF(ISERROR(VLOOKUP($A507,check!$A:$L,11,FALSE))=TRUE,\"\",VLOOKUP($A507,check!$A:$L,11,FALSE))","v":""},{"$f":"IF(ISERROR(VLOOKUP($A507,check!$A:$L,12,FALSE))=TRUE,\"\",VLOOKUP($A507,check!$A:$L,12,FALSE))","v":""}]
[508,{"$f":"IF(C508=\"\",\"\",MATCH(A508,check!A:A,0))","v":""},{"$f":"IF(ISERROR(VLOOKUP($A508,check!$A:$L,2,FALSE))=TRUE,\"\",VLOOKUP($A508,check!$A:$L,2,FALSE))","v":""},{"$f":"IF(ISERROR(VLOOKUP($A508,check!$A:$L,3,FALSE))=TRUE,\"\",VLOOKUP($A508,check!$A:$L,3,FALSE))","v":""},{"$f":"IF(ISERROR(VLOOKUP($A508,check!$A:$L,4,FALSE))=TRUE,\"\",VLOOKUP($A508,check!$A:$L,4,FALSE))","v":""},{"$f":"IF(ISERROR(VLOOKUP($A508,check!$A:$L,5,FALSE))=TRUE,\"\",VLOOKUP($A508,check!$A:$L,5,FALSE))","v":""},{"$f":"IF(ISERROR(VLOOKUP($A508,check!$A:$L,6,FALSE))=TRUE,\"\",VLOOKUP($A508,check!$A:$L,6,FALSE))","v":""},{"$f":"IF(ISERROR(VLOOKUP($A508,check!$A:$L,7,FALSE))=TRUE,\"\",VLOOKUP($A508,check!$A:$L,7,FALSE))","v":""},{"$f":"IF(ISERROR(VLOOKUP($A508,check!$A:$L,8,FALSE))=TRUE,\"\",VLOOKUP($A508,check!$A:$L,8,FALSE))","v":""},{"$f":"IF(ISERROR(VLOOKUP($A508,check!$A:$L,9,FALSE))=TRUE,\"\",VLOOKUP($A508,check!$A:$L,9,FALSE))","v":""},{"$f":"IF(ISERROR(VLOOKUP($A508,check!$A:$L,10,FALSE))=TRUE,\"\",VLOOKUP($A508,check!$A:$L,10,FALSE))","v":""},{"$f":"IF(ISERROR(VLOOKUP($A508,check!$A:$L,11,FALSE))=TRUE,\"\",VLOOKUP($A508,check!$A:$L,11,FALSE))","v":""},{"$f":"IF(ISERROR(VLOOKUP($A508,check!$A:$L,12,FALSE))=TRUE,\"\",VLOOKUP($A508,check!$A:$L,12,FALSE))","v":""}]
[509,{"$f":"IF(C509=\"\",\"\",MATCH(A509,check!A:A,0))","v":""},{"$f":"IF(ISERROR(VLOOKUP($A509,check!$A:$L,2,FALSE))=TRUE,\"\",VLOOKUP($A509,check!$A:$L,2,FALSE))","v":""},{"$f":"IF(ISERROR(VLOOKUP($A509,check!$A:$L,3,FALSE))=TRUE,\"\",VLOOKUP($A509,check!$A:$L,3,FALSE))","v":""},{"$f":"IF(ISERROR(VLOOKUP($A509,check!$A:$L,4,FALSE))=TRUE,\"\",VLOOKUP($A509,check!$A:$L,4,FALSE))","v":""},{"$f":"IF(ISERROR(VLOOKUP($A509,check!$A:$L,5,FALSE))=TRUE,\"\",VLOOKUP($A509,check!$A:$L,5,FALSE))","v":""},{"$f":"IF(ISERROR(VLOOKUP($A509,check!$A:$L,6,FALSE))=TRUE,\"\",VLOOKUP($A509,check!$A:$L,6,FALSE))","v":""},{"$f":"IF(ISERROR(VLOOKUP($A509,check!$A:$L,7,FALSE))=TRUE,\"\",VLOOKUP($A509,check!$A:$L,7,FALSE))","v":""},{"$f":"IF(ISERROR(VLOOKUP($A509,check!$A:$L,8,FALSE))=TRUE,\"\",VLOOKUP($A509,check!$A:$L,8,FALSE))","v":""},{"$f":"IF(ISERROR(VLOOKUP($A509,check!$A:$L,9,FALSE))=TRUE,\"\",VLOOKUP($A509,check!$A:$L,9,FALSE))","v":""},{"$f":"IF(ISERROR(VLOOKUP($A509,check!$A:$L,10,FALSE))=TRUE,\"\",VLOOKUP($A509,check!$A:$L,10,FALSE))","v":""},{"$f":"IF(ISERROR(VLOOKUP($A509,check!$A:$L,11,FALSE))=TRUE,\"\",VLOOKUP($A509,check!$A:$L,11,FALSE))","v":""},{"$f":"IF(ISERROR(VLOOKUP($A509,check!$A:$L,12,FALSE))=TRUE,\"\",VLOOKUP($A509,check!$A:$L,12,FALSE))","v":""}]
[510,{"$f":"IF(C510=\"\",\"\",MATCH(A510,check!A:A,0))","v":""},{"$f":"IF(ISERROR(VLOOKUP($A510,check!$A:$L,2,FALSE))=TRUE,\"\",VLOOKUP($A510,check!$A:$L,2,FALSE))","v":""},{"$f":"IF(ISERROR(VLOOKUP($A510,check!$A:$L,3,FALSE))=TRUE,\"\",VLOOKUP($A510,check!$A:$L,3,FALSE))","v":""},{"$f":"IF(ISERROR(VLOOKUP($A510,check!$A:$L,4,FALSE))=TRUE,\"\",VLOOKUP($A510,check!$A:$L,4,FALSE))","v":""},{"$f":"IF(ISERROR(VLOOKUP($A510,check!$A:$L,5,FALSE))=TRUE,\"\",VLOOKUP($A510,check!$A:$L,5,FALSE))","v":""},{"$f":"IF(ISERROR(VLOOKUP($A510,check!$A:$L,6,FALSE))=TRUE,\"\",VLOOKUP($A510,check!$A:$L,6,FALSE))","v":""},{"$f":"IF(ISERROR(VLOOKUP($A510,check!$A:$L,7,FALSE))=TRUE,\"\",VLOOKUP($A510,check!$A:$L,7,FALSE))","v":""},{"$f":"IF(ISERROR(VLOOKUP($A510,check!$A:$L,8,FALSE))=TRUE,\"\",VLOOKUP($A510,check!$A:$L,8,FALSE))","v":""},{"$f":"IF(ISERROR(VLOOKUP($A510,check!$A:$L,9,FALSE))=TRUE,\"\",VLOOKUP($A510,check!$A:$L,9,FALSE))","v":""},{"$f":"IF(ISERROR(VLOOKUP($A510,check!$A:$L,10,FALSE))=TRUE,\"\",VLOOKUP($A510,check!$A:$L,10,FALSE))","v":""},{"$f":"IF(ISERROR(VLOOKUP($A510,check!$A:$L,11,FALSE))=TRUE,\"\",VLOOKUP($A510,check!$A:$L,11,FALSE))","v":""},{"$f":"IF(ISERROR(VLOOKUP($A510,check!$A:$L,12,FALSE))=TRUE,\"\",VLOOKUP($A510,check!$A:$L,12,FALSE))","v":""}]
[511,{"$f":"IF(C511=\"\",\"\",MATCH(A511,check!A:A,0))","v":""},{"$f":"IF(ISERROR(VLOOKUP($A511,check!$A:$L,2,FALSE))=TRUE,\"\",VLOOKUP($A511,check!$A:$L,2,FALSE))","v":""},{"$f":"IF(ISERROR(VLOOKUP($A511,check!$A:$L,3,FALSE))=TRUE,\"\",VLOOKUP($A511,check!$A:$L,3,FALSE))","v":""},{"$f":"IF(ISERROR(VLOOKUP($A511,check!$A:$L,4,FALSE))=TRUE,\"\",VLOOKUP($A511,check!$A:$L,4,FALSE))","v":""},{"$f":"IF(ISERROR(VLOOKUP($A511,check!$A:$L,5,FALSE))=TRUE,\"\",VLOOKUP($A511,check!$A:$L,5,FALSE))","v":""},{"$f":"IF(ISERROR(VLOOKUP($A511,check!$A:$L,6,FALSE))=TRUE,\"\",VLOOKUP($A511,check!$A:$L,6,FALSE))","v":""},{"$f":"IF(ISERROR(VLOOKUP($A511,check!$A:$L,7,FALSE))=TRUE,\"\",VLOOKUP($A511,check!$A:$L,7,FALSE))","v":""},{"$f":"IF(ISERROR(VLOOKUP($A511,check!$A:$L,8,FALSE))=TRUE,\"\",VLOOKUP($A511,check!$A:$L,8,FALSE))","v":""},{"$f":"IF(ISERROR(VLOOKUP($A511,check!$A:$L,9,FALSE))=TRUE,\"\",VLOOKUP($A511,check!$A:$L,9,FALSE))","v":""},{"$f":"IF(ISERROR(VLOOKUP($A511,check!$A:$L,10,FALSE))=TRUE,\"\",VLOOKUP($A511,check!$A:$L,10,FALSE))","v":""},{"$f":"IF(ISERROR(VLOOKUP($A511,check!$A:$L,11,FALSE))=TRUE,\"\",VLOOKUP($A511,check!$A:$L,11,FALSE))","v":""},{"$f":"IF(ISERROR(VLOOKUP($A511,check!$A:$L,12,FALSE))=TRUE,\"\",VLOOKUP($A511,check!$A:$L,12,FALSE))","v":""}]
[512,{"$f":"IF(C512=\"\",\"\",MATCH(A512,check!A:A,0))","v":""},{"$f":"IF(ISERROR(VLOOKUP($A512,check!$A:$L,2,FALSE))=TRUE,\"\",VLOOKUP($A512,check!$A:$L,2,FALSE))","v":""},{"$f":"IF(ISERROR(VLOOKUP($A512,check!$A:$L,3,FALSE))=TRUE,\"\",VLOOKUP($A512,check!$A:$L,3,FALSE))","v":""},{"$f":"IF(ISERROR(VLOOKUP($A512,check!$A:$L,4,FALSE))=TRUE,\"\",VLOOKUP($A512,check!$A:$L,4,FALSE))","v":""},{"$f":"IF(ISERROR(VLOOKUP($A512,check!$A:$L,5,FALSE))=TRUE,\"\",VLOOKUP($A512,check!$A:$L,5,FALSE))","v":""},{"$f":"IF(ISERROR(VLOOKUP($A512,check!$A:$L,6,FALSE))=TRUE,\"\",VLOOKUP($A512,check!$A:$L,6,FALSE))","v":""},{"$f":"IF(ISERROR(VLOOKUP($A512,check!$A:$L,7,FALSE))=TRUE,\"\",VLOOKUP($A512,check!$A:$L,7,FALSE))","v":""},{"$f":"IF(ISERROR(VLOOKUP($A512,check!$A:$L,8,FALSE))=TRUE,\"\",VLOOKUP($A512,check!$A:$L,8,FALSE))","v":""},{"$f":"IF(ISERROR(VLOOKUP($A512,check!$A:$L,9,FALSE))=TRUE,\"\",VLOOKUP($A512,check!$A:$L,9,FALSE))","v":""},{"$f":"IF(ISERROR(VLOOKUP($A512,check!$A:$L,10,FALSE))=TRUE,\"\",VLOOKUP($A512,check!$A:$L,10,FALSE))","v":""},{"$f":"IF(ISERROR(VLOOKUP($A512,check!$A:$L,11,FALSE))=TRUE,\"\",VLOOKUP($A512,check!$A:$L,11,FALSE))","v":""},{"$f":"IF(ISERROR(VLOOKUP($A512,check!$A:$L,12,FALSE))=TRUE,\"\",VLOOKUP($A512,check!$A:$L,12,FALSE))","v":""}]
[513,{"$f":"IF(C513=\"\",\"\",MATCH(A513,check!A:A,0))","v":""},{"$f":"IF(ISERROR(VLOOKUP($A513,check!$A:$L,2,FALSE))=TRUE,\"\",VLOOKUP($A513,check!$A:$L,2,FALSE))","v":""},{"$f":"IF(ISERROR(VLOOKUP($A513,check!$A:$L,3,FALSE))=TRUE,\"\",VLOOKUP($A513,check!$A:$L,3,FALSE))","v":""},{"$f":"IF(ISERROR(VLOOKUP($A513,check!$A:$L,4,FALSE))=TRUE,\"\",VLOOKUP($A513,check!$A:$L,4,FALSE))","v":""},{"$f":"IF(ISERROR(VLOOKUP($A513,check!$A:$L,5,FALSE))=TRUE,\"\",VLOOKUP($A513,check!$A:$L,5,FALSE))","v":""},{"$f":"IF(ISERROR(VLOOKUP($A513,check!$A:$L,6,FALSE))=TRUE,\"\",VLOOKUP($A513,check!$A:$L,6,FALSE))","v":""},{"$f":"IF(ISERROR(VLOOKUP($A513,check!$A:$L,7,FALSE))=TRUE,\"\",VLOOKUP($A513,check!$A:$L,7,FALSE))","v":""},{"$f":"IF(ISERROR(VLOOKUP($A513,check!$A:$L,8,FALSE))=TRUE,\"\",VLOOKUP($A513,check!$A:$L,8,FALSE))","v":""},{"$f":"IF(ISERROR(VLOOKUP($A513,check!$A:$L,9,FALSE))=TRUE,\"\",VLOOKUP($A513,check!$A:$L,9,FALSE))","v":""},{"$f":"IF(ISERROR(VLOOKUP($A513,check!$A:$L,10,FALSE))=TRUE,\"\",VLOOKUP($A513,check!$A:$L,10,FALSE))","v":""},{"$f":"IF(ISERROR(VLOOKUP($A513,check!$A:$L,11,FALSE))=TRUE,\"\",VLOOKUP($A513,check!$A:$L,11,FALSE))","v":""},{"$f":"IF(ISERROR(VLOOKUP($A513,check!$A:$L,12,FALSE))=TRUE,\"\",VLOOKUP($A513,check!$A:$L,12,FALSE))","v":""}]
[514,{"$f":"IF(C514=\"\",\"\",MATCH(A514,check!A:A,0))","v":""},{"$f":"IF(ISERROR(VLOOKUP($A514,check!$A:$L,2,FALSE))=TRUE,\"\",VLOOKUP($A514,check!$A:$L,2,FALSE))","v":""},{"$f":"IF(ISERROR(VLOOKUP($A514,check!$A:$L,3,FALSE))=TRUE,\"\",VLOOKUP($A514,check!$A:$L,3,FALSE))","v":""},{"$f":"IF(ISERROR(VLOOKUP($A514,check!$A:$L,4,FALSE))=TRUE,\"\",VLOOKUP($A514,check!$A:$L,4,FALSE))","v":""},{"$f":"IF(ISERROR(VLOOKUP($A514,check!$A:$L,5,FALSE))=TRUE,\"\",VLOOKUP($A514,check!$A:$L,5,FALSE))","v":""},{"$f":"IF(ISERROR(VLOOKUP($A514,check!$A:$L,6,FALSE))=TRUE,\"\",VLOOKUP($A514,check!$A:$L,6,FALSE))","v":""},{"$f":"IF(ISERROR(VLOOKUP($A514,check!$A:$L,7,FALSE))=TRUE,\"\",VLOOKUP($A514,check!$A:$L,7,FALSE))","v":""},{"$f":"IF(ISERROR(VLOOKUP($A514,check!$A:$L,8,FALSE))=TRUE,\"\",VLOOKUP($A514,check!$A:$L,8,FALSE))","v":""},{"$f":"IF(ISERROR(VLOOKUP($A514,check!$A:$L,9,FALSE))=TRUE,\"\",VLOOKUP($A514,check!$A:$L,9,FALSE))","v":""},{"$f":"IF(ISERROR(VLOOKUP($A514,check!$A:$L,10,FALSE))=TRUE,\"\",VLOOKUP($A514,check!$A:$L,10,FALSE))","v":""},{"$f":"IF(ISERROR(VLOOKUP($A514,check!$A:$L,11,FALSE))=TRUE,\"\",VLOOKUP($A514,check!$A:$L,11,FALSE))","v":""},{"$f":"IF(ISERROR(VLOOKUP($A514,check!$A:$L,12,FALSE))=TRUE,\"\",VLOOKUP($A514,check!$A:$L,12,FALSE))","v":""}]
[515,{"$f":"IF(C515=\"\",\"\",MATCH(A515,check!A:A,0))","v":""},{"$f":"IF(ISERROR(VLOOKUP($A515,check!$A:$L,2,FALSE))=TRUE,\"\",VLOOKUP($A515,check!$A:$L,2,FALSE))","v":""},{"$f":"IF(ISERROR(VLOOKUP($A515,check!$A:$L,3,FALSE))=TRUE,\"\",VLOOKUP($A515,check!$A:$L,3,FALSE))","v":""},{"$f":"IF(ISERROR(VLOOKUP($A515,check!$A:$L,4,FALSE))=TRUE,\"\",VLOOKUP($A515,check!$A:$L,4,FALSE))","v":""},{"$f":"IF(ISERROR(VLOOKUP($A515,check!$A:$L,5,FALSE))=TRUE,\"\",VLOOKUP($A515,check!$A:$L,5,FALSE))","v":""},{"$f":"IF(ISERROR(VLOOKUP($A515,check!$A:$L,6,FALSE))=TRUE,\"\",VLOOKUP($A515,check!$A:$L,6,FALSE))","v":""},{"$f":"IF(ISERROR(VLOOKUP($A515,check!$A:$L,7,FALSE))=TRUE,\"\",VLOOKUP($A515,check!$A:$L,7,FALSE))","v":""},{"$f":"IF(ISERROR(VLOOKUP($A515,check!$A:$L,8,FALSE))=TRUE,\"\",VLOOKUP($A515,check!$A:$L,8,FALSE))","v":""},{"$f":"IF(ISERROR(VLOOKUP($A515,check!$A:$L,9,FALSE))=TRUE,\"\",VLOOKUP($A515,check!$A:$L,9,FALSE))","v":""},{"$f":"IF(ISERROR(VLOOKUP($A515,check!$A:$L,10,FALSE))=TRUE,\"\",VLOOKUP($A515,check!$A:$L,10,FALSE))","v":""},{"$f":"IF(ISERROR(VLOOKUP($A515,check!$A:$L,11,FALSE))=TRUE,\"\",VLOOKUP($A515,check!$A:$L,11,FALSE))","v":""},{"$f":"IF(ISERROR(VLOOKUP($A515,check!$A:$L,12,FALSE))=TRUE,\"\",VLOOKUP($A515,check!$A:$L,12,FALSE))","v":""}]
[{"$f":"A515+1","v":516},{"$f":"IF(C516=\"\",\"\",MATCH(A516,check!A:A,0))","v":""},{"$f":"IF(ISERROR(VLOOKUP($A516,check!$A:$L,2,FALSE))=TRUE,\"\",VLOOKUP($A516,check!$A:$L,2,FALSE))","v":""},{"$f":"IF(ISERROR(VLOOKUP($A516,check!$A:$L,3,FALSE))=TRUE,\"\",VLOOKUP($A516,check!$A:$L,3,FALSE))","v":""},{"$f":"IF(ISERROR(VLOOKUP($A516,check!$A:$L,4,FALSE))=TRUE,\"\",VLOOKUP($A516,check!$A:$L,4,FALSE))","v":""},{"$f":"IF(ISERROR(VLOOKUP($A516,check!$A:$L,5,FALSE))=TRUE,\"\",VLOOKUP($A516,check!$A:$L,5,FALSE))","v":""},{"$f":"IF(ISERROR(VLOOKUP($A516,check!$A:$L,6,FALSE))=TRUE,\"\",VLOOKUP($A516,check!$A:$L,6,FALSE))","v":""},{"$f":"IF(ISERROR(VLOOKUP($A516,check!$A:$L,7,FALSE))=TRUE,\"\",VLOOKUP($A516,check!$A:$L,7,FALSE))","v":""},{"$f":"IF(ISERROR(VLOOKUP($A516,check!$A:$L,8,FALSE))=TRUE,\"\",VLOOKUP($A516,check!$A:$L,8,FALSE))","v":""},{"$f":"IF(ISERROR(VLOOKUP($A516,check!$A:$L,9,FALSE))=TRUE,\"\",VLOOKUP($A516,check!$A:$L,9,FALSE))","v":""},{"$f":"IF(ISERROR(VLOOKUP($A516,check!$A:$L,10,FALSE))=TRUE,\"\",VLOOKUP($A516,check!$A:$L,10,FALSE))","v":""},{"$f":"IF(ISERROR(VLOOKUP($A516,check!$A:$L,11,FALSE))=TRUE,\"\",VLOOKUP($A516,check!$A:$L,11,FALSE))","v":""},{"$f":"IF(ISERROR(VLOOKUP($A516,check!$A:$L,12,FALSE))=TRUE,\"\",VLOOKUP($A516,check!$A:$L,12,FALSE))","v":""}]
[517,{"$f":"IF(C517=\"\",\"\",MATCH(A517,check!A:A,0))","v":""},{"$f":"IF(ISERROR(VLOOKUP($A517,check!$A:$L,2,FALSE))=TRUE,\"\",VLOOKUP($A517,check!$A:$L,2,FALSE))","v":""},{"$f":"IF(ISERROR(VLOOKUP($A517,check!$A:$L,3,FALSE))=TRUE,\"\",VLOOKUP($A517,check!$A:$L,3,FALSE))","v":""},{"$f":"IF(ISERROR(VLOOKUP($A517,check!$A:$L,4,FALSE))=TRUE,\"\",VLOOKUP($A517,check!$A:$L,4,FALSE))","v":""},{"$f":"IF(ISERROR(VLOOKUP($A517,check!$A:$L,5,FALSE))=TRUE,\"\",VLOOKUP($A517,check!$A:$L,5,FALSE))","v":""},{"$f":"IF(ISERROR(VLOOKUP($A517,check!$A:$L,6,FALSE))=TRUE,\"\",VLOOKUP($A517,check!$A:$L,6,FALSE))","v":""},{"$f":"IF(ISERROR(VLOOKUP($A517,check!$A:$L,7,FALSE))=TRUE,\"\",VLOOKUP($A517,check!$A:$L,7,FALSE))","v":""},{"$f":"IF(ISERROR(VLOOKUP($A517,check!$A:$L,8,FALSE))=TRUE,\"\",VLOOKUP($A517,check!$A:$L,8,FALSE))","v":""},{"$f":"IF(ISERROR(VLOOKUP($A517,check!$A:$L,9,FALSE))=TRUE,\"\",VLOOKUP($A517,check!$A:$L,9,FALSE))","v":""},{"$f":"IF(ISERROR(VLOOKUP($A517,check!$A:$L,10,FALSE))=TRUE,\"\",VLOOKUP($A517,check!$A:$L,10,FALSE))","v":""},{"$f":"IF(ISERROR(VLOOKUP($A517,check!$A:$L,11,FALSE))=TRUE,\"\",VLOOKUP($A517,check!$A:$L,11,FALSE))","v":""},{"$f":"IF(ISERROR(VLOOKUP($A517,check!$A:$L,12,FALSE))=TRUE,\"\",VLOOKUP($A517,check!$A:$L,12,FALSE))","v":""}]
[518,{"$f":"IF(C518=\"\",\"\",MATCH(A518,check!A:A,0))","v":""},{"$f":"IF(ISERROR(VLOOKUP($A518,check!$A:$L,2,FALSE))=TRUE,\"\",VLOOKUP($A518,check!$A:$L,2,FALSE))","v":""},{"$f":"IF(ISERROR(VLOOKUP($A518,check!$A:$L,3,FALSE))=TRUE,\"\",VLOOKUP($A518,check!$A:$L,3,FALSE))","v":""},{"$f":"IF(ISERROR(VLOOKUP($A518,check!$A:$L,4,FALSE))=TRUE,\"\",VLOOKUP($A518,check!$A:$L,4,FALSE))","v":""},{"$f":"IF(ISERROR(VLOOKUP($A518,check!$A:$L,5,FALSE))=TRUE,\"\",VLOOKUP($A518,check!$A:$L,5,FALSE))","v":""},{"$f":"IF(ISERROR(VLOOKUP($A518,check!$A:$L,6,FALSE))=TRUE,\"\",VLOOKUP($A518,check!$A:$L,6,FALSE))","v":""},{"$f":"IF(ISERROR(VLOOKUP($A518,check!$A:$L,7,FALSE))=TRUE,\"\",VLOOKUP($A518,check!$A:$L,7,FALSE))","v":""},{"$f":"IF(ISERROR(VLOOKUP($A518,check!$A:$L,8,FALSE))=TRUE,\"\",VLOOKUP($A518,check!$A:$L,8,FALSE))","v":""},{"$f":"IF(ISERROR(VLOOKUP($A518,check!$A:$L,9,FALSE))=TRUE,\"\",VLOOKUP($A518,check!$A:$L,9,FALSE))","v":""},{"$f":"IF(ISERROR(VLOOKUP($A518,check!$A:$L,10,FALSE))=TRUE,\"\",VLOOKUP($A518,check!$A:$L,10,FALSE))","v":""},{"$f":"IF(ISERROR(VLOOKUP($A518,check!$A:$L,11,FALSE))=TRUE,\"\",VLOOKUP($A518,check!$A:$L,11,FALSE))","v":""},{"$f":"IF(ISERROR(VLOOKUP($A518,check!$A:$L,12,FALSE))=TRUE,\"\",VLOOKUP($A518,check!$A:$L,12,FALSE))","v":""}]
[519,{"$f":"IF(C519=\"\",\"\",MATCH(A519,check!A:A,0))","v":""},{"$f":"IF(ISERROR(VLOOKUP($A519,check!$A:$L,2,FALSE))=TRUE,\"\",VLOOKUP($A519,check!$A:$L,2,FALSE))","v":""},{"$f":"IF(ISERROR(VLOOKUP($A519,check!$A:$L,3,FALSE))=TRUE,\"\",VLOOKUP($A519,check!$A:$L,3,FALSE))","v":""},{"$f":"IF(ISERROR(VLOOKUP($A519,check!$A:$L,4,FALSE))=TRUE,\"\",VLOOKUP($A519,check!$A:$L,4,FALSE))","v":""},{"$f":"IF(ISERROR(VLOOKUP($A519,check!$A:$L,5,FALSE))=TRUE,\"\",VLOOKUP($A519,check!$A:$L,5,FALSE))","v":""},{"$f":"IF(ISERROR(VLOOKUP($A519,check!$A:$L,6,FALSE))=TRUE,\"\",VLOOKUP($A519,check!$A:$L,6,FALSE))","v":""},{"$f":"IF(ISERROR(VLOOKUP($A519,check!$A:$L,7,FALSE))=TRUE,\"\",VLOOKUP($A519,check!$A:$L,7,FALSE))","v":""},{"$f":"IF(ISERROR(VLOOKUP($A519,check!$A:$L,8,FALSE))=TRUE,\"\",VLOOKUP($A519,check!$A:$L,8,FALSE))","v":""},{"$f":"IF(ISERROR(VLOOKUP($A519,check!$A:$L,9,FALSE))=TRUE,\"\",VLOOKUP($A519,check!$A:$L,9,FALSE))","v":""},{"$f":"IF(ISERROR(VLOOKUP($A519,check!$A:$L,10,FALSE))=TRUE,\"\",VLOOKUP($A519,check!$A:$L,10,FALSE))","v":""},{"$f":"IF(ISERROR(VLOOKUP($A519,check!$A:$L,11,FALSE))=TRUE,\"\",VLOOKUP($A519,check!$A:$L,11,FALSE))","v":""},{"$f":"IF(ISERROR(VLOOKUP($A519,check!$A:$L,12,FALSE))=TRUE,\"\",VLOOKUP($A519,check!$A:$L,12,FALSE))","v":""}]
[520,{"$f":"IF(C520=\"\",\"\",MATCH(A520,check!A:A,0))","v":""},{"$f":"IF(ISERROR(VLOOKUP($A520,check!$A:$L,2,FALSE))=TRUE,\"\",VLOOKUP($A520,check!$A:$L,2,FALSE))","v":""},{"$f":"IF(ISERROR(VLOOKUP($A520,check!$A:$L,3,FALSE))=TRUE,\"\",VLOOKUP($A520,check!$A:$L,3,FALSE))","v":""},{"$f":"IF(ISERROR(VLOOKUP($A520,check!$A:$L,4,FALSE))=TRUE,\"\",VLOOKUP($A520,check!$A:$L,4,FALSE))","v":""},{"$f":"IF(ISERROR(VLOOKUP($A520,check!$A:$L,5,FALSE))=TRUE,\"\",VLOOKUP($A520,check!$A:$L,5,FALSE))","v":""},{"$f":"IF(ISERROR(VLOOKUP($A520,check!$A:$L,6,FALSE))=TRUE,\"\",VLOOKUP($A520,check!$A:$L,6,FALSE))","v":""},{"$f":"IF(ISERROR(VLOOKUP($A520,check!$A:$L,7,FALSE))=TRUE,\"\",VLOOKUP($A520,check!$A:$L,7,FALSE))","v":""},{"$f":"IF(ISERROR(VLOOKUP($A520,check!$A:$L,8,FALSE))=TRUE,\"\",VLOOKUP($A520,check!$A:$L,8,FALSE))","v":""},{"$f":"IF(ISERROR(VLOOKUP($A520,check!$A:$L,9,FALSE))=TRUE,\"\",VLOOKUP($A520,check!$A:$L,9,FALSE))","v":""},{"$f":"IF(ISERROR(VLOOKUP($A520,check!$A:$L,10,FALSE))=TRUE,\"\",VLOOKUP($A520,check!$A:$L,10,FALSE))","v":""},{"$f":"IF(ISERROR(VLOOKUP($A520,check!$A:$L,11,FALSE))=TRUE,\"\",VLOOKUP($A520,check!$A:$L,11,FALSE))","v":""},{"$f":"IF(ISERROR(VLOOKUP($A520,check!$A:$L,12,FALSE))=TRUE,\"\",VLOOKUP($A520,check!$A:$L,12,FALSE))","v":""}]
[521,{"$f":"IF(C521=\"\",\"\",MATCH(A521,check!A:A,0))","v":""},{"$f":"IF(ISERROR(VLOOKUP($A521,check!$A:$L,2,FALSE))=TRUE,\"\",VLOOKUP($A521,check!$A:$L,2,FALSE))","v":""},{"$f":"IF(ISERROR(VLOOKUP($A521,check!$A:$L,3,FALSE))=TRUE,\"\",VLOOKUP($A521,check!$A:$L,3,FALSE))","v":""},{"$f":"IF(ISERROR(VLOOKUP($A521,check!$A:$L,4,FALSE))=TRUE,\"\",VLOOKUP($A521,check!$A:$L,4,FALSE))","v":""},{"$f":"IF(ISERROR(VLOOKUP($A521,check!$A:$L,5,FALSE))=TRUE,\"\",VLOOKUP($A521,check!$A:$L,5,FALSE))","v":""},{"$f":"IF(ISERROR(VLOOKUP($A521,check!$A:$L,6,FALSE))=TRUE,\"\",VLOOKUP($A521,check!$A:$L,6,FALSE))","v":""},{"$f":"IF(ISERROR(VLOOKUP($A521,check!$A:$L,7,FALSE))=TRUE,\"\",VLOOKUP($A521,check!$A:$L,7,FALSE))","v":""},{"$f":"IF(ISERROR(VLOOKUP($A521,check!$A:$L,8,FALSE))=TRUE,\"\",VLOOKUP($A521,check!$A:$L,8,FALSE))","v":""},{"$f":"IF(ISERROR(VLOOKUP($A521,check!$A:$L,9,FALSE))=TRUE,\"\",VLOOKUP($A521,check!$A:$L,9,FALSE))","v":""},{"$f":"IF(ISERROR(VLOOKUP($A521,check!$A:$L,10,FALSE))=TRUE,\"\",VLOOKUP($A521,check!$A:$L,10,FALSE))","v":""},{"$f":"IF(ISERROR(VLOOKUP($A521,check!$A:$L,11,FALSE))=TRUE,\"\",VLOOKUP($A521,check!$A:$L,11,FALSE))","v":""},{"$f":"IF(ISERROR(VLOOKUP($A521,check!$A:$L,12,FALSE))=TRUE,\"\",VLOOKUP($A521,check!$A:$L,12,FALSE))","v":""}]
[522,{"$f":"IF(C522=\"\",\"\",MATCH(A522,check!A:A,0))","v":""},{"$f":"IF(ISERROR(VLOOKUP($A522,check!$A:$L,2,FALSE))=TRUE,\"\",VLOOKUP($A522,check!$A:$L,2,FALSE))","v":""},{"$f":"IF(ISERROR(VLOOKUP($A522,check!$A:$L,3,FALSE))=TRUE,\"\",VLOOKUP($A522,check!$A:$L,3,FALSE))","v":""},{"$f":"IF(ISERROR(VLOOKUP($A522,check!$A:$L,4,FALSE))=TRUE,\"\",VLOOKUP($A522,check!$A:$L,4,FALSE))","v":""},{"$f":"IF(ISERROR(VLOOKUP($A522,check!$A:$L,5,FALSE))=TRUE,\"\",VLOOKUP($A522,check!$A:$L,5,FALSE))","v":""},{"$f":"IF(ISERROR(VLOOKUP($A522,check!$A:$L,6,FALSE))=TRUE,\"\",VLOOKUP($A522,check!$A:$L,6,FALSE))","v":""},{"$f":"IF(ISERROR(VLOOKUP($A522,check!$A:$L,7,FALSE))=TRUE,\"\",VLOOKUP($A522,check!$A:$L,7,FALSE))","v":""},{"$f":"IF(ISERROR(VLOOKUP($A522,check!$A:$L,8,FALSE))=TRUE,\"\",VLOOKUP($A522,check!$A:$L,8,FALSE))","v":""},{"$f":"IF(ISERROR(VLOOKUP($A522,check!$A:$L,9,FALSE))=TRUE,\"\",VLOOKUP($A522,check!$A:$L,9,FALSE))","v":""},{"$f":"IF(ISERROR(VLOOKUP($A522,check!$A:$L,10,FALSE))=TRUE,\"\",VLOOKUP($A522,check!$A:$L,10,FALSE))","v":""},{"$f":"IF(ISERROR(VLOOKUP($A522,check!$A:$L,11,FALSE))=TRUE,\"\",VLOOKUP($A522,check!$A:$L,11,FALSE))","v":""},{"$f":"IF(ISERROR(VLOOKUP($A522,check!$A:$L,12,FALSE))=TRUE,\"\",VLOOKUP($A522,check!$A:$L,12,FALSE))","v":""}]
[523,{"$f":"IF(C523=\"\",\"\",MATCH(A523,check!A:A,0))","v":""},{"$f":"IF(ISERROR(VLOOKUP($A523,check!$A:$L,2,FALSE))=TRUE,\"\",VLOOKUP($A523,check!$A:$L,2,FALSE))","v":""},{"$f":"IF(ISERROR(VLOOKUP($A523,check!$A:$L,3,FALSE))=TRUE,\"\",VLOOKUP($A523,check!$A:$L,3,FALSE))","v":""},{"$f":"IF(ISERROR(VLOOKUP($A523,check!$A:$L,4,FALSE))=TRUE,\"\",VLOOKUP($A523,check!$A:$L,4,FALSE))","v":""},{"$f":"IF(ISERROR(VLOOKUP($A523,check!$A:$L,5,FALSE))=TRUE,\"\",VLOOKUP($A523,check!$A:$L,5,FALSE))","v":""},{"$f":"IF(ISERROR(VLOOKUP($A523,check!$A:$L,6,FALSE))=TRUE,\"\",VLOOKUP($A523,check!$A:$L,6,FALSE))","v":""},{"$f":"IF(ISERROR(VLOOKUP($A523,check!$A:$L,7,FALSE))=TRUE,\"\",VLOOKUP($A523,check!$A:$L,7,FALSE))","v":""},{"$f":"IF(ISERROR(VLOOKUP($A523,check!$A:$L,8,FALSE))=TRUE,\"\",VLOOKUP($A523,check!$A:$L,8,FALSE))","v":""},{"$f":"IF(ISERROR(VLOOKUP($A523,check!$A:$L,9,FALSE))=TRUE,\"\",VLOOKUP($A523,check!$A:$L,9,FALSE))","v":""},{"$f":"IF(ISERROR(VLOOKUP($A523,check!$A:$L,10,FALSE))=TRUE,\"\",VLOOKUP($A523,check!$A:$L,10,FALSE))","v":""},{"$f":"IF(ISERROR(VLOOKUP($A523,check!$A:$L,11,FALSE))=TRUE,\"\",VLOOKUP($A523,check!$A:$L,11,FALSE))","v":""},{"$f":"IF(ISERROR(VLOOKUP($A523,check!$A:$L,12,FALSE))=TRUE,\"\",VLOOKUP($A523,check!$A:$L,12,FALSE))","v":""}]
[524,{"$f":"IF(C524=\"\",\"\",MATCH(A524,check!A:A,0))","v":""},{"$f":"IF(ISERROR(VLOOKUP($A524,check!$A:$L,2,FALSE))=TRUE,\"\",VLOOKUP($A524,check!$A:$L,2,FALSE))","v":""},{"$f":"IF(ISERROR(VLOOKUP($A524,check!$A:$L,3,FALSE))=TRUE,\"\",VLOOKUP($A524,check!$A:$L,3,FALSE))","v":""},{"$f":"IF(ISERROR(VLOOKUP($A524,check!$A:$L,4,FALSE))=TRUE,\"\",VLOOKUP($A524,check!$A:$L,4,FALSE))","v":""},{"$f":"IF(ISERROR(VLOOKUP($A524,check!$A:$L,5,FALSE))=TRUE,\"\",VLOOKUP($A524,check!$A:$L,5,FALSE))","v":""},{"$f":"IF(ISERROR(VLOOKUP($A524,check!$A:$L,6,FALSE))=TRUE,\"\",VLOOKUP($A524,check!$A:$L,6,FALSE))","v":""},{"$f":"IF(ISERROR(VLOOKUP($A524,check!$A:$L,7,FALSE))=TRUE,\"\",VLOOKUP($A524,check!$A:$L,7,FALSE))","v":""},{"$f":"IF(ISERROR(VLOOKUP($A524,check!$A:$L,8,FALSE))=TRUE,\"\",VLOOKUP($A524,check!$A:$L,8,FALSE))","v":""},{"$f":"IF(ISERROR(VLOOKUP($A524,check!$A:$L,9,FALSE))=TRUE,\"\",VLOOKUP($A524,check!$A:$L,9,FALSE))","v":""},{"$f":"IF(ISERROR(VLOOKUP($A524,check!$A:$L,10,FALSE))=TRUE,\"\",VLOOKUP($A524,check!$A:$L,10,FALSE))","v":""},{"$f":"IF(ISERROR(VLOOKUP($A524,check!$A:$L,11,FALSE))=TRUE,\"\",VLOOKUP($A524,check!$A:$L,11,FALSE))","v":""},{"$f":"IF(ISERROR(VLOOKUP($A524,check!$A:$L,12,FALSE))=TRUE,\"\",VLOOKUP($A524,check!$A:$L,12,FALSE))","v":""}]
[525,{"$f":"IF(C525=\"\",\"\",MATCH(A525,check!A:A,0))","v":""},{"$f":"IF(ISERROR(VLOOKUP($A525,check!$A:$L,2,FALSE))=TRUE,\"\",VLOOKUP($A525,check!$A:$L,2,FALSE))","v":""},{"$f":"IF(ISERROR(VLOOKUP($A525,check!$A:$L,3,FALSE))=TRUE,\"\",VLOOKUP($A525,check!$A:$L,3,FALSE))","v":""},{"$f":"IF(ISERROR(VLOOKUP($A525,check!$A:$L,4,FALSE))=TRUE,\"\",VLOOKUP($A525,check!$A:$L,4,FALSE))","v":""},{"$f":"IF(ISERROR(VLOOKUP($A525,check!$A:$L,5,FALSE))=TRUE,\"\",VLOOKUP($A525,check!$A:$L,5,FALSE))","v":""},{"$f":"IF(ISERROR(VLOOKUP($A525,check!$A:$L,6,FALSE))=TRUE,\"\",VLOOKUP($A525,check!$A:$L,6,FALSE))","v":""},{"$f":"IF(ISERROR(VLOOKUP($A525,check!$A:$L,7,FALSE))=TRUE,\"\",VLOOKUP($A525,check!$A:$L,7,FALSE))","v":""},{"$f":"IF(ISERROR(VLOOKUP($A525,check!$A:$L,8,FALSE))=TRUE,\"\",VLOOKUP($A525,check!$A:$L,8,FALSE))","v":""},{"$f":"IF(ISERROR(VLOOKUP($A525,check!$A:$L,9,FALSE))=TRUE,\"\",VLOOKUP($A525,check!$A:$L,9,FALSE))","v":""},{"$f":"IF(ISERROR(VLOOKUP($A525,check!$A:$L,10,FALSE))=TRUE,\"\",VLOOKUP($A525,check!$A:$L,10,FALSE))","v":""},{"$f":"IF(ISERROR(VLOOKUP($A525,check!$A:$L,11,FALSE))=TRUE,\"\",VLOOKUP($A525,check!$A:$L,11,FALSE))","v":""},{"$f":"IF(ISERROR(VLOOKUP($A525,check!$A:$L,12,FALSE))=TRUE,\"\",VLOOKUP($A525,check!$A:$L,12,FALSE))","v":""}]
[526,{"$f":"IF(C526=\"\",\"\",MATCH(A526,check!A:A,0))","v":""},{"$f":"IF(ISERROR(VLOOKUP($A526,check!$A:$L,2,FALSE))=TRUE,\"\",VLOOKUP($A526,check!$A:$L,2,FALSE))","v":""},{"$f":"IF(ISERROR(VLOOKUP($A526,check!$A:$L,3,FALSE))=TRUE,\"\",VLOOKUP($A526,check!$A:$L,3,FALSE))","v":""},{"$f":"IF(ISERROR(VLOOKUP($A526,check!$A:$L,4,FALSE))=TRUE,\"\",VLOOKUP($A526,check!$A:$L,4,FALSE))","v":""},{"$f":"IF(ISERROR(VLOOKUP($A526,check!$A:$L,5,FALSE))=TRUE,\"\",VLOOKUP($A526,check!$A:$L,5,FALSE))","v":""},{"$f":"IF(ISERROR(VLOOKUP($A526,check!$A:$L,6,FALSE))=TRUE,\"\",VLOOKUP($A526,check!$A:$L,6,FALSE))","v":""},{"$f":"IF(ISERROR(VLOOKUP($A526,check!$A:$L,7,FALSE))=TRUE,\"\",VLOOKUP($A526,check!$A:$L,7,FALSE))","v":""},{"$f":"IF(ISERROR(VLOOKUP($A526,check!$A:$L,8,FALSE))=TRUE,\"\",VLOOKUP($A526,check!$A:$L,8,FALSE))","v":""},{"$f":"IF(ISERROR(VLOOKUP($A526,check!$A:$L,9,FALSE))=TRUE,\"\",VLOOKUP($A526,check!$A:$L,9,FALSE))","v":""},{"$f":"IF(ISERROR(VLOOKUP($A526,check!$A:$L,10,FALSE))=TRUE,\"\",VLOOKUP($A526,check!$A:$L,10,FALSE))","v":""},{"$f":"IF(ISERROR(VLOOKUP($A526,check!$A:$L,11,FALSE))=TRUE,\"\",VLOOKUP($A526,check!$A:$L,11,FALSE))","v":""},{"$f":"IF(ISERROR(VLOOKUP($A526,check!$A:$L,12,FALSE))=TRUE,\"\",VLOOKUP($A526,check!$A:$L,12,FALSE))","v":""}]
[527,{"$f":"IF(C527=\"\",\"\",MATCH(A527,check!A:A,0))","v":""},{"$f":"IF(ISERROR(VLOOKUP($A527,check!$A:$L,2,FALSE))=TRUE,\"\",VLOOKUP($A527,check!$A:$L,2,FALSE))","v":""},{"$f":"IF(ISERROR(VLOOKUP($A527,check!$A:$L,3,FALSE))=TRUE,\"\",VLOOKUP($A527,check!$A:$L,3,FALSE))","v":""},{"$f":"IF(ISERROR(VLOOKUP($A527,check!$A:$L,4,FALSE))=TRUE,\"\",VLOOKUP($A527,check!$A:$L,4,FALSE))","v":""},{"$f":"IF(ISERROR(VLOOKUP($A527,check!$A:$L,5,FALSE))=TRUE,\"\",VLOOKUP($A527,check!$A:$L,5,FALSE))","v":""},{"$f":"IF(ISERROR(VLOOKUP($A527,check!$A:$L,6,FALSE))=TRUE,\"\",VLOOKUP($A527,check!$A:$L,6,FALSE))","v":""},{"$f":"IF(ISERROR(VLOOKUP($A527,check!$A:$L,7,FALSE))=TRUE,\"\",VLOOKUP($A527,check!$A:$L,7,FALSE))","v":""},{"$f":"IF(ISERROR(VLOOKUP($A527,check!$A:$L,8,FALSE))=TRUE,\"\",VLOOKUP($A527,check!$A:$L,8,FALSE))","v":""},{"$f":"IF(ISERROR(VLOOKUP($A527,check!$A:$L,9,FALSE))=TRUE,\"\",VLOOKUP($A527,check!$A:$L,9,FALSE))","v":""},{"$f":"IF(ISERROR(VLOOKUP($A527,check!$A:$L,10,FALSE))=TRUE,\"\",VLOOKUP($A527,check!$A:$L,10,FALSE))","v":""},{"$f":"IF(ISERROR(VLOOKUP($A527,check!$A:$L,11,FALSE))=TRUE,\"\",VLOOKUP($A527,check!$A:$L,11,FALSE))","v":""},{"$f":"IF(ISERROR(VLOOKUP($A527,check!$A:$L,12,FALSE))=TRUE,\"\",VLOOKUP($A527,check!$A:$L,12,FALSE))","v":""}]
[528,{"$f":"IF(C528=\"\",\"\",MATCH(A528,check!A:A,0))","v":""},{"$f":"IF(ISERROR(VLOOKUP($A528,check!$A:$L,2,FALSE))=TRUE,\"\",VLOOKUP($A528,check!$A:$L,2,FALSE))","v":""},{"$f":"IF(ISERROR(VLOOKUP($A528,check!$A:$L,3,FALSE))=TRUE,\"\",VLOOKUP($A528,check!$A:$L,3,FALSE))","v":""},{"$f":"IF(ISERROR(VLOOKUP($A528,check!$A:$L,4,FALSE))=TRUE,\"\",VLOOKUP($A528,check!$A:$L,4,FALSE))","v":""},{"$f":"IF(ISERROR(VLOOKUP($A528,check!$A:$L,5,FALSE))=TRUE,\"\",VLOOKUP($A528,check!$A:$L,5,FALSE))","v":""},{"$f":"IF(ISERROR(VLOOKUP($A528,check!$A:$L,6,FALSE))=TRUE,\"\",VLOOKUP($A528,check!$A:$L,6,FALSE))","v":""},{"$f":"IF(ISERROR(VLOOKUP($A528,check!$A:$L,7,FALSE))=TRUE,\"\",VLOOKUP($A528,check!$A:$L,7,FALSE))","v":""},{"$f":"IF(ISERROR(VLOOKUP($A528,check!$A:$L,8,FALSE))=TRUE,\"\",VLOOKUP($A528,check!$A:$L,8,FALSE))","v":""},{"$f":"IF(ISERROR(VLOOKUP($A528,check!$A:$L,9,FALSE))=TRUE,\"\",VLOOKUP($A528,check!$A:$L,9,FALSE))","v":""},{"$f":"IF(ISERROR(VLOOKUP($A528,check!$A:$L,10,FALSE))=TRUE,\"\",VLOOKUP($A528,check!$A:$L,10,FALSE))","v":""},{"$f":"IF(ISERROR(VLOOKUP($A528,check!$A:$L,11,FALSE))=TRUE,\"\",VLOOKUP($A528,check!$A:$L,11,FALSE))","v":""},{"$f":"IF(ISERROR(VLOOKUP($A528,check!$A:$L,12,FALSE))=TRUE,\"\",VLOOKUP($A528,check!$A:$L,12,FALSE))","v":""}]
[529,{"$f":"IF(C529=\"\",\"\",MATCH(A529,check!A:A,0))","v":""},{"$f":"IF(ISERROR(VLOOKUP($A529,check!$A:$L,2,FALSE))=TRUE,\"\",VLOOKUP($A529,check!$A:$L,2,FALSE))","v":""},{"$f":"IF(ISERROR(VLOOKUP($A529,check!$A:$L,3,FALSE))=TRUE,\"\",VLOOKUP($A529,check!$A:$L,3,FALSE))","v":""},{"$f":"IF(ISERROR(VLOOKUP($A529,check!$A:$L,4,FALSE))=TRUE,\"\",VLOOKUP($A529,check!$A:$L,4,FALSE))","v":""},{"$f":"IF(ISERROR(VLOOKUP($A529,check!$A:$L,5,FALSE))=TRUE,\"\",VLOOKUP($A529,check!$A:$L,5,FALSE))","v":""},{"$f":"IF(ISERROR(VLOOKUP($A529,check!$A:$L,6,FALSE))=TRUE,\"\",VLOOKUP($A529,check!$A:$L,6,FALSE))","v":""},{"$f":"IF(ISERROR(VLOOKUP($A529,check!$A:$L,7,FALSE))=TRUE,\"\",VLOOKUP($A529,check!$A:$L,7,FALSE))","v":""},{"$f":"IF(ISERROR(VLOOKUP($A529,check!$A:$L,8,FALSE))=TRUE,\"\",VLOOKUP($A529,check!$A:$L,8,FALSE))","v":""},{"$f":"IF(ISERROR(VLOOKUP($A529,check!$A:$L,9,FALSE))=TRUE,\"\",VLOOKUP($A529,check!$A:$L,9,FALSE))","v":""},{"$f":"IF(ISERROR(VLOOKUP($A529,check!$A:$L,10,FALSE))=TRUE,\"\",VLOOKUP($A529,check!$A:$L,10,FALSE))","v":""},{"$f":"IF(ISERROR(VLOOKUP($A529,check!$A:$L,11,FALSE))=TRUE,\"\",VLOOKUP($A529,check!$A:$L,11,FALSE))","v":""},{"$f":"IF(ISERROR(VLOOKUP($A529,check!$A:$L,12,FALSE))=TRUE,\"\",VLOOKUP($A529,check!$A:$L,12,FALSE))","v":""}]
[530,{"$f":"IF(C530=\"\",\"\",MATCH(A530,check!A:A,0))","v":""},{"$f":"IF(ISERROR(VLOOKUP($A530,check!$A:$L,2,FALSE))=TRUE,\"\",VLOOKUP($A530,check!$A:$L,2,FALSE))","v":""},{"$f":"IF(ISERROR(VLOOKUP($A530,check!$A:$L,3,FALSE))=TRUE,\"\",VLOOKUP($A530,check!$A:$L,3,FALSE))","v":""},{"$f":"IF(ISERROR(VLOOKUP($A530,check!$A:$L,4,FALSE))=TRUE,\"\",VLOOKUP($A530,check!$A:$L,4,FALSE))","v":""},{"$f":"IF(ISERROR(VLOOKUP($A530,check!$A:$L,5,FALSE))=TRUE,\"\",VLOOKUP($A530,check!$A:$L,5,FALSE))","v":""},{"$f":"IF(ISERROR(VLOOKUP($A530,check!$A:$L,6,FALSE))=TRUE,\"\",VLOOKUP($A530,check!$A:$L,6,FALSE))","v":""},{"$f":"IF(ISERROR(VLOOKUP($A530,check!$A:$L,7,FALSE))=TRUE,\"\",VLOOKUP($A530,check!$A:$L,7,FALSE))","v":""},{"$f":"IF(ISERROR(VLOOKUP($A530,check!$A:$L,8,FALSE))=TRUE,\"\",VLOOKUP($A530,check!$A:$L,8,FALSE))","v":""},{"$f":"IF(ISERROR(VLOOKUP($A530,check!$A:$L,9,FALSE))=TRUE,\"\",VLOOKUP($A530,check!$A:$L,9,FALSE))","v":""},{"$f":"IF(ISERROR(VLOOKUP($A530,check!$A:$L,10,FALSE))=TRUE,\"\",VLOOKUP($A530,check!$A:$L,10,FALSE))","v":""},{"$f":"IF(ISERROR(VLOOKUP($A530,check!$A:$L,11,FALSE))=TRUE,\"\",VLOOKUP($A530,check!$A:$L,11,FALSE))","v":""},{"$f":"IF(ISERROR(VLOOKUP($A530,check!$A:$L,12,FALSE))=TRUE,\"\",VLOOKUP($A530,check!$A:$L,12,FALSE))","v":""}]
[531,{"$f":"IF(C531=\"\",\"\",MATCH(A531,check!A:A,0))","v":""},{"$f":"IF(ISERROR(VLOOKUP($A531,check!$A:$L,2,FALSE))=TRUE,\"\",VLOOKUP($A531,check!$A:$L,2,FALSE))","v":""},{"$f":"IF(ISERROR(VLOOKUP($A531,check!$A:$L,3,FALSE))=TRUE,\"\",VLOOKUP($A531,check!$A:$L,3,FALSE))","v":""},{"$f":"IF(ISERROR(VLOOKUP($A531,check!$A:$L,4,FALSE))=TRUE,\"\",VLOOKUP($A531,check!$A:$L,4,FALSE))","v":""},{"$f":"IF(ISERROR(VLOOKUP($A531,check!$A:$L,5,FALSE))=TRUE,\"\",VLOOKUP($A531,check!$A:$L,5,FALSE))","v":""},{"$f":"IF(ISERROR(VLOOKUP($A531,check!$A:$L,6,FALSE))=TRUE,\"\",VLOOKUP($A531,check!$A:$L,6,FALSE))","v":""},{"$f":"IF(ISERROR(VLOOKUP($A531,check!$A:$L,7,FALSE))=TRUE,\"\",VLOOKUP($A531,check!$A:$L,7,FALSE))","v":""},{"$f":"IF(ISERROR(VLOOKUP($A531,check!$A:$L,8,FALSE))=TRUE,\"\",VLOOKUP($A531,check!$A:$L,8,FALSE))","v":""},{"$f":"IF(ISERROR(VLOOKUP($A531,check!$A:$L,9,FALSE))=TRUE,\"\",VLOOKUP($A531,check!$A:$L,9,FALSE))","v":""},{"$f":"IF(ISERROR(VLOOKUP($A531,check!$A:$L,10,FALSE))=TRUE,\"\",VLOOKUP($A531,check!$A:$L,10,FALSE))","v":""},{"$f":"IF(ISERROR(VLOOKUP($A531,check!$A:$L,11,FALSE))=TRUE,\"\",VLOOKUP($A531,check!$A:$L,11,FALSE))","v":""},{"$f":"IF(ISERROR(VLOOKUP($A531,check!$A:$L,12,FALSE))=TRUE,\"\",VLOOKUP($A531,check!$A:$L,12,FALSE))","v":""}]
[532,{"$f":"IF(C532=\"\",\"\",MATCH(A532,check!A:A,0))","v":""},{"$f":"IF(ISERROR(VLOOKUP($A532,check!$A:$L,2,FALSE))=TRUE,\"\",VLOOKUP($A532,check!$A:$L,2,FALSE))","v":""},{"$f":"IF(ISERROR(VLOOKUP($A532,check!$A:$L,3,FALSE))=TRUE,\"\",VLOOKUP($A532,check!$A:$L,3,FALSE))","v":""},{"$f":"IF(ISERROR(VLOOKUP($A532,check!$A:$L,4,FALSE))=TRUE,\"\",VLOOKUP($A532,check!$A:$L,4,FALSE))","v":""},{"$f":"IF(ISERROR(VLOOKUP($A532,check!$A:$L,5,FALSE))=TRUE,\"\",VLOOKUP($A532,check!$A:$L,5,FALSE))","v":""},{"$f":"IF(ISERROR(VLOOKUP($A532,check!$A:$L,6,FALSE))=TRUE,\"\",VLOOKUP($A532,check!$A:$L,6,FALSE))","v":""},{"$f":"IF(ISERROR(VLOOKUP($A532,check!$A:$L,7,FALSE))=TRUE,\"\",VLOOKUP($A532,check!$A:$L,7,FALSE))","v":""},{"$f":"IF(ISERROR(VLOOKUP($A532,check!$A:$L,8,FALSE))=TRUE,\"\",VLOOKUP($A532,check!$A:$L,8,FALSE))","v":""},{"$f":"IF(ISERROR(VLOOKUP($A532,check!$A:$L,9,FALSE))=TRUE,\"\",VLOOKUP($A532,check!$A:$L,9,FALSE))","v":""},{"$f":"IF(ISERROR(VLOOKUP($A532,check!$A:$L,10,FALSE))=TRUE,\"\",VLOOKUP($A532,check!$A:$L,10,FALSE))","v":""},{"$f":"IF(ISERROR(VLOOKUP($A532,check!$A:$L,11,FALSE))=TRUE,\"\",VLOOKUP($A532,check!$A:$L,11,FALSE))","v":""},{"$f":"IF(ISERROR(VLOOKUP($A532,check!$A:$L,12,FALSE))=TRUE,\"\",VLOOKUP($A532,check!$A:$L,12,FALSE))","v":""}]
[533,{"$f":"IF(C533=\"\",\"\",MATCH(A533,check!A:A,0))","v":""},{"$f":"IF(ISERROR(VLOOKUP($A533,check!$A:$L,2,FALSE))=TRUE,\"\",VLOOKUP($A533,check!$A:$L,2,FALSE))","v":""},{"$f":"IF(ISERROR(VLOOKUP($A533,check!$A:$L,3,FALSE))=TRUE,\"\",VLOOKUP($A533,check!$A:$L,3,FALSE))","v":""},{"$f":"IF(ISERROR(VLOOKUP($A533,check!$A:$L,4,FALSE))=TRUE,\"\",VLOOKUP($A533,check!$A:$L,4,FALSE))","v":""},{"$f":"IF(ISERROR(VLOOKUP($A533,check!$A:$L,5,FALSE))=TRUE,\"\",VLOOKUP($A533,check!$A:$L,5,FALSE))","v":""},{"$f":"IF(ISERROR(VLOOKUP($A533,check!$A:$L,6,FALSE))=TRUE,\"\",VLOOKUP($A533,check!$A:$L,6,FALSE))","v":""},{"$f":"IF(ISERROR(VLOOKUP($A533,check!$A:$L,7,FALSE))=TRUE,\"\",VLOOKUP($A533,check!$A:$L,7,FALSE))","v":""},{"$f":"IF(ISERROR(VLOOKUP($A533,check!$A:$L,8,FALSE))=TRUE,\"\",VLOOKUP($A533,check!$A:$L,8,FALSE))","v":""},{"$f":"IF(ISERROR(VLOOKUP($A533,check!$A:$L,9,FALSE))=TRUE,\"\",VLOOKUP($A533,check!$A:$L,9,FALSE))","v":""},{"$f":"IF(ISERROR(VLOOKUP($A533,check!$A:$L,10,FALSE))=TRUE,\"\",VLOOKUP($A533,check!$A:$L,10,FALSE))","v":""},{"$f":"IF(ISERROR(VLOOKUP($A533,check!$A:$L,11,FALSE))=TRUE,\"\",VLOOKUP($A533,check!$A:$L,11,FALSE))","v":""},{"$f":"IF(ISERROR(VLOOKUP($A533,check!$A:$L,12,FALSE))=TRUE,\"\",VLOOKUP($A533,check!$A:$L,12,FALSE))","v":""}]
[534,{"$f":"IF(C534=\"\",\"\",MATCH(A534,check!A:A,0))","v":""},{"$f":"IF(ISERROR(VLOOKUP($A534,check!$A:$L,2,FALSE))=TRUE,\"\",VLOOKUP($A534,check!$A:$L,2,FALSE))","v":""},{"$f":"IF(ISERROR(VLOOKUP($A534,check!$A:$L,3,FALSE))=TRUE,\"\",VLOOKUP($A534,check!$A:$L,3,FALSE))","v":""},{"$f":"IF(ISERROR(VLOOKUP($A534,check!$A:$L,4,FALSE))=TRUE,\"\",VLOOKUP($A534,check!$A:$L,4,FALSE))","v":""},{"$f":"IF(ISERROR(VLOOKUP($A534,check!$A:$L,5,FALSE))=TRUE,\"\",VLOOKUP($A534,check!$A:$L,5,FALSE))","v":""},{"$f":"IF(ISERROR(VLOOKUP($A534,check!$A:$L,6,FALSE))=TRUE,\"\",VLOOKUP($A534,check!$A:$L,6,FALSE))","v":""},{"$f":"IF(ISERROR(VLOOKUP($A534,check!$A:$L,7,FALSE))=TRUE,\"\",VLOOKUP($A534,check!$A:$L,7,FALSE))","v":""},{"$f":"IF(ISERROR(VLOOKUP($A534,check!$A:$L,8,FALSE))=TRUE,\"\",VLOOKUP($A534,check!$A:$L,8,FALSE))","v":""},{"$f":"IF(ISERROR(VLOOKUP($A534,check!$A:$L,9,FALSE))=TRUE,\"\",VLOOKUP($A534,check!$A:$L,9,FALSE))","v":""},{"$f":"IF(ISERROR(VLOOKUP($A534,check!$A:$L,10,FALSE))=TRUE,\"\",VLOOKUP($A534,check!$A:$L,10,FALSE))","v":""},{"$f":"IF(ISERROR(VLOOKUP($A534,check!$A:$L,11,FALSE))=TRUE,\"\",VLOOKUP($A534,check!$A:$L,11,FALSE))","v":""},{"$f":"IF(ISERROR(VLOOKUP($A534,check!$A:$L,12,FALSE))=TRUE,\"\",VLOOKUP($A534,check!$A:$L,12,FALSE))","v":""}]
[535,{"$f":"IF(C535=\"\",\"\",MATCH(A535,check!A:A,0))","v":""},{"$f":"IF(ISERROR(VLOOKUP($A535,check!$A:$L,2,FALSE))=TRUE,\"\",VLOOKUP($A535,check!$A:$L,2,FALSE))","v":""},{"$f":"IF(ISERROR(VLOOKUP($A535,check!$A:$L,3,FALSE))=TRUE,\"\",VLOOKUP($A535,check!$A:$L,3,FALSE))","v":""},{"$f":"IF(ISERROR(VLOOKUP($A535,check!$A:$L,4,FALSE))=TRUE,\"\",VLOOKUP($A535,check!$A:$L,4,FALSE))","v":""},{"$f":"IF(ISERROR(VLOOKUP($A535,check!$A:$L,5,FALSE))=TRUE,\"\",VLOOKUP($A535,check!$A:$L,5,FALSE))","v":""},{"$f":"IF(ISERROR(VLOOKUP($A535,check!$A:$L,6,FALSE))=TRUE,\"\",VLOOKUP($A535,check!$A:$L,6,FALSE))","v":""},{"$f":"IF(ISERROR(VLOOKUP($A535,check!$A:$L,7,FALSE))=TRUE,\"\",VLOOKUP($A535,check!$A:$L,7,FALSE))","v":""},{"$f":"IF(ISERROR(VLOOKUP($A535,check!$A:$L,8,FALSE))=TRUE,\"\",VLOOKUP($A535,check!$A:$L,8,FALSE))","v":""},{"$f":"IF(ISERROR(VLOOKUP($A535,check!$A:$L,9,FALSE))=TRUE,\"\",VLOOKUP($A535,check!$A:$L,9,FALSE))","v":""},{"$f":"IF(ISERROR(VLOOKUP($A535,check!$A:$L,10,FALSE))=TRUE,\"\",VLOOKUP($A535,check!$A:$L,10,FALSE))","v":""},{"$f":"IF(ISERROR(VLOOKUP($A535,check!$A:$L,11,FALSE))=TRUE,\"\",VLOOKUP($A535,check!$A:$L,11,FALSE))","v":""},{"$f":"IF(ISERROR(VLOOKUP($A535,check!$A:$L,12,FALSE))=TRUE,\"\",VLOOKUP($A535,check!$A:$L,12,FALSE))","v":""}]
[536,{"$f":"IF(C536=\"\",\"\",MATCH(A536,check!A:A,0))","v":""},{"$f":"IF(ISERROR(VLOOKUP($A536,check!$A:$L,2,FALSE))=TRUE,\"\",VLOOKUP($A536,check!$A:$L,2,FALSE))","v":""},{"$f":"IF(ISERROR(VLOOKUP($A536,check!$A:$L,3,FALSE))=TRUE,\"\",VLOOKUP($A536,check!$A:$L,3,FALSE))","v":""},{"$f":"IF(ISERROR(VLOOKUP($A536,check!$A:$L,4,FALSE))=TRUE,\"\",VLOOKUP($A536,check!$A:$L,4,FALSE))","v":""},{"$f":"IF(ISERROR(VLOOKUP($A536,check!$A:$L,5,FALSE))=TRUE,\"\",VLOOKUP($A536,check!$A:$L,5,FALSE))","v":""},{"$f":"IF(ISERROR(VLOOKUP($A536,check!$A:$L,6,FALSE))=TRUE,\"\",VLOOKUP($A536,check!$A:$L,6,FALSE))","v":""},{"$f":"IF(ISERROR(VLOOKUP($A536,check!$A:$L,7,FALSE))=TRUE,\"\",VLOOKUP($A536,check!$A:$L,7,FALSE))","v":""},{"$f":"IF(ISERROR(VLOOKUP($A536,check!$A:$L,8,FALSE))=TRUE,\"\",VLOOKUP($A536,check!$A:$L,8,FALSE))","v":""},{"$f":"IF(ISERROR(VLOOKUP($A536,check!$A:$L,9,FALSE))=TRUE,\"\",VLOOKUP($A536,check!$A:$L,9,FALSE))","v":""},{"$f":"IF(ISERROR(VLOOKUP($A536,check!$A:$L,10,FALSE))=TRUE,\"\",VLOOKUP($A536,check!$A:$L,10,FALSE))","v":""},{"$f":"IF(ISERROR(VLOOKUP($A536,check!$A:$L,11,FALSE))=TRUE,\"\",VLOOKUP($A536,check!$A:$L,11,FALSE))","v":""},{"$f":"IF(ISERROR(VLOOKUP($A536,check!$A:$L,12,FALSE))=TRUE,\"\",VLOOKUP($A536,check!$A:$L,12,FALSE))","v":""}]
[537,{"$f":"IF(C537=\"\",\"\",MATCH(A537,check!A:A,0))","v":""},{"$f":"IF(ISERROR(VLOOKUP($A537,check!$A:$L,2,FALSE))=TRUE,\"\",VLOOKUP($A537,check!$A:$L,2,FALSE))","v":""},{"$f":"IF(ISERROR(VLOOKUP($A537,check!$A:$L,3,FALSE))=TRUE,\"\",VLOOKUP($A537,check!$A:$L,3,FALSE))","v":""},{"$f":"IF(ISERROR(VLOOKUP($A537,check!$A:$L,4,FALSE))=TRUE,\"\",VLOOKUP($A537,check!$A:$L,4,FALSE))","v":""},{"$f":"IF(ISERROR(VLOOKUP($A537,check!$A:$L,5,FALSE))=TRUE,\"\",VLOOKUP($A537,check!$A:$L,5,FALSE))","v":""},{"$f":"IF(ISERROR(VLOOKUP($A537,check!$A:$L,6,FALSE))=TRUE,\"\",VLOOKUP($A537,check!$A:$L,6,FALSE))","v":""},{"$f":"IF(ISERROR(VLOOKUP($A537,check!$A:$L,7,FALSE))=TRUE,\"\",VLOOKUP($A537,check!$A:$L,7,FALSE))","v":""},{"$f":"IF(ISERROR(VLOOKUP($A537,check!$A:$L,8,FALSE))=TRUE,\"\",VLOOKUP($A537,check!$A:$L,8,FALSE))","v":""},{"$f":"IF(ISERROR(VLOOKUP($A537,check!$A:$L,9,FALSE))=TRUE,\"\",VLOOKUP($A537,check!$A:$L,9,FALSE))","v":""},{"$f":"IF(ISERROR(VLOOKUP($A537,check!$A:$L,10,FALSE))=TRUE,\"\",VLOOKUP($A537,check!$A:$L,10,FALSE))","v":""},{"$f":"IF(ISERROR(VLOOKUP($A537,check!$A:$L,11,FALSE))=TRUE,\"\",VLOOKUP($A537,check!$A:$L,11,FALSE))","v":""},{"$f":"IF(ISERROR(VLOOKUP($A537,check!$A:$L,12,FALSE))=TRUE,\"\",VLOOKUP($A537,check!$A:$L,12,FALSE))","v":""}]
[538,{"$f":"IF(C538=\"\",\"\",MATCH(A538,check!A:A,0))","v":""},{"$f":"IF(ISERROR(VLOOKUP($A538,check!$A:$L,2,FALSE))=TRUE,\"\",VLOOKUP($A538,check!$A:$L,2,FALSE))","v":""},{"$f":"IF(ISERROR(VLOOKUP($A538,check!$A:$L,3,FALSE))=TRUE,\"\",VLOOKUP($A538,check!$A:$L,3,FALSE))","v":""},{"$f":"IF(ISERROR(VLOOKUP($A538,check!$A:$L,4,FALSE))=TRUE,\"\",VLOOKUP($A538,check!$A:$L,4,FALSE))","v":""},{"$f":"IF(ISERROR(VLOOKUP($A538,check!$A:$L,5,FALSE))=TRUE,\"\",VLOOKUP($A538,check!$A:$L,5,FALSE))","v":""},{"$f":"IF(ISERROR(VLOOKUP($A538,check!$A:$L,6,FALSE))=TRUE,\"\",VLOOKUP($A538,check!$A:$L,6,FALSE))","v":""},{"$f":"IF(ISERROR(VLOOKUP($A538,check!$A:$L,7,FALSE))=TRUE,\"\",VLOOKUP($A538,check!$A:$L,7,FALSE))","v":""},{"$f":"IF(ISERROR(VLOOKUP($A538,check!$A:$L,8,FALSE))=TRUE,\"\",VLOOKUP($A538,check!$A:$L,8,FALSE))","v":""},{"$f":"IF(ISERROR(VLOOKUP($A538,check!$A:$L,9,FALSE))=TRUE,\"\",VLOOKUP($A538,check!$A:$L,9,FALSE))","v":""},{"$f":"IF(ISERROR(VLOOKUP($A538,check!$A:$L,10,FALSE))=TRUE,\"\",VLOOKUP($A538,check!$A:$L,10,FALSE))","v":""},{"$f":"IF(ISERROR(VLOOKUP($A538,check!$A:$L,11,FALSE))=TRUE,\"\",VLOOKUP($A538,check!$A:$L,11,FALSE))","v":""},{"$f":"IF(ISERROR(VLOOKUP($A538,check!$A:$L,12,FALSE))=TRUE,\"\",VLOOKUP($A538,check!$A:$L,12,FALSE))","v":""}]
[539,{"$f":"IF(C539=\"\",\"\",MATCH(A539,check!A:A,0))","v":""},{"$f":"IF(ISERROR(VLOOKUP($A539,check!$A:$L,2,FALSE))=TRUE,\"\",VLOOKUP($A539,check!$A:$L,2,FALSE))","v":""},{"$f":"IF(ISERROR(VLOOKUP($A539,check!$A:$L,3,FALSE))=TRUE,\"\",VLOOKUP($A539,check!$A:$L,3,FALSE))","v":""},{"$f":"IF(ISERROR(VLOOKUP($A539,check!$A:$L,4,FALSE))=TRUE,\"\",VLOOKUP($A539,check!$A:$L,4,FALSE))","v":""},{"$f":"IF(ISERROR(VLOOKUP($A539,check!$A:$L,5,FALSE))=TRUE,\"\",VLOOKUP($A539,check!$A:$L,5,FALSE))","v":""},{"$f":"IF(ISERROR(VLOOKUP($A539,check!$A:$L,6,FALSE))=TRUE,\"\",VLOOKUP($A539,check!$A:$L,6,FALSE))","v":""},{"$f":"IF(ISERROR(VLOOKUP($A539,check!$A:$L,7,FALSE))=TRUE,\"\",VLOOKUP($A539,check!$A:$L,7,FALSE))","v":""},{"$f":"IF(ISERROR(VLOOKUP($A539,check!$A:$L,8,FALSE))=TRUE,\"\",VLOOKUP($A539,check!$A:$L,8,FALSE))","v":""},{"$f":"IF(ISERROR(VLOOKUP($A539,check!$A:$L,9,FALSE))=TRUE,\"\",VLOOKUP($A539,check!$A:$L,9,FALSE))","v":""},{"$f":"IF(ISERROR(VLOOKUP($A539,check!$A:$L,10,FALSE))=TRUE,\"\",VLOOKUP($A539,check!$A:$L,10,FALSE))","v":""},{"$f":"IF(ISERROR(VLOOKUP($A539,check!$A:$L,11,FALSE))=TRUE,\"\",VLOOKUP($A539,check!$A:$L,11,FALSE))","v":""},{"$f":"IF(ISERROR(VLOOKUP($A539,check!$A:$L,12,FALSE))=TRUE,\"\",VLOOKUP($A539,check!$A:$L,12,FALSE))","v":""}]
[540,{"$f":"IF(C540=\"\",\"\",MATCH(A540,check!A:A,0))","v":""},{"$f":"IF(ISERROR(VLOOKUP($A540,check!$A:$L,2,FALSE))=TRUE,\"\",VLOOKUP($A540,check!$A:$L,2,FALSE))","v":""},{"$f":"IF(ISERROR(VLOOKUP($A540,check!$A:$L,3,FALSE))=TRUE,\"\",VLOOKUP($A540,check!$A:$L,3,FALSE))","v":""},{"$f":"IF(ISERROR(VLOOKUP($A540,check!$A:$L,4,FALSE))=TRUE,\"\",VLOOKUP($A540,check!$A:$L,4,FALSE))","v":""},{"$f":"IF(ISERROR(VLOOKUP($A540,check!$A:$L,5,FALSE))=TRUE,\"\",VLOOKUP($A540,check!$A:$L,5,FALSE))","v":""},{"$f":"IF(ISERROR(VLOOKUP($A540,check!$A:$L,6,FALSE))=TRUE,\"\",VLOOKUP($A540,check!$A:$L,6,FALSE))","v":""},{"$f":"IF(ISERROR(VLOOKUP($A540,check!$A:$L,7,FALSE))=TRUE,\"\",VLOOKUP($A540,check!$A:$L,7,FALSE))","v":""},{"$f":"IF(ISERROR(VLOOKUP($A540,check!$A:$L,8,FALSE))=TRUE,\"\",VLOOKUP($A540,check!$A:$L,8,FALSE))","v":""},{"$f":"IF(ISERROR(VLOOKUP($A540,check!$A:$L,9,FALSE))=TRUE,\"\",VLOOKUP($A540,check!$A:$L,9,FALSE))","v":""},{"$f":"IF(ISERROR(VLOOKUP($A540,check!$A:$L,10,FALSE))=TRUE,\"\",VLOOKUP($A540,check!$A:$L,10,FALSE))","v":""},{"$f":"IF(ISERROR(VLOOKUP($A540,check!$A:$L,11,FALSE))=TRUE,\"\",VLOOKUP($A540,check!$A:$L,11,FALSE))","v":""},{"$f":"IF(ISERROR(VLOOKUP($A540,check!$A:$L,12,FALSE))=TRUE,\"\",VLOOKUP($A540,check!$A:$L,12,FALSE))","v":""}]
[541,{"$f":"IF(C541=\"\",\"\",MATCH(A541,check!A:A,0))","v":""},{"$f":"IF(ISERROR(VLOOKUP($A541,check!$A:$L,2,FALSE))=TRUE,\"\",VLOOKUP($A541,check!$A:$L,2,FALSE))","v":""},{"$f":"IF(ISERROR(VLOOKUP($A541,check!$A:$L,3,FALSE))=TRUE,\"\",VLOOKUP($A541,check!$A:$L,3,FALSE))","v":""},{"$f":"IF(ISERROR(VLOOKUP($A541,check!$A:$L,4,FALSE))=TRUE,\"\",VLOOKUP($A541,check!$A:$L,4,FALSE))","v":""},{"$f":"IF(ISERROR(VLOOKUP($A541,check!$A:$L,5,FALSE))=TRUE,\"\",VLOOKUP($A541,check!$A:$L,5,FALSE))","v":""},{"$f":"IF(ISERROR(VLOOKUP($A541,check!$A:$L,6,FALSE))=TRUE,\"\",VLOOKUP($A541,check!$A:$L,6,FALSE))","v":""},{"$f":"IF(ISERROR(VLOOKUP($A541,check!$A:$L,7,FALSE))=TRUE,\"\",VLOOKUP($A541,check!$A:$L,7,FALSE))","v":""},{"$f":"IF(ISERROR(VLOOKUP($A541,check!$A:$L,8,FALSE))=TRUE,\"\",VLOOKUP($A541,check!$A:$L,8,FALSE))","v":""},{"$f":"IF(ISERROR(VLOOKUP($A541,check!$A:$L,9,FALSE))=TRUE,\"\",VLOOKUP($A541,check!$A:$L,9,FALSE))","v":""},{"$f":"IF(ISERROR(VLOOKUP($A541,check!$A:$L,10,FALSE))=TRUE,\"\",VLOOKUP($A541,check!$A:$L,10,FALSE))","v":""},{"$f":"IF(ISERROR(VLOOKUP($A541,check!$A:$L,11,FALSE))=TRUE,\"\",VLOOKUP($A541,check!$A:$L,11,FALSE))","v":""},{"$f":"IF(ISERROR(VLOOKUP($A541,check!$A:$L,12,FALSE))=TRUE,\"\",VLOOKUP($A541,check!$A:$L,12,FALSE))","v":""}]
[542,{"$f":"IF(C542=\"\",\"\",MATCH(A542,check!A:A,0))","v":""},{"$f":"IF(ISERROR(VLOOKUP($A542,check!$A:$L,2,FALSE))=TRUE,\"\",VLOOKUP($A542,check!$A:$L,2,FALSE))","v":""},{"$f":"IF(ISERROR(VLOOKUP($A542,check!$A:$L,3,FALSE))=TRUE,\"\",VLOOKUP($A542,check!$A:$L,3,FALSE))","v":""},{"$f":"IF(ISERROR(VLOOKUP($A542,check!$A:$L,4,FALSE))=TRUE,\"\",VLOOKUP($A542,check!$A:$L,4,FALSE))","v":""},{"$f":"IF(ISERROR(VLOOKUP($A542,check!$A:$L,5,FALSE))=TRUE,\"\",VLOOKUP($A542,check!$A:$L,5,FALSE))","v":""},{"$f":"IF(ISERROR(VLOOKUP($A542,check!$A:$L,6,FALSE))=TRUE,\"\",VLOOKUP($A542,check!$A:$L,6,FALSE))","v":""},{"$f":"IF(ISERROR(VLOOKUP($A542,check!$A:$L,7,FALSE))=TRUE,\"\",VLOOKUP($A542,check!$A:$L,7,FALSE))","v":""},{"$f":"IF(ISERROR(VLOOKUP($A542,check!$A:$L,8,FALSE))=TRUE,\"\",VLOOKUP($A542,check!$A:$L,8,FALSE))","v":""},{"$f":"IF(ISERROR(VLOOKUP($A542,check!$A:$L,9,FALSE))=TRUE,\"\",VLOOKUP($A542,check!$A:$L,9,FALSE))","v":""},{"$f":"IF(ISERROR(VLOOKUP($A542,check!$A:$L,10,FALSE))=TRUE,\"\",VLOOKUP($A542,check!$A:$L,10,FALSE))","v":""},{"$f":"IF(ISERROR(VLOOKUP($A542,check!$A:$L,11,FALSE))=TRUE,\"\",VLOOKUP($A542,check!$A:$L,11,FALSE))","v":""},{"$f":"IF(ISERROR(VLOOKUP($A542,check!$A:$L,12,FALSE))=TRUE,\"\",VLOOKUP($A542,check!$A:$L,12,FALSE))","v":""}]
[543,{"$f":"IF(C543=\"\",\"\",MATCH(A543,check!A:A,0))","v":""},{"$f":"IF(ISERROR(VLOOKUP($A543,check!$A:$L,2,FALSE))=TRUE,\"\",VLOOKUP($A543,check!$A:$L,2,FALSE))","v":""},{"$f":"IF(ISERROR(VLOOKUP($A543,check!$A:$L,3,FALSE))=TRUE,\"\",VLOOKUP($A543,check!$A:$L,3,FALSE))","v":""},{"$f":"IF(ISERROR(VLOOKUP($A543,check!$A:$L,4,FALSE))=TRUE,\"\",VLOOKUP($A543,check!$A:$L,4,FALSE))","v":""},{"$f":"IF(ISERROR(VLOOKUP($A543,check!$A:$L,5,FALSE))=TRUE,\"\",VLOOKUP($A543,check!$A:$L,5,FALSE))","v":""},{"$f":"IF(ISERROR(VLOOKUP($A543,check!$A:$L,6,FALSE))=TRUE,\"\",VLOOKUP($A543,check!$A:$L,6,FALSE))","v":""},{"$f":"IF(ISERROR(VLOOKUP($A543,check!$A:$L,7,FALSE))=TRUE,\"\",VLOOKUP($A543,check!$A:$L,7,FALSE))","v":""},{"$f":"IF(ISERROR(VLOOKUP($A543,check!$A:$L,8,FALSE))=TRUE,\"\",VLOOKUP($A543,check!$A:$L,8,FALSE))","v":""},{"$f":"IF(ISERROR(VLOOKUP($A543,check!$A:$L,9,FALSE))=TRUE,\"\",VLOOKUP($A543,check!$A:$L,9,FALSE))","v":""},{"$f":"IF(ISERROR(VLOOKUP($A543,check!$A:$L,10,FALSE))=TRUE,\"\",VLOOKUP($A543,check!$A:$L,10,FALSE))","v":""},{"$f":"IF(ISERROR(VLOOKUP($A543,check!$A:$L,11,FALSE))=TRUE,\"\",VLOOKUP($A543,check!$A:$L,11,FALSE))","v":""},{"$f":"IF(ISERROR(VLOOKUP($A543,check!$A:$L,12,FALSE))=TRUE,\"\",VLOOKUP($A543,check!$A:$L,12,FALSE))","v":""}]
[544,{"$f":"IF(C544=\"\",\"\",MATCH(A544,check!A:A,0))","v":""},{"$f":"IF(ISERROR(VLOOKUP($A544,check!$A:$L,2,FALSE))=TRUE,\"\",VLOOKUP($A544,check!$A:$L,2,FALSE))","v":""},{"$f":"IF(ISERROR(VLOOKUP($A544,check!$A:$L,3,FALSE))=TRUE,\"\",VLOOKUP($A544,check!$A:$L,3,FALSE))","v":""},{"$f":"IF(ISERROR(VLOOKUP($A544,check!$A:$L,4,FALSE))=TRUE,\"\",VLOOKUP($A544,check!$A:$L,4,FALSE))","v":""},{"$f":"IF(ISERROR(VLOOKUP($A544,check!$A:$L,5,FALSE))=TRUE,\"\",VLOOKUP($A544,check!$A:$L,5,FALSE))","v":""},{"$f":"IF(ISERROR(VLOOKUP($A544,check!$A:$L,6,FALSE))=TRUE,\"\",VLOOKUP($A544,check!$A:$L,6,FALSE))","v":""},{"$f":"IF(ISERROR(VLOOKUP($A544,check!$A:$L,7,FALSE))=TRUE,\"\",VLOOKUP($A544,check!$A:$L,7,FALSE))","v":""},{"$f":"IF(ISERROR(VLOOKUP($A544,check!$A:$L,8,FALSE))=TRUE,\"\",VLOOKUP($A544,check!$A:$L,8,FALSE))","v":""},{"$f":"IF(ISERROR(VLOOKUP($A544,check!$A:$L,9,FALSE))=TRUE,\"\",VLOOKUP($A544,check!$A:$L,9,FALSE))","v":""},{"$f":"IF(ISERROR(VLOOKUP($A544,check!$A:$L,10,FALSE))=TRUE,\"\",VLOOKUP($A544,check!$A:$L,10,FALSE))","v":""},{"$f":"IF(ISERROR(VLOOKUP($A544,check!$A:$L,11,FALSE))=TRUE,\"\",VLOOKUP($A544,check!$A:$L,11,FALSE))","v":""},{"$f":"IF(ISERROR(VLOOKUP($A544,check!$A:$L,12,FALSE))=TRUE,\"\",VLOOKUP($A544,check!$A:$L,12,FALSE))","v":""}]
[545,{"$f":"IF(C545=\"\",\"\",MATCH(A545,check!A:A,0))","v":""},{"$f":"IF(ISERROR(VLOOKUP($A545,check!$A:$L,2,FALSE))=TRUE,\"\",VLOOKUP($A545,check!$A:$L,2,FALSE))","v":""},{"$f":"IF(ISERROR(VLOOKUP($A545,check!$A:$L,3,FALSE))=TRUE,\"\",VLOOKUP($A545,check!$A:$L,3,FALSE))","v":""},{"$f":"IF(ISERROR(VLOOKUP($A545,check!$A:$L,4,FALSE))=TRUE,\"\",VLOOKUP($A545,check!$A:$L,4,FALSE))","v":""},{"$f":"IF(ISERROR(VLOOKUP($A545,check!$A:$L,5,FALSE))=TRUE,\"\",VLOOKUP($A545,check!$A:$L,5,FALSE))","v":""},{"$f":"IF(ISERROR(VLOOKUP($A545,check!$A:$L,6,FALSE))=TRUE,\"\",VLOOKUP($A545,check!$A:$L,6,FALSE))","v":""},{"$f":"IF(ISERROR(VLOOKUP($A545,check!$A:$L,7,FALSE))=TRUE,\"\",VLOOKUP($A545,check!$A:$L,7,FALSE))","v":""},{"$f":"IF(ISERROR(VLOOKUP($A545,check!$A:$L,8,FALSE))=TRUE,\"\",VLOOKUP($A545,check!$A:$L,8,FALSE))","v":""},{"$f":"IF(ISERROR(VLOOKUP($A545,check!$A:$L,9,FALSE))=TRUE,\"\",VLOOKUP($A545,check!$A:$L,9,FALSE))","v":""},{"$f":"IF(ISERROR(VLOOKUP($A545,check!$A:$L,10,FALSE))=TRUE,\"\",VLOOKUP($A545,check!$A:$L,10,FALSE))","v":""},{"$f":"IF(ISERROR(VLOOKUP($A545,check!$A:$L,11,FALSE))=TRUE,\"\",VLOOKUP($A545,check!$A:$L,11,FALSE))","v":""},{"$f":"IF(ISERROR(VLOOKUP($A545,check!$A:$L,12,FALSE))=TRUE,\"\",VLOOKUP($A545,check!$A:$L,12,FALSE))","v":""}]
[546,{"$f":"IF(C546=\"\",\"\",MATCH(A546,check!A:A,0))","v":""},{"$f":"IF(ISERROR(VLOOKUP($A546,check!$A:$L,2,FALSE))=TRUE,\"\",VLOOKUP($A546,check!$A:$L,2,FALSE))","v":""},{"$f":"IF(ISERROR(VLOOKUP($A546,check!$A:$L,3,FALSE))=TRUE,\"\",VLOOKUP($A546,check!$A:$L,3,FALSE))","v":""},{"$f":"IF(ISERROR(VLOOKUP($A546,check!$A:$L,4,FALSE))=TRUE,\"\",VLOOKUP($A546,check!$A:$L,4,FALSE))","v":""},{"$f":"IF(ISERROR(VLOOKUP($A546,check!$A:$L,5,FALSE))=TRUE,\"\",VLOOKUP($A546,check!$A:$L,5,FALSE))","v":""},{"$f":"IF(ISERROR(VLOOKUP($A546,check!$A:$L,6,FALSE))=TRUE,\"\",VLOOKUP($A546,check!$A:$L,6,FALSE))","v":""},{"$f":"IF(ISERROR(VLOOKUP($A546,check!$A:$L,7,FALSE))=TRUE,\"\",VLOOKUP($A546,check!$A:$L,7,FALSE))","v":""},{"$f":"IF(ISERROR(VLOOKUP($A546,check!$A:$L,8,FALSE))=TRUE,\"\",VLOOKUP($A546,check!$A:$L,8,FALSE))","v":""},{"$f":"IF(ISERROR(VLOOKUP($A546,check!$A:$L,9,FALSE))=TRUE,\"\",VLOOKUP($A546,check!$A:$L,9,FALSE))","v":""},{"$f":"IF(ISERROR(VLOOKUP($A546,check!$A:$L,10,FALSE))=TRUE,\"\",VLOOKUP($A546,check!$A:$L,10,FALSE))","v":""},{"$f":"IF(ISERROR(VLOOKUP($A546,check!$A:$L,11,FALSE))=TRUE,\"\",VLOOKUP($A546,check!$A:$L,11,FALSE))","v":""},{"$f":"IF(ISERROR(VLOOKUP($A546,check!$A:$L,12,FALSE))=TRUE,\"\",VLOOKUP($A546,check!$A:$L,12,FALSE))","v":""}]
[547,{"$f":"IF(C547=\"\",\"\",MATCH(A547,check!A:A,0))","v":""},{"$f":"IF(ISERROR(VLOOKUP($A547,check!$A:$L,2,FALSE))=TRUE,\"\",VLOOKUP($A547,check!$A:$L,2,FALSE))","v":""},{"$f":"IF(ISERROR(VLOOKUP($A547,check!$A:$L,3,FALSE))=TRUE,\"\",VLOOKUP($A547,check!$A:$L,3,FALSE))","v":""},{"$f":"IF(ISERROR(VLOOKUP($A547,check!$A:$L,4,FALSE))=TRUE,\"\",VLOOKUP($A547,check!$A:$L,4,FALSE))","v":""},{"$f":"IF(ISERROR(VLOOKUP($A547,check!$A:$L,5,FALSE))=TRUE,\"\",VLOOKUP($A547,check!$A:$L,5,FALSE))","v":""},{"$f":"IF(ISERROR(VLOOKUP($A547,check!$A:$L,6,FALSE))=TRUE,\"\",VLOOKUP($A547,check!$A:$L,6,FALSE))","v":""},{"$f":"IF(ISERROR(VLOOKUP($A547,check!$A:$L,7,FALSE))=TRUE,\"\",VLOOKUP($A547,check!$A:$L,7,FALSE))","v":""},{"$f":"IF(ISERROR(VLOOKUP($A547,check!$A:$L,8,FALSE))=TRUE,\"\",VLOOKUP($A547,check!$A:$L,8,FALSE))","v":""},{"$f":"IF(ISERROR(VLOOKUP($A547,check!$A:$L,9,FALSE))=TRUE,\"\",VLOOKUP($A547,check!$A:$L,9,FALSE))","v":""},{"$f":"IF(ISERROR(VLOOKUP($A547,check!$A:$L,10,FALSE))=TRUE,\"\",VLOOKUP($A547,check!$A:$L,10,FALSE))","v":""},{"$f":"IF(ISERROR(VLOOKUP($A547,check!$A:$L,11,FALSE))=TRUE,\"\",VLOOKUP($A547,check!$A:$L,11,FALSE))","v":""},{"$f":"IF(ISERROR(VLOOKUP($A547,check!$A:$L,12,FALSE))=TRUE,\"\",VLOOKUP($A547,check!$A:$L,12,FALSE))","v":""}]
[548,{"$f":"IF(C548=\"\",\"\",MATCH(A548,check!A:A,0))","v":""},{"$f":"IF(ISERROR(VLOOKUP($A548,check!$A:$L,2,FALSE))=TRUE,\"\",VLOOKUP($A548,check!$A:$L,2,FALSE))","v":""},{"$f":"IF(ISERROR(VLOOKUP($A548,check!$A:$L,3,FALSE))=TRUE,\"\",VLOOKUP($A548,check!$A:$L,3,FALSE))","v":""},{"$f":"IF(ISERROR(VLOOKUP($A548,check!$A:$L,4,FALSE))=TRUE,\"\",VLOOKUP($A548,check!$A:$L,4,FALSE))","v":""},{"$f":"IF(ISERROR(VLOOKUP($A548,check!$A:$L,5,FALSE))=TRUE,\"\",VLOOKUP($A548,check!$A:$L,5,FALSE))","v":""},{"$f":"IF(ISERROR(VLOOKUP($A548,check!$A:$L,6,FALSE))=TRUE,\"\",VLOOKUP($A548,check!$A:$L,6,FALSE))","v":""},{"$f":"IF(ISERROR(VLOOKUP($A548,check!$A:$L,7,FALSE))=TRUE,\"\",VLOOKUP($A548,check!$A:$L,7,FALSE))","v":""},{"$f":"IF(ISERROR(VLOOKUP($A548,check!$A:$L,8,FALSE))=TRUE,\"\",VLOOKUP($A548,check!$A:$L,8,FALSE))","v":""},{"$f":"IF(ISERROR(VLOOKUP($A548,check!$A:$L,9,FALSE))=TRUE,\"\",VLOOKUP($A548,check!$A:$L,9,FALSE))","v":""},{"$f":"IF(ISERROR(VLOOKUP($A548,check!$A:$L,10,FALSE))=TRUE,\"\",VLOOKUP($A548,check!$A:$L,10,FALSE))","v":""},{"$f":"IF(ISERROR(VLOOKUP($A548,check!$A:$L,11,FALSE))=TRUE,\"\",VLOOKUP($A548,check!$A:$L,11,FALSE))","v":""},{"$f":"IF(ISERROR(VLOOKUP($A548,check!$A:$L,12,FALSE))=TRUE,\"\",VLOOKUP($A548,check!$A:$L,12,FALSE))","v":""}]
[549,{"$f":"IF(C549=\"\",\"\",MATCH(A549,check!A:A,0))","v":""},{"$f":"IF(ISERROR(VLOOKUP($A549,check!$A:$L,2,FALSE))=TRUE,\"\",VLOOKUP($A549,check!$A:$L,2,FALSE))","v":""},{"$f":"IF(ISERROR(VLOOKUP($A549,check!$A:$L,3,FALSE))=TRUE,\"\",VLOOKUP($A549,check!$A:$L,3,FALSE))","v":""},{"$f":"IF(ISERROR(VLOOKUP($A549,check!$A:$L,4,FALSE))=TRUE,\"\",VLOOKUP($A549,check!$A:$L,4,FALSE))","v":""},{"$f":"IF(ISERROR(VLOOKUP($A549,check!$A:$L,5,FALSE))=TRUE,\"\",VLOOKUP($A549,check!$A:$L,5,FALSE))","v":""},{"$f":"IF(ISERROR(VLOOKUP($A549,check!$A:$L,6,FALSE))=TRUE,\"\",VLOOKUP($A549,check!$A:$L,6,FALSE))","v":""},{"$f":"IF(ISERROR(VLOOKUP($A549,check!$A:$L,7,FALSE))=TRUE,\"\",VLOOKUP($A549,check!$A:$L,7,FALSE))","v":""},{"$f":"IF(ISERROR(VLOOKUP($A549,check!$A:$L,8,FALSE))=TRUE,\"\",VLOOKUP($A549,check!$A:$L,8,FALSE))","v":""},{"$f":"IF(ISERROR(VLOOKUP($A549,check!$A:$L,9,FALSE))=TRUE,\"\",VLOOKUP($A549,check!$A:$L,9,FALSE))","v":""},{"$f":"IF(ISERROR(VLOOKUP($A549,check!$A:$L,10,FALSE))=TRUE,\"\",VLOOKUP($A549,check!$A:$L,10,FALSE))","v":""},{"$f":"IF(ISERROR(VLOOKUP($A549,check!$A:$L,11,FALSE))=TRUE,\"\",VLOOKUP($A549,check!$A:$L,11,FALSE))","v":""},{"$f":"IF(ISERROR(VLOOKUP($A549,check!$A:$L,12,FALSE))=TRUE,\"\",VLOOKUP($A549,check!$A:$L,12,FALSE))","v":""}]
[550,{"$f":"IF(C550=\"\",\"\",MATCH(A550,check!A:A,0))","v":""},{"$f":"IF(ISERROR(VLOOKUP($A550,check!$A:$L,2,FALSE))=TRUE,\"\",VLOOKUP($A550,check!$A:$L,2,FALSE))","v":""},{"$f":"IF(ISERROR(VLOOKUP($A550,check!$A:$L,3,FALSE))=TRUE,\"\",VLOOKUP($A550,check!$A:$L,3,FALSE))","v":""},{"$f":"IF(ISERROR(VLOOKUP($A550,check!$A:$L,4,FALSE))=TRUE,\"\",VLOOKUP($A550,check!$A:$L,4,FALSE))","v":""},{"$f":"IF(ISERROR(VLOOKUP($A550,check!$A:$L,5,FALSE))=TRUE,\"\",VLOOKUP($A550,check!$A:$L,5,FALSE))","v":""},{"$f":"IF(ISERROR(VLOOKUP($A550,check!$A:$L,6,FALSE))=TRUE,\"\",VLOOKUP($A550,check!$A:$L,6,FALSE))","v":""},{"$f":"IF(ISERROR(VLOOKUP($A550,check!$A:$L,7,FALSE))=TRUE,\"\",VLOOKUP($A550,check!$A:$L,7,FALSE))","v":""},{"$f":"IF(ISERROR(VLOOKUP($A550,check!$A:$L,8,FALSE))=TRUE,\"\",VLOOKUP($A550,check!$A:$L,8,FALSE))","v":""},{"$f":"IF(ISERROR(VLOOKUP($A550,check!$A:$L,9,FALSE))=TRUE,\"\",VLOOKUP($A550,check!$A:$L,9,FALSE))","v":""},{"$f":"IF(ISERROR(VLOOKUP($A550,check!$A:$L,10,FALSE))=TRUE,\"\",VLOOKUP($A550,check!$A:$L,10,FALSE))","v":""},{"$f":"IF(ISERROR(VLOOKUP($A550,check!$A:$L,11,FALSE))=TRUE,\"\",VLOOKUP($A550,check!$A:$L,11,FALSE))","v":""},{"$f":"IF(ISERROR(VLOOKUP($A550,check!$A:$L,12,FALSE))=TRUE,\"\",VLOOKUP($A550,check!$A:$L,12,FALSE))","v":""}]
[551,{"$f":"IF(C551=\"\",\"\",MATCH(A551,check!A:A,0))","v":""},{"$f":"IF(ISERROR(VLOOKUP($A551,check!$A:$L,2,FALSE))=TRUE,\"\",VLOOKUP($A551,check!$A:$L,2,FALSE))","v":""},{"$f":"IF(ISERROR(VLOOKUP($A551,check!$A:$L,3,FALSE))=TRUE,\"\",VLOOKUP($A551,check!$A:$L,3,FALSE))","v":""},{"$f":"IF(ISERROR(VLOOKUP($A551,check!$A:$L,4,FALSE))=TRUE,\"\",VLOOKUP($A551,check!$A:$L,4,FALSE))","v":""},{"$f":"IF(ISERROR(VLOOKUP($A551,check!$A:$L,5,FALSE))=TRUE,\"\",VLOOKUP($A551,check!$A:$L,5,FALSE))","v":""},{"$f":"IF(ISERROR(VLOOKUP($A551,check!$A:$L,6,FALSE))=TRUE,\"\",VLOOKUP($A551,check!$A:$L,6,FALSE))","v":""},{"$f":"IF(ISERROR(VLOOKUP($A551,check!$A:$L,7,FALSE))=TRUE,\"\",VLOOKUP($A551,check!$A:$L,7,FALSE))","v":""},{"$f":"IF(ISERROR(VLOOKUP($A551,check!$A:$L,8,FALSE))=TRUE,\"\",VLOOKUP($A551,check!$A:$L,8,FALSE))","v":""},{"$f":"IF(ISERROR(VLOOKUP($A551,check!$A:$L,9,FALSE))=TRUE,\"\",VLOOKUP($A551,check!$A:$L,9,FALSE))","v":""},{"$f":"IF(ISERROR(VLOOKUP($A551,check!$A:$L,10,FALSE))=TRUE,\"\",VLOOKUP($A551,check!$A:$L,10,FALSE))","v":""},{"$f":"IF(ISERROR(VLOOKUP($A551,check!$A:$L,11,FALSE))=TRUE,\"\",VLOOKUP($A551,check!$A:$L,11,FALSE))","v":""},{"$f":"IF(ISERROR(VLOOKUP($A551,check!$A:$L,12,FALSE))=TRUE,\"\",VLOOKUP($A551,check!$A:$L,12,FALSE))","v":""}]
[552,{"$f":"IF(C552=\"\",\"\",MATCH(A552,check!A:A,0))","v":""},{"$f":"IF(ISERROR(VLOOKUP($A552,check!$A:$L,2,FALSE))=TRUE,\"\",VLOOKUP($A552,check!$A:$L,2,FALSE))","v":""},{"$f":"IF(ISERROR(VLOOKUP($A552,check!$A:$L,3,FALSE))=TRUE,\"\",VLOOKUP($A552,check!$A:$L,3,FALSE))","v":""},{"$f":"IF(ISERROR(VLOOKUP($A552,check!$A:$L,4,FALSE))=TRUE,\"\",VLOOKUP($A552,check!$A:$L,4,FALSE))","v":""},{"$f":"IF(ISERROR(VLOOKUP($A552,check!$A:$L,5,FALSE))=TRUE,\"\",VLOOKUP($A552,check!$A:$L,5,FALSE))","v":""},{"$f":"IF(ISERROR(VLOOKUP($A552,check!$A:$L,6,FALSE))=TRUE,\"\",VLOOKUP($A552,check!$A:$L,6,FALSE))","v":""},{"$f":"IF(ISERROR(VLOOKUP($A552,check!$A:$L,7,FALSE))=TRUE,\"\",VLOOKUP($A552,check!$A:$L,7,FALSE))","v":""},{"$f":"IF(ISERROR(VLOOKUP($A552,check!$A:$L,8,FALSE))=TRUE,\"\",VLOOKUP($A552,check!$A:$L,8,FALSE))","v":""},{"$f":"IF(ISERROR(VLOOKUP($A552,check!$A:$L,9,FALSE))=TRUE,\"\",VLOOKUP($A552,check!$A:$L,9,FALSE))","v":""},{"$f":"IF(ISERROR(VLOOKUP($A552,check!$A:$L,10,FALSE))=TRUE,\"\",VLOOKUP($A552,check!$A:$L,10,FALSE))","v":""},{"$f":"IF(ISERROR(VLOOKUP($A552,check!$A:$L,11,FALSE))=TRUE,\"\",VLOOKUP($A552,check!$A:$L,11,FALSE))","v":""},{"$f":"IF(ISERROR(VLOOKUP($A552,check!$A:$L,12,FALSE))=TRUE,\"\",VLOOKUP($A552,check!$A:$L,12,FALSE))","v":""}]
[553,{"$f":"IF(C553=\"\",\"\",MATCH(A553,check!A:A,0))","v":""},{"$f":"IF(ISERROR(VLOOKUP($A553,check!$A:$L,2,FALSE))=TRUE,\"\",VLOOKUP($A553,check!$A:$L,2,FALSE))","v":""},{"$f":"IF(ISERROR(VLOOKUP($A553,check!$A:$L,3,FALSE))=TRUE,\"\",VLOOKUP($A553,check!$A:$L,3,FALSE))","v":""},{"$f":"IF(ISERROR(VLOOKUP($A553,check!$A:$L,4,FALSE))=TRUE,\"\",VLOOKUP($A553,check!$A:$L,4,FALSE))","v":""},{"$f":"IF(ISERROR(VLOOKUP($A553,check!$A:$L,5,FALSE))=TRUE,\"\",VLOOKUP($A553,check!$A:$L,5,FALSE))","v":""},{"$f":"IF(ISERROR(VLOOKUP($A553,check!$A:$L,6,FALSE))=TRUE,\"\",VLOOKUP($A553,check!$A:$L,6,FALSE))","v":""},{"$f":"IF(ISERROR(VLOOKUP($A553,check!$A:$L,7,FALSE))=TRUE,\"\",VLOOKUP($A553,check!$A:$L,7,FALSE))","v":""},{"$f":"IF(ISERROR(VLOOKUP($A553,check!$A:$L,8,FALSE))=TRUE,\"\",VLOOKUP($A553,check!$A:$L,8,FALSE))","v":""},{"$f":"IF(ISERROR(VLOOKUP($A553,check!$A:$L,9,FALSE))=TRUE,\"\",VLOOKUP($A553,check!$A:$L,9,FALSE))","v":""},{"$f":"IF(ISERROR(VLOOKUP($A553,check!$A:$L,10,FALSE))=TRUE,\"\",VLOOKUP($A553,check!$A:$L,10,FALSE))","v":""},{"$f":"IF(ISERROR(VLOOKUP($A553,check!$A:$L,11,FALSE))=TRUE,\"\",VLOOKUP($A553,check!$A:$L,11,FALSE))","v":""},{"$f":"IF(ISERROR(VLOOKUP($A553,check!$A:$L,12,FALSE))=TRUE,\"\",VLOOKUP($A553,check!$A:$L,12,FALSE))","v":""}]
[554,{"$f":"IF(C554=\"\",\"\",MATCH(A554,check!A:A,0))","v":""},{"$f":"IF(ISERROR(VLOOKUP($A554,check!$A:$L,2,FALSE))=TRUE,\"\",VLOOKUP($A554,check!$A:$L,2,FALSE))","v":""},{"$f":"IF(ISERROR(VLOOKUP($A554,check!$A:$L,3,FALSE))=TRUE,\"\",VLOOKUP($A554,check!$A:$L,3,FALSE))","v":""},{"$f":"IF(ISERROR(VLOOKUP($A554,check!$A:$L,4,FALSE))=TRUE,\"\",VLOOKUP($A554,check!$A:$L,4,FALSE))","v":""},{"$f":"IF(ISERROR(VLOOKUP($A554,check!$A:$L,5,FALSE))=TRUE,\"\",VLOOKUP($A554,check!$A:$L,5,FALSE))","v":""},{"$f":"IF(ISERROR(VLOOKUP($A554,check!$A:$L,6,FALSE))=TRUE,\"\",VLOOKUP($A554,check!$A:$L,6,FALSE))","v":""},{"$f":"IF(ISERROR(VLOOKUP($A554,check!$A:$L,7,FALSE))=TRUE,\"\",VLOOKUP($A554,check!$A:$L,7,FALSE))","v":""},{"$f":"IF(ISERROR(VLOOKUP($A554,check!$A:$L,8,FALSE))=TRUE,\"\",VLOOKUP($A554,check!$A:$L,8,FALSE))","v":""},{"$f":"IF(ISERROR(VLOOKUP($A554,check!$A:$L,9,FALSE))=TRUE,\"\",VLOOKUP($A554,check!$A:$L,9,FALSE))","v":""},{"$f":"IF(ISERROR(VLOOKUP($A554,check!$A:$L,10,FALSE))=TRUE,\"\",VLOOKUP($A554,check!$A:$L,10,FALSE))","v":""},{"$f":"IF(ISERROR(VLOOKUP($A554,check!$A:$L,11,FALSE))=TRUE,\"\",VLOOKUP($A554,check!$A:$L,11,FALSE))","v":""},{"$f":"IF(ISERROR(VLOOKUP($A554,check!$A:$L,12,FALSE))=TRUE,\"\",VLOOKUP($A554,check!$A:$L,12,FALSE))","v":""}]
[555,{"$f":"IF(C555=\"\",\"\",MATCH(A555,check!A:A,0))","v":""},{"$f":"IF(ISERROR(VLOOKUP($A555,check!$A:$L,2,FALSE))=TRUE,\"\",VLOOKUP($A555,check!$A:$L,2,FALSE))","v":""},{"$f":"IF(ISERROR(VLOOKUP($A555,check!$A:$L,3,FALSE))=TRUE,\"\",VLOOKUP($A555,check!$A:$L,3,FALSE))","v":""},{"$f":"IF(ISERROR(VLOOKUP($A555,check!$A:$L,4,FALSE))=TRUE,\"\",VLOOKUP($A555,check!$A:$L,4,FALSE))","v":""},{"$f":"IF(ISERROR(VLOOKUP($A555,check!$A:$L,5,FALSE))=TRUE,\"\",VLOOKUP($A555,check!$A:$L,5,FALSE))","v":""},{"$f":"IF(ISERROR(VLOOKUP($A555,check!$A:$L,6,FALSE))=TRUE,\"\",VLOOKUP($A555,check!$A:$L,6,FALSE))","v":""},{"$f":"IF(ISERROR(VLOOKUP($A555,check!$A:$L,7,FALSE))=TRUE,\"\",VLOOKUP($A555,check!$A:$L,7,FALSE))","v":""},{"$f":"IF(ISERROR(VLOOKUP($A555,check!$A:$L,8,FALSE))=TRUE,\"\",VLOOKUP($A555,check!$A:$L,8,FALSE))","v":""},{"$f":"IF(ISERROR(VLOOKUP($A555,check!$A:$L,9,FALSE))=TRUE,\"\",VLOOKUP($A555,check!$A:$L,9,FALSE))","v":""},{"$f":"IF(ISERROR(VLOOKUP($A555,check!$A:$L,10,FALSE))=TRUE,\"\",VLOOKUP($A555,check!$A:$L,10,FALSE))","v":""},{"$f":"IF(ISERROR(VLOOKUP($A555,check!$A:$L,11,FALSE))=TRUE,\"\",VLOOKUP($A555,check!$A:$L,11,FALSE))","v":""},{"$f":"IF(ISERROR(VLOOKUP($A555,check!$A:$L,12,FALSE))=TRUE,\"\",VLOOKUP($A555,check!$A:$L,12,FALSE))","v":""}]
[556,{"$f":"IF(C556=\"\",\"\",MATCH(A556,check!A:A,0))","v":""},{"$f":"IF(ISERROR(VLOOKUP($A556,check!$A:$L,2,FALSE))=TRUE,\"\",VLOOKUP($A556,check!$A:$L,2,FALSE))","v":""},{"$f":"IF(ISERROR(VLOOKUP($A556,check!$A:$L,3,FALSE))=TRUE,\"\",VLOOKUP($A556,check!$A:$L,3,FALSE))","v":""},{"$f":"IF(ISERROR(VLOOKUP($A556,check!$A:$L,4,FALSE))=TRUE,\"\",VLOOKUP($A556,check!$A:$L,4,FALSE))","v":""},{"$f":"IF(ISERROR(VLOOKUP($A556,check!$A:$L,5,FALSE))=TRUE,\"\",VLOOKUP($A556,check!$A:$L,5,FALSE))","v":""},{"$f":"IF(ISERROR(VLOOKUP($A556,check!$A:$L,6,FALSE))=TRUE,\"\",VLOOKUP($A556,check!$A:$L,6,FALSE))","v":""},{"$f":"IF(ISERROR(VLOOKUP($A556,check!$A:$L,7,FALSE))=TRUE,\"\",VLOOKUP($A556,check!$A:$L,7,FALSE))","v":""},{"$f":"IF(ISERROR(VLOOKUP($A556,check!$A:$L,8,FALSE))=TRUE,\"\",VLOOKUP($A556,check!$A:$L,8,FALSE))","v":""},{"$f":"IF(ISERROR(VLOOKUP($A556,check!$A:$L,9,FALSE))=TRUE,\"\",VLOOKUP($A556,check!$A:$L,9,FALSE))","v":""},{"$f":"IF(ISERROR(VLOOKUP($A556,check!$A:$L,10,FALSE))=TRUE,\"\",VLOOKUP($A556,check!$A:$L,10,FALSE))","v":""},{"$f":"IF(ISERROR(VLOOKUP($A556,check!$A:$L,11,FALSE))=TRUE,\"\",VLOOKUP($A556,check!$A:$L,11,FALSE))","v":""},{"$f":"IF(ISERROR(VLOOKUP($A556,check!$A:$L,12,FALSE))=TRUE,\"\",VLOOKUP($A556,check!$A:$L,12,FALSE))","v":""}]
[557,{"$f":"IF(C557=\"\",\"\",MATCH(A557,check!A:A,0))","v":""},{"$f":"IF(ISERROR(VLOOKUP($A557,check!$A:$L,2,FALSE))=TRUE,\"\",VLOOKUP($A557,check!$A:$L,2,FALSE))","v":""},{"$f":"IF(ISERROR(VLOOKUP($A557,check!$A:$L,3,FALSE))=TRUE,\"\",VLOOKUP($A557,check!$A:$L,3,FALSE))","v":""},{"$f":"IF(ISERROR(VLOOKUP($A557,check!$A:$L,4,FALSE))=TRUE,\"\",VLOOKUP($A557,check!$A:$L,4,FALSE))","v":""},{"$f":"IF(ISERROR(VLOOKUP($A557,check!$A:$L,5,FALSE))=TRUE,\"\",VLOOKUP($A557,check!$A:$L,5,FALSE))","v":""},{"$f":"IF(ISERROR(VLOOKUP($A557,check!$A:$L,6,FALSE))=TRUE,\"\",VLOOKUP($A557,check!$A:$L,6,FALSE))","v":""},{"$f":"IF(ISERROR(VLOOKUP($A557,check!$A:$L,7,FALSE))=TRUE,\"\",VLOOKUP($A557,check!$A:$L,7,FALSE))","v":""},{"$f":"IF(ISERROR(VLOOKUP($A557,check!$A:$L,8,FALSE))=TRUE,\"\",VLOOKUP($A557,check!$A:$L,8,FALSE))","v":""},{"$f":"IF(ISERROR(VLOOKUP($A557,check!$A:$L,9,FALSE))=TRUE,\"\",VLOOKUP($A557,check!$A:$L,9,FALSE))","v":""},{"$f":"IF(ISERROR(VLOOKUP($A557,check!$A:$L,10,FALSE))=TRUE,\"\",VLOOKUP($A557,check!$A:$L,10,FALSE))","v":""},{"$f":"IF(ISERROR(VLOOKUP($A557,check!$A:$L,11,FALSE))=TRUE,\"\",VLOOKUP($A557,check!$A:$L,11,FALSE))","v":""},{"$f":"IF(ISERROR(VLOOKUP($A557,check!$A:$L,12,FALSE))=TRUE,\"\",VLOOKUP($A557,check!$A:$L,12,FALSE))","v":""}]
[558,{"$f":"IF(C558=\"\",\"\",MATCH(A558,check!A:A,0))","v":""},{"$f":"IF(ISERROR(VLOOKUP($A558,check!$A:$L,2,FALSE))=TRUE,\"\",VLOOKUP($A558,check!$A:$L,2,FALSE))","v":""},{"$f":"IF(ISERROR(VLOOKUP($A558,check!$A:$L,3,FALSE))=TRUE,\"\",VLOOKUP($A558,check!$A:$L,3,FALSE))","v":""},{"$f":"IF(ISERROR(VLOOKUP($A558,check!$A:$L,4,FALSE))=TRUE,\"\",VLOOKUP($A558,check!$A:$L,4,FALSE))","v":""},{"$f":"IF(ISERROR(VLOOKUP($A558,check!$A:$L,5,FALSE))=TRUE,\"\",VLOOKUP($A558,check!$A:$L,5,FALSE))","v":""},{"$f":"IF(ISERROR(VLOOKUP($A558,check!$A:$L,6,FALSE))=TRUE,\"\",VLOOKUP($A558,check!$A:$L,6,FALSE))","v":""},{"$f":"IF(ISERROR(VLOOKUP($A558,check!$A:$L,7,FALSE))=TRUE,\"\",VLOOKUP($A558,check!$A:$L,7,FALSE))","v":""},{"$f":"IF(ISERROR(VLOOKUP($A558,check!$A:$L,8,FALSE))=TRUE,\"\",VLOOKUP($A558,check!$A:$L,8,FALSE))","v":""},{"$f":"IF(ISERROR(VLOOKUP($A558,check!$A:$L,9,FALSE))=TRUE,\"\",VLOOKUP($A558,check!$A:$L,9,FALSE))","v":""},{"$f":"IF(ISERROR(VLOOKUP($A558,check!$A:$L,10,FALSE))=TRUE,\"\",VLOOKUP($A558,check!$A:$L,10,FALSE))","v":""},{"$f":"IF(ISERROR(VLOOKUP($A558,check!$A:$L,11,FALSE))=TRUE,\"\",VLOOKUP($A558,check!$A:$L,11,FALSE))","v":""},{"$f":"IF(ISERROR(VLOOKUP($A558,check!$A:$L,12,FALSE))=TRUE,\"\",VLOOKUP($A558,check!$A:$L,12,FALSE))","v":""}]
[559,{"$f":"IF(C559=\"\",\"\",MATCH(A559,check!A:A,0))","v":""},{"$f":"IF(ISERROR(VLOOKUP($A559,check!$A:$L,2,FALSE))=TRUE,\"\",VLOOKUP($A559,check!$A:$L,2,FALSE))","v":""},{"$f":"IF(ISERROR(VLOOKUP($A559,check!$A:$L,3,FALSE))=TRUE,\"\",VLOOKUP($A559,check!$A:$L,3,FALSE))","v":""},{"$f":"IF(ISERROR(VLOOKUP($A559,check!$A:$L,4,FALSE))=TRUE,\"\",VLOOKUP($A559,check!$A:$L,4,FALSE))","v":""},{"$f":"IF(ISERROR(VLOOKUP($A559,check!$A:$L,5,FALSE))=TRUE,\"\",VLOOKUP($A559,check!$A:$L,5,FALSE))","v":""},{"$f":"IF(ISERROR(VLOOKUP($A559,check!$A:$L,6,FALSE))=TRUE,\"\",VLOOKUP($A559,check!$A:$L,6,FALSE))","v":""},{"$f":"IF(ISERROR(VLOOKUP($A559,check!$A:$L,7,FALSE))=TRUE,\"\",VLOOKUP($A559,check!$A:$L,7,FALSE))","v":""},{"$f":"IF(ISERROR(VLOOKUP($A559,check!$A:$L,8,FALSE))=TRUE,\"\",VLOOKUP($A559,check!$A:$L,8,FALSE))","v":""},{"$f":"IF(ISERROR(VLOOKUP($A559,check!$A:$L,9,FALSE))=TRUE,\"\",VLOOKUP($A559,check!$A:$L,9,FALSE))","v":""},{"$f":"IF(ISERROR(VLOOKUP($A559,check!$A:$L,10,FALSE))=TRUE,\"\",VLOOKUP($A559,check!$A:$L,10,FALSE))","v":""},{"$f":"IF(ISERROR(VLOOKUP($A559,check!$A:$L,11,FALSE))=TRUE,\"\",VLOOKUP($A559,check!$A:$L,11,FALSE))","v":""},{"$f":"IF(ISERROR(VLOOKUP($A559,check!$A:$L,12,FALSE))=TRUE,\"\",VLOOKUP($A559,check!$A:$L,12,FALSE))","v":""}]
[560,{"$f":"IF(C560=\"\",\"\",MATCH(A560,check!A:A,0))","v":""},{"$f":"IF(ISERROR(VLOOKUP($A560,check!$A:$L,2,FALSE))=TRUE,\"\",VLOOKUP($A560,check!$A:$L,2,FALSE))","v":""},{"$f":"IF(ISERROR(VLOOKUP($A560,check!$A:$L,3,FALSE))=TRUE,\"\",VLOOKUP($A560,check!$A:$L,3,FALSE))","v":""},{"$f":"IF(ISERROR(VLOOKUP($A560,check!$A:$L,4,FALSE))=TRUE,\"\",VLOOKUP($A560,check!$A:$L,4,FALSE))","v":""},{"$f":"IF(ISERROR(VLOOKUP($A560,check!$A:$L,5,FALSE))=TRUE,\"\",VLOOKUP($A560,check!$A:$L,5,FALSE))","v":""},{"$f":"IF(ISERROR(VLOOKUP($A560,check!$A:$L,6,FALSE))=TRUE,\"\",VLOOKUP($A560,check!$A:$L,6,FALSE))","v":""},{"$f":"IF(ISERROR(VLOOKUP($A560,check!$A:$L,7,FALSE))=TRUE,\"\",VLOOKUP($A560,check!$A:$L,7,FALSE))","v":""},{"$f":"IF(ISERROR(VLOOKUP($A560,check!$A:$L,8,FALSE))=TRUE,\"\",VLOOKUP($A560,check!$A:$L,8,FALSE))","v":""},{"$f":"IF(ISERROR(VLOOKUP($A560,check!$A:$L,9,FALSE))=TRUE,\"\",VLOOKUP($A560,check!$A:$L,9,FALSE))","v":""},{"$f":"IF(ISERROR(VLOOKUP($A560,check!$A:$L,10,FALSE))=TRUE,\"\",VLOOKUP($A560,check!$A:$L,10,FALSE))","v":""},{"$f":"IF(ISERROR(VLOOKUP($A560,check!$A:$L,11,FALSE))=TRUE,\"\",VLOOKUP($A560,check!$A:$L,11,FALSE))","v":""},{"$f":"IF(ISERROR(VLOOKUP($A560,check!$A:$L,12,FALSE))=TRUE,\"\",VLOOKUP($A560,check!$A:$L,12,FALSE))","v":""}]
[561,{"$f":"IF(C561=\"\",\"\",MATCH(A561,check!A:A,0))","v":""},{"$f":"IF(ISERROR(VLOOKUP($A561,check!$A:$L,2,FALSE))=TRUE,\"\",VLOOKUP($A561,check!$A:$L,2,FALSE))","v":""},{"$f":"IF(ISERROR(VLOOKUP($A561,check!$A:$L,3,FALSE))=TRUE,\"\",VLOOKUP($A561,check!$A:$L,3,FALSE))","v":""},{"$f":"IF(ISERROR(VLOOKUP($A561,check!$A:$L,4,FALSE))=TRUE,\"\",VLOOKUP($A561,check!$A:$L,4,FALSE))","v":""},{"$f":"IF(ISERROR(VLOOKUP($A561,check!$A:$L,5,FALSE))=TRUE,\"\",VLOOKUP($A561,check!$A:$L,5,FALSE))","v":""},{"$f":"IF(ISERROR(VLOOKUP($A561,check!$A:$L,6,FALSE))=TRUE,\"\",VLOOKUP($A561,check!$A:$L,6,FALSE))","v":""},{"$f":"IF(ISERROR(VLOOKUP($A561,check!$A:$L,7,FALSE))=TRUE,\"\",VLOOKUP($A561,check!$A:$L,7,FALSE))","v":""},{"$f":"IF(ISERROR(VLOOKUP($A561,check!$A:$L,8,FALSE))=TRUE,\"\",VLOOKUP($A561,check!$A:$L,8,FALSE))","v":""},{"$f":"IF(ISERROR(VLOOKUP($A561,check!$A:$L,9,FALSE))=TRUE,\"\",VLOOKUP($A561,check!$A:$L,9,FALSE))","v":""},{"$f":"IF(ISERROR(VLOOKUP($A561,check!$A:$L,10,FALSE))=TRUE,\"\",VLOOKUP($A561,check!$A:$L,10,FALSE))","v":""},{"$f":"IF(ISERROR(VLOOKUP($A561,check!$A:$L,11,FALSE))=TRUE,\"\",VLOOKUP($A561,check!$A:$L,11,FALSE))","v":""},{"$f":"IF(ISERROR(VLOOKUP($A561,check!$A:$L,12,FALSE))=TRUE,\"\",VLOOKUP($A561,check!$A:$L,12,FALSE))","v":""}]
[562,{"$f":"IF(C562=\"\",\"\",MATCH(A562,check!A:A,0))","v":""},{"$f":"IF(ISERROR(VLOOKUP($A562,check!$A:$L,2,FALSE))=TRUE,\"\",VLOOKUP($A562,check!$A:$L,2,FALSE))","v":""},{"$f":"IF(ISERROR(VLOOKUP($A562,check!$A:$L,3,FALSE))=TRUE,\"\",VLOOKUP($A562,check!$A:$L,3,FALSE))","v":""},{"$f":"IF(ISERROR(VLOOKUP($A562,check!$A:$L,4,FALSE))=TRUE,\"\",VLOOKUP($A562,check!$A:$L,4,FALSE))","v":""},{"$f":"IF(ISERROR(VLOOKUP($A562,check!$A:$L,5,FALSE))=TRUE,\"\",VLOOKUP($A562,check!$A:$L,5,FALSE))","v":""},{"$f":"IF(ISERROR(VLOOKUP($A562,check!$A:$L,6,FALSE))=TRUE,\"\",VLOOKUP($A562,check!$A:$L,6,FALSE))","v":""},{"$f":"IF(ISERROR(VLOOKUP($A562,check!$A:$L,7,FALSE))=TRUE,\"\",VLOOKUP($A562,check!$A:$L,7,FALSE))","v":""},{"$f":"IF(ISERROR(VLOOKUP($A562,check!$A:$L,8,FALSE))=TRUE,\"\",VLOOKUP($A562,check!$A:$L,8,FALSE))","v":""},{"$f":"IF(ISERROR(VLOOKUP($A562,check!$A:$L,9,FALSE))=TRUE,\"\",VLOOKUP($A562,check!$A:$L,9,FALSE))","v":""},{"$f":"IF(ISERROR(VLOOKUP($A562,check!$A:$L,10,FALSE))=TRUE,\"\",VLOOKUP($A562,check!$A:$L,10,FALSE))","v":""},{"$f":"IF(ISERROR(VLOOKUP($A562,check!$A:$L,11,FALSE))=TRUE,\"\",VLOOKUP($A562,check!$A:$L,11,FALSE))","v":""},{"$f":"IF(ISERROR(VLOOKUP($A562,check!$A:$L,12,FALSE))=TRUE,\"\",VLOOKUP($A562,check!$A:$L,12,FALSE))","v":""}]
[563,{"$f":"IF(C563=\"\",\"\",MATCH(A563,check!A:A,0))","v":""},{"$f":"IF(ISERROR(VLOOKUP($A563,check!$A:$L,2,FALSE))=TRUE,\"\",VLOOKUP($A563,check!$A:$L,2,FALSE))","v":""},{"$f":"IF(ISERROR(VLOOKUP($A563,check!$A:$L,3,FALSE))=TRUE,\"\",VLOOKUP($A563,check!$A:$L,3,FALSE))","v":""},{"$f":"IF(ISERROR(VLOOKUP($A563,check!$A:$L,4,FALSE))=TRUE,\"\",VLOOKUP($A563,check!$A:$L,4,FALSE))","v":""},{"$f":"IF(ISERROR(VLOOKUP($A563,check!$A:$L,5,FALSE))=TRUE,\"\",VLOOKUP($A563,check!$A:$L,5,FALSE))","v":""},{"$f":"IF(ISERROR(VLOOKUP($A563,check!$A:$L,6,FALSE))=TRUE,\"\",VLOOKUP($A563,check!$A:$L,6,FALSE))","v":""},{"$f":"IF(ISERROR(VLOOKUP($A563,check!$A:$L,7,FALSE))=TRUE,\"\",VLOOKUP($A563,check!$A:$L,7,FALSE))","v":""},{"$f":"IF(ISERROR(VLOOKUP($A563,check!$A:$L,8,FALSE))=TRUE,\"\",VLOOKUP($A563,check!$A:$L,8,FALSE))","v":""},{"$f":"IF(ISERROR(VLOOKUP($A563,check!$A:$L,9,FALSE))=TRUE,\"\",VLOOKUP($A563,check!$A:$L,9,FALSE))","v":""},{"$f":"IF(ISERROR(VLOOKUP($A563,check!$A:$L,10,FALSE))=TRUE,\"\",VLOOKUP($A563,check!$A:$L,10,FALSE))","v":""},{"$f":"IF(ISERROR(VLOOKUP($A563,check!$A:$L,11,FALSE))=TRUE,\"\",VLOOKUP($A563,check!$A:$L,11,FALSE))","v":""},{"$f":"IF(ISERROR(VLOOKUP($A563,check!$A:$L,12,FALSE))=TRUE,\"\",VLOOKUP($A563,check!$A:$L,12,FALSE))","v":""}]
[564,{"$f":"IF(C564=\"\",\"\",MATCH(A564,check!A:A,0))","v":""},{"$f":"IF(ISERROR(VLOOKUP($A564,check!$A:$L,2,FALSE))=TRUE,\"\",VLOOKUP($A564,check!$A:$L,2,FALSE))","v":""},{"$f":"IF(ISERROR(VLOOKUP($A564,check!$A:$L,3,FALSE))=TRUE,\"\",VLOOKUP($A564,check!$A:$L,3,FALSE))","v":""},{"$f":"IF(ISERROR(VLOOKUP($A564,check!$A:$L,4,FALSE))=TRUE,\"\",VLOOKUP($A564,check!$A:$L,4,FALSE))","v":""},{"$f":"IF(ISERROR(VLOOKUP($A564,check!$A:$L,5,FALSE))=TRUE,\"\",VLOOKUP($A564,check!$A:$L,5,FALSE))","v":""},{"$f":"IF(ISERROR(VLOOKUP($A564,check!$A:$L,6,FALSE))=TRUE,\"\",VLOOKUP($A564,check!$A:$L,6,FALSE))","v":""},{"$f":"IF(ISERROR(VLOOKUP($A564,check!$A:$L,7,FALSE))=TRUE,\"\",VLOOKUP($A564,check!$A:$L,7,FALSE))","v":""},{"$f":"IF(ISERROR(VLOOKUP($A564,check!$A:$L,8,FALSE))=TRUE,\"\",VLOOKUP($A564,check!$A:$L,8,FALSE))","v":""},{"$f":"IF(ISERROR(VLOOKUP($A564,check!$A:$L,9,FALSE))=TRUE,\"\",VLOOKUP($A564,check!$A:$L,9,FALSE))","v":""},{"$f":"IF(ISERROR(VLOOKUP($A564,check!$A:$L,10,FALSE))=TRUE,\"\",VLOOKUP($A564,check!$A:$L,10,FALSE))","v":""},{"$f":"IF(ISERROR(VLOOKUP($A564,check!$A:$L,11,FALSE))=TRUE,\"\",VLOOKUP($A564,check!$A:$L,11,FALSE))","v":""},{"$f":"IF(ISERROR(VLOOKUP($A564,check!$A:$L,12,FALSE))=TRUE,\"\",VLOOKUP($A564,check!$A:$L,12,FALSE))","v":""}]
[565,{"$f":"IF(C565=\"\",\"\",MATCH(A565,check!A:A,0))","v":""},{"$f":"IF(ISERROR(VLOOKUP($A565,check!$A:$L,2,FALSE))=TRUE,\"\",VLOOKUP($A565,check!$A:$L,2,FALSE))","v":""},{"$f":"IF(ISERROR(VLOOKUP($A565,check!$A:$L,3,FALSE))=TRUE,\"\",VLOOKUP($A565,check!$A:$L,3,FALSE))","v":""},{"$f":"IF(ISERROR(VLOOKUP($A565,check!$A:$L,4,FALSE))=TRUE,\"\",VLOOKUP($A565,check!$A:$L,4,FALSE))","v":""},{"$f":"IF(ISERROR(VLOOKUP($A565,check!$A:$L,5,FALSE))=TRUE,\"\",VLOOKUP($A565,check!$A:$L,5,FALSE))","v":""},{"$f":"IF(ISERROR(VLOOKUP($A565,check!$A:$L,6,FALSE))=TRUE,\"\",VLOOKUP($A565,check!$A:$L,6,FALSE))","v":""},{"$f":"IF(ISERROR(VLOOKUP($A565,check!$A:$L,7,FALSE))=TRUE,\"\",VLOOKUP($A565,check!$A:$L,7,FALSE))","v":""},{"$f":"IF(ISERROR(VLOOKUP($A565,check!$A:$L,8,FALSE))=TRUE,\"\",VLOOKUP($A565,check!$A:$L,8,FALSE))","v":""},{"$f":"IF(ISERROR(VLOOKUP($A565,check!$A:$L,9,FALSE))=TRUE,\"\",VLOOKUP($A565,check!$A:$L,9,FALSE))","v":""},{"$f":"IF(ISERROR(VLOOKUP($A565,check!$A:$L,10,FALSE))=TRUE,\"\",VLOOKUP($A565,check!$A:$L,10,FALSE))","v":""},{"$f":"IF(ISERROR(VLOOKUP($A565,check!$A:$L,11,FALSE))=TRUE,\"\",VLOOKUP($A565,check!$A:$L,11,FALSE))","v":""},{"$f":"IF(ISERROR(VLOOKUP($A565,check!$A:$L,12,FALSE))=TRUE,\"\",VLOOKUP($A565,check!$A:$L,12,FALSE))","v":""}]
[566,{"$f":"IF(C566=\"\",\"\",MATCH(A566,check!A:A,0))","v":""},{"$f":"IF(ISERROR(VLOOKUP($A566,check!$A:$L,2,FALSE))=TRUE,\"\",VLOOKUP($A566,check!$A:$L,2,FALSE))","v":""},{"$f":"IF(ISERROR(VLOOKUP($A566,check!$A:$L,3,FALSE))=TRUE,\"\",VLOOKUP($A566,check!$A:$L,3,FALSE))","v":""},{"$f":"IF(ISERROR(VLOOKUP($A566,check!$A:$L,4,FALSE))=TRUE,\"\",VLOOKUP($A566,check!$A:$L,4,FALSE))","v":""},{"$f":"IF(ISERROR(VLOOKUP($A566,check!$A:$L,5,FALSE))=TRUE,\"\",VLOOKUP($A566,check!$A:$L,5,FALSE))","v":""},{"$f":"IF(ISERROR(VLOOKUP($A566,check!$A:$L,6,FALSE))=TRUE,\"\",VLOOKUP($A566,check!$A:$L,6,FALSE))","v":""},{"$f":"IF(ISERROR(VLOOKUP($A566,check!$A:$L,7,FALSE))=TRUE,\"\",VLOOKUP($A566,check!$A:$L,7,FALSE))","v":""},{"$f":"IF(ISERROR(VLOOKUP($A566,check!$A:$L,8,FALSE))=TRUE,\"\",VLOOKUP($A566,check!$A:$L,8,FALSE))","v":""},{"$f":"IF(ISERROR(VLOOKUP($A566,check!$A:$L,9,FALSE))=TRUE,\"\",VLOOKUP($A566,check!$A:$L,9,FALSE))","v":""},{"$f":"IF(ISERROR(VLOOKUP($A566,check!$A:$L,10,FALSE))=TRUE,\"\",VLOOKUP($A566,check!$A:$L,10,FALSE))","v":""},{"$f":"IF(ISERROR(VLOOKUP($A566,check!$A:$L,11,FALSE))=TRUE,\"\",VLOOKUP($A566,check!$A:$L,11,FALSE))","v":""},{"$f":"IF(ISERROR(VLOOKUP($A566,check!$A:$L,12,FALSE))=TRUE,\"\",VLOOKUP($A566,check!$A:$L,12,FALSE))","v":""}]
[567,{"$f":"IF(C567=\"\",\"\",MATCH(A567,check!A:A,0))","v":""},{"$f":"IF(ISERROR(VLOOKUP($A567,check!$A:$L,2,FALSE))=TRUE,\"\",VLOOKUP($A567,check!$A:$L,2,FALSE))","v":""},{"$f":"IF(ISERROR(VLOOKUP($A567,check!$A:$L,3,FALSE))=TRUE,\"\",VLOOKUP($A567,check!$A:$L,3,FALSE))","v":""},{"$f":"IF(ISERROR(VLOOKUP($A567,check!$A:$L,4,FALSE))=TRUE,\"\",VLOOKUP($A567,check!$A:$L,4,FALSE))","v":""},{"$f":"IF(ISERROR(VLOOKUP($A567,check!$A:$L,5,FALSE))=TRUE,\"\",VLOOKUP($A567,check!$A:$L,5,FALSE))","v":""},{"$f":"IF(ISERROR(VLOOKUP($A567,check!$A:$L,6,FALSE))=TRUE,\"\",VLOOKUP($A567,check!$A:$L,6,FALSE))","v":""},{"$f":"IF(ISERROR(VLOOKUP($A567,check!$A:$L,7,FALSE))=TRUE,\"\",VLOOKUP($A567,check!$A:$L,7,FALSE))","v":""},{"$f":"IF(ISERROR(VLOOKUP($A567,check!$A:$L,8,FALSE))=TRUE,\"\",VLOOKUP($A567,check!$A:$L,8,FALSE))","v":""},{"$f":"IF(ISERROR(VLOOKUP($A567,check!$A:$L,9,FALSE))=TRUE,\"\",VLOOKUP($A567,check!$A:$L,9,FALSE))","v":""},{"$f":"IF(ISERROR(VLOOKUP($A567,check!$A:$L,10,FALSE))=TRUE,\"\",VLOOKUP($A567,check!$A:$L,10,FALSE))","v":""},{"$f":"IF(ISERROR(VLOOKUP($A567,check!$A:$L,11,FALSE))=TRUE,\"\",VLOOKUP($A567,check!$A:$L,11,FALSE))","v":""},{"$f":"IF(ISERROR(VLOOKUP($A567,check!$A:$L,12,FALSE))=TRUE,\"\",VLOOKUP($A567,check!$A:$L,12,FALSE))","v":""}]
[568,{"$f":"IF(C568=\"\",\"\",MATCH(A568,check!A:A,0))","v":""},{"$f":"IF(ISERROR(VLOOKUP($A568,check!$A:$L,2,FALSE))=TRUE,\"\",VLOOKUP($A568,check!$A:$L,2,FALSE))","v":""},{"$f":"IF(ISERROR(VLOOKUP($A568,check!$A:$L,3,FALSE))=TRUE,\"\",VLOOKUP($A568,check!$A:$L,3,FALSE))","v":""},{"$f":"IF(ISERROR(VLOOKUP($A568,check!$A:$L,4,FALSE))=TRUE,\"\",VLOOKUP($A568,check!$A:$L,4,FALSE))","v":""},{"$f":"IF(ISERROR(VLOOKUP($A568,check!$A:$L,5,FALSE))=TRUE,\"\",VLOOKUP($A568,check!$A:$L,5,FALSE))","v":""},{"$f":"IF(ISERROR(VLOOKUP($A568,check!$A:$L,6,FALSE))=TRUE,\"\",VLOOKUP($A568,check!$A:$L,6,FALSE))","v":""},{"$f":"IF(ISERROR(VLOOKUP($A568,check!$A:$L,7,FALSE))=TRUE,\"\",VLOOKUP($A568,check!$A:$L,7,FALSE))","v":""},{"$f":"IF(ISERROR(VLOOKUP($A568,check!$A:$L,8,FALSE))=TRUE,\"\",VLOOKUP($A568,check!$A:$L,8,FALSE))","v":""},{"$f":"IF(ISERROR(VLOOKUP($A568,check!$A:$L,9,FALSE))=TRUE,\"\",VLOOKUP($A568,check!$A:$L,9,FALSE))","v":""},{"$f":"IF(ISERROR(VLOOKUP($A568,check!$A:$L,10,FALSE))=TRUE,\"\",VLOOKUP($A568,check!$A:$L,10,FALSE))","v":""},{"$f":"IF(ISERROR(VLOOKUP($A568,check!$A:$L,11,FALSE))=TRUE,\"\",VLOOKUP($A568,check!$A:$L,11,FALSE))","v":""},{"$f":"IF(ISERROR(VLOOKUP($A568,check!$A:$L,12,FALSE))=TRUE,\"\",VLOOKUP($A568,check!$A:$L,12,FALSE))","v":""}]
[569,{"$f":"IF(C569=\"\",\"\",MATCH(A569,check!A:A,0))","v":""},{"$f":"IF(ISERROR(VLOOKUP($A569,check!$A:$L,2,FALSE))=TRUE,\"\",VLOOKUP($A569,check!$A:$L,2,FALSE))","v":""},{"$f":"IF(ISERROR(VLOOKUP($A569,check!$A:$L,3,FALSE))=TRUE,\"\",VLOOKUP($A569,check!$A:$L,3,FALSE))","v":""},{"$f":"IF(ISERROR(VLOOKUP($A569,check!$A:$L,4,FALSE))=TRUE,\"\",VLOOKUP($A569,check!$A:$L,4,FALSE))","v":""},{"$f":"IF(ISERROR(VLOOKUP($A569,check!$A:$L,5,FALSE))=TRUE,\"\",VLOOKUP($A569,check!$A:$L,5,FALSE))","v":""},{"$f":"IF(ISERROR(VLOOKUP($A569,check!$A:$L,6,FALSE))=TRUE,\"\",VLOOKUP($A569,check!$A:$L,6,FALSE))","v":""},{"$f":"IF(ISERROR(VLOOKUP($A569,check!$A:$L,7,FALSE))=TRUE,\"\",VLOOKUP($A569,check!$A:$L,7,FALSE))","v":""},{"$f":"IF(ISERROR(VLOOKUP($A569,check!$A:$L,8,FALSE))=TRUE,\"\",VLOOKUP($A569,check!$A:$L,8,FALSE))","v":""},{"$f":"IF(ISERROR(VLOOKUP($A569,check!$A:$L,9,FALSE))=TRUE,\"\",VLOOKUP($A569,check!$A:$L,9,FALSE))","v":""},{"$f":"IF(ISERROR(VLOOKUP($A569,check!$A:$L,10,FALSE))=TRUE,\"\",VLOOKUP($A569,check!$A:$L,10,FALSE))","v":""},{"$f":"IF(ISERROR(VLOOKUP($A569,check!$A:$L,11,FALSE))=TRUE,\"\",VLOOKUP($A569,check!$A:$L,11,FALSE))","v":""},{"$f":"IF(ISERROR(VLOOKUP($A569,check!$A:$L,12,FALSE))=TRUE,\"\",VLOOKUP($A569,check!$A:$L,12,FALSE))","v":""}]
[570,{"$f":"IF(C570=\"\",\"\",MATCH(A570,check!A:A,0))","v":""},{"$f":"IF(ISERROR(VLOOKUP($A570,check!$A:$L,2,FALSE))=TRUE,\"\",VLOOKUP($A570,check!$A:$L,2,FALSE))","v":""},{"$f":"IF(ISERROR(VLOOKUP($A570,check!$A:$L,3,FALSE))=TRUE,\"\",VLOOKUP($A570,check!$A:$L,3,FALSE))","v":""},{"$f":"IF(ISERROR(VLOOKUP($A570,check!$A:$L,4,FALSE))=TRUE,\"\",VLOOKUP($A570,check!$A:$L,4,FALSE))","v":""},{"$f":"IF(ISERROR(VLOOKUP($A570,check!$A:$L,5,FALSE))=TRUE,\"\",VLOOKUP($A570,check!$A:$L,5,FALSE))","v":""},{"$f":"IF(ISERROR(VLOOKUP($A570,check!$A:$L,6,FALSE))=TRUE,\"\",VLOOKUP($A570,check!$A:$L,6,FALSE))","v":""},{"$f":"IF(ISERROR(VLOOKUP($A570,check!$A:$L,7,FALSE))=TRUE,\"\",VLOOKUP($A570,check!$A:$L,7,FALSE))","v":""},{"$f":"IF(ISERROR(VLOOKUP($A570,check!$A:$L,8,FALSE))=TRUE,\"\",VLOOKUP($A570,check!$A:$L,8,FALSE))","v":""},{"$f":"IF(ISERROR(VLOOKUP($A570,check!$A:$L,9,FALSE))=TRUE,\"\",VLOOKUP($A570,check!$A:$L,9,FALSE))","v":""},{"$f":"IF(ISERROR(VLOOKUP($A570,check!$A:$L,10,FALSE))=TRUE,\"\",VLOOKUP($A570,check!$A:$L,10,FALSE))","v":""},{"$f":"IF(ISERROR(VLOOKUP($A570,check!$A:$L,11,FALSE))=TRUE,\"\",VLOOKUP($A570,check!$A:$L,11,FALSE))","v":""},{"$f":"IF(ISERROR(VLOOKUP($A570,check!$A:$L,12,FALSE))=TRUE,\"\",VLOOKUP($A570,check!$A:$L,12,FALSE))","v":""}]
[571,{"$f":"IF(C571=\"\",\"\",MATCH(A571,check!A:A,0))","v":""},{"$f":"IF(ISERROR(VLOOKUP($A571,check!$A:$L,2,FALSE))=TRUE,\"\",VLOOKUP($A571,check!$A:$L,2,FALSE))","v":""},{"$f":"IF(ISERROR(VLOOKUP($A571,check!$A:$L,3,FALSE))=TRUE,\"\",VLOOKUP($A571,check!$A:$L,3,FALSE))","v":""},{"$f":"IF(ISERROR(VLOOKUP($A571,check!$A:$L,4,FALSE))=TRUE,\"\",VLOOKUP($A571,check!$A:$L,4,FALSE))","v":""},{"$f":"IF(ISERROR(VLOOKUP($A571,check!$A:$L,5,FALSE))=TRUE,\"\",VLOOKUP($A571,check!$A:$L,5,FALSE))","v":""},{"$f":"IF(ISERROR(VLOOKUP($A571,check!$A:$L,6,FALSE))=TRUE,\"\",VLOOKUP($A571,check!$A:$L,6,FALSE))","v":""},{"$f":"IF(ISERROR(VLOOKUP($A571,check!$A:$L,7,FALSE))=TRUE,\"\",VLOOKUP($A571,check!$A:$L,7,FALSE))","v":""},{"$f":"IF(ISERROR(VLOOKUP($A571,check!$A:$L,8,FALSE))=TRUE,\"\",VLOOKUP($A571,check!$A:$L,8,FALSE))","v":""},{"$f":"IF(ISERROR(VLOOKUP($A571,check!$A:$L,9,FALSE))=TRUE,\"\",VLOOKUP($A571,check!$A:$L,9,FALSE))","v":""},{"$f":"IF(ISERROR(VLOOKUP($A571,check!$A:$L,10,FALSE))=TRUE,\"\",VLOOKUP($A571,check!$A:$L,10,FALSE))","v":""},{"$f":"IF(ISERROR(VLOOKUP($A571,check!$A:$L,11,FALSE))=TRUE,\"\",VLOOKUP($A571,check!$A:$L,11,FALSE))","v":""},{"$f":"IF(ISERROR(VLOOKUP($A571,check!$A:$L,12,FALSE))=TRUE,\"\",VLOOKUP($A571,check!$A:$L,12,FALSE))","v":""}]
[572,{"$f":"IF(C572=\"\",\"\",MATCH(A572,check!A:A,0))","v":""},{"$f":"IF(ISERROR(VLOOKUP($A572,check!$A:$L,2,FALSE))=TRUE,\"\",VLOOKUP($A572,check!$A:$L,2,FALSE))","v":""},{"$f":"IF(ISERROR(VLOOKUP($A572,check!$A:$L,3,FALSE))=TRUE,\"\",VLOOKUP($A572,check!$A:$L,3,FALSE))","v":""},{"$f":"IF(ISERROR(VLOOKUP($A572,check!$A:$L,4,FALSE))=TRUE,\"\",VLOOKUP($A572,check!$A:$L,4,FALSE))","v":""},{"$f":"IF(ISERROR(VLOOKUP($A572,check!$A:$L,5,FALSE))=TRUE,\"\",VLOOKUP($A572,check!$A:$L,5,FALSE))","v":""},{"$f":"IF(ISERROR(VLOOKUP($A572,check!$A:$L,6,FALSE))=TRUE,\"\",VLOOKUP($A572,check!$A:$L,6,FALSE))","v":""},{"$f":"IF(ISERROR(VLOOKUP($A572,check!$A:$L,7,FALSE))=TRUE,\"\",VLOOKUP($A572,check!$A:$L,7,FALSE))","v":""},{"$f":"IF(ISERROR(VLOOKUP($A572,check!$A:$L,8,FALSE))=TRUE,\"\",VLOOKUP($A572,check!$A:$L,8,FALSE))","v":""},{"$f":"IF(ISERROR(VLOOKUP($A572,check!$A:$L,9,FALSE))=TRUE,\"\",VLOOKUP($A572,check!$A:$L,9,FALSE))","v":""},{"$f":"IF(ISERROR(VLOOKUP($A572,check!$A:$L,10,FALSE))=TRUE,\"\",VLOOKUP($A572,check!$A:$L,10,FALSE))","v":""},{"$f":"IF(ISERROR(VLOOKUP($A572,check!$A:$L,11,FALSE))=TRUE,\"\",VLOOKUP($A572,check!$A:$L,11,FALSE))","v":""},{"$f":"IF(ISERROR(VLOOKUP($A572,check!$A:$L,12,FALSE))=TRUE,\"\",VLOOKUP($A572,check!$A:$L,12,FALSE))","v":""}]
[573,{"$f":"IF(C573=\"\",\"\",MATCH(A573,check!A:A,0))","v":""},{"$f":"IF(ISERROR(VLOOKUP($A573,check!$A:$L,2,FALSE))=TRUE,\"\",VLOOKUP($A573,check!$A:$L,2,FALSE))","v":""},{"$f":"IF(ISERROR(VLOOKUP($A573,check!$A:$L,3,FALSE))=TRUE,\"\",VLOOKUP($A573,check!$A:$L,3,FALSE))","v":""},{"$f":"IF(ISERROR(VLOOKUP($A573,check!$A:$L,4,FALSE))=TRUE,\"\",VLOOKUP($A573,check!$A:$L,4,FALSE))","v":""},{"$f":"IF(ISERROR(VLOOKUP($A573,check!$A:$L,5,FALSE))=TRUE,\"\",VLOOKUP($A573,check!$A:$L,5,FALSE))","v":""},{"$f":"IF(ISERROR(VLOOKUP($A573,check!$A:$L,6,FALSE))=TRUE,\"\",VLOOKUP($A573,check!$A:$L,6,FALSE))","v":""},{"$f":"IF(ISERROR(VLOOKUP($A573,check!$A:$L,7,FALSE))=TRUE,\"\",VLOOKUP($A573,check!$A:$L,7,FALSE))","v":""},{"$f":"IF(ISERROR(VLOOKUP($A573,check!$A:$L,8,FALSE))=TRUE,\"\",VLOOKUP($A573,check!$A:$L,8,FALSE))","v":""},{"$f":"IF(ISERROR(VLOOKUP($A573,check!$A:$L,9,FALSE))=TRUE,\"\",VLOOKUP($A573,check!$A:$L,9,FALSE))","v":""},{"$f":"IF(ISERROR(VLOOKUP($A573,check!$A:$L,10,FALSE))=TRUE,\"\",VLOOKUP($A573,check!$A:$L,10,FALSE))","v":""},{"$f":"IF(ISERROR(VLOOKUP($A573,check!$A:$L,11,FALSE))=TRUE,\"\",VLOOKUP($A573,check!$A:$L,11,FALSE))","v":""},{"$f":"IF(ISERROR(VLOOKUP($A573,check!$A:$L,12,FALSE))=TRUE,\"\",VLOOKUP($A573,check!$A:$L,12,FALSE))","v":""}]
[574,{"$f":"IF(C574=\"\",\"\",MATCH(A574,check!A:A,0))","v":""},{"$f":"IF(ISERROR(VLOOKUP($A574,check!$A:$L,2,FALSE))=TRUE,\"\",VLOOKUP($A574,check!$A:$L,2,FALSE))","v":""},{"$f":"IF(ISERROR(VLOOKUP($A574,check!$A:$L,3,FALSE))=TRUE,\"\",VLOOKUP($A574,check!$A:$L,3,FALSE))","v":""},{"$f":"IF(ISERROR(VLOOKUP($A574,check!$A:$L,4,FALSE))=TRUE,\"\",VLOOKUP($A574,check!$A:$L,4,FALSE))","v":""},{"$f":"IF(ISERROR(VLOOKUP($A574,check!$A:$L,5,FALSE))=TRUE,\"\",VLOOKUP($A574,check!$A:$L,5,FALSE))","v":""},{"$f":"IF(ISERROR(VLOOKUP($A574,check!$A:$L,6,FALSE))=TRUE,\"\",VLOOKUP($A574,check!$A:$L,6,FALSE))","v":""},{"$f":"IF(ISERROR(VLOOKUP($A574,check!$A:$L,7,FALSE))=TRUE,\"\",VLOOKUP($A574,check!$A:$L,7,FALSE))","v":""},{"$f":"IF(ISERROR(VLOOKUP($A574,check!$A:$L,8,FALSE))=TRUE,\"\",VLOOKUP($A574,check!$A:$L,8,FALSE))","v":""},{"$f":"IF(ISERROR(VLOOKUP($A574,check!$A:$L,9,FALSE))=TRUE,\"\",VLOOKUP($A574,check!$A:$L,9,FALSE))","v":""},{"$f":"IF(ISERROR(VLOOKUP($A574,check!$A:$L,10,FALSE))=TRUE,\"\",VLOOKUP($A574,check!$A:$L,10,FALSE))","v":""},{"$f":"IF(ISERROR(VLOOKUP($A574,check!$A:$L,11,FALSE))=TRUE,\"\",VLOOKUP($A574,check!$A:$L,11,FALSE))","v":""},{"$f":"IF(ISERROR(VLOOKUP($A574,check!$A:$L,12,FALSE))=TRUE,\"\",VLOOKUP($A574,check!$A:$L,12,FALSE))","v":""}]
[575,{"$f":"IF(C575=\"\",\"\",MATCH(A575,check!A:A,0))","v":""},{"$f":"IF(ISERROR(VLOOKUP($A575,check!$A:$L,2,FALSE))=TRUE,\"\",VLOOKUP($A575,check!$A:$L,2,FALSE))","v":""},{"$f":"IF(ISERROR(VLOOKUP($A575,check!$A:$L,3,FALSE))=TRUE,\"\",VLOOKUP($A575,check!$A:$L,3,FALSE))","v":""},{"$f":"IF(ISERROR(VLOOKUP($A575,check!$A:$L,4,FALSE))=TRUE,\"\",VLOOKUP($A575,check!$A:$L,4,FALSE))","v":""},{"$f":"IF(ISERROR(VLOOKUP($A575,check!$A:$L,5,FALSE))=TRUE,\"\",VLOOKUP($A575,check!$A:$L,5,FALSE))","v":""},{"$f":"IF(ISERROR(VLOOKUP($A575,check!$A:$L,6,FALSE))=TRUE,\"\",VLOOKUP($A575,check!$A:$L,6,FALSE))","v":""},{"$f":"IF(ISERROR(VLOOKUP($A575,check!$A:$L,7,FALSE))=TRUE,\"\",VLOOKUP($A575,check!$A:$L,7,FALSE))","v":""},{"$f":"IF(ISERROR(VLOOKUP($A575,check!$A:$L,8,FALSE))=TRUE,\"\",VLOOKUP($A575,check!$A:$L,8,FALSE))","v":""},{"$f":"IF(ISERROR(VLOOKUP($A575,check!$A:$L,9,FALSE))=TRUE,\"\",VLOOKUP($A575,check!$A:$L,9,FALSE))","v":""},{"$f":"IF(ISERROR(VLOOKUP($A575,check!$A:$L,10,FALSE))=TRUE,\"\",VLOOKUP($A575,check!$A:$L,10,FALSE))","v":""},{"$f":"IF(ISERROR(VLOOKUP($A575,check!$A:$L,11,FALSE))=TRUE,\"\",VLOOKUP($A575,check!$A:$L,11,FALSE))","v":""},{"$f":"IF(ISERROR(VLOOKUP($A575,check!$A:$L,12,FALSE))=TRUE,\"\",VLOOKUP($A575,check!$A:$L,12,FALSE))","v":""}]
[576,{"$f":"IF(C576=\"\",\"\",MATCH(A576,check!A:A,0))","v":""},{"$f":"IF(ISERROR(VLOOKUP($A576,check!$A:$L,2,FALSE))=TRUE,\"\",VLOOKUP($A576,check!$A:$L,2,FALSE))","v":""},{"$f":"IF(ISERROR(VLOOKUP($A576,check!$A:$L,3,FALSE))=TRUE,\"\",VLOOKUP($A576,check!$A:$L,3,FALSE))","v":""},{"$f":"IF(ISERROR(VLOOKUP($A576,check!$A:$L,4,FALSE))=TRUE,\"\",VLOOKUP($A576,check!$A:$L,4,FALSE))","v":""},{"$f":"IF(ISERROR(VLOOKUP($A576,check!$A:$L,5,FALSE))=TRUE,\"\",VLOOKUP($A576,check!$A:$L,5,FALSE))","v":""},{"$f":"IF(ISERROR(VLOOKUP($A576,check!$A:$L,6,FALSE))=TRUE,\"\",VLOOKUP($A576,check!$A:$L,6,FALSE))","v":""},{"$f":"IF(ISERROR(VLOOKUP($A576,check!$A:$L,7,FALSE))=TRUE,\"\",VLOOKUP($A576,check!$A:$L,7,FALSE))","v":""},{"$f":"IF(ISERROR(VLOOKUP($A576,check!$A:$L,8,FALSE))=TRUE,\"\",VLOOKUP($A576,check!$A:$L,8,FALSE))","v":""},{"$f":"IF(ISERROR(VLOOKUP($A576,check!$A:$L,9,FALSE))=TRUE,\"\",VLOOKUP($A576,check!$A:$L,9,FALSE))","v":""},{"$f":"IF(ISERROR(VLOOKUP($A576,check!$A:$L,10,FALSE))=TRUE,\"\",VLOOKUP($A576,check!$A:$L,10,FALSE))","v":""},{"$f":"IF(ISERROR(VLOOKUP($A576,check!$A:$L,11,FALSE))=TRUE,\"\",VLOOKUP($A576,check!$A:$L,11,FALSE))","v":""},{"$f":"IF(ISERROR(VLOOKUP($A576,check!$A:$L,12,FALSE))=TRUE,\"\",VLOOKUP($A576,check!$A:$L,12,FALSE))","v":""}]
[577,{"$f":"IF(C577=\"\",\"\",MATCH(A577,check!A:A,0))","v":""},{"$f":"IF(ISERROR(VLOOKUP($A577,check!$A:$L,2,FALSE))=TRUE,\"\",VLOOKUP($A577,check!$A:$L,2,FALSE))","v":""},{"$f":"IF(ISERROR(VLOOKUP($A577,check!$A:$L,3,FALSE))=TRUE,\"\",VLOOKUP($A577,check!$A:$L,3,FALSE))","v":""},{"$f":"IF(ISERROR(VLOOKUP($A577,check!$A:$L,4,FALSE))=TRUE,\"\",VLOOKUP($A577,check!$A:$L,4,FALSE))","v":""},{"$f":"IF(ISERROR(VLOOKUP($A577,check!$A:$L,5,FALSE))=TRUE,\"\",VLOOKUP($A577,check!$A:$L,5,FALSE))","v":""},{"$f":"IF(ISERROR(VLOOKUP($A577,check!$A:$L,6,FALSE))=TRUE,\"\",VLOOKUP($A577,check!$A:$L,6,FALSE))","v":""},{"$f":"IF(ISERROR(VLOOKUP($A577,check!$A:$L,7,FALSE))=TRUE,\"\",VLOOKUP($A577,check!$A:$L,7,FALSE))","v":""},{"$f":"IF(ISERROR(VLOOKUP($A577,check!$A:$L,8,FALSE))=TRUE,\"\",VLOOKUP($A577,check!$A:$L,8,FALSE))","v":""},{"$f":"IF(ISERROR(VLOOKUP($A577,check!$A:$L,9,FALSE))=TRUE,\"\",VLOOKUP($A577,check!$A:$L,9,FALSE))","v":""},{"$f":"IF(ISERROR(VLOOKUP($A577,check!$A:$L,10,FALSE))=TRUE,\"\",VLOOKUP($A577,check!$A:$L,10,FALSE))","v":""},{"$f":"IF(ISERROR(VLOOKUP($A577,check!$A:$L,11,FALSE))=TRUE,\"\",VLOOKUP($A577,check!$A:$L,11,FALSE))","v":""},{"$f":"IF(ISERROR(VLOOKUP($A577,check!$A:$L,12,FALSE))=TRUE,\"\",VLOOKUP($A577,check!$A:$L,12,FALSE))","v":""}]
[578,{"$f":"IF(C578=\"\",\"\",MATCH(A578,check!A:A,0))","v":""},{"$f":"IF(ISERROR(VLOOKUP($A578,check!$A:$L,2,FALSE))=TRUE,\"\",VLOOKUP($A578,check!$A:$L,2,FALSE))","v":""},{"$f":"IF(ISERROR(VLOOKUP($A578,check!$A:$L,3,FALSE))=TRUE,\"\",VLOOKUP($A578,check!$A:$L,3,FALSE))","v":""},{"$f":"IF(ISERROR(VLOOKUP($A578,check!$A:$L,4,FALSE))=TRUE,\"\",VLOOKUP($A578,check!$A:$L,4,FALSE))","v":""},{"$f":"IF(ISERROR(VLOOKUP($A578,check!$A:$L,5,FALSE))=TRUE,\"\",VLOOKUP($A578,check!$A:$L,5,FALSE))","v":""},{"$f":"IF(ISERROR(VLOOKUP($A578,check!$A:$L,6,FALSE))=TRUE,\"\",VLOOKUP($A578,check!$A:$L,6,FALSE))","v":""},{"$f":"IF(ISERROR(VLOOKUP($A578,check!$A:$L,7,FALSE))=TRUE,\"\",VLOOKUP($A578,check!$A:$L,7,FALSE))","v":""},{"$f":"IF(ISERROR(VLOOKUP($A578,check!$A:$L,8,FALSE))=TRUE,\"\",VLOOKUP($A578,check!$A:$L,8,FALSE))","v":""},{"$f":"IF(ISERROR(VLOOKUP($A578,check!$A:$L,9,FALSE))=TRUE,\"\",VLOOKUP($A578,check!$A:$L,9,FALSE))","v":""},{"$f":"IF(ISERROR(VLOOKUP($A578,check!$A:$L,10,FALSE))=TRUE,\"\",VLOOKUP($A578,check!$A:$L,10,FALSE))","v":""},{"$f":"IF(ISERROR(VLOOKUP($A578,check!$A:$L,11,FALSE))=TRUE,\"\",VLOOKUP($A578,check!$A:$L,11,FALSE))","v":""},{"$f":"IF(ISERROR(VLOOKUP($A578,check!$A:$L,12,FALSE))=TRUE,\"\",VLOOKUP($A578,check!$A:$L,12,FALSE))","v":""}]
[579,{"$f":"IF(C579=\"\",\"\",MATCH(A579,check!A:A,0))","v":""},{"$f":"IF(ISERROR(VLOOKUP($A579,check!$A:$L,2,FALSE))=TRUE,\"\",VLOOKUP($A579,check!$A:$L,2,FALSE))","v":""},{"$f":"IF(ISERROR(VLOOKUP($A579,check!$A:$L,3,FALSE))=TRUE,\"\",VLOOKUP($A579,check!$A:$L,3,FALSE))","v":""},{"$f":"IF(ISERROR(VLOOKUP($A579,check!$A:$L,4,FALSE))=TRUE,\"\",VLOOKUP($A579,check!$A:$L,4,FALSE))","v":""},{"$f":"IF(ISERROR(VLOOKUP($A579,check!$A:$L,5,FALSE))=TRUE,\"\",VLOOKUP($A579,check!$A:$L,5,FALSE))","v":""},{"$f":"IF(ISERROR(VLOOKUP($A579,check!$A:$L,6,FALSE))=TRUE,\"\",VLOOKUP($A579,check!$A:$L,6,FALSE))","v":""},{"$f":"IF(ISERROR(VLOOKUP($A579,check!$A:$L,7,FALSE))=TRUE,\"\",VLOOKUP($A579,check!$A:$L,7,FALSE))","v":""},{"$f":"IF(ISERROR(VLOOKUP($A579,check!$A:$L,8,FALSE))=TRUE,\"\",VLOOKUP($A579,check!$A:$L,8,FALSE))","v":""},{"$f":"IF(ISERROR(VLOOKUP($A579,check!$A:$L,9,FALSE))=TRUE,\"\",VLOOKUP($A579,check!$A:$L,9,FALSE))","v":""},{"$f":"IF(ISERROR(VLOOKUP($A579,check!$A:$L,10,FALSE))=TRUE,\"\",VLOOKUP($A579,check!$A:$L,10,FALSE))","v":""},{"$f":"IF(ISERROR(VLOOKUP($A579,check!$A:$L,11,FALSE))=TRUE,\"\",VLOOKUP($A579,check!$A:$L,11,FALSE))","v":""},{"$f":"IF(ISERROR(VLOOKUP($A579,check!$A:$L,12,FALSE))=TRUE,\"\",VLOOKUP($A579,check!$A:$L,12,FALSE))","v":""}]
[{"$f":"A579+1","v":580},{"$f":"IF(C580=\"\",\"\",MATCH(A580,check!A:A,0))","v":""},{"$f":"IF(ISERROR(VLOOKUP($A580,check!$A:$L,2,FALSE))=TRUE,\"\",VLOOKUP($A580,check!$A:$L,2,FALSE))","v":""},{"$f":"IF(ISERROR(VLOOKUP($A580,check!$A:$L,3,FALSE))=TRUE,\"\",VLOOKUP($A580,check!$A:$L,3,FALSE))","v":""},{"$f":"IF(ISERROR(VLOOKUP($A580,check!$A:$L,4,FALSE))=TRUE,\"\",VLOOKUP($A580,check!$A:$L,4,FALSE))","v":""},{"$f":"IF(ISERROR(VLOOKUP($A580,check!$A:$L,5,FALSE))=TRUE,\"\",VLOOKUP($A580,check!$A:$L,5,FALSE))","v":""},{"$f":"IF(ISERROR(VLOOKUP($A580,check!$A:$L,6,FALSE))=TRUE,\"\",VLOOKUP($A580,check!$A:$L,6,FALSE))","v":""},{"$f":"IF(ISERROR(VLOOKUP($A580,check!$A:$L,7,FALSE))=TRUE,\"\",VLOOKUP($A580,check!$A:$L,7,FALSE))","v":""},{"$f":"IF(ISERROR(VLOOKUP($A580,check!$A:$L,8,FALSE))=TRUE,\"\",VLOOKUP($A580,check!$A:$L,8,FALSE))","v":""},{"$f":"IF(ISERROR(VLOOKUP($A580,check!$A:$L,9,FALSE))=TRUE,\"\",VLOOKUP($A580,check!$A:$L,9,FALSE))","v":""},{"$f":"IF(ISERROR(VLOOKUP($A580,check!$A:$L,10,FALSE))=TRUE,\"\",VLOOKUP($A580,check!$A:$L,10,FALSE))","v":""},{"$f":"IF(ISERROR(VLOOKUP($A580,check!$A:$L,11,FALSE))=TRUE,\"\",VLOOKUP($A580,check!$A:$L,11,FALSE))","v":""},{"$f":"IF(ISERROR(VLOOKUP($A580,check!$A:$L,12,FALSE))=TRUE,\"\",VLOOKUP($A580,check!$A:$L,12,FALSE))","v":""}]
[581,{"$f":"IF(C581=\"\",\"\",MATCH(A581,check!A:A,0))","v":""},{"$f":"IF(ISERROR(VLOOKUP($A581,check!$A:$L,2,FALSE))=TRUE,\"\",VLOOKUP($A581,check!$A:$L,2,FALSE))","v":""},{"$f":"IF(ISERROR(VLOOKUP($A581,check!$A:$L,3,FALSE))=TRUE,\"\",VLOOKUP($A581,check!$A:$L,3,FALSE))","v":""},{"$f":"IF(ISERROR(VLOOKUP($A581,check!$A:$L,4,FALSE))=TRUE,\"\",VLOOKUP($A581,check!$A:$L,4,FALSE))","v":""},{"$f":"IF(ISERROR(VLOOKUP($A581,check!$A:$L,5,FALSE))=TRUE,\"\",VLOOKUP($A581,check!$A:$L,5,FALSE))","v":""},{"$f":"IF(ISERROR(VLOOKUP($A581,check!$A:$L,6,FALSE))=TRUE,\"\",VLOOKUP($A581,check!$A:$L,6,FALSE))","v":""},{"$f":"IF(ISERROR(VLOOKUP($A581,check!$A:$L,7,FALSE))=TRUE,\"\",VLOOKUP($A581,check!$A:$L,7,FALSE))","v":""},{"$f":"IF(ISERROR(VLOOKUP($A581,check!$A:$L,8,FALSE))=TRUE,\"\",VLOOKUP($A581,check!$A:$L,8,FALSE))","v":""},{"$f":"IF(ISERROR(VLOOKUP($A581,check!$A:$L,9,FALSE))=TRUE,\"\",VLOOKUP($A581,check!$A:$L,9,FALSE))","v":""},{"$f":"IF(ISERROR(VLOOKUP($A581,check!$A:$L,10,FALSE))=TRUE,\"\",VLOOKUP($A581,check!$A:$L,10,FALSE))","v":""},{"$f":"IF(ISERROR(VLOOKUP($A581,check!$A:$L,11,FALSE))=TRUE,\"\",VLOOKUP($A581,check!$A:$L,11,FALSE))","v":""},{"$f":"IF(ISERROR(VLOOKUP($A581,check!$A:$L,12,FALSE))=TRUE,\"\",VLOOKUP($A581,check!$A:$L,12,FALSE))","v":""}]
[582,{"$f":"IF(C582=\"\",\"\",MATCH(A582,check!A:A,0))","v":""},{"$f":"IF(ISERROR(VLOOKUP($A582,check!$A:$L,2,FALSE))=TRUE,\"\",VLOOKUP($A582,check!$A:$L,2,FALSE))","v":""},{"$f":"IF(ISERROR(VLOOKUP($A582,check!$A:$L,3,FALSE))=TRUE,\"\",VLOOKUP($A582,check!$A:$L,3,FALSE))","v":""},{"$f":"IF(ISERROR(VLOOKUP($A582,check!$A:$L,4,FALSE))=TRUE,\"\",VLOOKUP($A582,check!$A:$L,4,FALSE))","v":""},{"$f":"IF(ISERROR(VLOOKUP($A582,check!$A:$L,5,FALSE))=TRUE,\"\",VLOOKUP($A582,check!$A:$L,5,FALSE))","v":""},{"$f":"IF(ISERROR(VLOOKUP($A582,check!$A:$L,6,FALSE))=TRUE,\"\",VLOOKUP($A582,check!$A:$L,6,FALSE))","v":""},{"$f":"IF(ISERROR(VLOOKUP($A582,check!$A:$L,7,FALSE))=TRUE,\"\",VLOOKUP($A582,check!$A:$L,7,FALSE))","v":""},{"$f":"IF(ISERROR(VLOOKUP($A582,check!$A:$L,8,FALSE))=TRUE,\"\",VLOOKUP($A582,check!$A:$L,8,FALSE))","v":""},{"$f":"IF(ISERROR(VLOOKUP($A582,check!$A:$L,9,FALSE))=TRUE,\"\",VLOOKUP($A582,check!$A:$L,9,FALSE))","v":""},{"$f":"IF(ISERROR(VLOOKUP($A582,check!$A:$L,10,FALSE))=TRUE,\"\",VLOOKUP($A582,check!$A:$L,10,FALSE))","v":""},{"$f":"IF(ISERROR(VLOOKUP($A582,check!$A:$L,11,FALSE))=TRUE,\"\",VLOOKUP($A582,check!$A:$L,11,FALSE))","v":""},{"$f":"IF(ISERROR(VLOOKUP($A582,check!$A:$L,12,FALSE))=TRUE,\"\",VLOOKUP($A582,check!$A:$L,12,FALSE))","v":""}]
[583,{"$f":"IF(C583=\"\",\"\",MATCH(A583,check!A:A,0))","v":""},{"$f":"IF(ISERROR(VLOOKUP($A583,check!$A:$L,2,FALSE))=TRUE,\"\",VLOOKUP($A583,check!$A:$L,2,FALSE))","v":""},{"$f":"IF(ISERROR(VLOOKUP($A583,check!$A:$L,3,FALSE))=TRUE,\"\",VLOOKUP($A583,check!$A:$L,3,FALSE))","v":""},{"$f":"IF(ISERROR(VLOOKUP($A583,check!$A:$L,4,FALSE))=TRUE,\"\",VLOOKUP($A583,check!$A:$L,4,FALSE))","v":""},{"$f":"IF(ISERROR(VLOOKUP($A583,check!$A:$L,5,FALSE))=TRUE,\"\",VLOOKUP($A583,check!$A:$L,5,FALSE))","v":""},{"$f":"IF(ISERROR(VLOOKUP($A583,check!$A:$L,6,FALSE))=TRUE,\"\",VLOOKUP($A583,check!$A:$L,6,FALSE))","v":""},{"$f":"IF(ISERROR(VLOOKUP($A583,check!$A:$L,7,FALSE))=TRUE,\"\",VLOOKUP($A583,check!$A:$L,7,FALSE))","v":""},{"$f":"IF(ISERROR(VLOOKUP($A583,check!$A:$L,8,FALSE))=TRUE,\"\",VLOOKUP($A583,check!$A:$L,8,FALSE))","v":""},{"$f":"IF(ISERROR(VLOOKUP($A583,check!$A:$L,9,FALSE))=TRUE,\"\",VLOOKUP($A583,check!$A:$L,9,FALSE))","v":""},{"$f":"IF(ISERROR(VLOOKUP($A583,check!$A:$L,10,FALSE))=TRUE,\"\",VLOOKUP($A583,check!$A:$L,10,FALSE))","v":""},{"$f":"IF(ISERROR(VLOOKUP($A583,check!$A:$L,11,FALSE))=TRUE,\"\",VLOOKUP($A583,check!$A:$L,11,FALSE))","v":""},{"$f":"IF(ISERROR(VLOOKUP($A583,check!$A:$L,12,FALSE))=TRUE,\"\",VLOOKUP($A583,check!$A:$L,12,FALSE))","v":""}]
[584,{"$f":"IF(C584=\"\",\"\",MATCH(A584,check!A:A,0))","v":""},{"$f":"IF(ISERROR(VLOOKUP($A584,check!$A:$L,2,FALSE))=TRUE,\"\",VLOOKUP($A584,check!$A:$L,2,FALSE))","v":""},{"$f":"IF(ISERROR(VLOOKUP($A584,check!$A:$L,3,FALSE))=TRUE,\"\",VLOOKUP($A584,check!$A:$L,3,FALSE))","v":""},{"$f":"IF(ISERROR(VLOOKUP($A584,check!$A:$L,4,FALSE))=TRUE,\"\",VLOOKUP($A584,check!$A:$L,4,FALSE))","v":""},{"$f":"IF(ISERROR(VLOOKUP($A584,check!$A:$L,5,FALSE))=TRUE,\"\",VLOOKUP($A584,check!$A:$L,5,FALSE))","v":""},{"$f":"IF(ISERROR(VLOOKUP($A584,check!$A:$L,6,FALSE))=TRUE,\"\",VLOOKUP($A584,check!$A:$L,6,FALSE))","v":""},{"$f":"IF(ISERROR(VLOOKUP($A584,check!$A:$L,7,FALSE))=TRUE,\"\",VLOOKUP($A584,check!$A:$L,7,FALSE))","v":""},{"$f":"IF(ISERROR(VLOOKUP($A584,check!$A:$L,8,FALSE))=TRUE,\"\",VLOOKUP($A584,check!$A:$L,8,FALSE))","v":""},{"$f":"IF(ISERROR(VLOOKUP($A584,check!$A:$L,9,FALSE))=TRUE,\"\",VLOOKUP($A584,check!$A:$L,9,FALSE))","v":""},{"$f":"IF(ISERROR(VLOOKUP($A584,check!$A:$L,10,FALSE))=TRUE,\"\",VLOOKUP($A584,check!$A:$L,10,FALSE))","v":""},{"$f":"IF(ISERROR(VLOOKUP($A584,check!$A:$L,11,FALSE))=TRUE,\"\",VLOOKUP($A584,check!$A:$L,11,FALSE))","v":""},{"$f":"IF(ISERROR(VLOOKUP($A584,check!$A:$L,12,FALSE))=TRUE,\"\",VLOOKUP($A584,check!$A:$L,12,FALSE))","v":""}]
[585,{"$f":"IF(C585=\"\",\"\",MATCH(A585,check!A:A,0))","v":""},{"$f":"IF(ISERROR(VLOOKUP($A585,check!$A:$L,2,FALSE))=TRUE,\"\",VLOOKUP($A585,check!$A:$L,2,FALSE))","v":""},{"$f":"IF(ISERROR(VLOOKUP($A585,check!$A:$L,3,FALSE))=TRUE,\"\",VLOOKUP($A585,check!$A:$L,3,FALSE))","v":""},{"$f":"IF(ISERROR(VLOOKUP($A585,check!$A:$L,4,FALSE))=TRUE,\"\",VLOOKUP($A585,check!$A:$L,4,FALSE))","v":""},{"$f":"IF(ISERROR(VLOOKUP($A585,check!$A:$L,5,FALSE))=TRUE,\"\",VLOOKUP($A585,check!$A:$L,5,FALSE))","v":""},{"$f":"IF(ISERROR(VLOOKUP($A585,check!$A:$L,6,FALSE))=TRUE,\"\",VLOOKUP($A585,check!$A:$L,6,FALSE))","v":""},{"$f":"IF(ISERROR(VLOOKUP($A585,check!$A:$L,7,FALSE))=TRUE,\"\",VLOOKUP($A585,check!$A:$L,7,FALSE))","v":""},{"$f":"IF(ISERROR(VLOOKUP($A585,check!$A:$L,8,FALSE))=TRUE,\"\",VLOOKUP($A585,check!$A:$L,8,FALSE))","v":""},{"$f":"IF(ISERROR(VLOOKUP($A585,check!$A:$L,9,FALSE))=TRUE,\"\",VLOOKUP($A585,check!$A:$L,9,FALSE))","v":""},{"$f":"IF(ISERROR(VLOOKUP($A585,check!$A:$L,10,FALSE))=TRUE,\"\",VLOOKUP($A585,check!$A:$L,10,FALSE))","v":""},{"$f":"IF(ISERROR(VLOOKUP($A585,check!$A:$L,11,FALSE))=TRUE,\"\",VLOOKUP($A585,check!$A:$L,11,FALSE))","v":""},{"$f":"IF(ISERROR(VLOOKUP($A585,check!$A:$L,12,FALSE))=TRUE,\"\",VLOOKUP($A585,check!$A:$L,12,FALSE))","v":""}]
[586,{"$f":"IF(C586=\"\",\"\",MATCH(A586,check!A:A,0))","v":""},{"$f":"IF(ISERROR(VLOOKUP($A586,check!$A:$L,2,FALSE))=TRUE,\"\",VLOOKUP($A586,check!$A:$L,2,FALSE))","v":""},{"$f":"IF(ISERROR(VLOOKUP($A586,check!$A:$L,3,FALSE))=TRUE,\"\",VLOOKUP($A586,check!$A:$L,3,FALSE))","v":""},{"$f":"IF(ISERROR(VLOOKUP($A586,check!$A:$L,4,FALSE))=TRUE,\"\",VLOOKUP($A586,check!$A:$L,4,FALSE))","v":""},{"$f":"IF(ISERROR(VLOOKUP($A586,check!$A:$L,5,FALSE))=TRUE,\"\",VLOOKUP($A586,check!$A:$L,5,FALSE))","v":""},{"$f":"IF(ISERROR(VLOOKUP($A586,check!$A:$L,6,FALSE))=TRUE,\"\",VLOOKUP($A586,check!$A:$L,6,FALSE))","v":""},{"$f":"IF(ISERROR(VLOOKUP($A586,check!$A:$L,7,FALSE))=TRUE,\"\",VLOOKUP($A586,check!$A:$L,7,FALSE))","v":""},{"$f":"IF(ISERROR(VLOOKUP($A586,check!$A:$L,8,FALSE))=TRUE,\"\",VLOOKUP($A586,check!$A:$L,8,FALSE))","v":""},{"$f":"IF(ISERROR(VLOOKUP($A586,check!$A:$L,9,FALSE))=TRUE,\"\",VLOOKUP($A586,check!$A:$L,9,FALSE))","v":""},{"$f":"IF(ISERROR(VLOOKUP($A586,check!$A:$L,10,FALSE))=TRUE,\"\",VLOOKUP($A586,check!$A:$L,10,FALSE))","v":""},{"$f":"IF(ISERROR(VLOOKUP($A586,check!$A:$L,11,FALSE))=TRUE,\"\",VLOOKUP($A586,check!$A:$L,11,FALSE))","v":""},{"$f":"IF(ISERROR(VLOOKUP($A586,check!$A:$L,12,FALSE))=TRUE,\"\",VLOOKUP($A586,check!$A:$L,12,FALSE))","v":""}]
[587,{"$f":"IF(C587=\"\",\"\",MATCH(A587,check!A:A,0))","v":""},{"$f":"IF(ISERROR(VLOOKUP($A587,check!$A:$L,2,FALSE))=TRUE,\"\",VLOOKUP($A587,check!$A:$L,2,FALSE))","v":""},{"$f":"IF(ISERROR(VLOOKUP($A587,check!$A:$L,3,FALSE))=TRUE,\"\",VLOOKUP($A587,check!$A:$L,3,FALSE))","v":""},{"$f":"IF(ISERROR(VLOOKUP($A587,check!$A:$L,4,FALSE))=TRUE,\"\",VLOOKUP($A587,check!$A:$L,4,FALSE))","v":""},{"$f":"IF(ISERROR(VLOOKUP($A587,check!$A:$L,5,FALSE))=TRUE,\"\",VLOOKUP($A587,check!$A:$L,5,FALSE))","v":""},{"$f":"IF(ISERROR(VLOOKUP($A587,check!$A:$L,6,FALSE))=TRUE,\"\",VLOOKUP($A587,check!$A:$L,6,FALSE))","v":""},{"$f":"IF(ISERROR(VLOOKUP($A587,check!$A:$L,7,FALSE))=TRUE,\"\",VLOOKUP($A587,check!$A:$L,7,FALSE))","v":""},{"$f":"IF(ISERROR(VLOOKUP($A587,check!$A:$L,8,FALSE))=TRUE,\"\",VLOOKUP($A587,check!$A:$L,8,FALSE))","v":""},{"$f":"IF(ISERROR(VLOOKUP($A587,check!$A:$L,9,FALSE))=TRUE,\"\",VLOOKUP($A587,check!$A:$L,9,FALSE))","v":""},{"$f":"IF(ISERROR(VLOOKUP($A587,check!$A:$L,10,FALSE))=TRUE,\"\",VLOOKUP($A587,check!$A:$L,10,FALSE))","v":""},{"$f":"IF(ISERROR(VLOOKUP($A587,check!$A:$L,11,FALSE))=TRUE,\"\",VLOOKUP($A587,check!$A:$L,11,FALSE))","v":""},{"$f":"IF(ISERROR(VLOOKUP($A587,check!$A:$L,12,FALSE))=TRUE,\"\",VLOOKUP($A587,check!$A:$L,12,FALSE))","v":""}]
[588,{"$f":"IF(C588=\"\",\"\",MATCH(A588,check!A:A,0))","v":""},{"$f":"IF(ISERROR(VLOOKUP($A588,check!$A:$L,2,FALSE))=TRUE,\"\",VLOOKUP($A588,check!$A:$L,2,FALSE))","v":""},{"$f":"IF(ISERROR(VLOOKUP($A588,check!$A:$L,3,FALSE))=TRUE,\"\",VLOOKUP($A588,check!$A:$L,3,FALSE))","v":""},{"$f":"IF(ISERROR(VLOOKUP($A588,check!$A:$L,4,FALSE))=TRUE,\"\",VLOOKUP($A588,check!$A:$L,4,FALSE))","v":""},{"$f":"IF(ISERROR(VLOOKUP($A588,check!$A:$L,5,FALSE))=TRUE,\"\",VLOOKUP($A588,check!$A:$L,5,FALSE))","v":""},{"$f":"IF(ISERROR(VLOOKUP($A588,check!$A:$L,6,FALSE))=TRUE,\"\",VLOOKUP($A588,check!$A:$L,6,FALSE))","v":""},{"$f":"IF(ISERROR(VLOOKUP($A588,check!$A:$L,7,FALSE))=TRUE,\"\",VLOOKUP($A588,check!$A:$L,7,FALSE))","v":""},{"$f":"IF(ISERROR(VLOOKUP($A588,check!$A:$L,8,FALSE))=TRUE,\"\",VLOOKUP($A588,check!$A:$L,8,FALSE))","v":""},{"$f":"IF(ISERROR(VLOOKUP($A588,check!$A:$L,9,FALSE))=TRUE,\"\",VLOOKUP($A588,check!$A:$L,9,FALSE))","v":""},{"$f":"IF(ISERROR(VLOOKUP($A588,check!$A:$L,10,FALSE))=TRUE,\"\",VLOOKUP($A588,check!$A:$L,10,FALSE))","v":""},{"$f":"IF(ISERROR(VLOOKUP($A588,check!$A:$L,11,FALSE))=TRUE,\"\",VLOOKUP($A588,check!$A:$L,11,FALSE))","v":""},{"$f":"IF(ISERROR(VLOOKUP($A588,check!$A:$L,12,FALSE))=TRUE,\"\",VLOOKUP($A588,check!$A:$L,12,FALSE))","v":""}]
[589,{"$f":"IF(C589=\"\",\"\",MATCH(A589,check!A:A,0))","v":""},{"$f":"IF(ISERROR(VLOOKUP($A589,check!$A:$L,2,FALSE))=TRUE,\"\",VLOOKUP($A589,check!$A:$L,2,FALSE))","v":""},{"$f":"IF(ISERROR(VLOOKUP($A589,check!$A:$L,3,FALSE))=TRUE,\"\",VLOOKUP($A589,check!$A:$L,3,FALSE))","v":""},{"$f":"IF(ISERROR(VLOOKUP($A589,check!$A:$L,4,FALSE))=TRUE,\"\",VLOOKUP($A589,check!$A:$L,4,FALSE))","v":""},{"$f":"IF(ISERROR(VLOOKUP($A589,check!$A:$L,5,FALSE))=TRUE,\"\",VLOOKUP($A589,check!$A:$L,5,FALSE))","v":""},{"$f":"IF(ISERROR(VLOOKUP($A589,check!$A:$L,6,FALSE))=TRUE,\"\",VLOOKUP($A589,check!$A:$L,6,FALSE))","v":""},{"$f":"IF(ISERROR(VLOOKUP($A589,check!$A:$L,7,FALSE))=TRUE,\"\",VLOOKUP($A589,check!$A:$L,7,FALSE))","v":""},{"$f":"IF(ISERROR(VLOOKUP($A589,check!$A:$L,8,FALSE))=TRUE,\"\",VLOOKUP($A589,check!$A:$L,8,FALSE))","v":""},{"$f":"IF(ISERROR(VLOOKUP($A589,check!$A:$L,9,FALSE))=TRUE,\"\",VLOOKUP($A589,check!$A:$L,9,FALSE))","v":""},{"$f":"IF(ISERROR(VLOOKUP($A589,check!$A:$L,10,FALSE))=TRUE,\"\",VLOOKUP($A589,check!$A:$L,10,FALSE))","v":""},{"$f":"IF(ISERROR(VLOOKUP($A589,check!$A:$L,11,FALSE))=TRUE,\"\",VLOOKUP($A589,check!$A:$L,11,FALSE))","v":""},{"$f":"IF(ISERROR(VLOOKUP($A589,check!$A:$L,12,FALSE))=TRUE,\"\",VLOOKUP($A589,check!$A:$L,12,FALSE))","v":""}]
[590,{"$f":"IF(C590=\"\",\"\",MATCH(A590,check!A:A,0))","v":""},{"$f":"IF(ISERROR(VLOOKUP($A590,check!$A:$L,2,FALSE))=TRUE,\"\",VLOOKUP($A590,check!$A:$L,2,FALSE))","v":""},{"$f":"IF(ISERROR(VLOOKUP($A590,check!$A:$L,3,FALSE))=TRUE,\"\",VLOOKUP($A590,check!$A:$L,3,FALSE))","v":""},{"$f":"IF(ISERROR(VLOOKUP($A590,check!$A:$L,4,FALSE))=TRUE,\"\",VLOOKUP($A590,check!$A:$L,4,FALSE))","v":""},{"$f":"IF(ISERROR(VLOOKUP($A590,check!$A:$L,5,FALSE))=TRUE,\"\",VLOOKUP($A590,check!$A:$L,5,FALSE))","v":""},{"$f":"IF(ISERROR(VLOOKUP($A590,check!$A:$L,6,FALSE))=TRUE,\"\",VLOOKUP($A590,check!$A:$L,6,FALSE))","v":""},{"$f":"IF(ISERROR(VLOOKUP($A590,check!$A:$L,7,FALSE))=TRUE,\"\",VLOOKUP($A590,check!$A:$L,7,FALSE))","v":""},{"$f":"IF(ISERROR(VLOOKUP($A590,check!$A:$L,8,FALSE))=TRUE,\"\",VLOOKUP($A590,check!$A:$L,8,FALSE))","v":""},{"$f":"IF(ISERROR(VLOOKUP($A590,check!$A:$L,9,FALSE))=TRUE,\"\",VLOOKUP($A590,check!$A:$L,9,FALSE))","v":""},{"$f":"IF(ISERROR(VLOOKUP($A590,check!$A:$L,10,FALSE))=TRUE,\"\",VLOOKUP($A590,check!$A:$L,10,FALSE))","v":""},{"$f":"IF(ISERROR(VLOOKUP($A590,check!$A:$L,11,FALSE))=TRUE,\"\",VLOOKUP($A590,check!$A:$L,11,FALSE))","v":""},{"$f":"IF(ISERROR(VLOOKUP($A590,check!$A:$L,12,FALSE))=TRUE,\"\",VLOOKUP($A590,check!$A:$L,12,FALSE))","v":""}]
[591,{"$f":"IF(C591=\"\",\"\",MATCH(A591,check!A:A,0))","v":""},{"$f":"IF(ISERROR(VLOOKUP($A591,check!$A:$L,2,FALSE))=TRUE,\"\",VLOOKUP($A591,check!$A:$L,2,FALSE))","v":""},{"$f":"IF(ISERROR(VLOOKUP($A591,check!$A:$L,3,FALSE))=TRUE,\"\",VLOOKUP($A591,check!$A:$L,3,FALSE))","v":""},{"$f":"IF(ISERROR(VLOOKUP($A591,check!$A:$L,4,FALSE))=TRUE,\"\",VLOOKUP($A591,check!$A:$L,4,FALSE))","v":""},{"$f":"IF(ISERROR(VLOOKUP($A591,check!$A:$L,5,FALSE))=TRUE,\"\",VLOOKUP($A591,check!$A:$L,5,FALSE))","v":""},{"$f":"IF(ISERROR(VLOOKUP($A591,check!$A:$L,6,FALSE))=TRUE,\"\",VLOOKUP($A591,check!$A:$L,6,FALSE))","v":""},{"$f":"IF(ISERROR(VLOOKUP($A591,check!$A:$L,7,FALSE))=TRUE,\"\",VLOOKUP($A591,check!$A:$L,7,FALSE))","v":""},{"$f":"IF(ISERROR(VLOOKUP($A591,check!$A:$L,8,FALSE))=TRUE,\"\",VLOOKUP($A591,check!$A:$L,8,FALSE))","v":""},{"$f":"IF(ISERROR(VLOOKUP($A591,check!$A:$L,9,FALSE))=TRUE,\"\",VLOOKUP($A591,check!$A:$L,9,FALSE))","v":""},{"$f":"IF(ISERROR(VLOOKUP($A591,check!$A:$L,10,FALSE))=TRUE,\"\",VLOOKUP($A591,check!$A:$L,10,FALSE))","v":""},{"$f":"IF(ISERROR(VLOOKUP($A591,check!$A:$L,11,FALSE))=TRUE,\"\",VLOOKUP($A591,check!$A:$L,11,FALSE))","v":""},{"$f":"IF(ISERROR(VLOOKUP($A591,check!$A:$L,12,FALSE))=TRUE,\"\",VLOOKUP($A591,check!$A:$L,12,FALSE))","v":""}]
[592,{"$f":"IF(C592=\"\",\"\",MATCH(A592,check!A:A,0))","v":""},{"$f":"IF(ISERROR(VLOOKUP($A592,check!$A:$L,2,FALSE))=TRUE,\"\",VLOOKUP($A592,check!$A:$L,2,FALSE))","v":""},{"$f":"IF(ISERROR(VLOOKUP($A592,check!$A:$L,3,FALSE))=TRUE,\"\",VLOOKUP($A592,check!$A:$L,3,FALSE))","v":""},{"$f":"IF(ISERROR(VLOOKUP($A592,check!$A:$L,4,FALSE))=TRUE,\"\",VLOOKUP($A592,check!$A:$L,4,FALSE))","v":""},{"$f":"IF(ISERROR(VLOOKUP($A592,check!$A:$L,5,FALSE))=TRUE,\"\",VLOOKUP($A592,check!$A:$L,5,FALSE))","v":""},{"$f":"IF(ISERROR(VLOOKUP($A592,check!$A:$L,6,FALSE))=TRUE,\"\",VLOOKUP($A592,check!$A:$L,6,FALSE))","v":""},{"$f":"IF(ISERROR(VLOOKUP($A592,check!$A:$L,7,FALSE))=TRUE,\"\",VLOOKUP($A592,check!$A:$L,7,FALSE))","v":""},{"$f":"IF(ISERROR(VLOOKUP($A592,check!$A:$L,8,FALSE))=TRUE,\"\",VLOOKUP($A592,check!$A:$L,8,FALSE))","v":""},{"$f":"IF(ISERROR(VLOOKUP($A592,check!$A:$L,9,FALSE))=TRUE,\"\",VLOOKUP($A592,check!$A:$L,9,FALSE))","v":""},{"$f":"IF(ISERROR(VLOOKUP($A592,check!$A:$L,10,FALSE))=TRUE,\"\",VLOOKUP($A592,check!$A:$L,10,FALSE))","v":""},{"$f":"IF(ISERROR(VLOOKUP($A592,check!$A:$L,11,FALSE))=TRUE,\"\",VLOOKUP($A592,check!$A:$L,11,FALSE))","v":""},{"$f":"IF(ISERROR(VLOOKUP($A592,check!$A:$L,12,FALSE))=TRUE,\"\",VLOOKUP($A592,check!$A:$L,12,FALSE))","v":""}]
[593,{"$f":"IF(C593=\"\",\"\",MATCH(A593,check!A:A,0))","v":""},{"$f":"IF(ISERROR(VLOOKUP($A593,check!$A:$L,2,FALSE))=TRUE,\"\",VLOOKUP($A593,check!$A:$L,2,FALSE))","v":""},{"$f":"IF(ISERROR(VLOOKUP($A593,check!$A:$L,3,FALSE))=TRUE,\"\",VLOOKUP($A593,check!$A:$L,3,FALSE))","v":""},{"$f":"IF(ISERROR(VLOOKUP($A593,check!$A:$L,4,FALSE))=TRUE,\"\",VLOOKUP($A593,check!$A:$L,4,FALSE))","v":""},{"$f":"IF(ISERROR(VLOOKUP($A593,check!$A:$L,5,FALSE))=TRUE,\"\",VLOOKUP($A593,check!$A:$L,5,FALSE))","v":""},{"$f":"IF(ISERROR(VLOOKUP($A593,check!$A:$L,6,FALSE))=TRUE,\"\",VLOOKUP($A593,check!$A:$L,6,FALSE))","v":""},{"$f":"IF(ISERROR(VLOOKUP($A593,check!$A:$L,7,FALSE))=TRUE,\"\",VLOOKUP($A593,check!$A:$L,7,FALSE))","v":""},{"$f":"IF(ISERROR(VLOOKUP($A593,check!$A:$L,8,FALSE))=TRUE,\"\",VLOOKUP($A593,check!$A:$L,8,FALSE))","v":""},{"$f":"IF(ISERROR(VLOOKUP($A593,check!$A:$L,9,FALSE))=TRUE,\"\",VLOOKUP($A593,check!$A:$L,9,FALSE))","v":""},{"$f":"IF(ISERROR(VLOOKUP($A593,check!$A:$L,10,FALSE))=TRUE,\"\",VLOOKUP($A593,check!$A:$L,10,FALSE))","v":""},{"$f":"IF(ISERROR(VLOOKUP($A593,check!$A:$L,11,FALSE))=TRUE,\"\",VLOOKUP($A593,check!$A:$L,11,FALSE))","v":""},{"$f":"IF(ISERROR(VLOOKUP($A593,check!$A:$L,12,FALSE))=TRUE,\"\",VLOOKUP($A593,check!$A:$L,12,FALSE))","v":""}]
[594,{"$f":"IF(C594=\"\",\"\",MATCH(A594,check!A:A,0))","v":""},{"$f":"IF(ISERROR(VLOOKUP($A594,check!$A:$L,2,FALSE))=TRUE,\"\",VLOOKUP($A594,check!$A:$L,2,FALSE))","v":""},{"$f":"IF(ISERROR(VLOOKUP($A594,check!$A:$L,3,FALSE))=TRUE,\"\",VLOOKUP($A594,check!$A:$L,3,FALSE))","v":""},{"$f":"IF(ISERROR(VLOOKUP($A594,check!$A:$L,4,FALSE))=TRUE,\"\",VLOOKUP($A594,check!$A:$L,4,FALSE))","v":""},{"$f":"IF(ISERROR(VLOOKUP($A594,check!$A:$L,5,FALSE))=TRUE,\"\",VLOOKUP($A594,check!$A:$L,5,FALSE))","v":""},{"$f":"IF(ISERROR(VLOOKUP($A594,check!$A:$L,6,FALSE))=TRUE,\"\",VLOOKUP($A594,check!$A:$L,6,FALSE))","v":""},{"$f":"IF(ISERROR(VLOOKUP($A594,check!$A:$L,7,FALSE))=TRUE,\"\",VLOOKUP($A594,check!$A:$L,7,FALSE))","v":""},{"$f":"IF(ISERROR(VLOOKUP($A594,check!$A:$L,8,FALSE))=TRUE,\"\",VLOOKUP($A594,check!$A:$L,8,FALSE))","v":""},{"$f":"IF(ISERROR(VLOOKUP($A594,check!$A:$L,9,FALSE))=TRUE,\"\",VLOOKUP($A594,check!$A:$L,9,FALSE))","v":""},{"$f":"IF(ISERROR(VLOOKUP($A594,check!$A:$L,10,FALSE))=TRUE,\"\",VLOOKUP($A594,check!$A:$L,10,FALSE))","v":""},{"$f":"IF(ISERROR(VLOOKUP($A594,check!$A:$L,11,FALSE))=TRUE,\"\",VLOOKUP($A594,check!$A:$L,11,FALSE))","v":""},{"$f":"IF(ISERROR(VLOOKUP($A594,check!$A:$L,12,FALSE))=TRUE,\"\",VLOOKUP($A594,check!$A:$L,12,FALSE))","v":""}]
[595,{"$f":"IF(C595=\"\",\"\",MATCH(A595,check!A:A,0))","v":""},{"$f":"IF(ISERROR(VLOOKUP($A595,check!$A:$L,2,FALSE))=TRUE,\"\",VLOOKUP($A595,check!$A:$L,2,FALSE))","v":""},{"$f":"IF(ISERROR(VLOOKUP($A595,check!$A:$L,3,FALSE))=TRUE,\"\",VLOOKUP($A595,check!$A:$L,3,FALSE))","v":""},{"$f":"IF(ISERROR(VLOOKUP($A595,check!$A:$L,4,FALSE))=TRUE,\"\",VLOOKUP($A595,check!$A:$L,4,FALSE))","v":""},{"$f":"IF(ISERROR(VLOOKUP($A595,check!$A:$L,5,FALSE))=TRUE,\"\",VLOOKUP($A595,check!$A:$L,5,FALSE))","v":""},{"$f":"IF(ISERROR(VLOOKUP($A595,check!$A:$L,6,FALSE))=TRUE,\"\",VLOOKUP($A595,check!$A:$L,6,FALSE))","v":""},{"$f":"IF(ISERROR(VLOOKUP($A595,check!$A:$L,7,FALSE))=TRUE,\"\",VLOOKUP($A595,check!$A:$L,7,FALSE))","v":""},{"$f":"IF(ISERROR(VLOOKUP($A595,check!$A:$L,8,FALSE))=TRUE,\"\",VLOOKUP($A595,check!$A:$L,8,FALSE))","v":""},{"$f":"IF(ISERROR(VLOOKUP($A595,check!$A:$L,9,FALSE))=TRUE,\"\",VLOOKUP($A595,check!$A:$L,9,FALSE))","v":""},{"$f":"IF(ISERROR(VLOOKUP($A595,check!$A:$L,10,FALSE))=TRUE,\"\",VLOOKUP($A595,check!$A:$L,10,FALSE))","v":""},{"$f":"IF(ISERROR(VLOOKUP($A595,check!$A:$L,11,FALSE))=TRUE,\"\",VLOOKUP($A595,check!$A:$L,11,FALSE))","v":""},{"$f":"IF(ISERROR(VLOOKUP($A595,check!$A:$L,12,FALSE))=TRUE,\"\",VLOOKUP($A595,check!$A:$L,12,FALSE))","v":""}]
[596,{"$f":"IF(C596=\"\",\"\",MATCH(A596,check!A:A,0))","v":""},{"$f":"IF(ISERROR(VLOOKUP($A596,check!$A:$L,2,FALSE))=TRUE,\"\",VLOOKUP($A596,check!$A:$L,2,FALSE))","v":""},{"$f":"IF(ISERROR(VLOOKUP($A596,check!$A:$L,3,FALSE))=TRUE,\"\",VLOOKUP($A596,check!$A:$L,3,FALSE))","v":""},{"$f":"IF(ISERROR(VLOOKUP($A596,check!$A:$L,4,FALSE))=TRUE,\"\",VLOOKUP($A596,check!$A:$L,4,FALSE))","v":""},{"$f":"IF(ISERROR(VLOOKUP($A596,check!$A:$L,5,FALSE))=TRUE,\"\",VLOOKUP($A596,check!$A:$L,5,FALSE))","v":""},{"$f":"IF(ISERROR(VLOOKUP($A596,check!$A:$L,6,FALSE))=TRUE,\"\",VLOOKUP($A596,check!$A:$L,6,FALSE))","v":""},{"$f":"IF(ISERROR(VLOOKUP($A596,check!$A:$L,7,FALSE))=TRUE,\"\",VLOOKUP($A596,check!$A:$L,7,FALSE))","v":""},{"$f":"IF(ISERROR(VLOOKUP($A596,check!$A:$L,8,FALSE))=TRUE,\"\",VLOOKUP($A596,check!$A:$L,8,FALSE))","v":""},{"$f":"IF(ISERROR(VLOOKUP($A596,check!$A:$L,9,FALSE))=TRUE,\"\",VLOOKUP($A596,check!$A:$L,9,FALSE))","v":""},{"$f":"IF(ISERROR(VLOOKUP($A596,check!$A:$L,10,FALSE))=TRUE,\"\",VLOOKUP($A596,check!$A:$L,10,FALSE))","v":""},{"$f":"IF(ISERROR(VLOOKUP($A596,check!$A:$L,11,FALSE))=TRUE,\"\",VLOOKUP($A596,check!$A:$L,11,FALSE))","v":""},{"$f":"IF(ISERROR(VLOOKUP($A596,check!$A:$L,12,FALSE))=TRUE,\"\",VLOOKUP($A596,check!$A:$L,12,FALSE))","v":""}]
[597,{"$f":"IF(C597=\"\",\"\",MATCH(A597,check!A:A,0))","v":""},{"$f":"IF(ISERROR(VLOOKUP($A597,check!$A:$L,2,FALSE))=TRUE,\"\",VLOOKUP($A597,check!$A:$L,2,FALSE))","v":""},{"$f":"IF(ISERROR(VLOOKUP($A597,check!$A:$L,3,FALSE))=TRUE,\"\",VLOOKUP($A597,check!$A:$L,3,FALSE))","v":""},{"$f":"IF(ISERROR(VLOOKUP($A597,check!$A:$L,4,FALSE))=TRUE,\"\",VLOOKUP($A597,check!$A:$L,4,FALSE))","v":""},{"$f":"IF(ISERROR(VLOOKUP($A597,check!$A:$L,5,FALSE))=TRUE,\"\",VLOOKUP($A597,check!$A:$L,5,FALSE))","v":""},{"$f":"IF(ISERROR(VLOOKUP($A597,check!$A:$L,6,FALSE))=TRUE,\"\",VLOOKUP($A597,check!$A:$L,6,FALSE))","v":""},{"$f":"IF(ISERROR(VLOOKUP($A597,check!$A:$L,7,FALSE))=TRUE,\"\",VLOOKUP($A597,check!$A:$L,7,FALSE))","v":""},{"$f":"IF(ISERROR(VLOOKUP($A597,check!$A:$L,8,FALSE))=TRUE,\"\",VLOOKUP($A597,check!$A:$L,8,FALSE))","v":""},{"$f":"IF(ISERROR(VLOOKUP($A597,check!$A:$L,9,FALSE))=TRUE,\"\",VLOOKUP($A597,check!$A:$L,9,FALSE))","v":""},{"$f":"IF(ISERROR(VLOOKUP($A597,check!$A:$L,10,FALSE))=TRUE,\"\",VLOOKUP($A597,check!$A:$L,10,FALSE))","v":""},{"$f":"IF(ISERROR(VLOOKUP($A597,check!$A:$L,11,FALSE))=TRUE,\"\",VLOOKUP($A597,check!$A:$L,11,FALSE))","v":""},{"$f":"IF(ISERROR(VLOOKUP($A597,check!$A:$L,12,FALSE))=TRUE,\"\",VLOOKUP($A597,check!$A:$L,12,FALSE))","v":""}]
[598,{"$f":"IF(C598=\"\",\"\",MATCH(A598,check!A:A,0))","v":""},{"$f":"IF(ISERROR(VLOOKUP($A598,check!$A:$L,2,FALSE))=TRUE,\"\",VLOOKUP($A598,check!$A:$L,2,FALSE))","v":""},{"$f":"IF(ISERROR(VLOOKUP($A598,check!$A:$L,3,FALSE))=TRUE,\"\",VLOOKUP($A598,check!$A:$L,3,FALSE))","v":""},{"$f":"IF(ISERROR(VLOOKUP($A598,check!$A:$L,4,FALSE))=TRUE,\"\",VLOOKUP($A598,check!$A:$L,4,FALSE))","v":""},{"$f":"IF(ISERROR(VLOOKUP($A598,check!$A:$L,5,FALSE))=TRUE,\"\",VLOOKUP($A598,check!$A:$L,5,FALSE))","v":""},{"$f":"IF(ISERROR(VLOOKUP($A598,check!$A:$L,6,FALSE))=TRUE,\"\",VLOOKUP($A598,check!$A:$L,6,FALSE))","v":""},{"$f":"IF(ISERROR(VLOOKUP($A598,check!$A:$L,7,FALSE))=TRUE,\"\",VLOOKUP($A598,check!$A:$L,7,FALSE))","v":""},{"$f":"IF(ISERROR(VLOOKUP($A598,check!$A:$L,8,FALSE))=TRUE,\"\",VLOOKUP($A598,check!$A:$L,8,FALSE))","v":""},{"$f":"IF(ISERROR(VLOOKUP($A598,check!$A:$L,9,FALSE))=TRUE,\"\",VLOOKUP($A598,check!$A:$L,9,FALSE))","v":""},{"$f":"IF(ISERROR(VLOOKUP($A598,check!$A:$L,10,FALSE))=TRUE,\"\",VLOOKUP($A598,check!$A:$L,10,FALSE))","v":""},{"$f":"IF(ISERROR(VLOOKUP($A598,check!$A:$L,11,FALSE))=TRUE,\"\",VLOOKUP($A598,check!$A:$L,11,FALSE))","v":""},{"$f":"IF(ISERROR(VLOOKUP($A598,check!$A:$L,12,FALSE))=TRUE,\"\",VLOOKUP($A598,check!$A:$L,12,FALSE))","v":""}]
[599,{"$f":"IF(C599=\"\",\"\",MATCH(A599,check!A:A,0))","v":""},{"$f":"IF(ISERROR(VLOOKUP($A599,check!$A:$L,2,FALSE))=TRUE,\"\",VLOOKUP($A599,check!$A:$L,2,FALSE))","v":""},{"$f":"IF(ISERROR(VLOOKUP($A599,check!$A:$L,3,FALSE))=TRUE,\"\",VLOOKUP($A599,check!$A:$L,3,FALSE))","v":""},{"$f":"IF(ISERROR(VLOOKUP($A599,check!$A:$L,4,FALSE))=TRUE,\"\",VLOOKUP($A599,check!$A:$L,4,FALSE))","v":""},{"$f":"IF(ISERROR(VLOOKUP($A599,check!$A:$L,5,FALSE))=TRUE,\"\",VLOOKUP($A599,check!$A:$L,5,FALSE))","v":""},{"$f":"IF(ISERROR(VLOOKUP($A599,check!$A:$L,6,FALSE))=TRUE,\"\",VLOOKUP($A599,check!$A:$L,6,FALSE))","v":""},{"$f":"IF(ISERROR(VLOOKUP($A599,check!$A:$L,7,FALSE))=TRUE,\"\",VLOOKUP($A599,check!$A:$L,7,FALSE))","v":""},{"$f":"IF(ISERROR(VLOOKUP($A599,check!$A:$L,8,FALSE))=TRUE,\"\",VLOOKUP($A599,check!$A:$L,8,FALSE))","v":""},{"$f":"IF(ISERROR(VLOOKUP($A599,check!$A:$L,9,FALSE))=TRUE,\"\",VLOOKUP($A599,check!$A:$L,9,FALSE))","v":""},{"$f":"IF(ISERROR(VLOOKUP($A599,check!$A:$L,10,FALSE))=TRUE,\"\",VLOOKUP($A599,check!$A:$L,10,FALSE))","v":""},{"$f":"IF(ISERROR(VLOOKUP($A599,check!$A:$L,11,FALSE))=TRUE,\"\",VLOOKUP($A599,check!$A:$L,11,FALSE))","v":""},{"$f":"IF(ISERROR(VLOOKUP($A599,check!$A:$L,12,FALSE))=TRUE,\"\",VLOOKUP($A599,check!$A:$L,12,FALSE))","v":""}]
[600,{"$f":"IF(C600=\"\",\"\",MATCH(A600,check!A:A,0))","v":""},{"$f":"IF(ISERROR(VLOOKUP($A600,check!$A:$L,2,FALSE))=TRUE,\"\",VLOOKUP($A600,check!$A:$L,2,FALSE))","v":""},{"$f":"IF(ISERROR(VLOOKUP($A600,check!$A:$L,3,FALSE))=TRUE,\"\",VLOOKUP($A600,check!$A:$L,3,FALSE))","v":""},{"$f":"IF(ISERROR(VLOOKUP($A600,check!$A:$L,4,FALSE))=TRUE,\"\",VLOOKUP($A600,check!$A:$L,4,FALSE))","v":""},{"$f":"IF(ISERROR(VLOOKUP($A600,check!$A:$L,5,FALSE))=TRUE,\"\",VLOOKUP($A600,check!$A:$L,5,FALSE))","v":""},{"$f":"IF(ISERROR(VLOOKUP($A600,check!$A:$L,6,FALSE))=TRUE,\"\",VLOOKUP($A600,check!$A:$L,6,FALSE))","v":""},{"$f":"IF(ISERROR(VLOOKUP($A600,check!$A:$L,7,FALSE))=TRUE,\"\",VLOOKUP($A600,check!$A:$L,7,FALSE))","v":""},{"$f":"IF(ISERROR(VLOOKUP($A600,check!$A:$L,8,FALSE))=TRUE,\"\",VLOOKUP($A600,check!$A:$L,8,FALSE))","v":""},{"$f":"IF(ISERROR(VLOOKUP($A600,check!$A:$L,9,FALSE))=TRUE,\"\",VLOOKUP($A600,check!$A:$L,9,FALSE))","v":""},{"$f":"IF(ISERROR(VLOOKUP($A600,check!$A:$L,10,FALSE))=TRUE,\"\",VLOOKUP($A600,check!$A:$L,10,FALSE))","v":""},{"$f":"IF(ISERROR(VLOOKUP($A600,check!$A:$L,11,FALSE))=TRUE,\"\",VLOOKUP($A600,check!$A:$L,11,FALSE))","v":""},{"$f":"IF(ISERROR(VLOOKUP($A600,check!$A:$L,12,FALSE))=TRUE,\"\",VLOOKUP($A600,check!$A:$L,12,FALSE))","v":""}]
[601,{"$f":"IF(C601=\"\",\"\",MATCH(A601,check!A:A,0))","v":""},{"$f":"IF(ISERROR(VLOOKUP($A601,check!$A:$L,2,FALSE))=TRUE,\"\",VLOOKUP($A601,check!$A:$L,2,FALSE))","v":""},{"$f":"IF(ISERROR(VLOOKUP($A601,check!$A:$L,3,FALSE))=TRUE,\"\",VLOOKUP($A601,check!$A:$L,3,FALSE))","v":""},{"$f":"IF(ISERROR(VLOOKUP($A601,check!$A:$L,4,FALSE))=TRUE,\"\",VLOOKUP($A601,check!$A:$L,4,FALSE))","v":""},{"$f":"IF(ISERROR(VLOOKUP($A601,check!$A:$L,5,FALSE))=TRUE,\"\",VLOOKUP($A601,check!$A:$L,5,FALSE))","v":""},{"$f":"IF(ISERROR(VLOOKUP($A601,check!$A:$L,6,FALSE))=TRUE,\"\",VLOOKUP($A601,check!$A:$L,6,FALSE))","v":""},{"$f":"IF(ISERROR(VLOOKUP($A601,check!$A:$L,7,FALSE))=TRUE,\"\",VLOOKUP($A601,check!$A:$L,7,FALSE))","v":""},{"$f":"IF(ISERROR(VLOOKUP($A601,check!$A:$L,8,FALSE))=TRUE,\"\",VLOOKUP($A601,check!$A:$L,8,FALSE))","v":""},{"$f":"IF(ISERROR(VLOOKUP($A601,check!$A:$L,9,FALSE))=TRUE,\"\",VLOOKUP($A601,check!$A:$L,9,FALSE))","v":""},{"$f":"IF(ISERROR(VLOOKUP($A601,check!$A:$L,10,FALSE))=TRUE,\"\",VLOOKUP($A601,check!$A:$L,10,FALSE))","v":""},{"$f":"IF(ISERROR(VLOOKUP($A601,check!$A:$L,11,FALSE))=TRUE,\"\",VLOOKUP($A601,check!$A:$L,11,FALSE))","v":""},{"$f":"IF(ISERROR(VLOOKUP($A601,check!$A:$L,12,FALSE))=TRUE,\"\",VLOOKUP($A601,check!$A:$L,12,FALSE))","v":""}]
[602,{"$f":"IF(C602=\"\",\"\",MATCH(A602,check!A:A,0))","v":""},{"$f":"IF(ISERROR(VLOOKUP($A602,check!$A:$L,2,FALSE))=TRUE,\"\",VLOOKUP($A602,check!$A:$L,2,FALSE))","v":""},{"$f":"IF(ISERROR(VLOOKUP($A602,check!$A:$L,3,FALSE))=TRUE,\"\",VLOOKUP($A602,check!$A:$L,3,FALSE))","v":""},{"$f":"IF(ISERROR(VLOOKUP($A602,check!$A:$L,4,FALSE))=TRUE,\"\",VLOOKUP($A602,check!$A:$L,4,FALSE))","v":""},{"$f":"IF(ISERROR(VLOOKUP($A602,check!$A:$L,5,FALSE))=TRUE,\"\",VLOOKUP($A602,check!$A:$L,5,FALSE))","v":""},{"$f":"IF(ISERROR(VLOOKUP($A602,check!$A:$L,6,FALSE))=TRUE,\"\",VLOOKUP($A602,check!$A:$L,6,FALSE))","v":""},{"$f":"IF(ISERROR(VLOOKUP($A602,check!$A:$L,7,FALSE))=TRUE,\"\",VLOOKUP($A602,check!$A:$L,7,FALSE))","v":""},{"$f":"IF(ISERROR(VLOOKUP($A602,check!$A:$L,8,FALSE))=TRUE,\"\",VLOOKUP($A602,check!$A:$L,8,FALSE))","v":""},{"$f":"IF(ISERROR(VLOOKUP($A602,check!$A:$L,9,FALSE))=TRUE,\"\",VLOOKUP($A602,check!$A:$L,9,FALSE))","v":""},{"$f":"IF(ISERROR(VLOOKUP($A602,check!$A:$L,10,FALSE))=TRUE,\"\",VLOOKUP($A602,check!$A:$L,10,FALSE))","v":""},{"$f":"IF(ISERROR(VLOOKUP($A602,check!$A:$L,11,FALSE))=TRUE,\"\",VLOOKUP($A602,check!$A:$L,11,FALSE))","v":""},{"$f":"IF(ISERROR(VLOOKUP($A602,check!$A:$L,12,FALSE))=TRUE,\"\",VLOOKUP($A602,check!$A:$L,12,FALSE))","v":""}]
[603,{"$f":"IF(C603=\"\",\"\",MATCH(A603,check!A:A,0))","v":""},{"$f":"IF(ISERROR(VLOOKUP($A603,check!$A:$L,2,FALSE))=TRUE,\"\",VLOOKUP($A603,check!$A:$L,2,FALSE))","v":""},{"$f":"IF(ISERROR(VLOOKUP($A603,check!$A:$L,3,FALSE))=TRUE,\"\",VLOOKUP($A603,check!$A:$L,3,FALSE))","v":""},{"$f":"IF(ISERROR(VLOOKUP($A603,check!$A:$L,4,FALSE))=TRUE,\"\",VLOOKUP($A603,check!$A:$L,4,FALSE))","v":""},{"$f":"IF(ISERROR(VLOOKUP($A603,check!$A:$L,5,FALSE))=TRUE,\"\",VLOOKUP($A603,check!$A:$L,5,FALSE))","v":""},{"$f":"IF(ISERROR(VLOOKUP($A603,check!$A:$L,6,FALSE))=TRUE,\"\",VLOOKUP($A603,check!$A:$L,6,FALSE))","v":""},{"$f":"IF(ISERROR(VLOOKUP($A603,check!$A:$L,7,FALSE))=TRUE,\"\",VLOOKUP($A603,check!$A:$L,7,FALSE))","v":""},{"$f":"IF(ISERROR(VLOOKUP($A603,check!$A:$L,8,FALSE))=TRUE,\"\",VLOOKUP($A603,check!$A:$L,8,FALSE))","v":""},{"$f":"IF(ISERROR(VLOOKUP($A603,check!$A:$L,9,FALSE))=TRUE,\"\",VLOOKUP($A603,check!$A:$L,9,FALSE))","v":""},{"$f":"IF(ISERROR(VLOOKUP($A603,check!$A:$L,10,FALSE))=TRUE,\"\",VLOOKUP($A603,check!$A:$L,10,FALSE))","v":""},{"$f":"IF(ISERROR(VLOOKUP($A603,check!$A:$L,11,FALSE))=TRUE,\"\",VLOOKUP($A603,check!$A:$L,11,FALSE))","v":""},{"$f":"IF(ISERROR(VLOOKUP($A603,check!$A:$L,12,FALSE))=TRUE,\"\",VLOOKUP($A603,check!$A:$L,12,FALSE))","v":""}]
[604,{"$f":"IF(C604=\"\",\"\",MATCH(A604,check!A:A,0))","v":""},{"$f":"IF(ISERROR(VLOOKUP($A604,check!$A:$L,2,FALSE))=TRUE,\"\",VLOOKUP($A604,check!$A:$L,2,FALSE))","v":""},{"$f":"IF(ISERROR(VLOOKUP($A604,check!$A:$L,3,FALSE))=TRUE,\"\",VLOOKUP($A604,check!$A:$L,3,FALSE))","v":""},{"$f":"IF(ISERROR(VLOOKUP($A604,check!$A:$L,4,FALSE))=TRUE,\"\",VLOOKUP($A604,check!$A:$L,4,FALSE))","v":""},{"$f":"IF(ISERROR(VLOOKUP($A604,check!$A:$L,5,FALSE))=TRUE,\"\",VLOOKUP($A604,check!$A:$L,5,FALSE))","v":""},{"$f":"IF(ISERROR(VLOOKUP($A604,check!$A:$L,6,FALSE))=TRUE,\"\",VLOOKUP($A604,check!$A:$L,6,FALSE))","v":""},{"$f":"IF(ISERROR(VLOOKUP($A604,check!$A:$L,7,FALSE))=TRUE,\"\",VLOOKUP($A604,check!$A:$L,7,FALSE))","v":""},{"$f":"IF(ISERROR(VLOOKUP($A604,check!$A:$L,8,FALSE))=TRUE,\"\",VLOOKUP($A604,check!$A:$L,8,FALSE))","v":""},{"$f":"IF(ISERROR(VLOOKUP($A604,check!$A:$L,9,FALSE))=TRUE,\"\",VLOOKUP($A604,check!$A:$L,9,FALSE))","v":""},{"$f":"IF(ISERROR(VLOOKUP($A604,check!$A:$L,10,FALSE))=TRUE,\"\",VLOOKUP($A604,check!$A:$L,10,FALSE))","v":""},{"$f":"IF(ISERROR(VLOOKUP($A604,check!$A:$L,11,FALSE))=TRUE,\"\",VLOOKUP($A604,check!$A:$L,11,FALSE))","v":""},{"$f":"IF(ISERROR(VLOOKUP($A604,check!$A:$L,12,FALSE))=TRUE,\"\",VLOOKUP($A604,check!$A:$L,12,FALSE))","v":""}]
[605,{"$f":"IF(C605=\"\",\"\",MATCH(A605,check!A:A,0))","v":""},{"$f":"IF(ISERROR(VLOOKUP($A605,check!$A:$L,2,FALSE))=TRUE,\"\",VLOOKUP($A605,check!$A:$L,2,FALSE))","v":""},{"$f":"IF(ISERROR(VLOOKUP($A605,check!$A:$L,3,FALSE))=TRUE,\"\",VLOOKUP($A605,check!$A:$L,3,FALSE))","v":""},{"$f":"IF(ISERROR(VLOOKUP($A605,check!$A:$L,4,FALSE))=TRUE,\"\",VLOOKUP($A605,check!$A:$L,4,FALSE))","v":""},{"$f":"IF(ISERROR(VLOOKUP($A605,check!$A:$L,5,FALSE))=TRUE,\"\",VLOOKUP($A605,check!$A:$L,5,FALSE))","v":""},{"$f":"IF(ISERROR(VLOOKUP($A605,check!$A:$L,6,FALSE))=TRUE,\"\",VLOOKUP($A605,check!$A:$L,6,FALSE))","v":""},{"$f":"IF(ISERROR(VLOOKUP($A605,check!$A:$L,7,FALSE))=TRUE,\"\",VLOOKUP($A605,check!$A:$L,7,FALSE))","v":""},{"$f":"IF(ISERROR(VLOOKUP($A605,check!$A:$L,8,FALSE))=TRUE,\"\",VLOOKUP($A605,check!$A:$L,8,FALSE))","v":""},{"$f":"IF(ISERROR(VLOOKUP($A605,check!$A:$L,9,FALSE))=TRUE,\"\",VLOOKUP($A605,check!$A:$L,9,FALSE))","v":""},{"$f":"IF(ISERROR(VLOOKUP($A605,check!$A:$L,10,FALSE))=TRUE,\"\",VLOOKUP($A605,check!$A:$L,10,FALSE))","v":""},{"$f":"IF(ISERROR(VLOOKUP($A605,check!$A:$L,11,FALSE))=TRUE,\"\",VLOOKUP($A605,check!$A:$L,11,FALSE))","v":""},{"$f":"IF(ISERROR(VLOOKUP($A605,check!$A:$L,12,FALSE))=TRUE,\"\",VLOOKUP($A605,check!$A:$L,12,FALSE))","v":""}]
[606,{"$f":"IF(C606=\"\",\"\",MATCH(A606,check!A:A,0))","v":""},{"$f":"IF(ISERROR(VLOOKUP($A606,check!$A:$L,2,FALSE))=TRUE,\"\",VLOOKUP($A606,check!$A:$L,2,FALSE))","v":""},{"$f":"IF(ISERROR(VLOOKUP($A606,check!$A:$L,3,FALSE))=TRUE,\"\",VLOOKUP($A606,check!$A:$L,3,FALSE))","v":""},{"$f":"IF(ISERROR(VLOOKUP($A606,check!$A:$L,4,FALSE))=TRUE,\"\",VLOOKUP($A606,check!$A:$L,4,FALSE))","v":""},{"$f":"IF(ISERROR(VLOOKUP($A606,check!$A:$L,5,FALSE))=TRUE,\"\",VLOOKUP($A606,check!$A:$L,5,FALSE))","v":""},{"$f":"IF(ISERROR(VLOOKUP($A606,check!$A:$L,6,FALSE))=TRUE,\"\",VLOOKUP($A606,check!$A:$L,6,FALSE))","v":""},{"$f":"IF(ISERROR(VLOOKUP($A606,check!$A:$L,7,FALSE))=TRUE,\"\",VLOOKUP($A606,check!$A:$L,7,FALSE))","v":""},{"$f":"IF(ISERROR(VLOOKUP($A606,check!$A:$L,8,FALSE))=TRUE,\"\",VLOOKUP($A606,check!$A:$L,8,FALSE))","v":""},{"$f":"IF(ISERROR(VLOOKUP($A606,check!$A:$L,9,FALSE))=TRUE,\"\",VLOOKUP($A606,check!$A:$L,9,FALSE))","v":""},{"$f":"IF(ISERROR(VLOOKUP($A606,check!$A:$L,10,FALSE))=TRUE,\"\",VLOOKUP($A606,check!$A:$L,10,FALSE))","v":""},{"$f":"IF(ISERROR(VLOOKUP($A606,check!$A:$L,11,FALSE))=TRUE,\"\",VLOOKUP($A606,check!$A:$L,11,FALSE))","v":""},{"$f":"IF(ISERROR(VLOOKUP($A606,check!$A:$L,12,FALSE))=TRUE,\"\",VLOOKUP($A606,check!$A:$L,12,FALSE))","v":""}]
[607,{"$f":"IF(C607=\"\",\"\",MATCH(A607,check!A:A,0))","v":""},{"$f":"IF(ISERROR(VLOOKUP($A607,check!$A:$L,2,FALSE))=TRUE,\"\",VLOOKUP($A607,check!$A:$L,2,FALSE))","v":""},{"$f":"IF(ISERROR(VLOOKUP($A607,check!$A:$L,3,FALSE))=TRUE,\"\",VLOOKUP($A607,check!$A:$L,3,FALSE))","v":""},{"$f":"IF(ISERROR(VLOOKUP($A607,check!$A:$L,4,FALSE))=TRUE,\"\",VLOOKUP($A607,check!$A:$L,4,FALSE))","v":""},{"$f":"IF(ISERROR(VLOOKUP($A607,check!$A:$L,5,FALSE))=TRUE,\"\",VLOOKUP($A607,check!$A:$L,5,FALSE))","v":""},{"$f":"IF(ISERROR(VLOOKUP($A607,check!$A:$L,6,FALSE))=TRUE,\"\",VLOOKUP($A607,check!$A:$L,6,FALSE))","v":""},{"$f":"IF(ISERROR(VLOOKUP($A607,check!$A:$L,7,FALSE))=TRUE,\"\",VLOOKUP($A607,check!$A:$L,7,FALSE))","v":""},{"$f":"IF(ISERROR(VLOOKUP($A607,check!$A:$L,8,FALSE))=TRUE,\"\",VLOOKUP($A607,check!$A:$L,8,FALSE))","v":""},{"$f":"IF(ISERROR(VLOOKUP($A607,check!$A:$L,9,FALSE))=TRUE,\"\",VLOOKUP($A607,check!$A:$L,9,FALSE))","v":""},{"$f":"IF(ISERROR(VLOOKUP($A607,check!$A:$L,10,FALSE))=TRUE,\"\",VLOOKUP($A607,check!$A:$L,10,FALSE))","v":""},{"$f":"IF(ISERROR(VLOOKUP($A607,check!$A:$L,11,FALSE))=TRUE,\"\",VLOOKUP($A607,check!$A:$L,11,FALSE))","v":""},{"$f":"IF(ISERROR(VLOOKUP($A607,check!$A:$L,12,FALSE))=TRUE,\"\",VLOOKUP($A607,check!$A:$L,12,FALSE))","v":""}]
[608,{"$f":"IF(C608=\"\",\"\",MATCH(A608,check!A:A,0))","v":""},{"$f":"IF(ISERROR(VLOOKUP($A608,check!$A:$L,2,FALSE))=TRUE,\"\",VLOOKUP($A608,check!$A:$L,2,FALSE))","v":""},{"$f":"IF(ISERROR(VLOOKUP($A608,check!$A:$L,3,FALSE))=TRUE,\"\",VLOOKUP($A608,check!$A:$L,3,FALSE))","v":""},{"$f":"IF(ISERROR(VLOOKUP($A608,check!$A:$L,4,FALSE))=TRUE,\"\",VLOOKUP($A608,check!$A:$L,4,FALSE))","v":""},{"$f":"IF(ISERROR(VLOOKUP($A608,check!$A:$L,5,FALSE))=TRUE,\"\",VLOOKUP($A608,check!$A:$L,5,FALSE))","v":""},{"$f":"IF(ISERROR(VLOOKUP($A608,check!$A:$L,6,FALSE))=TRUE,\"\",VLOOKUP($A608,check!$A:$L,6,FALSE))","v":""},{"$f":"IF(ISERROR(VLOOKUP($A608,check!$A:$L,7,FALSE))=TRUE,\"\",VLOOKUP($A608,check!$A:$L,7,FALSE))","v":""},{"$f":"IF(ISERROR(VLOOKUP($A608,check!$A:$L,8,FALSE))=TRUE,\"\",VLOOKUP($A608,check!$A:$L,8,FALSE))","v":""},{"$f":"IF(ISERROR(VLOOKUP($A608,check!$A:$L,9,FALSE))=TRUE,\"\",VLOOKUP($A608,check!$A:$L,9,FALSE))","v":""},{"$f":"IF(ISERROR(VLOOKUP($A608,check!$A:$L,10,FALSE))=TRUE,\"\",VLOOKUP($A608,check!$A:$L,10,FALSE))","v":""},{"$f":"IF(ISERROR(VLOOKUP($A608,check!$A:$L,11,FALSE))=TRUE,\"\",VLOOKUP($A608,check!$A:$L,11,FALSE))","v":""},{"$f":"IF(ISERROR(VLOOKUP($A608,check!$A:$L,12,FALSE))=TRUE,\"\",VLOOKUP($A608,check!$A:$L,12,FALSE))","v":""}]
[609,{"$f":"IF(C609=\"\",\"\",MATCH(A609,check!A:A,0))","v":""},{"$f":"IF(ISERROR(VLOOKUP($A609,check!$A:$L,2,FALSE))=TRUE,\"\",VLOOKUP($A609,check!$A:$L,2,FALSE))","v":""},{"$f":"IF(ISERROR(VLOOKUP($A609,check!$A:$L,3,FALSE))=TRUE,\"\",VLOOKUP($A609,check!$A:$L,3,FALSE))","v":""},{"$f":"IF(ISERROR(VLOOKUP($A609,check!$A:$L,4,FALSE))=TRUE,\"\",VLOOKUP($A609,check!$A:$L,4,FALSE))","v":""},{"$f":"IF(ISERROR(VLOOKUP($A609,check!$A:$L,5,FALSE))=TRUE,\"\",VLOOKUP($A609,check!$A:$L,5,FALSE))","v":""},{"$f":"IF(ISERROR(VLOOKUP($A609,check!$A:$L,6,FALSE))=TRUE,\"\",VLOOKUP($A609,check!$A:$L,6,FALSE))","v":""},{"$f":"IF(ISERROR(VLOOKUP($A609,check!$A:$L,7,FALSE))=TRUE,\"\",VLOOKUP($A609,check!$A:$L,7,FALSE))","v":""},{"$f":"IF(ISERROR(VLOOKUP($A609,check!$A:$L,8,FALSE))=TRUE,\"\",VLOOKUP($A609,check!$A:$L,8,FALSE))","v":""},{"$f":"IF(ISERROR(VLOOKUP($A609,check!$A:$L,9,FALSE))=TRUE,\"\",VLOOKUP($A609,check!$A:$L,9,FALSE))","v":""},{"$f":"IF(ISERROR(VLOOKUP($A609,check!$A:$L,10,FALSE))=TRUE,\"\",VLOOKUP($A609,check!$A:$L,10,FALSE))","v":""},{"$f":"IF(ISERROR(VLOOKUP($A609,check!$A:$L,11,FALSE))=TRUE,\"\",VLOOKUP($A609,check!$A:$L,11,FALSE))","v":""},{"$f":"IF(ISERROR(VLOOKUP($A609,check!$A:$L,12,FALSE))=TRUE,\"\",VLOOKUP($A609,check!$A:$L,12,FALSE))","v":""}]
[610,{"$f":"IF(C610=\"\",\"\",MATCH(A610,check!A:A,0))","v":""},{"$f":"IF(ISERROR(VLOOKUP($A610,check!$A:$L,2,FALSE))=TRUE,\"\",VLOOKUP($A610,check!$A:$L,2,FALSE))","v":""},{"$f":"IF(ISERROR(VLOOKUP($A610,check!$A:$L,3,FALSE))=TRUE,\"\",VLOOKUP($A610,check!$A:$L,3,FALSE))","v":""},{"$f":"IF(ISERROR(VLOOKUP($A610,check!$A:$L,4,FALSE))=TRUE,\"\",VLOOKUP($A610,check!$A:$L,4,FALSE))","v":""},{"$f":"IF(ISERROR(VLOOKUP($A610,check!$A:$L,5,FALSE))=TRUE,\"\",VLOOKUP($A610,check!$A:$L,5,FALSE))","v":""},{"$f":"IF(ISERROR(VLOOKUP($A610,check!$A:$L,6,FALSE))=TRUE,\"\",VLOOKUP($A610,check!$A:$L,6,FALSE))","v":""},{"$f":"IF(ISERROR(VLOOKUP($A610,check!$A:$L,7,FALSE))=TRUE,\"\",VLOOKUP($A610,check!$A:$L,7,FALSE))","v":""},{"$f":"IF(ISERROR(VLOOKUP($A610,check!$A:$L,8,FALSE))=TRUE,\"\",VLOOKUP($A610,check!$A:$L,8,FALSE))","v":""},{"$f":"IF(ISERROR(VLOOKUP($A610,check!$A:$L,9,FALSE))=TRUE,\"\",VLOOKUP($A610,check!$A:$L,9,FALSE))","v":""},{"$f":"IF(ISERROR(VLOOKUP($A610,check!$A:$L,10,FALSE))=TRUE,\"\",VLOOKUP($A610,check!$A:$L,10,FALSE))","v":""},{"$f":"IF(ISERROR(VLOOKUP($A610,check!$A:$L,11,FALSE))=TRUE,\"\",VLOOKUP($A610,check!$A:$L,11,FALSE))","v":""},{"$f":"IF(ISERROR(VLOOKUP($A610,check!$A:$L,12,FALSE))=TRUE,\"\",VLOOKUP($A610,check!$A:$L,12,FALSE))","v":""}]
[611,{"$f":"IF(C611=\"\",\"\",MATCH(A611,check!A:A,0))","v":""},{"$f":"IF(ISERROR(VLOOKUP($A611,check!$A:$L,2,FALSE))=TRUE,\"\",VLOOKUP($A611,check!$A:$L,2,FALSE))","v":""},{"$f":"IF(ISERROR(VLOOKUP($A611,check!$A:$L,3,FALSE))=TRUE,\"\",VLOOKUP($A611,check!$A:$L,3,FALSE))","v":""},{"$f":"IF(ISERROR(VLOOKUP($A611,check!$A:$L,4,FALSE))=TRUE,\"\",VLOOKUP($A611,check!$A:$L,4,FALSE))","v":""},{"$f":"IF(ISERROR(VLOOKUP($A611,check!$A:$L,5,FALSE))=TRUE,\"\",VLOOKUP($A611,check!$A:$L,5,FALSE))","v":""},{"$f":"IF(ISERROR(VLOOKUP($A611,check!$A:$L,6,FALSE))=TRUE,\"\",VLOOKUP($A611,check!$A:$L,6,FALSE))","v":""},{"$f":"IF(ISERROR(VLOOKUP($A611,check!$A:$L,7,FALSE))=TRUE,\"\",VLOOKUP($A611,check!$A:$L,7,FALSE))","v":""},{"$f":"IF(ISERROR(VLOOKUP($A611,check!$A:$L,8,FALSE))=TRUE,\"\",VLOOKUP($A611,check!$A:$L,8,FALSE))","v":""},{"$f":"IF(ISERROR(VLOOKUP($A611,check!$A:$L,9,FALSE))=TRUE,\"\",VLOOKUP($A611,check!$A:$L,9,FALSE))","v":""},{"$f":"IF(ISERROR(VLOOKUP($A611,check!$A:$L,10,FALSE))=TRUE,\"\",VLOOKUP($A611,check!$A:$L,10,FALSE))","v":""},{"$f":"IF(ISERROR(VLOOKUP($A611,check!$A:$L,11,FALSE))=TRUE,\"\",VLOOKUP($A611,check!$A:$L,11,FALSE))","v":""},{"$f":"IF(ISERROR(VLOOKUP($A611,check!$A:$L,12,FALSE))=TRUE,\"\",VLOOKUP($A611,check!$A:$L,12,FALSE))","v":""}]
[612,{"$f":"IF(C612=\"\",\"\",MATCH(A612,check!A:A,0))","v":""},{"$f":"IF(ISERROR(VLOOKUP($A612,check!$A:$L,2,FALSE))=TRUE,\"\",VLOOKUP($A612,check!$A:$L,2,FALSE))","v":""},{"$f":"IF(ISERROR(VLOOKUP($A612,check!$A:$L,3,FALSE))=TRUE,\"\",VLOOKUP($A612,check!$A:$L,3,FALSE))","v":""},{"$f":"IF(ISERROR(VLOOKUP($A612,check!$A:$L,4,FALSE))=TRUE,\"\",VLOOKUP($A612,check!$A:$L,4,FALSE))","v":""},{"$f":"IF(ISERROR(VLOOKUP($A612,check!$A:$L,5,FALSE))=TRUE,\"\",VLOOKUP($A612,check!$A:$L,5,FALSE))","v":""},{"$f":"IF(ISERROR(VLOOKUP($A612,check!$A:$L,6,FALSE))=TRUE,\"\",VLOOKUP($A612,check!$A:$L,6,FALSE))","v":""},{"$f":"IF(ISERROR(VLOOKUP($A612,check!$A:$L,7,FALSE))=TRUE,\"\",VLOOKUP($A612,check!$A:$L,7,FALSE))","v":""},{"$f":"IF(ISERROR(VLOOKUP($A612,check!$A:$L,8,FALSE))=TRUE,\"\",VLOOKUP($A612,check!$A:$L,8,FALSE))","v":""},{"$f":"IF(ISERROR(VLOOKUP($A612,check!$A:$L,9,FALSE))=TRUE,\"\",VLOOKUP($A612,check!$A:$L,9,FALSE))","v":""},{"$f":"IF(ISERROR(VLOOKUP($A612,check!$A:$L,10,FALSE))=TRUE,\"\",VLOOKUP($A612,check!$A:$L,10,FALSE))","v":""},{"$f":"IF(ISERROR(VLOOKUP($A612,check!$A:$L,11,FALSE))=TRUE,\"\",VLOOKUP($A612,check!$A:$L,11,FALSE))","v":""},{"$f":"IF(ISERROR(VLOOKUP($A612,check!$A:$L,12,FALSE))=TRUE,\"\",VLOOKUP($A612,check!$A:$L,12,FALSE))","v":""}]
[613,{"$f":"IF(C613=\"\",\"\",MATCH(A613,check!A:A,0))","v":""},{"$f":"IF(ISERROR(VLOOKUP($A613,check!$A:$L,2,FALSE))=TRUE,\"\",VLOOKUP($A613,check!$A:$L,2,FALSE))","v":""},{"$f":"IF(ISERROR(VLOOKUP($A613,check!$A:$L,3,FALSE))=TRUE,\"\",VLOOKUP($A613,check!$A:$L,3,FALSE))","v":""},{"$f":"IF(ISERROR(VLOOKUP($A613,check!$A:$L,4,FALSE))=TRUE,\"\",VLOOKUP($A613,check!$A:$L,4,FALSE))","v":""},{"$f":"IF(ISERROR(VLOOKUP($A613,check!$A:$L,5,FALSE))=TRUE,\"\",VLOOKUP($A613,check!$A:$L,5,FALSE))","v":""},{"$f":"IF(ISERROR(VLOOKUP($A613,check!$A:$L,6,FALSE))=TRUE,\"\",VLOOKUP($A613,check!$A:$L,6,FALSE))","v":""},{"$f":"IF(ISERROR(VLOOKUP($A613,check!$A:$L,7,FALSE))=TRUE,\"\",VLOOKUP($A613,check!$A:$L,7,FALSE))","v":""},{"$f":"IF(ISERROR(VLOOKUP($A613,check!$A:$L,8,FALSE))=TRUE,\"\",VLOOKUP($A613,check!$A:$L,8,FALSE))","v":""},{"$f":"IF(ISERROR(VLOOKUP($A613,check!$A:$L,9,FALSE))=TRUE,\"\",VLOOKUP($A613,check!$A:$L,9,FALSE))","v":""},{"$f":"IF(ISERROR(VLOOKUP($A613,check!$A:$L,10,FALSE))=TRUE,\"\",VLOOKUP($A613,check!$A:$L,10,FALSE))","v":""},{"$f":"IF(ISERROR(VLOOKUP($A613,check!$A:$L,11,FALSE))=TRUE,\"\",VLOOKUP($A613,check!$A:$L,11,FALSE))","v":""},{"$f":"IF(ISERROR(VLOOKUP($A613,check!$A:$L,12,FALSE))=TRUE,\"\",VLOOKUP($A613,check!$A:$L,12,FALSE))","v":""}]
[614,{"$f":"IF(C614=\"\",\"\",MATCH(A614,check!A:A,0))","v":""},{"$f":"IF(ISERROR(VLOOKUP($A614,check!$A:$L,2,FALSE))=TRUE,\"\",VLOOKUP($A614,check!$A:$L,2,FALSE))","v":""},{"$f":"IF(ISERROR(VLOOKUP($A614,check!$A:$L,3,FALSE))=TRUE,\"\",VLOOKUP($A614,check!$A:$L,3,FALSE))","v":""},{"$f":"IF(ISERROR(VLOOKUP($A614,check!$A:$L,4,FALSE))=TRUE,\"\",VLOOKUP($A614,check!$A:$L,4,FALSE))","v":""},{"$f":"IF(ISERROR(VLOOKUP($A614,check!$A:$L,5,FALSE))=TRUE,\"\",VLOOKUP($A614,check!$A:$L,5,FALSE))","v":""},{"$f":"IF(ISERROR(VLOOKUP($A614,check!$A:$L,6,FALSE))=TRUE,\"\",VLOOKUP($A614,check!$A:$L,6,FALSE))","v":""},{"$f":"IF(ISERROR(VLOOKUP($A614,check!$A:$L,7,FALSE))=TRUE,\"\",VLOOKUP($A614,check!$A:$L,7,FALSE))","v":""},{"$f":"IF(ISERROR(VLOOKUP($A614,check!$A:$L,8,FALSE))=TRUE,\"\",VLOOKUP($A614,check!$A:$L,8,FALSE))","v":""},{"$f":"IF(ISERROR(VLOOKUP($A614,check!$A:$L,9,FALSE))=TRUE,\"\",VLOOKUP($A614,check!$A:$L,9,FALSE))","v":""},{"$f":"IF(ISERROR(VLOOKUP($A614,check!$A:$L,10,FALSE))=TRUE,\"\",VLOOKUP($A614,check!$A:$L,10,FALSE))","v":""},{"$f":"IF(ISERROR(VLOOKUP($A614,check!$A:$L,11,FALSE))=TRUE,\"\",VLOOKUP($A614,check!$A:$L,11,FALSE))","v":""},{"$f":"IF(ISERROR(VLOOKUP($A614,check!$A:$L,12,FALSE))=TRUE,\"\",VLOOKUP($A614,check!$A:$L,12,FALSE))","v":""}]
[615,{"$f":"IF(C615=\"\",\"\",MATCH(A615,check!A:A,0))","v":""},{"$f":"IF(ISERROR(VLOOKUP($A615,check!$A:$L,2,FALSE))=TRUE,\"\",VLOOKUP($A615,check!$A:$L,2,FALSE))","v":""},{"$f":"IF(ISERROR(VLOOKUP($A615,check!$A:$L,3,FALSE))=TRUE,\"\",VLOOKUP($A615,check!$A:$L,3,FALSE))","v":""},{"$f":"IF(ISERROR(VLOOKUP($A615,check!$A:$L,4,FALSE))=TRUE,\"\",VLOOKUP($A615,check!$A:$L,4,FALSE))","v":""},{"$f":"IF(ISERROR(VLOOKUP($A615,check!$A:$L,5,FALSE))=TRUE,\"\",VLOOKUP($A615,check!$A:$L,5,FALSE))","v":""},{"$f":"IF(ISERROR(VLOOKUP($A615,check!$A:$L,6,FALSE))=TRUE,\"\",VLOOKUP($A615,check!$A:$L,6,FALSE))","v":""},{"$f":"IF(ISERROR(VLOOKUP($A615,check!$A:$L,7,FALSE))=TRUE,\"\",VLOOKUP($A615,check!$A:$L,7,FALSE))","v":""},{"$f":"IF(ISERROR(VLOOKUP($A615,check!$A:$L,8,FALSE))=TRUE,\"\",VLOOKUP($A615,check!$A:$L,8,FALSE))","v":""},{"$f":"IF(ISERROR(VLOOKUP($A615,check!$A:$L,9,FALSE))=TRUE,\"\",VLOOKUP($A615,check!$A:$L,9,FALSE))","v":""},{"$f":"IF(ISERROR(VLOOKUP($A615,check!$A:$L,10,FALSE))=TRUE,\"\",VLOOKUP($A615,check!$A:$L,10,FALSE))","v":""},{"$f":"IF(ISERROR(VLOOKUP($A615,check!$A:$L,11,FALSE))=TRUE,\"\",VLOOKUP($A615,check!$A:$L,11,FALSE))","v":""},{"$f":"IF(ISERROR(VLOOKUP($A615,check!$A:$L,12,FALSE))=TRUE,\"\",VLOOKUP($A615,check!$A:$L,12,FALSE))","v":""}]
[616,{"$f":"IF(C616=\"\",\"\",MATCH(A616,check!A:A,0))","v":""},{"$f":"IF(ISERROR(VLOOKUP($A616,check!$A:$L,2,FALSE))=TRUE,\"\",VLOOKUP($A616,check!$A:$L,2,FALSE))","v":""},{"$f":"IF(ISERROR(VLOOKUP($A616,check!$A:$L,3,FALSE))=TRUE,\"\",VLOOKUP($A616,check!$A:$L,3,FALSE))","v":""},{"$f":"IF(ISERROR(VLOOKUP($A616,check!$A:$L,4,FALSE))=TRUE,\"\",VLOOKUP($A616,check!$A:$L,4,FALSE))","v":""},{"$f":"IF(ISERROR(VLOOKUP($A616,check!$A:$L,5,FALSE))=TRUE,\"\",VLOOKUP($A616,check!$A:$L,5,FALSE))","v":""},{"$f":"IF(ISERROR(VLOOKUP($A616,check!$A:$L,6,FALSE))=TRUE,\"\",VLOOKUP($A616,check!$A:$L,6,FALSE))","v":""},{"$f":"IF(ISERROR(VLOOKUP($A616,check!$A:$L,7,FALSE))=TRUE,\"\",VLOOKUP($A616,check!$A:$L,7,FALSE))","v":""},{"$f":"IF(ISERROR(VLOOKUP($A616,check!$A:$L,8,FALSE))=TRUE,\"\",VLOOKUP($A616,check!$A:$L,8,FALSE))","v":""},{"$f":"IF(ISERROR(VLOOKUP($A616,check!$A:$L,9,FALSE))=TRUE,\"\",VLOOKUP($A616,check!$A:$L,9,FALSE))","v":""},{"$f":"IF(ISERROR(VLOOKUP($A616,check!$A:$L,10,FALSE))=TRUE,\"\",VLOOKUP($A616,check!$A:$L,10,FALSE))","v":""},{"$f":"IF(ISERROR(VLOOKUP($A616,check!$A:$L,11,FALSE))=TRUE,\"\",VLOOKUP($A616,check!$A:$L,11,FALSE))","v":""},{"$f":"IF(ISERROR(VLOOKUP($A616,check!$A:$L,12,FALSE))=TRUE,\"\",VLOOKUP($A616,check!$A:$L,12,FALSE))","v":""}]
[617,{"$f":"IF(C617=\"\",\"\",MATCH(A617,check!A:A,0))","v":""},{"$f":"IF(ISERROR(VLOOKUP($A617,check!$A:$L,2,FALSE))=TRUE,\"\",VLOOKUP($A617,check!$A:$L,2,FALSE))","v":""},{"$f":"IF(ISERROR(VLOOKUP($A617,check!$A:$L,3,FALSE))=TRUE,\"\",VLOOKUP($A617,check!$A:$L,3,FALSE))","v":""},{"$f":"IF(ISERROR(VLOOKUP($A617,check!$A:$L,4,FALSE))=TRUE,\"\",VLOOKUP($A617,check!$A:$L,4,FALSE))","v":""},{"$f":"IF(ISERROR(VLOOKUP($A617,check!$A:$L,5,FALSE))=TRUE,\"\",VLOOKUP($A617,check!$A:$L,5,FALSE))","v":""},{"$f":"IF(ISERROR(VLOOKUP($A617,check!$A:$L,6,FALSE))=TRUE,\"\",VLOOKUP($A617,check!$A:$L,6,FALSE))","v":""},{"$f":"IF(ISERROR(VLOOKUP($A617,check!$A:$L,7,FALSE))=TRUE,\"\",VLOOKUP($A617,check!$A:$L,7,FALSE))","v":""},{"$f":"IF(ISERROR(VLOOKUP($A617,check!$A:$L,8,FALSE))=TRUE,\"\",VLOOKUP($A617,check!$A:$L,8,FALSE))","v":""},{"$f":"IF(ISERROR(VLOOKUP($A617,check!$A:$L,9,FALSE))=TRUE,\"\",VLOOKUP($A617,check!$A:$L,9,FALSE))","v":""},{"$f":"IF(ISERROR(VLOOKUP($A617,check!$A:$L,10,FALSE))=TRUE,\"\",VLOOKUP($A617,check!$A:$L,10,FALSE))","v":""},{"$f":"IF(ISERROR(VLOOKUP($A617,check!$A:$L,11,FALSE))=TRUE,\"\",VLOOKUP($A617,check!$A:$L,11,FALSE))","v":""},{"$f":"IF(ISERROR(VLOOKUP($A617,check!$A:$L,12,FALSE))=TRUE,\"\",VLOOKUP($A617,check!$A:$L,12,FALSE))","v":""}]
[618,{"$f":"IF(C618=\"\",\"\",MATCH(A618,check!A:A,0))","v":""},{"$f":"IF(ISERROR(VLOOKUP($A618,check!$A:$L,2,FALSE))=TRUE,\"\",VLOOKUP($A618,check!$A:$L,2,FALSE))","v":""},{"$f":"IF(ISERROR(VLOOKUP($A618,check!$A:$L,3,FALSE))=TRUE,\"\",VLOOKUP($A618,check!$A:$L,3,FALSE))","v":""},{"$f":"IF(ISERROR(VLOOKUP($A618,check!$A:$L,4,FALSE))=TRUE,\"\",VLOOKUP($A618,check!$A:$L,4,FALSE))","v":""},{"$f":"IF(ISERROR(VLOOKUP($A618,check!$A:$L,5,FALSE))=TRUE,\"\",VLOOKUP($A618,check!$A:$L,5,FALSE))","v":""},{"$f":"IF(ISERROR(VLOOKUP($A618,check!$A:$L,6,FALSE))=TRUE,\"\",VLOOKUP($A618,check!$A:$L,6,FALSE))","v":""},{"$f":"IF(ISERROR(VLOOKUP($A618,check!$A:$L,7,FALSE))=TRUE,\"\",VLOOKUP($A618,check!$A:$L,7,FALSE))","v":""},{"$f":"IF(ISERROR(VLOOKUP($A618,check!$A:$L,8,FALSE))=TRUE,\"\",VLOOKUP($A618,check!$A:$L,8,FALSE))","v":""},{"$f":"IF(ISERROR(VLOOKUP($A618,check!$A:$L,9,FALSE))=TRUE,\"\",VLOOKUP($A618,check!$A:$L,9,FALSE))","v":""},{"$f":"IF(ISERROR(VLOOKUP($A618,check!$A:$L,10,FALSE))=TRUE,\"\",VLOOKUP($A618,check!$A:$L,10,FALSE))","v":""},{"$f":"IF(ISERROR(VLOOKUP($A618,check!$A:$L,11,FALSE))=TRUE,\"\",VLOOKUP($A618,check!$A:$L,11,FALSE))","v":""},{"$f":"IF(ISERROR(VLOOKUP($A618,check!$A:$L,12,FALSE))=TRUE,\"\",VLOOKUP($A618,check!$A:$L,12,FALSE))","v":""}]
[619,{"$f":"IF(C619=\"\",\"\",MATCH(A619,check!A:A,0))","v":""},{"$f":"IF(ISERROR(VLOOKUP($A619,check!$A:$L,2,FALSE))=TRUE,\"\",VLOOKUP($A619,check!$A:$L,2,FALSE))","v":""},{"$f":"IF(ISERROR(VLOOKUP($A619,check!$A:$L,3,FALSE))=TRUE,\"\",VLOOKUP($A619,check!$A:$L,3,FALSE))","v":""},{"$f":"IF(ISERROR(VLOOKUP($A619,check!$A:$L,4,FALSE))=TRUE,\"\",VLOOKUP($A619,check!$A:$L,4,FALSE))","v":""},{"$f":"IF(ISERROR(VLOOKUP($A619,check!$A:$L,5,FALSE))=TRUE,\"\",VLOOKUP($A619,check!$A:$L,5,FALSE))","v":""},{"$f":"IF(ISERROR(VLOOKUP($A619,check!$A:$L,6,FALSE))=TRUE,\"\",VLOOKUP($A619,check!$A:$L,6,FALSE))","v":""},{"$f":"IF(ISERROR(VLOOKUP($A619,check!$A:$L,7,FALSE))=TRUE,\"\",VLOOKUP($A619,check!$A:$L,7,FALSE))","v":""},{"$f":"IF(ISERROR(VLOOKUP($A619,check!$A:$L,8,FALSE))=TRUE,\"\",VLOOKUP($A619,check!$A:$L,8,FALSE))","v":""},{"$f":"IF(ISERROR(VLOOKUP($A619,check!$A:$L,9,FALSE))=TRUE,\"\",VLOOKUP($A619,check!$A:$L,9,FALSE))","v":""},{"$f":"IF(ISERROR(VLOOKUP($A619,check!$A:$L,10,FALSE))=TRUE,\"\",VLOOKUP($A619,check!$A:$L,10,FALSE))","v":""},{"$f":"IF(ISERROR(VLOOKUP($A619,check!$A:$L,11,FALSE))=TRUE,\"\",VLOOKUP($A619,check!$A:$L,11,FALSE))","v":""},{"$f":"IF(ISERROR(VLOOKUP($A619,check!$A:$L,12,FALSE))=TRUE,\"\",VLOOKUP($A619,check!$A:$L,12,FALSE))","v":""}]
[620,{"$f":"IF(C620=\"\",\"\",MATCH(A620,check!A:A,0))","v":""},{"$f":"IF(ISERROR(VLOOKUP($A620,check!$A:$L,2,FALSE))=TRUE,\"\",VLOOKUP($A620,check!$A:$L,2,FALSE))","v":""},{"$f":"IF(ISERROR(VLOOKUP($A620,check!$A:$L,3,FALSE))=TRUE,\"\",VLOOKUP($A620,check!$A:$L,3,FALSE))","v":""},{"$f":"IF(ISERROR(VLOOKUP($A620,check!$A:$L,4,FALSE))=TRUE,\"\",VLOOKUP($A620,check!$A:$L,4,FALSE))","v":""},{"$f":"IF(ISERROR(VLOOKUP($A620,check!$A:$L,5,FALSE))=TRUE,\"\",VLOOKUP($A620,check!$A:$L,5,FALSE))","v":""},{"$f":"IF(ISERROR(VLOOKUP($A620,check!$A:$L,6,FALSE))=TRUE,\"\",VLOOKUP($A620,check!$A:$L,6,FALSE))","v":""},{"$f":"IF(ISERROR(VLOOKUP($A620,check!$A:$L,7,FALSE))=TRUE,\"\",VLOOKUP($A620,check!$A:$L,7,FALSE))","v":""},{"$f":"IF(ISERROR(VLOOKUP($A620,check!$A:$L,8,FALSE))=TRUE,\"\",VLOOKUP($A620,check!$A:$L,8,FALSE))","v":""},{"$f":"IF(ISERROR(VLOOKUP($A620,check!$A:$L,9,FALSE))=TRUE,\"\",VLOOKUP($A620,check!$A:$L,9,FALSE))","v":""},{"$f":"IF(ISERROR(VLOOKUP($A620,check!$A:$L,10,FALSE))=TRUE,\"\",VLOOKUP($A620,check!$A:$L,10,FALSE))","v":""},{"$f":"IF(ISERROR(VLOOKUP($A620,check!$A:$L,11,FALSE))=TRUE,\"\",VLOOKUP($A620,check!$A:$L,11,FALSE))","v":""},{"$f":"IF(ISERROR(VLOOKUP($A620,check!$A:$L,12,FALSE))=TRUE,\"\",VLOOKUP($A620,check!$A:$L,12,FALSE))","v":""}]
[621,{"$f":"IF(C621=\"\",\"\",MATCH(A621,check!A:A,0))","v":""},{"$f":"IF(ISERROR(VLOOKUP($A621,check!$A:$L,2,FALSE))=TRUE,\"\",VLOOKUP($A621,check!$A:$L,2,FALSE))","v":""},{"$f":"IF(ISERROR(VLOOKUP($A621,check!$A:$L,3,FALSE))=TRUE,\"\",VLOOKUP($A621,check!$A:$L,3,FALSE))","v":""},{"$f":"IF(ISERROR(VLOOKUP($A621,check!$A:$L,4,FALSE))=TRUE,\"\",VLOOKUP($A621,check!$A:$L,4,FALSE))","v":""},{"$f":"IF(ISERROR(VLOOKUP($A621,check!$A:$L,5,FALSE))=TRUE,\"\",VLOOKUP($A621,check!$A:$L,5,FALSE))","v":""},{"$f":"IF(ISERROR(VLOOKUP($A621,check!$A:$L,6,FALSE))=TRUE,\"\",VLOOKUP($A621,check!$A:$L,6,FALSE))","v":""},{"$f":"IF(ISERROR(VLOOKUP($A621,check!$A:$L,7,FALSE))=TRUE,\"\",VLOOKUP($A621,check!$A:$L,7,FALSE))","v":""},{"$f":"IF(ISERROR(VLOOKUP($A621,check!$A:$L,8,FALSE))=TRUE,\"\",VLOOKUP($A621,check!$A:$L,8,FALSE))","v":""},{"$f":"IF(ISERROR(VLOOKUP($A621,check!$A:$L,9,FALSE))=TRUE,\"\",VLOOKUP($A621,check!$A:$L,9,FALSE))","v":""},{"$f":"IF(ISERROR(VLOOKUP($A621,check!$A:$L,10,FALSE))=TRUE,\"\",VLOOKUP($A621,check!$A:$L,10,FALSE))","v":""},{"$f":"IF(ISERROR(VLOOKUP($A621,check!$A:$L,11,FALSE))=TRUE,\"\",VLOOKUP($A621,check!$A:$L,11,FALSE))","v":""},{"$f":"IF(ISERROR(VLOOKUP($A621,check!$A:$L,12,FALSE))=TRUE,\"\",VLOOKUP($A621,check!$A:$L,12,FALSE))","v":""}]
[622,{"$f":"IF(C622=\"\",\"\",MATCH(A622,check!A:A,0))","v":""},{"$f":"IF(ISERROR(VLOOKUP($A622,check!$A:$L,2,FALSE))=TRUE,\"\",VLOOKUP($A622,check!$A:$L,2,FALSE))","v":""},{"$f":"IF(ISERROR(VLOOKUP($A622,check!$A:$L,3,FALSE))=TRUE,\"\",VLOOKUP($A622,check!$A:$L,3,FALSE))","v":""},{"$f":"IF(ISERROR(VLOOKUP($A622,check!$A:$L,4,FALSE))=TRUE,\"\",VLOOKUP($A622,check!$A:$L,4,FALSE))","v":""},{"$f":"IF(ISERROR(VLOOKUP($A622,check!$A:$L,5,FALSE))=TRUE,\"\",VLOOKUP($A622,check!$A:$L,5,FALSE))","v":""},{"$f":"IF(ISERROR(VLOOKUP($A622,check!$A:$L,6,FALSE))=TRUE,\"\",VLOOKUP($A622,check!$A:$L,6,FALSE))","v":""},{"$f":"IF(ISERROR(VLOOKUP($A622,check!$A:$L,7,FALSE))=TRUE,\"\",VLOOKUP($A622,check!$A:$L,7,FALSE))","v":""},{"$f":"IF(ISERROR(VLOOKUP($A622,check!$A:$L,8,FALSE))=TRUE,\"\",VLOOKUP($A622,check!$A:$L,8,FALSE))","v":""},{"$f":"IF(ISERROR(VLOOKUP($A622,check!$A:$L,9,FALSE))=TRUE,\"\",VLOOKUP($A622,check!$A:$L,9,FALSE))","v":""},{"$f":"IF(ISERROR(VLOOKUP($A622,check!$A:$L,10,FALSE))=TRUE,\"\",VLOOKUP($A622,check!$A:$L,10,FALSE))","v":""},{"$f":"IF(ISERROR(VLOOKUP($A622,check!$A:$L,11,FALSE))=TRUE,\"\",VLOOKUP($A622,check!$A:$L,11,FALSE))","v":""},{"$f":"IF(ISERROR(VLOOKUP($A622,check!$A:$L,12,FALSE))=TRUE,\"\",VLOOKUP($A622,check!$A:$L,12,FALSE))","v":""}]
[623,{"$f":"IF(C623=\"\",\"\",MATCH(A623,check!A:A,0))","v":""},{"$f":"IF(ISERROR(VLOOKUP($A623,check!$A:$L,2,FALSE))=TRUE,\"\",VLOOKUP($A623,check!$A:$L,2,FALSE))","v":""},{"$f":"IF(ISERROR(VLOOKUP($A623,check!$A:$L,3,FALSE))=TRUE,\"\",VLOOKUP($A623,check!$A:$L,3,FALSE))","v":""},{"$f":"IF(ISERROR(VLOOKUP($A623,check!$A:$L,4,FALSE))=TRUE,\"\",VLOOKUP($A623,check!$A:$L,4,FALSE))","v":""},{"$f":"IF(ISERROR(VLOOKUP($A623,check!$A:$L,5,FALSE))=TRUE,\"\",VLOOKUP($A623,check!$A:$L,5,FALSE))","v":""},{"$f":"IF(ISERROR(VLOOKUP($A623,check!$A:$L,6,FALSE))=TRUE,\"\",VLOOKUP($A623,check!$A:$L,6,FALSE))","v":""},{"$f":"IF(ISERROR(VLOOKUP($A623,check!$A:$L,7,FALSE))=TRUE,\"\",VLOOKUP($A623,check!$A:$L,7,FALSE))","v":""},{"$f":"IF(ISERROR(VLOOKUP($A623,check!$A:$L,8,FALSE))=TRUE,\"\",VLOOKUP($A623,check!$A:$L,8,FALSE))","v":""},{"$f":"IF(ISERROR(VLOOKUP($A623,check!$A:$L,9,FALSE))=TRUE,\"\",VLOOKUP($A623,check!$A:$L,9,FALSE))","v":""},{"$f":"IF(ISERROR(VLOOKUP($A623,check!$A:$L,10,FALSE))=TRUE,\"\",VLOOKUP($A623,check!$A:$L,10,FALSE))","v":""},{"$f":"IF(ISERROR(VLOOKUP($A623,check!$A:$L,11,FALSE))=TRUE,\"\",VLOOKUP($A623,check!$A:$L,11,FALSE))","v":""},{"$f":"IF(ISERROR(VLOOKUP($A623,check!$A:$L,12,FALSE))=TRUE,\"\",VLOOKUP($A623,check!$A:$L,12,FALSE))","v":""}]
[624,{"$f":"IF(C624=\"\",\"\",MATCH(A624,check!A:A,0))","v":""},{"$f":"IF(ISERROR(VLOOKUP($A624,check!$A:$L,2,FALSE))=TRUE,\"\",VLOOKUP($A624,check!$A:$L,2,FALSE))","v":""},{"$f":"IF(ISERROR(VLOOKUP($A624,check!$A:$L,3,FALSE))=TRUE,\"\",VLOOKUP($A624,check!$A:$L,3,FALSE))","v":""},{"$f":"IF(ISERROR(VLOOKUP($A624,check!$A:$L,4,FALSE))=TRUE,\"\",VLOOKUP($A624,check!$A:$L,4,FALSE))","v":""},{"$f":"IF(ISERROR(VLOOKUP($A624,check!$A:$L,5,FALSE))=TRUE,\"\",VLOOKUP($A624,check!$A:$L,5,FALSE))","v":""},{"$f":"IF(ISERROR(VLOOKUP($A624,check!$A:$L,6,FALSE))=TRUE,\"\",VLOOKUP($A624,check!$A:$L,6,FALSE))","v":""},{"$f":"IF(ISERROR(VLOOKUP($A624,check!$A:$L,7,FALSE))=TRUE,\"\",VLOOKUP($A624,check!$A:$L,7,FALSE))","v":""},{"$f":"IF(ISERROR(VLOOKUP($A624,check!$A:$L,8,FALSE))=TRUE,\"\",VLOOKUP($A624,check!$A:$L,8,FALSE))","v":""},{"$f":"IF(ISERROR(VLOOKUP($A624,check!$A:$L,9,FALSE))=TRUE,\"\",VLOOKUP($A624,check!$A:$L,9,FALSE))","v":""},{"$f":"IF(ISERROR(VLOOKUP($A624,check!$A:$L,10,FALSE))=TRUE,\"\",VLOOKUP($A624,check!$A:$L,10,FALSE))","v":""},{"$f":"IF(ISERROR(VLOOKUP($A624,check!$A:$L,11,FALSE))=TRUE,\"\",VLOOKUP($A624,check!$A:$L,11,FALSE))","v":""},{"$f":"IF(ISERROR(VLOOKUP($A624,check!$A:$L,12,FALSE))=TRUE,\"\",VLOOKUP($A624,check!$A:$L,12,FALSE))","v":""}]
[625,{"$f":"IF(C625=\"\",\"\",MATCH(A625,check!A:A,0))","v":""},{"$f":"IF(ISERROR(VLOOKUP($A625,check!$A:$L,2,FALSE))=TRUE,\"\",VLOOKUP($A625,check!$A:$L,2,FALSE))","v":""},{"$f":"IF(ISERROR(VLOOKUP($A625,check!$A:$L,3,FALSE))=TRUE,\"\",VLOOKUP($A625,check!$A:$L,3,FALSE))","v":""},{"$f":"IF(ISERROR(VLOOKUP($A625,check!$A:$L,4,FALSE))=TRUE,\"\",VLOOKUP($A625,check!$A:$L,4,FALSE))","v":""},{"$f":"IF(ISERROR(VLOOKUP($A625,check!$A:$L,5,FALSE))=TRUE,\"\",VLOOKUP($A625,check!$A:$L,5,FALSE))","v":""},{"$f":"IF(ISERROR(VLOOKUP($A625,check!$A:$L,6,FALSE))=TRUE,\"\",VLOOKUP($A625,check!$A:$L,6,FALSE))","v":""},{"$f":"IF(ISERROR(VLOOKUP($A625,check!$A:$L,7,FALSE))=TRUE,\"\",VLOOKUP($A625,check!$A:$L,7,FALSE))","v":""},{"$f":"IF(ISERROR(VLOOKUP($A625,check!$A:$L,8,FALSE))=TRUE,\"\",VLOOKUP($A625,check!$A:$L,8,FALSE))","v":""},{"$f":"IF(ISERROR(VLOOKUP($A625,check!$A:$L,9,FALSE))=TRUE,\"\",VLOOKUP($A625,check!$A:$L,9,FALSE))","v":""},{"$f":"IF(ISERROR(VLOOKUP($A625,check!$A:$L,10,FALSE))=TRUE,\"\",VLOOKUP($A625,check!$A:$L,10,FALSE))","v":""},{"$f":"IF(ISERROR(VLOOKUP($A625,check!$A:$L,11,FALSE))=TRUE,\"\",VLOOKUP($A625,check!$A:$L,11,FALSE))","v":""},{"$f":"IF(ISERROR(VLOOKUP($A625,check!$A:$L,12,FALSE))=TRUE,\"\",VLOOKUP($A625,check!$A:$L,12,FALSE))","v":""}]
[626,{"$f":"IF(C626=\"\",\"\",MATCH(A626,check!A:A,0))","v":""},{"$f":"IF(ISERROR(VLOOKUP($A626,check!$A:$L,2,FALSE))=TRUE,\"\",VLOOKUP($A626,check!$A:$L,2,FALSE))","v":""},{"$f":"IF(ISERROR(VLOOKUP($A626,check!$A:$L,3,FALSE))=TRUE,\"\",VLOOKUP($A626,check!$A:$L,3,FALSE))","v":""},{"$f":"IF(ISERROR(VLOOKUP($A626,check!$A:$L,4,FALSE))=TRUE,\"\",VLOOKUP($A626,check!$A:$L,4,FALSE))","v":""},{"$f":"IF(ISERROR(VLOOKUP($A626,check!$A:$L,5,FALSE))=TRUE,\"\",VLOOKUP($A626,check!$A:$L,5,FALSE))","v":""},{"$f":"IF(ISERROR(VLOOKUP($A626,check!$A:$L,6,FALSE))=TRUE,\"\",VLOOKUP($A626,check!$A:$L,6,FALSE))","v":""},{"$f":"IF(ISERROR(VLOOKUP($A626,check!$A:$L,7,FALSE))=TRUE,\"\",VLOOKUP($A626,check!$A:$L,7,FALSE))","v":""},{"$f":"IF(ISERROR(VLOOKUP($A626,check!$A:$L,8,FALSE))=TRUE,\"\",VLOOKUP($A626,check!$A:$L,8,FALSE))","v":""},{"$f":"IF(ISERROR(VLOOKUP($A626,check!$A:$L,9,FALSE))=TRUE,\"\",VLOOKUP($A626,check!$A:$L,9,FALSE))","v":""},{"$f":"IF(ISERROR(VLOOKUP($A626,check!$A:$L,10,FALSE))=TRUE,\"\",VLOOKUP($A626,check!$A:$L,10,FALSE))","v":""},{"$f":"IF(ISERROR(VLOOKUP($A626,check!$A:$L,11,FALSE))=TRUE,\"\",VLOOKUP($A626,check!$A:$L,11,FALSE))","v":""},{"$f":"IF(ISERROR(VLOOKUP($A626,check!$A:$L,12,FALSE))=TRUE,\"\",VLOOKUP($A626,check!$A:$L,12,FALSE))","v":""}]
[627,{"$f":"IF(C627=\"\",\"\",MATCH(A627,check!A:A,0))","v":""},{"$f":"IF(ISERROR(VLOOKUP($A627,check!$A:$L,2,FALSE))=TRUE,\"\",VLOOKUP($A627,check!$A:$L,2,FALSE))","v":""},{"$f":"IF(ISERROR(VLOOKUP($A627,check!$A:$L,3,FALSE))=TRUE,\"\",VLOOKUP($A627,check!$A:$L,3,FALSE))","v":""},{"$f":"IF(ISERROR(VLOOKUP($A627,check!$A:$L,4,FALSE))=TRUE,\"\",VLOOKUP($A627,check!$A:$L,4,FALSE))","v":""},{"$f":"IF(ISERROR(VLOOKUP($A627,check!$A:$L,5,FALSE))=TRUE,\"\",VLOOKUP($A627,check!$A:$L,5,FALSE))","v":""},{"$f":"IF(ISERROR(VLOOKUP($A627,check!$A:$L,6,FALSE))=TRUE,\"\",VLOOKUP($A627,check!$A:$L,6,FALSE))","v":""},{"$f":"IF(ISERROR(VLOOKUP($A627,check!$A:$L,7,FALSE))=TRUE,\"\",VLOOKUP($A627,check!$A:$L,7,FALSE))","v":""},{"$f":"IF(ISERROR(VLOOKUP($A627,check!$A:$L,8,FALSE))=TRUE,\"\",VLOOKUP($A627,check!$A:$L,8,FALSE))","v":""},{"$f":"IF(ISERROR(VLOOKUP($A627,check!$A:$L,9,FALSE))=TRUE,\"\",VLOOKUP($A627,check!$A:$L,9,FALSE))","v":""},{"$f":"IF(ISERROR(VLOOKUP($A627,check!$A:$L,10,FALSE))=TRUE,\"\",VLOOKUP($A627,check!$A:$L,10,FALSE))","v":""},{"$f":"IF(ISERROR(VLOOKUP($A627,check!$A:$L,11,FALSE))=TRUE,\"\",VLOOKUP($A627,check!$A:$L,11,FALSE))","v":""},{"$f":"IF(ISERROR(VLOOKUP($A627,check!$A:$L,12,FALSE))=TRUE,\"\",VLOOKUP($A627,check!$A:$L,12,FALSE))","v":""}]
[628,{"$f":"IF(C628=\"\",\"\",MATCH(A628,check!A:A,0))","v":""},{"$f":"IF(ISERROR(VLOOKUP($A628,check!$A:$L,2,FALSE))=TRUE,\"\",VLOOKUP($A628,check!$A:$L,2,FALSE))","v":""},{"$f":"IF(ISERROR(VLOOKUP($A628,check!$A:$L,3,FALSE))=TRUE,\"\",VLOOKUP($A628,check!$A:$L,3,FALSE))","v":""},{"$f":"IF(ISERROR(VLOOKUP($A628,check!$A:$L,4,FALSE))=TRUE,\"\",VLOOKUP($A628,check!$A:$L,4,FALSE))","v":""},{"$f":"IF(ISERROR(VLOOKUP($A628,check!$A:$L,5,FALSE))=TRUE,\"\",VLOOKUP($A628,check!$A:$L,5,FALSE))","v":""},{"$f":"IF(ISERROR(VLOOKUP($A628,check!$A:$L,6,FALSE))=TRUE,\"\",VLOOKUP($A628,check!$A:$L,6,FALSE))","v":""},{"$f":"IF(ISERROR(VLOOKUP($A628,check!$A:$L,7,FALSE))=TRUE,\"\",VLOOKUP($A628,check!$A:$L,7,FALSE))","v":""},{"$f":"IF(ISERROR(VLOOKUP($A628,check!$A:$L,8,FALSE))=TRUE,\"\",VLOOKUP($A628,check!$A:$L,8,FALSE))","v":""},{"$f":"IF(ISERROR(VLOOKUP($A628,check!$A:$L,9,FALSE))=TRUE,\"\",VLOOKUP($A628,check!$A:$L,9,FALSE))","v":""},{"$f":"IF(ISERROR(VLOOKUP($A628,check!$A:$L,10,FALSE))=TRUE,\"\",VLOOKUP($A628,check!$A:$L,10,FALSE))","v":""},{"$f":"IF(ISERROR(VLOOKUP($A628,check!$A:$L,11,FALSE))=TRUE,\"\",VLOOKUP($A628,check!$A:$L,11,FALSE))","v":""},{"$f":"IF(ISERROR(VLOOKUP($A628,check!$A:$L,12,FALSE))=TRUE,\"\",VLOOKUP($A628,check!$A:$L,12,FALSE))","v":""}]
[629,{"$f":"IF(C629=\"\",\"\",MATCH(A629,check!A:A,0))","v":""},{"$f":"IF(ISERROR(VLOOKUP($A629,check!$A:$L,2,FALSE))=TRUE,\"\",VLOOKUP($A629,check!$A:$L,2,FALSE))","v":""},{"$f":"IF(ISERROR(VLOOKUP($A629,check!$A:$L,3,FALSE))=TRUE,\"\",VLOOKUP($A629,check!$A:$L,3,FALSE))","v":""},{"$f":"IF(ISERROR(VLOOKUP($A629,check!$A:$L,4,FALSE))=TRUE,\"\",VLOOKUP($A629,check!$A:$L,4,FALSE))","v":""},{"$f":"IF(ISERROR(VLOOKUP($A629,check!$A:$L,5,FALSE))=TRUE,\"\",VLOOKUP($A629,check!$A:$L,5,FALSE))","v":""},{"$f":"IF(ISERROR(VLOOKUP($A629,check!$A:$L,6,FALSE))=TRUE,\"\",VLOOKUP($A629,check!$A:$L,6,FALSE))","v":""},{"$f":"IF(ISERROR(VLOOKUP($A629,check!$A:$L,7,FALSE))=TRUE,\"\",VLOOKUP($A629,check!$A:$L,7,FALSE))","v":""},{"$f":"IF(ISERROR(VLOOKUP($A629,check!$A:$L,8,FALSE))=TRUE,\"\",VLOOKUP($A629,check!$A:$L,8,FALSE))","v":""},{"$f":"IF(ISERROR(VLOOKUP($A629,check!$A:$L,9,FALSE))=TRUE,\"\",VLOOKUP($A629,check!$A:$L,9,FALSE))","v":""},{"$f":"IF(ISERROR(VLOOKUP($A629,check!$A:$L,10,FALSE))=TRUE,\"\",VLOOKUP($A629,check!$A:$L,10,FALSE))","v":""},{"$f":"IF(ISERROR(VLOOKUP($A629,check!$A:$L,11,FALSE))=TRUE,\"\",VLOOKUP($A629,check!$A:$L,11,FALSE))","v":""},{"$f":"IF(ISERROR(VLOOKUP($A629,check!$A:$L,12,FALSE))=TRUE,\"\",VLOOKUP($A629,check!$A:$L,12,FALSE))","v":""}]
[630,{"$f":"IF(C630=\"\",\"\",MATCH(A630,check!A:A,0))","v":""},{"$f":"IF(ISERROR(VLOOKUP($A630,check!$A:$L,2,FALSE))=TRUE,\"\",VLOOKUP($A630,check!$A:$L,2,FALSE))","v":""},{"$f":"IF(ISERROR(VLOOKUP($A630,check!$A:$L,3,FALSE))=TRUE,\"\",VLOOKUP($A630,check!$A:$L,3,FALSE))","v":""},{"$f":"IF(ISERROR(VLOOKUP($A630,check!$A:$L,4,FALSE))=TRUE,\"\",VLOOKUP($A630,check!$A:$L,4,FALSE))","v":""},{"$f":"IF(ISERROR(VLOOKUP($A630,check!$A:$L,5,FALSE))=TRUE,\"\",VLOOKUP($A630,check!$A:$L,5,FALSE))","v":""},{"$f":"IF(ISERROR(VLOOKUP($A630,check!$A:$L,6,FALSE))=TRUE,\"\",VLOOKUP($A630,check!$A:$L,6,FALSE))","v":""},{"$f":"IF(ISERROR(VLOOKUP($A630,check!$A:$L,7,FALSE))=TRUE,\"\",VLOOKUP($A630,check!$A:$L,7,FALSE))","v":""},{"$f":"IF(ISERROR(VLOOKUP($A630,check!$A:$L,8,FALSE))=TRUE,\"\",VLOOKUP($A630,check!$A:$L,8,FALSE))","v":""},{"$f":"IF(ISERROR(VLOOKUP($A630,check!$A:$L,9,FALSE))=TRUE,\"\",VLOOKUP($A630,check!$A:$L,9,FALSE))","v":""},{"$f":"IF(ISERROR(VLOOKUP($A630,check!$A:$L,10,FALSE))=TRUE,\"\",VLOOKUP($A630,check!$A:$L,10,FALSE))","v":""},{"$f":"IF(ISERROR(VLOOKUP($A630,check!$A:$L,11,FALSE))=TRUE,\"\",VLOOKUP($A630,check!$A:$L,11,FALSE))","v":""},{"$f":"IF(ISERROR(VLOOKUP($A630,check!$A:$L,12,FALSE))=TRUE,\"\",VLOOKUP($A630,check!$A:$L,12,FALSE))","v":""}]
[631,{"$f":"IF(C631=\"\",\"\",MATCH(A631,check!A:A,0))","v":""},{"$f":"IF(ISERROR(VLOOKUP($A631,check!$A:$L,2,FALSE))=TRUE,\"\",VLOOKUP($A631,check!$A:$L,2,FALSE))","v":""},{"$f":"IF(ISERROR(VLOOKUP($A631,check!$A:$L,3,FALSE))=TRUE,\"\",VLOOKUP($A631,check!$A:$L,3,FALSE))","v":""},{"$f":"IF(ISERROR(VLOOKUP($A631,check!$A:$L,4,FALSE))=TRUE,\"\",VLOOKUP($A631,check!$A:$L,4,FALSE))","v":""},{"$f":"IF(ISERROR(VLOOKUP($A631,check!$A:$L,5,FALSE))=TRUE,\"\",VLOOKUP($A631,check!$A:$L,5,FALSE))","v":""},{"$f":"IF(ISERROR(VLOOKUP($A631,check!$A:$L,6,FALSE))=TRUE,\"\",VLOOKUP($A631,check!$A:$L,6,FALSE))","v":""},{"$f":"IF(ISERROR(VLOOKUP($A631,check!$A:$L,7,FALSE))=TRUE,\"\",VLOOKUP($A631,check!$A:$L,7,FALSE))","v":""},{"$f":"IF(ISERROR(VLOOKUP($A631,check!$A:$L,8,FALSE))=TRUE,\"\",VLOOKUP($A631,check!$A:$L,8,FALSE))","v":""},{"$f":"IF(ISERROR(VLOOKUP($A631,check!$A:$L,9,FALSE))=TRUE,\"\",VLOOKUP($A631,check!$A:$L,9,FALSE))","v":""},{"$f":"IF(ISERROR(VLOOKUP($A631,check!$A:$L,10,FALSE))=TRUE,\"\",VLOOKUP($A631,check!$A:$L,10,FALSE))","v":""},{"$f":"IF(ISERROR(VLOOKUP($A631,check!$A:$L,11,FALSE))=TRUE,\"\",VLOOKUP($A631,check!$A:$L,11,FALSE))","v":""},{"$f":"IF(ISERROR(VLOOKUP($A631,check!$A:$L,12,FALSE))=TRUE,\"\",VLOOKUP($A631,check!$A:$L,12,FALSE))","v":""}]
[632,{"$f":"IF(C632=\"\",\"\",MATCH(A632,check!A:A,0))","v":""},{"$f":"IF(ISERROR(VLOOKUP($A632,check!$A:$L,2,FALSE))=TRUE,\"\",VLOOKUP($A632,check!$A:$L,2,FALSE))","v":""},{"$f":"IF(ISERROR(VLOOKUP($A632,check!$A:$L,3,FALSE))=TRUE,\"\",VLOOKUP($A632,check!$A:$L,3,FALSE))","v":""},{"$f":"IF(ISERROR(VLOOKUP($A632,check!$A:$L,4,FALSE))=TRUE,\"\",VLOOKUP($A632,check!$A:$L,4,FALSE))","v":""},{"$f":"IF(ISERROR(VLOOKUP($A632,check!$A:$L,5,FALSE))=TRUE,\"\",VLOOKUP($A632,check!$A:$L,5,FALSE))","v":""},{"$f":"IF(ISERROR(VLOOKUP($A632,check!$A:$L,6,FALSE))=TRUE,\"\",VLOOKUP($A632,check!$A:$L,6,FALSE))","v":""},{"$f":"IF(ISERROR(VLOOKUP($A632,check!$A:$L,7,FALSE))=TRUE,\"\",VLOOKUP($A632,check!$A:$L,7,FALSE))","v":""},{"$f":"IF(ISERROR(VLOOKUP($A632,check!$A:$L,8,FALSE))=TRUE,\"\",VLOOKUP($A632,check!$A:$L,8,FALSE))","v":""},{"$f":"IF(ISERROR(VLOOKUP($A632,check!$A:$L,9,FALSE))=TRUE,\"\",VLOOKUP($A632,check!$A:$L,9,FALSE))","v":""},{"$f":"IF(ISERROR(VLOOKUP($A632,check!$A:$L,10,FALSE))=TRUE,\"\",VLOOKUP($A632,check!$A:$L,10,FALSE))","v":""},{"$f":"IF(ISERROR(VLOOKUP($A632,check!$A:$L,11,FALSE))=TRUE,\"\",VLOOKUP($A632,check!$A:$L,11,FALSE))","v":""},{"$f":"IF(ISERROR(VLOOKUP($A632,check!$A:$L,12,FALSE))=TRUE,\"\",VLOOKUP($A632,check!$A:$L,12,FALSE))","v":""}]
[633,{"$f":"IF(C633=\"\",\"\",MATCH(A633,check!A:A,0))","v":""},{"$f":"IF(ISERROR(VLOOKUP($A633,check!$A:$L,2,FALSE))=TRUE,\"\",VLOOKUP($A633,check!$A:$L,2,FALSE))","v":""},{"$f":"IF(ISERROR(VLOOKUP($A633,check!$A:$L,3,FALSE))=TRUE,\"\",VLOOKUP($A633,check!$A:$L,3,FALSE))","v":""},{"$f":"IF(ISERROR(VLOOKUP($A633,check!$A:$L,4,FALSE))=TRUE,\"\",VLOOKUP($A633,check!$A:$L,4,FALSE))","v":""},{"$f":"IF(ISERROR(VLOOKUP($A633,check!$A:$L,5,FALSE))=TRUE,\"\",VLOOKUP($A633,check!$A:$L,5,FALSE))","v":""},{"$f":"IF(ISERROR(VLOOKUP($A633,check!$A:$L,6,FALSE))=TRUE,\"\",VLOOKUP($A633,check!$A:$L,6,FALSE))","v":""},{"$f":"IF(ISERROR(VLOOKUP($A633,check!$A:$L,7,FALSE))=TRUE,\"\",VLOOKUP($A633,check!$A:$L,7,FALSE))","v":""},{"$f":"IF(ISERROR(VLOOKUP($A633,check!$A:$L,8,FALSE))=TRUE,\"\",VLOOKUP($A633,check!$A:$L,8,FALSE))","v":""},{"$f":"IF(ISERROR(VLOOKUP($A633,check!$A:$L,9,FALSE))=TRUE,\"\",VLOOKUP($A633,check!$A:$L,9,FALSE))","v":""},{"$f":"IF(ISERROR(VLOOKUP($A633,check!$A:$L,10,FALSE))=TRUE,\"\",VLOOKUP($A633,check!$A:$L,10,FALSE))","v":""},{"$f":"IF(ISERROR(VLOOKUP($A633,check!$A:$L,11,FALSE))=TRUE,\"\",VLOOKUP($A633,check!$A:$L,11,FALSE))","v":""},{"$f":"IF(ISERROR(VLOOKUP($A633,check!$A:$L,12,FALSE))=TRUE,\"\",VLOOKUP($A633,check!$A:$L,12,FALSE))","v":""}]
[634,{"$f":"IF(C634=\"\",\"\",MATCH(A634,check!A:A,0))","v":""},{"$f":"IF(ISERROR(VLOOKUP($A634,check!$A:$L,2,FALSE))=TRUE,\"\",VLOOKUP($A634,check!$A:$L,2,FALSE))","v":""},{"$f":"IF(ISERROR(VLOOKUP($A634,check!$A:$L,3,FALSE))=TRUE,\"\",VLOOKUP($A634,check!$A:$L,3,FALSE))","v":""},{"$f":"IF(ISERROR(VLOOKUP($A634,check!$A:$L,4,FALSE))=TRUE,\"\",VLOOKUP($A634,check!$A:$L,4,FALSE))","v":""},{"$f":"IF(ISERROR(VLOOKUP($A634,check!$A:$L,5,FALSE))=TRUE,\"\",VLOOKUP($A634,check!$A:$L,5,FALSE))","v":""},{"$f":"IF(ISERROR(VLOOKUP($A634,check!$A:$L,6,FALSE))=TRUE,\"\",VLOOKUP($A634,check!$A:$L,6,FALSE))","v":""},{"$f":"IF(ISERROR(VLOOKUP($A634,check!$A:$L,7,FALSE))=TRUE,\"\",VLOOKUP($A634,check!$A:$L,7,FALSE))","v":""},{"$f":"IF(ISERROR(VLOOKUP($A634,check!$A:$L,8,FALSE))=TRUE,\"\",VLOOKUP($A634,check!$A:$L,8,FALSE))","v":""},{"$f":"IF(ISERROR(VLOOKUP($A634,check!$A:$L,9,FALSE))=TRUE,\"\",VLOOKUP($A634,check!$A:$L,9,FALSE))","v":""},{"$f":"IF(ISERROR(VLOOKUP($A634,check!$A:$L,10,FALSE))=TRUE,\"\",VLOOKUP($A634,check!$A:$L,10,FALSE))","v":""},{"$f":"IF(ISERROR(VLOOKUP($A634,check!$A:$L,11,FALSE))=TRUE,\"\",VLOOKUP($A634,check!$A:$L,11,FALSE))","v":""},{"$f":"IF(ISERROR(VLOOKUP($A634,check!$A:$L,12,FALSE))=TRUE,\"\",VLOOKUP($A634,check!$A:$L,12,FALSE))","v":""}]
[635,{"$f":"IF(C635=\"\",\"\",MATCH(A635,check!A:A,0))","v":""},{"$f":"IF(ISERROR(VLOOKUP($A635,check!$A:$L,2,FALSE))=TRUE,\"\",VLOOKUP($A635,check!$A:$L,2,FALSE))","v":""},{"$f":"IF(ISERROR(VLOOKUP($A635,check!$A:$L,3,FALSE))=TRUE,\"\",VLOOKUP($A635,check!$A:$L,3,FALSE))","v":""},{"$f":"IF(ISERROR(VLOOKUP($A635,check!$A:$L,4,FALSE))=TRUE,\"\",VLOOKUP($A635,check!$A:$L,4,FALSE))","v":""},{"$f":"IF(ISERROR(VLOOKUP($A635,check!$A:$L,5,FALSE))=TRUE,\"\",VLOOKUP($A635,check!$A:$L,5,FALSE))","v":""},{"$f":"IF(ISERROR(VLOOKUP($A635,check!$A:$L,6,FALSE))=TRUE,\"\",VLOOKUP($A635,check!$A:$L,6,FALSE))","v":""},{"$f":"IF(ISERROR(VLOOKUP($A635,check!$A:$L,7,FALSE))=TRUE,\"\",VLOOKUP($A635,check!$A:$L,7,FALSE))","v":""},{"$f":"IF(ISERROR(VLOOKUP($A635,check!$A:$L,8,FALSE))=TRUE,\"\",VLOOKUP($A635,check!$A:$L,8,FALSE))","v":""},{"$f":"IF(ISERROR(VLOOKUP($A635,check!$A:$L,9,FALSE))=TRUE,\"\",VLOOKUP($A635,check!$A:$L,9,FALSE))","v":""},{"$f":"IF(ISERROR(VLOOKUP($A635,check!$A:$L,10,FALSE))=TRUE,\"\",VLOOKUP($A635,check!$A:$L,10,FALSE))","v":""},{"$f":"IF(ISERROR(VLOOKUP($A635,check!$A:$L,11,FALSE))=TRUE,\"\",VLOOKUP($A635,check!$A:$L,11,FALSE))","v":""},{"$f":"IF(ISERROR(VLOOKUP($A635,check!$A:$L,12,FALSE))=TRUE,\"\",VLOOKUP($A635,check!$A:$L,12,FALSE))","v":""}]
[636,{"$f":"IF(C636=\"\",\"\",MATCH(A636,check!A:A,0))","v":""},{"$f":"IF(ISERROR(VLOOKUP($A636,check!$A:$L,2,FALSE))=TRUE,\"\",VLOOKUP($A636,check!$A:$L,2,FALSE))","v":""},{"$f":"IF(ISERROR(VLOOKUP($A636,check!$A:$L,3,FALSE))=TRUE,\"\",VLOOKUP($A636,check!$A:$L,3,FALSE))","v":""},{"$f":"IF(ISERROR(VLOOKUP($A636,check!$A:$L,4,FALSE))=TRUE,\"\",VLOOKUP($A636,check!$A:$L,4,FALSE))","v":""},{"$f":"IF(ISERROR(VLOOKUP($A636,check!$A:$L,5,FALSE))=TRUE,\"\",VLOOKUP($A636,check!$A:$L,5,FALSE))","v":""},{"$f":"IF(ISERROR(VLOOKUP($A636,check!$A:$L,6,FALSE))=TRUE,\"\",VLOOKUP($A636,check!$A:$L,6,FALSE))","v":""},{"$f":"IF(ISERROR(VLOOKUP($A636,check!$A:$L,7,FALSE))=TRUE,\"\",VLOOKUP($A636,check!$A:$L,7,FALSE))","v":""},{"$f":"IF(ISERROR(VLOOKUP($A636,check!$A:$L,8,FALSE))=TRUE,\"\",VLOOKUP($A636,check!$A:$L,8,FALSE))","v":""},{"$f":"IF(ISERROR(VLOOKUP($A636,check!$A:$L,9,FALSE))=TRUE,\"\",VLOOKUP($A636,check!$A:$L,9,FALSE))","v":""},{"$f":"IF(ISERROR(VLOOKUP($A636,check!$A:$L,10,FALSE))=TRUE,\"\",VLOOKUP($A636,check!$A:$L,10,FALSE))","v":""},{"$f":"IF(ISERROR(VLOOKUP($A636,check!$A:$L,11,FALSE))=TRUE,\"\",VLOOKUP($A636,check!$A:$L,11,FALSE))","v":""},{"$f":"IF(ISERROR(VLOOKUP($A636,check!$A:$L,12,FALSE))=TRUE,\"\",VLOOKUP($A636,check!$A:$L,12,FALSE))","v":""}]
[637,{"$f":"IF(C637=\"\",\"\",MATCH(A637,check!A:A,0))","v":""},{"$f":"IF(ISERROR(VLOOKUP($A637,check!$A:$L,2,FALSE))=TRUE,\"\",VLOOKUP($A637,check!$A:$L,2,FALSE))","v":""},{"$f":"IF(ISERROR(VLOOKUP($A637,check!$A:$L,3,FALSE))=TRUE,\"\",VLOOKUP($A637,check!$A:$L,3,FALSE))","v":""},{"$f":"IF(ISERROR(VLOOKUP($A637,check!$A:$L,4,FALSE))=TRUE,\"\",VLOOKUP($A637,check!$A:$L,4,FALSE))","v":""},{"$f":"IF(ISERROR(VLOOKUP($A637,check!$A:$L,5,FALSE))=TRUE,\"\",VLOOKUP($A637,check!$A:$L,5,FALSE))","v":""},{"$f":"IF(ISERROR(VLOOKUP($A637,check!$A:$L,6,FALSE))=TRUE,\"\",VLOOKUP($A637,check!$A:$L,6,FALSE))","v":""},{"$f":"IF(ISERROR(VLOOKUP($A637,check!$A:$L,7,FALSE))=TRUE,\"\",VLOOKUP($A637,check!$A:$L,7,FALSE))","v":""},{"$f":"IF(ISERROR(VLOOKUP($A637,check!$A:$L,8,FALSE))=TRUE,\"\",VLOOKUP($A637,check!$A:$L,8,FALSE))","v":""},{"$f":"IF(ISERROR(VLOOKUP($A637,check!$A:$L,9,FALSE))=TRUE,\"\",VLOOKUP($A637,check!$A:$L,9,FALSE))","v":""},{"$f":"IF(ISERROR(VLOOKUP($A637,check!$A:$L,10,FALSE))=TRUE,\"\",VLOOKUP($A637,check!$A:$L,10,FALSE))","v":""},{"$f":"IF(ISERROR(VLOOKUP($A637,check!$A:$L,11,FALSE))=TRUE,\"\",VLOOKUP($A637,check!$A:$L,11,FALSE))","v":""},{"$f":"IF(ISERROR(VLOOKUP($A637,check!$A:$L,12,FALSE))=TRUE,\"\",VLOOKUP($A637,check!$A:$L,12,FALSE))","v":""}]
[638,{"$f":"IF(C638=\"\",\"\",MATCH(A638,check!A:A,0))","v":""},{"$f":"IF(ISERROR(VLOOKUP($A638,check!$A:$L,2,FALSE))=TRUE,\"\",VLOOKUP($A638,check!$A:$L,2,FALSE))","v":""},{"$f":"IF(ISERROR(VLOOKUP($A638,check!$A:$L,3,FALSE))=TRUE,\"\",VLOOKUP($A638,check!$A:$L,3,FALSE))","v":""},{"$f":"IF(ISERROR(VLOOKUP($A638,check!$A:$L,4,FALSE))=TRUE,\"\",VLOOKUP($A638,check!$A:$L,4,FALSE))","v":""},{"$f":"IF(ISERROR(VLOOKUP($A638,check!$A:$L,5,FALSE))=TRUE,\"\",VLOOKUP($A638,check!$A:$L,5,FALSE))","v":""},{"$f":"IF(ISERROR(VLOOKUP($A638,check!$A:$L,6,FALSE))=TRUE,\"\",VLOOKUP($A638,check!$A:$L,6,FALSE))","v":""},{"$f":"IF(ISERROR(VLOOKUP($A638,check!$A:$L,7,FALSE))=TRUE,\"\",VLOOKUP($A638,check!$A:$L,7,FALSE))","v":""},{"$f":"IF(ISERROR(VLOOKUP($A638,check!$A:$L,8,FALSE))=TRUE,\"\",VLOOKUP($A638,check!$A:$L,8,FALSE))","v":""},{"$f":"IF(ISERROR(VLOOKUP($A638,check!$A:$L,9,FALSE))=TRUE,\"\",VLOOKUP($A638,check!$A:$L,9,FALSE))","v":""},{"$f":"IF(ISERROR(VLOOKUP($A638,check!$A:$L,10,FALSE))=TRUE,\"\",VLOOKUP($A638,check!$A:$L,10,FALSE))","v":""},{"$f":"IF(ISERROR(VLOOKUP($A638,check!$A:$L,11,FALSE))=TRUE,\"\",VLOOKUP($A638,check!$A:$L,11,FALSE))","v":""},{"$f":"IF(ISERROR(VLOOKUP($A638,check!$A:$L,12,FALSE))=TRUE,\"\",VLOOKUP($A638,check!$A:$L,12,FALSE))","v":""}]
[639,{"$f":"IF(C639=\"\",\"\",MATCH(A639,check!A:A,0))","v":""},{"$f":"IF(ISERROR(VLOOKUP($A639,check!$A:$L,2,FALSE))=TRUE,\"\",VLOOKUP($A639,check!$A:$L,2,FALSE))","v":""},{"$f":"IF(ISERROR(VLOOKUP($A639,check!$A:$L,3,FALSE))=TRUE,\"\",VLOOKUP($A639,check!$A:$L,3,FALSE))","v":""},{"$f":"IF(ISERROR(VLOOKUP($A639,check!$A:$L,4,FALSE))=TRUE,\"\",VLOOKUP($A639,check!$A:$L,4,FALSE))","v":""},{"$f":"IF(ISERROR(VLOOKUP($A639,check!$A:$L,5,FALSE))=TRUE,\"\",VLOOKUP($A639,check!$A:$L,5,FALSE))","v":""},{"$f":"IF(ISERROR(VLOOKUP($A639,check!$A:$L,6,FALSE))=TRUE,\"\",VLOOKUP($A639,check!$A:$L,6,FALSE))","v":""},{"$f":"IF(ISERROR(VLOOKUP($A639,check!$A:$L,7,FALSE))=TRUE,\"\",VLOOKUP($A639,check!$A:$L,7,FALSE))","v":""},{"$f":"IF(ISERROR(VLOOKUP($A639,check!$A:$L,8,FALSE))=TRUE,\"\",VLOOKUP($A639,check!$A:$L,8,FALSE))","v":""},{"$f":"IF(ISERROR(VLOOKUP($A639,check!$A:$L,9,FALSE))=TRUE,\"\",VLOOKUP($A639,check!$A:$L,9,FALSE))","v":""},{"$f":"IF(ISERROR(VLOOKUP($A639,check!$A:$L,10,FALSE))=TRUE,\"\",VLOOKUP($A639,check!$A:$L,10,FALSE))","v":""},{"$f":"IF(ISERROR(VLOOKUP($A639,check!$A:$L,11,FALSE))=TRUE,\"\",VLOOKUP($A639,check!$A:$L,11,FALSE))","v":""},{"$f":"IF(ISERROR(VLOOKUP($A639,check!$A:$L,12,FALSE))=TRUE,\"\",VLOOKUP($A639,check!$A:$L,12,FALSE))","v":""}]
[640,{"$f":"IF(C640=\"\",\"\",MATCH(A640,check!A:A,0))","v":""},{"$f":"IF(ISERROR(VLOOKUP($A640,check!$A:$L,2,FALSE))=TRUE,\"\",VLOOKUP($A640,check!$A:$L,2,FALSE))","v":""},{"$f":"IF(ISERROR(VLOOKUP($A640,check!$A:$L,3,FALSE))=TRUE,\"\",VLOOKUP($A640,check!$A:$L,3,FALSE))","v":""},{"$f":"IF(ISERROR(VLOOKUP($A640,check!$A:$L,4,FALSE))=TRUE,\"\",VLOOKUP($A640,check!$A:$L,4,FALSE))","v":""},{"$f":"IF(ISERROR(VLOOKUP($A640,check!$A:$L,5,FALSE))=TRUE,\"\",VLOOKUP($A640,check!$A:$L,5,FALSE))","v":""},{"$f":"IF(ISERROR(VLOOKUP($A640,check!$A:$L,6,FALSE))=TRUE,\"\",VLOOKUP($A640,check!$A:$L,6,FALSE))","v":""},{"$f":"IF(ISERROR(VLOOKUP($A640,check!$A:$L,7,FALSE))=TRUE,\"\",VLOOKUP($A640,check!$A:$L,7,FALSE))","v":""},{"$f":"IF(ISERROR(VLOOKUP($A640,check!$A:$L,8,FALSE))=TRUE,\"\",VLOOKUP($A640,check!$A:$L,8,FALSE))","v":""},{"$f":"IF(ISERROR(VLOOKUP($A640,check!$A:$L,9,FALSE))=TRUE,\"\",VLOOKUP($A640,check!$A:$L,9,FALSE))","v":""},{"$f":"IF(ISERROR(VLOOKUP($A640,check!$A:$L,10,FALSE))=TRUE,\"\",VLOOKUP($A640,check!$A:$L,10,FALSE))","v":""},{"$f":"IF(ISERROR(VLOOKUP($A640,check!$A:$L,11,FALSE))=TRUE,\"\",VLOOKUP($A640,check!$A:$L,11,FALSE))","v":""},{"$f":"IF(ISERROR(VLOOKUP($A640,check!$A:$L,12,FALSE))=TRUE,\"\",VLOOKUP($A640,check!$A:$L,12,FALSE))","v":""}]
[641,{"$f":"IF(C641=\"\",\"\",MATCH(A641,check!A:A,0))","v":""},{"$f":"IF(ISERROR(VLOOKUP($A641,check!$A:$L,2,FALSE))=TRUE,\"\",VLOOKUP($A641,check!$A:$L,2,FALSE))","v":""},{"$f":"IF(ISERROR(VLOOKUP($A641,check!$A:$L,3,FALSE))=TRUE,\"\",VLOOKUP($A641,check!$A:$L,3,FALSE))","v":""},{"$f":"IF(ISERROR(VLOOKUP($A641,check!$A:$L,4,FALSE))=TRUE,\"\",VLOOKUP($A641,check!$A:$L,4,FALSE))","v":""},{"$f":"IF(ISERROR(VLOOKUP($A641,check!$A:$L,5,FALSE))=TRUE,\"\",VLOOKUP($A641,check!$A:$L,5,FALSE))","v":""},{"$f":"IF(ISERROR(VLOOKUP($A641,check!$A:$L,6,FALSE))=TRUE,\"\",VLOOKUP($A641,check!$A:$L,6,FALSE))","v":""},{"$f":"IF(ISERROR(VLOOKUP($A641,check!$A:$L,7,FALSE))=TRUE,\"\",VLOOKUP($A641,check!$A:$L,7,FALSE))","v":""},{"$f":"IF(ISERROR(VLOOKUP($A641,check!$A:$L,8,FALSE))=TRUE,\"\",VLOOKUP($A641,check!$A:$L,8,FALSE))","v":""},{"$f":"IF(ISERROR(VLOOKUP($A641,check!$A:$L,9,FALSE))=TRUE,\"\",VLOOKUP($A641,check!$A:$L,9,FALSE))","v":""},{"$f":"IF(ISERROR(VLOOKUP($A641,check!$A:$L,10,FALSE))=TRUE,\"\",VLOOKUP($A641,check!$A:$L,10,FALSE))","v":""},{"$f":"IF(ISERROR(VLOOKUP($A641,check!$A:$L,11,FALSE))=TRUE,\"\",VLOOKUP($A641,check!$A:$L,11,FALSE))","v":""},{"$f":"IF(ISERROR(VLOOKUP($A641,check!$A:$L,12,FALSE))=TRUE,\"\",VLOOKUP($A641,check!$A:$L,12,FALSE))","v":""}]
[642,{"$f":"IF(C642=\"\",\"\",MATCH(A642,check!A:A,0))","v":""},{"$f":"IF(ISERROR(VLOOKUP($A642,check!$A:$L,2,FALSE))=TRUE,\"\",VLOOKUP($A642,check!$A:$L,2,FALSE))","v":""},{"$f":"IF(ISERROR(VLOOKUP($A642,check!$A:$L,3,FALSE))=TRUE,\"\",VLOOKUP($A642,check!$A:$L,3,FALSE))","v":""},{"$f":"IF(ISERROR(VLOOKUP($A642,check!$A:$L,4,FALSE))=TRUE,\"\",VLOOKUP($A642,check!$A:$L,4,FALSE))","v":""},{"$f":"IF(ISERROR(VLOOKUP($A642,check!$A:$L,5,FALSE))=TRUE,\"\",VLOOKUP($A642,check!$A:$L,5,FALSE))","v":""},{"$f":"IF(ISERROR(VLOOKUP($A642,check!$A:$L,6,FALSE))=TRUE,\"\",VLOOKUP($A642,check!$A:$L,6,FALSE))","v":""},{"$f":"IF(ISERROR(VLOOKUP($A642,check!$A:$L,7,FALSE))=TRUE,\"\",VLOOKUP($A642,check!$A:$L,7,FALSE))","v":""},{"$f":"IF(ISERROR(VLOOKUP($A642,check!$A:$L,8,FALSE))=TRUE,\"\",VLOOKUP($A642,check!$A:$L,8,FALSE))","v":""},{"$f":"IF(ISERROR(VLOOKUP($A642,check!$A:$L,9,FALSE))=TRUE,\"\",VLOOKUP($A642,check!$A:$L,9,FALSE))","v":""},{"$f":"IF(ISERROR(VLOOKUP($A642,check!$A:$L,10,FALSE))=TRUE,\"\",VLOOKUP($A642,check!$A:$L,10,FALSE))","v":""},{"$f":"IF(ISERROR(VLOOKUP($A642,check!$A:$L,11,FALSE))=TRUE,\"\",VLOOKUP($A642,check!$A:$L,11,FALSE))","v":""},{"$f":"IF(ISERROR(VLOOKUP($A642,check!$A:$L,12,FALSE))=TRUE,\"\",VLOOKUP($A642,check!$A:$L,12,FALSE))","v":""}]
[643,{"$f":"IF(C643=\"\",\"\",MATCH(A643,check!A:A,0))","v":""},{"$f":"IF(ISERROR(VLOOKUP($A643,check!$A:$L,2,FALSE))=TRUE,\"\",VLOOKUP($A643,check!$A:$L,2,FALSE))","v":""},{"$f":"IF(ISERROR(VLOOKUP($A643,check!$A:$L,3,FALSE))=TRUE,\"\",VLOOKUP($A643,check!$A:$L,3,FALSE))","v":""},{"$f":"IF(ISERROR(VLOOKUP($A643,check!$A:$L,4,FALSE))=TRUE,\"\",VLOOKUP($A643,check!$A:$L,4,FALSE))","v":""},{"$f":"IF(ISERROR(VLOOKUP($A643,check!$A:$L,5,FALSE))=TRUE,\"\",VLOOKUP($A643,check!$A:$L,5,FALSE))","v":""},{"$f":"IF(ISERROR(VLOOKUP($A643,check!$A:$L,6,FALSE))=TRUE,\"\",VLOOKUP($A643,check!$A:$L,6,FALSE))","v":""},{"$f":"IF(ISERROR(VLOOKUP($A643,check!$A:$L,7,FALSE))=TRUE,\"\",VLOOKUP($A643,check!$A:$L,7,FALSE))","v":""},{"$f":"IF(ISERROR(VLOOKUP($A643,check!$A:$L,8,FALSE))=TRUE,\"\",VLOOKUP($A643,check!$A:$L,8,FALSE))","v":""},{"$f":"IF(ISERROR(VLOOKUP($A643,check!$A:$L,9,FALSE))=TRUE,\"\",VLOOKUP($A643,check!$A:$L,9,FALSE))","v":""},{"$f":"IF(ISERROR(VLOOKUP($A643,check!$A:$L,10,FALSE))=TRUE,\"\",VLOOKUP($A643,check!$A:$L,10,FALSE))","v":""},{"$f":"IF(ISERROR(VLOOKUP($A643,check!$A:$L,11,FALSE))=TRUE,\"\",VLOOKUP($A643,check!$A:$L,11,FALSE))","v":""},{"$f":"IF(ISERROR(VLOOKUP($A643,check!$A:$L,12,FALSE))=TRUE,\"\",VLOOKUP($A643,check!$A:$L,12,FALSE))","v":""}]
[{"$f":"A643+1","v":644},{"$f":"IF(C644=\"\",\"\",MATCH(A644,check!A:A,0))","v":""},{"$f":"IF(ISERROR(VLOOKUP($A644,check!$A:$L,2,FALSE))=TRUE,\"\",VLOOKUP($A644,check!$A:$L,2,FALSE))","v":""},{"$f":"IF(ISERROR(VLOOKUP($A644,check!$A:$L,3,FALSE))=TRUE,\"\",VLOOKUP($A644,check!$A:$L,3,FALSE))","v":""},{"$f":"IF(ISERROR(VLOOKUP($A644,check!$A:$L,4,FALSE))=TRUE,\"\",VLOOKUP($A644,check!$A:$L,4,FALSE))","v":""},{"$f":"IF(ISERROR(VLOOKUP($A644,check!$A:$L,5,FALSE))=TRUE,\"\",VLOOKUP($A644,check!$A:$L,5,FALSE))","v":""},{"$f":"IF(ISERROR(VLOOKUP($A644,check!$A:$L,6,FALSE))=TRUE,\"\",VLOOKUP($A644,check!$A:$L,6,FALSE))","v":""},{"$f":"IF(ISERROR(VLOOKUP($A644,check!$A:$L,7,FALSE))=TRUE,\"\",VLOOKUP($A644,check!$A:$L,7,FALSE))","v":""},{"$f":"IF(ISERROR(VLOOKUP($A644,check!$A:$L,8,FALSE))=TRUE,\"\",VLOOKUP($A644,check!$A:$L,8,FALSE))","v":""},{"$f":"IF(ISERROR(VLOOKUP($A644,check!$A:$L,9,FALSE))=TRUE,\"\",VLOOKUP($A644,check!$A:$L,9,FALSE))","v":""},{"$f":"IF(ISERROR(VLOOKUP($A644,check!$A:$L,10,FALSE))=TRUE,\"\",VLOOKUP($A644,check!$A:$L,10,FALSE))","v":""},{"$f":"IF(ISERROR(VLOOKUP($A644,check!$A:$L,11,FALSE))=TRUE,\"\",VLOOKUP($A644,check!$A:$L,11,FALSE))","v":""},{"$f":"IF(ISERROR(VLOOKUP($A644,check!$A:$L,12,FALSE))=TRUE,\"\",VLOOKUP($A644,check!$A:$L,12,FALSE))","v":""}]
[645,{"$f":"IF(C645=\"\",\"\",MATCH(A645,check!A:A,0))","v":""},{"$f":"IF(ISERROR(VLOOKUP($A645,check!$A:$L,2,FALSE))=TRUE,\"\",VLOOKUP($A645,check!$A:$L,2,FALSE))","v":""},{"$f":"IF(ISERROR(VLOOKUP($A645,check!$A:$L,3,FALSE))=TRUE,\"\",VLOOKUP($A645,check!$A:$L,3,FALSE))","v":""},{"$f":"IF(ISERROR(VLOOKUP($A645,check!$A:$L,4,FALSE))=TRUE,\"\",VLOOKUP($A645,check!$A:$L,4,FALSE))","v":""},{"$f":"IF(ISERROR(VLOOKUP($A645,check!$A:$L,5,FALSE))=TRUE,\"\",VLOOKUP($A645,check!$A:$L,5,FALSE))","v":""},{"$f":"IF(ISERROR(VLOOKUP($A645,check!$A:$L,6,FALSE))=TRUE,\"\",VLOOKUP($A645,check!$A:$L,6,FALSE))","v":""},{"$f":"IF(ISERROR(VLOOKUP($A645,check!$A:$L,7,FALSE))=TRUE,\"\",VLOOKUP($A645,check!$A:$L,7,FALSE))","v":""},{"$f":"IF(ISERROR(VLOOKUP($A645,check!$A:$L,8,FALSE))=TRUE,\"\",VLOOKUP($A645,check!$A:$L,8,FALSE))","v":""},{"$f":"IF(ISERROR(VLOOKUP($A645,check!$A:$L,9,FALSE))=TRUE,\"\",VLOOKUP($A645,check!$A:$L,9,FALSE))","v":""},{"$f":"IF(ISERROR(VLOOKUP($A645,check!$A:$L,10,FALSE))=TRUE,\"\",VLOOKUP($A645,check!$A:$L,10,FALSE))","v":""},{"$f":"IF(ISERROR(VLOOKUP($A645,check!$A:$L,11,FALSE))=TRUE,\"\",VLOOKUP($A645,check!$A:$L,11,FALSE))","v":""},{"$f":"IF(ISERROR(VLOOKUP($A645,check!$A:$L,12,FALSE))=TRUE,\"\",VLOOKUP($A645,check!$A:$L,12,FALSE))","v":""}]
[646,{"$f":"IF(C646=\"\",\"\",MATCH(A646,check!A:A,0))","v":""},{"$f":"IF(ISERROR(VLOOKUP($A646,check!$A:$L,2,FALSE))=TRUE,\"\",VLOOKUP($A646,check!$A:$L,2,FALSE))","v":""},{"$f":"IF(ISERROR(VLOOKUP($A646,check!$A:$L,3,FALSE))=TRUE,\"\",VLOOKUP($A646,check!$A:$L,3,FALSE))","v":""},{"$f":"IF(ISERROR(VLOOKUP($A646,check!$A:$L,4,FALSE))=TRUE,\"\",VLOOKUP($A646,check!$A:$L,4,FALSE))","v":""},{"$f":"IF(ISERROR(VLOOKUP($A646,check!$A:$L,5,FALSE))=TRUE,\"\",VLOOKUP($A646,check!$A:$L,5,FALSE))","v":""},{"$f":"IF(ISERROR(VLOOKUP($A646,check!$A:$L,6,FALSE))=TRUE,\"\",VLOOKUP($A646,check!$A:$L,6,FALSE))","v":""},{"$f":"IF(ISERROR(VLOOKUP($A646,check!$A:$L,7,FALSE))=TRUE,\"\",VLOOKUP($A646,check!$A:$L,7,FALSE))","v":""},{"$f":"IF(ISERROR(VLOOKUP($A646,check!$A:$L,8,FALSE))=TRUE,\"\",VLOOKUP($A646,check!$A:$L,8,FALSE))","v":""},{"$f":"IF(ISERROR(VLOOKUP($A646,check!$A:$L,9,FALSE))=TRUE,\"\",VLOOKUP($A646,check!$A:$L,9,FALSE))","v":""},{"$f":"IF(ISERROR(VLOOKUP($A646,check!$A:$L,10,FALSE))=TRUE,\"\",VLOOKUP($A646,check!$A:$L,10,FALSE))","v":""},{"$f":"IF(ISERROR(VLOOKUP($A646,check!$A:$L,11,FALSE))=TRUE,\"\",VLOOKUP($A646,check!$A:$L,11,FALSE))","v":""},{"$f":"IF(ISERROR(VLOOKUP($A646,check!$A:$L,12,FALSE))=TRUE,\"\",VLOOKUP($A646,check!$A:$L,12,FALSE))","v":""}]
[647,{"$f":"IF(C647=\"\",\"\",MATCH(A647,check!A:A,0))","v":""},{"$f":"IF(ISERROR(VLOOKUP($A647,check!$A:$L,2,FALSE))=TRUE,\"\",VLOOKUP($A647,check!$A:$L,2,FALSE))","v":""},{"$f":"IF(ISERROR(VLOOKUP($A647,check!$A:$L,3,FALSE))=TRUE,\"\",VLOOKUP($A647,check!$A:$L,3,FALSE))","v":""},{"$f":"IF(ISERROR(VLOOKUP($A647,check!$A:$L,4,FALSE))=TRUE,\"\",VLOOKUP($A647,check!$A:$L,4,FALSE))","v":""},{"$f":"IF(ISERROR(VLOOKUP($A647,check!$A:$L,5,FALSE))=TRUE,\"\",VLOOKUP($A647,check!$A:$L,5,FALSE))","v":""},{"$f":"IF(ISERROR(VLOOKUP($A647,check!$A:$L,6,FALSE))=TRUE,\"\",VLOOKUP($A647,check!$A:$L,6,FALSE))","v":""},{"$f":"IF(ISERROR(VLOOKUP($A647,check!$A:$L,7,FALSE))=TRUE,\"\",VLOOKUP($A647,check!$A:$L,7,FALSE))","v":""},{"$f":"IF(ISERROR(VLOOKUP($A647,check!$A:$L,8,FALSE))=TRUE,\"\",VLOOKUP($A647,check!$A:$L,8,FALSE))","v":""},{"$f":"IF(ISERROR(VLOOKUP($A647,check!$A:$L,9,FALSE))=TRUE,\"\",VLOOKUP($A647,check!$A:$L,9,FALSE))","v":""},{"$f":"IF(ISERROR(VLOOKUP($A647,check!$A:$L,10,FALSE))=TRUE,\"\",VLOOKUP($A647,check!$A:$L,10,FALSE))","v":""},{"$f":"IF(ISERROR(VLOOKUP($A647,check!$A:$L,11,FALSE))=TRUE,\"\",VLOOKUP($A647,check!$A:$L,11,FALSE))","v":""},{"$f":"IF(ISERROR(VLOOKUP($A647,check!$A:$L,12,FALSE))=TRUE,\"\",VLOOKUP($A647,check!$A:$L,12,FALSE))","v":""}]
[648,{"$f":"IF(C648=\"\",\"\",MATCH(A648,check!A:A,0))","v":""},{"$f":"IF(ISERROR(VLOOKUP($A648,check!$A:$L,2,FALSE))=TRUE,\"\",VLOOKUP($A648,check!$A:$L,2,FALSE))","v":""},{"$f":"IF(ISERROR(VLOOKUP($A648,check!$A:$L,3,FALSE))=TRUE,\"\",VLOOKUP($A648,check!$A:$L,3,FALSE))","v":""},{"$f":"IF(ISERROR(VLOOKUP($A648,check!$A:$L,4,FALSE))=TRUE,\"\",VLOOKUP($A648,check!$A:$L,4,FALSE))","v":""},{"$f":"IF(ISERROR(VLOOKUP($A648,check!$A:$L,5,FALSE))=TRUE,\"\",VLOOKUP($A648,check!$A:$L,5,FALSE))","v":""},{"$f":"IF(ISERROR(VLOOKUP($A648,check!$A:$L,6,FALSE))=TRUE,\"\",VLOOKUP($A648,check!$A:$L,6,FALSE))","v":""},{"$f":"IF(ISERROR(VLOOKUP($A648,check!$A:$L,7,FALSE))=TRUE,\"\",VLOOKUP($A648,check!$A:$L,7,FALSE))","v":""},{"$f":"IF(ISERROR(VLOOKUP($A648,check!$A:$L,8,FALSE))=TRUE,\"\",VLOOKUP($A648,check!$A:$L,8,FALSE))","v":""},{"$f":"IF(ISERROR(VLOOKUP($A648,check!$A:$L,9,FALSE))=TRUE,\"\",VLOOKUP($A648,check!$A:$L,9,FALSE))","v":""},{"$f":"IF(ISERROR(VLOOKUP($A648,check!$A:$L,10,FALSE))=TRUE,\"\",VLOOKUP($A648,check!$A:$L,10,FALSE))","v":""},{"$f":"IF(ISERROR(VLOOKUP($A648,check!$A:$L,11,FALSE))=TRUE,\"\",VLOOKUP($A648,check!$A:$L,11,FALSE))","v":""},{"$f":"IF(ISERROR(VLOOKUP($A648,check!$A:$L,12,FALSE))=TRUE,\"\",VLOOKUP($A648,check!$A:$L,12,FALSE))","v":""}]
[649,{"$f":"IF(C649=\"\",\"\",MATCH(A649,check!A:A,0))","v":""},{"$f":"IF(ISERROR(VLOOKUP($A649,check!$A:$L,2,FALSE))=TRUE,\"\",VLOOKUP($A649,check!$A:$L,2,FALSE))","v":""},{"$f":"IF(ISERROR(VLOOKUP($A649,check!$A:$L,3,FALSE))=TRUE,\"\",VLOOKUP($A649,check!$A:$L,3,FALSE))","v":""},{"$f":"IF(ISERROR(VLOOKUP($A649,check!$A:$L,4,FALSE))=TRUE,\"\",VLOOKUP($A649,check!$A:$L,4,FALSE))","v":""},{"$f":"IF(ISERROR(VLOOKUP($A649,check!$A:$L,5,FALSE))=TRUE,\"\",VLOOKUP($A649,check!$A:$L,5,FALSE))","v":""},{"$f":"IF(ISERROR(VLOOKUP($A649,check!$A:$L,6,FALSE))=TRUE,\"\",VLOOKUP($A649,check!$A:$L,6,FALSE))","v":""},{"$f":"IF(ISERROR(VLOOKUP($A649,check!$A:$L,7,FALSE))=TRUE,\"\",VLOOKUP($A649,check!$A:$L,7,FALSE))","v":""},{"$f":"IF(ISERROR(VLOOKUP($A649,check!$A:$L,8,FALSE))=TRUE,\"\",VLOOKUP($A649,check!$A:$L,8,FALSE))","v":""},{"$f":"IF(ISERROR(VLOOKUP($A649,check!$A:$L,9,FALSE))=TRUE,\"\",VLOOKUP($A649,check!$A:$L,9,FALSE))","v":""},{"$f":"IF(ISERROR(VLOOKUP($A649,check!$A:$L,10,FALSE))=TRUE,\"\",VLOOKUP($A649,check!$A:$L,10,FALSE))","v":""},{"$f":"IF(ISERROR(VLOOKUP($A649,check!$A:$L,11,FALSE))=TRUE,\"\",VLOOKUP($A649,check!$A:$L,11,FALSE))","v":""},{"$f":"IF(ISERROR(VLOOKUP($A649,check!$A:$L,12,FALSE))=TRUE,\"\",VLOOKUP($A649,check!$A:$L,12,FALSE))","v":""}]
[650,{"$f":"IF(C650=\"\",\"\",MATCH(A650,check!A:A,0))","v":""},{"$f":"IF(ISERROR(VLOOKUP($A650,check!$A:$L,2,FALSE))=TRUE,\"\",VLOOKUP($A650,check!$A:$L,2,FALSE))","v":""},{"$f":"IF(ISERROR(VLOOKUP($A650,check!$A:$L,3,FALSE))=TRUE,\"\",VLOOKUP($A650,check!$A:$L,3,FALSE))","v":""},{"$f":"IF(ISERROR(VLOOKUP($A650,check!$A:$L,4,FALSE))=TRUE,\"\",VLOOKUP($A650,check!$A:$L,4,FALSE))","v":""},{"$f":"IF(ISERROR(VLOOKUP($A650,check!$A:$L,5,FALSE))=TRUE,\"\",VLOOKUP($A650,check!$A:$L,5,FALSE))","v":""},{"$f":"IF(ISERROR(VLOOKUP($A650,check!$A:$L,6,FALSE))=TRUE,\"\",VLOOKUP($A650,check!$A:$L,6,FALSE))","v":""},{"$f":"IF(ISERROR(VLOOKUP($A650,check!$A:$L,7,FALSE))=TRUE,\"\",VLOOKUP($A650,check!$A:$L,7,FALSE))","v":""},{"$f":"IF(ISERROR(VLOOKUP($A650,check!$A:$L,8,FALSE))=TRUE,\"\",VLOOKUP($A650,check!$A:$L,8,FALSE))","v":""},{"$f":"IF(ISERROR(VLOOKUP($A650,check!$A:$L,9,FALSE))=TRUE,\"\",VLOOKUP($A650,check!$A:$L,9,FALSE))","v":""},{"$f":"IF(ISERROR(VLOOKUP($A650,check!$A:$L,10,FALSE))=TRUE,\"\",VLOOKUP($A650,check!$A:$L,10,FALSE))","v":""},{"$f":"IF(ISERROR(VLOOKUP($A650,check!$A:$L,11,FALSE))=TRUE,\"\",VLOOKUP($A650,check!$A:$L,11,FALSE))","v":""},{"$f":"IF(ISERROR(VLOOKUP($A650,check!$A:$L,12,FALSE))=TRUE,\"\",VLOOKUP($A650,check!$A:$L,12,FALSE))","v":""}]
[651,{"$f":"IF(C651=\"\",\"\",MATCH(A651,check!A:A,0))","v":""},{"$f":"IF(ISERROR(VLOOKUP($A651,check!$A:$L,2,FALSE))=TRUE,\"\",VLOOKUP($A651,check!$A:$L,2,FALSE))","v":""},{"$f":"IF(ISERROR(VLOOKUP($A651,check!$A:$L,3,FALSE))=TRUE,\"\",VLOOKUP($A651,check!$A:$L,3,FALSE))","v":""},{"$f":"IF(ISERROR(VLOOKUP($A651,check!$A:$L,4,FALSE))=TRUE,\"\",VLOOKUP($A651,check!$A:$L,4,FALSE))","v":""},{"$f":"IF(ISERROR(VLOOKUP($A651,check!$A:$L,5,FALSE))=TRUE,\"\",VLOOKUP($A651,check!$A:$L,5,FALSE))","v":""},{"$f":"IF(ISERROR(VLOOKUP($A651,check!$A:$L,6,FALSE))=TRUE,\"\",VLOOKUP($A651,check!$A:$L,6,FALSE))","v":""},{"$f":"IF(ISERROR(VLOOKUP($A651,check!$A:$L,7,FALSE))=TRUE,\"\",VLOOKUP($A651,check!$A:$L,7,FALSE))","v":""},{"$f":"IF(ISERROR(VLOOKUP($A651,check!$A:$L,8,FALSE))=TRUE,\"\",VLOOKUP($A651,check!$A:$L,8,FALSE))","v":""},{"$f":"IF(ISERROR(VLOOKUP($A651,check!$A:$L,9,FALSE))=TRUE,\"\",VLOOKUP($A651,check!$A:$L,9,FALSE))","v":""},{"$f":"IF(ISERROR(VLOOKUP($A651,check!$A:$L,10,FALSE))=TRUE,\"\",VLOOKUP($A651,check!$A:$L,10,FALSE))","v":""},{"$f":"IF(ISERROR(VLOOKUP($A651,check!$A:$L,11,FALSE))=TRUE,\"\",VLOOKUP($A651,check!$A:$L,11,FALSE))","v":""},{"$f":"IF(ISERROR(VLOOKUP($A651,check!$A:$L,12,FALSE))=TRUE,\"\",VLOOKUP($A651,check!$A:$L,12,FALSE))","v":""}]
[652,{"$f":"IF(C652=\"\",\"\",MATCH(A652,check!A:A,0))","v":""},{"$f":"IF(ISERROR(VLOOKUP($A652,check!$A:$L,2,FALSE))=TRUE,\"\",VLOOKUP($A652,check!$A:$L,2,FALSE))","v":""},{"$f":"IF(ISERROR(VLOOKUP($A652,check!$A:$L,3,FALSE))=TRUE,\"\",VLOOKUP($A652,check!$A:$L,3,FALSE))","v":""},{"$f":"IF(ISERROR(VLOOKUP($A652,check!$A:$L,4,FALSE))=TRUE,\"\",VLOOKUP($A652,check!$A:$L,4,FALSE))","v":""},{"$f":"IF(ISERROR(VLOOKUP($A652,check!$A:$L,5,FALSE))=TRUE,\"\",VLOOKUP($A652,check!$A:$L,5,FALSE))","v":""},{"$f":"IF(ISERROR(VLOOKUP($A652,check!$A:$L,6,FALSE))=TRUE,\"\",VLOOKUP($A652,check!$A:$L,6,FALSE))","v":""},{"$f":"IF(ISERROR(VLOOKUP($A652,check!$A:$L,7,FALSE))=TRUE,\"\",VLOOKUP($A652,check!$A:$L,7,FALSE))","v":""},{"$f":"IF(ISERROR(VLOOKUP($A652,check!$A:$L,8,FALSE))=TRUE,\"\",VLOOKUP($A652,check!$A:$L,8,FALSE))","v":""},{"$f":"IF(ISERROR(VLOOKUP($A652,check!$A:$L,9,FALSE))=TRUE,\"\",VLOOKUP($A652,check!$A:$L,9,FALSE))","v":""},{"$f":"IF(ISERROR(VLOOKUP($A652,check!$A:$L,10,FALSE))=TRUE,\"\",VLOOKUP($A652,check!$A:$L,10,FALSE))","v":""},{"$f":"IF(ISERROR(VLOOKUP($A652,check!$A:$L,11,FALSE))=TRUE,\"\",VLOOKUP($A652,check!$A:$L,11,FALSE))","v":""},{"$f":"IF(ISERROR(VLOOKUP($A652,check!$A:$L,12,FALSE))=TRUE,\"\",VLOOKUP($A652,check!$A:$L,12,FALSE))","v":""}]
[653,{"$f":"IF(C653=\"\",\"\",MATCH(A653,check!A:A,0))","v":""},{"$f":"IF(ISERROR(VLOOKUP($A653,check!$A:$L,2,FALSE))=TRUE,\"\",VLOOKUP($A653,check!$A:$L,2,FALSE))","v":""},{"$f":"IF(ISERROR(VLOOKUP($A653,check!$A:$L,3,FALSE))=TRUE,\"\",VLOOKUP($A653,check!$A:$L,3,FALSE))","v":""},{"$f":"IF(ISERROR(VLOOKUP($A653,check!$A:$L,4,FALSE))=TRUE,\"\",VLOOKUP($A653,check!$A:$L,4,FALSE))","v":""},{"$f":"IF(ISERROR(VLOOKUP($A653,check!$A:$L,5,FALSE))=TRUE,\"\",VLOOKUP($A653,check!$A:$L,5,FALSE))","v":""},{"$f":"IF(ISERROR(VLOOKUP($A653,check!$A:$L,6,FALSE))=TRUE,\"\",VLOOKUP($A653,check!$A:$L,6,FALSE))","v":""},{"$f":"IF(ISERROR(VLOOKUP($A653,check!$A:$L,7,FALSE))=TRUE,\"\",VLOOKUP($A653,check!$A:$L,7,FALSE))","v":""},{"$f":"IF(ISERROR(VLOOKUP($A653,check!$A:$L,8,FALSE))=TRUE,\"\",VLOOKUP($A653,check!$A:$L,8,FALSE))","v":""},{"$f":"IF(ISERROR(VLOOKUP($A653,check!$A:$L,9,FALSE))=TRUE,\"\",VLOOKUP($A653,check!$A:$L,9,FALSE))","v":""},{"$f":"IF(ISERROR(VLOOKUP($A653,check!$A:$L,10,FALSE))=TRUE,\"\",VLOOKUP($A653,check!$A:$L,10,FALSE))","v":""},{"$f":"IF(ISERROR(VLOOKUP($A653,check!$A:$L,11,FALSE))=TRUE,\"\",VLOOKUP($A653,check!$A:$L,11,FALSE))","v":""},{"$f":"IF(ISERROR(VLOOKUP($A653,check!$A:$L,12,FALSE))=TRUE,\"\",VLOOKUP($A653,check!$A:$L,12,FALSE))","v":""}]
[654,{"$f":"IF(C654=\"\",\"\",MATCH(A654,check!A:A,0))","v":""},{"$f":"IF(ISERROR(VLOOKUP($A654,check!$A:$L,2,FALSE))=TRUE,\"\",VLOOKUP($A654,check!$A:$L,2,FALSE))","v":""},{"$f":"IF(ISERROR(VLOOKUP($A654,check!$A:$L,3,FALSE))=TRUE,\"\",VLOOKUP($A654,check!$A:$L,3,FALSE))","v":""},{"$f":"IF(ISERROR(VLOOKUP($A654,check!$A:$L,4,FALSE))=TRUE,\"\",VLOOKUP($A654,check!$A:$L,4,FALSE))","v":""},{"$f":"IF(ISERROR(VLOOKUP($A654,check!$A:$L,5,FALSE))=TRUE,\"\",VLOOKUP($A654,check!$A:$L,5,FALSE))","v":""},{"$f":"IF(ISERROR(VLOOKUP($A654,check!$A:$L,6,FALSE))=TRUE,\"\",VLOOKUP($A654,check!$A:$L,6,FALSE))","v":""},{"$f":"IF(ISERROR(VLOOKUP($A654,check!$A:$L,7,FALSE))=TRUE,\"\",VLOOKUP($A654,check!$A:$L,7,FALSE))","v":""},{"$f":"IF(ISERROR(VLOOKUP($A654,check!$A:$L,8,FALSE))=TRUE,\"\",VLOOKUP($A654,check!$A:$L,8,FALSE))","v":""},{"$f":"IF(ISERROR(VLOOKUP($A654,check!$A:$L,9,FALSE))=TRUE,\"\",VLOOKUP($A654,check!$A:$L,9,FALSE))","v":""},{"$f":"IF(ISERROR(VLOOKUP($A654,check!$A:$L,10,FALSE))=TRUE,\"\",VLOOKUP($A654,check!$A:$L,10,FALSE))","v":""},{"$f":"IF(ISERROR(VLOOKUP($A654,check!$A:$L,11,FALSE))=TRUE,\"\",VLOOKUP($A654,check!$A:$L,11,FALSE))","v":""},{"$f":"IF(ISERROR(VLOOKUP($A654,check!$A:$L,12,FALSE))=TRUE,\"\",VLOOKUP($A654,check!$A:$L,12,FALSE))","v":""}]
[655,{"$f":"IF(C655=\"\",\"\",MATCH(A655,check!A:A,0))","v":""},{"$f":"IF(ISERROR(VLOOKUP($A655,check!$A:$L,2,FALSE))=TRUE,\"\",VLOOKUP($A655,check!$A:$L,2,FALSE))","v":""},{"$f":"IF(ISERROR(VLOOKUP($A655,check!$A:$L,3,FALSE))=TRUE,\"\",VLOOKUP($A655,check!$A:$L,3,FALSE))","v":""},{"$f":"IF(ISERROR(VLOOKUP($A655,check!$A:$L,4,FALSE))=TRUE,\"\",VLOOKUP($A655,check!$A:$L,4,FALSE))","v":""},{"$f":"IF(ISERROR(VLOOKUP($A655,check!$A:$L,5,FALSE))=TRUE,\"\",VLOOKUP($A655,check!$A:$L,5,FALSE))","v":""},{"$f":"IF(ISERROR(VLOOKUP($A655,check!$A:$L,6,FALSE))=TRUE,\"\",VLOOKUP($A655,check!$A:$L,6,FALSE))","v":""},{"$f":"IF(ISERROR(VLOOKUP($A655,check!$A:$L,7,FALSE))=TRUE,\"\",VLOOKUP($A655,check!$A:$L,7,FALSE))","v":""},{"$f":"IF(ISERROR(VLOOKUP($A655,check!$A:$L,8,FALSE))=TRUE,\"\",VLOOKUP($A655,check!$A:$L,8,FALSE))","v":""},{"$f":"IF(ISERROR(VLOOKUP($A655,check!$A:$L,9,FALSE))=TRUE,\"\",VLOOKUP($A655,check!$A:$L,9,FALSE))","v":""},{"$f":"IF(ISERROR(VLOOKUP($A655,check!$A:$L,10,FALSE))=TRUE,\"\",VLOOKUP($A655,check!$A:$L,10,FALSE))","v":""},{"$f":"IF(ISERROR(VLOOKUP($A655,check!$A:$L,11,FALSE))=TRUE,\"\",VLOOKUP($A655,check!$A:$L,11,FALSE))","v":""},{"$f":"IF(ISERROR(VLOOKUP($A655,check!$A:$L,12,FALSE))=TRUE,\"\",VLOOKUP($A655,check!$A:$L,12,FALSE))","v":""}]
[656,{"$f":"IF(C656=\"\",\"\",MATCH(A656,check!A:A,0))","v":""},{"$f":"IF(ISERROR(VLOOKUP($A656,check!$A:$L,2,FALSE))=TRUE,\"\",VLOOKUP($A656,check!$A:$L,2,FALSE))","v":""},{"$f":"IF(ISERROR(VLOOKUP($A656,check!$A:$L,3,FALSE))=TRUE,\"\",VLOOKUP($A656,check!$A:$L,3,FALSE))","v":""},{"$f":"IF(ISERROR(VLOOKUP($A656,check!$A:$L,4,FALSE))=TRUE,\"\",VLOOKUP($A656,check!$A:$L,4,FALSE))","v":""},{"$f":"IF(ISERROR(VLOOKUP($A656,check!$A:$L,5,FALSE))=TRUE,\"\",VLOOKUP($A656,check!$A:$L,5,FALSE))","v":""},{"$f":"IF(ISERROR(VLOOKUP($A656,check!$A:$L,6,FALSE))=TRUE,\"\",VLOOKUP($A656,check!$A:$L,6,FALSE))","v":""},{"$f":"IF(ISERROR(VLOOKUP($A656,check!$A:$L,7,FALSE))=TRUE,\"\",VLOOKUP($A656,check!$A:$L,7,FALSE))","v":""},{"$f":"IF(ISERROR(VLOOKUP($A656,check!$A:$L,8,FALSE))=TRUE,\"\",VLOOKUP($A656,check!$A:$L,8,FALSE))","v":""},{"$f":"IF(ISERROR(VLOOKUP($A656,check!$A:$L,9,FALSE))=TRUE,\"\",VLOOKUP($A656,check!$A:$L,9,FALSE))","v":""},{"$f":"IF(ISERROR(VLOOKUP($A656,check!$A:$L,10,FALSE))=TRUE,\"\",VLOOKUP($A656,check!$A:$L,10,FALSE))","v":""},{"$f":"IF(ISERROR(VLOOKUP($A656,check!$A:$L,11,FALSE))=TRUE,\"\",VLOOKUP($A656,check!$A:$L,11,FALSE))","v":""},{"$f":"IF(ISERROR(VLOOKUP($A656,check!$A:$L,12,FALSE))=TRUE,\"\",VLOOKUP($A656,check!$A:$L,12,FALSE))","v":""}]
[657,{"$f":"IF(C657=\"\",\"\",MATCH(A657,check!A:A,0))","v":""},{"$f":"IF(ISERROR(VLOOKUP($A657,check!$A:$L,2,FALSE))=TRUE,\"\",VLOOKUP($A657,check!$A:$L,2,FALSE))","v":""},{"$f":"IF(ISERROR(VLOOKUP($A657,check!$A:$L,3,FALSE))=TRUE,\"\",VLOOKUP($A657,check!$A:$L,3,FALSE))","v":""},{"$f":"IF(ISERROR(VLOOKUP($A657,check!$A:$L,4,FALSE))=TRUE,\"\",VLOOKUP($A657,check!$A:$L,4,FALSE))","v":""},{"$f":"IF(ISERROR(VLOOKUP($A657,check!$A:$L,5,FALSE))=TRUE,\"\",VLOOKUP($A657,check!$A:$L,5,FALSE))","v":""},{"$f":"IF(ISERROR(VLOOKUP($A657,check!$A:$L,6,FALSE))=TRUE,\"\",VLOOKUP($A657,check!$A:$L,6,FALSE))","v":""},{"$f":"IF(ISERROR(VLOOKUP($A657,check!$A:$L,7,FALSE))=TRUE,\"\",VLOOKUP($A657,check!$A:$L,7,FALSE))","v":""},{"$f":"IF(ISERROR(VLOOKUP($A657,check!$A:$L,8,FALSE))=TRUE,\"\",VLOOKUP($A657,check!$A:$L,8,FALSE))","v":""},{"$f":"IF(ISERROR(VLOOKUP($A657,check!$A:$L,9,FALSE))=TRUE,\"\",VLOOKUP($A657,check!$A:$L,9,FALSE))","v":""},{"$f":"IF(ISERROR(VLOOKUP($A657,check!$A:$L,10,FALSE))=TRUE,\"\",VLOOKUP($A657,check!$A:$L,10,FALSE))","v":""},{"$f":"IF(ISERROR(VLOOKUP($A657,check!$A:$L,11,FALSE))=TRUE,\"\",VLOOKUP($A657,check!$A:$L,11,FALSE))","v":""},{"$f":"IF(ISERROR(VLOOKUP($A657,check!$A:$L,12,FALSE))=TRUE,\"\",VLOOKUP($A657,check!$A:$L,12,FALSE))","v":""}]
[658,{"$f":"IF(C658=\"\",\"\",MATCH(A658,check!A:A,0))","v":""},{"$f":"IF(ISERROR(VLOOKUP($A658,check!$A:$L,2,FALSE))=TRUE,\"\",VLOOKUP($A658,check!$A:$L,2,FALSE))","v":""},{"$f":"IF(ISERROR(VLOOKUP($A658,check!$A:$L,3,FALSE))=TRUE,\"\",VLOOKUP($A658,check!$A:$L,3,FALSE))","v":""},{"$f":"IF(ISERROR(VLOOKUP($A658,check!$A:$L,4,FALSE))=TRUE,\"\",VLOOKUP($A658,check!$A:$L,4,FALSE))","v":""},{"$f":"IF(ISERROR(VLOOKUP($A658,check!$A:$L,5,FALSE))=TRUE,\"\",VLOOKUP($A658,check!$A:$L,5,FALSE))","v":""},{"$f":"IF(ISERROR(VLOOKUP($A658,check!$A:$L,6,FALSE))=TRUE,\"\",VLOOKUP($A658,check!$A:$L,6,FALSE))","v":""},{"$f":"IF(ISERROR(VLOOKUP($A658,check!$A:$L,7,FALSE))=TRUE,\"\",VLOOKUP($A658,check!$A:$L,7,FALSE))","v":""},{"$f":"IF(ISERROR(VLOOKUP($A658,check!$A:$L,8,FALSE))=TRUE,\"\",VLOOKUP($A658,check!$A:$L,8,FALSE))","v":""},{"$f":"IF(ISERROR(VLOOKUP($A658,check!$A:$L,9,FALSE))=TRUE,\"\",VLOOKUP($A658,check!$A:$L,9,FALSE))","v":""},{"$f":"IF(ISERROR(VLOOKUP($A658,check!$A:$L,10,FALSE))=TRUE,\"\",VLOOKUP($A658,check!$A:$L,10,FALSE))","v":""},{"$f":"IF(ISERROR(VLOOKUP($A658,check!$A:$L,11,FALSE))=TRUE,\"\",VLOOKUP($A658,check!$A:$L,11,FALSE))","v":""},{"$f":"IF(ISERROR(VLOOKUP($A658,check!$A:$L,12,FALSE))=TRUE,\"\",VLOOKUP($A658,check!$A:$L,12,FALSE))","v":""}]
[659,{"$f":"IF(C659=\"\",\"\",MATCH(A659,check!A:A,0))","v":""},{"$f":"IF(ISERROR(VLOOKUP($A659,check!$A:$L,2,FALSE))=TRUE,\"\",VLOOKUP($A659,check!$A:$L,2,FALSE))","v":""},{"$f":"IF(ISERROR(VLOOKUP($A659,check!$A:$L,3,FALSE))=TRUE,\"\",VLOOKUP($A659,check!$A:$L,3,FALSE))","v":""},{"$f":"IF(ISERROR(VLOOKUP($A659,check!$A:$L,4,FALSE))=TRUE,\"\",VLOOKUP($A659,check!$A:$L,4,FALSE))","v":""},{"$f":"IF(ISERROR(VLOOKUP($A659,check!$A:$L,5,FALSE))=TRUE,\"\",VLOOKUP($A659,check!$A:$L,5,FALSE))","v":""},{"$f":"IF(ISERROR(VLOOKUP($A659,check!$A:$L,6,FALSE))=TRUE,\"\",VLOOKUP($A659,check!$A:$L,6,FALSE))","v":""},{"$f":"IF(ISERROR(VLOOKUP($A659,check!$A:$L,7,FALSE))=TRUE,\"\",VLOOKUP($A659,check!$A:$L,7,FALSE))","v":""},{"$f":"IF(ISERROR(VLOOKUP($A659,check!$A:$L,8,FALSE))=TRUE,\"\",VLOOKUP($A659,check!$A:$L,8,FALSE))","v":""},{"$f":"IF(ISERROR(VLOOKUP($A659,check!$A:$L,9,FALSE))=TRUE,\"\",VLOOKUP($A659,check!$A:$L,9,FALSE))","v":""},{"$f":"IF(ISERROR(VLOOKUP($A659,check!$A:$L,10,FALSE))=TRUE,\"\",VLOOKUP($A659,check!$A:$L,10,FALSE))","v":""},{"$f":"IF(ISERROR(VLOOKUP($A659,check!$A:$L,11,FALSE))=TRUE,\"\",VLOOKUP($A659,check!$A:$L,11,FALSE))","v":""},{"$f":"IF(ISERROR(VLOOKUP($A659,check!$A:$L,12,FALSE))=TRUE,\"\",VLOOKUP($A659,check!$A:$L,12,FALSE))","v":""}]
[660,{"$f":"IF(C660=\"\",\"\",MATCH(A660,check!A:A,0))","v":""},{"$f":"IF(ISERROR(VLOOKUP($A660,check!$A:$L,2,FALSE))=TRUE,\"\",VLOOKUP($A660,check!$A:$L,2,FALSE))","v":""},{"$f":"IF(ISERROR(VLOOKUP($A660,check!$A:$L,3,FALSE))=TRUE,\"\",VLOOKUP($A660,check!$A:$L,3,FALSE))","v":""},{"$f":"IF(ISERROR(VLOOKUP($A660,check!$A:$L,4,FALSE))=TRUE,\"\",VLOOKUP($A660,check!$A:$L,4,FALSE))","v":""},{"$f":"IF(ISERROR(VLOOKUP($A660,check!$A:$L,5,FALSE))=TRUE,\"\",VLOOKUP($A660,check!$A:$L,5,FALSE))","v":""},{"$f":"IF(ISERROR(VLOOKUP($A660,check!$A:$L,6,FALSE))=TRUE,\"\",VLOOKUP($A660,check!$A:$L,6,FALSE))","v":""},{"$f":"IF(ISERROR(VLOOKUP($A660,check!$A:$L,7,FALSE))=TRUE,\"\",VLOOKUP($A660,check!$A:$L,7,FALSE))","v":""},{"$f":"IF(ISERROR(VLOOKUP($A660,check!$A:$L,8,FALSE))=TRUE,\"\",VLOOKUP($A660,check!$A:$L,8,FALSE))","v":""},{"$f":"IF(ISERROR(VLOOKUP($A660,check!$A:$L,9,FALSE))=TRUE,\"\",VLOOKUP($A660,check!$A:$L,9,FALSE))","v":""},{"$f":"IF(ISERROR(VLOOKUP($A660,check!$A:$L,10,FALSE))=TRUE,\"\",VLOOKUP($A660,check!$A:$L,10,FALSE))","v":""},{"$f":"IF(ISERROR(VLOOKUP($A660,check!$A:$L,11,FALSE))=TRUE,\"\",VLOOKUP($A660,check!$A:$L,11,FALSE))","v":""},{"$f":"IF(ISERROR(VLOOKUP($A660,check!$A:$L,12,FALSE))=TRUE,\"\",VLOOKUP($A660,check!$A:$L,12,FALSE))","v":""}]
[661,{"$f":"IF(C661=\"\",\"\",MATCH(A661,check!A:A,0))","v":""},{"$f":"IF(ISERROR(VLOOKUP($A661,check!$A:$L,2,FALSE))=TRUE,\"\",VLOOKUP($A661,check!$A:$L,2,FALSE))","v":""},{"$f":"IF(ISERROR(VLOOKUP($A661,check!$A:$L,3,FALSE))=TRUE,\"\",VLOOKUP($A661,check!$A:$L,3,FALSE))","v":""},{"$f":"IF(ISERROR(VLOOKUP($A661,check!$A:$L,4,FALSE))=TRUE,\"\",VLOOKUP($A661,check!$A:$L,4,FALSE))","v":""},{"$f":"IF(ISERROR(VLOOKUP($A661,check!$A:$L,5,FALSE))=TRUE,\"\",VLOOKUP($A661,check!$A:$L,5,FALSE))","v":""},{"$f":"IF(ISERROR(VLOOKUP($A661,check!$A:$L,6,FALSE))=TRUE,\"\",VLOOKUP($A661,check!$A:$L,6,FALSE))","v":""},{"$f":"IF(ISERROR(VLOOKUP($A661,check!$A:$L,7,FALSE))=TRUE,\"\",VLOOKUP($A661,check!$A:$L,7,FALSE))","v":""},{"$f":"IF(ISERROR(VLOOKUP($A661,check!$A:$L,8,FALSE))=TRUE,\"\",VLOOKUP($A661,check!$A:$L,8,FALSE))","v":""},{"$f":"IF(ISERROR(VLOOKUP($A661,check!$A:$L,9,FALSE))=TRUE,\"\",VLOOKUP($A661,check!$A:$L,9,FALSE))","v":""},{"$f":"IF(ISERROR(VLOOKUP($A661,check!$A:$L,10,FALSE))=TRUE,\"\",VLOOKUP($A661,check!$A:$L,10,FALSE))","v":""},{"$f":"IF(ISERROR(VLOOKUP($A661,check!$A:$L,11,FALSE))=TRUE,\"\",VLOOKUP($A661,check!$A:$L,11,FALSE))","v":""},{"$f":"IF(ISERROR(VLOOKUP($A661,check!$A:$L,12,FALSE))=TRUE,\"\",VLOOKUP($A661,check!$A:$L,12,FALSE))","v":""}]
[662,{"$f":"IF(C662=\"\",\"\",MATCH(A662,check!A:A,0))","v":""},{"$f":"IF(ISERROR(VLOOKUP($A662,check!$A:$L,2,FALSE))=TRUE,\"\",VLOOKUP($A662,check!$A:$L,2,FALSE))","v":""},{"$f":"IF(ISERROR(VLOOKUP($A662,check!$A:$L,3,FALSE))=TRUE,\"\",VLOOKUP($A662,check!$A:$L,3,FALSE))","v":""},{"$f":"IF(ISERROR(VLOOKUP($A662,check!$A:$L,4,FALSE))=TRUE,\"\",VLOOKUP($A662,check!$A:$L,4,FALSE))","v":""},{"$f":"IF(ISERROR(VLOOKUP($A662,check!$A:$L,5,FALSE))=TRUE,\"\",VLOOKUP($A662,check!$A:$L,5,FALSE))","v":""},{"$f":"IF(ISERROR(VLOOKUP($A662,check!$A:$L,6,FALSE))=TRUE,\"\",VLOOKUP($A662,check!$A:$L,6,FALSE))","v":""},{"$f":"IF(ISERROR(VLOOKUP($A662,check!$A:$L,7,FALSE))=TRUE,\"\",VLOOKUP($A662,check!$A:$L,7,FALSE))","v":""},{"$f":"IF(ISERROR(VLOOKUP($A662,check!$A:$L,8,FALSE))=TRUE,\"\",VLOOKUP($A662,check!$A:$L,8,FALSE))","v":""},{"$f":"IF(ISERROR(VLOOKUP($A662,check!$A:$L,9,FALSE))=TRUE,\"\",VLOOKUP($A662,check!$A:$L,9,FALSE))","v":""},{"$f":"IF(ISERROR(VLOOKUP($A662,check!$A:$L,10,FALSE))=TRUE,\"\",VLOOKUP($A662,check!$A:$L,10,FALSE))","v":""},{"$f":"IF(ISERROR(VLOOKUP($A662,check!$A:$L,11,FALSE))=TRUE,\"\",VLOOKUP($A662,check!$A:$L,11,FALSE))","v":""},{"$f":"IF(ISERROR(VLOOKUP($A662,check!$A:$L,12,FALSE))=TRUE,\"\",VLOOKUP($A662,check!$A:$L,12,FALSE))","v":""}]
[663,{"$f":"IF(C663=\"\",\"\",MATCH(A663,check!A:A,0))","v":""},{"$f":"IF(ISERROR(VLOOKUP($A663,check!$A:$L,2,FALSE))=TRUE,\"\",VLOOKUP($A663,check!$A:$L,2,FALSE))","v":""},{"$f":"IF(ISERROR(VLOOKUP($A663,check!$A:$L,3,FALSE))=TRUE,\"\",VLOOKUP($A663,check!$A:$L,3,FALSE))","v":""},{"$f":"IF(ISERROR(VLOOKUP($A663,check!$A:$L,4,FALSE))=TRUE,\"\",VLOOKUP($A663,check!$A:$L,4,FALSE))","v":""},{"$f":"IF(ISERROR(VLOOKUP($A663,check!$A:$L,5,FALSE))=TRUE,\"\",VLOOKUP($A663,check!$A:$L,5,FALSE))","v":""},{"$f":"IF(ISERROR(VLOOKUP($A663,check!$A:$L,6,FALSE))=TRUE,\"\",VLOOKUP($A663,check!$A:$L,6,FALSE))","v":""},{"$f":"IF(ISERROR(VLOOKUP($A663,check!$A:$L,7,FALSE))=TRUE,\"\",VLOOKUP($A663,check!$A:$L,7,FALSE))","v":""},{"$f":"IF(ISERROR(VLOOKUP($A663,check!$A:$L,8,FALSE))=TRUE,\"\",VLOOKUP($A663,check!$A:$L,8,FALSE))","v":""},{"$f":"IF(ISERROR(VLOOKUP($A663,check!$A:$L,9,FALSE))=TRUE,\"\",VLOOKUP($A663,check!$A:$L,9,FALSE))","v":""},{"$f":"IF(ISERROR(VLOOKUP($A663,check!$A:$L,10,FALSE))=TRUE,\"\",VLOOKUP($A663,check!$A:$L,10,FALSE))","v":""},{"$f":"IF(ISERROR(VLOOKUP($A663,check!$A:$L,11,FALSE))=TRUE,\"\",VLOOKUP($A663,check!$A:$L,11,FALSE))","v":""},{"$f":"IF(ISERROR(VLOOKUP($A663,check!$A:$L,12,FALSE))=TRUE,\"\",VLOOKUP($A663,check!$A:$L,12,FALSE))","v":""}]
[664,{"$f":"IF(C664=\"\",\"\",MATCH(A664,check!A:A,0))","v":""},{"$f":"IF(ISERROR(VLOOKUP($A664,check!$A:$L,2,FALSE))=TRUE,\"\",VLOOKUP($A664,check!$A:$L,2,FALSE))","v":""},{"$f":"IF(ISERROR(VLOOKUP($A664,check!$A:$L,3,FALSE))=TRUE,\"\",VLOOKUP($A664,check!$A:$L,3,FALSE))","v":""},{"$f":"IF(ISERROR(VLOOKUP($A664,check!$A:$L,4,FALSE))=TRUE,\"\",VLOOKUP($A664,check!$A:$L,4,FALSE))","v":""},{"$f":"IF(ISERROR(VLOOKUP($A664,check!$A:$L,5,FALSE))=TRUE,\"\",VLOOKUP($A664,check!$A:$L,5,FALSE))","v":""},{"$f":"IF(ISERROR(VLOOKUP($A664,check!$A:$L,6,FALSE))=TRUE,\"\",VLOOKUP($A664,check!$A:$L,6,FALSE))","v":""},{"$f":"IF(ISERROR(VLOOKUP($A664,check!$A:$L,7,FALSE))=TRUE,\"\",VLOOKUP($A664,check!$A:$L,7,FALSE))","v":""},{"$f":"IF(ISERROR(VLOOKUP($A664,check!$A:$L,8,FALSE))=TRUE,\"\",VLOOKUP($A664,check!$A:$L,8,FALSE))","v":""},{"$f":"IF(ISERROR(VLOOKUP($A664,check!$A:$L,9,FALSE))=TRUE,\"\",VLOOKUP($A664,check!$A:$L,9,FALSE))","v":""},{"$f":"IF(ISERROR(VLOOKUP($A664,check!$A:$L,10,FALSE))=TRUE,\"\",VLOOKUP($A664,check!$A:$L,10,FALSE))","v":""},{"$f":"IF(ISERROR(VLOOKUP($A664,check!$A:$L,11,FALSE))=TRUE,\"\",VLOOKUP($A664,check!$A:$L,11,FALSE))","v":""},{"$f":"IF(ISERROR(VLOOKUP($A664,check!$A:$L,12,FALSE))=TRUE,\"\",VLOOKUP($A664,check!$A:$L,12,FALSE))","v":""}]
[665,{"$f":"IF(C665=\"\",\"\",MATCH(A665,check!A:A,0))","v":""},{"$f":"IF(ISERROR(VLOOKUP($A665,check!$A:$L,2,FALSE))=TRUE,\"\",VLOOKUP($A665,check!$A:$L,2,FALSE))","v":""},{"$f":"IF(ISERROR(VLOOKUP($A665,check!$A:$L,3,FALSE))=TRUE,\"\",VLOOKUP($A665,check!$A:$L,3,FALSE))","v":""},{"$f":"IF(ISERROR(VLOOKUP($A665,check!$A:$L,4,FALSE))=TRUE,\"\",VLOOKUP($A665,check!$A:$L,4,FALSE))","v":""},{"$f":"IF(ISERROR(VLOOKUP($A665,check!$A:$L,5,FALSE))=TRUE,\"\",VLOOKUP($A665,check!$A:$L,5,FALSE))","v":""},{"$f":"IF(ISERROR(VLOOKUP($A665,check!$A:$L,6,FALSE))=TRUE,\"\",VLOOKUP($A665,check!$A:$L,6,FALSE))","v":""},{"$f":"IF(ISERROR(VLOOKUP($A665,check!$A:$L,7,FALSE))=TRUE,\"\",VLOOKUP($A665,check!$A:$L,7,FALSE))","v":""},{"$f":"IF(ISERROR(VLOOKUP($A665,check!$A:$L,8,FALSE))=TRUE,\"\",VLOOKUP($A665,check!$A:$L,8,FALSE))","v":""},{"$f":"IF(ISERROR(VLOOKUP($A665,check!$A:$L,9,FALSE))=TRUE,\"\",VLOOKUP($A665,check!$A:$L,9,FALSE))","v":""},{"$f":"IF(ISERROR(VLOOKUP($A665,check!$A:$L,10,FALSE))=TRUE,\"\",VLOOKUP($A665,check!$A:$L,10,FALSE))","v":""},{"$f":"IF(ISERROR(VLOOKUP($A665,check!$A:$L,11,FALSE))=TRUE,\"\",VLOOKUP($A665,check!$A:$L,11,FALSE))","v":""},{"$f":"IF(ISERROR(VLOOKUP($A665,check!$A:$L,12,FALSE))=TRUE,\"\",VLOOKUP($A665,check!$A:$L,12,FALSE))","v":""}]
[666,{"$f":"IF(C666=\"\",\"\",MATCH(A666,check!A:A,0))","v":""},{"$f":"IF(ISERROR(VLOOKUP($A666,check!$A:$L,2,FALSE))=TRUE,\"\",VLOOKUP($A666,check!$A:$L,2,FALSE))","v":""},{"$f":"IF(ISERROR(VLOOKUP($A666,check!$A:$L,3,FALSE))=TRUE,\"\",VLOOKUP($A666,check!$A:$L,3,FALSE))","v":""},{"$f":"IF(ISERROR(VLOOKUP($A666,check!$A:$L,4,FALSE))=TRUE,\"\",VLOOKUP($A666,check!$A:$L,4,FALSE))","v":""},{"$f":"IF(ISERROR(VLOOKUP($A666,check!$A:$L,5,FALSE))=TRUE,\"\",VLOOKUP($A666,check!$A:$L,5,FALSE))","v":""},{"$f":"IF(ISERROR(VLOOKUP($A666,check!$A:$L,6,FALSE))=TRUE,\"\",VLOOKUP($A666,check!$A:$L,6,FALSE))","v":""},{"$f":"IF(ISERROR(VLOOKUP($A666,check!$A:$L,7,FALSE))=TRUE,\"\",VLOOKUP($A666,check!$A:$L,7,FALSE))","v":""},{"$f":"IF(ISERROR(VLOOKUP($A666,check!$A:$L,8,FALSE))=TRUE,\"\",VLOOKUP($A666,check!$A:$L,8,FALSE))","v":""},{"$f":"IF(ISERROR(VLOOKUP($A666,check!$A:$L,9,FALSE))=TRUE,\"\",VLOOKUP($A666,check!$A:$L,9,FALSE))","v":""},{"$f":"IF(ISERROR(VLOOKUP($A666,check!$A:$L,10,FALSE))=TRUE,\"\",VLOOKUP($A666,check!$A:$L,10,FALSE))","v":""},{"$f":"IF(ISERROR(VLOOKUP($A666,check!$A:$L,11,FALSE))=TRUE,\"\",VLOOKUP($A666,check!$A:$L,11,FALSE))","v":""},{"$f":"IF(ISERROR(VLOOKUP($A666,check!$A:$L,12,FALSE))=TRUE,\"\",VLOOKUP($A666,check!$A:$L,12,FALSE))","v":""}]
[667,{"$f":"IF(C667=\"\",\"\",MATCH(A667,check!A:A,0))","v":""},{"$f":"IF(ISERROR(VLOOKUP($A667,check!$A:$L,2,FALSE))=TRUE,\"\",VLOOKUP($A667,check!$A:$L,2,FALSE))","v":""},{"$f":"IF(ISERROR(VLOOKUP($A667,check!$A:$L,3,FALSE))=TRUE,\"\",VLOOKUP($A667,check!$A:$L,3,FALSE))","v":""},{"$f":"IF(ISERROR(VLOOKUP($A667,check!$A:$L,4,FALSE))=TRUE,\"\",VLOOKUP($A667,check!$A:$L,4,FALSE))","v":""},{"$f":"IF(ISERROR(VLOOKUP($A667,check!$A:$L,5,FALSE))=TRUE,\"\",VLOOKUP($A667,check!$A:$L,5,FALSE))","v":""},{"$f":"IF(ISERROR(VLOOKUP($A667,check!$A:$L,6,FALSE))=TRUE,\"\",VLOOKUP($A667,check!$A:$L,6,FALSE))","v":""},{"$f":"IF(ISERROR(VLOOKUP($A667,check!$A:$L,7,FALSE))=TRUE,\"\",VLOOKUP($A667,check!$A:$L,7,FALSE))","v":""},{"$f":"IF(ISERROR(VLOOKUP($A667,check!$A:$L,8,FALSE))=TRUE,\"\",VLOOKUP($A667,check!$A:$L,8,FALSE))","v":""},{"$f":"IF(ISERROR(VLOOKUP($A667,check!$A:$L,9,FALSE))=TRUE,\"\",VLOOKUP($A667,check!$A:$L,9,FALSE))","v":""},{"$f":"IF(ISERROR(VLOOKUP($A667,check!$A:$L,10,FALSE))=TRUE,\"\",VLOOKUP($A667,check!$A:$L,10,FALSE))","v":""},{"$f":"IF(ISERROR(VLOOKUP($A667,check!$A:$L,11,FALSE))=TRUE,\"\",VLOOKUP($A667,check!$A:$L,11,FALSE))","v":""},{"$f":"IF(ISERROR(VLOOKUP($A667,check!$A:$L,12,FALSE))=TRUE,\"\",VLOOKUP($A667,check!$A:$L,12,FALSE))","v":""}]
[668,{"$f":"IF(C668=\"\",\"\",MATCH(A668,check!A:A,0))","v":""},{"$f":"IF(ISERROR(VLOOKUP($A668,check!$A:$L,2,FALSE))=TRUE,\"\",VLOOKUP($A668,check!$A:$L,2,FALSE))","v":""},{"$f":"IF(ISERROR(VLOOKUP($A668,check!$A:$L,3,FALSE))=TRUE,\"\",VLOOKUP($A668,check!$A:$L,3,FALSE))","v":""},{"$f":"IF(ISERROR(VLOOKUP($A668,check!$A:$L,4,FALSE))=TRUE,\"\",VLOOKUP($A668,check!$A:$L,4,FALSE))","v":""},{"$f":"IF(ISERROR(VLOOKUP($A668,check!$A:$L,5,FALSE))=TRUE,\"\",VLOOKUP($A668,check!$A:$L,5,FALSE))","v":""},{"$f":"IF(ISERROR(VLOOKUP($A668,check!$A:$L,6,FALSE))=TRUE,\"\",VLOOKUP($A668,check!$A:$L,6,FALSE))","v":""},{"$f":"IF(ISERROR(VLOOKUP($A668,check!$A:$L,7,FALSE))=TRUE,\"\",VLOOKUP($A668,check!$A:$L,7,FALSE))","v":""},{"$f":"IF(ISERROR(VLOOKUP($A668,check!$A:$L,8,FALSE))=TRUE,\"\",VLOOKUP($A668,check!$A:$L,8,FALSE))","v":""},{"$f":"IF(ISERROR(VLOOKUP($A668,check!$A:$L,9,FALSE))=TRUE,\"\",VLOOKUP($A668,check!$A:$L,9,FALSE))","v":""},{"$f":"IF(ISERROR(VLOOKUP($A668,check!$A:$L,10,FALSE))=TRUE,\"\",VLOOKUP($A668,check!$A:$L,10,FALSE))","v":""},{"$f":"IF(ISERROR(VLOOKUP($A668,check!$A:$L,11,FALSE))=TRUE,\"\",VLOOKUP($A668,check!$A:$L,11,FALSE))","v":""},{"$f":"IF(ISERROR(VLOOKUP($A668,check!$A:$L,12,FALSE))=TRUE,\"\",VLOOKUP($A668,check!$A:$L,12,FALSE))","v":""}]
[669,{"$f":"IF(C669=\"\",\"\",MATCH(A669,check!A:A,0))","v":""},{"$f":"IF(ISERROR(VLOOKUP($A669,check!$A:$L,2,FALSE))=TRUE,\"\",VLOOKUP($A669,check!$A:$L,2,FALSE))","v":""},{"$f":"IF(ISERROR(VLOOKUP($A669,check!$A:$L,3,FALSE))=TRUE,\"\",VLOOKUP($A669,check!$A:$L,3,FALSE))","v":""},{"$f":"IF(ISERROR(VLOOKUP($A669,check!$A:$L,4,FALSE))=TRUE,\"\",VLOOKUP($A669,check!$A:$L,4,FALSE))","v":""},{"$f":"IF(ISERROR(VLOOKUP($A669,check!$A:$L,5,FALSE))=TRUE,\"\",VLOOKUP($A669,check!$A:$L,5,FALSE))","v":""},{"$f":"IF(ISERROR(VLOOKUP($A669,check!$A:$L,6,FALSE))=TRUE,\"\",VLOOKUP($A669,check!$A:$L,6,FALSE))","v":""},{"$f":"IF(ISERROR(VLOOKUP($A669,check!$A:$L,7,FALSE))=TRUE,\"\",VLOOKUP($A669,check!$A:$L,7,FALSE))","v":""},{"$f":"IF(ISERROR(VLOOKUP($A669,check!$A:$L,8,FALSE))=TRUE,\"\",VLOOKUP($A669,check!$A:$L,8,FALSE))","v":""},{"$f":"IF(ISERROR(VLOOKUP($A669,check!$A:$L,9,FALSE))=TRUE,\"\",VLOOKUP($A669,check!$A:$L,9,FALSE))","v":""},{"$f":"IF(ISERROR(VLOOKUP($A669,check!$A:$L,10,FALSE))=TRUE,\"\",VLOOKUP($A669,check!$A:$L,10,FALSE))","v":""},{"$f":"IF(ISERROR(VLOOKUP($A669,check!$A:$L,11,FALSE))=TRUE,\"\",VLOOKUP($A669,check!$A:$L,11,FALSE))","v":""},{"$f":"IF(ISERROR(VLOOKUP($A669,check!$A:$L,12,FALSE))=TRUE,\"\",VLOOKUP($A669,check!$A:$L,12,FALSE))","v":""}]
[670,{"$f":"IF(C670=\"\",\"\",MATCH(A670,check!A:A,0))","v":""},{"$f":"IF(ISERROR(VLOOKUP($A670,check!$A:$L,2,FALSE))=TRUE,\"\",VLOOKUP($A670,check!$A:$L,2,FALSE))","v":""},{"$f":"IF(ISERROR(VLOOKUP($A670,check!$A:$L,3,FALSE))=TRUE,\"\",VLOOKUP($A670,check!$A:$L,3,FALSE))","v":""},{"$f":"IF(ISERROR(VLOOKUP($A670,check!$A:$L,4,FALSE))=TRUE,\"\",VLOOKUP($A670,check!$A:$L,4,FALSE))","v":""},{"$f":"IF(ISERROR(VLOOKUP($A670,check!$A:$L,5,FALSE))=TRUE,\"\",VLOOKUP($A670,check!$A:$L,5,FALSE))","v":""},{"$f":"IF(ISERROR(VLOOKUP($A670,check!$A:$L,6,FALSE))=TRUE,\"\",VLOOKUP($A670,check!$A:$L,6,FALSE))","v":""},{"$f":"IF(ISERROR(VLOOKUP($A670,check!$A:$L,7,FALSE))=TRUE,\"\",VLOOKUP($A670,check!$A:$L,7,FALSE))","v":""},{"$f":"IF(ISERROR(VLOOKUP($A670,check!$A:$L,8,FALSE))=TRUE,\"\",VLOOKUP($A670,check!$A:$L,8,FALSE))","v":""},{"$f":"IF(ISERROR(VLOOKUP($A670,check!$A:$L,9,FALSE))=TRUE,\"\",VLOOKUP($A670,check!$A:$L,9,FALSE))","v":""},{"$f":"IF(ISERROR(VLOOKUP($A670,check!$A:$L,10,FALSE))=TRUE,\"\",VLOOKUP($A670,check!$A:$L,10,FALSE))","v":""},{"$f":"IF(ISERROR(VLOOKUP($A670,check!$A:$L,11,FALSE))=TRUE,\"\",VLOOKUP($A670,check!$A:$L,11,FALSE))","v":""},{"$f":"IF(ISERROR(VLOOKUP($A670,check!$A:$L,12,FALSE))=TRUE,\"\",VLOOKUP($A670,check!$A:$L,12,FALSE))","v":""}]
[671,{"$f":"IF(C671=\"\",\"\",MATCH(A671,check!A:A,0))","v":""},{"$f":"IF(ISERROR(VLOOKUP($A671,check!$A:$L,2,FALSE))=TRUE,\"\",VLOOKUP($A671,check!$A:$L,2,FALSE))","v":""},{"$f":"IF(ISERROR(VLOOKUP($A671,check!$A:$L,3,FALSE))=TRUE,\"\",VLOOKUP($A671,check!$A:$L,3,FALSE))","v":""},{"$f":"IF(ISERROR(VLOOKUP($A671,check!$A:$L,4,FALSE))=TRUE,\"\",VLOOKUP($A671,check!$A:$L,4,FALSE))","v":""},{"$f":"IF(ISERROR(VLOOKUP($A671,check!$A:$L,5,FALSE))=TRUE,\"\",VLOOKUP($A671,check!$A:$L,5,FALSE))","v":""},{"$f":"IF(ISERROR(VLOOKUP($A671,check!$A:$L,6,FALSE))=TRUE,\"\",VLOOKUP($A671,check!$A:$L,6,FALSE))","v":""},{"$f":"IF(ISERROR(VLOOKUP($A671,check!$A:$L,7,FALSE))=TRUE,\"\",VLOOKUP($A671,check!$A:$L,7,FALSE))","v":""},{"$f":"IF(ISERROR(VLOOKUP($A671,check!$A:$L,8,FALSE))=TRUE,\"\",VLOOKUP($A671,check!$A:$L,8,FALSE))","v":""},{"$f":"IF(ISERROR(VLOOKUP($A671,check!$A:$L,9,FALSE))=TRUE,\"\",VLOOKUP($A671,check!$A:$L,9,FALSE))","v":""},{"$f":"IF(ISERROR(VLOOKUP($A671,check!$A:$L,10,FALSE))=TRUE,\"\",VLOOKUP($A671,check!$A:$L,10,FALSE))","v":""},{"$f":"IF(ISERROR(VLOOKUP($A671,check!$A:$L,11,FALSE))=TRUE,\"\",VLOOKUP($A671,check!$A:$L,11,FALSE))","v":""},{"$f":"IF(ISERROR(VLOOKUP($A671,check!$A:$L,12,FALSE))=TRUE,\"\",VLOOKUP($A671,check!$A:$L,12,FALSE))","v":""}]
[672,{"$f":"IF(C672=\"\",\"\",MATCH(A672,check!A:A,0))","v":""},{"$f":"IF(ISERROR(VLOOKUP($A672,check!$A:$L,2,FALSE))=TRUE,\"\",VLOOKUP($A672,check!$A:$L,2,FALSE))","v":""},{"$f":"IF(ISERROR(VLOOKUP($A672,check!$A:$L,3,FALSE))=TRUE,\"\",VLOOKUP($A672,check!$A:$L,3,FALSE))","v":""},{"$f":"IF(ISERROR(VLOOKUP($A672,check!$A:$L,4,FALSE))=TRUE,\"\",VLOOKUP($A672,check!$A:$L,4,FALSE))","v":""},{"$f":"IF(ISERROR(VLOOKUP($A672,check!$A:$L,5,FALSE))=TRUE,\"\",VLOOKUP($A672,check!$A:$L,5,FALSE))","v":""},{"$f":"IF(ISERROR(VLOOKUP($A672,check!$A:$L,6,FALSE))=TRUE,\"\",VLOOKUP($A672,check!$A:$L,6,FALSE))","v":""},{"$f":"IF(ISERROR(VLOOKUP($A672,check!$A:$L,7,FALSE))=TRUE,\"\",VLOOKUP($A672,check!$A:$L,7,FALSE))","v":""},{"$f":"IF(ISERROR(VLOOKUP($A672,check!$A:$L,8,FALSE))=TRUE,\"\",VLOOKUP($A672,check!$A:$L,8,FALSE))","v":""},{"$f":"IF(ISERROR(VLOOKUP($A672,check!$A:$L,9,FALSE))=TRUE,\"\",VLOOKUP($A672,check!$A:$L,9,FALSE))","v":""},{"$f":"IF(ISERROR(VLOOKUP($A672,check!$A:$L,10,FALSE))=TRUE,\"\",VLOOKUP($A672,check!$A:$L,10,FALSE))","v":""},{"$f":"IF(ISERROR(VLOOKUP($A672,check!$A:$L,11,FALSE))=TRUE,\"\",VLOOKUP($A672,check!$A:$L,11,FALSE))","v":""},{"$f":"IF(ISERROR(VLOOKUP($A672,check!$A:$L,12,FALSE))=TRUE,\"\",VLOOKUP($A672,check!$A:$L,12,FALSE))","v":""}]
[673,{"$f":"IF(C673=\"\",\"\",MATCH(A673,check!A:A,0))","v":""},{"$f":"IF(ISERROR(VLOOKUP($A673,check!$A:$L,2,FALSE))=TRUE,\"\",VLOOKUP($A673,check!$A:$L,2,FALSE))","v":""},{"$f":"IF(ISERROR(VLOOKUP($A673,check!$A:$L,3,FALSE))=TRUE,\"\",VLOOKUP($A673,check!$A:$L,3,FALSE))","v":""},{"$f":"IF(ISERROR(VLOOKUP($A673,check!$A:$L,4,FALSE))=TRUE,\"\",VLOOKUP($A673,check!$A:$L,4,FALSE))","v":""},{"$f":"IF(ISERROR(VLOOKUP($A673,check!$A:$L,5,FALSE))=TRUE,\"\",VLOOKUP($A673,check!$A:$L,5,FALSE))","v":""},{"$f":"IF(ISERROR(VLOOKUP($A673,check!$A:$L,6,FALSE))=TRUE,\"\",VLOOKUP($A673,check!$A:$L,6,FALSE))","v":""},{"$f":"IF(ISERROR(VLOOKUP($A673,check!$A:$L,7,FALSE))=TRUE,\"\",VLOOKUP($A673,check!$A:$L,7,FALSE))","v":""},{"$f":"IF(ISERROR(VLOOKUP($A673,check!$A:$L,8,FALSE))=TRUE,\"\",VLOOKUP($A673,check!$A:$L,8,FALSE))","v":""},{"$f":"IF(ISERROR(VLOOKUP($A673,check!$A:$L,9,FALSE))=TRUE,\"\",VLOOKUP($A673,check!$A:$L,9,FALSE))","v":""},{"$f":"IF(ISERROR(VLOOKUP($A673,check!$A:$L,10,FALSE))=TRUE,\"\",VLOOKUP($A673,check!$A:$L,10,FALSE))","v":""},{"$f":"IF(ISERROR(VLOOKUP($A673,check!$A:$L,11,FALSE))=TRUE,\"\",VLOOKUP($A673,check!$A:$L,11,FALSE))","v":""},{"$f":"IF(ISERROR(VLOOKUP($A673,check!$A:$L,12,FALSE))=TRUE,\"\",VLOOKUP($A673,check!$A:$L,12,FALSE))","v":""}]
[674,{"$f":"IF(C674=\"\",\"\",MATCH(A674,check!A:A,0))","v":""},{"$f":"IF(ISERROR(VLOOKUP($A674,check!$A:$L,2,FALSE))=TRUE,\"\",VLOOKUP($A674,check!$A:$L,2,FALSE))","v":""},{"$f":"IF(ISERROR(VLOOKUP($A674,check!$A:$L,3,FALSE))=TRUE,\"\",VLOOKUP($A674,check!$A:$L,3,FALSE))","v":""},{"$f":"IF(ISERROR(VLOOKUP($A674,check!$A:$L,4,FALSE))=TRUE,\"\",VLOOKUP($A674,check!$A:$L,4,FALSE))","v":""},{"$f":"IF(ISERROR(VLOOKUP($A674,check!$A:$L,5,FALSE))=TRUE,\"\",VLOOKUP($A674,check!$A:$L,5,FALSE))","v":""},{"$f":"IF(ISERROR(VLOOKUP($A674,check!$A:$L,6,FALSE))=TRUE,\"\",VLOOKUP($A674,check!$A:$L,6,FALSE))","v":""},{"$f":"IF(ISERROR(VLOOKUP($A674,check!$A:$L,7,FALSE))=TRUE,\"\",VLOOKUP($A674,check!$A:$L,7,FALSE))","v":""},{"$f":"IF(ISERROR(VLOOKUP($A674,check!$A:$L,8,FALSE))=TRUE,\"\",VLOOKUP($A674,check!$A:$L,8,FALSE))","v":""},{"$f":"IF(ISERROR(VLOOKUP($A674,check!$A:$L,9,FALSE))=TRUE,\"\",VLOOKUP($A674,check!$A:$L,9,FALSE))","v":""},{"$f":"IF(ISERROR(VLOOKUP($A674,check!$A:$L,10,FALSE))=TRUE,\"\",VLOOKUP($A674,check!$A:$L,10,FALSE))","v":""},{"$f":"IF(ISERROR(VLOOKUP($A674,check!$A:$L,11,FALSE))=TRUE,\"\",VLOOKUP($A674,check!$A:$L,11,FALSE))","v":""},{"$f":"IF(ISERROR(VLOOKUP($A674,check!$A:$L,12,FALSE))=TRUE,\"\",VLOOKUP($A674,check!$A:$L,12,FALSE))","v":""}]
[675,{"$f":"IF(C675=\"\",\"\",MATCH(A675,check!A:A,0))","v":""},{"$f":"IF(ISERROR(VLOOKUP($A675,check!$A:$L,2,FALSE))=TRUE,\"\",VLOOKUP($A675,check!$A:$L,2,FALSE))","v":""},{"$f":"IF(ISERROR(VLOOKUP($A675,check!$A:$L,3,FALSE))=TRUE,\"\",VLOOKUP($A675,check!$A:$L,3,FALSE))","v":""},{"$f":"IF(ISERROR(VLOOKUP($A675,check!$A:$L,4,FALSE))=TRUE,\"\",VLOOKUP($A675,check!$A:$L,4,FALSE))","v":""},{"$f":"IF(ISERROR(VLOOKUP($A675,check!$A:$L,5,FALSE))=TRUE,\"\",VLOOKUP($A675,check!$A:$L,5,FALSE))","v":""},{"$f":"IF(ISERROR(VLOOKUP($A675,check!$A:$L,6,FALSE))=TRUE,\"\",VLOOKUP($A675,check!$A:$L,6,FALSE))","v":""},{"$f":"IF(ISERROR(VLOOKUP($A675,check!$A:$L,7,FALSE))=TRUE,\"\",VLOOKUP($A675,check!$A:$L,7,FALSE))","v":""},{"$f":"IF(ISERROR(VLOOKUP($A675,check!$A:$L,8,FALSE))=TRUE,\"\",VLOOKUP($A675,check!$A:$L,8,FALSE))","v":""},{"$f":"IF(ISERROR(VLOOKUP($A675,check!$A:$L,9,FALSE))=TRUE,\"\",VLOOKUP($A675,check!$A:$L,9,FALSE))","v":""},{"$f":"IF(ISERROR(VLOOKUP($A675,check!$A:$L,10,FALSE))=TRUE,\"\",VLOOKUP($A675,check!$A:$L,10,FALSE))","v":""},{"$f":"IF(ISERROR(VLOOKUP($A675,check!$A:$L,11,FALSE))=TRUE,\"\",VLOOKUP($A675,check!$A:$L,11,FALSE))","v":""},{"$f":"IF(ISERROR(VLOOKUP($A675,check!$A:$L,12,FALSE))=TRUE,\"\",VLOOKUP($A675,check!$A:$L,12,FALSE))","v":""}]
[676,{"$f":"IF(C676=\"\",\"\",MATCH(A676,check!A:A,0))","v":""},{"$f":"IF(ISERROR(VLOOKUP($A676,check!$A:$L,2,FALSE))=TRUE,\"\",VLOOKUP($A676,check!$A:$L,2,FALSE))","v":""},{"$f":"IF(ISERROR(VLOOKUP($A676,check!$A:$L,3,FALSE))=TRUE,\"\",VLOOKUP($A676,check!$A:$L,3,FALSE))","v":""},{"$f":"IF(ISERROR(VLOOKUP($A676,check!$A:$L,4,FALSE))=TRUE,\"\",VLOOKUP($A676,check!$A:$L,4,FALSE))","v":""},{"$f":"IF(ISERROR(VLOOKUP($A676,check!$A:$L,5,FALSE))=TRUE,\"\",VLOOKUP($A676,check!$A:$L,5,FALSE))","v":""},{"$f":"IF(ISERROR(VLOOKUP($A676,check!$A:$L,6,FALSE))=TRUE,\"\",VLOOKUP($A676,check!$A:$L,6,FALSE))","v":""},{"$f":"IF(ISERROR(VLOOKUP($A676,check!$A:$L,7,FALSE))=TRUE,\"\",VLOOKUP($A676,check!$A:$L,7,FALSE))","v":""},{"$f":"IF(ISERROR(VLOOKUP($A676,check!$A:$L,8,FALSE))=TRUE,\"\",VLOOKUP($A676,check!$A:$L,8,FALSE))","v":""},{"$f":"IF(ISERROR(VLOOKUP($A676,check!$A:$L,9,FALSE))=TRUE,\"\",VLOOKUP($A676,check!$A:$L,9,FALSE))","v":""},{"$f":"IF(ISERROR(VLOOKUP($A676,check!$A:$L,10,FALSE))=TRUE,\"\",VLOOKUP($A676,check!$A:$L,10,FALSE))","v":""},{"$f":"IF(ISERROR(VLOOKUP($A676,check!$A:$L,11,FALSE))=TRUE,\"\",VLOOKUP($A676,check!$A:$L,11,FALSE))","v":""},{"$f":"IF(ISERROR(VLOOKUP($A676,check!$A:$L,12,FALSE))=TRUE,\"\",VLOOKUP($A676,check!$A:$L,12,FALSE))","v":""}]
[677,{"$f":"IF(C677=\"\",\"\",MATCH(A677,check!A:A,0))","v":""},{"$f":"IF(ISERROR(VLOOKUP($A677,check!$A:$L,2,FALSE))=TRUE,\"\",VLOOKUP($A677,check!$A:$L,2,FALSE))","v":""},{"$f":"IF(ISERROR(VLOOKUP($A677,check!$A:$L,3,FALSE))=TRUE,\"\",VLOOKUP($A677,check!$A:$L,3,FALSE))","v":""},{"$f":"IF(ISERROR(VLOOKUP($A677,check!$A:$L,4,FALSE))=TRUE,\"\",VLOOKUP($A677,check!$A:$L,4,FALSE))","v":""},{"$f":"IF(ISERROR(VLOOKUP($A677,check!$A:$L,5,FALSE))=TRUE,\"\",VLOOKUP($A677,check!$A:$L,5,FALSE))","v":""},{"$f":"IF(ISERROR(VLOOKUP($A677,check!$A:$L,6,FALSE))=TRUE,\"\",VLOOKUP($A677,check!$A:$L,6,FALSE))","v":""},{"$f":"IF(ISERROR(VLOOKUP($A677,check!$A:$L,7,FALSE))=TRUE,\"\",VLOOKUP($A677,check!$A:$L,7,FALSE))","v":""},{"$f":"IF(ISERROR(VLOOKUP($A677,check!$A:$L,8,FALSE))=TRUE,\"\",VLOOKUP($A677,check!$A:$L,8,FALSE))","v":""},{"$f":"IF(ISERROR(VLOOKUP($A677,check!$A:$L,9,FALSE))=TRUE,\"\",VLOOKUP($A677,check!$A:$L,9,FALSE))","v":""},{"$f":"IF(ISERROR(VLOOKUP($A677,check!$A:$L,10,FALSE))=TRUE,\"\",VLOOKUP($A677,check!$A:$L,10,FALSE))","v":""},{"$f":"IF(ISERROR(VLOOKUP($A677,check!$A:$L,11,FALSE))=TRUE,\"\",VLOOKUP($A677,check!$A:$L,11,FALSE))","v":""},{"$f":"IF(ISERROR(VLOOKUP($A677,check!$A:$L,12,FALSE))=TRUE,\"\",VLOOKUP($A677,check!$A:$L,12,FALSE))","v":""}]
[678,{"$f":"IF(C678=\"\",\"\",MATCH(A678,check!A:A,0))","v":""},{"$f":"IF(ISERROR(VLOOKUP($A678,check!$A:$L,2,FALSE))=TRUE,\"\",VLOOKUP($A678,check!$A:$L,2,FALSE))","v":""},{"$f":"IF(ISERROR(VLOOKUP($A678,check!$A:$L,3,FALSE))=TRUE,\"\",VLOOKUP($A678,check!$A:$L,3,FALSE))","v":""},{"$f":"IF(ISERROR(VLOOKUP($A678,check!$A:$L,4,FALSE))=TRUE,\"\",VLOOKUP($A678,check!$A:$L,4,FALSE))","v":""},{"$f":"IF(ISERROR(VLOOKUP($A678,check!$A:$L,5,FALSE))=TRUE,\"\",VLOOKUP($A678,check!$A:$L,5,FALSE))","v":""},{"$f":"IF(ISERROR(VLOOKUP($A678,check!$A:$L,6,FALSE))=TRUE,\"\",VLOOKUP($A678,check!$A:$L,6,FALSE))","v":""},{"$f":"IF(ISERROR(VLOOKUP($A678,check!$A:$L,7,FALSE))=TRUE,\"\",VLOOKUP($A678,check!$A:$L,7,FALSE))","v":""},{"$f":"IF(ISERROR(VLOOKUP($A678,check!$A:$L,8,FALSE))=TRUE,\"\",VLOOKUP($A678,check!$A:$L,8,FALSE))","v":""},{"$f":"IF(ISERROR(VLOOKUP($A678,check!$A:$L,9,FALSE))=TRUE,\"\",VLOOKUP($A678,check!$A:$L,9,FALSE))","v":""},{"$f":"IF(ISERROR(VLOOKUP($A678,check!$A:$L,10,FALSE))=TRUE,\"\",VLOOKUP($A678,check!$A:$L,10,FALSE))","v":""},{"$f":"IF(ISERROR(VLOOKUP($A678,check!$A:$L,11,FALSE))=TRUE,\"\",VLOOKUP($A678,check!$A:$L,11,FALSE))","v":""},{"$f":"IF(ISERROR(VLOOKUP($A678,check!$A:$L,12,FALSE))=TRUE,\"\",VLOOKUP($A678,check!$A:$L,12,FALSE))","v":""}]
[679,{"$f":"IF(C679=\"\",\"\",MATCH(A679,check!A:A,0))","v":""},{"$f":"IF(ISERROR(VLOOKUP($A679,check!$A:$L,2,FALSE))=TRUE,\"\",VLOOKUP($A679,check!$A:$L,2,FALSE))","v":""},{"$f":"IF(ISERROR(VLOOKUP($A679,check!$A:$L,3,FALSE))=TRUE,\"\",VLOOKUP($A679,check!$A:$L,3,FALSE))","v":""},{"$f":"IF(ISERROR(VLOOKUP($A679,check!$A:$L,4,FALSE))=TRUE,\"\",VLOOKUP($A679,check!$A:$L,4,FALSE))","v":""},{"$f":"IF(ISERROR(VLOOKUP($A679,check!$A:$L,5,FALSE))=TRUE,\"\",VLOOKUP($A679,check!$A:$L,5,FALSE))","v":""},{"$f":"IF(ISERROR(VLOOKUP($A679,check!$A:$L,6,FALSE))=TRUE,\"\",VLOOKUP($A679,check!$A:$L,6,FALSE))","v":""},{"$f":"IF(ISERROR(VLOOKUP($A679,check!$A:$L,7,FALSE))=TRUE,\"\",VLOOKUP($A679,check!$A:$L,7,FALSE))","v":""},{"$f":"IF(ISERROR(VLOOKUP($A679,check!$A:$L,8,FALSE))=TRUE,\"\",VLOOKUP($A679,check!$A:$L,8,FALSE))","v":""},{"$f":"IF(ISERROR(VLOOKUP($A679,check!$A:$L,9,FALSE))=TRUE,\"\",VLOOKUP($A679,check!$A:$L,9,FALSE))","v":""},{"$f":"IF(ISERROR(VLOOKUP($A679,check!$A:$L,10,FALSE))=TRUE,\"\",VLOOKUP($A679,check!$A:$L,10,FALSE))","v":""},{"$f":"IF(ISERROR(VLOOKUP($A679,check!$A:$L,11,FALSE))=TRUE,\"\",VLOOKUP($A679,check!$A:$L,11,FALSE))","v":""},{"$f":"IF(ISERROR(VLOOKUP($A679,check!$A:$L,12,FALSE))=TRUE,\"\",VLOOKUP($A679,check!$A:$L,12,FALSE))","v":""}]
[680,{"$f":"IF(C680=\"\",\"\",MATCH(A680,check!A:A,0))","v":""},{"$f":"IF(ISERROR(VLOOKUP($A680,check!$A:$L,2,FALSE))=TRUE,\"\",VLOOKUP($A680,check!$A:$L,2,FALSE))","v":""},{"$f":"IF(ISERROR(VLOOKUP($A680,check!$A:$L,3,FALSE))=TRUE,\"\",VLOOKUP($A680,check!$A:$L,3,FALSE))","v":""},{"$f":"IF(ISERROR(VLOOKUP($A680,check!$A:$L,4,FALSE))=TRUE,\"\",VLOOKUP($A680,check!$A:$L,4,FALSE))","v":""},{"$f":"IF(ISERROR(VLOOKUP($A680,check!$A:$L,5,FALSE))=TRUE,\"\",VLOOKUP($A680,check!$A:$L,5,FALSE))","v":""},{"$f":"IF(ISERROR(VLOOKUP($A680,check!$A:$L,6,FALSE))=TRUE,\"\",VLOOKUP($A680,check!$A:$L,6,FALSE))","v":""},{"$f":"IF(ISERROR(VLOOKUP($A680,check!$A:$L,7,FALSE))=TRUE,\"\",VLOOKUP($A680,check!$A:$L,7,FALSE))","v":""},{"$f":"IF(ISERROR(VLOOKUP($A680,check!$A:$L,8,FALSE))=TRUE,\"\",VLOOKUP($A680,check!$A:$L,8,FALSE))","v":""},{"$f":"IF(ISERROR(VLOOKUP($A680,check!$A:$L,9,FALSE))=TRUE,\"\",VLOOKUP($A680,check!$A:$L,9,FALSE))","v":""},{"$f":"IF(ISERROR(VLOOKUP($A680,check!$A:$L,10,FALSE))=TRUE,\"\",VLOOKUP($A680,check!$A:$L,10,FALSE))","v":""},{"$f":"IF(ISERROR(VLOOKUP($A680,check!$A:$L,11,FALSE))=TRUE,\"\",VLOOKUP($A680,check!$A:$L,11,FALSE))","v":""},{"$f":"IF(ISERROR(VLOOKUP($A680,check!$A:$L,12,FALSE))=TRUE,\"\",VLOOKUP($A680,check!$A:$L,12,FALSE))","v":""}]
[681,{"$f":"IF(C681=\"\",\"\",MATCH(A681,check!A:A,0))","v":""},{"$f":"IF(ISERROR(VLOOKUP($A681,check!$A:$L,2,FALSE))=TRUE,\"\",VLOOKUP($A681,check!$A:$L,2,FALSE))","v":""},{"$f":"IF(ISERROR(VLOOKUP($A681,check!$A:$L,3,FALSE))=TRUE,\"\",VLOOKUP($A681,check!$A:$L,3,FALSE))","v":""},{"$f":"IF(ISERROR(VLOOKUP($A681,check!$A:$L,4,FALSE))=TRUE,\"\",VLOOKUP($A681,check!$A:$L,4,FALSE))","v":""},{"$f":"IF(ISERROR(VLOOKUP($A681,check!$A:$L,5,FALSE))=TRUE,\"\",VLOOKUP($A681,check!$A:$L,5,FALSE))","v":""},{"$f":"IF(ISERROR(VLOOKUP($A681,check!$A:$L,6,FALSE))=TRUE,\"\",VLOOKUP($A681,check!$A:$L,6,FALSE))","v":""},{"$f":"IF(ISERROR(VLOOKUP($A681,check!$A:$L,7,FALSE))=TRUE,\"\",VLOOKUP($A681,check!$A:$L,7,FALSE))","v":""},{"$f":"IF(ISERROR(VLOOKUP($A681,check!$A:$L,8,FALSE))=TRUE,\"\",VLOOKUP($A681,check!$A:$L,8,FALSE))","v":""},{"$f":"IF(ISERROR(VLOOKUP($A681,check!$A:$L,9,FALSE))=TRUE,\"\",VLOOKUP($A681,check!$A:$L,9,FALSE))","v":""},{"$f":"IF(ISERROR(VLOOKUP($A681,check!$A:$L,10,FALSE))=TRUE,\"\",VLOOKUP($A681,check!$A:$L,10,FALSE))","v":""},{"$f":"IF(ISERROR(VLOOKUP($A681,check!$A:$L,11,FALSE))=TRUE,\"\",VLOOKUP($A681,check!$A:$L,11,FALSE))","v":""},{"$f":"IF(ISERROR(VLOOKUP($A681,check!$A:$L,12,FALSE))=TRUE,\"\",VLOOKUP($A681,check!$A:$L,12,FALSE))","v":""}]
[682,{"$f":"IF(C682=\"\",\"\",MATCH(A682,check!A:A,0))","v":""},{"$f":"IF(ISERROR(VLOOKUP($A682,check!$A:$L,2,FALSE))=TRUE,\"\",VLOOKUP($A682,check!$A:$L,2,FALSE))","v":""},{"$f":"IF(ISERROR(VLOOKUP($A682,check!$A:$L,3,FALSE))=TRUE,\"\",VLOOKUP($A682,check!$A:$L,3,FALSE))","v":""},{"$f":"IF(ISERROR(VLOOKUP($A682,check!$A:$L,4,FALSE))=TRUE,\"\",VLOOKUP($A682,check!$A:$L,4,FALSE))","v":""},{"$f":"IF(ISERROR(VLOOKUP($A682,check!$A:$L,5,FALSE))=TRUE,\"\",VLOOKUP($A682,check!$A:$L,5,FALSE))","v":""},{"$f":"IF(ISERROR(VLOOKUP($A682,check!$A:$L,6,FALSE))=TRUE,\"\",VLOOKUP($A682,check!$A:$L,6,FALSE))","v":""},{"$f":"IF(ISERROR(VLOOKUP($A682,check!$A:$L,7,FALSE))=TRUE,\"\",VLOOKUP($A682,check!$A:$L,7,FALSE))","v":""},{"$f":"IF(ISERROR(VLOOKUP($A682,check!$A:$L,8,FALSE))=TRUE,\"\",VLOOKUP($A682,check!$A:$L,8,FALSE))","v":""},{"$f":"IF(ISERROR(VLOOKUP($A682,check!$A:$L,9,FALSE))=TRUE,\"\",VLOOKUP($A682,check!$A:$L,9,FALSE))","v":""},{"$f":"IF(ISERROR(VLOOKUP($A682,check!$A:$L,10,FALSE))=TRUE,\"\",VLOOKUP($A682,check!$A:$L,10,FALSE))","v":""},{"$f":"IF(ISERROR(VLOOKUP($A682,check!$A:$L,11,FALSE))=TRUE,\"\",VLOOKUP($A682,check!$A:$L,11,FALSE))","v":""},{"$f":"IF(ISERROR(VLOOKUP($A682,check!$A:$L,12,FALSE))=TRUE,\"\",VLOOKUP($A682,check!$A:$L,12,FALSE))","v":""}]
[683,{"$f":"IF(C683=\"\",\"\",MATCH(A683,check!A:A,0))","v":""},{"$f":"IF(ISERROR(VLOOKUP($A683,check!$A:$L,2,FALSE))=TRUE,\"\",VLOOKUP($A683,check!$A:$L,2,FALSE))","v":""},{"$f":"IF(ISERROR(VLOOKUP($A683,check!$A:$L,3,FALSE))=TRUE,\"\",VLOOKUP($A683,check!$A:$L,3,FALSE))","v":""},{"$f":"IF(ISERROR(VLOOKUP($A683,check!$A:$L,4,FALSE))=TRUE,\"\",VLOOKUP($A683,check!$A:$L,4,FALSE))","v":""},{"$f":"IF(ISERROR(VLOOKUP($A683,check!$A:$L,5,FALSE))=TRUE,\"\",VLOOKUP($A683,check!$A:$L,5,FALSE))","v":""},{"$f":"IF(ISERROR(VLOOKUP($A683,check!$A:$L,6,FALSE))=TRUE,\"\",VLOOKUP($A683,check!$A:$L,6,FALSE))","v":""},{"$f":"IF(ISERROR(VLOOKUP($A683,check!$A:$L,7,FALSE))=TRUE,\"\",VLOOKUP($A683,check!$A:$L,7,FALSE))","v":""},{"$f":"IF(ISERROR(VLOOKUP($A683,check!$A:$L,8,FALSE))=TRUE,\"\",VLOOKUP($A683,check!$A:$L,8,FALSE))","v":""},{"$f":"IF(ISERROR(VLOOKUP($A683,check!$A:$L,9,FALSE))=TRUE,\"\",VLOOKUP($A683,check!$A:$L,9,FALSE))","v":""},{"$f":"IF(ISERROR(VLOOKUP($A683,check!$A:$L,10,FALSE))=TRUE,\"\",VLOOKUP($A683,check!$A:$L,10,FALSE))","v":""},{"$f":"IF(ISERROR(VLOOKUP($A683,check!$A:$L,11,FALSE))=TRUE,\"\",VLOOKUP($A683,check!$A:$L,11,FALSE))","v":""},{"$f":"IF(ISERROR(VLOOKUP($A683,check!$A:$L,12,FALSE))=TRUE,\"\",VLOOKUP($A683,check!$A:$L,12,FALSE))","v":""}]
[684,{"$f":"IF(C684=\"\",\"\",MATCH(A684,check!A:A,0))","v":""},{"$f":"IF(ISERROR(VLOOKUP($A684,check!$A:$L,2,FALSE))=TRUE,\"\",VLOOKUP($A684,check!$A:$L,2,FALSE))","v":""},{"$f":"IF(ISERROR(VLOOKUP($A684,check!$A:$L,3,FALSE))=TRUE,\"\",VLOOKUP($A684,check!$A:$L,3,FALSE))","v":""},{"$f":"IF(ISERROR(VLOOKUP($A684,check!$A:$L,4,FALSE))=TRUE,\"\",VLOOKUP($A684,check!$A:$L,4,FALSE))","v":""},{"$f":"IF(ISERROR(VLOOKUP($A684,check!$A:$L,5,FALSE))=TRUE,\"\",VLOOKUP($A684,check!$A:$L,5,FALSE))","v":""},{"$f":"IF(ISERROR(VLOOKUP($A684,check!$A:$L,6,FALSE))=TRUE,\"\",VLOOKUP($A684,check!$A:$L,6,FALSE))","v":""},{"$f":"IF(ISERROR(VLOOKUP($A684,check!$A:$L,7,FALSE))=TRUE,\"\",VLOOKUP($A684,check!$A:$L,7,FALSE))","v":""},{"$f":"IF(ISERROR(VLOOKUP($A684,check!$A:$L,8,FALSE))=TRUE,\"\",VLOOKUP($A684,check!$A:$L,8,FALSE))","v":""},{"$f":"IF(ISERROR(VLOOKUP($A684,check!$A:$L,9,FALSE))=TRUE,\"\",VLOOKUP($A684,check!$A:$L,9,FALSE))","v":""},{"$f":"IF(ISERROR(VLOOKUP($A684,check!$A:$L,10,FALSE))=TRUE,\"\",VLOOKUP($A684,check!$A:$L,10,FALSE))","v":""},{"$f":"IF(ISERROR(VLOOKUP($A684,check!$A:$L,11,FALSE))=TRUE,\"\",VLOOKUP($A684,check!$A:$L,11,FALSE))","v":""},{"$f":"IF(ISERROR(VLOOKUP($A684,check!$A:$L,12,FALSE))=TRUE,\"\",VLOOKUP($A684,check!$A:$L,12,FALSE))","v":""}]
[685,{"$f":"IF(C685=\"\",\"\",MATCH(A685,check!A:A,0))","v":""},{"$f":"IF(ISERROR(VLOOKUP($A685,check!$A:$L,2,FALSE))=TRUE,\"\",VLOOKUP($A685,check!$A:$L,2,FALSE))","v":""},{"$f":"IF(ISERROR(VLOOKUP($A685,check!$A:$L,3,FALSE))=TRUE,\"\",VLOOKUP($A685,check!$A:$L,3,FALSE))","v":""},{"$f":"IF(ISERROR(VLOOKUP($A685,check!$A:$L,4,FALSE))=TRUE,\"\",VLOOKUP($A685,check!$A:$L,4,FALSE))","v":""},{"$f":"IF(ISERROR(VLOOKUP($A685,check!$A:$L,5,FALSE))=TRUE,\"\",VLOOKUP($A685,check!$A:$L,5,FALSE))","v":""},{"$f":"IF(ISERROR(VLOOKUP($A685,check!$A:$L,6,FALSE))=TRUE,\"\",VLOOKUP($A685,check!$A:$L,6,FALSE))","v":""},{"$f":"IF(ISERROR(VLOOKUP($A685,check!$A:$L,7,FALSE))=TRUE,\"\",VLOOKUP($A685,check!$A:$L,7,FALSE))","v":""},{"$f":"IF(ISERROR(VLOOKUP($A685,check!$A:$L,8,FALSE))=TRUE,\"\",VLOOKUP($A685,check!$A:$L,8,FALSE))","v":""},{"$f":"IF(ISERROR(VLOOKUP($A685,check!$A:$L,9,FALSE))=TRUE,\"\",VLOOKUP($A685,check!$A:$L,9,FALSE))","v":""},{"$f":"IF(ISERROR(VLOOKUP($A685,check!$A:$L,10,FALSE))=TRUE,\"\",VLOOKUP($A685,check!$A:$L,10,FALSE))","v":""},{"$f":"IF(ISERROR(VLOOKUP($A685,check!$A:$L,11,FALSE))=TRUE,\"\",VLOOKUP($A685,check!$A:$L,11,FALSE))","v":""},{"$f":"IF(ISERROR(VLOOKUP($A685,check!$A:$L,12,FALSE))=TRUE,\"\",VLOOKUP($A685,check!$A:$L,12,FALSE))","v":""}]
[686,{"$f":"IF(C686=\"\",\"\",MATCH(A686,check!A:A,0))","v":""},{"$f":"IF(ISERROR(VLOOKUP($A686,check!$A:$L,2,FALSE))=TRUE,\"\",VLOOKUP($A686,check!$A:$L,2,FALSE))","v":""},{"$f":"IF(ISERROR(VLOOKUP($A686,check!$A:$L,3,FALSE))=TRUE,\"\",VLOOKUP($A686,check!$A:$L,3,FALSE))","v":""},{"$f":"IF(ISERROR(VLOOKUP($A686,check!$A:$L,4,FALSE))=TRUE,\"\",VLOOKUP($A686,check!$A:$L,4,FALSE))","v":""},{"$f":"IF(ISERROR(VLOOKUP($A686,check!$A:$L,5,FALSE))=TRUE,\"\",VLOOKUP($A686,check!$A:$L,5,FALSE))","v":""},{"$f":"IF(ISERROR(VLOOKUP($A686,check!$A:$L,6,FALSE))=TRUE,\"\",VLOOKUP($A686,check!$A:$L,6,FALSE))","v":""},{"$f":"IF(ISERROR(VLOOKUP($A686,check!$A:$L,7,FALSE))=TRUE,\"\",VLOOKUP($A686,check!$A:$L,7,FALSE))","v":""},{"$f":"IF(ISERROR(VLOOKUP($A686,check!$A:$L,8,FALSE))=TRUE,\"\",VLOOKUP($A686,check!$A:$L,8,FALSE))","v":""},{"$f":"IF(ISERROR(VLOOKUP($A686,check!$A:$L,9,FALSE))=TRUE,\"\",VLOOKUP($A686,check!$A:$L,9,FALSE))","v":""},{"$f":"IF(ISERROR(VLOOKUP($A686,check!$A:$L,10,FALSE))=TRUE,\"\",VLOOKUP($A686,check!$A:$L,10,FALSE))","v":""},{"$f":"IF(ISERROR(VLOOKUP($A686,check!$A:$L,11,FALSE))=TRUE,\"\",VLOOKUP($A686,check!$A:$L,11,FALSE))","v":""},{"$f":"IF(ISERROR(VLOOKUP($A686,check!$A:$L,12,FALSE))=TRUE,\"\",VLOOKUP($A686,check!$A:$L,12,FALSE))","v":""}]
[687,{"$f":"IF(C687=\"\",\"\",MATCH(A687,check!A:A,0))","v":""},{"$f":"IF(ISERROR(VLOOKUP($A687,check!$A:$L,2,FALSE))=TRUE,\"\",VLOOKUP($A687,check!$A:$L,2,FALSE))","v":""},{"$f":"IF(ISERROR(VLOOKUP($A687,check!$A:$L,3,FALSE))=TRUE,\"\",VLOOKUP($A687,check!$A:$L,3,FALSE))","v":""},{"$f":"IF(ISERROR(VLOOKUP($A687,check!$A:$L,4,FALSE))=TRUE,\"\",VLOOKUP($A687,check!$A:$L,4,FALSE))","v":""},{"$f":"IF(ISERROR(VLOOKUP($A687,check!$A:$L,5,FALSE))=TRUE,\"\",VLOOKUP($A687,check!$A:$L,5,FALSE))","v":""},{"$f":"IF(ISERROR(VLOOKUP($A687,check!$A:$L,6,FALSE))=TRUE,\"\",VLOOKUP($A687,check!$A:$L,6,FALSE))","v":""},{"$f":"IF(ISERROR(VLOOKUP($A687,check!$A:$L,7,FALSE))=TRUE,\"\",VLOOKUP($A687,check!$A:$L,7,FALSE))","v":""},{"$f":"IF(ISERROR(VLOOKUP($A687,check!$A:$L,8,FALSE))=TRUE,\"\",VLOOKUP($A687,check!$A:$L,8,FALSE))","v":""},{"$f":"IF(ISERROR(VLOOKUP($A687,check!$A:$L,9,FALSE))=TRUE,\"\",VLOOKUP($A687,check!$A:$L,9,FALSE))","v":""},{"$f":"IF(ISERROR(VLOOKUP($A687,check!$A:$L,10,FALSE))=TRUE,\"\",VLOOKUP($A687,check!$A:$L,10,FALSE))","v":""},{"$f":"IF(ISERROR(VLOOKUP($A687,check!$A:$L,11,FALSE))=TRUE,\"\",VLOOKUP($A687,check!$A:$L,11,FALSE))","v":""},{"$f":"IF(ISERROR(VLOOKUP($A687,check!$A:$L,12,FALSE))=TRUE,\"\",VLOOKUP($A687,check!$A:$L,12,FALSE))","v":""}]
[688,{"$f":"IF(C688=\"\",\"\",MATCH(A688,check!A:A,0))","v":""},{"$f":"IF(ISERROR(VLOOKUP($A688,check!$A:$L,2,FALSE))=TRUE,\"\",VLOOKUP($A688,check!$A:$L,2,FALSE))","v":""},{"$f":"IF(ISERROR(VLOOKUP($A688,check!$A:$L,3,FALSE))=TRUE,\"\",VLOOKUP($A688,check!$A:$L,3,FALSE))","v":""},{"$f":"IF(ISERROR(VLOOKUP($A688,check!$A:$L,4,FALSE))=TRUE,\"\",VLOOKUP($A688,check!$A:$L,4,FALSE))","v":""},{"$f":"IF(ISERROR(VLOOKUP($A688,check!$A:$L,5,FALSE))=TRUE,\"\",VLOOKUP($A688,check!$A:$L,5,FALSE))","v":""},{"$f":"IF(ISERROR(VLOOKUP($A688,check!$A:$L,6,FALSE))=TRUE,\"\",VLOOKUP($A688,check!$A:$L,6,FALSE))","v":""},{"$f":"IF(ISERROR(VLOOKUP($A688,check!$A:$L,7,FALSE))=TRUE,\"\",VLOOKUP($A688,check!$A:$L,7,FALSE))","v":""},{"$f":"IF(ISERROR(VLOOKUP($A688,check!$A:$L,8,FALSE))=TRUE,\"\",VLOOKUP($A688,check!$A:$L,8,FALSE))","v":""},{"$f":"IF(ISERROR(VLOOKUP($A688,check!$A:$L,9,FALSE))=TRUE,\"\",VLOOKUP($A688,check!$A:$L,9,FALSE))","v":""},{"$f":"IF(ISERROR(VLOOKUP($A688,check!$A:$L,10,FALSE))=TRUE,\"\",VLOOKUP($A688,check!$A:$L,10,FALSE))","v":""},{"$f":"IF(ISERROR(VLOOKUP($A688,check!$A:$L,11,FALSE))=TRUE,\"\",VLOOKUP($A688,check!$A:$L,11,FALSE))","v":""},{"$f":"IF(ISERROR(VLOOKUP($A688,check!$A:$L,12,FALSE))=TRUE,\"\",VLOOKUP($A688,check!$A:$L,12,FALSE))","v":""}]
[689,{"$f":"IF(C689=\"\",\"\",MATCH(A689,check!A:A,0))","v":""},{"$f":"IF(ISERROR(VLOOKUP($A689,check!$A:$L,2,FALSE))=TRUE,\"\",VLOOKUP($A689,check!$A:$L,2,FALSE))","v":""},{"$f":"IF(ISERROR(VLOOKUP($A689,check!$A:$L,3,FALSE))=TRUE,\"\",VLOOKUP($A689,check!$A:$L,3,FALSE))","v":""},{"$f":"IF(ISERROR(VLOOKUP($A689,check!$A:$L,4,FALSE))=TRUE,\"\",VLOOKUP($A689,check!$A:$L,4,FALSE))","v":""},{"$f":"IF(ISERROR(VLOOKUP($A689,check!$A:$L,5,FALSE))=TRUE,\"\",VLOOKUP($A689,check!$A:$L,5,FALSE))","v":""},{"$f":"IF(ISERROR(VLOOKUP($A689,check!$A:$L,6,FALSE))=TRUE,\"\",VLOOKUP($A689,check!$A:$L,6,FALSE))","v":""},{"$f":"IF(ISERROR(VLOOKUP($A689,check!$A:$L,7,FALSE))=TRUE,\"\",VLOOKUP($A689,check!$A:$L,7,FALSE))","v":""},{"$f":"IF(ISERROR(VLOOKUP($A689,check!$A:$L,8,FALSE))=TRUE,\"\",VLOOKUP($A689,check!$A:$L,8,FALSE))","v":""},{"$f":"IF(ISERROR(VLOOKUP($A689,check!$A:$L,9,FALSE))=TRUE,\"\",VLOOKUP($A689,check!$A:$L,9,FALSE))","v":""},{"$f":"IF(ISERROR(VLOOKUP($A689,check!$A:$L,10,FALSE))=TRUE,\"\",VLOOKUP($A689,check!$A:$L,10,FALSE))","v":""},{"$f":"IF(ISERROR(VLOOKUP($A689,check!$A:$L,11,FALSE))=TRUE,\"\",VLOOKUP($A689,check!$A:$L,11,FALSE))","v":""},{"$f":"IF(ISERROR(VLOOKUP($A689,check!$A:$L,12,FALSE))=TRUE,\"\",VLOOKUP($A689,check!$A:$L,12,FALSE))","v":""}]
[690,{"$f":"IF(C690=\"\",\"\",MATCH(A690,check!A:A,0))","v":""},{"$f":"IF(ISERROR(VLOOKUP($A690,check!$A:$L,2,FALSE))=TRUE,\"\",VLOOKUP($A690,check!$A:$L,2,FALSE))","v":""},{"$f":"IF(ISERROR(VLOOKUP($A690,check!$A:$L,3,FALSE))=TRUE,\"\",VLOOKUP($A690,check!$A:$L,3,FALSE))","v":""},{"$f":"IF(ISERROR(VLOOKUP($A690,check!$A:$L,4,FALSE))=TRUE,\"\",VLOOKUP($A690,check!$A:$L,4,FALSE))","v":""},{"$f":"IF(ISERROR(VLOOKUP($A690,check!$A:$L,5,FALSE))=TRUE,\"\",VLOOKUP($A690,check!$A:$L,5,FALSE))","v":""},{"$f":"IF(ISERROR(VLOOKUP($A690,check!$A:$L,6,FALSE))=TRUE,\"\",VLOOKUP($A690,check!$A:$L,6,FALSE))","v":""},{"$f":"IF(ISERROR(VLOOKUP($A690,check!$A:$L,7,FALSE))=TRUE,\"\",VLOOKUP($A690,check!$A:$L,7,FALSE))","v":""},{"$f":"IF(ISERROR(VLOOKUP($A690,check!$A:$L,8,FALSE))=TRUE,\"\",VLOOKUP($A690,check!$A:$L,8,FALSE))","v":""},{"$f":"IF(ISERROR(VLOOKUP($A690,check!$A:$L,9,FALSE))=TRUE,\"\",VLOOKUP($A690,check!$A:$L,9,FALSE))","v":""},{"$f":"IF(ISERROR(VLOOKUP($A690,check!$A:$L,10,FALSE))=TRUE,\"\",VLOOKUP($A690,check!$A:$L,10,FALSE))","v":""},{"$f":"IF(ISERROR(VLOOKUP($A690,check!$A:$L,11,FALSE))=TRUE,\"\",VLOOKUP($A690,check!$A:$L,11,FALSE))","v":""},{"$f":"IF(ISERROR(VLOOKUP($A690,check!$A:$L,12,FALSE))=TRUE,\"\",VLOOKUP($A690,check!$A:$L,12,FALSE))","v":""}]
[691,{"$f":"IF(C691=\"\",\"\",MATCH(A691,check!A:A,0))","v":""},{"$f":"IF(ISERROR(VLOOKUP($A691,check!$A:$L,2,FALSE))=TRUE,\"\",VLOOKUP($A691,check!$A:$L,2,FALSE))","v":""},{"$f":"IF(ISERROR(VLOOKUP($A691,check!$A:$L,3,FALSE))=TRUE,\"\",VLOOKUP($A691,check!$A:$L,3,FALSE))","v":""},{"$f":"IF(ISERROR(VLOOKUP($A691,check!$A:$L,4,FALSE))=TRUE,\"\",VLOOKUP($A691,check!$A:$L,4,FALSE))","v":""},{"$f":"IF(ISERROR(VLOOKUP($A691,check!$A:$L,5,FALSE))=TRUE,\"\",VLOOKUP($A691,check!$A:$L,5,FALSE))","v":""},{"$f":"IF(ISERROR(VLOOKUP($A691,check!$A:$L,6,FALSE))=TRUE,\"\",VLOOKUP($A691,check!$A:$L,6,FALSE))","v":""},{"$f":"IF(ISERROR(VLOOKUP($A691,check!$A:$L,7,FALSE))=TRUE,\"\",VLOOKUP($A691,check!$A:$L,7,FALSE))","v":""},{"$f":"IF(ISERROR(VLOOKUP($A691,check!$A:$L,8,FALSE))=TRUE,\"\",VLOOKUP($A691,check!$A:$L,8,FALSE))","v":""},{"$f":"IF(ISERROR(VLOOKUP($A691,check!$A:$L,9,FALSE))=TRUE,\"\",VLOOKUP($A691,check!$A:$L,9,FALSE))","v":""},{"$f":"IF(ISERROR(VLOOKUP($A691,check!$A:$L,10,FALSE))=TRUE,\"\",VLOOKUP($A691,check!$A:$L,10,FALSE))","v":""},{"$f":"IF(ISERROR(VLOOKUP($A691,check!$A:$L,11,FALSE))=TRUE,\"\",VLOOKUP($A691,check!$A:$L,11,FALSE))","v":""},{"$f":"IF(ISERROR(VLOOKUP($A691,check!$A:$L,12,FALSE))=TRUE,\"\",VLOOKUP($A691,check!$A:$L,12,FALSE))","v":""}]
[692,{"$f":"IF(C692=\"\",\"\",MATCH(A692,check!A:A,0))","v":""},{"$f":"IF(ISERROR(VLOOKUP($A692,check!$A:$L,2,FALSE))=TRUE,\"\",VLOOKUP($A692,check!$A:$L,2,FALSE))","v":""},{"$f":"IF(ISERROR(VLOOKUP($A692,check!$A:$L,3,FALSE))=TRUE,\"\",VLOOKUP($A692,check!$A:$L,3,FALSE))","v":""},{"$f":"IF(ISERROR(VLOOKUP($A692,check!$A:$L,4,FALSE))=TRUE,\"\",VLOOKUP($A692,check!$A:$L,4,FALSE))","v":""},{"$f":"IF(ISERROR(VLOOKUP($A692,check!$A:$L,5,FALSE))=TRUE,\"\",VLOOKUP($A692,check!$A:$L,5,FALSE))","v":""},{"$f":"IF(ISERROR(VLOOKUP($A692,check!$A:$L,6,FALSE))=TRUE,\"\",VLOOKUP($A692,check!$A:$L,6,FALSE))","v":""},{"$f":"IF(ISERROR(VLOOKUP($A692,check!$A:$L,7,FALSE))=TRUE,\"\",VLOOKUP($A692,check!$A:$L,7,FALSE))","v":""},{"$f":"IF(ISERROR(VLOOKUP($A692,check!$A:$L,8,FALSE))=TRUE,\"\",VLOOKUP($A692,check!$A:$L,8,FALSE))","v":""},{"$f":"IF(ISERROR(VLOOKUP($A692,check!$A:$L,9,FALSE))=TRUE,\"\",VLOOKUP($A692,check!$A:$L,9,FALSE))","v":""},{"$f":"IF(ISERROR(VLOOKUP($A692,check!$A:$L,10,FALSE))=TRUE,\"\",VLOOKUP($A692,check!$A:$L,10,FALSE))","v":""},{"$f":"IF(ISERROR(VLOOKUP($A692,check!$A:$L,11,FALSE))=TRUE,\"\",VLOOKUP($A692,check!$A:$L,11,FALSE))","v":""},{"$f":"IF(ISERROR(VLOOKUP($A692,check!$A:$L,12,FALSE))=TRUE,\"\",VLOOKUP($A692,check!$A:$L,12,FALSE))","v":""}]
[693,{"$f":"IF(C693=\"\",\"\",MATCH(A693,check!A:A,0))","v":""},{"$f":"IF(ISERROR(VLOOKUP($A693,check!$A:$L,2,FALSE))=TRUE,\"\",VLOOKUP($A693,check!$A:$L,2,FALSE))","v":""},{"$f":"IF(ISERROR(VLOOKUP($A693,check!$A:$L,3,FALSE))=TRUE,\"\",VLOOKUP($A693,check!$A:$L,3,FALSE))","v":""},{"$f":"IF(ISERROR(VLOOKUP($A693,check!$A:$L,4,FALSE))=TRUE,\"\",VLOOKUP($A693,check!$A:$L,4,FALSE))","v":""},{"$f":"IF(ISERROR(VLOOKUP($A693,check!$A:$L,5,FALSE))=TRUE,\"\",VLOOKUP($A693,check!$A:$L,5,FALSE))","v":""},{"$f":"IF(ISERROR(VLOOKUP($A693,check!$A:$L,6,FALSE))=TRUE,\"\",VLOOKUP($A693,check!$A:$L,6,FALSE))","v":""},{"$f":"IF(ISERROR(VLOOKUP($A693,check!$A:$L,7,FALSE))=TRUE,\"\",VLOOKUP($A693,check!$A:$L,7,FALSE))","v":""},{"$f":"IF(ISERROR(VLOOKUP($A693,check!$A:$L,8,FALSE))=TRUE,\"\",VLOOKUP($A693,check!$A:$L,8,FALSE))","v":""},{"$f":"IF(ISERROR(VLOOKUP($A693,check!$A:$L,9,FALSE))=TRUE,\"\",VLOOKUP($A693,check!$A:$L,9,FALSE))","v":""},{"$f":"IF(ISERROR(VLOOKUP($A693,check!$A:$L,10,FALSE))=TRUE,\"\",VLOOKUP($A693,check!$A:$L,10,FALSE))","v":""},{"$f":"IF(ISERROR(VLOOKUP($A693,check!$A:$L,11,FALSE))=TRUE,\"\",VLOOKUP($A693,check!$A:$L,11,FALSE))","v":""},{"$f":"IF(ISERROR(VLOOKUP($A693,check!$A:$L,12,FALSE))=TRUE,\"\",VLOOKUP($A693,check!$A:$L,12,FALSE))","v":""}]
[694,{"$f":"IF(C694=\"\",\"\",MATCH(A694,check!A:A,0))","v":""},{"$f":"IF(ISERROR(VLOOKUP($A694,check!$A:$L,2,FALSE))=TRUE,\"\",VLOOKUP($A694,check!$A:$L,2,FALSE))","v":""},{"$f":"IF(ISERROR(VLOOKUP($A694,check!$A:$L,3,FALSE))=TRUE,\"\",VLOOKUP($A694,check!$A:$L,3,FALSE))","v":""},{"$f":"IF(ISERROR(VLOOKUP($A694,check!$A:$L,4,FALSE))=TRUE,\"\",VLOOKUP($A694,check!$A:$L,4,FALSE))","v":""},{"$f":"IF(ISERROR(VLOOKUP($A694,check!$A:$L,5,FALSE))=TRUE,\"\",VLOOKUP($A694,check!$A:$L,5,FALSE))","v":""},{"$f":"IF(ISERROR(VLOOKUP($A694,check!$A:$L,6,FALSE))=TRUE,\"\",VLOOKUP($A694,check!$A:$L,6,FALSE))","v":""},{"$f":"IF(ISERROR(VLOOKUP($A694,check!$A:$L,7,FALSE))=TRUE,\"\",VLOOKUP($A694,check!$A:$L,7,FALSE))","v":""},{"$f":"IF(ISERROR(VLOOKUP($A694,check!$A:$L,8,FALSE))=TRUE,\"\",VLOOKUP($A694,check!$A:$L,8,FALSE))","v":""},{"$f":"IF(ISERROR(VLOOKUP($A694,check!$A:$L,9,FALSE))=TRUE,\"\",VLOOKUP($A694,check!$A:$L,9,FALSE))","v":""},{"$f":"IF(ISERROR(VLOOKUP($A694,check!$A:$L,10,FALSE))=TRUE,\"\",VLOOKUP($A694,check!$A:$L,10,FALSE))","v":""},{"$f":"IF(ISERROR(VLOOKUP($A694,check!$A:$L,11,FALSE))=TRUE,\"\",VLOOKUP($A694,check!$A:$L,11,FALSE))","v":""},{"$f":"IF(ISERROR(VLOOKUP($A694,check!$A:$L,12,FALSE))=TRUE,\"\",VLOOKUP($A694,check!$A:$L,12,FALSE))","v":""}]
[695,{"$f":"IF(C695=\"\",\"\",MATCH(A695,check!A:A,0))","v":""},{"$f":"IF(ISERROR(VLOOKUP($A695,check!$A:$L,2,FALSE))=TRUE,\"\",VLOOKUP($A695,check!$A:$L,2,FALSE))","v":""},{"$f":"IF(ISERROR(VLOOKUP($A695,check!$A:$L,3,FALSE))=TRUE,\"\",VLOOKUP($A695,check!$A:$L,3,FALSE))","v":""},{"$f":"IF(ISERROR(VLOOKUP($A695,check!$A:$L,4,FALSE))=TRUE,\"\",VLOOKUP($A695,check!$A:$L,4,FALSE))","v":""},{"$f":"IF(ISERROR(VLOOKUP($A695,check!$A:$L,5,FALSE))=TRUE,\"\",VLOOKUP($A695,check!$A:$L,5,FALSE))","v":""},{"$f":"IF(ISERROR(VLOOKUP($A695,check!$A:$L,6,FALSE))=TRUE,\"\",VLOOKUP($A695,check!$A:$L,6,FALSE))","v":""},{"$f":"IF(ISERROR(VLOOKUP($A695,check!$A:$L,7,FALSE))=TRUE,\"\",VLOOKUP($A695,check!$A:$L,7,FALSE))","v":""},{"$f":"IF(ISERROR(VLOOKUP($A695,check!$A:$L,8,FALSE))=TRUE,\"\",VLOOKUP($A695,check!$A:$L,8,FALSE))","v":""},{"$f":"IF(ISERROR(VLOOKUP($A695,check!$A:$L,9,FALSE))=TRUE,\"\",VLOOKUP($A695,check!$A:$L,9,FALSE))","v":""},{"$f":"IF(ISERROR(VLOOKUP($A695,check!$A:$L,10,FALSE))=TRUE,\"\",VLOOKUP($A695,check!$A:$L,10,FALSE))","v":""},{"$f":"IF(ISERROR(VLOOKUP($A695,check!$A:$L,11,FALSE))=TRUE,\"\",VLOOKUP($A695,check!$A:$L,11,FALSE))","v":""},{"$f":"IF(ISERROR(VLOOKUP($A695,check!$A:$L,12,FALSE))=TRUE,\"\",VLOOKUP($A695,check!$A:$L,12,FALSE))","v":""}]
[696,{"$f":"IF(C696=\"\",\"\",MATCH(A696,check!A:A,0))","v":""},{"$f":"IF(ISERROR(VLOOKUP($A696,check!$A:$L,2,FALSE))=TRUE,\"\",VLOOKUP($A696,check!$A:$L,2,FALSE))","v":""},{"$f":"IF(ISERROR(VLOOKUP($A696,check!$A:$L,3,FALSE))=TRUE,\"\",VLOOKUP($A696,check!$A:$L,3,FALSE))","v":""},{"$f":"IF(ISERROR(VLOOKUP($A696,check!$A:$L,4,FALSE))=TRUE,\"\",VLOOKUP($A696,check!$A:$L,4,FALSE))","v":""},{"$f":"IF(ISERROR(VLOOKUP($A696,check!$A:$L,5,FALSE))=TRUE,\"\",VLOOKUP($A696,check!$A:$L,5,FALSE))","v":""},{"$f":"IF(ISERROR(VLOOKUP($A696,check!$A:$L,6,FALSE))=TRUE,\"\",VLOOKUP($A696,check!$A:$L,6,FALSE))","v":""},{"$f":"IF(ISERROR(VLOOKUP($A696,check!$A:$L,7,FALSE))=TRUE,\"\",VLOOKUP($A696,check!$A:$L,7,FALSE))","v":""},{"$f":"IF(ISERROR(VLOOKUP($A696,check!$A:$L,8,FALSE))=TRUE,\"\",VLOOKUP($A696,check!$A:$L,8,FALSE))","v":""},{"$f":"IF(ISERROR(VLOOKUP($A696,check!$A:$L,9,FALSE))=TRUE,\"\",VLOOKUP($A696,check!$A:$L,9,FALSE))","v":""},{"$f":"IF(ISERROR(VLOOKUP($A696,check!$A:$L,10,FALSE))=TRUE,\"\",VLOOKUP($A696,check!$A:$L,10,FALSE))","v":""},{"$f":"IF(ISERROR(VLOOKUP($A696,check!$A:$L,11,FALSE))=TRUE,\"\",VLOOKUP($A696,check!$A:$L,11,FALSE))","v":""},{"$f":"IF(ISERROR(VLOOKUP($A696,check!$A:$L,12,FALSE))=TRUE,\"\",VLOOKUP($A696,check!$A:$L,12,FALSE))","v":""}]
[697,{"$f":"IF(C697=\"\",\"\",MATCH(A697,check!A:A,0))","v":""},{"$f":"IF(ISERROR(VLOOKUP($A697,check!$A:$L,2,FALSE))=TRUE,\"\",VLOOKUP($A697,check!$A:$L,2,FALSE))","v":""},{"$f":"IF(ISERROR(VLOOKUP($A697,check!$A:$L,3,FALSE))=TRUE,\"\",VLOOKUP($A697,check!$A:$L,3,FALSE))","v":""},{"$f":"IF(ISERROR(VLOOKUP($A697,check!$A:$L,4,FALSE))=TRUE,\"\",VLOOKUP($A697,check!$A:$L,4,FALSE))","v":""},{"$f":"IF(ISERROR(VLOOKUP($A697,check!$A:$L,5,FALSE))=TRUE,\"\",VLOOKUP($A697,check!$A:$L,5,FALSE))","v":""},{"$f":"IF(ISERROR(VLOOKUP($A697,check!$A:$L,6,FALSE))=TRUE,\"\",VLOOKUP($A697,check!$A:$L,6,FALSE))","v":""},{"$f":"IF(ISERROR(VLOOKUP($A697,check!$A:$L,7,FALSE))=TRUE,\"\",VLOOKUP($A697,check!$A:$L,7,FALSE))","v":""},{"$f":"IF(ISERROR(VLOOKUP($A697,check!$A:$L,8,FALSE))=TRUE,\"\",VLOOKUP($A697,check!$A:$L,8,FALSE))","v":""},{"$f":"IF(ISERROR(VLOOKUP($A697,check!$A:$L,9,FALSE))=TRUE,\"\",VLOOKUP($A697,check!$A:$L,9,FALSE))","v":""},{"$f":"IF(ISERROR(VLOOKUP($A697,check!$A:$L,10,FALSE))=TRUE,\"\",VLOOKUP($A697,check!$A:$L,10,FALSE))","v":""},{"$f":"IF(ISERROR(VLOOKUP($A697,check!$A:$L,11,FALSE))=TRUE,\"\",VLOOKUP($A697,check!$A:$L,11,FALSE))","v":""},{"$f":"IF(ISERROR(VLOOKUP($A697,check!$A:$L,12,FALSE))=TRUE,\"\",VLOOKUP($A697,check!$A:$L,12,FALSE))","v":""}]
[698,{"$f":"IF(C698=\"\",\"\",MATCH(A698,check!A:A,0))","v":""},{"$f":"IF(ISERROR(VLOOKUP($A698,check!$A:$L,2,FALSE))=TRUE,\"\",VLOOKUP($A698,check!$A:$L,2,FALSE))","v":""},{"$f":"IF(ISERROR(VLOOKUP($A698,check!$A:$L,3,FALSE))=TRUE,\"\",VLOOKUP($A698,check!$A:$L,3,FALSE))","v":""},{"$f":"IF(ISERROR(VLOOKUP($A698,check!$A:$L,4,FALSE))=TRUE,\"\",VLOOKUP($A698,check!$A:$L,4,FALSE))","v":""},{"$f":"IF(ISERROR(VLOOKUP($A698,check!$A:$L,5,FALSE))=TRUE,\"\",VLOOKUP($A698,check!$A:$L,5,FALSE))","v":""},{"$f":"IF(ISERROR(VLOOKUP($A698,check!$A:$L,6,FALSE))=TRUE,\"\",VLOOKUP($A698,check!$A:$L,6,FALSE))","v":""},{"$f":"IF(ISERROR(VLOOKUP($A698,check!$A:$L,7,FALSE))=TRUE,\"\",VLOOKUP($A698,check!$A:$L,7,FALSE))","v":""},{"$f":"IF(ISERROR(VLOOKUP($A698,check!$A:$L,8,FALSE))=TRUE,\"\",VLOOKUP($A698,check!$A:$L,8,FALSE))","v":""},{"$f":"IF(ISERROR(VLOOKUP($A698,check!$A:$L,9,FALSE))=TRUE,\"\",VLOOKUP($A698,check!$A:$L,9,FALSE))","v":""},{"$f":"IF(ISERROR(VLOOKUP($A698,check!$A:$L,10,FALSE))=TRUE,\"\",VLOOKUP($A698,check!$A:$L,10,FALSE))","v":""},{"$f":"IF(ISERROR(VLOOKUP($A698,check!$A:$L,11,FALSE))=TRUE,\"\",VLOOKUP($A698,check!$A:$L,11,FALSE))","v":""},{"$f":"IF(ISERROR(VLOOKUP($A698,check!$A:$L,12,FALSE))=TRUE,\"\",VLOOKUP($A698,check!$A:$L,12,FALSE))","v":""}]
[699,{"$f":"IF(C699=\"\",\"\",MATCH(A699,check!A:A,0))","v":""},{"$f":"IF(ISERROR(VLOOKUP($A699,check!$A:$L,2,FALSE))=TRUE,\"\",VLOOKUP($A699,check!$A:$L,2,FALSE))","v":""},{"$f":"IF(ISERROR(VLOOKUP($A699,check!$A:$L,3,FALSE))=TRUE,\"\",VLOOKUP($A699,check!$A:$L,3,FALSE))","v":""},{"$f":"IF(ISERROR(VLOOKUP($A699,check!$A:$L,4,FALSE))=TRUE,\"\",VLOOKUP($A699,check!$A:$L,4,FALSE))","v":""},{"$f":"IF(ISERROR(VLOOKUP($A699,check!$A:$L,5,FALSE))=TRUE,\"\",VLOOKUP($A699,check!$A:$L,5,FALSE))","v":""},{"$f":"IF(ISERROR(VLOOKUP($A699,check!$A:$L,6,FALSE))=TRUE,\"\",VLOOKUP($A699,check!$A:$L,6,FALSE))","v":""},{"$f":"IF(ISERROR(VLOOKUP($A699,check!$A:$L,7,FALSE))=TRUE,\"\",VLOOKUP($A699,check!$A:$L,7,FALSE))","v":""},{"$f":"IF(ISERROR(VLOOKUP($A699,check!$A:$L,8,FALSE))=TRUE,\"\",VLOOKUP($A699,check!$A:$L,8,FALSE))","v":""},{"$f":"IF(ISERROR(VLOOKUP($A699,check!$A:$L,9,FALSE))=TRUE,\"\",VLOOKUP($A699,check!$A:$L,9,FALSE))","v":""},{"$f":"IF(ISERROR(VLOOKUP($A699,check!$A:$L,10,FALSE))=TRUE,\"\",VLOOKUP($A699,check!$A:$L,10,FALSE))","v":""},{"$f":"IF(ISERROR(VLOOKUP($A699,check!$A:$L,11,FALSE))=TRUE,\"\",VLOOKUP($A699,check!$A:$L,11,FALSE))","v":""},{"$f":"IF(ISERROR(VLOOKUP($A699,check!$A:$L,12,FALSE))=TRUE,\"\",VLOOKUP($A699,check!$A:$L,12,FALSE))","v":""}]
[700,{"$f":"IF(C700=\"\",\"\",MATCH(A700,check!A:A,0))","v":""},{"$f":"IF(ISERROR(VLOOKUP($A700,check!$A:$L,2,FALSE))=TRUE,\"\",VLOOKUP($A700,check!$A:$L,2,FALSE))","v":""},{"$f":"IF(ISERROR(VLOOKUP($A700,check!$A:$L,3,FALSE))=TRUE,\"\",VLOOKUP($A700,check!$A:$L,3,FALSE))","v":""},{"$f":"IF(ISERROR(VLOOKUP($A700,check!$A:$L,4,FALSE))=TRUE,\"\",VLOOKUP($A700,check!$A:$L,4,FALSE))","v":""},{"$f":"IF(ISERROR(VLOOKUP($A700,check!$A:$L,5,FALSE))=TRUE,\"\",VLOOKUP($A700,check!$A:$L,5,FALSE))","v":""},{"$f":"IF(ISERROR(VLOOKUP($A700,check!$A:$L,6,FALSE))=TRUE,\"\",VLOOKUP($A700,check!$A:$L,6,FALSE))","v":""},{"$f":"IF(ISERROR(VLOOKUP($A700,check!$A:$L,7,FALSE))=TRUE,\"\",VLOOKUP($A700,check!$A:$L,7,FALSE))","v":""},{"$f":"IF(ISERROR(VLOOKUP($A700,check!$A:$L,8,FALSE))=TRUE,\"\",VLOOKUP($A700,check!$A:$L,8,FALSE))","v":""},{"$f":"IF(ISERROR(VLOOKUP($A700,check!$A:$L,9,FALSE))=TRUE,\"\",VLOOKUP($A700,check!$A:$L,9,FALSE))","v":""},{"$f":"IF(ISERROR(VLOOKUP($A700,check!$A:$L,10,FALSE))=TRUE,\"\",VLOOKUP($A700,check!$A:$L,10,FALSE))","v":""},{"$f":"IF(ISERROR(VLOOKUP($A700,check!$A:$L,11,FALSE))=TRUE,\"\",VLOOKUP($A700,check!$A:$L,11,FALSE))","v":""},{"$f":"IF(ISERROR(VLOOKUP($A700,check!$A:$L,12,FALSE))=TRUE,\"\",VLOOKUP($A700,check!$A:$L,12,FALSE))","v":""}]
[701,{"$f":"IF(C701=\"\",\"\",MATCH(A701,check!A:A,0))","v":""},{"$f":"IF(ISERROR(VLOOKUP($A701,check!$A:$L,2,FALSE))=TRUE,\"\",VLOOKUP($A701,check!$A:$L,2,FALSE))","v":""},{"$f":"IF(ISERROR(VLOOKUP($A701,check!$A:$L,3,FALSE))=TRUE,\"\",VLOOKUP($A701,check!$A:$L,3,FALSE))","v":""},{"$f":"IF(ISERROR(VLOOKUP($A701,check!$A:$L,4,FALSE))=TRUE,\"\",VLOOKUP($A701,check!$A:$L,4,FALSE))","v":""},{"$f":"IF(ISERROR(VLOOKUP($A701,check!$A:$L,5,FALSE))=TRUE,\"\",VLOOKUP($A701,check!$A:$L,5,FALSE))","v":""},{"$f":"IF(ISERROR(VLOOKUP($A701,check!$A:$L,6,FALSE))=TRUE,\"\",VLOOKUP($A701,check!$A:$L,6,FALSE))","v":""},{"$f":"IF(ISERROR(VLOOKUP($A701,check!$A:$L,7,FALSE))=TRUE,\"\",VLOOKUP($A701,check!$A:$L,7,FALSE))","v":""},{"$f":"IF(ISERROR(VLOOKUP($A701,check!$A:$L,8,FALSE))=TRUE,\"\",VLOOKUP($A701,check!$A:$L,8,FALSE))","v":""},{"$f":"IF(ISERROR(VLOOKUP($A701,check!$A:$L,9,FALSE))=TRUE,\"\",VLOOKUP($A701,check!$A:$L,9,FALSE))","v":""},{"$f":"IF(ISERROR(VLOOKUP($A701,check!$A:$L,10,FALSE))=TRUE,\"\",VLOOKUP($A701,check!$A:$L,10,FALSE))","v":""},{"$f":"IF(ISERROR(VLOOKUP($A701,check!$A:$L,11,FALSE))=TRUE,\"\",VLOOKUP($A701,check!$A:$L,11,FALSE))","v":""},{"$f":"IF(ISERROR(VLOOKUP($A701,check!$A:$L,12,FALSE))=TRUE,\"\",VLOOKUP($A701,check!$A:$L,12,FALSE))","v":""}]
[702,{"$f":"IF(C702=\"\",\"\",MATCH(A702,check!A:A,0))","v":""},{"$f":"IF(ISERROR(VLOOKUP($A702,check!$A:$L,2,FALSE))=TRUE,\"\",VLOOKUP($A702,check!$A:$L,2,FALSE))","v":""},{"$f":"IF(ISERROR(VLOOKUP($A702,check!$A:$L,3,FALSE))=TRUE,\"\",VLOOKUP($A702,check!$A:$L,3,FALSE))","v":""},{"$f":"IF(ISERROR(VLOOKUP($A702,check!$A:$L,4,FALSE))=TRUE,\"\",VLOOKUP($A702,check!$A:$L,4,FALSE))","v":""},{"$f":"IF(ISERROR(VLOOKUP($A702,check!$A:$L,5,FALSE))=TRUE,\"\",VLOOKUP($A702,check!$A:$L,5,FALSE))","v":""},{"$f":"IF(ISERROR(VLOOKUP($A702,check!$A:$L,6,FALSE))=TRUE,\"\",VLOOKUP($A702,check!$A:$L,6,FALSE))","v":""},{"$f":"IF(ISERROR(VLOOKUP($A702,check!$A:$L,7,FALSE))=TRUE,\"\",VLOOKUP($A702,check!$A:$L,7,FALSE))","v":""},{"$f":"IF(ISERROR(VLOOKUP($A702,check!$A:$L,8,FALSE))=TRUE,\"\",VLOOKUP($A702,check!$A:$L,8,FALSE))","v":""},{"$f":"IF(ISERROR(VLOOKUP($A702,check!$A:$L,9,FALSE))=TRUE,\"\",VLOOKUP($A702,check!$A:$L,9,FALSE))","v":""},{"$f":"IF(ISERROR(VLOOKUP($A702,check!$A:$L,10,FALSE))=TRUE,\"\",VLOOKUP($A702,check!$A:$L,10,FALSE))","v":""},{"$f":"IF(ISERROR(VLOOKUP($A702,check!$A:$L,11,FALSE))=TRUE,\"\",VLOOKUP($A702,check!$A:$L,11,FALSE))","v":""},{"$f":"IF(ISERROR(VLOOKUP($A702,check!$A:$L,12,FALSE))=TRUE,\"\",VLOOKUP($A702,check!$A:$L,12,FALSE))","v":""}]
[703,{"$f":"IF(C703=\"\",\"\",MATCH(A703,check!A:A,0))","v":""},{"$f":"IF(ISERROR(VLOOKUP($A703,check!$A:$L,2,FALSE))=TRUE,\"\",VLOOKUP($A703,check!$A:$L,2,FALSE))","v":""},{"$f":"IF(ISERROR(VLOOKUP($A703,check!$A:$L,3,FALSE))=TRUE,\"\",VLOOKUP($A703,check!$A:$L,3,FALSE))","v":""},{"$f":"IF(ISERROR(VLOOKUP($A703,check!$A:$L,4,FALSE))=TRUE,\"\",VLOOKUP($A703,check!$A:$L,4,FALSE))","v":""},{"$f":"IF(ISERROR(VLOOKUP($A703,check!$A:$L,5,FALSE))=TRUE,\"\",VLOOKUP($A703,check!$A:$L,5,FALSE))","v":""},{"$f":"IF(ISERROR(VLOOKUP($A703,check!$A:$L,6,FALSE))=TRUE,\"\",VLOOKUP($A703,check!$A:$L,6,FALSE))","v":""},{"$f":"IF(ISERROR(VLOOKUP($A703,check!$A:$L,7,FALSE))=TRUE,\"\",VLOOKUP($A703,check!$A:$L,7,FALSE))","v":""},{"$f":"IF(ISERROR(VLOOKUP($A703,check!$A:$L,8,FALSE))=TRUE,\"\",VLOOKUP($A703,check!$A:$L,8,FALSE))","v":""},{"$f":"IF(ISERROR(VLOOKUP($A703,check!$A:$L,9,FALSE))=TRUE,\"\",VLOOKUP($A703,check!$A:$L,9,FALSE))","v":""},{"$f":"IF(ISERROR(VLOOKUP($A703,check!$A:$L,10,FALSE))=TRUE,\"\",VLOOKUP($A703,check!$A:$L,10,FALSE))","v":""},{"$f":"IF(ISERROR(VLOOKUP($A703,check!$A:$L,11,FALSE))=TRUE,\"\",VLOOKUP($A703,check!$A:$L,11,FALSE))","v":""},{"$f":"IF(ISERROR(VLOOKUP($A703,check!$A:$L,12,FALSE))=TRUE,\"\",VLOOKUP($A703,check!$A:$L,12,FALSE))","v":""}]
[704,{"$f":"IF(C704=\"\",\"\",MATCH(A704,check!A:A,0))","v":""},{"$f":"IF(ISERROR(VLOOKUP($A704,check!$A:$L,2,FALSE))=TRUE,\"\",VLOOKUP($A704,check!$A:$L,2,FALSE))","v":""},{"$f":"IF(ISERROR(VLOOKUP($A704,check!$A:$L,3,FALSE))=TRUE,\"\",VLOOKUP($A704,check!$A:$L,3,FALSE))","v":""},{"$f":"IF(ISERROR(VLOOKUP($A704,check!$A:$L,4,FALSE))=TRUE,\"\",VLOOKUP($A704,check!$A:$L,4,FALSE))","v":""},{"$f":"IF(ISERROR(VLOOKUP($A704,check!$A:$L,5,FALSE))=TRUE,\"\",VLOOKUP($A704,check!$A:$L,5,FALSE))","v":""},{"$f":"IF(ISERROR(VLOOKUP($A704,check!$A:$L,6,FALSE))=TRUE,\"\",VLOOKUP($A704,check!$A:$L,6,FALSE))","v":""},{"$f":"IF(ISERROR(VLOOKUP($A704,check!$A:$L,7,FALSE))=TRUE,\"\",VLOOKUP($A704,check!$A:$L,7,FALSE))","v":""},{"$f":"IF(ISERROR(VLOOKUP($A704,check!$A:$L,8,FALSE))=TRUE,\"\",VLOOKUP($A704,check!$A:$L,8,FALSE))","v":""},{"$f":"IF(ISERROR(VLOOKUP($A704,check!$A:$L,9,FALSE))=TRUE,\"\",VLOOKUP($A704,check!$A:$L,9,FALSE))","v":""},{"$f":"IF(ISERROR(VLOOKUP($A704,check!$A:$L,10,FALSE))=TRUE,\"\",VLOOKUP($A704,check!$A:$L,10,FALSE))","v":""},{"$f":"IF(ISERROR(VLOOKUP($A704,check!$A:$L,11,FALSE))=TRUE,\"\",VLOOKUP($A704,check!$A:$L,11,FALSE))","v":""},{"$f":"IF(ISERROR(VLOOKUP($A704,check!$A:$L,12,FALSE))=TRUE,\"\",VLOOKUP($A704,check!$A:$L,12,FALSE))","v":""}]
[705,{"$f":"IF(C705=\"\",\"\",MATCH(A705,check!A:A,0))","v":""},{"$f":"IF(ISERROR(VLOOKUP($A705,check!$A:$L,2,FALSE))=TRUE,\"\",VLOOKUP($A705,check!$A:$L,2,FALSE))","v":""},{"$f":"IF(ISERROR(VLOOKUP($A705,check!$A:$L,3,FALSE))=TRUE,\"\",VLOOKUP($A705,check!$A:$L,3,FALSE))","v":""},{"$f":"IF(ISERROR(VLOOKUP($A705,check!$A:$L,4,FALSE))=TRUE,\"\",VLOOKUP($A705,check!$A:$L,4,FALSE))","v":""},{"$f":"IF(ISERROR(VLOOKUP($A705,check!$A:$L,5,FALSE))=TRUE,\"\",VLOOKUP($A705,check!$A:$L,5,FALSE))","v":""},{"$f":"IF(ISERROR(VLOOKUP($A705,check!$A:$L,6,FALSE))=TRUE,\"\",VLOOKUP($A705,check!$A:$L,6,FALSE))","v":""},{"$f":"IF(ISERROR(VLOOKUP($A705,check!$A:$L,7,FALSE))=TRUE,\"\",VLOOKUP($A705,check!$A:$L,7,FALSE))","v":""},{"$f":"IF(ISERROR(VLOOKUP($A705,check!$A:$L,8,FALSE))=TRUE,\"\",VLOOKUP($A705,check!$A:$L,8,FALSE))","v":""},{"$f":"IF(ISERROR(VLOOKUP($A705,check!$A:$L,9,FALSE))=TRUE,\"\",VLOOKUP($A705,check!$A:$L,9,FALSE))","v":""},{"$f":"IF(ISERROR(VLOOKUP($A705,check!$A:$L,10,FALSE))=TRUE,\"\",VLOOKUP($A705,check!$A:$L,10,FALSE))","v":""},{"$f":"IF(ISERROR(VLOOKUP($A705,check!$A:$L,11,FALSE))=TRUE,\"\",VLOOKUP($A705,check!$A:$L,11,FALSE))","v":""},{"$f":"IF(ISERROR(VLOOKUP($A705,check!$A:$L,12,FALSE))=TRUE,\"\",VLOOKUP($A705,check!$A:$L,12,FALSE))","v":""}]
[706,{"$f":"IF(C706=\"\",\"\",MATCH(A706,check!A:A,0))","v":""},{"$f":"IF(ISERROR(VLOOKUP($A706,check!$A:$L,2,FALSE))=TRUE,\"\",VLOOKUP($A706,check!$A:$L,2,FALSE))","v":""},{"$f":"IF(ISERROR(VLOOKUP($A706,check!$A:$L,3,FALSE))=TRUE,\"\",VLOOKUP($A706,check!$A:$L,3,FALSE))","v":""},{"$f":"IF(ISERROR(VLOOKUP($A706,check!$A:$L,4,FALSE))=TRUE,\"\",VLOOKUP($A706,check!$A:$L,4,FALSE))","v":""},{"$f":"IF(ISERROR(VLOOKUP($A706,check!$A:$L,5,FALSE))=TRUE,\"\",VLOOKUP($A706,check!$A:$L,5,FALSE))","v":""},{"$f":"IF(ISERROR(VLOOKUP($A706,check!$A:$L,6,FALSE))=TRUE,\"\",VLOOKUP($A706,check!$A:$L,6,FALSE))","v":""},{"$f":"IF(ISERROR(VLOOKUP($A706,check!$A:$L,7,FALSE))=TRUE,\"\",VLOOKUP($A706,check!$A:$L,7,FALSE))","v":""},{"$f":"IF(ISERROR(VLOOKUP($A706,check!$A:$L,8,FALSE))=TRUE,\"\",VLOOKUP($A706,check!$A:$L,8,FALSE))","v":""},{"$f":"IF(ISERROR(VLOOKUP($A706,check!$A:$L,9,FALSE))=TRUE,\"\",VLOOKUP($A706,check!$A:$L,9,FALSE))","v":""},{"$f":"IF(ISERROR(VLOOKUP($A706,check!$A:$L,10,FALSE))=TRUE,\"\",VLOOKUP($A706,check!$A:$L,10,FALSE))","v":""},{"$f":"IF(ISERROR(VLOOKUP($A706,check!$A:$L,11,FALSE))=TRUE,\"\",VLOOKUP($A706,check!$A:$L,11,FALSE))","v":""},{"$f":"IF(ISERROR(VLOOKUP($A706,check!$A:$L,12,FALSE))=TRUE,\"\",VLOOKUP($A706,check!$A:$L,12,FALSE))","v":""}]
[707,{"$f":"IF(C707=\"\",\"\",MATCH(A707,check!A:A,0))","v":""},{"$f":"IF(ISERROR(VLOOKUP($A707,check!$A:$L,2,FALSE))=TRUE,\"\",VLOOKUP($A707,check!$A:$L,2,FALSE))","v":""},{"$f":"IF(ISERROR(VLOOKUP($A707,check!$A:$L,3,FALSE))=TRUE,\"\",VLOOKUP($A707,check!$A:$L,3,FALSE))","v":""},{"$f":"IF(ISERROR(VLOOKUP($A707,check!$A:$L,4,FALSE))=TRUE,\"\",VLOOKUP($A707,check!$A:$L,4,FALSE))","v":""},{"$f":"IF(ISERROR(VLOOKUP($A707,check!$A:$L,5,FALSE))=TRUE,\"\",VLOOKUP($A707,check!$A:$L,5,FALSE))","v":""},{"$f":"IF(ISERROR(VLOOKUP($A707,check!$A:$L,6,FALSE))=TRUE,\"\",VLOOKUP($A707,check!$A:$L,6,FALSE))","v":""},{"$f":"IF(ISERROR(VLOOKUP($A707,check!$A:$L,7,FALSE))=TRUE,\"\",VLOOKUP($A707,check!$A:$L,7,FALSE))","v":""},{"$f":"IF(ISERROR(VLOOKUP($A707,check!$A:$L,8,FALSE))=TRUE,\"\",VLOOKUP($A707,check!$A:$L,8,FALSE))","v":""},{"$f":"IF(ISERROR(VLOOKUP($A707,check!$A:$L,9,FALSE))=TRUE,\"\",VLOOKUP($A707,check!$A:$L,9,FALSE))","v":""},{"$f":"IF(ISERROR(VLOOKUP($A707,check!$A:$L,10,FALSE))=TRUE,\"\",VLOOKUP($A707,check!$A:$L,10,FALSE))","v":""},{"$f":"IF(ISERROR(VLOOKUP($A707,check!$A:$L,11,FALSE))=TRUE,\"\",VLOOKUP($A707,check!$A:$L,11,FALSE))","v":""},{"$f":"IF(ISERROR(VLOOKUP($A707,check!$A:$L,12,FALSE))=TRUE,\"\",VLOOKUP($A707,check!$A:$L,12,FALSE))","v":""}]
[{"$f":"A707+1","v":708},{"$f":"IF(C708=\"\",\"\",MATCH(A708,check!A:A,0))","v":""},{"$f":"IF(ISERROR(VLOOKUP($A708,check!$A:$L,2,FALSE))=TRUE,\"\",VLOOKUP($A708,check!$A:$L,2,FALSE))","v":""},{"$f":"IF(ISERROR(VLOOKUP($A708,check!$A:$L,3,FALSE))=TRUE,\"\",VLOOKUP($A708,check!$A:$L,3,FALSE))","v":""},{"$f":"IF(ISERROR(VLOOKUP($A708,check!$A:$L,4,FALSE))=TRUE,\"\",VLOOKUP($A708,check!$A:$L,4,FALSE))","v":""},{"$f":"IF(ISERROR(VLOOKUP($A708,check!$A:$L,5,FALSE))=TRUE,\"\",VLOOKUP($A708,check!$A:$L,5,FALSE))","v":""},{"$f":"IF(ISERROR(VLOOKUP($A708,check!$A:$L,6,FALSE))=TRUE,\"\",VLOOKUP($A708,check!$A:$L,6,FALSE))","v":""},{"$f":"IF(ISERROR(VLOOKUP($A708,check!$A:$L,7,FALSE))=TRUE,\"\",VLOOKUP($A708,check!$A:$L,7,FALSE))","v":""},{"$f":"IF(ISERROR(VLOOKUP($A708,check!$A:$L,8,FALSE))=TRUE,\"\",VLOOKUP($A708,check!$A:$L,8,FALSE))","v":""},{"$f":"IF(ISERROR(VLOOKUP($A708,check!$A:$L,9,FALSE))=TRUE,\"\",VLOOKUP($A708,check!$A:$L,9,FALSE))","v":""},{"$f":"IF(ISERROR(VLOOKUP($A708,check!$A:$L,10,FALSE))=TRUE,\"\",VLOOKUP($A708,check!$A:$L,10,FALSE))","v":""},{"$f":"IF(ISERROR(VLOOKUP($A708,check!$A:$L,11,FALSE))=TRUE,\"\",VLOOKUP($A708,check!$A:$L,11,FALSE))","v":""},{"$f":"IF(ISERROR(VLOOKUP($A708,check!$A:$L,12,FALSE))=TRUE,\"\",VLOOKUP($A708,check!$A:$L,12,FALSE))","v":""}]
[709,{"$f":"IF(C709=\"\",\"\",MATCH(A709,check!A:A,0))","v":""},{"$f":"IF(ISERROR(VLOOKUP($A709,check!$A:$L,2,FALSE))=TRUE,\"\",VLOOKUP($A709,check!$A:$L,2,FALSE))","v":""},{"$f":"IF(ISERROR(VLOOKUP($A709,check!$A:$L,3,FALSE))=TRUE,\"\",VLOOKUP($A709,check!$A:$L,3,FALSE))","v":""},{"$f":"IF(ISERROR(VLOOKUP($A709,check!$A:$L,4,FALSE))=TRUE,\"\",VLOOKUP($A709,check!$A:$L,4,FALSE))","v":""},{"$f":"IF(ISERROR(VLOOKUP($A709,check!$A:$L,5,FALSE))=TRUE,\"\",VLOOKUP($A709,check!$A:$L,5,FALSE))","v":""},{"$f":"IF(ISERROR(VLOOKUP($A709,check!$A:$L,6,FALSE))=TRUE,\"\",VLOOKUP($A709,check!$A:$L,6,FALSE))","v":""},{"$f":"IF(ISERROR(VLOOKUP($A709,check!$A:$L,7,FALSE))=TRUE,\"\",VLOOKUP($A709,check!$A:$L,7,FALSE))","v":""},{"$f":"IF(ISERROR(VLOOKUP($A709,check!$A:$L,8,FALSE))=TRUE,\"\",VLOOKUP($A709,check!$A:$L,8,FALSE))","v":""},{"$f":"IF(ISERROR(VLOOKUP($A709,check!$A:$L,9,FALSE))=TRUE,\"\",VLOOKUP($A709,check!$A:$L,9,FALSE))","v":""},{"$f":"IF(ISERROR(VLOOKUP($A709,check!$A:$L,10,FALSE))=TRUE,\"\",VLOOKUP($A709,check!$A:$L,10,FALSE))","v":""},{"$f":"IF(ISERROR(VLOOKUP($A709,check!$A:$L,11,FALSE))=TRUE,\"\",VLOOKUP($A709,check!$A:$L,11,FALSE))","v":""},{"$f":"IF(ISERROR(VLOOKUP($A709,check!$A:$L,12,FALSE))=TRUE,\"\",VLOOKUP($A709,check!$A:$L,12,FALSE))","v":""}]
[710,{"$f":"IF(C710=\"\",\"\",MATCH(A710,check!A:A,0))","v":""},{"$f":"IF(ISERROR(VLOOKUP($A710,check!$A:$L,2,FALSE))=TRUE,\"\",VLOOKUP($A710,check!$A:$L,2,FALSE))","v":""},{"$f":"IF(ISERROR(VLOOKUP($A710,check!$A:$L,3,FALSE))=TRUE,\"\",VLOOKUP($A710,check!$A:$L,3,FALSE))","v":""},{"$f":"IF(ISERROR(VLOOKUP($A710,check!$A:$L,4,FALSE))=TRUE,\"\",VLOOKUP($A710,check!$A:$L,4,FALSE))","v":""},{"$f":"IF(ISERROR(VLOOKUP($A710,check!$A:$L,5,FALSE))=TRUE,\"\",VLOOKUP($A710,check!$A:$L,5,FALSE))","v":""},{"$f":"IF(ISERROR(VLOOKUP($A710,check!$A:$L,6,FALSE))=TRUE,\"\",VLOOKUP($A710,check!$A:$L,6,FALSE))","v":""},{"$f":"IF(ISERROR(VLOOKUP($A710,check!$A:$L,7,FALSE))=TRUE,\"\",VLOOKUP($A710,check!$A:$L,7,FALSE))","v":""},{"$f":"IF(ISERROR(VLOOKUP($A710,check!$A:$L,8,FALSE))=TRUE,\"\",VLOOKUP($A710,check!$A:$L,8,FALSE))","v":""},{"$f":"IF(ISERROR(VLOOKUP($A710,check!$A:$L,9,FALSE))=TRUE,\"\",VLOOKUP($A710,check!$A:$L,9,FALSE))","v":""},{"$f":"IF(ISERROR(VLOOKUP($A710,check!$A:$L,10,FALSE))=TRUE,\"\",VLOOKUP($A710,check!$A:$L,10,FALSE))","v":""},{"$f":"IF(ISERROR(VLOOKUP($A710,check!$A:$L,11,FALSE))=TRUE,\"\",VLOOKUP($A710,check!$A:$L,11,FALSE))","v":""},{"$f":"IF(ISERROR(VLOOKUP($A710,check!$A:$L,12,FALSE))=TRUE,\"\",VLOOKUP($A710,check!$A:$L,12,FALSE))","v":""}]
[711,{"$f":"IF(C711=\"\",\"\",MATCH(A711,check!A:A,0))","v":""},{"$f":"IF(ISERROR(VLOOKUP($A711,check!$A:$L,2,FALSE))=TRUE,\"\",VLOOKUP($A711,check!$A:$L,2,FALSE))","v":""},{"$f":"IF(ISERROR(VLOOKUP($A711,check!$A:$L,3,FALSE))=TRUE,\"\",VLOOKUP($A711,check!$A:$L,3,FALSE))","v":""},{"$f":"IF(ISERROR(VLOOKUP($A711,check!$A:$L,4,FALSE))=TRUE,\"\",VLOOKUP($A711,check!$A:$L,4,FALSE))","v":""},{"$f":"IF(ISERROR(VLOOKUP($A711,check!$A:$L,5,FALSE))=TRUE,\"\",VLOOKUP($A711,check!$A:$L,5,FALSE))","v":""},{"$f":"IF(ISERROR(VLOOKUP($A711,check!$A:$L,6,FALSE))=TRUE,\"\",VLOOKUP($A711,check!$A:$L,6,FALSE))","v":""},{"$f":"IF(ISERROR(VLOOKUP($A711,check!$A:$L,7,FALSE))=TRUE,\"\",VLOOKUP($A711,check!$A:$L,7,FALSE))","v":""},{"$f":"IF(ISERROR(VLOOKUP($A711,check!$A:$L,8,FALSE))=TRUE,\"\",VLOOKUP($A711,check!$A:$L,8,FALSE))","v":""},{"$f":"IF(ISERROR(VLOOKUP($A711,check!$A:$L,9,FALSE))=TRUE,\"\",VLOOKUP($A711,check!$A:$L,9,FALSE))","v":""},{"$f":"IF(ISERROR(VLOOKUP($A711,check!$A:$L,10,FALSE))=TRUE,\"\",VLOOKUP($A711,check!$A:$L,10,FALSE))","v":""},{"$f":"IF(ISERROR(VLOOKUP($A711,check!$A:$L,11,FALSE))=TRUE,\"\",VLOOKUP($A711,check!$A:$L,11,FALSE))","v":""},{"$f":"IF(ISERROR(VLOOKUP($A711,check!$A:$L,12,FALSE))=TRUE,\"\",VLOOKUP($A711,check!$A:$L,12,FALSE))","v":""}]
[712,{"$f":"IF(C712=\"\",\"\",MATCH(A712,check!A:A,0))","v":""},{"$f":"IF(ISERROR(VLOOKUP($A712,check!$A:$L,2,FALSE))=TRUE,\"\",VLOOKUP($A712,check!$A:$L,2,FALSE))","v":""},{"$f":"IF(ISERROR(VLOOKUP($A712,check!$A:$L,3,FALSE))=TRUE,\"\",VLOOKUP($A712,check!$A:$L,3,FALSE))","v":""},{"$f":"IF(ISERROR(VLOOKUP($A712,check!$A:$L,4,FALSE))=TRUE,\"\",VLOOKUP($A712,check!$A:$L,4,FALSE))","v":""},{"$f":"IF(ISERROR(VLOOKUP($A712,check!$A:$L,5,FALSE))=TRUE,\"\",VLOOKUP($A712,check!$A:$L,5,FALSE))","v":""},{"$f":"IF(ISERROR(VLOOKUP($A712,check!$A:$L,6,FALSE))=TRUE,\"\",VLOOKUP($A712,check!$A:$L,6,FALSE))","v":""},{"$f":"IF(ISERROR(VLOOKUP($A712,check!$A:$L,7,FALSE))=TRUE,\"\",VLOOKUP($A712,check!$A:$L,7,FALSE))","v":""},{"$f":"IF(ISERROR(VLOOKUP($A712,check!$A:$L,8,FALSE))=TRUE,\"\",VLOOKUP($A712,check!$A:$L,8,FALSE))","v":""},{"$f":"IF(ISERROR(VLOOKUP($A712,check!$A:$L,9,FALSE))=TRUE,\"\",VLOOKUP($A712,check!$A:$L,9,FALSE))","v":""},{"$f":"IF(ISERROR(VLOOKUP($A712,check!$A:$L,10,FALSE))=TRUE,\"\",VLOOKUP($A712,check!$A:$L,10,FALSE))","v":""},{"$f":"IF(ISERROR(VLOOKUP($A712,check!$A:$L,11,FALSE))=TRUE,\"\",VLOOKUP($A712,check!$A:$L,11,FALSE))","v":""},{"$f":"IF(ISERROR(VLOOKUP($A712,check!$A:$L,12,FALSE))=TRUE,\"\",VLOOKUP($A712,check!$A:$L,12,FALSE))","v":""}]
[713,{"$f":"IF(C713=\"\",\"\",MATCH(A713,check!A:A,0))","v":""},{"$f":"IF(ISERROR(VLOOKUP($A713,check!$A:$L,2,FALSE))=TRUE,\"\",VLOOKUP($A713,check!$A:$L,2,FALSE))","v":""},{"$f":"IF(ISERROR(VLOOKUP($A713,check!$A:$L,3,FALSE))=TRUE,\"\",VLOOKUP($A713,check!$A:$L,3,FALSE))","v":""},{"$f":"IF(ISERROR(VLOOKUP($A713,check!$A:$L,4,FALSE))=TRUE,\"\",VLOOKUP($A713,check!$A:$L,4,FALSE))","v":""},{"$f":"IF(ISERROR(VLOOKUP($A713,check!$A:$L,5,FALSE))=TRUE,\"\",VLOOKUP($A713,check!$A:$L,5,FALSE))","v":""},{"$f":"IF(ISERROR(VLOOKUP($A713,check!$A:$L,6,FALSE))=TRUE,\"\",VLOOKUP($A713,check!$A:$L,6,FALSE))","v":""},{"$f":"IF(ISERROR(VLOOKUP($A713,check!$A:$L,7,FALSE))=TRUE,\"\",VLOOKUP($A713,check!$A:$L,7,FALSE))","v":""},{"$f":"IF(ISERROR(VLOOKUP($A713,check!$A:$L,8,FALSE))=TRUE,\"\",VLOOKUP($A713,check!$A:$L,8,FALSE))","v":""},{"$f":"IF(ISERROR(VLOOKUP($A713,check!$A:$L,9,FALSE))=TRUE,\"\",VLOOKUP($A713,check!$A:$L,9,FALSE))","v":""},{"$f":"IF(ISERROR(VLOOKUP($A713,check!$A:$L,10,FALSE))=TRUE,\"\",VLOOKUP($A713,check!$A:$L,10,FALSE))","v":""},{"$f":"IF(ISERROR(VLOOKUP($A713,check!$A:$L,11,FALSE))=TRUE,\"\",VLOOKUP($A713,check!$A:$L,11,FALSE))","v":""},{"$f":"IF(ISERROR(VLOOKUP($A713,check!$A:$L,12,FALSE))=TRUE,\"\",VLOOKUP($A713,check!$A:$L,12,FALSE))","v":""}]
[714,{"$f":"IF(C714=\"\",\"\",MATCH(A714,check!A:A,0))","v":""},{"$f":"IF(ISERROR(VLOOKUP($A714,check!$A:$L,2,FALSE))=TRUE,\"\",VLOOKUP($A714,check!$A:$L,2,FALSE))","v":""},{"$f":"IF(ISERROR(VLOOKUP($A714,check!$A:$L,3,FALSE))=TRUE,\"\",VLOOKUP($A714,check!$A:$L,3,FALSE))","v":""},{"$f":"IF(ISERROR(VLOOKUP($A714,check!$A:$L,4,FALSE))=TRUE,\"\",VLOOKUP($A714,check!$A:$L,4,FALSE))","v":""},{"$f":"IF(ISERROR(VLOOKUP($A714,check!$A:$L,5,FALSE))=TRUE,\"\",VLOOKUP($A714,check!$A:$L,5,FALSE))","v":""},{"$f":"IF(ISERROR(VLOOKUP($A714,check!$A:$L,6,FALSE))=TRUE,\"\",VLOOKUP($A714,check!$A:$L,6,FALSE))","v":""},{"$f":"IF(ISERROR(VLOOKUP($A714,check!$A:$L,7,FALSE))=TRUE,\"\",VLOOKUP($A714,check!$A:$L,7,FALSE))","v":""},{"$f":"IF(ISERROR(VLOOKUP($A714,check!$A:$L,8,FALSE))=TRUE,\"\",VLOOKUP($A714,check!$A:$L,8,FALSE))","v":""},{"$f":"IF(ISERROR(VLOOKUP($A714,check!$A:$L,9,FALSE))=TRUE,\"\",VLOOKUP($A714,check!$A:$L,9,FALSE))","v":""},{"$f":"IF(ISERROR(VLOOKUP($A714,check!$A:$L,10,FALSE))=TRUE,\"\",VLOOKUP($A714,check!$A:$L,10,FALSE))","v":""},{"$f":"IF(ISERROR(VLOOKUP($A714,check!$A:$L,11,FALSE))=TRUE,\"\",VLOOKUP($A714,check!$A:$L,11,FALSE))","v":""},{"$f":"IF(ISERROR(VLOOKUP($A714,check!$A:$L,12,FALSE))=TRUE,\"\",VLOOKUP($A714,check!$A:$L,12,FALSE))","v":""}]
[715,{"$f":"IF(C715=\"\",\"\",MATCH(A715,check!A:A,0))","v":""},{"$f":"IF(ISERROR(VLOOKUP($A715,check!$A:$L,2,FALSE))=TRUE,\"\",VLOOKUP($A715,check!$A:$L,2,FALSE))","v":""},{"$f":"IF(ISERROR(VLOOKUP($A715,check!$A:$L,3,FALSE))=TRUE,\"\",VLOOKUP($A715,check!$A:$L,3,FALSE))","v":""},{"$f":"IF(ISERROR(VLOOKUP($A715,check!$A:$L,4,FALSE))=TRUE,\"\",VLOOKUP($A715,check!$A:$L,4,FALSE))","v":""},{"$f":"IF(ISERROR(VLOOKUP($A715,check!$A:$L,5,FALSE))=TRUE,\"\",VLOOKUP($A715,check!$A:$L,5,FALSE))","v":""},{"$f":"IF(ISERROR(VLOOKUP($A715,check!$A:$L,6,FALSE))=TRUE,\"\",VLOOKUP($A715,check!$A:$L,6,FALSE))","v":""},{"$f":"IF(ISERROR(VLOOKUP($A715,check!$A:$L,7,FALSE))=TRUE,\"\",VLOOKUP($A715,check!$A:$L,7,FALSE))","v":""},{"$f":"IF(ISERROR(VLOOKUP($A715,check!$A:$L,8,FALSE))=TRUE,\"\",VLOOKUP($A715,check!$A:$L,8,FALSE))","v":""},{"$f":"IF(ISERROR(VLOOKUP($A715,check!$A:$L,9,FALSE))=TRUE,\"\",VLOOKUP($A715,check!$A:$L,9,FALSE))","v":""},{"$f":"IF(ISERROR(VLOOKUP($A715,check!$A:$L,10,FALSE))=TRUE,\"\",VLOOKUP($A715,check!$A:$L,10,FALSE))","v":""},{"$f":"IF(ISERROR(VLOOKUP($A715,check!$A:$L,11,FALSE))=TRUE,\"\",VLOOKUP($A715,check!$A:$L,11,FALSE))","v":""},{"$f":"IF(ISERROR(VLOOKUP($A715,check!$A:$L,12,FALSE))=TRUE,\"\",VLOOKUP($A715,check!$A:$L,12,FALSE))","v":""}]
[716,{"$f":"IF(C716=\"\",\"\",MATCH(A716,check!A:A,0))","v":""},{"$f":"IF(ISERROR(VLOOKUP($A716,check!$A:$L,2,FALSE))=TRUE,\"\",VLOOKUP($A716,check!$A:$L,2,FALSE))","v":""},{"$f":"IF(ISERROR(VLOOKUP($A716,check!$A:$L,3,FALSE))=TRUE,\"\",VLOOKUP($A716,check!$A:$L,3,FALSE))","v":""},{"$f":"IF(ISERROR(VLOOKUP($A716,check!$A:$L,4,FALSE))=TRUE,\"\",VLOOKUP($A716,check!$A:$L,4,FALSE))","v":""},{"$f":"IF(ISERROR(VLOOKUP($A716,check!$A:$L,5,FALSE))=TRUE,\"\",VLOOKUP($A716,check!$A:$L,5,FALSE))","v":""},{"$f":"IF(ISERROR(VLOOKUP($A716,check!$A:$L,6,FALSE))=TRUE,\"\",VLOOKUP($A716,check!$A:$L,6,FALSE))","v":""},{"$f":"IF(ISERROR(VLOOKUP($A716,check!$A:$L,7,FALSE))=TRUE,\"\",VLOOKUP($A716,check!$A:$L,7,FALSE))","v":""},{"$f":"IF(ISERROR(VLOOKUP($A716,check!$A:$L,8,FALSE))=TRUE,\"\",VLOOKUP($A716,check!$A:$L,8,FALSE))","v":""},{"$f":"IF(ISERROR(VLOOKUP($A716,check!$A:$L,9,FALSE))=TRUE,\"\",VLOOKUP($A716,check!$A:$L,9,FALSE))","v":""},{"$f":"IF(ISERROR(VLOOKUP($A716,check!$A:$L,10,FALSE))=TRUE,\"\",VLOOKUP($A716,check!$A:$L,10,FALSE))","v":""},{"$f":"IF(ISERROR(VLOOKUP($A716,check!$A:$L,11,FALSE))=TRUE,\"\",VLOOKUP($A716,check!$A:$L,11,FALSE))","v":""},{"$f":"IF(ISERROR(VLOOKUP($A716,check!$A:$L,12,FALSE))=TRUE,\"\",VLOOKUP($A716,check!$A:$L,12,FALSE))","v":""}]
[717,{"$f":"IF(C717=\"\",\"\",MATCH(A717,check!A:A,0))","v":""},{"$f":"IF(ISERROR(VLOOKUP($A717,check!$A:$L,2,FALSE))=TRUE,\"\",VLOOKUP($A717,check!$A:$L,2,FALSE))","v":""},{"$f":"IF(ISERROR(VLOOKUP($A717,check!$A:$L,3,FALSE))=TRUE,\"\",VLOOKUP($A717,check!$A:$L,3,FALSE))","v":""},{"$f":"IF(ISERROR(VLOOKUP($A717,check!$A:$L,4,FALSE))=TRUE,\"\",VLOOKUP($A717,check!$A:$L,4,FALSE))","v":""},{"$f":"IF(ISERROR(VLOOKUP($A717,check!$A:$L,5,FALSE))=TRUE,\"\",VLOOKUP($A717,check!$A:$L,5,FALSE))","v":""},{"$f":"IF(ISERROR(VLOOKUP($A717,check!$A:$L,6,FALSE))=TRUE,\"\",VLOOKUP($A717,check!$A:$L,6,FALSE))","v":""},{"$f":"IF(ISERROR(VLOOKUP($A717,check!$A:$L,7,FALSE))=TRUE,\"\",VLOOKUP($A717,check!$A:$L,7,FALSE))","v":""},{"$f":"IF(ISERROR(VLOOKUP($A717,check!$A:$L,8,FALSE))=TRUE,\"\",VLOOKUP($A717,check!$A:$L,8,FALSE))","v":""},{"$f":"IF(ISERROR(VLOOKUP($A717,check!$A:$L,9,FALSE))=TRUE,\"\",VLOOKUP($A717,check!$A:$L,9,FALSE))","v":""},{"$f":"IF(ISERROR(VLOOKUP($A717,check!$A:$L,10,FALSE))=TRUE,\"\",VLOOKUP($A717,check!$A:$L,10,FALSE))","v":""},{"$f":"IF(ISERROR(VLOOKUP($A717,check!$A:$L,11,FALSE))=TRUE,\"\",VLOOKUP($A717,check!$A:$L,11,FALSE))","v":""},{"$f":"IF(ISERROR(VLOOKUP($A717,check!$A:$L,12,FALSE))=TRUE,\"\",VLOOKUP($A717,check!$A:$L,12,FALSE))","v":""}]
[718,{"$f":"IF(C718=\"\",\"\",MATCH(A718,check!A:A,0))","v":""},{"$f":"IF(ISERROR(VLOOKUP($A718,check!$A:$L,2,FALSE))=TRUE,\"\",VLOOKUP($A718,check!$A:$L,2,FALSE))","v":""},{"$f":"IF(ISERROR(VLOOKUP($A718,check!$A:$L,3,FALSE))=TRUE,\"\",VLOOKUP($A718,check!$A:$L,3,FALSE))","v":""},{"$f":"IF(ISERROR(VLOOKUP($A718,check!$A:$L,4,FALSE))=TRUE,\"\",VLOOKUP($A718,check!$A:$L,4,FALSE))","v":""},{"$f":"IF(ISERROR(VLOOKUP($A718,check!$A:$L,5,FALSE))=TRUE,\"\",VLOOKUP($A718,check!$A:$L,5,FALSE))","v":""},{"$f":"IF(ISERROR(VLOOKUP($A718,check!$A:$L,6,FALSE))=TRUE,\"\",VLOOKUP($A718,check!$A:$L,6,FALSE))","v":""},{"$f":"IF(ISERROR(VLOOKUP($A718,check!$A:$L,7,FALSE))=TRUE,\"\",VLOOKUP($A718,check!$A:$L,7,FALSE))","v":""},{"$f":"IF(ISERROR(VLOOKUP($A718,check!$A:$L,8,FALSE))=TRUE,\"\",VLOOKUP($A718,check!$A:$L,8,FALSE))","v":""},{"$f":"IF(ISERROR(VLOOKUP($A718,check!$A:$L,9,FALSE))=TRUE,\"\",VLOOKUP($A718,check!$A:$L,9,FALSE))","v":""},{"$f":"IF(ISERROR(VLOOKUP($A718,check!$A:$L,10,FALSE))=TRUE,\"\",VLOOKUP($A718,check!$A:$L,10,FALSE))","v":""},{"$f":"IF(ISERROR(VLOOKUP($A718,check!$A:$L,11,FALSE))=TRUE,\"\",VLOOKUP($A718,check!$A:$L,11,FALSE))","v":""},{"$f":"IF(ISERROR(VLOOKUP($A718,check!$A:$L,12,FALSE))=TRUE,\"\",VLOOKUP($A718,check!$A:$L,12,FALSE))","v":""}]
[719,{"$f":"IF(C719=\"\",\"\",MATCH(A719,check!A:A,0))","v":""},{"$f":"IF(ISERROR(VLOOKUP($A719,check!$A:$L,2,FALSE))=TRUE,\"\",VLOOKUP($A719,check!$A:$L,2,FALSE))","v":""},{"$f":"IF(ISERROR(VLOOKUP($A719,check!$A:$L,3,FALSE))=TRUE,\"\",VLOOKUP($A719,check!$A:$L,3,FALSE))","v":""},{"$f":"IF(ISERROR(VLOOKUP($A719,check!$A:$L,4,FALSE))=TRUE,\"\",VLOOKUP($A719,check!$A:$L,4,FALSE))","v":""},{"$f":"IF(ISERROR(VLOOKUP($A719,check!$A:$L,5,FALSE))=TRUE,\"\",VLOOKUP($A719,check!$A:$L,5,FALSE))","v":""},{"$f":"IF(ISERROR(VLOOKUP($A719,check!$A:$L,6,FALSE))=TRUE,\"\",VLOOKUP($A719,check!$A:$L,6,FALSE))","v":""},{"$f":"IF(ISERROR(VLOOKUP($A719,check!$A:$L,7,FALSE))=TRUE,\"\",VLOOKUP($A719,check!$A:$L,7,FALSE))","v":""},{"$f":"IF(ISERROR(VLOOKUP($A719,check!$A:$L,8,FALSE))=TRUE,\"\",VLOOKUP($A719,check!$A:$L,8,FALSE))","v":""},{"$f":"IF(ISERROR(VLOOKUP($A719,check!$A:$L,9,FALSE))=TRUE,\"\",VLOOKUP($A719,check!$A:$L,9,FALSE))","v":""},{"$f":"IF(ISERROR(VLOOKUP($A719,check!$A:$L,10,FALSE))=TRUE,\"\",VLOOKUP($A719,check!$A:$L,10,FALSE))","v":""},{"$f":"IF(ISERROR(VLOOKUP($A719,check!$A:$L,11,FALSE))=TRUE,\"\",VLOOKUP($A719,check!$A:$L,11,FALSE))","v":""},{"$f":"IF(ISERROR(VLOOKUP($A719,check!$A:$L,12,FALSE))=TRUE,\"\",VLOOKUP($A719,check!$A:$L,12,FALSE))","v":""}]
[720,{"$f":"IF(C720=\"\",\"\",MATCH(A720,check!A:A,0))","v":""},{"$f":"IF(ISERROR(VLOOKUP($A720,check!$A:$L,2,FALSE))=TRUE,\"\",VLOOKUP($A720,check!$A:$L,2,FALSE))","v":""},{"$f":"IF(ISERROR(VLOOKUP($A720,check!$A:$L,3,FALSE))=TRUE,\"\",VLOOKUP($A720,check!$A:$L,3,FALSE))","v":""},{"$f":"IF(ISERROR(VLOOKUP($A720,check!$A:$L,4,FALSE))=TRUE,\"\",VLOOKUP($A720,check!$A:$L,4,FALSE))","v":""},{"$f":"IF(ISERROR(VLOOKUP($A720,check!$A:$L,5,FALSE))=TRUE,\"\",VLOOKUP($A720,check!$A:$L,5,FALSE))","v":""},{"$f":"IF(ISERROR(VLOOKUP($A720,check!$A:$L,6,FALSE))=TRUE,\"\",VLOOKUP($A720,check!$A:$L,6,FALSE))","v":""},{"$f":"IF(ISERROR(VLOOKUP($A720,check!$A:$L,7,FALSE))=TRUE,\"\",VLOOKUP($A720,check!$A:$L,7,FALSE))","v":""},{"$f":"IF(ISERROR(VLOOKUP($A720,check!$A:$L,8,FALSE))=TRUE,\"\",VLOOKUP($A720,check!$A:$L,8,FALSE))","v":""},{"$f":"IF(ISERROR(VLOOKUP($A720,check!$A:$L,9,FALSE))=TRUE,\"\",VLOOKUP($A720,check!$A:$L,9,FALSE))","v":""},{"$f":"IF(ISERROR(VLOOKUP($A720,check!$A:$L,10,FALSE))=TRUE,\"\",VLOOKUP($A720,check!$A:$L,10,FALSE))","v":""},{"$f":"IF(ISERROR(VLOOKUP($A720,check!$A:$L,11,FALSE))=TRUE,\"\",VLOOKUP($A720,check!$A:$L,11,FALSE))","v":""},{"$f":"IF(ISERROR(VLOOKUP($A720,check!$A:$L,12,FALSE))=TRUE,\"\",VLOOKUP($A720,check!$A:$L,12,FALSE))","v":""}]
[721,{"$f":"IF(C721=\"\",\"\",MATCH(A721,check!A:A,0))","v":""},{"$f":"IF(ISERROR(VLOOKUP($A721,check!$A:$L,2,FALSE))=TRUE,\"\",VLOOKUP($A721,check!$A:$L,2,FALSE))","v":""},{"$f":"IF(ISERROR(VLOOKUP($A721,check!$A:$L,3,FALSE))=TRUE,\"\",VLOOKUP($A721,check!$A:$L,3,FALSE))","v":""},{"$f":"IF(ISERROR(VLOOKUP($A721,check!$A:$L,4,FALSE))=TRUE,\"\",VLOOKUP($A721,check!$A:$L,4,FALSE))","v":""},{"$f":"IF(ISERROR(VLOOKUP($A721,check!$A:$L,5,FALSE))=TRUE,\"\",VLOOKUP($A721,check!$A:$L,5,FALSE))","v":""},{"$f":"IF(ISERROR(VLOOKUP($A721,check!$A:$L,6,FALSE))=TRUE,\"\",VLOOKUP($A721,check!$A:$L,6,FALSE))","v":""},{"$f":"IF(ISERROR(VLOOKUP($A721,check!$A:$L,7,FALSE))=TRUE,\"\",VLOOKUP($A721,check!$A:$L,7,FALSE))","v":""},{"$f":"IF(ISERROR(VLOOKUP($A721,check!$A:$L,8,FALSE))=TRUE,\"\",VLOOKUP($A721,check!$A:$L,8,FALSE))","v":""},{"$f":"IF(ISERROR(VLOOKUP($A721,check!$A:$L,9,FALSE))=TRUE,\"\",VLOOKUP($A721,check!$A:$L,9,FALSE))","v":""},{"$f":"IF(ISERROR(VLOOKUP($A721,check!$A:$L,10,FALSE))=TRUE,\"\",VLOOKUP($A721,check!$A:$L,10,FALSE))","v":""},{"$f":"IF(ISERROR(VLOOKUP($A721,check!$A:$L,11,FALSE))=TRUE,\"\",VLOOKUP($A721,check!$A:$L,11,FALSE))","v":""},{"$f":"IF(ISERROR(VLOOKUP($A721,check!$A:$L,12,FALSE))=TRUE,\"\",VLOOKUP($A721,check!$A:$L,12,FALSE))","v":""}]
[722,{"$f":"IF(C722=\"\",\"\",MATCH(A722,check!A:A,0))","v":""},{"$f":"IF(ISERROR(VLOOKUP($A722,check!$A:$L,2,FALSE))=TRUE,\"\",VLOOKUP($A722,check!$A:$L,2,FALSE))","v":""},{"$f":"IF(ISERROR(VLOOKUP($A722,check!$A:$L,3,FALSE))=TRUE,\"\",VLOOKUP($A722,check!$A:$L,3,FALSE))","v":""},{"$f":"IF(ISERROR(VLOOKUP($A722,check!$A:$L,4,FALSE))=TRUE,\"\",VLOOKUP($A722,check!$A:$L,4,FALSE))","v":""},{"$f":"IF(ISERROR(VLOOKUP($A722,check!$A:$L,5,FALSE))=TRUE,\"\",VLOOKUP($A722,check!$A:$L,5,FALSE))","v":""},{"$f":"IF(ISERROR(VLOOKUP($A722,check!$A:$L,6,FALSE))=TRUE,\"\",VLOOKUP($A722,check!$A:$L,6,FALSE))","v":""},{"$f":"IF(ISERROR(VLOOKUP($A722,check!$A:$L,7,FALSE))=TRUE,\"\",VLOOKUP($A722,check!$A:$L,7,FALSE))","v":""},{"$f":"IF(ISERROR(VLOOKUP($A722,check!$A:$L,8,FALSE))=TRUE,\"\",VLOOKUP($A722,check!$A:$L,8,FALSE))","v":""},{"$f":"IF(ISERROR(VLOOKUP($A722,check!$A:$L,9,FALSE))=TRUE,\"\",VLOOKUP($A722,check!$A:$L,9,FALSE))","v":""},{"$f":"IF(ISERROR(VLOOKUP($A722,check!$A:$L,10,FALSE))=TRUE,\"\",VLOOKUP($A722,check!$A:$L,10,FALSE))","v":""},{"$f":"IF(ISERROR(VLOOKUP($A722,check!$A:$L,11,FALSE))=TRUE,\"\",VLOOKUP($A722,check!$A:$L,11,FALSE))","v":""},{"$f":"IF(ISERROR(VLOOKUP($A722,check!$A:$L,12,FALSE))=TRUE,\"\",VLOOKUP($A722,check!$A:$L,12,FALSE))","v":""}]
[723,{"$f":"IF(C723=\"\",\"\",MATCH(A723,check!A:A,0))","v":""},{"$f":"IF(ISERROR(VLOOKUP($A723,check!$A:$L,2,FALSE))=TRUE,\"\",VLOOKUP($A723,check!$A:$L,2,FALSE))","v":""},{"$f":"IF(ISERROR(VLOOKUP($A723,check!$A:$L,3,FALSE))=TRUE,\"\",VLOOKUP($A723,check!$A:$L,3,FALSE))","v":""},{"$f":"IF(ISERROR(VLOOKUP($A723,check!$A:$L,4,FALSE))=TRUE,\"\",VLOOKUP($A723,check!$A:$L,4,FALSE))","v":""},{"$f":"IF(ISERROR(VLOOKUP($A723,check!$A:$L,5,FALSE))=TRUE,\"\",VLOOKUP($A723,check!$A:$L,5,FALSE))","v":""},{"$f":"IF(ISERROR(VLOOKUP($A723,check!$A:$L,6,FALSE))=TRUE,\"\",VLOOKUP($A723,check!$A:$L,6,FALSE))","v":""},{"$f":"IF(ISERROR(VLOOKUP($A723,check!$A:$L,7,FALSE))=TRUE,\"\",VLOOKUP($A723,check!$A:$L,7,FALSE))","v":""},{"$f":"IF(ISERROR(VLOOKUP($A723,check!$A:$L,8,FALSE))=TRUE,\"\",VLOOKUP($A723,check!$A:$L,8,FALSE))","v":""},{"$f":"IF(ISERROR(VLOOKUP($A723,check!$A:$L,9,FALSE))=TRUE,\"\",VLOOKUP($A723,check!$A:$L,9,FALSE))","v":""},{"$f":"IF(ISERROR(VLOOKUP($A723,check!$A:$L,10,FALSE))=TRUE,\"\",VLOOKUP($A723,check!$A:$L,10,FALSE))","v":""},{"$f":"IF(ISERROR(VLOOKUP($A723,check!$A:$L,11,FALSE))=TRUE,\"\",VLOOKUP($A723,check!$A:$L,11,FALSE))","v":""},{"$f":"IF(ISERROR(VLOOKUP($A723,check!$A:$L,12,FALSE))=TRUE,\"\",VLOOKUP($A723,check!$A:$L,12,FALSE))","v":""}]
[724,{"$f":"IF(C724=\"\",\"\",MATCH(A724,check!A:A,0))","v":""},{"$f":"IF(ISERROR(VLOOKUP($A724,check!$A:$L,2,FALSE))=TRUE,\"\",VLOOKUP($A724,check!$A:$L,2,FALSE))","v":""},{"$f":"IF(ISERROR(VLOOKUP($A724,check!$A:$L,3,FALSE))=TRUE,\"\",VLOOKUP($A724,check!$A:$L,3,FALSE))","v":""},{"$f":"IF(ISERROR(VLOOKUP($A724,check!$A:$L,4,FALSE))=TRUE,\"\",VLOOKUP($A724,check!$A:$L,4,FALSE))","v":""},{"$f":"IF(ISERROR(VLOOKUP($A724,check!$A:$L,5,FALSE))=TRUE,\"\",VLOOKUP($A724,check!$A:$L,5,FALSE))","v":""},{"$f":"IF(ISERROR(VLOOKUP($A724,check!$A:$L,6,FALSE))=TRUE,\"\",VLOOKUP($A724,check!$A:$L,6,FALSE))","v":""},{"$f":"IF(ISERROR(VLOOKUP($A724,check!$A:$L,7,FALSE))=TRUE,\"\",VLOOKUP($A724,check!$A:$L,7,FALSE))","v":""},{"$f":"IF(ISERROR(VLOOKUP($A724,check!$A:$L,8,FALSE))=TRUE,\"\",VLOOKUP($A724,check!$A:$L,8,FALSE))","v":""},{"$f":"IF(ISERROR(VLOOKUP($A724,check!$A:$L,9,FALSE))=TRUE,\"\",VLOOKUP($A724,check!$A:$L,9,FALSE))","v":""},{"$f":"IF(ISERROR(VLOOKUP($A724,check!$A:$L,10,FALSE))=TRUE,\"\",VLOOKUP($A724,check!$A:$L,10,FALSE))","v":""},{"$f":"IF(ISERROR(VLOOKUP($A724,check!$A:$L,11,FALSE))=TRUE,\"\",VLOOKUP($A724,check!$A:$L,11,FALSE))","v":""},{"$f":"IF(ISERROR(VLOOKUP($A724,check!$A:$L,12,FALSE))=TRUE,\"\",VLOOKUP($A724,check!$A:$L,12,FALSE))","v":""}]
[725,{"$f":"IF(C725=\"\",\"\",MATCH(A725,check!A:A,0))","v":""},{"$f":"IF(ISERROR(VLOOKUP($A725,check!$A:$L,2,FALSE))=TRUE,\"\",VLOOKUP($A725,check!$A:$L,2,FALSE))","v":""},{"$f":"IF(ISERROR(VLOOKUP($A725,check!$A:$L,3,FALSE))=TRUE,\"\",VLOOKUP($A725,check!$A:$L,3,FALSE))","v":""},{"$f":"IF(ISERROR(VLOOKUP($A725,check!$A:$L,4,FALSE))=TRUE,\"\",VLOOKUP($A725,check!$A:$L,4,FALSE))","v":""},{"$f":"IF(ISERROR(VLOOKUP($A725,check!$A:$L,5,FALSE))=TRUE,\"\",VLOOKUP($A725,check!$A:$L,5,FALSE))","v":""},{"$f":"IF(ISERROR(VLOOKUP($A725,check!$A:$L,6,FALSE))=TRUE,\"\",VLOOKUP($A725,check!$A:$L,6,FALSE))","v":""},{"$f":"IF(ISERROR(VLOOKUP($A725,check!$A:$L,7,FALSE))=TRUE,\"\",VLOOKUP($A725,check!$A:$L,7,FALSE))","v":""},{"$f":"IF(ISERROR(VLOOKUP($A725,check!$A:$L,8,FALSE))=TRUE,\"\",VLOOKUP($A725,check!$A:$L,8,FALSE))","v":""},{"$f":"IF(ISERROR(VLOOKUP($A725,check!$A:$L,9,FALSE))=TRUE,\"\",VLOOKUP($A725,check!$A:$L,9,FALSE))","v":""},{"$f":"IF(ISERROR(VLOOKUP($A725,check!$A:$L,10,FALSE))=TRUE,\"\",VLOOKUP($A725,check!$A:$L,10,FALSE))","v":""},{"$f":"IF(ISERROR(VLOOKUP($A725,check!$A:$L,11,FALSE))=TRUE,\"\",VLOOKUP($A725,check!$A:$L,11,FALSE))","v":""},{"$f":"IF(ISERROR(VLOOKUP($A725,check!$A:$L,12,FALSE))=TRUE,\"\",VLOOKUP($A725,check!$A:$L,12,FALSE))","v":""}]
[726,{"$f":"IF(C726=\"\",\"\",MATCH(A726,check!A:A,0))","v":""},{"$f":"IF(ISERROR(VLOOKUP($A726,check!$A:$L,2,FALSE))=TRUE,\"\",VLOOKUP($A726,check!$A:$L,2,FALSE))","v":""},{"$f":"IF(ISERROR(VLOOKUP($A726,check!$A:$L,3,FALSE))=TRUE,\"\",VLOOKUP($A726,check!$A:$L,3,FALSE))","v":""},{"$f":"IF(ISERROR(VLOOKUP($A726,check!$A:$L,4,FALSE))=TRUE,\"\",VLOOKUP($A726,check!$A:$L,4,FALSE))","v":""},{"$f":"IF(ISERROR(VLOOKUP($A726,check!$A:$L,5,FALSE))=TRUE,\"\",VLOOKUP($A726,check!$A:$L,5,FALSE))","v":""},{"$f":"IF(ISERROR(VLOOKUP($A726,check!$A:$L,6,FALSE))=TRUE,\"\",VLOOKUP($A726,check!$A:$L,6,FALSE))","v":""},{"$f":"IF(ISERROR(VLOOKUP($A726,check!$A:$L,7,FALSE))=TRUE,\"\",VLOOKUP($A726,check!$A:$L,7,FALSE))","v":""},{"$f":"IF(ISERROR(VLOOKUP($A726,check!$A:$L,8,FALSE))=TRUE,\"\",VLOOKUP($A726,check!$A:$L,8,FALSE))","v":""},{"$f":"IF(ISERROR(VLOOKUP($A726,check!$A:$L,9,FALSE))=TRUE,\"\",VLOOKUP($A726,check!$A:$L,9,FALSE))","v":""},{"$f":"IF(ISERROR(VLOOKUP($A726,check!$A:$L,10,FALSE))=TRUE,\"\",VLOOKUP($A726,check!$A:$L,10,FALSE))","v":""},{"$f":"IF(ISERROR(VLOOKUP($A726,check!$A:$L,11,FALSE))=TRUE,\"\",VLOOKUP($A726,check!$A:$L,11,FALSE))","v":""},{"$f":"IF(ISERROR(VLOOKUP($A726,check!$A:$L,12,FALSE))=TRUE,\"\",VLOOKUP($A726,check!$A:$L,12,FALSE))","v":""}]
[727,{"$f":"IF(C727=\"\",\"\",MATCH(A727,check!A:A,0))","v":""},{"$f":"IF(ISERROR(VLOOKUP($A727,check!$A:$L,2,FALSE))=TRUE,\"\",VLOOKUP($A727,check!$A:$L,2,FALSE))","v":""},{"$f":"IF(ISERROR(VLOOKUP($A727,check!$A:$L,3,FALSE))=TRUE,\"\",VLOOKUP($A727,check!$A:$L,3,FALSE))","v":""},{"$f":"IF(ISERROR(VLOOKUP($A727,check!$A:$L,4,FALSE))=TRUE,\"\",VLOOKUP($A727,check!$A:$L,4,FALSE))","v":""},{"$f":"IF(ISERROR(VLOOKUP($A727,check!$A:$L,5,FALSE))=TRUE,\"\",VLOOKUP($A727,check!$A:$L,5,FALSE))","v":""},{"$f":"IF(ISERROR(VLOOKUP($A727,check!$A:$L,6,FALSE))=TRUE,\"\",VLOOKUP($A727,check!$A:$L,6,FALSE))","v":""},{"$f":"IF(ISERROR(VLOOKUP($A727,check!$A:$L,7,FALSE))=TRUE,\"\",VLOOKUP($A727,check!$A:$L,7,FALSE))","v":""},{"$f":"IF(ISERROR(VLOOKUP($A727,check!$A:$L,8,FALSE))=TRUE,\"\",VLOOKUP($A727,check!$A:$L,8,FALSE))","v":""},{"$f":"IF(ISERROR(VLOOKUP($A727,check!$A:$L,9,FALSE))=TRUE,\"\",VLOOKUP($A727,check!$A:$L,9,FALSE))","v":""},{"$f":"IF(ISERROR(VLOOKUP($A727,check!$A:$L,10,FALSE))=TRUE,\"\",VLOOKUP($A727,check!$A:$L,10,FALSE))","v":""},{"$f":"IF(ISERROR(VLOOKUP($A727,check!$A:$L,11,FALSE))=TRUE,\"\",VLOOKUP($A727,check!$A:$L,11,FALSE))","v":""},{"$f":"IF(ISERROR(VLOOKUP($A727,check!$A:$L,12,FALSE))=TRUE,\"\",VLOOKUP($A727,check!$A:$L,12,FALSE))","v":""}]
[728,{"$f":"IF(C728=\"\",\"\",MATCH(A728,check!A:A,0))","v":""},{"$f":"IF(ISERROR(VLOOKUP($A728,check!$A:$L,2,FALSE))=TRUE,\"\",VLOOKUP($A728,check!$A:$L,2,FALSE))","v":""},{"$f":"IF(ISERROR(VLOOKUP($A728,check!$A:$L,3,FALSE))=TRUE,\"\",VLOOKUP($A728,check!$A:$L,3,FALSE))","v":""},{"$f":"IF(ISERROR(VLOOKUP($A728,check!$A:$L,4,FALSE))=TRUE,\"\",VLOOKUP($A728,check!$A:$L,4,FALSE))","v":""},{"$f":"IF(ISERROR(VLOOKUP($A728,check!$A:$L,5,FALSE))=TRUE,\"\",VLOOKUP($A728,check!$A:$L,5,FALSE))","v":""},{"$f":"IF(ISERROR(VLOOKUP($A728,check!$A:$L,6,FALSE))=TRUE,\"\",VLOOKUP($A728,check!$A:$L,6,FALSE))","v":""},{"$f":"IF(ISERROR(VLOOKUP($A728,check!$A:$L,7,FALSE))=TRUE,\"\",VLOOKUP($A728,check!$A:$L,7,FALSE))","v":""},{"$f":"IF(ISERROR(VLOOKUP($A728,check!$A:$L,8,FALSE))=TRUE,\"\",VLOOKUP($A728,check!$A:$L,8,FALSE))","v":""},{"$f":"IF(ISERROR(VLOOKUP($A728,check!$A:$L,9,FALSE))=TRUE,\"\",VLOOKUP($A728,check!$A:$L,9,FALSE))","v":""},{"$f":"IF(ISERROR(VLOOKUP($A728,check!$A:$L,10,FALSE))=TRUE,\"\",VLOOKUP($A728,check!$A:$L,10,FALSE))","v":""},{"$f":"IF(ISERROR(VLOOKUP($A728,check!$A:$L,11,FALSE))=TRUE,\"\",VLOOKUP($A728,check!$A:$L,11,FALSE))","v":""},{"$f":"IF(ISERROR(VLOOKUP($A728,check!$A:$L,12,FALSE))=TRUE,\"\",VLOOKUP($A728,check!$A:$L,12,FALSE))","v":""}]
[729,{"$f":"IF(C729=\"\",\"\",MATCH(A729,check!A:A,0))","v":""},{"$f":"IF(ISERROR(VLOOKUP($A729,check!$A:$L,2,FALSE))=TRUE,\"\",VLOOKUP($A729,check!$A:$L,2,FALSE))","v":""},{"$f":"IF(ISERROR(VLOOKUP($A729,check!$A:$L,3,FALSE))=TRUE,\"\",VLOOKUP($A729,check!$A:$L,3,FALSE))","v":""},{"$f":"IF(ISERROR(VLOOKUP($A729,check!$A:$L,4,FALSE))=TRUE,\"\",VLOOKUP($A729,check!$A:$L,4,FALSE))","v":""},{"$f":"IF(ISERROR(VLOOKUP($A729,check!$A:$L,5,FALSE))=TRUE,\"\",VLOOKUP($A729,check!$A:$L,5,FALSE))","v":""},{"$f":"IF(ISERROR(VLOOKUP($A729,check!$A:$L,6,FALSE))=TRUE,\"\",VLOOKUP($A729,check!$A:$L,6,FALSE))","v":""},{"$f":"IF(ISERROR(VLOOKUP($A729,check!$A:$L,7,FALSE))=TRUE,\"\",VLOOKUP($A729,check!$A:$L,7,FALSE))","v":""},{"$f":"IF(ISERROR(VLOOKUP($A729,check!$A:$L,8,FALSE))=TRUE,\"\",VLOOKUP($A729,check!$A:$L,8,FALSE))","v":""},{"$f":"IF(ISERROR(VLOOKUP($A729,check!$A:$L,9,FALSE))=TRUE,\"\",VLOOKUP($A729,check!$A:$L,9,FALSE))","v":""},{"$f":"IF(ISERROR(VLOOKUP($A729,check!$A:$L,10,FALSE))=TRUE,\"\",VLOOKUP($A729,check!$A:$L,10,FALSE))","v":""},{"$f":"IF(ISERROR(VLOOKUP($A729,check!$A:$L,11,FALSE))=TRUE,\"\",VLOOKUP($A729,check!$A:$L,11,FALSE))","v":""},{"$f":"IF(ISERROR(VLOOKUP($A729,check!$A:$L,12,FALSE))=TRUE,\"\",VLOOKUP($A729,check!$A:$L,12,FALSE))","v":""}]
[730,{"$f":"IF(C730=\"\",\"\",MATCH(A730,check!A:A,0))","v":""},{"$f":"IF(ISERROR(VLOOKUP($A730,check!$A:$L,2,FALSE))=TRUE,\"\",VLOOKUP($A730,check!$A:$L,2,FALSE))","v":""},{"$f":"IF(ISERROR(VLOOKUP($A730,check!$A:$L,3,FALSE))=TRUE,\"\",VLOOKUP($A730,check!$A:$L,3,FALSE))","v":""},{"$f":"IF(ISERROR(VLOOKUP($A730,check!$A:$L,4,FALSE))=TRUE,\"\",VLOOKUP($A730,check!$A:$L,4,FALSE))","v":""},{"$f":"IF(ISERROR(VLOOKUP($A730,check!$A:$L,5,FALSE))=TRUE,\"\",VLOOKUP($A730,check!$A:$L,5,FALSE))","v":""},{"$f":"IF(ISERROR(VLOOKUP($A730,check!$A:$L,6,FALSE))=TRUE,\"\",VLOOKUP($A730,check!$A:$L,6,FALSE))","v":""},{"$f":"IF(ISERROR(VLOOKUP($A730,check!$A:$L,7,FALSE))=TRUE,\"\",VLOOKUP($A730,check!$A:$L,7,FALSE))","v":""},{"$f":"IF(ISERROR(VLOOKUP($A730,check!$A:$L,8,FALSE))=TRUE,\"\",VLOOKUP($A730,check!$A:$L,8,FALSE))","v":""},{"$f":"IF(ISERROR(VLOOKUP($A730,check!$A:$L,9,FALSE))=TRUE,\"\",VLOOKUP($A730,check!$A:$L,9,FALSE))","v":""},{"$f":"IF(ISERROR(VLOOKUP($A730,check!$A:$L,10,FALSE))=TRUE,\"\",VLOOKUP($A730,check!$A:$L,10,FALSE))","v":""},{"$f":"IF(ISERROR(VLOOKUP($A730,check!$A:$L,11,FALSE))=TRUE,\"\",VLOOKUP($A730,check!$A:$L,11,FALSE))","v":""},{"$f":"IF(ISERROR(VLOOKUP($A730,check!$A:$L,12,FALSE))=TRUE,\"\",VLOOKUP($A730,check!$A:$L,12,FALSE))","v":""}]
[731,{"$f":"IF(C731=\"\",\"\",MATCH(A731,check!A:A,0))","v":""},{"$f":"IF(ISERROR(VLOOKUP($A731,check!$A:$L,2,FALSE))=TRUE,\"\",VLOOKUP($A731,check!$A:$L,2,FALSE))","v":""},{"$f":"IF(ISERROR(VLOOKUP($A731,check!$A:$L,3,FALSE))=TRUE,\"\",VLOOKUP($A731,check!$A:$L,3,FALSE))","v":""},{"$f":"IF(ISERROR(VLOOKUP($A731,check!$A:$L,4,FALSE))=TRUE,\"\",VLOOKUP($A731,check!$A:$L,4,FALSE))","v":""},{"$f":"IF(ISERROR(VLOOKUP($A731,check!$A:$L,5,FALSE))=TRUE,\"\",VLOOKUP($A731,check!$A:$L,5,FALSE))","v":""},{"$f":"IF(ISERROR(VLOOKUP($A731,check!$A:$L,6,FALSE))=TRUE,\"\",VLOOKUP($A731,check!$A:$L,6,FALSE))","v":""},{"$f":"IF(ISERROR(VLOOKUP($A731,check!$A:$L,7,FALSE))=TRUE,\"\",VLOOKUP($A731,check!$A:$L,7,FALSE))","v":""},{"$f":"IF(ISERROR(VLOOKUP($A731,check!$A:$L,8,FALSE))=TRUE,\"\",VLOOKUP($A731,check!$A:$L,8,FALSE))","v":""},{"$f":"IF(ISERROR(VLOOKUP($A731,check!$A:$L,9,FALSE))=TRUE,\"\",VLOOKUP($A731,check!$A:$L,9,FALSE))","v":""},{"$f":"IF(ISERROR(VLOOKUP($A731,check!$A:$L,10,FALSE))=TRUE,\"\",VLOOKUP($A731,check!$A:$L,10,FALSE))","v":""},{"$f":"IF(ISERROR(VLOOKUP($A731,check!$A:$L,11,FALSE))=TRUE,\"\",VLOOKUP($A731,check!$A:$L,11,FALSE))","v":""},{"$f":"IF(ISERROR(VLOOKUP($A731,check!$A:$L,12,FALSE))=TRUE,\"\",VLOOKUP($A731,check!$A:$L,12,FALSE))","v":""}]
[732,{"$f":"IF(C732=\"\",\"\",MATCH(A732,check!A:A,0))","v":""},{"$f":"IF(ISERROR(VLOOKUP($A732,check!$A:$L,2,FALSE))=TRUE,\"\",VLOOKUP($A732,check!$A:$L,2,FALSE))","v":""},{"$f":"IF(ISERROR(VLOOKUP($A732,check!$A:$L,3,FALSE))=TRUE,\"\",VLOOKUP($A732,check!$A:$L,3,FALSE))","v":""},{"$f":"IF(ISERROR(VLOOKUP($A732,check!$A:$L,4,FALSE))=TRUE,\"\",VLOOKUP($A732,check!$A:$L,4,FALSE))","v":""},{"$f":"IF(ISERROR(VLOOKUP($A732,check!$A:$L,5,FALSE))=TRUE,\"\",VLOOKUP($A732,check!$A:$L,5,FALSE))","v":""},{"$f":"IF(ISERROR(VLOOKUP($A732,check!$A:$L,6,FALSE))=TRUE,\"\",VLOOKUP($A732,check!$A:$L,6,FALSE))","v":""},{"$f":"IF(ISERROR(VLOOKUP($A732,check!$A:$L,7,FALSE))=TRUE,\"\",VLOOKUP($A732,check!$A:$L,7,FALSE))","v":""},{"$f":"IF(ISERROR(VLOOKUP($A732,check!$A:$L,8,FALSE))=TRUE,\"\",VLOOKUP($A732,check!$A:$L,8,FALSE))","v":""},{"$f":"IF(ISERROR(VLOOKUP($A732,check!$A:$L,9,FALSE))=TRUE,\"\",VLOOKUP($A732,check!$A:$L,9,FALSE))","v":""},{"$f":"IF(ISERROR(VLOOKUP($A732,check!$A:$L,10,FALSE))=TRUE,\"\",VLOOKUP($A732,check!$A:$L,10,FALSE))","v":""},{"$f":"IF(ISERROR(VLOOKUP($A732,check!$A:$L,11,FALSE))=TRUE,\"\",VLOOKUP($A732,check!$A:$L,11,FALSE))","v":""},{"$f":"IF(ISERROR(VLOOKUP($A732,check!$A:$L,12,FALSE))=TRUE,\"\",VLOOKUP($A732,check!$A:$L,12,FALSE))","v":""}]
[733,{"$f":"IF(C733=\"\",\"\",MATCH(A733,check!A:A,0))","v":""},{"$f":"IF(ISERROR(VLOOKUP($A733,check!$A:$L,2,FALSE))=TRUE,\"\",VLOOKUP($A733,check!$A:$L,2,FALSE))","v":""},{"$f":"IF(ISERROR(VLOOKUP($A733,check!$A:$L,3,FALSE))=TRUE,\"\",VLOOKUP($A733,check!$A:$L,3,FALSE))","v":""},{"$f":"IF(ISERROR(VLOOKUP($A733,check!$A:$L,4,FALSE))=TRUE,\"\",VLOOKUP($A733,check!$A:$L,4,FALSE))","v":""},{"$f":"IF(ISERROR(VLOOKUP($A733,check!$A:$L,5,FALSE))=TRUE,\"\",VLOOKUP($A733,check!$A:$L,5,FALSE))","v":""},{"$f":"IF(ISERROR(VLOOKUP($A733,check!$A:$L,6,FALSE))=TRUE,\"\",VLOOKUP($A733,check!$A:$L,6,FALSE))","v":""},{"$f":"IF(ISERROR(VLOOKUP($A733,check!$A:$L,7,FALSE))=TRUE,\"\",VLOOKUP($A733,check!$A:$L,7,FALSE))","v":""},{"$f":"IF(ISERROR(VLOOKUP($A733,check!$A:$L,8,FALSE))=TRUE,\"\",VLOOKUP($A733,check!$A:$L,8,FALSE))","v":""},{"$f":"IF(ISERROR(VLOOKUP($A733,check!$A:$L,9,FALSE))=TRUE,\"\",VLOOKUP($A733,check!$A:$L,9,FALSE))","v":""},{"$f":"IF(ISERROR(VLOOKUP($A733,check!$A:$L,10,FALSE))=TRUE,\"\",VLOOKUP($A733,check!$A:$L,10,FALSE))","v":""},{"$f":"IF(ISERROR(VLOOKUP($A733,check!$A:$L,11,FALSE))=TRUE,\"\",VLOOKUP($A733,check!$A:$L,11,FALSE))","v":""},{"$f":"IF(ISERROR(VLOOKUP($A733,check!$A:$L,12,FALSE))=TRUE,\"\",VLOOKUP($A733,check!$A:$L,12,FALSE))","v":""}]
[734,{"$f":"IF(C734=\"\",\"\",MATCH(A734,check!A:A,0))","v":""},{"$f":"IF(ISERROR(VLOOKUP($A734,check!$A:$L,2,FALSE))=TRUE,\"\",VLOOKUP($A734,check!$A:$L,2,FALSE))","v":""},{"$f":"IF(ISERROR(VLOOKUP($A734,check!$A:$L,3,FALSE))=TRUE,\"\",VLOOKUP($A734,check!$A:$L,3,FALSE))","v":""},{"$f":"IF(ISERROR(VLOOKUP($A734,check!$A:$L,4,FALSE))=TRUE,\"\",VLOOKUP($A734,check!$A:$L,4,FALSE))","v":""},{"$f":"IF(ISERROR(VLOOKUP($A734,check!$A:$L,5,FALSE))=TRUE,\"\",VLOOKUP($A734,check!$A:$L,5,FALSE))","v":""},{"$f":"IF(ISERROR(VLOOKUP($A734,check!$A:$L,6,FALSE))=TRUE,\"\",VLOOKUP($A734,check!$A:$L,6,FALSE))","v":""},{"$f":"IF(ISERROR(VLOOKUP($A734,check!$A:$L,7,FALSE))=TRUE,\"\",VLOOKUP($A734,check!$A:$L,7,FALSE))","v":""},{"$f":"IF(ISERROR(VLOOKUP($A734,check!$A:$L,8,FALSE))=TRUE,\"\",VLOOKUP($A734,check!$A:$L,8,FALSE))","v":""},{"$f":"IF(ISERROR(VLOOKUP($A734,check!$A:$L,9,FALSE))=TRUE,\"\",VLOOKUP($A734,check!$A:$L,9,FALSE))","v":""},{"$f":"IF(ISERROR(VLOOKUP($A734,check!$A:$L,10,FALSE))=TRUE,\"\",VLOOKUP($A734,check!$A:$L,10,FALSE))","v":""},{"$f":"IF(ISERROR(VLOOKUP($A734,check!$A:$L,11,FALSE))=TRUE,\"\",VLOOKUP($A734,check!$A:$L,11,FALSE))","v":""},{"$f":"IF(ISERROR(VLOOKUP($A734,check!$A:$L,12,FALSE))=TRUE,\"\",VLOOKUP($A734,check!$A:$L,12,FALSE))","v":""}]
[735,{"$f":"IF(C735=\"\",\"\",MATCH(A735,check!A:A,0))","v":""},{"$f":"IF(ISERROR(VLOOKUP($A735,check!$A:$L,2,FALSE))=TRUE,\"\",VLOOKUP($A735,check!$A:$L,2,FALSE))","v":""},{"$f":"IF(ISERROR(VLOOKUP($A735,check!$A:$L,3,FALSE))=TRUE,\"\",VLOOKUP($A735,check!$A:$L,3,FALSE))","v":""},{"$f":"IF(ISERROR(VLOOKUP($A735,check!$A:$L,4,FALSE))=TRUE,\"\",VLOOKUP($A735,check!$A:$L,4,FALSE))","v":""},{"$f":"IF(ISERROR(VLOOKUP($A735,check!$A:$L,5,FALSE))=TRUE,\"\",VLOOKUP($A735,check!$A:$L,5,FALSE))","v":""},{"$f":"IF(ISERROR(VLOOKUP($A735,check!$A:$L,6,FALSE))=TRUE,\"\",VLOOKUP($A735,check!$A:$L,6,FALSE))","v":""},{"$f":"IF(ISERROR(VLOOKUP($A735,check!$A:$L,7,FALSE))=TRUE,\"\",VLOOKUP($A735,check!$A:$L,7,FALSE))","v":""},{"$f":"IF(ISERROR(VLOOKUP($A735,check!$A:$L,8,FALSE))=TRUE,\"\",VLOOKUP($A735,check!$A:$L,8,FALSE))","v":""},{"$f":"IF(ISERROR(VLOOKUP($A735,check!$A:$L,9,FALSE))=TRUE,\"\",VLOOKUP($A735,check!$A:$L,9,FALSE))","v":""},{"$f":"IF(ISERROR(VLOOKUP($A735,check!$A:$L,10,FALSE))=TRUE,\"\",VLOOKUP($A735,check!$A:$L,10,FALSE))","v":""},{"$f":"IF(ISERROR(VLOOKUP($A735,check!$A:$L,11,FALSE))=TRUE,\"\",VLOOKUP($A735,check!$A:$L,11,FALSE))","v":""},{"$f":"IF(ISERROR(VLOOKUP($A735,check!$A:$L,12,FALSE))=TRUE,\"\",VLOOKUP($A735,check!$A:$L,12,FALSE))","v":""}]
[736,{"$f":"IF(C736=\"\",\"\",MATCH(A736,check!A:A,0))","v":""},{"$f":"IF(ISERROR(VLOOKUP($A736,check!$A:$L,2,FALSE))=TRUE,\"\",VLOOKUP($A736,check!$A:$L,2,FALSE))","v":""},{"$f":"IF(ISERROR(VLOOKUP($A736,check!$A:$L,3,FALSE))=TRUE,\"\",VLOOKUP($A736,check!$A:$L,3,FALSE))","v":""},{"$f":"IF(ISERROR(VLOOKUP($A736,check!$A:$L,4,FALSE))=TRUE,\"\",VLOOKUP($A736,check!$A:$L,4,FALSE))","v":""},{"$f":"IF(ISERROR(VLOOKUP($A736,check!$A:$L,5,FALSE))=TRUE,\"\",VLOOKUP($A736,check!$A:$L,5,FALSE))","v":""},{"$f":"IF(ISERROR(VLOOKUP($A736,check!$A:$L,6,FALSE))=TRUE,\"\",VLOOKUP($A736,check!$A:$L,6,FALSE))","v":""},{"$f":"IF(ISERROR(VLOOKUP($A736,check!$A:$L,7,FALSE))=TRUE,\"\",VLOOKUP($A736,check!$A:$L,7,FALSE))","v":""},{"$f":"IF(ISERROR(VLOOKUP($A736,check!$A:$L,8,FALSE))=TRUE,\"\",VLOOKUP($A736,check!$A:$L,8,FALSE))","v":""},{"$f":"IF(ISERROR(VLOOKUP($A736,check!$A:$L,9,FALSE))=TRUE,\"\",VLOOKUP($A736,check!$A:$L,9,FALSE))","v":""},{"$f":"IF(ISERROR(VLOOKUP($A736,check!$A:$L,10,FALSE))=TRUE,\"\",VLOOKUP($A736,check!$A:$L,10,FALSE))","v":""},{"$f":"IF(ISERROR(VLOOKUP($A736,check!$A:$L,11,FALSE))=TRUE,\"\",VLOOKUP($A736,check!$A:$L,11,FALSE))","v":""},{"$f":"IF(ISERROR(VLOOKUP($A736,check!$A:$L,12,FALSE))=TRUE,\"\",VLOOKUP($A736,check!$A:$L,12,FALSE))","v":""}]
[737,{"$f":"IF(C737=\"\",\"\",MATCH(A737,check!A:A,0))","v":""},{"$f":"IF(ISERROR(VLOOKUP($A737,check!$A:$L,2,FALSE))=TRUE,\"\",VLOOKUP($A737,check!$A:$L,2,FALSE))","v":""},{"$f":"IF(ISERROR(VLOOKUP($A737,check!$A:$L,3,FALSE))=TRUE,\"\",VLOOKUP($A737,check!$A:$L,3,FALSE))","v":""},{"$f":"IF(ISERROR(VLOOKUP($A737,check!$A:$L,4,FALSE))=TRUE,\"\",VLOOKUP($A737,check!$A:$L,4,FALSE))","v":""},{"$f":"IF(ISERROR(VLOOKUP($A737,check!$A:$L,5,FALSE))=TRUE,\"\",VLOOKUP($A737,check!$A:$L,5,FALSE))","v":""},{"$f":"IF(ISERROR(VLOOKUP($A737,check!$A:$L,6,FALSE))=TRUE,\"\",VLOOKUP($A737,check!$A:$L,6,FALSE))","v":""},{"$f":"IF(ISERROR(VLOOKUP($A737,check!$A:$L,7,FALSE))=TRUE,\"\",VLOOKUP($A737,check!$A:$L,7,FALSE))","v":""},{"$f":"IF(ISERROR(VLOOKUP($A737,check!$A:$L,8,FALSE))=TRUE,\"\",VLOOKUP($A737,check!$A:$L,8,FALSE))","v":""},{"$f":"IF(ISERROR(VLOOKUP($A737,check!$A:$L,9,FALSE))=TRUE,\"\",VLOOKUP($A737,check!$A:$L,9,FALSE))","v":""},{"$f":"IF(ISERROR(VLOOKUP($A737,check!$A:$L,10,FALSE))=TRUE,\"\",VLOOKUP($A737,check!$A:$L,10,FALSE))","v":""},{"$f":"IF(ISERROR(VLOOKUP($A737,check!$A:$L,11,FALSE))=TRUE,\"\",VLOOKUP($A737,check!$A:$L,11,FALSE))","v":""},{"$f":"IF(ISERROR(VLOOKUP($A737,check!$A:$L,12,FALSE))=TRUE,\"\",VLOOKUP($A737,check!$A:$L,12,FALSE))","v":""}]
[738,{"$f":"IF(C738=\"\",\"\",MATCH(A738,check!A:A,0))","v":""},{"$f":"IF(ISERROR(VLOOKUP($A738,check!$A:$L,2,FALSE))=TRUE,\"\",VLOOKUP($A738,check!$A:$L,2,FALSE))","v":""},{"$f":"IF(ISERROR(VLOOKUP($A738,check!$A:$L,3,FALSE))=TRUE,\"\",VLOOKUP($A738,check!$A:$L,3,FALSE))","v":""},{"$f":"IF(ISERROR(VLOOKUP($A738,check!$A:$L,4,FALSE))=TRUE,\"\",VLOOKUP($A738,check!$A:$L,4,FALSE))","v":""},{"$f":"IF(ISERROR(VLOOKUP($A738,check!$A:$L,5,FALSE))=TRUE,\"\",VLOOKUP($A738,check!$A:$L,5,FALSE))","v":""},{"$f":"IF(ISERROR(VLOOKUP($A738,check!$A:$L,6,FALSE))=TRUE,\"\",VLOOKUP($A738,check!$A:$L,6,FALSE))","v":""},{"$f":"IF(ISERROR(VLOOKUP($A738,check!$A:$L,7,FALSE))=TRUE,\"\",VLOOKUP($A738,check!$A:$L,7,FALSE))","v":""},{"$f":"IF(ISERROR(VLOOKUP($A738,check!$A:$L,8,FALSE))=TRUE,\"\",VLOOKUP($A738,check!$A:$L,8,FALSE))","v":""},{"$f":"IF(ISERROR(VLOOKUP($A738,check!$A:$L,9,FALSE))=TRUE,\"\",VLOOKUP($A738,check!$A:$L,9,FALSE))","v":""},{"$f":"IF(ISERROR(VLOOKUP($A738,check!$A:$L,10,FALSE))=TRUE,\"\",VLOOKUP($A738,check!$A:$L,10,FALSE))","v":""},{"$f":"IF(ISERROR(VLOOKUP($A738,check!$A:$L,11,FALSE))=TRUE,\"\",VLOOKUP($A738,check!$A:$L,11,FALSE))","v":""},{"$f":"IF(ISERROR(VLOOKUP($A738,check!$A:$L,12,FALSE))=TRUE,\"\",VLOOKUP($A738,check!$A:$L,12,FALSE))","v":""}]
[739,{"$f":"IF(C739=\"\",\"\",MATCH(A739,check!A:A,0))","v":""},{"$f":"IF(ISERROR(VLOOKUP($A739,check!$A:$L,2,FALSE))=TRUE,\"\",VLOOKUP($A739,check!$A:$L,2,FALSE))","v":""},{"$f":"IF(ISERROR(VLOOKUP($A739,check!$A:$L,3,FALSE))=TRUE,\"\",VLOOKUP($A739,check!$A:$L,3,FALSE))","v":""},{"$f":"IF(ISERROR(VLOOKUP($A739,check!$A:$L,4,FALSE))=TRUE,\"\",VLOOKUP($A739,check!$A:$L,4,FALSE))","v":""},{"$f":"IF(ISERROR(VLOOKUP($A739,check!$A:$L,5,FALSE))=TRUE,\"\",VLOOKUP($A739,check!$A:$L,5,FALSE))","v":""},{"$f":"IF(ISERROR(VLOOKUP($A739,check!$A:$L,6,FALSE))=TRUE,\"\",VLOOKUP($A739,check!$A:$L,6,FALSE))","v":""},{"$f":"IF(ISERROR(VLOOKUP($A739,check!$A:$L,7,FALSE))=TRUE,\"\",VLOOKUP($A739,check!$A:$L,7,FALSE))","v":""},{"$f":"IF(ISERROR(VLOOKUP($A739,check!$A:$L,8,FALSE))=TRUE,\"\",VLOOKUP($A739,check!$A:$L,8,FALSE))","v":""},{"$f":"IF(ISERROR(VLOOKUP($A739,check!$A:$L,9,FALSE))=TRUE,\"\",VLOOKUP($A739,check!$A:$L,9,FALSE))","v":""},{"$f":"IF(ISERROR(VLOOKUP($A739,check!$A:$L,10,FALSE))=TRUE,\"\",VLOOKUP($A739,check!$A:$L,10,FALSE))","v":""},{"$f":"IF(ISERROR(VLOOKUP($A739,check!$A:$L,11,FALSE))=TRUE,\"\",VLOOKUP($A739,check!$A:$L,11,FALSE))","v":""},{"$f":"IF(ISERROR(VLOOKUP($A739,check!$A:$L,12,FALSE))=TRUE,\"\",VLOOKUP($A739,check!$A:$L,12,FALSE))","v":""}]
[740,{"$f":"IF(C740=\"\",\"\",MATCH(A740,check!A:A,0))","v":""},{"$f":"IF(ISERROR(VLOOKUP($A740,check!$A:$L,2,FALSE))=TRUE,\"\",VLOOKUP($A740,check!$A:$L,2,FALSE))","v":""},{"$f":"IF(ISERROR(VLOOKUP($A740,check!$A:$L,3,FALSE))=TRUE,\"\",VLOOKUP($A740,check!$A:$L,3,FALSE))","v":""},{"$f":"IF(ISERROR(VLOOKUP($A740,check!$A:$L,4,FALSE))=TRUE,\"\",VLOOKUP($A740,check!$A:$L,4,FALSE))","v":""},{"$f":"IF(ISERROR(VLOOKUP($A740,check!$A:$L,5,FALSE))=TRUE,\"\",VLOOKUP($A740,check!$A:$L,5,FALSE))","v":""},{"$f":"IF(ISERROR(VLOOKUP($A740,check!$A:$L,6,FALSE))=TRUE,\"\",VLOOKUP($A740,check!$A:$L,6,FALSE))","v":""},{"$f":"IF(ISERROR(VLOOKUP($A740,check!$A:$L,7,FALSE))=TRUE,\"\",VLOOKUP($A740,check!$A:$L,7,FALSE))","v":""},{"$f":"IF(ISERROR(VLOOKUP($A740,check!$A:$L,8,FALSE))=TRUE,\"\",VLOOKUP($A740,check!$A:$L,8,FALSE))","v":""},{"$f":"IF(ISERROR(VLOOKUP($A740,check!$A:$L,9,FALSE))=TRUE,\"\",VLOOKUP($A740,check!$A:$L,9,FALSE))","v":""},{"$f":"IF(ISERROR(VLOOKUP($A740,check!$A:$L,10,FALSE))=TRUE,\"\",VLOOKUP($A740,check!$A:$L,10,FALSE))","v":""},{"$f":"IF(ISERROR(VLOOKUP($A740,check!$A:$L,11,FALSE))=TRUE,\"\",VLOOKUP($A740,check!$A:$L,11,FALSE))","v":""},{"$f":"IF(ISERROR(VLOOKUP($A740,check!$A:$L,12,FALSE))=TRUE,\"\",VLOOKUP($A740,check!$A:$L,12,FALSE))","v":""}]
[741,{"$f":"IF(C741=\"\",\"\",MATCH(A741,check!A:A,0))","v":""},{"$f":"IF(ISERROR(VLOOKUP($A741,check!$A:$L,2,FALSE))=TRUE,\"\",VLOOKUP($A741,check!$A:$L,2,FALSE))","v":""},{"$f":"IF(ISERROR(VLOOKUP($A741,check!$A:$L,3,FALSE))=TRUE,\"\",VLOOKUP($A741,check!$A:$L,3,FALSE))","v":""},{"$f":"IF(ISERROR(VLOOKUP($A741,check!$A:$L,4,FALSE))=TRUE,\"\",VLOOKUP($A741,check!$A:$L,4,FALSE))","v":""},{"$f":"IF(ISERROR(VLOOKUP($A741,check!$A:$L,5,FALSE))=TRUE,\"\",VLOOKUP($A741,check!$A:$L,5,FALSE))","v":""},{"$f":"IF(ISERROR(VLOOKUP($A741,check!$A:$L,6,FALSE))=TRUE,\"\",VLOOKUP($A741,check!$A:$L,6,FALSE))","v":""},{"$f":"IF(ISERROR(VLOOKUP($A741,check!$A:$L,7,FALSE))=TRUE,\"\",VLOOKUP($A741,check!$A:$L,7,FALSE))","v":""},{"$f":"IF(ISERROR(VLOOKUP($A741,check!$A:$L,8,FALSE))=TRUE,\"\",VLOOKUP($A741,check!$A:$L,8,FALSE))","v":""},{"$f":"IF(ISERROR(VLOOKUP($A741,check!$A:$L,9,FALSE))=TRUE,\"\",VLOOKUP($A741,check!$A:$L,9,FALSE))","v":""},{"$f":"IF(ISERROR(VLOOKUP($A741,check!$A:$L,10,FALSE))=TRUE,\"\",VLOOKUP($A741,check!$A:$L,10,FALSE))","v":""},{"$f":"IF(ISERROR(VLOOKUP($A741,check!$A:$L,11,FALSE))=TRUE,\"\",VLOOKUP($A741,check!$A:$L,11,FALSE))","v":""},{"$f":"IF(ISERROR(VLOOKUP($A741,check!$A:$L,12,FALSE))=TRUE,\"\",VLOOKUP($A741,check!$A:$L,12,FALSE))","v":""}]
[742,{"$f":"IF(C742=\"\",\"\",MATCH(A742,check!A:A,0))","v":""},{"$f":"IF(ISERROR(VLOOKUP($A742,check!$A:$L,2,FALSE))=TRUE,\"\",VLOOKUP($A742,check!$A:$L,2,FALSE))","v":""},{"$f":"IF(ISERROR(VLOOKUP($A742,check!$A:$L,3,FALSE))=TRUE,\"\",VLOOKUP($A742,check!$A:$L,3,FALSE))","v":""},{"$f":"IF(ISERROR(VLOOKUP($A742,check!$A:$L,4,FALSE))=TRUE,\"\",VLOOKUP($A742,check!$A:$L,4,FALSE))","v":""},{"$f":"IF(ISERROR(VLOOKUP($A742,check!$A:$L,5,FALSE))=TRUE,\"\",VLOOKUP($A742,check!$A:$L,5,FALSE))","v":""},{"$f":"IF(ISERROR(VLOOKUP($A742,check!$A:$L,6,FALSE))=TRUE,\"\",VLOOKUP($A742,check!$A:$L,6,FALSE))","v":""},{"$f":"IF(ISERROR(VLOOKUP($A742,check!$A:$L,7,FALSE))=TRUE,\"\",VLOOKUP($A742,check!$A:$L,7,FALSE))","v":""},{"$f":"IF(ISERROR(VLOOKUP($A742,check!$A:$L,8,FALSE))=TRUE,\"\",VLOOKUP($A742,check!$A:$L,8,FALSE))","v":""},{"$f":"IF(ISERROR(VLOOKUP($A742,check!$A:$L,9,FALSE))=TRUE,\"\",VLOOKUP($A742,check!$A:$L,9,FALSE))","v":""},{"$f":"IF(ISERROR(VLOOKUP($A742,check!$A:$L,10,FALSE))=TRUE,\"\",VLOOKUP($A742,check!$A:$L,10,FALSE))","v":""},{"$f":"IF(ISERROR(VLOOKUP($A742,check!$A:$L,11,FALSE))=TRUE,\"\",VLOOKUP($A742,check!$A:$L,11,FALSE))","v":""},{"$f":"IF(ISERROR(VLOOKUP($A742,check!$A:$L,12,FALSE))=TRUE,\"\",VLOOKUP($A742,check!$A:$L,12,FALSE))","v":""}]
[743,{"$f":"IF(C743=\"\",\"\",MATCH(A743,check!A:A,0))","v":""},{"$f":"IF(ISERROR(VLOOKUP($A743,check!$A:$L,2,FALSE))=TRUE,\"\",VLOOKUP($A743,check!$A:$L,2,FALSE))","v":""},{"$f":"IF(ISERROR(VLOOKUP($A743,check!$A:$L,3,FALSE))=TRUE,\"\",VLOOKUP($A743,check!$A:$L,3,FALSE))","v":""},{"$f":"IF(ISERROR(VLOOKUP($A743,check!$A:$L,4,FALSE))=TRUE,\"\",VLOOKUP($A743,check!$A:$L,4,FALSE))","v":""},{"$f":"IF(ISERROR(VLOOKUP($A743,check!$A:$L,5,FALSE))=TRUE,\"\",VLOOKUP($A743,check!$A:$L,5,FALSE))","v":""},{"$f":"IF(ISERROR(VLOOKUP($A743,check!$A:$L,6,FALSE))=TRUE,\"\",VLOOKUP($A743,check!$A:$L,6,FALSE))","v":""},{"$f":"IF(ISERROR(VLOOKUP($A743,check!$A:$L,7,FALSE))=TRUE,\"\",VLOOKUP($A743,check!$A:$L,7,FALSE))","v":""},{"$f":"IF(ISERROR(VLOOKUP($A743,check!$A:$L,8,FALSE))=TRUE,\"\",VLOOKUP($A743,check!$A:$L,8,FALSE))","v":""},{"$f":"IF(ISERROR(VLOOKUP($A743,check!$A:$L,9,FALSE))=TRUE,\"\",VLOOKUP($A743,check!$A:$L,9,FALSE))","v":""},{"$f":"IF(ISERROR(VLOOKUP($A743,check!$A:$L,10,FALSE))=TRUE,\"\",VLOOKUP($A743,check!$A:$L,10,FALSE))","v":""},{"$f":"IF(ISERROR(VLOOKUP($A743,check!$A:$L,11,FALSE))=TRUE,\"\",VLOOKUP($A743,check!$A:$L,11,FALSE))","v":""},{"$f":"IF(ISERROR(VLOOKUP($A743,check!$A:$L,12,FALSE))=TRUE,\"\",VLOOKUP($A743,check!$A:$L,12,FALSE))","v":""}]
[744,{"$f":"IF(C744=\"\",\"\",MATCH(A744,check!A:A,0))","v":""},{"$f":"IF(ISERROR(VLOOKUP($A744,check!$A:$L,2,FALSE))=TRUE,\"\",VLOOKUP($A744,check!$A:$L,2,FALSE))","v":""},{"$f":"IF(ISERROR(VLOOKUP($A744,check!$A:$L,3,FALSE))=TRUE,\"\",VLOOKUP($A744,check!$A:$L,3,FALSE))","v":""},{"$f":"IF(ISERROR(VLOOKUP($A744,check!$A:$L,4,FALSE))=TRUE,\"\",VLOOKUP($A744,check!$A:$L,4,FALSE))","v":""},{"$f":"IF(ISERROR(VLOOKUP($A744,check!$A:$L,5,FALSE))=TRUE,\"\",VLOOKUP($A744,check!$A:$L,5,FALSE))","v":""},{"$f":"IF(ISERROR(VLOOKUP($A744,check!$A:$L,6,FALSE))=TRUE,\"\",VLOOKUP($A744,check!$A:$L,6,FALSE))","v":""},{"$f":"IF(ISERROR(VLOOKUP($A744,check!$A:$L,7,FALSE))=TRUE,\"\",VLOOKUP($A744,check!$A:$L,7,FALSE))","v":""},{"$f":"IF(ISERROR(VLOOKUP($A744,check!$A:$L,8,FALSE))=TRUE,\"\",VLOOKUP($A744,check!$A:$L,8,FALSE))","v":""},{"$f":"IF(ISERROR(VLOOKUP($A744,check!$A:$L,9,FALSE))=TRUE,\"\",VLOOKUP($A744,check!$A:$L,9,FALSE))","v":""},{"$f":"IF(ISERROR(VLOOKUP($A744,check!$A:$L,10,FALSE))=TRUE,\"\",VLOOKUP($A744,check!$A:$L,10,FALSE))","v":""},{"$f":"IF(ISERROR(VLOOKUP($A744,check!$A:$L,11,FALSE))=TRUE,\"\",VLOOKUP($A744,check!$A:$L,11,FALSE))","v":""},{"$f":"IF(ISERROR(VLOOKUP($A744,check!$A:$L,12,FALSE))=TRUE,\"\",VLOOKUP($A744,check!$A:$L,12,FALSE))","v":""}]
[745,{"$f":"IF(C745=\"\",\"\",MATCH(A745,check!A:A,0))","v":""},{"$f":"IF(ISERROR(VLOOKUP($A745,check!$A:$L,2,FALSE))=TRUE,\"\",VLOOKUP($A745,check!$A:$L,2,FALSE))","v":""},{"$f":"IF(ISERROR(VLOOKUP($A745,check!$A:$L,3,FALSE))=TRUE,\"\",VLOOKUP($A745,check!$A:$L,3,FALSE))","v":""},{"$f":"IF(ISERROR(VLOOKUP($A745,check!$A:$L,4,FALSE))=TRUE,\"\",VLOOKUP($A745,check!$A:$L,4,FALSE))","v":""},{"$f":"IF(ISERROR(VLOOKUP($A745,check!$A:$L,5,FALSE))=TRUE,\"\",VLOOKUP($A745,check!$A:$L,5,FALSE))","v":""},{"$f":"IF(ISERROR(VLOOKUP($A745,check!$A:$L,6,FALSE))=TRUE,\"\",VLOOKUP($A745,check!$A:$L,6,FALSE))","v":""},{"$f":"IF(ISERROR(VLOOKUP($A745,check!$A:$L,7,FALSE))=TRUE,\"\",VLOOKUP($A745,check!$A:$L,7,FALSE))","v":""},{"$f":"IF(ISERROR(VLOOKUP($A745,check!$A:$L,8,FALSE))=TRUE,\"\",VLOOKUP($A745,check!$A:$L,8,FALSE))","v":""},{"$f":"IF(ISERROR(VLOOKUP($A745,check!$A:$L,9,FALSE))=TRUE,\"\",VLOOKUP($A745,check!$A:$L,9,FALSE))","v":""},{"$f":"IF(ISERROR(VLOOKUP($A745,check!$A:$L,10,FALSE))=TRUE,\"\",VLOOKUP($A745,check!$A:$L,10,FALSE))","v":""},{"$f":"IF(ISERROR(VLOOKUP($A745,check!$A:$L,11,FALSE))=TRUE,\"\",VLOOKUP($A745,check!$A:$L,11,FALSE))","v":""},{"$f":"IF(ISERROR(VLOOKUP($A745,check!$A:$L,12,FALSE))=TRUE,\"\",VLOOKUP($A745,check!$A:$L,12,FALSE))","v":""}]
[746,{"$f":"IF(C746=\"\",\"\",MATCH(A746,check!A:A,0))","v":""},{"$f":"IF(ISERROR(VLOOKUP($A746,check!$A:$L,2,FALSE))=TRUE,\"\",VLOOKUP($A746,check!$A:$L,2,FALSE))","v":""},{"$f":"IF(ISERROR(VLOOKUP($A746,check!$A:$L,3,FALSE))=TRUE,\"\",VLOOKUP($A746,check!$A:$L,3,FALSE))","v":""},{"$f":"IF(ISERROR(VLOOKUP($A746,check!$A:$L,4,FALSE))=TRUE,\"\",VLOOKUP($A746,check!$A:$L,4,FALSE))","v":""},{"$f":"IF(ISERROR(VLOOKUP($A746,check!$A:$L,5,FALSE))=TRUE,\"\",VLOOKUP($A746,check!$A:$L,5,FALSE))","v":""},{"$f":"IF(ISERROR(VLOOKUP($A746,check!$A:$L,6,FALSE))=TRUE,\"\",VLOOKUP($A746,check!$A:$L,6,FALSE))","v":""},{"$f":"IF(ISERROR(VLOOKUP($A746,check!$A:$L,7,FALSE))=TRUE,\"\",VLOOKUP($A746,check!$A:$L,7,FALSE))","v":""},{"$f":"IF(ISERROR(VLOOKUP($A746,check!$A:$L,8,FALSE))=TRUE,\"\",VLOOKUP($A746,check!$A:$L,8,FALSE))","v":""},{"$f":"IF(ISERROR(VLOOKUP($A746,check!$A:$L,9,FALSE))=TRUE,\"\",VLOOKUP($A746,check!$A:$L,9,FALSE))","v":""},{"$f":"IF(ISERROR(VLOOKUP($A746,check!$A:$L,10,FALSE))=TRUE,\"\",VLOOKUP($A746,check!$A:$L,10,FALSE))","v":""},{"$f":"IF(ISERROR(VLOOKUP($A746,check!$A:$L,11,FALSE))=TRUE,\"\",VLOOKUP($A746,check!$A:$L,11,FALSE))","v":""},{"$f":"IF(ISERROR(VLOOKUP($A746,check!$A:$L,12,FALSE))=TRUE,\"\",VLOOKUP($A746,check!$A:$L,12,FALSE))","v":""}]
[747,{"$f":"IF(C747=\"\",\"\",MATCH(A747,check!A:A,0))","v":""},{"$f":"IF(ISERROR(VLOOKUP($A747,check!$A:$L,2,FALSE))=TRUE,\"\",VLOOKUP($A747,check!$A:$L,2,FALSE))","v":""},{"$f":"IF(ISERROR(VLOOKUP($A747,check!$A:$L,3,FALSE))=TRUE,\"\",VLOOKUP($A747,check!$A:$L,3,FALSE))","v":""},{"$f":"IF(ISERROR(VLOOKUP($A747,check!$A:$L,4,FALSE))=TRUE,\"\",VLOOKUP($A747,check!$A:$L,4,FALSE))","v":""},{"$f":"IF(ISERROR(VLOOKUP($A747,check!$A:$L,5,FALSE))=TRUE,\"\",VLOOKUP($A747,check!$A:$L,5,FALSE))","v":""},{"$f":"IF(ISERROR(VLOOKUP($A747,check!$A:$L,6,FALSE))=TRUE,\"\",VLOOKUP($A747,check!$A:$L,6,FALSE))","v":""},{"$f":"IF(ISERROR(VLOOKUP($A747,check!$A:$L,7,FALSE))=TRUE,\"\",VLOOKUP($A747,check!$A:$L,7,FALSE))","v":""},{"$f":"IF(ISERROR(VLOOKUP($A747,check!$A:$L,8,FALSE))=TRUE,\"\",VLOOKUP($A747,check!$A:$L,8,FALSE))","v":""},{"$f":"IF(ISERROR(VLOOKUP($A747,check!$A:$L,9,FALSE))=TRUE,\"\",VLOOKUP($A747,check!$A:$L,9,FALSE))","v":""},{"$f":"IF(ISERROR(VLOOKUP($A747,check!$A:$L,10,FALSE))=TRUE,\"\",VLOOKUP($A747,check!$A:$L,10,FALSE))","v":""},{"$f":"IF(ISERROR(VLOOKUP($A747,check!$A:$L,11,FALSE))=TRUE,\"\",VLOOKUP($A747,check!$A:$L,11,FALSE))","v":""},{"$f":"IF(ISERROR(VLOOKUP($A747,check!$A:$L,12,FALSE))=TRUE,\"\",VLOOKUP($A747,check!$A:$L,12,FALSE))","v":""}]
[748,{"$f":"IF(C748=\"\",\"\",MATCH(A748,check!A:A,0))","v":""},{"$f":"IF(ISERROR(VLOOKUP($A748,check!$A:$L,2,FALSE))=TRUE,\"\",VLOOKUP($A748,check!$A:$L,2,FALSE))","v":""},{"$f":"IF(ISERROR(VLOOKUP($A748,check!$A:$L,3,FALSE))=TRUE,\"\",VLOOKUP($A748,check!$A:$L,3,FALSE))","v":""},{"$f":"IF(ISERROR(VLOOKUP($A748,check!$A:$L,4,FALSE))=TRUE,\"\",VLOOKUP($A748,check!$A:$L,4,FALSE))","v":""},{"$f":"IF(ISERROR(VLOOKUP($A748,check!$A:$L,5,FALSE))=TRUE,\"\",VLOOKUP($A748,check!$A:$L,5,FALSE))","v":""},{"$f":"IF(ISERROR(VLOOKUP($A748,check!$A:$L,6,FALSE))=TRUE,\"\",VLOOKUP($A748,check!$A:$L,6,FALSE))","v":""},{"$f":"IF(ISERROR(VLOOKUP($A748,check!$A:$L,7,FALSE))=TRUE,\"\",VLOOKUP($A748,check!$A:$L,7,FALSE))","v":""},{"$f":"IF(ISERROR(VLOOKUP($A748,check!$A:$L,8,FALSE))=TRUE,\"\",VLOOKUP($A748,check!$A:$L,8,FALSE))","v":""},{"$f":"IF(ISERROR(VLOOKUP($A748,check!$A:$L,9,FALSE))=TRUE,\"\",VLOOKUP($A748,check!$A:$L,9,FALSE))","v":""},{"$f":"IF(ISERROR(VLOOKUP($A748,check!$A:$L,10,FALSE))=TRUE,\"\",VLOOKUP($A748,check!$A:$L,10,FALSE))","v":""},{"$f":"IF(ISERROR(VLOOKUP($A748,check!$A:$L,11,FALSE))=TRUE,\"\",VLOOKUP($A748,check!$A:$L,11,FALSE))","v":""},{"$f":"IF(ISERROR(VLOOKUP($A748,check!$A:$L,12,FALSE))=TRUE,\"\",VLOOKUP($A748,check!$A:$L,12,FALSE))","v":""}]
[749,{"$f":"IF(C749=\"\",\"\",MATCH(A749,check!A:A,0))","v":""},{"$f":"IF(ISERROR(VLOOKUP($A749,check!$A:$L,2,FALSE))=TRUE,\"\",VLOOKUP($A749,check!$A:$L,2,FALSE))","v":""},{"$f":"IF(ISERROR(VLOOKUP($A749,check!$A:$L,3,FALSE))=TRUE,\"\",VLOOKUP($A749,check!$A:$L,3,FALSE))","v":""},{"$f":"IF(ISERROR(VLOOKUP($A749,check!$A:$L,4,FALSE))=TRUE,\"\",VLOOKUP($A749,check!$A:$L,4,FALSE))","v":""},{"$f":"IF(ISERROR(VLOOKUP($A749,check!$A:$L,5,FALSE))=TRUE,\"\",VLOOKUP($A749,check!$A:$L,5,FALSE))","v":""},{"$f":"IF(ISERROR(VLOOKUP($A749,check!$A:$L,6,FALSE))=TRUE,\"\",VLOOKUP($A749,check!$A:$L,6,FALSE))","v":""},{"$f":"IF(ISERROR(VLOOKUP($A749,check!$A:$L,7,FALSE))=TRUE,\"\",VLOOKUP($A749,check!$A:$L,7,FALSE))","v":""},{"$f":"IF(ISERROR(VLOOKUP($A749,check!$A:$L,8,FALSE))=TRUE,\"\",VLOOKUP($A749,check!$A:$L,8,FALSE))","v":""},{"$f":"IF(ISERROR(VLOOKUP($A749,check!$A:$L,9,FALSE))=TRUE,\"\",VLOOKUP($A749,check!$A:$L,9,FALSE))","v":""},{"$f":"IF(ISERROR(VLOOKUP($A749,check!$A:$L,10,FALSE))=TRUE,\"\",VLOOKUP($A749,check!$A:$L,10,FALSE))","v":""},{"$f":"IF(ISERROR(VLOOKUP($A749,check!$A:$L,11,FALSE))=TRUE,\"\",VLOOKUP($A749,check!$A:$L,11,FALSE))","v":""},{"$f":"IF(ISERROR(VLOOKUP($A749,check!$A:$L,12,FALSE))=TRUE,\"\",VLOOKUP($A749,check!$A:$L,12,FALSE))","v":""}]
[750,{"$f":"IF(C750=\"\",\"\",MATCH(A750,check!A:A,0))","v":""},{"$f":"IF(ISERROR(VLOOKUP($A750,check!$A:$L,2,FALSE))=TRUE,\"\",VLOOKUP($A750,check!$A:$L,2,FALSE))","v":""},{"$f":"IF(ISERROR(VLOOKUP($A750,check!$A:$L,3,FALSE))=TRUE,\"\",VLOOKUP($A750,check!$A:$L,3,FALSE))","v":""},{"$f":"IF(ISERROR(VLOOKUP($A750,check!$A:$L,4,FALSE))=TRUE,\"\",VLOOKUP($A750,check!$A:$L,4,FALSE))","v":""},{"$f":"IF(ISERROR(VLOOKUP($A750,check!$A:$L,5,FALSE))=TRUE,\"\",VLOOKUP($A750,check!$A:$L,5,FALSE))","v":""},{"$f":"IF(ISERROR(VLOOKUP($A750,check!$A:$L,6,FALSE))=TRUE,\"\",VLOOKUP($A750,check!$A:$L,6,FALSE))","v":""},{"$f":"IF(ISERROR(VLOOKUP($A750,check!$A:$L,7,FALSE))=TRUE,\"\",VLOOKUP($A750,check!$A:$L,7,FALSE))","v":""},{"$f":"IF(ISERROR(VLOOKUP($A750,check!$A:$L,8,FALSE))=TRUE,\"\",VLOOKUP($A750,check!$A:$L,8,FALSE))","v":""},{"$f":"IF(ISERROR(VLOOKUP($A750,check!$A:$L,9,FALSE))=TRUE,\"\",VLOOKUP($A750,check!$A:$L,9,FALSE))","v":""},{"$f":"IF(ISERROR(VLOOKUP($A750,check!$A:$L,10,FALSE))=TRUE,\"\",VLOOKUP($A750,check!$A:$L,10,FALSE))","v":""},{"$f":"IF(ISERROR(VLOOKUP($A750,check!$A:$L,11,FALSE))=TRUE,\"\",VLOOKUP($A750,check!$A:$L,11,FALSE))","v":""},{"$f":"IF(ISERROR(VLOOKUP($A750,check!$A:$L,12,FALSE))=TRUE,\"\",VLOOKUP($A750,check!$A:$L,12,FALSE))","v":""}]
[751,{"$f":"IF(C751=\"\",\"\",MATCH(A751,check!A:A,0))","v":""},{"$f":"IF(ISERROR(VLOOKUP($A751,check!$A:$L,2,FALSE))=TRUE,\"\",VLOOKUP($A751,check!$A:$L,2,FALSE))","v":""},{"$f":"IF(ISERROR(VLOOKUP($A751,check!$A:$L,3,FALSE))=TRUE,\"\",VLOOKUP($A751,check!$A:$L,3,FALSE))","v":""},{"$f":"IF(ISERROR(VLOOKUP($A751,check!$A:$L,4,FALSE))=TRUE,\"\",VLOOKUP($A751,check!$A:$L,4,FALSE))","v":""},{"$f":"IF(ISERROR(VLOOKUP($A751,check!$A:$L,5,FALSE))=TRUE,\"\",VLOOKUP($A751,check!$A:$L,5,FALSE))","v":""},{"$f":"IF(ISERROR(VLOOKUP($A751,check!$A:$L,6,FALSE))=TRUE,\"\",VLOOKUP($A751,check!$A:$L,6,FALSE))","v":""},{"$f":"IF(ISERROR(VLOOKUP($A751,check!$A:$L,7,FALSE))=TRUE,\"\",VLOOKUP($A751,check!$A:$L,7,FALSE))","v":""},{"$f":"IF(ISERROR(VLOOKUP($A751,check!$A:$L,8,FALSE))=TRUE,\"\",VLOOKUP($A751,check!$A:$L,8,FALSE))","v":""},{"$f":"IF(ISERROR(VLOOKUP($A751,check!$A:$L,9,FALSE))=TRUE,\"\",VLOOKUP($A751,check!$A:$L,9,FALSE))","v":""},{"$f":"IF(ISERROR(VLOOKUP($A751,check!$A:$L,10,FALSE))=TRUE,\"\",VLOOKUP($A751,check!$A:$L,10,FALSE))","v":""},{"$f":"IF(ISERROR(VLOOKUP($A751,check!$A:$L,11,FALSE))=TRUE,\"\",VLOOKUP($A751,check!$A:$L,11,FALSE))","v":""},{"$f":"IF(ISERROR(VLOOKUP($A751,check!$A:$L,12,FALSE))=TRUE,\"\",VLOOKUP($A751,check!$A:$L,12,FALSE))","v":""}]
[752,{"$f":"IF(C752=\"\",\"\",MATCH(A752,check!A:A,0))","v":""},{"$f":"IF(ISERROR(VLOOKUP($A752,check!$A:$L,2,FALSE))=TRUE,\"\",VLOOKUP($A752,check!$A:$L,2,FALSE))","v":""},{"$f":"IF(ISERROR(VLOOKUP($A752,check!$A:$L,3,FALSE))=TRUE,\"\",VLOOKUP($A752,check!$A:$L,3,FALSE))","v":""},{"$f":"IF(ISERROR(VLOOKUP($A752,check!$A:$L,4,FALSE))=TRUE,\"\",VLOOKUP($A752,check!$A:$L,4,FALSE))","v":""},{"$f":"IF(ISERROR(VLOOKUP($A752,check!$A:$L,5,FALSE))=TRUE,\"\",VLOOKUP($A752,check!$A:$L,5,FALSE))","v":""},{"$f":"IF(ISERROR(VLOOKUP($A752,check!$A:$L,6,FALSE))=TRUE,\"\",VLOOKUP($A752,check!$A:$L,6,FALSE))","v":""},{"$f":"IF(ISERROR(VLOOKUP($A752,check!$A:$L,7,FALSE))=TRUE,\"\",VLOOKUP($A752,check!$A:$L,7,FALSE))","v":""},{"$f":"IF(ISERROR(VLOOKUP($A752,check!$A:$L,8,FALSE))=TRUE,\"\",VLOOKUP($A752,check!$A:$L,8,FALSE))","v":""},{"$f":"IF(ISERROR(VLOOKUP($A752,check!$A:$L,9,FALSE))=TRUE,\"\",VLOOKUP($A752,check!$A:$L,9,FALSE))","v":""},{"$f":"IF(ISERROR(VLOOKUP($A752,check!$A:$L,10,FALSE))=TRUE,\"\",VLOOKUP($A752,check!$A:$L,10,FALSE))","v":""},{"$f":"IF(ISERROR(VLOOKUP($A752,check!$A:$L,11,FALSE))=TRUE,\"\",VLOOKUP($A752,check!$A:$L,11,FALSE))","v":""},{"$f":"IF(ISERROR(VLOOKUP($A752,check!$A:$L,12,FALSE))=TRUE,\"\",VLOOKUP($A752,check!$A:$L,12,FALSE))","v":""}]
[753,{"$f":"IF(C753=\"\",\"\",MATCH(A753,check!A:A,0))","v":""},{"$f":"IF(ISERROR(VLOOKUP($A753,check!$A:$L,2,FALSE))=TRUE,\"\",VLOOKUP($A753,check!$A:$L,2,FALSE))","v":""},{"$f":"IF(ISERROR(VLOOKUP($A753,check!$A:$L,3,FALSE))=TRUE,\"\",VLOOKUP($A753,check!$A:$L,3,FALSE))","v":""},{"$f":"IF(ISERROR(VLOOKUP($A753,check!$A:$L,4,FALSE))=TRUE,\"\",VLOOKUP($A753,check!$A:$L,4,FALSE))","v":""},{"$f":"IF(ISERROR(VLOOKUP($A753,check!$A:$L,5,FALSE))=TRUE,\"\",VLOOKUP($A753,check!$A:$L,5,FALSE))","v":""},{"$f":"IF(ISERROR(VLOOKUP($A753,check!$A:$L,6,FALSE))=TRUE,\"\",VLOOKUP($A753,check!$A:$L,6,FALSE))","v":""},{"$f":"IF(ISERROR(VLOOKUP($A753,check!$A:$L,7,FALSE))=TRUE,\"\",VLOOKUP($A753,check!$A:$L,7,FALSE))","v":""},{"$f":"IF(ISERROR(VLOOKUP($A753,check!$A:$L,8,FALSE))=TRUE,\"\",VLOOKUP($A753,check!$A:$L,8,FALSE))","v":""},{"$f":"IF(ISERROR(VLOOKUP($A753,check!$A:$L,9,FALSE))=TRUE,\"\",VLOOKUP($A753,check!$A:$L,9,FALSE))","v":""},{"$f":"IF(ISERROR(VLOOKUP($A753,check!$A:$L,10,FALSE))=TRUE,\"\",VLOOKUP($A753,check!$A:$L,10,FALSE))","v":""},{"$f":"IF(ISERROR(VLOOKUP($A753,check!$A:$L,11,FALSE))=TRUE,\"\",VLOOKUP($A753,check!$A:$L,11,FALSE))","v":""},{"$f":"IF(ISERROR(VLOOKUP($A753,check!$A:$L,12,FALSE))=TRUE,\"\",VLOOKUP($A753,check!$A:$L,12,FALSE))","v":""}]
[754,{"$f":"IF(C754=\"\",\"\",MATCH(A754,check!A:A,0))","v":""},{"$f":"IF(ISERROR(VLOOKUP($A754,check!$A:$L,2,FALSE))=TRUE,\"\",VLOOKUP($A754,check!$A:$L,2,FALSE))","v":""},{"$f":"IF(ISERROR(VLOOKUP($A754,check!$A:$L,3,FALSE))=TRUE,\"\",VLOOKUP($A754,check!$A:$L,3,FALSE))","v":""},{"$f":"IF(ISERROR(VLOOKUP($A754,check!$A:$L,4,FALSE))=TRUE,\"\",VLOOKUP($A754,check!$A:$L,4,FALSE))","v":""},{"$f":"IF(ISERROR(VLOOKUP($A754,check!$A:$L,5,FALSE))=TRUE,\"\",VLOOKUP($A754,check!$A:$L,5,FALSE))","v":""},{"$f":"IF(ISERROR(VLOOKUP($A754,check!$A:$L,6,FALSE))=TRUE,\"\",VLOOKUP($A754,check!$A:$L,6,FALSE))","v":""},{"$f":"IF(ISERROR(VLOOKUP($A754,check!$A:$L,7,FALSE))=TRUE,\"\",VLOOKUP($A754,check!$A:$L,7,FALSE))","v":""},{"$f":"IF(ISERROR(VLOOKUP($A754,check!$A:$L,8,FALSE))=TRUE,\"\",VLOOKUP($A754,check!$A:$L,8,FALSE))","v":""},{"$f":"IF(ISERROR(VLOOKUP($A754,check!$A:$L,9,FALSE))=TRUE,\"\",VLOOKUP($A754,check!$A:$L,9,FALSE))","v":""},{"$f":"IF(ISERROR(VLOOKUP($A754,check!$A:$L,10,FALSE))=TRUE,\"\",VLOOKUP($A754,check!$A:$L,10,FALSE))","v":""},{"$f":"IF(ISERROR(VLOOKUP($A754,check!$A:$L,11,FALSE))=TRUE,\"\",VLOOKUP($A754,check!$A:$L,11,FALSE))","v":""},{"$f":"IF(ISERROR(VLOOKUP($A754,check!$A:$L,12,FALSE))=TRUE,\"\",VLOOKUP($A754,check!$A:$L,12,FALSE))","v":""}]
[755,{"$f":"IF(C755=\"\",\"\",MATCH(A755,check!A:A,0))","v":""},{"$f":"IF(ISERROR(VLOOKUP($A755,check!$A:$L,2,FALSE))=TRUE,\"\",VLOOKUP($A755,check!$A:$L,2,FALSE))","v":""},{"$f":"IF(ISERROR(VLOOKUP($A755,check!$A:$L,3,FALSE))=TRUE,\"\",VLOOKUP($A755,check!$A:$L,3,FALSE))","v":""},{"$f":"IF(ISERROR(VLOOKUP($A755,check!$A:$L,4,FALSE))=TRUE,\"\",VLOOKUP($A755,check!$A:$L,4,FALSE))","v":""},{"$f":"IF(ISERROR(VLOOKUP($A755,check!$A:$L,5,FALSE))=TRUE,\"\",VLOOKUP($A755,check!$A:$L,5,FALSE))","v":""},{"$f":"IF(ISERROR(VLOOKUP($A755,check!$A:$L,6,FALSE))=TRUE,\"\",VLOOKUP($A755,check!$A:$L,6,FALSE))","v":""},{"$f":"IF(ISERROR(VLOOKUP($A755,check!$A:$L,7,FALSE))=TRUE,\"\",VLOOKUP($A755,check!$A:$L,7,FALSE))","v":""},{"$f":"IF(ISERROR(VLOOKUP($A755,check!$A:$L,8,FALSE))=TRUE,\"\",VLOOKUP($A755,check!$A:$L,8,FALSE))","v":""},{"$f":"IF(ISERROR(VLOOKUP($A755,check!$A:$L,9,FALSE))=TRUE,\"\",VLOOKUP($A755,check!$A:$L,9,FALSE))","v":""},{"$f":"IF(ISERROR(VLOOKUP($A755,check!$A:$L,10,FALSE))=TRUE,\"\",VLOOKUP($A755,check!$A:$L,10,FALSE))","v":""},{"$f":"IF(ISERROR(VLOOKUP($A755,check!$A:$L,11,FALSE))=TRUE,\"\",VLOOKUP($A755,check!$A:$L,11,FALSE))","v":""},{"$f":"IF(ISERROR(VLOOKUP($A755,check!$A:$L,12,FALSE))=TRUE,\"\",VLOOKUP($A755,check!$A:$L,12,FALSE))","v":""}]
[756,{"$f":"IF(C756=\"\",\"\",MATCH(A756,check!A:A,0))","v":""},{"$f":"IF(ISERROR(VLOOKUP($A756,check!$A:$L,2,FALSE))=TRUE,\"\",VLOOKUP($A756,check!$A:$L,2,FALSE))","v":""},{"$f":"IF(ISERROR(VLOOKUP($A756,check!$A:$L,3,FALSE))=TRUE,\"\",VLOOKUP($A756,check!$A:$L,3,FALSE))","v":""},{"$f":"IF(ISERROR(VLOOKUP($A756,check!$A:$L,4,FALSE))=TRUE,\"\",VLOOKUP($A756,check!$A:$L,4,FALSE))","v":""},{"$f":"IF(ISERROR(VLOOKUP($A756,check!$A:$L,5,FALSE))=TRUE,\"\",VLOOKUP($A756,check!$A:$L,5,FALSE))","v":""},{"$f":"IF(ISERROR(VLOOKUP($A756,check!$A:$L,6,FALSE))=TRUE,\"\",VLOOKUP($A756,check!$A:$L,6,FALSE))","v":""},{"$f":"IF(ISERROR(VLOOKUP($A756,check!$A:$L,7,FALSE))=TRUE,\"\",VLOOKUP($A756,check!$A:$L,7,FALSE))","v":""},{"$f":"IF(ISERROR(VLOOKUP($A756,check!$A:$L,8,FALSE))=TRUE,\"\",VLOOKUP($A756,check!$A:$L,8,FALSE))","v":""},{"$f":"IF(ISERROR(VLOOKUP($A756,check!$A:$L,9,FALSE))=TRUE,\"\",VLOOKUP($A756,check!$A:$L,9,FALSE))","v":""},{"$f":"IF(ISERROR(VLOOKUP($A756,check!$A:$L,10,FALSE))=TRUE,\"\",VLOOKUP($A756,check!$A:$L,10,FALSE))","v":""},{"$f":"IF(ISERROR(VLOOKUP($A756,check!$A:$L,11,FALSE))=TRUE,\"\",VLOOKUP($A756,check!$A:$L,11,FALSE))","v":""},{"$f":"IF(ISERROR(VLOOKUP($A756,check!$A:$L,12,FALSE))=TRUE,\"\",VLOOKUP($A756,check!$A:$L,12,FALSE))","v":""}]
[757,{"$f":"IF(C757=\"\",\"\",MATCH(A757,check!A:A,0))","v":""},{"$f":"IF(ISERROR(VLOOKUP($A757,check!$A:$L,2,FALSE))=TRUE,\"\",VLOOKUP($A757,check!$A:$L,2,FALSE))","v":""},{"$f":"IF(ISERROR(VLOOKUP($A757,check!$A:$L,3,FALSE))=TRUE,\"\",VLOOKUP($A757,check!$A:$L,3,FALSE))","v":""},{"$f":"IF(ISERROR(VLOOKUP($A757,check!$A:$L,4,FALSE))=TRUE,\"\",VLOOKUP($A757,check!$A:$L,4,FALSE))","v":""},{"$f":"IF(ISERROR(VLOOKUP($A757,check!$A:$L,5,FALSE))=TRUE,\"\",VLOOKUP($A757,check!$A:$L,5,FALSE))","v":""},{"$f":"IF(ISERROR(VLOOKUP($A757,check!$A:$L,6,FALSE))=TRUE,\"\",VLOOKUP($A757,check!$A:$L,6,FALSE))","v":""},{"$f":"IF(ISERROR(VLOOKUP($A757,check!$A:$L,7,FALSE))=TRUE,\"\",VLOOKUP($A757,check!$A:$L,7,FALSE))","v":""},{"$f":"IF(ISERROR(VLOOKUP($A757,check!$A:$L,8,FALSE))=TRUE,\"\",VLOOKUP($A757,check!$A:$L,8,FALSE))","v":""},{"$f":"IF(ISERROR(VLOOKUP($A757,check!$A:$L,9,FALSE))=TRUE,\"\",VLOOKUP($A757,check!$A:$L,9,FALSE))","v":""},{"$f":"IF(ISERROR(VLOOKUP($A757,check!$A:$L,10,FALSE))=TRUE,\"\",VLOOKUP($A757,check!$A:$L,10,FALSE))","v":""},{"$f":"IF(ISERROR(VLOOKUP($A757,check!$A:$L,11,FALSE))=TRUE,\"\",VLOOKUP($A757,check!$A:$L,11,FALSE))","v":""},{"$f":"IF(ISERROR(VLOOKUP($A757,check!$A:$L,12,FALSE))=TRUE,\"\",VLOOKUP($A757,check!$A:$L,12,FALSE))","v":""}]
[758,{"$f":"IF(C758=\"\",\"\",MATCH(A758,check!A:A,0))","v":""},{"$f":"IF(ISERROR(VLOOKUP($A758,check!$A:$L,2,FALSE))=TRUE,\"\",VLOOKUP($A758,check!$A:$L,2,FALSE))","v":""},{"$f":"IF(ISERROR(VLOOKUP($A758,check!$A:$L,3,FALSE))=TRUE,\"\",VLOOKUP($A758,check!$A:$L,3,FALSE))","v":""},{"$f":"IF(ISERROR(VLOOKUP($A758,check!$A:$L,4,FALSE))=TRUE,\"\",VLOOKUP($A758,check!$A:$L,4,FALSE))","v":""},{"$f":"IF(ISERROR(VLOOKUP($A758,check!$A:$L,5,FALSE))=TRUE,\"\",VLOOKUP($A758,check!$A:$L,5,FALSE))","v":""},{"$f":"IF(ISERROR(VLOOKUP($A758,check!$A:$L,6,FALSE))=TRUE,\"\",VLOOKUP($A758,check!$A:$L,6,FALSE))","v":""},{"$f":"IF(ISERROR(VLOOKUP($A758,check!$A:$L,7,FALSE))=TRUE,\"\",VLOOKUP($A758,check!$A:$L,7,FALSE))","v":""},{"$f":"IF(ISERROR(VLOOKUP($A758,check!$A:$L,8,FALSE))=TRUE,\"\",VLOOKUP($A758,check!$A:$L,8,FALSE))","v":""},{"$f":"IF(ISERROR(VLOOKUP($A758,check!$A:$L,9,FALSE))=TRUE,\"\",VLOOKUP($A758,check!$A:$L,9,FALSE))","v":""},{"$f":"IF(ISERROR(VLOOKUP($A758,check!$A:$L,10,FALSE))=TRUE,\"\",VLOOKUP($A758,check!$A:$L,10,FALSE))","v":""},{"$f":"IF(ISERROR(VLOOKUP($A758,check!$A:$L,11,FALSE))=TRUE,\"\",VLOOKUP($A758,check!$A:$L,11,FALSE))","v":""},{"$f":"IF(ISERROR(VLOOKUP($A758,check!$A:$L,12,FALSE))=TRUE,\"\",VLOOKUP($A758,check!$A:$L,12,FALSE))","v":""}]
[759,{"$f":"IF(C759=\"\",\"\",MATCH(A759,check!A:A,0))","v":""},{"$f":"IF(ISERROR(VLOOKUP($A759,check!$A:$L,2,FALSE))=TRUE,\"\",VLOOKUP($A759,check!$A:$L,2,FALSE))","v":""},{"$f":"IF(ISERROR(VLOOKUP($A759,check!$A:$L,3,FALSE))=TRUE,\"\",VLOOKUP($A759,check!$A:$L,3,FALSE))","v":""},{"$f":"IF(ISERROR(VLOOKUP($A759,check!$A:$L,4,FALSE))=TRUE,\"\",VLOOKUP($A759,check!$A:$L,4,FALSE))","v":""},{"$f":"IF(ISERROR(VLOOKUP($A759,check!$A:$L,5,FALSE))=TRUE,\"\",VLOOKUP($A759,check!$A:$L,5,FALSE))","v":""},{"$f":"IF(ISERROR(VLOOKUP($A759,check!$A:$L,6,FALSE))=TRUE,\"\",VLOOKUP($A759,check!$A:$L,6,FALSE))","v":""},{"$f":"IF(ISERROR(VLOOKUP($A759,check!$A:$L,7,FALSE))=TRUE,\"\",VLOOKUP($A759,check!$A:$L,7,FALSE))","v":""},{"$f":"IF(ISERROR(VLOOKUP($A759,check!$A:$L,8,FALSE))=TRUE,\"\",VLOOKUP($A759,check!$A:$L,8,FALSE))","v":""},{"$f":"IF(ISERROR(VLOOKUP($A759,check!$A:$L,9,FALSE))=TRUE,\"\",VLOOKUP($A759,check!$A:$L,9,FALSE))","v":""},{"$f":"IF(ISERROR(VLOOKUP($A759,check!$A:$L,10,FALSE))=TRUE,\"\",VLOOKUP($A759,check!$A:$L,10,FALSE))","v":""},{"$f":"IF(ISERROR(VLOOKUP($A759,check!$A:$L,11,FALSE))=TRUE,\"\",VLOOKUP($A759,check!$A:$L,11,FALSE))","v":""},{"$f":"IF(ISERROR(VLOOKUP($A759,check!$A:$L,12,FALSE))=TRUE,\"\",VLOOKUP($A759,check!$A:$L,12,FALSE))","v":""}]
[760,{"$f":"IF(C760=\"\",\"\",MATCH(A760,check!A:A,0))","v":""},{"$f":"IF(ISERROR(VLOOKUP($A760,check!$A:$L,2,FALSE))=TRUE,\"\",VLOOKUP($A760,check!$A:$L,2,FALSE))","v":""},{"$f":"IF(ISERROR(VLOOKUP($A760,check!$A:$L,3,FALSE))=TRUE,\"\",VLOOKUP($A760,check!$A:$L,3,FALSE))","v":""},{"$f":"IF(ISERROR(VLOOKUP($A760,check!$A:$L,4,FALSE))=TRUE,\"\",VLOOKUP($A760,check!$A:$L,4,FALSE))","v":""},{"$f":"IF(ISERROR(VLOOKUP($A760,check!$A:$L,5,FALSE))=TRUE,\"\",VLOOKUP($A760,check!$A:$L,5,FALSE))","v":""},{"$f":"IF(ISERROR(VLOOKUP($A760,check!$A:$L,6,FALSE))=TRUE,\"\",VLOOKUP($A760,check!$A:$L,6,FALSE))","v":""},{"$f":"IF(ISERROR(VLOOKUP($A760,check!$A:$L,7,FALSE))=TRUE,\"\",VLOOKUP($A760,check!$A:$L,7,FALSE))","v":""},{"$f":"IF(ISERROR(VLOOKUP($A760,check!$A:$L,8,FALSE))=TRUE,\"\",VLOOKUP($A760,check!$A:$L,8,FALSE))","v":""},{"$f":"IF(ISERROR(VLOOKUP($A760,check!$A:$L,9,FALSE))=TRUE,\"\",VLOOKUP($A760,check!$A:$L,9,FALSE))","v":""},{"$f":"IF(ISERROR(VLOOKUP($A760,check!$A:$L,10,FALSE))=TRUE,\"\",VLOOKUP($A760,check!$A:$L,10,FALSE))","v":""},{"$f":"IF(ISERROR(VLOOKUP($A760,check!$A:$L,11,FALSE))=TRUE,\"\",VLOOKUP($A760,check!$A:$L,11,FALSE))","v":""},{"$f":"IF(ISERROR(VLOOKUP($A760,check!$A:$L,12,FALSE))=TRUE,\"\",VLOOKUP($A760,check!$A:$L,12,FALSE))","v":""}]
[761,{"$f":"IF(C761=\"\",\"\",MATCH(A761,check!A:A,0))","v":""},{"$f":"IF(ISERROR(VLOOKUP($A761,check!$A:$L,2,FALSE))=TRUE,\"\",VLOOKUP($A761,check!$A:$L,2,FALSE))","v":""},{"$f":"IF(ISERROR(VLOOKUP($A761,check!$A:$L,3,FALSE))=TRUE,\"\",VLOOKUP($A761,check!$A:$L,3,FALSE))","v":""},{"$f":"IF(ISERROR(VLOOKUP($A761,check!$A:$L,4,FALSE))=TRUE,\"\",VLOOKUP($A761,check!$A:$L,4,FALSE))","v":""},{"$f":"IF(ISERROR(VLOOKUP($A761,check!$A:$L,5,FALSE))=TRUE,\"\",VLOOKUP($A761,check!$A:$L,5,FALSE))","v":""},{"$f":"IF(ISERROR(VLOOKUP($A761,check!$A:$L,6,FALSE))=TRUE,\"\",VLOOKUP($A761,check!$A:$L,6,FALSE))","v":""},{"$f":"IF(ISERROR(VLOOKUP($A761,check!$A:$L,7,FALSE))=TRUE,\"\",VLOOKUP($A761,check!$A:$L,7,FALSE))","v":""},{"$f":"IF(ISERROR(VLOOKUP($A761,check!$A:$L,8,FALSE))=TRUE,\"\",VLOOKUP($A761,check!$A:$L,8,FALSE))","v":""},{"$f":"IF(ISERROR(VLOOKUP($A761,check!$A:$L,9,FALSE))=TRUE,\"\",VLOOKUP($A761,check!$A:$L,9,FALSE))","v":""},{"$f":"IF(ISERROR(VLOOKUP($A761,check!$A:$L,10,FALSE))=TRUE,\"\",VLOOKUP($A761,check!$A:$L,10,FALSE))","v":""},{"$f":"IF(ISERROR(VLOOKUP($A761,check!$A:$L,11,FALSE))=TRUE,\"\",VLOOKUP($A761,check!$A:$L,11,FALSE))","v":""},{"$f":"IF(ISERROR(VLOOKUP($A761,check!$A:$L,12,FALSE))=TRUE,\"\",VLOOKUP($A761,check!$A:$L,12,FALSE))","v":""}]
[762,{"$f":"IF(C762=\"\",\"\",MATCH(A762,check!A:A,0))","v":""},{"$f":"IF(ISERROR(VLOOKUP($A762,check!$A:$L,2,FALSE))=TRUE,\"\",VLOOKUP($A762,check!$A:$L,2,FALSE))","v":""},{"$f":"IF(ISERROR(VLOOKUP($A762,check!$A:$L,3,FALSE))=TRUE,\"\",VLOOKUP($A762,check!$A:$L,3,FALSE))","v":""},{"$f":"IF(ISERROR(VLOOKUP($A762,check!$A:$L,4,FALSE))=TRUE,\"\",VLOOKUP($A762,check!$A:$L,4,FALSE))","v":""},{"$f":"IF(ISERROR(VLOOKUP($A762,check!$A:$L,5,FALSE))=TRUE,\"\",VLOOKUP($A762,check!$A:$L,5,FALSE))","v":""},{"$f":"IF(ISERROR(VLOOKUP($A762,check!$A:$L,6,FALSE))=TRUE,\"\",VLOOKUP($A762,check!$A:$L,6,FALSE))","v":""},{"$f":"IF(ISERROR(VLOOKUP($A762,check!$A:$L,7,FALSE))=TRUE,\"\",VLOOKUP($A762,check!$A:$L,7,FALSE))","v":""},{"$f":"IF(ISERROR(VLOOKUP($A762,check!$A:$L,8,FALSE))=TRUE,\"\",VLOOKUP($A762,check!$A:$L,8,FALSE))","v":""},{"$f":"IF(ISERROR(VLOOKUP($A762,check!$A:$L,9,FALSE))=TRUE,\"\",VLOOKUP($A762,check!$A:$L,9,FALSE))","v":""},{"$f":"IF(ISERROR(VLOOKUP($A762,check!$A:$L,10,FALSE))=TRUE,\"\",VLOOKUP($A762,check!$A:$L,10,FALSE))","v":""},{"$f":"IF(ISERROR(VLOOKUP($A762,check!$A:$L,11,FALSE))=TRUE,\"\",VLOOKUP($A762,check!$A:$L,11,FALSE))","v":""},{"$f":"IF(ISERROR(VLOOKUP($A762,check!$A:$L,12,FALSE))=TRUE,\"\",VLOOKUP($A762,check!$A:$L,12,FALSE))","v":""}]
[763,{"$f":"IF(C763=\"\",\"\",MATCH(A763,check!A:A,0))","v":""},{"$f":"IF(ISERROR(VLOOKUP($A763,check!$A:$L,2,FALSE))=TRUE,\"\",VLOOKUP($A763,check!$A:$L,2,FALSE))","v":""},{"$f":"IF(ISERROR(VLOOKUP($A763,check!$A:$L,3,FALSE))=TRUE,\"\",VLOOKUP($A763,check!$A:$L,3,FALSE))","v":""},{"$f":"IF(ISERROR(VLOOKUP($A763,check!$A:$L,4,FALSE))=TRUE,\"\",VLOOKUP($A763,check!$A:$L,4,FALSE))","v":""},{"$f":"IF(ISERROR(VLOOKUP($A763,check!$A:$L,5,FALSE))=TRUE,\"\",VLOOKUP($A763,check!$A:$L,5,FALSE))","v":""},{"$f":"IF(ISERROR(VLOOKUP($A763,check!$A:$L,6,FALSE))=TRUE,\"\",VLOOKUP($A763,check!$A:$L,6,FALSE))","v":""},{"$f":"IF(ISERROR(VLOOKUP($A763,check!$A:$L,7,FALSE))=TRUE,\"\",VLOOKUP($A763,check!$A:$L,7,FALSE))","v":""},{"$f":"IF(ISERROR(VLOOKUP($A763,check!$A:$L,8,FALSE))=TRUE,\"\",VLOOKUP($A763,check!$A:$L,8,FALSE))","v":""},{"$f":"IF(ISERROR(VLOOKUP($A763,check!$A:$L,9,FALSE))=TRUE,\"\",VLOOKUP($A763,check!$A:$L,9,FALSE))","v":""},{"$f":"IF(ISERROR(VLOOKUP($A763,check!$A:$L,10,FALSE))=TRUE,\"\",VLOOKUP($A763,check!$A:$L,10,FALSE))","v":""},{"$f":"IF(ISERROR(VLOOKUP($A763,check!$A:$L,11,FALSE))=TRUE,\"\",VLOOKUP($A763,check!$A:$L,11,FALSE))","v":""},{"$f":"IF(ISERROR(VLOOKUP($A763,check!$A:$L,12,FALSE))=TRUE,\"\",VLOOKUP($A763,check!$A:$L,12,FALSE))","v":""}]
[764,{"$f":"IF(C764=\"\",\"\",MATCH(A764,check!A:A,0))","v":""},{"$f":"IF(ISERROR(VLOOKUP($A764,check!$A:$L,2,FALSE))=TRUE,\"\",VLOOKUP($A764,check!$A:$L,2,FALSE))","v":""},{"$f":"IF(ISERROR(VLOOKUP($A764,check!$A:$L,3,FALSE))=TRUE,\"\",VLOOKUP($A764,check!$A:$L,3,FALSE))","v":""},{"$f":"IF(ISERROR(VLOOKUP($A764,check!$A:$L,4,FALSE))=TRUE,\"\",VLOOKUP($A764,check!$A:$L,4,FALSE))","v":""},{"$f":"IF(ISERROR(VLOOKUP($A764,check!$A:$L,5,FALSE))=TRUE,\"\",VLOOKUP($A764,check!$A:$L,5,FALSE))","v":""},{"$f":"IF(ISERROR(VLOOKUP($A764,check!$A:$L,6,FALSE))=TRUE,\"\",VLOOKUP($A764,check!$A:$L,6,FALSE))","v":""},{"$f":"IF(ISERROR(VLOOKUP($A764,check!$A:$L,7,FALSE))=TRUE,\"\",VLOOKUP($A764,check!$A:$L,7,FALSE))","v":""},{"$f":"IF(ISERROR(VLOOKUP($A764,check!$A:$L,8,FALSE))=TRUE,\"\",VLOOKUP($A764,check!$A:$L,8,FALSE))","v":""},{"$f":"IF(ISERROR(VLOOKUP($A764,check!$A:$L,9,FALSE))=TRUE,\"\",VLOOKUP($A764,check!$A:$L,9,FALSE))","v":""},{"$f":"IF(ISERROR(VLOOKUP($A764,check!$A:$L,10,FALSE))=TRUE,\"\",VLOOKUP($A764,check!$A:$L,10,FALSE))","v":""},{"$f":"IF(ISERROR(VLOOKUP($A764,check!$A:$L,11,FALSE))=TRUE,\"\",VLOOKUP($A764,check!$A:$L,11,FALSE))","v":""},{"$f":"IF(ISERROR(VLOOKUP($A764,check!$A:$L,12,FALSE))=TRUE,\"\",VLOOKUP($A764,check!$A:$L,12,FALSE))","v":""}]
[765,{"$f":"IF(C765=\"\",\"\",MATCH(A765,check!A:A,0))","v":""},{"$f":"IF(ISERROR(VLOOKUP($A765,check!$A:$L,2,FALSE))=TRUE,\"\",VLOOKUP($A765,check!$A:$L,2,FALSE))","v":""},{"$f":"IF(ISERROR(VLOOKUP($A765,check!$A:$L,3,FALSE))=TRUE,\"\",VLOOKUP($A765,check!$A:$L,3,FALSE))","v":""},{"$f":"IF(ISERROR(VLOOKUP($A765,check!$A:$L,4,FALSE))=TRUE,\"\",VLOOKUP($A765,check!$A:$L,4,FALSE))","v":""},{"$f":"IF(ISERROR(VLOOKUP($A765,check!$A:$L,5,FALSE))=TRUE,\"\",VLOOKUP($A765,check!$A:$L,5,FALSE))","v":""},{"$f":"IF(ISERROR(VLOOKUP($A765,check!$A:$L,6,FALSE))=TRUE,\"\",VLOOKUP($A765,check!$A:$L,6,FALSE))","v":""},{"$f":"IF(ISERROR(VLOOKUP($A765,check!$A:$L,7,FALSE))=TRUE,\"\",VLOOKUP($A765,check!$A:$L,7,FALSE))","v":""},{"$f":"IF(ISERROR(VLOOKUP($A765,check!$A:$L,8,FALSE))=TRUE,\"\",VLOOKUP($A765,check!$A:$L,8,FALSE))","v":""},{"$f":"IF(ISERROR(VLOOKUP($A765,check!$A:$L,9,FALSE))=TRUE,\"\",VLOOKUP($A765,check!$A:$L,9,FALSE))","v":""},{"$f":"IF(ISERROR(VLOOKUP($A765,check!$A:$L,10,FALSE))=TRUE,\"\",VLOOKUP($A765,check!$A:$L,10,FALSE))","v":""},{"$f":"IF(ISERROR(VLOOKUP($A765,check!$A:$L,11,FALSE))=TRUE,\"\",VLOOKUP($A765,check!$A:$L,11,FALSE))","v":""},{"$f":"IF(ISERROR(VLOOKUP($A765,check!$A:$L,12,FALSE))=TRUE,\"\",VLOOKUP($A765,check!$A:$L,12,FALSE))","v":""}]
[766,{"$f":"IF(C766=\"\",\"\",MATCH(A766,check!A:A,0))","v":""},{"$f":"IF(ISERROR(VLOOKUP($A766,check!$A:$L,2,FALSE))=TRUE,\"\",VLOOKUP($A766,check!$A:$L,2,FALSE))","v":""},{"$f":"IF(ISERROR(VLOOKUP($A766,check!$A:$L,3,FALSE))=TRUE,\"\",VLOOKUP($A766,check!$A:$L,3,FALSE))","v":""},{"$f":"IF(ISERROR(VLOOKUP($A766,check!$A:$L,4,FALSE))=TRUE,\"\",VLOOKUP($A766,check!$A:$L,4,FALSE))","v":""},{"$f":"IF(ISERROR(VLOOKUP($A766,check!$A:$L,5,FALSE))=TRUE,\"\",VLOOKUP($A766,check!$A:$L,5,FALSE))","v":""},{"$f":"IF(ISERROR(VLOOKUP($A766,check!$A:$L,6,FALSE))=TRUE,\"\",VLOOKUP($A766,check!$A:$L,6,FALSE))","v":""},{"$f":"IF(ISERROR(VLOOKUP($A766,check!$A:$L,7,FALSE))=TRUE,\"\",VLOOKUP($A766,check!$A:$L,7,FALSE))","v":""},{"$f":"IF(ISERROR(VLOOKUP($A766,check!$A:$L,8,FALSE))=TRUE,\"\",VLOOKUP($A766,check!$A:$L,8,FALSE))","v":""},{"$f":"IF(ISERROR(VLOOKUP($A766,check!$A:$L,9,FALSE))=TRUE,\"\",VLOOKUP($A766,check!$A:$L,9,FALSE))","v":""},{"$f":"IF(ISERROR(VLOOKUP($A766,check!$A:$L,10,FALSE))=TRUE,\"\",VLOOKUP($A766,check!$A:$L,10,FALSE))","v":""},{"$f":"IF(ISERROR(VLOOKUP($A766,check!$A:$L,11,FALSE))=TRUE,\"\",VLOOKUP($A766,check!$A:$L,11,FALSE))","v":""},{"$f":"IF(ISERROR(VLOOKUP($A766,check!$A:$L,12,FALSE))=TRUE,\"\",VLOOKUP($A766,check!$A:$L,12,FALSE))","v":""}]
[767,{"$f":"IF(C767=\"\",\"\",MATCH(A767,check!A:A,0))","v":""},{"$f":"IF(ISERROR(VLOOKUP($A767,check!$A:$L,2,FALSE))=TRUE,\"\",VLOOKUP($A767,check!$A:$L,2,FALSE))","v":""},{"$f":"IF(ISERROR(VLOOKUP($A767,check!$A:$L,3,FALSE))=TRUE,\"\",VLOOKUP($A767,check!$A:$L,3,FALSE))","v":""},{"$f":"IF(ISERROR(VLOOKUP($A767,check!$A:$L,4,FALSE))=TRUE,\"\",VLOOKUP($A767,check!$A:$L,4,FALSE))","v":""},{"$f":"IF(ISERROR(VLOOKUP($A767,check!$A:$L,5,FALSE))=TRUE,\"\",VLOOKUP($A767,check!$A:$L,5,FALSE))","v":""},{"$f":"IF(ISERROR(VLOOKUP($A767,check!$A:$L,6,FALSE))=TRUE,\"\",VLOOKUP($A767,check!$A:$L,6,FALSE))","v":""},{"$f":"IF(ISERROR(VLOOKUP($A767,check!$A:$L,7,FALSE))=TRUE,\"\",VLOOKUP($A767,check!$A:$L,7,FALSE))","v":""},{"$f":"IF(ISERROR(VLOOKUP($A767,check!$A:$L,8,FALSE))=TRUE,\"\",VLOOKUP($A767,check!$A:$L,8,FALSE))","v":""},{"$f":"IF(ISERROR(VLOOKUP($A767,check!$A:$L,9,FALSE))=TRUE,\"\",VLOOKUP($A767,check!$A:$L,9,FALSE))","v":""},{"$f":"IF(ISERROR(VLOOKUP($A767,check!$A:$L,10,FALSE))=TRUE,\"\",VLOOKUP($A767,check!$A:$L,10,FALSE))","v":""},{"$f":"IF(ISERROR(VLOOKUP($A767,check!$A:$L,11,FALSE))=TRUE,\"\",VLOOKUP($A767,check!$A:$L,11,FALSE))","v":""},{"$f":"IF(ISERROR(VLOOKUP($A767,check!$A:$L,12,FALSE))=TRUE,\"\",VLOOKUP($A767,check!$A:$L,12,FALSE))","v":""}]
[768,{"$f":"IF(C768=\"\",\"\",MATCH(A768,check!A:A,0))","v":""},{"$f":"IF(ISERROR(VLOOKUP($A768,check!$A:$L,2,FALSE))=TRUE,\"\",VLOOKUP($A768,check!$A:$L,2,FALSE))","v":""},{"$f":"IF(ISERROR(VLOOKUP($A768,check!$A:$L,3,FALSE))=TRUE,\"\",VLOOKUP($A768,check!$A:$L,3,FALSE))","v":""},{"$f":"IF(ISERROR(VLOOKUP($A768,check!$A:$L,4,FALSE))=TRUE,\"\",VLOOKUP($A768,check!$A:$L,4,FALSE))","v":""},{"$f":"IF(ISERROR(VLOOKUP($A768,check!$A:$L,5,FALSE))=TRUE,\"\",VLOOKUP($A768,check!$A:$L,5,FALSE))","v":""},{"$f":"IF(ISERROR(VLOOKUP($A768,check!$A:$L,6,FALSE))=TRUE,\"\",VLOOKUP($A768,check!$A:$L,6,FALSE))","v":""},{"$f":"IF(ISERROR(VLOOKUP($A768,check!$A:$L,7,FALSE))=TRUE,\"\",VLOOKUP($A768,check!$A:$L,7,FALSE))","v":""},{"$f":"IF(ISERROR(VLOOKUP($A768,check!$A:$L,8,FALSE))=TRUE,\"\",VLOOKUP($A768,check!$A:$L,8,FALSE))","v":""},{"$f":"IF(ISERROR(VLOOKUP($A768,check!$A:$L,9,FALSE))=TRUE,\"\",VLOOKUP($A768,check!$A:$L,9,FALSE))","v":""},{"$f":"IF(ISERROR(VLOOKUP($A768,check!$A:$L,10,FALSE))=TRUE,\"\",VLOOKUP($A768,check!$A:$L,10,FALSE))","v":""},{"$f":"IF(ISERROR(VLOOKUP($A768,check!$A:$L,11,FALSE))=TRUE,\"\",VLOOKUP($A768,check!$A:$L,11,FALSE))","v":""},{"$f":"IF(ISERROR(VLOOKUP($A768,check!$A:$L,12,FALSE))=TRUE,\"\",VLOOKUP($A768,check!$A:$L,12,FALSE))","v":""}]
[769,{"$f":"IF(C769=\"\",\"\",MATCH(A769,check!A:A,0))","v":""},{"$f":"IF(ISERROR(VLOOKUP($A769,check!$A:$L,2,FALSE))=TRUE,\"\",VLOOKUP($A769,check!$A:$L,2,FALSE))","v":""},{"$f":"IF(ISERROR(VLOOKUP($A769,check!$A:$L,3,FALSE))=TRUE,\"\",VLOOKUP($A769,check!$A:$L,3,FALSE))","v":""},{"$f":"IF(ISERROR(VLOOKUP($A769,check!$A:$L,4,FALSE))=TRUE,\"\",VLOOKUP($A769,check!$A:$L,4,FALSE))","v":""},{"$f":"IF(ISERROR(VLOOKUP($A769,check!$A:$L,5,FALSE))=TRUE,\"\",VLOOKUP($A769,check!$A:$L,5,FALSE))","v":""},{"$f":"IF(ISERROR(VLOOKUP($A769,check!$A:$L,6,FALSE))=TRUE,\"\",VLOOKUP($A769,check!$A:$L,6,FALSE))","v":""},{"$f":"IF(ISERROR(VLOOKUP($A769,check!$A:$L,7,FALSE))=TRUE,\"\",VLOOKUP($A769,check!$A:$L,7,FALSE))","v":""},{"$f":"IF(ISERROR(VLOOKUP($A769,check!$A:$L,8,FALSE))=TRUE,\"\",VLOOKUP($A769,check!$A:$L,8,FALSE))","v":""},{"$f":"IF(ISERROR(VLOOKUP($A769,check!$A:$L,9,FALSE))=TRUE,\"\",VLOOKUP($A769,check!$A:$L,9,FALSE))","v":""},{"$f":"IF(ISERROR(VLOOKUP($A769,check!$A:$L,10,FALSE))=TRUE,\"\",VLOOKUP($A769,check!$A:$L,10,FALSE))","v":""},{"$f":"IF(ISERROR(VLOOKUP($A769,check!$A:$L,11,FALSE))=TRUE,\"\",VLOOKUP($A769,check!$A:$L,11,FALSE))","v":""},{"$f":"IF(ISERROR(VLOOKUP($A769,check!$A:$L,12,FALSE))=TRUE,\"\",VLOOKUP($A769,check!$A:$L,12,FALSE))","v":""}]
[770,{"$f":"IF(C770=\"\",\"\",MATCH(A770,check!A:A,0))","v":""},{"$f":"IF(ISERROR(VLOOKUP($A770,check!$A:$L,2,FALSE))=TRUE,\"\",VLOOKUP($A770,check!$A:$L,2,FALSE))","v":""},{"$f":"IF(ISERROR(VLOOKUP($A770,check!$A:$L,3,FALSE))=TRUE,\"\",VLOOKUP($A770,check!$A:$L,3,FALSE))","v":""},{"$f":"IF(ISERROR(VLOOKUP($A770,check!$A:$L,4,FALSE))=TRUE,\"\",VLOOKUP($A770,check!$A:$L,4,FALSE))","v":""},{"$f":"IF(ISERROR(VLOOKUP($A770,check!$A:$L,5,FALSE))=TRUE,\"\",VLOOKUP($A770,check!$A:$L,5,FALSE))","v":""},{"$f":"IF(ISERROR(VLOOKUP($A770,check!$A:$L,6,FALSE))=TRUE,\"\",VLOOKUP($A770,check!$A:$L,6,FALSE))","v":""},{"$f":"IF(ISERROR(VLOOKUP($A770,check!$A:$L,7,FALSE))=TRUE,\"\",VLOOKUP($A770,check!$A:$L,7,FALSE))","v":""},{"$f":"IF(ISERROR(VLOOKUP($A770,check!$A:$L,8,FALSE))=TRUE,\"\",VLOOKUP($A770,check!$A:$L,8,FALSE))","v":""},{"$f":"IF(ISERROR(VLOOKUP($A770,check!$A:$L,9,FALSE))=TRUE,\"\",VLOOKUP($A770,check!$A:$L,9,FALSE))","v":""},{"$f":"IF(ISERROR(VLOOKUP($A770,check!$A:$L,10,FALSE))=TRUE,\"\",VLOOKUP($A770,check!$A:$L,10,FALSE))","v":""},{"$f":"IF(ISERROR(VLOOKUP($A770,check!$A:$L,11,FALSE))=TRUE,\"\",VLOOKUP($A770,check!$A:$L,11,FALSE))","v":""},{"$f":"IF(ISERROR(VLOOKUP($A770,check!$A:$L,12,FALSE))=TRUE,\"\",VLOOKUP($A770,check!$A:$L,12,FALSE))","v":""}]
[771,{"$f":"IF(C771=\"\",\"\",MATCH(A771,check!A:A,0))","v":""},{"$f":"IF(ISERROR(VLOOKUP($A771,check!$A:$L,2,FALSE))=TRUE,\"\",VLOOKUP($A771,check!$A:$L,2,FALSE))","v":""},{"$f":"IF(ISERROR(VLOOKUP($A771,check!$A:$L,3,FALSE))=TRUE,\"\",VLOOKUP($A771,check!$A:$L,3,FALSE))","v":""},{"$f":"IF(ISERROR(VLOOKUP($A771,check!$A:$L,4,FALSE))=TRUE,\"\",VLOOKUP($A771,check!$A:$L,4,FALSE))","v":""},{"$f":"IF(ISERROR(VLOOKUP($A771,check!$A:$L,5,FALSE))=TRUE,\"\",VLOOKUP($A771,check!$A:$L,5,FALSE))","v":""},{"$f":"IF(ISERROR(VLOOKUP($A771,check!$A:$L,6,FALSE))=TRUE,\"\",VLOOKUP($A771,check!$A:$L,6,FALSE))","v":""},{"$f":"IF(ISERROR(VLOOKUP($A771,check!$A:$L,7,FALSE))=TRUE,\"\",VLOOKUP($A771,check!$A:$L,7,FALSE))","v":""},{"$f":"IF(ISERROR(VLOOKUP($A771,check!$A:$L,8,FALSE))=TRUE,\"\",VLOOKUP($A771,check!$A:$L,8,FALSE))","v":""},{"$f":"IF(ISERROR(VLOOKUP($A771,check!$A:$L,9,FALSE))=TRUE,\"\",VLOOKUP($A771,check!$A:$L,9,FALSE))","v":""},{"$f":"IF(ISERROR(VLOOKUP($A771,check!$A:$L,10,FALSE))=TRUE,\"\",VLOOKUP($A771,check!$A:$L,10,FALSE))","v":""},{"$f":"IF(ISERROR(VLOOKUP($A771,check!$A:$L,11,FALSE))=TRUE,\"\",VLOOKUP($A771,check!$A:$L,11,FALSE))","v":""},{"$f":"IF(ISERROR(VLOOKUP($A771,check!$A:$L,12,FALSE))=TRUE,\"\",VLOOKUP($A771,check!$A:$L,12,FALSE))","v":""}]
[{"$f":"A771+1","v":772},{"$f":"IF(C772=\"\",\"\",MATCH(A772,check!A:A,0))","v":""},{"$f":"IF(ISERROR(VLOOKUP($A772,check!$A:$L,2,FALSE))=TRUE,\"\",VLOOKUP($A772,check!$A:$L,2,FALSE))","v":""},{"$f":"IF(ISERROR(VLOOKUP($A772,check!$A:$L,3,FALSE))=TRUE,\"\",VLOOKUP($A772,check!$A:$L,3,FALSE))","v":""},{"$f":"IF(ISERROR(VLOOKUP($A772,check!$A:$L,4,FALSE))=TRUE,\"\",VLOOKUP($A772,check!$A:$L,4,FALSE))","v":""},{"$f":"IF(ISERROR(VLOOKUP($A772,check!$A:$L,5,FALSE))=TRUE,\"\",VLOOKUP($A772,check!$A:$L,5,FALSE))","v":""},{"$f":"IF(ISERROR(VLOOKUP($A772,check!$A:$L,6,FALSE))=TRUE,\"\",VLOOKUP($A772,check!$A:$L,6,FALSE))","v":""},{"$f":"IF(ISERROR(VLOOKUP($A772,check!$A:$L,7,FALSE))=TRUE,\"\",VLOOKUP($A772,check!$A:$L,7,FALSE))","v":""},{"$f":"IF(ISERROR(VLOOKUP($A772,check!$A:$L,8,FALSE))=TRUE,\"\",VLOOKUP($A772,check!$A:$L,8,FALSE))","v":""},{"$f":"IF(ISERROR(VLOOKUP($A772,check!$A:$L,9,FALSE))=TRUE,\"\",VLOOKUP($A772,check!$A:$L,9,FALSE))","v":""},{"$f":"IF(ISERROR(VLOOKUP($A772,check!$A:$L,10,FALSE))=TRUE,\"\",VLOOKUP($A772,check!$A:$L,10,FALSE))","v":""},{"$f":"IF(ISERROR(VLOOKUP($A772,check!$A:$L,11,FALSE))=TRUE,\"\",VLOOKUP($A772,check!$A:$L,11,FALSE))","v":""},{"$f":"IF(ISERROR(VLOOKUP($A772,check!$A:$L,12,FALSE))=TRUE,\"\",VLOOKUP($A772,check!$A:$L,12,FALSE))","v":""}]
[773,{"$f":"IF(C773=\"\",\"\",MATCH(A773,check!A:A,0))","v":""},{"$f":"IF(ISERROR(VLOOKUP($A773,check!$A:$L,2,FALSE))=TRUE,\"\",VLOOKUP($A773,check!$A:$L,2,FALSE))","v":""},{"$f":"IF(ISERROR(VLOOKUP($A773,check!$A:$L,3,FALSE))=TRUE,\"\",VLOOKUP($A773,check!$A:$L,3,FALSE))","v":""},{"$f":"IF(ISERROR(VLOOKUP($A773,check!$A:$L,4,FALSE))=TRUE,\"\",VLOOKUP($A773,check!$A:$L,4,FALSE))","v":""},{"$f":"IF(ISERROR(VLOOKUP($A773,check!$A:$L,5,FALSE))=TRUE,\"\",VLOOKUP($A773,check!$A:$L,5,FALSE))","v":""},{"$f":"IF(ISERROR(VLOOKUP($A773,check!$A:$L,6,FALSE))=TRUE,\"\",VLOOKUP($A773,check!$A:$L,6,FALSE))","v":""},{"$f":"IF(ISERROR(VLOOKUP($A773,check!$A:$L,7,FALSE))=TRUE,\"\",VLOOKUP($A773,check!$A:$L,7,FALSE))","v":""},{"$f":"IF(ISERROR(VLOOKUP($A773,check!$A:$L,8,FALSE))=TRUE,\"\",VLOOKUP($A773,check!$A:$L,8,FALSE))","v":""},{"$f":"IF(ISERROR(VLOOKUP($A773,check!$A:$L,9,FALSE))=TRUE,\"\",VLOOKUP($A773,check!$A:$L,9,FALSE))","v":""},{"$f":"IF(ISERROR(VLOOKUP($A773,check!$A:$L,10,FALSE))=TRUE,\"\",VLOOKUP($A773,check!$A:$L,10,FALSE))","v":""},{"$f":"IF(ISERROR(VLOOKUP($A773,check!$A:$L,11,FALSE))=TRUE,\"\",VLOOKUP($A773,check!$A:$L,11,FALSE))","v":""},{"$f":"IF(ISERROR(VLOOKUP($A773,check!$A:$L,12,FALSE))=TRUE,\"\",VLOOKUP($A773,check!$A:$L,12,FALSE))","v":""}]
[774,{"$f":"IF(C774=\"\",\"\",MATCH(A774,check!A:A,0))","v":""},{"$f":"IF(ISERROR(VLOOKUP($A774,check!$A:$L,2,FALSE))=TRUE,\"\",VLOOKUP($A774,check!$A:$L,2,FALSE))","v":""},{"$f":"IF(ISERROR(VLOOKUP($A774,check!$A:$L,3,FALSE))=TRUE,\"\",VLOOKUP($A774,check!$A:$L,3,FALSE))","v":""},{"$f":"IF(ISERROR(VLOOKUP($A774,check!$A:$L,4,FALSE))=TRUE,\"\",VLOOKUP($A774,check!$A:$L,4,FALSE))","v":""},{"$f":"IF(ISERROR(VLOOKUP($A774,check!$A:$L,5,FALSE))=TRUE,\"\",VLOOKUP($A774,check!$A:$L,5,FALSE))","v":""},{"$f":"IF(ISERROR(VLOOKUP($A774,check!$A:$L,6,FALSE))=TRUE,\"\",VLOOKUP($A774,check!$A:$L,6,FALSE))","v":""},{"$f":"IF(ISERROR(VLOOKUP($A774,check!$A:$L,7,FALSE))=TRUE,\"\",VLOOKUP($A774,check!$A:$L,7,FALSE))","v":""},{"$f":"IF(ISERROR(VLOOKUP($A774,check!$A:$L,8,FALSE))=TRUE,\"\",VLOOKUP($A774,check!$A:$L,8,FALSE))","v":""},{"$f":"IF(ISERROR(VLOOKUP($A774,check!$A:$L,9,FALSE))=TRUE,\"\",VLOOKUP($A774,check!$A:$L,9,FALSE))","v":""},{"$f":"IF(ISERROR(VLOOKUP($A774,check!$A:$L,10,FALSE))=TRUE,\"\",VLOOKUP($A774,check!$A:$L,10,FALSE))","v":""},{"$f":"IF(ISERROR(VLOOKUP($A774,check!$A:$L,11,FALSE))=TRUE,\"\",VLOOKUP($A774,check!$A:$L,11,FALSE))","v":""},{"$f":"IF(ISERROR(VLOOKUP($A774,check!$A:$L,12,FALSE))=TRUE,\"\",VLOOKUP($A774,check!$A:$L,12,FALSE))","v":""}]
[775,{"$f":"IF(C775=\"\",\"\",MATCH(A775,check!A:A,0))","v":""},{"$f":"IF(ISERROR(VLOOKUP($A775,check!$A:$L,2,FALSE))=TRUE,\"\",VLOOKUP($A775,check!$A:$L,2,FALSE))","v":""},{"$f":"IF(ISERROR(VLOOKUP($A775,check!$A:$L,3,FALSE))=TRUE,\"\",VLOOKUP($A775,check!$A:$L,3,FALSE))","v":""},{"$f":"IF(ISERROR(VLOOKUP($A775,check!$A:$L,4,FALSE))=TRUE,\"\",VLOOKUP($A775,check!$A:$L,4,FALSE))","v":""},{"$f":"IF(ISERROR(VLOOKUP($A775,check!$A:$L,5,FALSE))=TRUE,\"\",VLOOKUP($A775,check!$A:$L,5,FALSE))","v":""},{"$f":"IF(ISERROR(VLOOKUP($A775,check!$A:$L,6,FALSE))=TRUE,\"\",VLOOKUP($A775,check!$A:$L,6,FALSE))","v":""},{"$f":"IF(ISERROR(VLOOKUP($A775,check!$A:$L,7,FALSE))=TRUE,\"\",VLOOKUP($A775,check!$A:$L,7,FALSE))","v":""},{"$f":"IF(ISERROR(VLOOKUP($A775,check!$A:$L,8,FALSE))=TRUE,\"\",VLOOKUP($A775,check!$A:$L,8,FALSE))","v":""},{"$f":"IF(ISERROR(VLOOKUP($A775,check!$A:$L,9,FALSE))=TRUE,\"\",VLOOKUP($A775,check!$A:$L,9,FALSE))","v":""},{"$f":"IF(ISERROR(VLOOKUP($A775,check!$A:$L,10,FALSE))=TRUE,\"\",VLOOKUP($A775,check!$A:$L,10,FALSE))","v":""},{"$f":"IF(ISERROR(VLOOKUP($A775,check!$A:$L,11,FALSE))=TRUE,\"\",VLOOKUP($A775,check!$A:$L,11,FALSE))","v":""},{"$f":"IF(ISERROR(VLOOKUP($A775,check!$A:$L,12,FALSE))=TRUE,\"\",VLOOKUP($A775,check!$A:$L,12,FALSE))","v":""}]
[776,{"$f":"IF(C776=\"\",\"\",MATCH(A776,check!A:A,0))","v":""},{"$f":"IF(ISERROR(VLOOKUP($A776,check!$A:$L,2,FALSE))=TRUE,\"\",VLOOKUP($A776,check!$A:$L,2,FALSE))","v":""},{"$f":"IF(ISERROR(VLOOKUP($A776,check!$A:$L,3,FALSE))=TRUE,\"\",VLOOKUP($A776,check!$A:$L,3,FALSE))","v":""},{"$f":"IF(ISERROR(VLOOKUP($A776,check!$A:$L,4,FALSE))=TRUE,\"\",VLOOKUP($A776,check!$A:$L,4,FALSE))","v":""},{"$f":"IF(ISERROR(VLOOKUP($A776,check!$A:$L,5,FALSE))=TRUE,\"\",VLOOKUP($A776,check!$A:$L,5,FALSE))","v":""},{"$f":"IF(ISERROR(VLOOKUP($A776,check!$A:$L,6,FALSE))=TRUE,\"\",VLOOKUP($A776,check!$A:$L,6,FALSE))","v":""},{"$f":"IF(ISERROR(VLOOKUP($A776,check!$A:$L,7,FALSE))=TRUE,\"\",VLOOKUP($A776,check!$A:$L,7,FALSE))","v":""},{"$f":"IF(ISERROR(VLOOKUP($A776,check!$A:$L,8,FALSE))=TRUE,\"\",VLOOKUP($A776,check!$A:$L,8,FALSE))","v":""},{"$f":"IF(ISERROR(VLOOKUP($A776,check!$A:$L,9,FALSE))=TRUE,\"\",VLOOKUP($A776,check!$A:$L,9,FALSE))","v":""},{"$f":"IF(ISERROR(VLOOKUP($A776,check!$A:$L,10,FALSE))=TRUE,\"\",VLOOKUP($A776,check!$A:$L,10,FALSE))","v":""},{"$f":"IF(ISERROR(VLOOKUP($A776,check!$A:$L,11,FALSE))=TRUE,\"\",VLOOKUP($A776,check!$A:$L,11,FALSE))","v":""},{"$f":"IF(ISERROR(VLOOKUP($A776,check!$A:$L,12,FALSE))=TRUE,\"\",VLOOKUP($A776,check!$A:$L,12,FALSE))","v":""}]
[777,{"$f":"IF(C777=\"\",\"\",MATCH(A777,check!A:A,0))","v":""},{"$f":"IF(ISERROR(VLOOKUP($A777,check!$A:$L,2,FALSE))=TRUE,\"\",VLOOKUP($A777,check!$A:$L,2,FALSE))","v":""},{"$f":"IF(ISERROR(VLOOKUP($A777,check!$A:$L,3,FALSE))=TRUE,\"\",VLOOKUP($A777,check!$A:$L,3,FALSE))","v":""},{"$f":"IF(ISERROR(VLOOKUP($A777,check!$A:$L,4,FALSE))=TRUE,\"\",VLOOKUP($A777,check!$A:$L,4,FALSE))","v":""},{"$f":"IF(ISERROR(VLOOKUP($A777,check!$A:$L,5,FALSE))=TRUE,\"\",VLOOKUP($A777,check!$A:$L,5,FALSE))","v":""},{"$f":"IF(ISERROR(VLOOKUP($A777,check!$A:$L,6,FALSE))=TRUE,\"\",VLOOKUP($A777,check!$A:$L,6,FALSE))","v":""},{"$f":"IF(ISERROR(VLOOKUP($A777,check!$A:$L,7,FALSE))=TRUE,\"\",VLOOKUP($A777,check!$A:$L,7,FALSE))","v":""},{"$f":"IF(ISERROR(VLOOKUP($A777,check!$A:$L,8,FALSE))=TRUE,\"\",VLOOKUP($A777,check!$A:$L,8,FALSE))","v":""},{"$f":"IF(ISERROR(VLOOKUP($A777,check!$A:$L,9,FALSE))=TRUE,\"\",VLOOKUP($A777,check!$A:$L,9,FALSE))","v":""},{"$f":"IF(ISERROR(VLOOKUP($A777,check!$A:$L,10,FALSE))=TRUE,\"\",VLOOKUP($A777,check!$A:$L,10,FALSE))","v":""},{"$f":"IF(ISERROR(VLOOKUP($A777,check!$A:$L,11,FALSE))=TRUE,\"\",VLOOKUP($A777,check!$A:$L,11,FALSE))","v":""},{"$f":"IF(ISERROR(VLOOKUP($A777,check!$A:$L,12,FALSE))=TRUE,\"\",VLOOKUP($A777,check!$A:$L,12,FALSE))","v":""}]
[778,{"$f":"IF(C778=\"\",\"\",MATCH(A778,check!A:A,0))","v":""},{"$f":"IF(ISERROR(VLOOKUP($A778,check!$A:$L,2,FALSE))=TRUE,\"\",VLOOKUP($A778,check!$A:$L,2,FALSE))","v":""},{"$f":"IF(ISERROR(VLOOKUP($A778,check!$A:$L,3,FALSE))=TRUE,\"\",VLOOKUP($A778,check!$A:$L,3,FALSE))","v":""},{"$f":"IF(ISERROR(VLOOKUP($A778,check!$A:$L,4,FALSE))=TRUE,\"\",VLOOKUP($A778,check!$A:$L,4,FALSE))","v":""},{"$f":"IF(ISERROR(VLOOKUP($A778,check!$A:$L,5,FALSE))=TRUE,\"\",VLOOKUP($A778,check!$A:$L,5,FALSE))","v":""},{"$f":"IF(ISERROR(VLOOKUP($A778,check!$A:$L,6,FALSE))=TRUE,\"\",VLOOKUP($A778,check!$A:$L,6,FALSE))","v":""},{"$f":"IF(ISERROR(VLOOKUP($A778,check!$A:$L,7,FALSE))=TRUE,\"\",VLOOKUP($A778,check!$A:$L,7,FALSE))","v":""},{"$f":"IF(ISERROR(VLOOKUP($A778,check!$A:$L,8,FALSE))=TRUE,\"\",VLOOKUP($A778,check!$A:$L,8,FALSE))","v":""},{"$f":"IF(ISERROR(VLOOKUP($A778,check!$A:$L,9,FALSE))=TRUE,\"\",VLOOKUP($A778,check!$A:$L,9,FALSE))","v":""},{"$f":"IF(ISERROR(VLOOKUP($A778,check!$A:$L,10,FALSE))=TRUE,\"\",VLOOKUP($A778,check!$A:$L,10,FALSE))","v":""},{"$f":"IF(ISERROR(VLOOKUP($A778,check!$A:$L,11,FALSE))=TRUE,\"\",VLOOKUP($A778,check!$A:$L,11,FALSE))","v":""},{"$f":"IF(ISERROR(VLOOKUP($A778,check!$A:$L,12,FALSE))=TRUE,\"\",VLOOKUP($A778,check!$A:$L,12,FALSE))","v":""}]
[779,{"$f":"IF(C779=\"\",\"\",MATCH(A779,check!A:A,0))","v":""},{"$f":"IF(ISERROR(VLOOKUP($A779,check!$A:$L,2,FALSE))=TRUE,\"\",VLOOKUP($A779,check!$A:$L,2,FALSE))","v":""},{"$f":"IF(ISERROR(VLOOKUP($A779,check!$A:$L,3,FALSE))=TRUE,\"\",VLOOKUP($A779,check!$A:$L,3,FALSE))","v":""},{"$f":"IF(ISERROR(VLOOKUP($A779,check!$A:$L,4,FALSE))=TRUE,\"\",VLOOKUP($A779,check!$A:$L,4,FALSE))","v":""},{"$f":"IF(ISERROR(VLOOKUP($A779,check!$A:$L,5,FALSE))=TRUE,\"\",VLOOKUP($A779,check!$A:$L,5,FALSE))","v":""},{"$f":"IF(ISERROR(VLOOKUP($A779,check!$A:$L,6,FALSE))=TRUE,\"\",VLOOKUP($A779,check!$A:$L,6,FALSE))","v":""},{"$f":"IF(ISERROR(VLOOKUP($A779,check!$A:$L,7,FALSE))=TRUE,\"\",VLOOKUP($A779,check!$A:$L,7,FALSE))","v":""},{"$f":"IF(ISERROR(VLOOKUP($A779,check!$A:$L,8,FALSE))=TRUE,\"\",VLOOKUP($A779,check!$A:$L,8,FALSE))","v":""},{"$f":"IF(ISERROR(VLOOKUP($A779,check!$A:$L,9,FALSE))=TRUE,\"\",VLOOKUP($A779,check!$A:$L,9,FALSE))","v":""},{"$f":"IF(ISERROR(VLOOKUP($A779,check!$A:$L,10,FALSE))=TRUE,\"\",VLOOKUP($A779,check!$A:$L,10,FALSE))","v":""},{"$f":"IF(ISERROR(VLOOKUP($A779,check!$A:$L,11,FALSE))=TRUE,\"\",VLOOKUP($A779,check!$A:$L,11,FALSE))","v":""},{"$f":"IF(ISERROR(VLOOKUP($A779,check!$A:$L,12,FALSE))=TRUE,\"\",VLOOKUP($A779,check!$A:$L,12,FALSE))","v":""}]
[780,{"$f":"IF(C780=\"\",\"\",MATCH(A780,check!A:A,0))","v":""},{"$f":"IF(ISERROR(VLOOKUP($A780,check!$A:$L,2,FALSE))=TRUE,\"\",VLOOKUP($A780,check!$A:$L,2,FALSE))","v":""},{"$f":"IF(ISERROR(VLOOKUP($A780,check!$A:$L,3,FALSE))=TRUE,\"\",VLOOKUP($A780,check!$A:$L,3,FALSE))","v":""},{"$f":"IF(ISERROR(VLOOKUP($A780,check!$A:$L,4,FALSE))=TRUE,\"\",VLOOKUP($A780,check!$A:$L,4,FALSE))","v":""},{"$f":"IF(ISERROR(VLOOKUP($A780,check!$A:$L,5,FALSE))=TRUE,\"\",VLOOKUP($A780,check!$A:$L,5,FALSE))","v":""},{"$f":"IF(ISERROR(VLOOKUP($A780,check!$A:$L,6,FALSE))=TRUE,\"\",VLOOKUP($A780,check!$A:$L,6,FALSE))","v":""},{"$f":"IF(ISERROR(VLOOKUP($A780,check!$A:$L,7,FALSE))=TRUE,\"\",VLOOKUP($A780,check!$A:$L,7,FALSE))","v":""},{"$f":"IF(ISERROR(VLOOKUP($A780,check!$A:$L,8,FALSE))=TRUE,\"\",VLOOKUP($A780,check!$A:$L,8,FALSE))","v":""},{"$f":"IF(ISERROR(VLOOKUP($A780,check!$A:$L,9,FALSE))=TRUE,\"\",VLOOKUP($A780,check!$A:$L,9,FALSE))","v":""},{"$f":"IF(ISERROR(VLOOKUP($A780,check!$A:$L,10,FALSE))=TRUE,\"\",VLOOKUP($A780,check!$A:$L,10,FALSE))","v":""},{"$f":"IF(ISERROR(VLOOKUP($A780,check!$A:$L,11,FALSE))=TRUE,\"\",VLOOKUP($A780,check!$A:$L,11,FALSE))","v":""},{"$f":"IF(ISERROR(VLOOKUP($A780,check!$A:$L,12,FALSE))=TRUE,\"\",VLOOKUP($A780,check!$A:$L,12,FALSE))","v":""}]
[781,{"$f":"IF(C781=\"\",\"\",MATCH(A781,check!A:A,0))","v":""},{"$f":"IF(ISERROR(VLOOKUP($A781,check!$A:$L,2,FALSE))=TRUE,\"\",VLOOKUP($A781,check!$A:$L,2,FALSE))","v":""},{"$f":"IF(ISERROR(VLOOKUP($A781,check!$A:$L,3,FALSE))=TRUE,\"\",VLOOKUP($A781,check!$A:$L,3,FALSE))","v":""},{"$f":"IF(ISERROR(VLOOKUP($A781,check!$A:$L,4,FALSE))=TRUE,\"\",VLOOKUP($A781,check!$A:$L,4,FALSE))","v":""},{"$f":"IF(ISERROR(VLOOKUP($A781,check!$A:$L,5,FALSE))=TRUE,\"\",VLOOKUP($A781,check!$A:$L,5,FALSE))","v":""},{"$f":"IF(ISERROR(VLOOKUP($A781,check!$A:$L,6,FALSE))=TRUE,\"\",VLOOKUP($A781,check!$A:$L,6,FALSE))","v":""},{"$f":"IF(ISERROR(VLOOKUP($A781,check!$A:$L,7,FALSE))=TRUE,\"\",VLOOKUP($A781,check!$A:$L,7,FALSE))","v":""},{"$f":"IF(ISERROR(VLOOKUP($A781,check!$A:$L,8,FALSE))=TRUE,\"\",VLOOKUP($A781,check!$A:$L,8,FALSE))","v":""},{"$f":"IF(ISERROR(VLOOKUP($A781,check!$A:$L,9,FALSE))=TRUE,\"\",VLOOKUP($A781,check!$A:$L,9,FALSE))","v":""},{"$f":"IF(ISERROR(VLOOKUP($A781,check!$A:$L,10,FALSE))=TRUE,\"\",VLOOKUP($A781,check!$A:$L,10,FALSE))","v":""},{"$f":"IF(ISERROR(VLOOKUP($A781,check!$A:$L,11,FALSE))=TRUE,\"\",VLOOKUP($A781,check!$A:$L,11,FALSE))","v":""},{"$f":"IF(ISERROR(VLOOKUP($A781,check!$A:$L,12,FALSE))=TRUE,\"\",VLOOKUP($A781,check!$A:$L,12,FALSE))","v":""}]
[782,{"$f":"IF(C782=\"\",\"\",MATCH(A782,check!A:A,0))","v":""},{"$f":"IF(ISERROR(VLOOKUP($A782,check!$A:$L,2,FALSE))=TRUE,\"\",VLOOKUP($A782,check!$A:$L,2,FALSE))","v":""},{"$f":"IF(ISERROR(VLOOKUP($A782,check!$A:$L,3,FALSE))=TRUE,\"\",VLOOKUP($A782,check!$A:$L,3,FALSE))","v":""},{"$f":"IF(ISERROR(VLOOKUP($A782,check!$A:$L,4,FALSE))=TRUE,\"\",VLOOKUP($A782,check!$A:$L,4,FALSE))","v":""},{"$f":"IF(ISERROR(VLOOKUP($A782,check!$A:$L,5,FALSE))=TRUE,\"\",VLOOKUP($A782,check!$A:$L,5,FALSE))","v":""},{"$f":"IF(ISERROR(VLOOKUP($A782,check!$A:$L,6,FALSE))=TRUE,\"\",VLOOKUP($A782,check!$A:$L,6,FALSE))","v":""},{"$f":"IF(ISERROR(VLOOKUP($A782,check!$A:$L,7,FALSE))=TRUE,\"\",VLOOKUP($A782,check!$A:$L,7,FALSE))","v":""},{"$f":"IF(ISERROR(VLOOKUP($A782,check!$A:$L,8,FALSE))=TRUE,\"\",VLOOKUP($A782,check!$A:$L,8,FALSE))","v":""},{"$f":"IF(ISERROR(VLOOKUP($A782,check!$A:$L,9,FALSE))=TRUE,\"\",VLOOKUP($A782,check!$A:$L,9,FALSE))","v":""},{"$f":"IF(ISERROR(VLOOKUP($A782,check!$A:$L,10,FALSE))=TRUE,\"\",VLOOKUP($A782,check!$A:$L,10,FALSE))","v":""},{"$f":"IF(ISERROR(VLOOKUP($A782,check!$A:$L,11,FALSE))=TRUE,\"\",VLOOKUP($A782,check!$A:$L,11,FALSE))","v":""},{"$f":"IF(ISERROR(VLOOKUP($A782,check!$A:$L,12,FALSE))=TRUE,\"\",VLOOKUP($A782,check!$A:$L,12,FALSE))","v":""}]
[783,{"$f":"IF(C783=\"\",\"\",MATCH(A783,check!A:A,0))","v":""},{"$f":"IF(ISERROR(VLOOKUP($A783,check!$A:$L,2,FALSE))=TRUE,\"\",VLOOKUP($A783,check!$A:$L,2,FALSE))","v":""},{"$f":"IF(ISERROR(VLOOKUP($A783,check!$A:$L,3,FALSE))=TRUE,\"\",VLOOKUP($A783,check!$A:$L,3,FALSE))","v":""},{"$f":"IF(ISERROR(VLOOKUP($A783,check!$A:$L,4,FALSE))=TRUE,\"\",VLOOKUP($A783,check!$A:$L,4,FALSE))","v":""},{"$f":"IF(ISERROR(VLOOKUP($A783,check!$A:$L,5,FALSE))=TRUE,\"\",VLOOKUP($A783,check!$A:$L,5,FALSE))","v":""},{"$f":"IF(ISERROR(VLOOKUP($A783,check!$A:$L,6,FALSE))=TRUE,\"\",VLOOKUP($A783,check!$A:$L,6,FALSE))","v":""},{"$f":"IF(ISERROR(VLOOKUP($A783,check!$A:$L,7,FALSE))=TRUE,\"\",VLOOKUP($A783,check!$A:$L,7,FALSE))","v":""},{"$f":"IF(ISERROR(VLOOKUP($A783,check!$A:$L,8,FALSE))=TRUE,\"\",VLOOKUP($A783,check!$A:$L,8,FALSE))","v":""},{"$f":"IF(ISERROR(VLOOKUP($A783,check!$A:$L,9,FALSE))=TRUE,\"\",VLOOKUP($A783,check!$A:$L,9,FALSE))","v":""},{"$f":"IF(ISERROR(VLOOKUP($A783,check!$A:$L,10,FALSE))=TRUE,\"\",VLOOKUP($A783,check!$A:$L,10,FALSE))","v":""},{"$f":"IF(ISERROR(VLOOKUP($A783,check!$A:$L,11,FALSE))=TRUE,\"\",VLOOKUP($A783,check!$A:$L,11,FALSE))","v":""},{"$f":"IF(ISERROR(VLOOKUP($A783,check!$A:$L,12,FALSE))=TRUE,\"\",VLOOKUP($A783,check!$A:$L,12,FALSE))","v":""}]
[784,{"$f":"IF(C784=\"\",\"\",MATCH(A784,check!A:A,0))","v":""},{"$f":"IF(ISERROR(VLOOKUP($A784,check!$A:$L,2,FALSE))=TRUE,\"\",VLOOKUP($A784,check!$A:$L,2,FALSE))","v":""},{"$f":"IF(ISERROR(VLOOKUP($A784,check!$A:$L,3,FALSE))=TRUE,\"\",VLOOKUP($A784,check!$A:$L,3,FALSE))","v":""},{"$f":"IF(ISERROR(VLOOKUP($A784,check!$A:$L,4,FALSE))=TRUE,\"\",VLOOKUP($A784,check!$A:$L,4,FALSE))","v":""},{"$f":"IF(ISERROR(VLOOKUP($A784,check!$A:$L,5,FALSE))=TRUE,\"\",VLOOKUP($A784,check!$A:$L,5,FALSE))","v":""},{"$f":"IF(ISERROR(VLOOKUP($A784,check!$A:$L,6,FALSE))=TRUE,\"\",VLOOKUP($A784,check!$A:$L,6,FALSE))","v":""},{"$f":"IF(ISERROR(VLOOKUP($A784,check!$A:$L,7,FALSE))=TRUE,\"\",VLOOKUP($A784,check!$A:$L,7,FALSE))","v":""},{"$f":"IF(ISERROR(VLOOKUP($A784,check!$A:$L,8,FALSE))=TRUE,\"\",VLOOKUP($A784,check!$A:$L,8,FALSE))","v":""},{"$f":"IF(ISERROR(VLOOKUP($A784,check!$A:$L,9,FALSE))=TRUE,\"\",VLOOKUP($A784,check!$A:$L,9,FALSE))","v":""},{"$f":"IF(ISERROR(VLOOKUP($A784,check!$A:$L,10,FALSE))=TRUE,\"\",VLOOKUP($A784,check!$A:$L,10,FALSE))","v":""},{"$f":"IF(ISERROR(VLOOKUP($A784,check!$A:$L,11,FALSE))=TRUE,\"\",VLOOKUP($A784,check!$A:$L,11,FALSE))","v":""},{"$f":"IF(ISERROR(VLOOKUP($A784,check!$A:$L,12,FALSE))=TRUE,\"\",VLOOKUP($A784,check!$A:$L,12,FALSE))","v":""}]
[785,{"$f":"IF(C785=\"\",\"\",MATCH(A785,check!A:A,0))","v":""},{"$f":"IF(ISERROR(VLOOKUP($A785,check!$A:$L,2,FALSE))=TRUE,\"\",VLOOKUP($A785,check!$A:$L,2,FALSE))","v":""},{"$f":"IF(ISERROR(VLOOKUP($A785,check!$A:$L,3,FALSE))=TRUE,\"\",VLOOKUP($A785,check!$A:$L,3,FALSE))","v":""},{"$f":"IF(ISERROR(VLOOKUP($A785,check!$A:$L,4,FALSE))=TRUE,\"\",VLOOKUP($A785,check!$A:$L,4,FALSE))","v":""},{"$f":"IF(ISERROR(VLOOKUP($A785,check!$A:$L,5,FALSE))=TRUE,\"\",VLOOKUP($A785,check!$A:$L,5,FALSE))","v":""},{"$f":"IF(ISERROR(VLOOKUP($A785,check!$A:$L,6,FALSE))=TRUE,\"\",VLOOKUP($A785,check!$A:$L,6,FALSE))","v":""},{"$f":"IF(ISERROR(VLOOKUP($A785,check!$A:$L,7,FALSE))=TRUE,\"\",VLOOKUP($A785,check!$A:$L,7,FALSE))","v":""},{"$f":"IF(ISERROR(VLOOKUP($A785,check!$A:$L,8,FALSE))=TRUE,\"\",VLOOKUP($A785,check!$A:$L,8,FALSE))","v":""},{"$f":"IF(ISERROR(VLOOKUP($A785,check!$A:$L,9,FALSE))=TRUE,\"\",VLOOKUP($A785,check!$A:$L,9,FALSE))","v":""},{"$f":"IF(ISERROR(VLOOKUP($A785,check!$A:$L,10,FALSE))=TRUE,\"\",VLOOKUP($A785,check!$A:$L,10,FALSE))","v":""},{"$f":"IF(ISERROR(VLOOKUP($A785,check!$A:$L,11,FALSE))=TRUE,\"\",VLOOKUP($A785,check!$A:$L,11,FALSE))","v":""},{"$f":"IF(ISERROR(VLOOKUP($A785,check!$A:$L,12,FALSE))=TRUE,\"\",VLOOKUP($A785,check!$A:$L,12,FALSE))","v":""}]
[786,{"$f":"IF(C786=\"\",\"\",MATCH(A786,check!A:A,0))","v":""},{"$f":"IF(ISERROR(VLOOKUP($A786,check!$A:$L,2,FALSE))=TRUE,\"\",VLOOKUP($A786,check!$A:$L,2,FALSE))","v":""},{"$f":"IF(ISERROR(VLOOKUP($A786,check!$A:$L,3,FALSE))=TRUE,\"\",VLOOKUP($A786,check!$A:$L,3,FALSE))","v":""},{"$f":"IF(ISERROR(VLOOKUP($A786,check!$A:$L,4,FALSE))=TRUE,\"\",VLOOKUP($A786,check!$A:$L,4,FALSE))","v":""},{"$f":"IF(ISERROR(VLOOKUP($A786,check!$A:$L,5,FALSE))=TRUE,\"\",VLOOKUP($A786,check!$A:$L,5,FALSE))","v":""},{"$f":"IF(ISERROR(VLOOKUP($A786,check!$A:$L,6,FALSE))=TRUE,\"\",VLOOKUP($A786,check!$A:$L,6,FALSE))","v":""},{"$f":"IF(ISERROR(VLOOKUP($A786,check!$A:$L,7,FALSE))=TRUE,\"\",VLOOKUP($A786,check!$A:$L,7,FALSE))","v":""},{"$f":"IF(ISERROR(VLOOKUP($A786,check!$A:$L,8,FALSE))=TRUE,\"\",VLOOKUP($A786,check!$A:$L,8,FALSE))","v":""},{"$f":"IF(ISERROR(VLOOKUP($A786,check!$A:$L,9,FALSE))=TRUE,\"\",VLOOKUP($A786,check!$A:$L,9,FALSE))","v":""},{"$f":"IF(ISERROR(VLOOKUP($A786,check!$A:$L,10,FALSE))=TRUE,\"\",VLOOKUP($A786,check!$A:$L,10,FALSE))","v":""},{"$f":"IF(ISERROR(VLOOKUP($A786,check!$A:$L,11,FALSE))=TRUE,\"\",VLOOKUP($A786,check!$A:$L,11,FALSE))","v":""},{"$f":"IF(ISERROR(VLOOKUP($A786,check!$A:$L,12,FALSE))=TRUE,\"\",VLOOKUP($A786,check!$A:$L,12,FALSE))","v":""}]
[787,{"$f":"IF(C787=\"\",\"\",MATCH(A787,check!A:A,0))","v":""},{"$f":"IF(ISERROR(VLOOKUP($A787,check!$A:$L,2,FALSE))=TRUE,\"\",VLOOKUP($A787,check!$A:$L,2,FALSE))","v":""},{"$f":"IF(ISERROR(VLOOKUP($A787,check!$A:$L,3,FALSE))=TRUE,\"\",VLOOKUP($A787,check!$A:$L,3,FALSE))","v":""},{"$f":"IF(ISERROR(VLOOKUP($A787,check!$A:$L,4,FALSE))=TRUE,\"\",VLOOKUP($A787,check!$A:$L,4,FALSE))","v":""},{"$f":"IF(ISERROR(VLOOKUP($A787,check!$A:$L,5,FALSE))=TRUE,\"\",VLOOKUP($A787,check!$A:$L,5,FALSE))","v":""},{"$f":"IF(ISERROR(VLOOKUP($A787,check!$A:$L,6,FALSE))=TRUE,\"\",VLOOKUP($A787,check!$A:$L,6,FALSE))","v":""},{"$f":"IF(ISERROR(VLOOKUP($A787,check!$A:$L,7,FALSE))=TRUE,\"\",VLOOKUP($A787,check!$A:$L,7,FALSE))","v":""},{"$f":"IF(ISERROR(VLOOKUP($A787,check!$A:$L,8,FALSE))=TRUE,\"\",VLOOKUP($A787,check!$A:$L,8,FALSE))","v":""},{"$f":"IF(ISERROR(VLOOKUP($A787,check!$A:$L,9,FALSE))=TRUE,\"\",VLOOKUP($A787,check!$A:$L,9,FALSE))","v":""},{"$f":"IF(ISERROR(VLOOKUP($A787,check!$A:$L,10,FALSE))=TRUE,\"\",VLOOKUP($A787,check!$A:$L,10,FALSE))","v":""},{"$f":"IF(ISERROR(VLOOKUP($A787,check!$A:$L,11,FALSE))=TRUE,\"\",VLOOKUP($A787,check!$A:$L,11,FALSE))","v":""},{"$f":"IF(ISERROR(VLOOKUP($A787,check!$A:$L,12,FALSE))=TRUE,\"\",VLOOKUP($A787,check!$A:$L,12,FALSE))","v":""}]
[788,{"$f":"IF(C788=\"\",\"\",MATCH(A788,check!A:A,0))","v":""},{"$f":"IF(ISERROR(VLOOKUP($A788,check!$A:$L,2,FALSE))=TRUE,\"\",VLOOKUP($A788,check!$A:$L,2,FALSE))","v":""},{"$f":"IF(ISERROR(VLOOKUP($A788,check!$A:$L,3,FALSE))=TRUE,\"\",VLOOKUP($A788,check!$A:$L,3,FALSE))","v":""},{"$f":"IF(ISERROR(VLOOKUP($A788,check!$A:$L,4,FALSE))=TRUE,\"\",VLOOKUP($A788,check!$A:$L,4,FALSE))","v":""},{"$f":"IF(ISERROR(VLOOKUP($A788,check!$A:$L,5,FALSE))=TRUE,\"\",VLOOKUP($A788,check!$A:$L,5,FALSE))","v":""},{"$f":"IF(ISERROR(VLOOKUP($A788,check!$A:$L,6,FALSE))=TRUE,\"\",VLOOKUP($A788,check!$A:$L,6,FALSE))","v":""},{"$f":"IF(ISERROR(VLOOKUP($A788,check!$A:$L,7,FALSE))=TRUE,\"\",VLOOKUP($A788,check!$A:$L,7,FALSE))","v":""},{"$f":"IF(ISERROR(VLOOKUP($A788,check!$A:$L,8,FALSE))=TRUE,\"\",VLOOKUP($A788,check!$A:$L,8,FALSE))","v":""},{"$f":"IF(ISERROR(VLOOKUP($A788,check!$A:$L,9,FALSE))=TRUE,\"\",VLOOKUP($A788,check!$A:$L,9,FALSE))","v":""},{"$f":"IF(ISERROR(VLOOKUP($A788,check!$A:$L,10,FALSE))=TRUE,\"\",VLOOKUP($A788,check!$A:$L,10,FALSE))","v":""},{"$f":"IF(ISERROR(VLOOKUP($A788,check!$A:$L,11,FALSE))=TRUE,\"\",VLOOKUP($A788,check!$A:$L,11,FALSE))","v":""},{"$f":"IF(ISERROR(VLOOKUP($A788,check!$A:$L,12,FALSE))=TRUE,\"\",VLOOKUP($A788,check!$A:$L,12,FALSE))","v":""}]
[789,{"$f":"IF(C789=\"\",\"\",MATCH(A789,check!A:A,0))","v":""},{"$f":"IF(ISERROR(VLOOKUP($A789,check!$A:$L,2,FALSE))=TRUE,\"\",VLOOKUP($A789,check!$A:$L,2,FALSE))","v":""},{"$f":"IF(ISERROR(VLOOKUP($A789,check!$A:$L,3,FALSE))=TRUE,\"\",VLOOKUP($A789,check!$A:$L,3,FALSE))","v":""},{"$f":"IF(ISERROR(VLOOKUP($A789,check!$A:$L,4,FALSE))=TRUE,\"\",VLOOKUP($A789,check!$A:$L,4,FALSE))","v":""},{"$f":"IF(ISERROR(VLOOKUP($A789,check!$A:$L,5,FALSE))=TRUE,\"\",VLOOKUP($A789,check!$A:$L,5,FALSE))","v":""},{"$f":"IF(ISERROR(VLOOKUP($A789,check!$A:$L,6,FALSE))=TRUE,\"\",VLOOKUP($A789,check!$A:$L,6,FALSE))","v":""},{"$f":"IF(ISERROR(VLOOKUP($A789,check!$A:$L,7,FALSE))=TRUE,\"\",VLOOKUP($A789,check!$A:$L,7,FALSE))","v":""},{"$f":"IF(ISERROR(VLOOKUP($A789,check!$A:$L,8,FALSE))=TRUE,\"\",VLOOKUP($A789,check!$A:$L,8,FALSE))","v":""},{"$f":"IF(ISERROR(VLOOKUP($A789,check!$A:$L,9,FALSE))=TRUE,\"\",VLOOKUP($A789,check!$A:$L,9,FALSE))","v":""},{"$f":"IF(ISERROR(VLOOKUP($A789,check!$A:$L,10,FALSE))=TRUE,\"\",VLOOKUP($A789,check!$A:$L,10,FALSE))","v":""},{"$f":"IF(ISERROR(VLOOKUP($A789,check!$A:$L,11,FALSE))=TRUE,\"\",VLOOKUP($A789,check!$A:$L,11,FALSE))","v":""},{"$f":"IF(ISERROR(VLOOKUP($A789,check!$A:$L,12,FALSE))=TRUE,\"\",VLOOKUP($A789,check!$A:$L,12,FALSE))","v":""}]
[790,{"$f":"IF(C790=\"\",\"\",MATCH(A790,check!A:A,0))","v":""},{"$f":"IF(ISERROR(VLOOKUP($A790,check!$A:$L,2,FALSE))=TRUE,\"\",VLOOKUP($A790,check!$A:$L,2,FALSE))","v":""},{"$f":"IF(ISERROR(VLOOKUP($A790,check!$A:$L,3,FALSE))=TRUE,\"\",VLOOKUP($A790,check!$A:$L,3,FALSE))","v":""},{"$f":"IF(ISERROR(VLOOKUP($A790,check!$A:$L,4,FALSE))=TRUE,\"\",VLOOKUP($A790,check!$A:$L,4,FALSE))","v":""},{"$f":"IF(ISERROR(VLOOKUP($A790,check!$A:$L,5,FALSE))=TRUE,\"\",VLOOKUP($A790,check!$A:$L,5,FALSE))","v":""},{"$f":"IF(ISERROR(VLOOKUP($A790,check!$A:$L,6,FALSE))=TRUE,\"\",VLOOKUP($A790,check!$A:$L,6,FALSE))","v":""},{"$f":"IF(ISERROR(VLOOKUP($A790,check!$A:$L,7,FALSE))=TRUE,\"\",VLOOKUP($A790,check!$A:$L,7,FALSE))","v":""},{"$f":"IF(ISERROR(VLOOKUP($A790,check!$A:$L,8,FALSE))=TRUE,\"\",VLOOKUP($A790,check!$A:$L,8,FALSE))","v":""},{"$f":"IF(ISERROR(VLOOKUP($A790,check!$A:$L,9,FALSE))=TRUE,\"\",VLOOKUP($A790,check!$A:$L,9,FALSE))","v":""},{"$f":"IF(ISERROR(VLOOKUP($A790,check!$A:$L,10,FALSE))=TRUE,\"\",VLOOKUP($A790,check!$A:$L,10,FALSE))","v":""},{"$f":"IF(ISERROR(VLOOKUP($A790,check!$A:$L,11,FALSE))=TRUE,\"\",VLOOKUP($A790,check!$A:$L,11,FALSE))","v":""},{"$f":"IF(ISERROR(VLOOKUP($A790,check!$A:$L,12,FALSE))=TRUE,\"\",VLOOKUP($A790,check!$A:$L,12,FALSE))","v":""}]
[791,{"$f":"IF(C791=\"\",\"\",MATCH(A791,check!A:A,0))","v":""},{"$f":"IF(ISERROR(VLOOKUP($A791,check!$A:$L,2,FALSE))=TRUE,\"\",VLOOKUP($A791,check!$A:$L,2,FALSE))","v":""},{"$f":"IF(ISERROR(VLOOKUP($A791,check!$A:$L,3,FALSE))=TRUE,\"\",VLOOKUP($A791,check!$A:$L,3,FALSE))","v":""},{"$f":"IF(ISERROR(VLOOKUP($A791,check!$A:$L,4,FALSE))=TRUE,\"\",VLOOKUP($A791,check!$A:$L,4,FALSE))","v":""},{"$f":"IF(ISERROR(VLOOKUP($A791,check!$A:$L,5,FALSE))=TRUE,\"\",VLOOKUP($A791,check!$A:$L,5,FALSE))","v":""},{"$f":"IF(ISERROR(VLOOKUP($A791,check!$A:$L,6,FALSE))=TRUE,\"\",VLOOKUP($A791,check!$A:$L,6,FALSE))","v":""},{"$f":"IF(ISERROR(VLOOKUP($A791,check!$A:$L,7,FALSE))=TRUE,\"\",VLOOKUP($A791,check!$A:$L,7,FALSE))","v":""},{"$f":"IF(ISERROR(VLOOKUP($A791,check!$A:$L,8,FALSE))=TRUE,\"\",VLOOKUP($A791,check!$A:$L,8,FALSE))","v":""},{"$f":"IF(ISERROR(VLOOKUP($A791,check!$A:$L,9,FALSE))=TRUE,\"\",VLOOKUP($A791,check!$A:$L,9,FALSE))","v":""},{"$f":"IF(ISERROR(VLOOKUP($A791,check!$A:$L,10,FALSE))=TRUE,\"\",VLOOKUP($A791,check!$A:$L,10,FALSE))","v":""},{"$f":"IF(ISERROR(VLOOKUP($A791,check!$A:$L,11,FALSE))=TRUE,\"\",VLOOKUP($A791,check!$A:$L,11,FALSE))","v":""},{"$f":"IF(ISERROR(VLOOKUP($A791,check!$A:$L,12,FALSE))=TRUE,\"\",VLOOKUP($A791,check!$A:$L,12,FALSE))","v":""}]
[792,{"$f":"IF(C792=\"\",\"\",MATCH(A792,check!A:A,0))","v":""},{"$f":"IF(ISERROR(VLOOKUP($A792,check!$A:$L,2,FALSE))=TRUE,\"\",VLOOKUP($A792,check!$A:$L,2,FALSE))","v":""},{"$f":"IF(ISERROR(VLOOKUP($A792,check!$A:$L,3,FALSE))=TRUE,\"\",VLOOKUP($A792,check!$A:$L,3,FALSE))","v":""},{"$f":"IF(ISERROR(VLOOKUP($A792,check!$A:$L,4,FALSE))=TRUE,\"\",VLOOKUP($A792,check!$A:$L,4,FALSE))","v":""},{"$f":"IF(ISERROR(VLOOKUP($A792,check!$A:$L,5,FALSE))=TRUE,\"\",VLOOKUP($A792,check!$A:$L,5,FALSE))","v":""},{"$f":"IF(ISERROR(VLOOKUP($A792,check!$A:$L,6,FALSE))=TRUE,\"\",VLOOKUP($A792,check!$A:$L,6,FALSE))","v":""},{"$f":"IF(ISERROR(VLOOKUP($A792,check!$A:$L,7,FALSE))=TRUE,\"\",VLOOKUP($A792,check!$A:$L,7,FALSE))","v":""},{"$f":"IF(ISERROR(VLOOKUP($A792,check!$A:$L,8,FALSE))=TRUE,\"\",VLOOKUP($A792,check!$A:$L,8,FALSE))","v":""},{"$f":"IF(ISERROR(VLOOKUP($A792,check!$A:$L,9,FALSE))=TRUE,\"\",VLOOKUP($A792,check!$A:$L,9,FALSE))","v":""},{"$f":"IF(ISERROR(VLOOKUP($A792,check!$A:$L,10,FALSE))=TRUE,\"\",VLOOKUP($A792,check!$A:$L,10,FALSE))","v":""},{"$f":"IF(ISERROR(VLOOKUP($A792,check!$A:$L,11,FALSE))=TRUE,\"\",VLOOKUP($A792,check!$A:$L,11,FALSE))","v":""},{"$f":"IF(ISERROR(VLOOKUP($A792,check!$A:$L,12,FALSE))=TRUE,\"\",VLOOKUP($A792,check!$A:$L,12,FALSE))","v":""}]
[793,{"$f":"IF(C793=\"\",\"\",MATCH(A793,check!A:A,0))","v":""},{"$f":"IF(ISERROR(VLOOKUP($A793,check!$A:$L,2,FALSE))=TRUE,\"\",VLOOKUP($A793,check!$A:$L,2,FALSE))","v":""},{"$f":"IF(ISERROR(VLOOKUP($A793,check!$A:$L,3,FALSE))=TRUE,\"\",VLOOKUP($A793,check!$A:$L,3,FALSE))","v":""},{"$f":"IF(ISERROR(VLOOKUP($A793,check!$A:$L,4,FALSE))=TRUE,\"\",VLOOKUP($A793,check!$A:$L,4,FALSE))","v":""},{"$f":"IF(ISERROR(VLOOKUP($A793,check!$A:$L,5,FALSE))=TRUE,\"\",VLOOKUP($A793,check!$A:$L,5,FALSE))","v":""},{"$f":"IF(ISERROR(VLOOKUP($A793,check!$A:$L,6,FALSE))=TRUE,\"\",VLOOKUP($A793,check!$A:$L,6,FALSE))","v":""},{"$f":"IF(ISERROR(VLOOKUP($A793,check!$A:$L,7,FALSE))=TRUE,\"\",VLOOKUP($A793,check!$A:$L,7,FALSE))","v":""},{"$f":"IF(ISERROR(VLOOKUP($A793,check!$A:$L,8,FALSE))=TRUE,\"\",VLOOKUP($A793,check!$A:$L,8,FALSE))","v":""},{"$f":"IF(ISERROR(VLOOKUP($A793,check!$A:$L,9,FALSE))=TRUE,\"\",VLOOKUP($A793,check!$A:$L,9,FALSE))","v":""},{"$f":"IF(ISERROR(VLOOKUP($A793,check!$A:$L,10,FALSE))=TRUE,\"\",VLOOKUP($A793,check!$A:$L,10,FALSE))","v":""},{"$f":"IF(ISERROR(VLOOKUP($A793,check!$A:$L,11,FALSE))=TRUE,\"\",VLOOKUP($A793,check!$A:$L,11,FALSE))","v":""},{"$f":"IF(ISERROR(VLOOKUP($A793,check!$A:$L,12,FALSE))=TRUE,\"\",VLOOKUP($A793,check!$A:$L,12,FALSE))","v":""}]
[794,{"$f":"IF(C794=\"\",\"\",MATCH(A794,check!A:A,0))","v":""},{"$f":"IF(ISERROR(VLOOKUP($A794,check!$A:$L,2,FALSE))=TRUE,\"\",VLOOKUP($A794,check!$A:$L,2,FALSE))","v":""},{"$f":"IF(ISERROR(VLOOKUP($A794,check!$A:$L,3,FALSE))=TRUE,\"\",VLOOKUP($A794,check!$A:$L,3,FALSE))","v":""},{"$f":"IF(ISERROR(VLOOKUP($A794,check!$A:$L,4,FALSE))=TRUE,\"\",VLOOKUP($A794,check!$A:$L,4,FALSE))","v":""},{"$f":"IF(ISERROR(VLOOKUP($A794,check!$A:$L,5,FALSE))=TRUE,\"\",VLOOKUP($A794,check!$A:$L,5,FALSE))","v":""},{"$f":"IF(ISERROR(VLOOKUP($A794,check!$A:$L,6,FALSE))=TRUE,\"\",VLOOKUP($A794,check!$A:$L,6,FALSE))","v":""},{"$f":"IF(ISERROR(VLOOKUP($A794,check!$A:$L,7,FALSE))=TRUE,\"\",VLOOKUP($A794,check!$A:$L,7,FALSE))","v":""},{"$f":"IF(ISERROR(VLOOKUP($A794,check!$A:$L,8,FALSE))=TRUE,\"\",VLOOKUP($A794,check!$A:$L,8,FALSE))","v":""},{"$f":"IF(ISERROR(VLOOKUP($A794,check!$A:$L,9,FALSE))=TRUE,\"\",VLOOKUP($A794,check!$A:$L,9,FALSE))","v":""},{"$f":"IF(ISERROR(VLOOKUP($A794,check!$A:$L,10,FALSE))=TRUE,\"\",VLOOKUP($A794,check!$A:$L,10,FALSE))","v":""},{"$f":"IF(ISERROR(VLOOKUP($A794,check!$A:$L,11,FALSE))=TRUE,\"\",VLOOKUP($A794,check!$A:$L,11,FALSE))","v":""},{"$f":"IF(ISERROR(VLOOKUP($A794,check!$A:$L,12,FALSE))=TRUE,\"\",VLOOKUP($A794,check!$A:$L,12,FALSE))","v":""}]
[795,{"$f":"IF(C795=\"\",\"\",MATCH(A795,check!A:A,0))","v":""},{"$f":"IF(ISERROR(VLOOKUP($A795,check!$A:$L,2,FALSE))=TRUE,\"\",VLOOKUP($A795,check!$A:$L,2,FALSE))","v":""},{"$f":"IF(ISERROR(VLOOKUP($A795,check!$A:$L,3,FALSE))=TRUE,\"\",VLOOKUP($A795,check!$A:$L,3,FALSE))","v":""},{"$f":"IF(ISERROR(VLOOKUP($A795,check!$A:$L,4,FALSE))=TRUE,\"\",VLOOKUP($A795,check!$A:$L,4,FALSE))","v":""},{"$f":"IF(ISERROR(VLOOKUP($A795,check!$A:$L,5,FALSE))=TRUE,\"\",VLOOKUP($A795,check!$A:$L,5,FALSE))","v":""},{"$f":"IF(ISERROR(VLOOKUP($A795,check!$A:$L,6,FALSE))=TRUE,\"\",VLOOKUP($A795,check!$A:$L,6,FALSE))","v":""},{"$f":"IF(ISERROR(VLOOKUP($A795,check!$A:$L,7,FALSE))=TRUE,\"\",VLOOKUP($A795,check!$A:$L,7,FALSE))","v":""},{"$f":"IF(ISERROR(VLOOKUP($A795,check!$A:$L,8,FALSE))=TRUE,\"\",VLOOKUP($A795,check!$A:$L,8,FALSE))","v":""},{"$f":"IF(ISERROR(VLOOKUP($A795,check!$A:$L,9,FALSE))=TRUE,\"\",VLOOKUP($A795,check!$A:$L,9,FALSE))","v":""},{"$f":"IF(ISERROR(VLOOKUP($A795,check!$A:$L,10,FALSE))=TRUE,\"\",VLOOKUP($A795,check!$A:$L,10,FALSE))","v":""},{"$f":"IF(ISERROR(VLOOKUP($A795,check!$A:$L,11,FALSE))=TRUE,\"\",VLOOKUP($A795,check!$A:$L,11,FALSE))","v":""},{"$f":"IF(ISERROR(VLOOKUP($A795,check!$A:$L,12,FALSE))=TRUE,\"\",VLOOKUP($A795,check!$A:$L,12,FALSE))","v":""}]
[796,{"$f":"IF(C796=\"\",\"\",MATCH(A796,check!A:A,0))","v":""},{"$f":"IF(ISERROR(VLOOKUP($A796,check!$A:$L,2,FALSE))=TRUE,\"\",VLOOKUP($A796,check!$A:$L,2,FALSE))","v":""},{"$f":"IF(ISERROR(VLOOKUP($A796,check!$A:$L,3,FALSE))=TRUE,\"\",VLOOKUP($A796,check!$A:$L,3,FALSE))","v":""},{"$f":"IF(ISERROR(VLOOKUP($A796,check!$A:$L,4,FALSE))=TRUE,\"\",VLOOKUP($A796,check!$A:$L,4,FALSE))","v":""},{"$f":"IF(ISERROR(VLOOKUP($A796,check!$A:$L,5,FALSE))=TRUE,\"\",VLOOKUP($A796,check!$A:$L,5,FALSE))","v":""},{"$f":"IF(ISERROR(VLOOKUP($A796,check!$A:$L,6,FALSE))=TRUE,\"\",VLOOKUP($A796,check!$A:$L,6,FALSE))","v":""},{"$f":"IF(ISERROR(VLOOKUP($A796,check!$A:$L,7,FALSE))=TRUE,\"\",VLOOKUP($A796,check!$A:$L,7,FALSE))","v":""},{"$f":"IF(ISERROR(VLOOKUP($A796,check!$A:$L,8,FALSE))=TRUE,\"\",VLOOKUP($A796,check!$A:$L,8,FALSE))","v":""},{"$f":"IF(ISERROR(VLOOKUP($A796,check!$A:$L,9,FALSE))=TRUE,\"\",VLOOKUP($A796,check!$A:$L,9,FALSE))","v":""},{"$f":"IF(ISERROR(VLOOKUP($A796,check!$A:$L,10,FALSE))=TRUE,\"\",VLOOKUP($A796,check!$A:$L,10,FALSE))","v":""},{"$f":"IF(ISERROR(VLOOKUP($A796,check!$A:$L,11,FALSE))=TRUE,\"\",VLOOKUP($A796,check!$A:$L,11,FALSE))","v":""},{"$f":"IF(ISERROR(VLOOKUP($A796,check!$A:$L,12,FALSE))=TRUE,\"\",VLOOKUP($A796,check!$A:$L,12,FALSE))","v":""}]
[797,{"$f":"IF(C797=\"\",\"\",MATCH(A797,check!A:A,0))","v":""},{"$f":"IF(ISERROR(VLOOKUP($A797,check!$A:$L,2,FALSE))=TRUE,\"\",VLOOKUP($A797,check!$A:$L,2,FALSE))","v":""},{"$f":"IF(ISERROR(VLOOKUP($A797,check!$A:$L,3,FALSE))=TRUE,\"\",VLOOKUP($A797,check!$A:$L,3,FALSE))","v":""},{"$f":"IF(ISERROR(VLOOKUP($A797,check!$A:$L,4,FALSE))=TRUE,\"\",VLOOKUP($A797,check!$A:$L,4,FALSE))","v":""},{"$f":"IF(ISERROR(VLOOKUP($A797,check!$A:$L,5,FALSE))=TRUE,\"\",VLOOKUP($A797,check!$A:$L,5,FALSE))","v":""},{"$f":"IF(ISERROR(VLOOKUP($A797,check!$A:$L,6,FALSE))=TRUE,\"\",VLOOKUP($A797,check!$A:$L,6,FALSE))","v":""},{"$f":"IF(ISERROR(VLOOKUP($A797,check!$A:$L,7,FALSE))=TRUE,\"\",VLOOKUP($A797,check!$A:$L,7,FALSE))","v":""},{"$f":"IF(ISERROR(VLOOKUP($A797,check!$A:$L,8,FALSE))=TRUE,\"\",VLOOKUP($A797,check!$A:$L,8,FALSE))","v":""},{"$f":"IF(ISERROR(VLOOKUP($A797,check!$A:$L,9,FALSE))=TRUE,\"\",VLOOKUP($A797,check!$A:$L,9,FALSE))","v":""},{"$f":"IF(ISERROR(VLOOKUP($A797,check!$A:$L,10,FALSE))=TRUE,\"\",VLOOKUP($A797,check!$A:$L,10,FALSE))","v":""},{"$f":"IF(ISERROR(VLOOKUP($A797,check!$A:$L,11,FALSE))=TRUE,\"\",VLOOKUP($A797,check!$A:$L,11,FALSE))","v":""},{"$f":"IF(ISERROR(VLOOKUP($A797,check!$A:$L,12,FALSE))=TRUE,\"\",VLOOKUP($A797,check!$A:$L,12,FALSE))","v":""}]
[798,{"$f":"IF(C798=\"\",\"\",MATCH(A798,check!A:A,0))","v":""},{"$f":"IF(ISERROR(VLOOKUP($A798,check!$A:$L,2,FALSE))=TRUE,\"\",VLOOKUP($A798,check!$A:$L,2,FALSE))","v":""},{"$f":"IF(ISERROR(VLOOKUP($A798,check!$A:$L,3,FALSE))=TRUE,\"\",VLOOKUP($A798,check!$A:$L,3,FALSE))","v":""},{"$f":"IF(ISERROR(VLOOKUP($A798,check!$A:$L,4,FALSE))=TRUE,\"\",VLOOKUP($A798,check!$A:$L,4,FALSE))","v":""},{"$f":"IF(ISERROR(VLOOKUP($A798,check!$A:$L,5,FALSE))=TRUE,\"\",VLOOKUP($A798,check!$A:$L,5,FALSE))","v":""},{"$f":"IF(ISERROR(VLOOKUP($A798,check!$A:$L,6,FALSE))=TRUE,\"\",VLOOKUP($A798,check!$A:$L,6,FALSE))","v":""},{"$f":"IF(ISERROR(VLOOKUP($A798,check!$A:$L,7,FALSE))=TRUE,\"\",VLOOKUP($A798,check!$A:$L,7,FALSE))","v":""},{"$f":"IF(ISERROR(VLOOKUP($A798,check!$A:$L,8,FALSE))=TRUE,\"\",VLOOKUP($A798,check!$A:$L,8,FALSE))","v":""},{"$f":"IF(ISERROR(VLOOKUP($A798,check!$A:$L,9,FALSE))=TRUE,\"\",VLOOKUP($A798,check!$A:$L,9,FALSE))","v":""},{"$f":"IF(ISERROR(VLOOKUP($A798,check!$A:$L,10,FALSE))=TRUE,\"\",VLOOKUP($A798,check!$A:$L,10,FALSE))","v":""},{"$f":"IF(ISERROR(VLOOKUP($A798,check!$A:$L,11,FALSE))=TRUE,\"\",VLOOKUP($A798,check!$A:$L,11,FALSE))","v":""},{"$f":"IF(ISERROR(VLOOKUP($A798,check!$A:$L,12,FALSE))=TRUE,\"\",VLOOKUP($A798,check!$A:$L,12,FALSE))","v":""}]
[799,{"$f":"IF(C799=\"\",\"\",MATCH(A799,check!A:A,0))","v":""},{"$f":"IF(ISERROR(VLOOKUP($A799,check!$A:$L,2,FALSE))=TRUE,\"\",VLOOKUP($A799,check!$A:$L,2,FALSE))","v":""},{"$f":"IF(ISERROR(VLOOKUP($A799,check!$A:$L,3,FALSE))=TRUE,\"\",VLOOKUP($A799,check!$A:$L,3,FALSE))","v":""},{"$f":"IF(ISERROR(VLOOKUP($A799,check!$A:$L,4,FALSE))=TRUE,\"\",VLOOKUP($A799,check!$A:$L,4,FALSE))","v":""},{"$f":"IF(ISERROR(VLOOKUP($A799,check!$A:$L,5,FALSE))=TRUE,\"\",VLOOKUP($A799,check!$A:$L,5,FALSE))","v":""},{"$f":"IF(ISERROR(VLOOKUP($A799,check!$A:$L,6,FALSE))=TRUE,\"\",VLOOKUP($A799,check!$A:$L,6,FALSE))","v":""},{"$f":"IF(ISERROR(VLOOKUP($A799,check!$A:$L,7,FALSE))=TRUE,\"\",VLOOKUP($A799,check!$A:$L,7,FALSE))","v":""},{"$f":"IF(ISERROR(VLOOKUP($A799,check!$A:$L,8,FALSE))=TRUE,\"\",VLOOKUP($A799,check!$A:$L,8,FALSE))","v":""},{"$f":"IF(ISERROR(VLOOKUP($A799,check!$A:$L,9,FALSE))=TRUE,\"\",VLOOKUP($A799,check!$A:$L,9,FALSE))","v":""},{"$f":"IF(ISERROR(VLOOKUP($A799,check!$A:$L,10,FALSE))=TRUE,\"\",VLOOKUP($A799,check!$A:$L,10,FALSE))","v":""},{"$f":"IF(ISERROR(VLOOKUP($A799,check!$A:$L,11,FALSE))=TRUE,\"\",VLOOKUP($A799,check!$A:$L,11,FALSE))","v":""},{"$f":"IF(ISERROR(VLOOKUP($A799,check!$A:$L,12,FALSE))=TRUE,\"\",VLOOKUP($A799,check!$A:$L,12,FALSE))","v":""}]
[800,{"$f":"IF(C800=\"\",\"\",MATCH(A800,check!A:A,0))","v":""},{"$f":"IF(ISERROR(VLOOKUP($A800,check!$A:$L,2,FALSE))=TRUE,\"\",VLOOKUP($A800,check!$A:$L,2,FALSE))","v":""},{"$f":"IF(ISERROR(VLOOKUP($A800,check!$A:$L,3,FALSE))=TRUE,\"\",VLOOKUP($A800,check!$A:$L,3,FALSE))","v":""},{"$f":"IF(ISERROR(VLOOKUP($A800,check!$A:$L,4,FALSE))=TRUE,\"\",VLOOKUP($A800,check!$A:$L,4,FALSE))","v":""},{"$f":"IF(ISERROR(VLOOKUP($A800,check!$A:$L,5,FALSE))=TRUE,\"\",VLOOKUP($A800,check!$A:$L,5,FALSE))","v":""},{"$f":"IF(ISERROR(VLOOKUP($A800,check!$A:$L,6,FALSE))=TRUE,\"\",VLOOKUP($A800,check!$A:$L,6,FALSE))","v":""},{"$f":"IF(ISERROR(VLOOKUP($A800,check!$A:$L,7,FALSE))=TRUE,\"\",VLOOKUP($A800,check!$A:$L,7,FALSE))","v":""},{"$f":"IF(ISERROR(VLOOKUP($A800,check!$A:$L,8,FALSE))=TRUE,\"\",VLOOKUP($A800,check!$A:$L,8,FALSE))","v":""},{"$f":"IF(ISERROR(VLOOKUP($A800,check!$A:$L,9,FALSE))=TRUE,\"\",VLOOKUP($A800,check!$A:$L,9,FALSE))","v":""},{"$f":"IF(ISERROR(VLOOKUP($A800,check!$A:$L,10,FALSE))=TRUE,\"\",VLOOKUP($A800,check!$A:$L,10,FALSE))","v":""},{"$f":"IF(ISERROR(VLOOKUP($A800,check!$A:$L,11,FALSE))=TRUE,\"\",VLOOKUP($A800,check!$A:$L,11,FALSE))","v":""},{"$f":"IF(ISERROR(VLOOKUP($A800,check!$A:$L,12,FALSE))=TRUE,\"\",VLOOKUP($A800,check!$A:$L,12,FALSE))","v":""}]
[801,{"$f":"IF(C801=\"\",\"\",MATCH(A801,check!A:A,0))","v":""},{"$f":"IF(ISERROR(VLOOKUP($A801,check!$A:$L,2,FALSE))=TRUE,\"\",VLOOKUP($A801,check!$A:$L,2,FALSE))","v":""},{"$f":"IF(ISERROR(VLOOKUP($A801,check!$A:$L,3,FALSE))=TRUE,\"\",VLOOKUP($A801,check!$A:$L,3,FALSE))","v":""},{"$f":"IF(ISERROR(VLOOKUP($A801,check!$A:$L,4,FALSE))=TRUE,\"\",VLOOKUP($A801,check!$A:$L,4,FALSE))","v":""},{"$f":"IF(ISERROR(VLOOKUP($A801,check!$A:$L,5,FALSE))=TRUE,\"\",VLOOKUP($A801,check!$A:$L,5,FALSE))","v":""},{"$f":"IF(ISERROR(VLOOKUP($A801,check!$A:$L,6,FALSE))=TRUE,\"\",VLOOKUP($A801,check!$A:$L,6,FALSE))","v":""},{"$f":"IF(ISERROR(VLOOKUP($A801,check!$A:$L,7,FALSE))=TRUE,\"\",VLOOKUP($A801,check!$A:$L,7,FALSE))","v":""},{"$f":"IF(ISERROR(VLOOKUP($A801,check!$A:$L,8,FALSE))=TRUE,\"\",VLOOKUP($A801,check!$A:$L,8,FALSE))","v":""},{"$f":"IF(ISERROR(VLOOKUP($A801,check!$A:$L,9,FALSE))=TRUE,\"\",VLOOKUP($A801,check!$A:$L,9,FALSE))","v":""},{"$f":"IF(ISERROR(VLOOKUP($A801,check!$A:$L,10,FALSE))=TRUE,\"\",VLOOKUP($A801,check!$A:$L,10,FALSE))","v":""},{"$f":"IF(ISERROR(VLOOKUP($A801,check!$A:$L,11,FALSE))=TRUE,\"\",VLOOKUP($A801,check!$A:$L,11,FALSE))","v":""},{"$f":"IF(ISERROR(VLOOKUP($A801,check!$A:$L,12,FALSE))=TRUE,\"\",VLOOKUP($A801,check!$A:$L,12,FALSE))","v":""}]
[802,{"$f":"IF(C802=\"\",\"\",MATCH(A802,check!A:A,0))","v":""},{"$f":"IF(ISERROR(VLOOKUP($A802,check!$A:$L,2,FALSE))=TRUE,\"\",VLOOKUP($A802,check!$A:$L,2,FALSE))","v":""},{"$f":"IF(ISERROR(VLOOKUP($A802,check!$A:$L,3,FALSE))=TRUE,\"\",VLOOKUP($A802,check!$A:$L,3,FALSE))","v":""},{"$f":"IF(ISERROR(VLOOKUP($A802,check!$A:$L,4,FALSE))=TRUE,\"\",VLOOKUP($A802,check!$A:$L,4,FALSE))","v":""},{"$f":"IF(ISERROR(VLOOKUP($A802,check!$A:$L,5,FALSE))=TRUE,\"\",VLOOKUP($A802,check!$A:$L,5,FALSE))","v":""},{"$f":"IF(ISERROR(VLOOKUP($A802,check!$A:$L,6,FALSE))=TRUE,\"\",VLOOKUP($A802,check!$A:$L,6,FALSE))","v":""},{"$f":"IF(ISERROR(VLOOKUP($A802,check!$A:$L,7,FALSE))=TRUE,\"\",VLOOKUP($A802,check!$A:$L,7,FALSE))","v":""},{"$f":"IF(ISERROR(VLOOKUP($A802,check!$A:$L,8,FALSE))=TRUE,\"\",VLOOKUP($A802,check!$A:$L,8,FALSE))","v":""},{"$f":"IF(ISERROR(VLOOKUP($A802,check!$A:$L,9,FALSE))=TRUE,\"\",VLOOKUP($A802,check!$A:$L,9,FALSE))","v":""},{"$f":"IF(ISERROR(VLOOKUP($A802,check!$A:$L,10,FALSE))=TRUE,\"\",VLOOKUP($A802,check!$A:$L,10,FALSE))","v":""},{"$f":"IF(ISERROR(VLOOKUP($A802,check!$A:$L,11,FALSE))=TRUE,\"\",VLOOKUP($A802,check!$A:$L,11,FALSE))","v":""},{"$f":"IF(ISERROR(VLOOKUP($A802,check!$A:$L,12,FALSE))=TRUE,\"\",VLOOKUP($A802,check!$A:$L,12,FALSE))","v":""}]
[803,{"$f":"IF(C803=\"\",\"\",MATCH(A803,check!A:A,0))","v":""},{"$f":"IF(ISERROR(VLOOKUP($A803,check!$A:$L,2,FALSE))=TRUE,\"\",VLOOKUP($A803,check!$A:$L,2,FALSE))","v":""},{"$f":"IF(ISERROR(VLOOKUP($A803,check!$A:$L,3,FALSE))=TRUE,\"\",VLOOKUP($A803,check!$A:$L,3,FALSE))","v":""},{"$f":"IF(ISERROR(VLOOKUP($A803,check!$A:$L,4,FALSE))=TRUE,\"\",VLOOKUP($A803,check!$A:$L,4,FALSE))","v":""},{"$f":"IF(ISERROR(VLOOKUP($A803,check!$A:$L,5,FALSE))=TRUE,\"\",VLOOKUP($A803,check!$A:$L,5,FALSE))","v":""},{"$f":"IF(ISERROR(VLOOKUP($A803,check!$A:$L,6,FALSE))=TRUE,\"\",VLOOKUP($A803,check!$A:$L,6,FALSE))","v":""},{"$f":"IF(ISERROR(VLOOKUP($A803,check!$A:$L,7,FALSE))=TRUE,\"\",VLOOKUP($A803,check!$A:$L,7,FALSE))","v":""},{"$f":"IF(ISERROR(VLOOKUP($A803,check!$A:$L,8,FALSE))=TRUE,\"\",VLOOKUP($A803,check!$A:$L,8,FALSE))","v":""},{"$f":"IF(ISERROR(VLOOKUP($A803,check!$A:$L,9,FALSE))=TRUE,\"\",VLOOKUP($A803,check!$A:$L,9,FALSE))","v":""},{"$f":"IF(ISERROR(VLOOKUP($A803,check!$A:$L,10,FALSE))=TRUE,\"\",VLOOKUP($A803,check!$A:$L,10,FALSE))","v":""},{"$f":"IF(ISERROR(VLOOKUP($A803,check!$A:$L,11,FALSE))=TRUE,\"\",VLOOKUP($A803,check!$A:$L,11,FALSE))","v":""},{"$f":"IF(ISERROR(VLOOKUP($A803,check!$A:$L,12,FALSE))=TRUE,\"\",VLOOKUP($A803,check!$A:$L,12,FALSE))","v":""}]
[804,{"$f":"IF(C804=\"\",\"\",MATCH(A804,check!A:A,0))","v":""},{"$f":"IF(ISERROR(VLOOKUP($A804,check!$A:$L,2,FALSE))=TRUE,\"\",VLOOKUP($A804,check!$A:$L,2,FALSE))","v":""},{"$f":"IF(ISERROR(VLOOKUP($A804,check!$A:$L,3,FALSE))=TRUE,\"\",VLOOKUP($A804,check!$A:$L,3,FALSE))","v":""},{"$f":"IF(ISERROR(VLOOKUP($A804,check!$A:$L,4,FALSE))=TRUE,\"\",VLOOKUP($A804,check!$A:$L,4,FALSE))","v":""},{"$f":"IF(ISERROR(VLOOKUP($A804,check!$A:$L,5,FALSE))=TRUE,\"\",VLOOKUP($A804,check!$A:$L,5,FALSE))","v":""},{"$f":"IF(ISERROR(VLOOKUP($A804,check!$A:$L,6,FALSE))=TRUE,\"\",VLOOKUP($A804,check!$A:$L,6,FALSE))","v":""},{"$f":"IF(ISERROR(VLOOKUP($A804,check!$A:$L,7,FALSE))=TRUE,\"\",VLOOKUP($A804,check!$A:$L,7,FALSE))","v":""},{"$f":"IF(ISERROR(VLOOKUP($A804,check!$A:$L,8,FALSE))=TRUE,\"\",VLOOKUP($A804,check!$A:$L,8,FALSE))","v":""},{"$f":"IF(ISERROR(VLOOKUP($A804,check!$A:$L,9,FALSE))=TRUE,\"\",VLOOKUP($A804,check!$A:$L,9,FALSE))","v":""},{"$f":"IF(ISERROR(VLOOKUP($A804,check!$A:$L,10,FALSE))=TRUE,\"\",VLOOKUP($A804,check!$A:$L,10,FALSE))","v":""},{"$f":"IF(ISERROR(VLOOKUP($A804,check!$A:$L,11,FALSE))=TRUE,\"\",VLOOKUP($A804,check!$A:$L,11,FALSE))","v":""},{"$f":"IF(ISERROR(VLOOKUP($A804,check!$A:$L,12,FALSE))=TRUE,\"\",VLOOKUP($A804,check!$A:$L,12,FALSE))","v":""}]
[805,{"$f":"IF(C805=\"\",\"\",MATCH(A805,check!A:A,0))","v":""},{"$f":"IF(ISERROR(VLOOKUP($A805,check!$A:$L,2,FALSE))=TRUE,\"\",VLOOKUP($A805,check!$A:$L,2,FALSE))","v":""},{"$f":"IF(ISERROR(VLOOKUP($A805,check!$A:$L,3,FALSE))=TRUE,\"\",VLOOKUP($A805,check!$A:$L,3,FALSE))","v":""},{"$f":"IF(ISERROR(VLOOKUP($A805,check!$A:$L,4,FALSE))=TRUE,\"\",VLOOKUP($A805,check!$A:$L,4,FALSE))","v":""},{"$f":"IF(ISERROR(VLOOKUP($A805,check!$A:$L,5,FALSE))=TRUE,\"\",VLOOKUP($A805,check!$A:$L,5,FALSE))","v":""},{"$f":"IF(ISERROR(VLOOKUP($A805,check!$A:$L,6,FALSE))=TRUE,\"\",VLOOKUP($A805,check!$A:$L,6,FALSE))","v":""},{"$f":"IF(ISERROR(VLOOKUP($A805,check!$A:$L,7,FALSE))=TRUE,\"\",VLOOKUP($A805,check!$A:$L,7,FALSE))","v":""},{"$f":"IF(ISERROR(VLOOKUP($A805,check!$A:$L,8,FALSE))=TRUE,\"\",VLOOKUP($A805,check!$A:$L,8,FALSE))","v":""},{"$f":"IF(ISERROR(VLOOKUP($A805,check!$A:$L,9,FALSE))=TRUE,\"\",VLOOKUP($A805,check!$A:$L,9,FALSE))","v":""},{"$f":"IF(ISERROR(VLOOKUP($A805,check!$A:$L,10,FALSE))=TRUE,\"\",VLOOKUP($A805,check!$A:$L,10,FALSE))","v":""},{"$f":"IF(ISERROR(VLOOKUP($A805,check!$A:$L,11,FALSE))=TRUE,\"\",VLOOKUP($A805,check!$A:$L,11,FALSE))","v":""},{"$f":"IF(ISERROR(VLOOKUP($A805,check!$A:$L,12,FALSE))=TRUE,\"\",VLOOKUP($A805,check!$A:$L,12,FALSE))","v":""}]
[806,{"$f":"IF(C806=\"\",\"\",MATCH(A806,check!A:A,0))","v":""},{"$f":"IF(ISERROR(VLOOKUP($A806,check!$A:$L,2,FALSE))=TRUE,\"\",VLOOKUP($A806,check!$A:$L,2,FALSE))","v":""},{"$f":"IF(ISERROR(VLOOKUP($A806,check!$A:$L,3,FALSE))=TRUE,\"\",VLOOKUP($A806,check!$A:$L,3,FALSE))","v":""},{"$f":"IF(ISERROR(VLOOKUP($A806,check!$A:$L,4,FALSE))=TRUE,\"\",VLOOKUP($A806,check!$A:$L,4,FALSE))","v":""},{"$f":"IF(ISERROR(VLOOKUP($A806,check!$A:$L,5,FALSE))=TRUE,\"\",VLOOKUP($A806,check!$A:$L,5,FALSE))","v":""},{"$f":"IF(ISERROR(VLOOKUP($A806,check!$A:$L,6,FALSE))=TRUE,\"\",VLOOKUP($A806,check!$A:$L,6,FALSE))","v":""},{"$f":"IF(ISERROR(VLOOKUP($A806,check!$A:$L,7,FALSE))=TRUE,\"\",VLOOKUP($A806,check!$A:$L,7,FALSE))","v":""},{"$f":"IF(ISERROR(VLOOKUP($A806,check!$A:$L,8,FALSE))=TRUE,\"\",VLOOKUP($A806,check!$A:$L,8,FALSE))","v":""},{"$f":"IF(ISERROR(VLOOKUP($A806,check!$A:$L,9,FALSE))=TRUE,\"\",VLOOKUP($A806,check!$A:$L,9,FALSE))","v":""},{"$f":"IF(ISERROR(VLOOKUP($A806,check!$A:$L,10,FALSE))=TRUE,\"\",VLOOKUP($A806,check!$A:$L,10,FALSE))","v":""},{"$f":"IF(ISERROR(VLOOKUP($A806,check!$A:$L,11,FALSE))=TRUE,\"\",VLOOKUP($A806,check!$A:$L,11,FALSE))","v":""},{"$f":"IF(ISERROR(VLOOKUP($A806,check!$A:$L,12,FALSE))=TRUE,\"\",VLOOKUP($A806,check!$A:$L,12,FALSE))","v":""}]
[807,{"$f":"IF(C807=\"\",\"\",MATCH(A807,check!A:A,0))","v":""},{"$f":"IF(ISERROR(VLOOKUP($A807,check!$A:$L,2,FALSE))=TRUE,\"\",VLOOKUP($A807,check!$A:$L,2,FALSE))","v":""},{"$f":"IF(ISERROR(VLOOKUP($A807,check!$A:$L,3,FALSE))=TRUE,\"\",VLOOKUP($A807,check!$A:$L,3,FALSE))","v":""},{"$f":"IF(ISERROR(VLOOKUP($A807,check!$A:$L,4,FALSE))=TRUE,\"\",VLOOKUP($A807,check!$A:$L,4,FALSE))","v":""},{"$f":"IF(ISERROR(VLOOKUP($A807,check!$A:$L,5,FALSE))=TRUE,\"\",VLOOKUP($A807,check!$A:$L,5,FALSE))","v":""},{"$f":"IF(ISERROR(VLOOKUP($A807,check!$A:$L,6,FALSE))=TRUE,\"\",VLOOKUP($A807,check!$A:$L,6,FALSE))","v":""},{"$f":"IF(ISERROR(VLOOKUP($A807,check!$A:$L,7,FALSE))=TRUE,\"\",VLOOKUP($A807,check!$A:$L,7,FALSE))","v":""},{"$f":"IF(ISERROR(VLOOKUP($A807,check!$A:$L,8,FALSE))=TRUE,\"\",VLOOKUP($A807,check!$A:$L,8,FALSE))","v":""},{"$f":"IF(ISERROR(VLOOKUP($A807,check!$A:$L,9,FALSE))=TRUE,\"\",VLOOKUP($A807,check!$A:$L,9,FALSE))","v":""},{"$f":"IF(ISERROR(VLOOKUP($A807,check!$A:$L,10,FALSE))=TRUE,\"\",VLOOKUP($A807,check!$A:$L,10,FALSE))","v":""},{"$f":"IF(ISERROR(VLOOKUP($A807,check!$A:$L,11,FALSE))=TRUE,\"\",VLOOKUP($A807,check!$A:$L,11,FALSE))","v":""},{"$f":"IF(ISERROR(VLOOKUP($A807,check!$A:$L,12,FALSE))=TRUE,\"\",VLOOKUP($A807,check!$A:$L,12,FALSE))","v":""}]
[808,{"$f":"IF(C808=\"\",\"\",MATCH(A808,check!A:A,0))","v":""},{"$f":"IF(ISERROR(VLOOKUP($A808,check!$A:$L,2,FALSE))=TRUE,\"\",VLOOKUP($A808,check!$A:$L,2,FALSE))","v":""},{"$f":"IF(ISERROR(VLOOKUP($A808,check!$A:$L,3,FALSE))=TRUE,\"\",VLOOKUP($A808,check!$A:$L,3,FALSE))","v":""},{"$f":"IF(ISERROR(VLOOKUP($A808,check!$A:$L,4,FALSE))=TRUE,\"\",VLOOKUP($A808,check!$A:$L,4,FALSE))","v":""},{"$f":"IF(ISERROR(VLOOKUP($A808,check!$A:$L,5,FALSE))=TRUE,\"\",VLOOKUP($A808,check!$A:$L,5,FALSE))","v":""},{"$f":"IF(ISERROR(VLOOKUP($A808,check!$A:$L,6,FALSE))=TRUE,\"\",VLOOKUP($A808,check!$A:$L,6,FALSE))","v":""},{"$f":"IF(ISERROR(VLOOKUP($A808,check!$A:$L,7,FALSE))=TRUE,\"\",VLOOKUP($A808,check!$A:$L,7,FALSE))","v":""},{"$f":"IF(ISERROR(VLOOKUP($A808,check!$A:$L,8,FALSE))=TRUE,\"\",VLOOKUP($A808,check!$A:$L,8,FALSE))","v":""},{"$f":"IF(ISERROR(VLOOKUP($A808,check!$A:$L,9,FALSE))=TRUE,\"\",VLOOKUP($A808,check!$A:$L,9,FALSE))","v":""},{"$f":"IF(ISERROR(VLOOKUP($A808,check!$A:$L,10,FALSE))=TRUE,\"\",VLOOKUP($A808,check!$A:$L,10,FALSE))","v":""},{"$f":"IF(ISERROR(VLOOKUP($A808,check!$A:$L,11,FALSE))=TRUE,\"\",VLOOKUP($A808,check!$A:$L,11,FALSE))","v":""},{"$f":"IF(ISERROR(VLOOKUP($A808,check!$A:$L,12,FALSE))=TRUE,\"\",VLOOKUP($A808,check!$A:$L,12,FALSE))","v":""}]
[809,{"$f":"IF(C809=\"\",\"\",MATCH(A809,check!A:A,0))","v":""},{"$f":"IF(ISERROR(VLOOKUP($A809,check!$A:$L,2,FALSE))=TRUE,\"\",VLOOKUP($A809,check!$A:$L,2,FALSE))","v":""},{"$f":"IF(ISERROR(VLOOKUP($A809,check!$A:$L,3,FALSE))=TRUE,\"\",VLOOKUP($A809,check!$A:$L,3,FALSE))","v":""},{"$f":"IF(ISERROR(VLOOKUP($A809,check!$A:$L,4,FALSE))=TRUE,\"\",VLOOKUP($A809,check!$A:$L,4,FALSE))","v":""},{"$f":"IF(ISERROR(VLOOKUP($A809,check!$A:$L,5,FALSE))=TRUE,\"\",VLOOKUP($A809,check!$A:$L,5,FALSE))","v":""},{"$f":"IF(ISERROR(VLOOKUP($A809,check!$A:$L,6,FALSE))=TRUE,\"\",VLOOKUP($A809,check!$A:$L,6,FALSE))","v":""},{"$f":"IF(ISERROR(VLOOKUP($A809,check!$A:$L,7,FALSE))=TRUE,\"\",VLOOKUP($A809,check!$A:$L,7,FALSE))","v":""},{"$f":"IF(ISERROR(VLOOKUP($A809,check!$A:$L,8,FALSE))=TRUE,\"\",VLOOKUP($A809,check!$A:$L,8,FALSE))","v":""},{"$f":"IF(ISERROR(VLOOKUP($A809,check!$A:$L,9,FALSE))=TRUE,\"\",VLOOKUP($A809,check!$A:$L,9,FALSE))","v":""},{"$f":"IF(ISERROR(VLOOKUP($A809,check!$A:$L,10,FALSE))=TRUE,\"\",VLOOKUP($A809,check!$A:$L,10,FALSE))","v":""},{"$f":"IF(ISERROR(VLOOKUP($A809,check!$A:$L,11,FALSE))=TRUE,\"\",VLOOKUP($A809,check!$A:$L,11,FALSE))","v":""},{"$f":"IF(ISERROR(VLOOKUP($A809,check!$A:$L,12,FALSE))=TRUE,\"\",VLOOKUP($A809,check!$A:$L,12,FALSE))","v":""}]
[810,{"$f":"IF(C810=\"\",\"\",MATCH(A810,check!A:A,0))","v":""},{"$f":"IF(ISERROR(VLOOKUP($A810,check!$A:$L,2,FALSE))=TRUE,\"\",VLOOKUP($A810,check!$A:$L,2,FALSE))","v":""},{"$f":"IF(ISERROR(VLOOKUP($A810,check!$A:$L,3,FALSE))=TRUE,\"\",VLOOKUP($A810,check!$A:$L,3,FALSE))","v":""},{"$f":"IF(ISERROR(VLOOKUP($A810,check!$A:$L,4,FALSE))=TRUE,\"\",VLOOKUP($A810,check!$A:$L,4,FALSE))","v":""},{"$f":"IF(ISERROR(VLOOKUP($A810,check!$A:$L,5,FALSE))=TRUE,\"\",VLOOKUP($A810,check!$A:$L,5,FALSE))","v":""},{"$f":"IF(ISERROR(VLOOKUP($A810,check!$A:$L,6,FALSE))=TRUE,\"\",VLOOKUP($A810,check!$A:$L,6,FALSE))","v":""},{"$f":"IF(ISERROR(VLOOKUP($A810,check!$A:$L,7,FALSE))=TRUE,\"\",VLOOKUP($A810,check!$A:$L,7,FALSE))","v":""},{"$f":"IF(ISERROR(VLOOKUP($A810,check!$A:$L,8,FALSE))=TRUE,\"\",VLOOKUP($A810,check!$A:$L,8,FALSE))","v":""},{"$f":"IF(ISERROR(VLOOKUP($A810,check!$A:$L,9,FALSE))=TRUE,\"\",VLOOKUP($A810,check!$A:$L,9,FALSE))","v":""},{"$f":"IF(ISERROR(VLOOKUP($A810,check!$A:$L,10,FALSE))=TRUE,\"\",VLOOKUP($A810,check!$A:$L,10,FALSE))","v":""},{"$f":"IF(ISERROR(VLOOKUP($A810,check!$A:$L,11,FALSE))=TRUE,\"\",VLOOKUP($A810,check!$A:$L,11,FALSE))","v":""},{"$f":"IF(ISERROR(VLOOKUP($A810,check!$A:$L,12,FALSE))=TRUE,\"\",VLOOKUP($A810,check!$A:$L,12,FALSE))","v":""}]
[811,{"$f":"IF(C811=\"\",\"\",MATCH(A811,check!A:A,0))","v":""},{"$f":"IF(ISERROR(VLOOKUP($A811,check!$A:$L,2,FALSE))=TRUE,\"\",VLOOKUP($A811,check!$A:$L,2,FALSE))","v":""},{"$f":"IF(ISERROR(VLOOKUP($A811,check!$A:$L,3,FALSE))=TRUE,\"\",VLOOKUP($A811,check!$A:$L,3,FALSE))","v":""},{"$f":"IF(ISERROR(VLOOKUP($A811,check!$A:$L,4,FALSE))=TRUE,\"\",VLOOKUP($A811,check!$A:$L,4,FALSE))","v":""},{"$f":"IF(ISERROR(VLOOKUP($A811,check!$A:$L,5,FALSE))=TRUE,\"\",VLOOKUP($A811,check!$A:$L,5,FALSE))","v":""},{"$f":"IF(ISERROR(VLOOKUP($A811,check!$A:$L,6,FALSE))=TRUE,\"\",VLOOKUP($A811,check!$A:$L,6,FALSE))","v":""},{"$f":"IF(ISERROR(VLOOKUP($A811,check!$A:$L,7,FALSE))=TRUE,\"\",VLOOKUP($A811,check!$A:$L,7,FALSE))","v":""},{"$f":"IF(ISERROR(VLOOKUP($A811,check!$A:$L,8,FALSE))=TRUE,\"\",VLOOKUP($A811,check!$A:$L,8,FALSE))","v":""},{"$f":"IF(ISERROR(VLOOKUP($A811,check!$A:$L,9,FALSE))=TRUE,\"\",VLOOKUP($A811,check!$A:$L,9,FALSE))","v":""},{"$f":"IF(ISERROR(VLOOKUP($A811,check!$A:$L,10,FALSE))=TRUE,\"\",VLOOKUP($A811,check!$A:$L,10,FALSE))","v":""},{"$f":"IF(ISERROR(VLOOKUP($A811,check!$A:$L,11,FALSE))=TRUE,\"\",VLOOKUP($A811,check!$A:$L,11,FALSE))","v":""},{"$f":"IF(ISERROR(VLOOKUP($A811,check!$A:$L,12,FALSE))=TRUE,\"\",VLOOKUP($A811,check!$A:$L,12,FALSE))","v":""}]
[812,{"$f":"IF(C812=\"\",\"\",MATCH(A812,check!A:A,0))","v":""},{"$f":"IF(ISERROR(VLOOKUP($A812,check!$A:$L,2,FALSE))=TRUE,\"\",VLOOKUP($A812,check!$A:$L,2,FALSE))","v":""},{"$f":"IF(ISERROR(VLOOKUP($A812,check!$A:$L,3,FALSE))=TRUE,\"\",VLOOKUP($A812,check!$A:$L,3,FALSE))","v":""},{"$f":"IF(ISERROR(VLOOKUP($A812,check!$A:$L,4,FALSE))=TRUE,\"\",VLOOKUP($A812,check!$A:$L,4,FALSE))","v":""},{"$f":"IF(ISERROR(VLOOKUP($A812,check!$A:$L,5,FALSE))=TRUE,\"\",VLOOKUP($A812,check!$A:$L,5,FALSE))","v":""},{"$f":"IF(ISERROR(VLOOKUP($A812,check!$A:$L,6,FALSE))=TRUE,\"\",VLOOKUP($A812,check!$A:$L,6,FALSE))","v":""},{"$f":"IF(ISERROR(VLOOKUP($A812,check!$A:$L,7,FALSE))=TRUE,\"\",VLOOKUP($A812,check!$A:$L,7,FALSE))","v":""},{"$f":"IF(ISERROR(VLOOKUP($A812,check!$A:$L,8,FALSE))=TRUE,\"\",VLOOKUP($A812,check!$A:$L,8,FALSE))","v":""},{"$f":"IF(ISERROR(VLOOKUP($A812,check!$A:$L,9,FALSE))=TRUE,\"\",VLOOKUP($A812,check!$A:$L,9,FALSE))","v":""},{"$f":"IF(ISERROR(VLOOKUP($A812,check!$A:$L,10,FALSE))=TRUE,\"\",VLOOKUP($A812,check!$A:$L,10,FALSE))","v":""},{"$f":"IF(ISERROR(VLOOKUP($A812,check!$A:$L,11,FALSE))=TRUE,\"\",VLOOKUP($A812,check!$A:$L,11,FALSE))","v":""},{"$f":"IF(ISERROR(VLOOKUP($A812,check!$A:$L,12,FALSE))=TRUE,\"\",VLOOKUP($A812,check!$A:$L,12,FALSE))","v":""}]
[813,{"$f":"IF(C813=\"\",\"\",MATCH(A813,check!A:A,0))","v":""},{"$f":"IF(ISERROR(VLOOKUP($A813,check!$A:$L,2,FALSE))=TRUE,\"\",VLOOKUP($A813,check!$A:$L,2,FALSE))","v":""},{"$f":"IF(ISERROR(VLOOKUP($A813,check!$A:$L,3,FALSE))=TRUE,\"\",VLOOKUP($A813,check!$A:$L,3,FALSE))","v":""},{"$f":"IF(ISERROR(VLOOKUP($A813,check!$A:$L,4,FALSE))=TRUE,\"\",VLOOKUP($A813,check!$A:$L,4,FALSE))","v":""},{"$f":"IF(ISERROR(VLOOKUP($A813,check!$A:$L,5,FALSE))=TRUE,\"\",VLOOKUP($A813,check!$A:$L,5,FALSE))","v":""},{"$f":"IF(ISERROR(VLOOKUP($A813,check!$A:$L,6,FALSE))=TRUE,\"\",VLOOKUP($A813,check!$A:$L,6,FALSE))","v":""},{"$f":"IF(ISERROR(VLOOKUP($A813,check!$A:$L,7,FALSE))=TRUE,\"\",VLOOKUP($A813,check!$A:$L,7,FALSE))","v":""},{"$f":"IF(ISERROR(VLOOKUP($A813,check!$A:$L,8,FALSE))=TRUE,\"\",VLOOKUP($A813,check!$A:$L,8,FALSE))","v":""},{"$f":"IF(ISERROR(VLOOKUP($A813,check!$A:$L,9,FALSE))=TRUE,\"\",VLOOKUP($A813,check!$A:$L,9,FALSE))","v":""},{"$f":"IF(ISERROR(VLOOKUP($A813,check!$A:$L,10,FALSE))=TRUE,\"\",VLOOKUP($A813,check!$A:$L,10,FALSE))","v":""},{"$f":"IF(ISERROR(VLOOKUP($A813,check!$A:$L,11,FALSE))=TRUE,\"\",VLOOKUP($A813,check!$A:$L,11,FALSE))","v":""},{"$f":"IF(ISERROR(VLOOKUP($A813,check!$A:$L,12,FALSE))=TRUE,\"\",VLOOKUP($A813,check!$A:$L,12,FALSE))","v":""}]
[814,{"$f":"IF(C814=\"\",\"\",MATCH(A814,check!A:A,0))","v":""},{"$f":"IF(ISERROR(VLOOKUP($A814,check!$A:$L,2,FALSE))=TRUE,\"\",VLOOKUP($A814,check!$A:$L,2,FALSE))","v":""},{"$f":"IF(ISERROR(VLOOKUP($A814,check!$A:$L,3,FALSE))=TRUE,\"\",VLOOKUP($A814,check!$A:$L,3,FALSE))","v":""},{"$f":"IF(ISERROR(VLOOKUP($A814,check!$A:$L,4,FALSE))=TRUE,\"\",VLOOKUP($A814,check!$A:$L,4,FALSE))","v":""},{"$f":"IF(ISERROR(VLOOKUP($A814,check!$A:$L,5,FALSE))=TRUE,\"\",VLOOKUP($A814,check!$A:$L,5,FALSE))","v":""},{"$f":"IF(ISERROR(VLOOKUP($A814,check!$A:$L,6,FALSE))=TRUE,\"\",VLOOKUP($A814,check!$A:$L,6,FALSE))","v":""},{"$f":"IF(ISERROR(VLOOKUP($A814,check!$A:$L,7,FALSE))=TRUE,\"\",VLOOKUP($A814,check!$A:$L,7,FALSE))","v":""},{"$f":"IF(ISERROR(VLOOKUP($A814,check!$A:$L,8,FALSE))=TRUE,\"\",VLOOKUP($A814,check!$A:$L,8,FALSE))","v":""},{"$f":"IF(ISERROR(VLOOKUP($A814,check!$A:$L,9,FALSE))=TRUE,\"\",VLOOKUP($A814,check!$A:$L,9,FALSE))","v":""},{"$f":"IF(ISERROR(VLOOKUP($A814,check!$A:$L,10,FALSE))=TRUE,\"\",VLOOKUP($A814,check!$A:$L,10,FALSE))","v":""},{"$f":"IF(ISERROR(VLOOKUP($A814,check!$A:$L,11,FALSE))=TRUE,\"\",VLOOKUP($A814,check!$A:$L,11,FALSE))","v":""},{"$f":"IF(ISERROR(VLOOKUP($A814,check!$A:$L,12,FALSE))=TRUE,\"\",VLOOKUP($A814,check!$A:$L,12,FALSE))","v":""}]
[815,{"$f":"IF(C815=\"\",\"\",MATCH(A815,check!A:A,0))","v":""},{"$f":"IF(ISERROR(VLOOKUP($A815,check!$A:$L,2,FALSE))=TRUE,\"\",VLOOKUP($A815,check!$A:$L,2,FALSE))","v":""},{"$f":"IF(ISERROR(VLOOKUP($A815,check!$A:$L,3,FALSE))=TRUE,\"\",VLOOKUP($A815,check!$A:$L,3,FALSE))","v":""},{"$f":"IF(ISERROR(VLOOKUP($A815,check!$A:$L,4,FALSE))=TRUE,\"\",VLOOKUP($A815,check!$A:$L,4,FALSE))","v":""},{"$f":"IF(ISERROR(VLOOKUP($A815,check!$A:$L,5,FALSE))=TRUE,\"\",VLOOKUP($A815,check!$A:$L,5,FALSE))","v":""},{"$f":"IF(ISERROR(VLOOKUP($A815,check!$A:$L,6,FALSE))=TRUE,\"\",VLOOKUP($A815,check!$A:$L,6,FALSE))","v":""},{"$f":"IF(ISERROR(VLOOKUP($A815,check!$A:$L,7,FALSE))=TRUE,\"\",VLOOKUP($A815,check!$A:$L,7,FALSE))","v":""},{"$f":"IF(ISERROR(VLOOKUP($A815,check!$A:$L,8,FALSE))=TRUE,\"\",VLOOKUP($A815,check!$A:$L,8,FALSE))","v":""},{"$f":"IF(ISERROR(VLOOKUP($A815,check!$A:$L,9,FALSE))=TRUE,\"\",VLOOKUP($A815,check!$A:$L,9,FALSE))","v":""},{"$f":"IF(ISERROR(VLOOKUP($A815,check!$A:$L,10,FALSE))=TRUE,\"\",VLOOKUP($A815,check!$A:$L,10,FALSE))","v":""},{"$f":"IF(ISERROR(VLOOKUP($A815,check!$A:$L,11,FALSE))=TRUE,\"\",VLOOKUP($A815,check!$A:$L,11,FALSE))","v":""},{"$f":"IF(ISERROR(VLOOKUP($A815,check!$A:$L,12,FALSE))=TRUE,\"\",VLOOKUP($A815,check!$A:$L,12,FALSE))","v":""}]
[816,{"$f":"IF(C816=\"\",\"\",MATCH(A816,check!A:A,0))","v":""},{"$f":"IF(ISERROR(VLOOKUP($A816,check!$A:$L,2,FALSE))=TRUE,\"\",VLOOKUP($A816,check!$A:$L,2,FALSE))","v":""},{"$f":"IF(ISERROR(VLOOKUP($A816,check!$A:$L,3,FALSE))=TRUE,\"\",VLOOKUP($A816,check!$A:$L,3,FALSE))","v":""},{"$f":"IF(ISERROR(VLOOKUP($A816,check!$A:$L,4,FALSE))=TRUE,\"\",VLOOKUP($A816,check!$A:$L,4,FALSE))","v":""},{"$f":"IF(ISERROR(VLOOKUP($A816,check!$A:$L,5,FALSE))=TRUE,\"\",VLOOKUP($A816,check!$A:$L,5,FALSE))","v":""},{"$f":"IF(ISERROR(VLOOKUP($A816,check!$A:$L,6,FALSE))=TRUE,\"\",VLOOKUP($A816,check!$A:$L,6,FALSE))","v":""},{"$f":"IF(ISERROR(VLOOKUP($A816,check!$A:$L,7,FALSE))=TRUE,\"\",VLOOKUP($A816,check!$A:$L,7,FALSE))","v":""},{"$f":"IF(ISERROR(VLOOKUP($A816,check!$A:$L,8,FALSE))=TRUE,\"\",VLOOKUP($A816,check!$A:$L,8,FALSE))","v":""},{"$f":"IF(ISERROR(VLOOKUP($A816,check!$A:$L,9,FALSE))=TRUE,\"\",VLOOKUP($A816,check!$A:$L,9,FALSE))","v":""},{"$f":"IF(ISERROR(VLOOKUP($A816,check!$A:$L,10,FALSE))=TRUE,\"\",VLOOKUP($A816,check!$A:$L,10,FALSE))","v":""},{"$f":"IF(ISERROR(VLOOKUP($A816,check!$A:$L,11,FALSE))=TRUE,\"\",VLOOKUP($A816,check!$A:$L,11,FALSE))","v":""},{"$f":"IF(ISERROR(VLOOKUP($A816,check!$A:$L,12,FALSE))=TRUE,\"\",VLOOKUP($A816,check!$A:$L,12,FALSE))","v":""}]
[817,{"$f":"IF(C817=\"\",\"\",MATCH(A817,check!A:A,0))","v":""},{"$f":"IF(ISERROR(VLOOKUP($A817,check!$A:$L,2,FALSE))=TRUE,\"\",VLOOKUP($A817,check!$A:$L,2,FALSE))","v":""},{"$f":"IF(ISERROR(VLOOKUP($A817,check!$A:$L,3,FALSE))=TRUE,\"\",VLOOKUP($A817,check!$A:$L,3,FALSE))","v":""},{"$f":"IF(ISERROR(VLOOKUP($A817,check!$A:$L,4,FALSE))=TRUE,\"\",VLOOKUP($A817,check!$A:$L,4,FALSE))","v":""},{"$f":"IF(ISERROR(VLOOKUP($A817,check!$A:$L,5,FALSE))=TRUE,\"\",VLOOKUP($A817,check!$A:$L,5,FALSE))","v":""},{"$f":"IF(ISERROR(VLOOKUP($A817,check!$A:$L,6,FALSE))=TRUE,\"\",VLOOKUP($A817,check!$A:$L,6,FALSE))","v":""},{"$f":"IF(ISERROR(VLOOKUP($A817,check!$A:$L,7,FALSE))=TRUE,\"\",VLOOKUP($A817,check!$A:$L,7,FALSE))","v":""},{"$f":"IF(ISERROR(VLOOKUP($A817,check!$A:$L,8,FALSE))=TRUE,\"\",VLOOKUP($A817,check!$A:$L,8,FALSE))","v":""},{"$f":"IF(ISERROR(VLOOKUP($A817,check!$A:$L,9,FALSE))=TRUE,\"\",VLOOKUP($A817,check!$A:$L,9,FALSE))","v":""},{"$f":"IF(ISERROR(VLOOKUP($A817,check!$A:$L,10,FALSE))=TRUE,\"\",VLOOKUP($A817,check!$A:$L,10,FALSE))","v":""},{"$f":"IF(ISERROR(VLOOKUP($A817,check!$A:$L,11,FALSE))=TRUE,\"\",VLOOKUP($A817,check!$A:$L,11,FALSE))","v":""},{"$f":"IF(ISERROR(VLOOKUP($A817,check!$A:$L,12,FALSE))=TRUE,\"\",VLOOKUP($A817,check!$A:$L,12,FALSE))","v":""}]
[818,{"$f":"IF(C818=\"\",\"\",MATCH(A818,check!A:A,0))","v":""},{"$f":"IF(ISERROR(VLOOKUP($A818,check!$A:$L,2,FALSE))=TRUE,\"\",VLOOKUP($A818,check!$A:$L,2,FALSE))","v":""},{"$f":"IF(ISERROR(VLOOKUP($A818,check!$A:$L,3,FALSE))=TRUE,\"\",VLOOKUP($A818,check!$A:$L,3,FALSE))","v":""},{"$f":"IF(ISERROR(VLOOKUP($A818,check!$A:$L,4,FALSE))=TRUE,\"\",VLOOKUP($A818,check!$A:$L,4,FALSE))","v":""},{"$f":"IF(ISERROR(VLOOKUP($A818,check!$A:$L,5,FALSE))=TRUE,\"\",VLOOKUP($A818,check!$A:$L,5,FALSE))","v":""},{"$f":"IF(ISERROR(VLOOKUP($A818,check!$A:$L,6,FALSE))=TRUE,\"\",VLOOKUP($A818,check!$A:$L,6,FALSE))","v":""},{"$f":"IF(ISERROR(VLOOKUP($A818,check!$A:$L,7,FALSE))=TRUE,\"\",VLOOKUP($A818,check!$A:$L,7,FALSE))","v":""},{"$f":"IF(ISERROR(VLOOKUP($A818,check!$A:$L,8,FALSE))=TRUE,\"\",VLOOKUP($A818,check!$A:$L,8,FALSE))","v":""},{"$f":"IF(ISERROR(VLOOKUP($A818,check!$A:$L,9,FALSE))=TRUE,\"\",VLOOKUP($A818,check!$A:$L,9,FALSE))","v":""},{"$f":"IF(ISERROR(VLOOKUP($A818,check!$A:$L,10,FALSE))=TRUE,\"\",VLOOKUP($A818,check!$A:$L,10,FALSE))","v":""},{"$f":"IF(ISERROR(VLOOKUP($A818,check!$A:$L,11,FALSE))=TRUE,\"\",VLOOKUP($A818,check!$A:$L,11,FALSE))","v":""},{"$f":"IF(ISERROR(VLOOKUP($A818,check!$A:$L,12,FALSE))=TRUE,\"\",VLOOKUP($A818,check!$A:$L,12,FALSE))","v":""}]
[819,{"$f":"IF(C819=\"\",\"\",MATCH(A819,check!A:A,0))","v":""},{"$f":"IF(ISERROR(VLOOKUP($A819,check!$A:$L,2,FALSE))=TRUE,\"\",VLOOKUP($A819,check!$A:$L,2,FALSE))","v":""},{"$f":"IF(ISERROR(VLOOKUP($A819,check!$A:$L,3,FALSE))=TRUE,\"\",VLOOKUP($A819,check!$A:$L,3,FALSE))","v":""},{"$f":"IF(ISERROR(VLOOKUP($A819,check!$A:$L,4,FALSE))=TRUE,\"\",VLOOKUP($A819,check!$A:$L,4,FALSE))","v":""},{"$f":"IF(ISERROR(VLOOKUP($A819,check!$A:$L,5,FALSE))=TRUE,\"\",VLOOKUP($A819,check!$A:$L,5,FALSE))","v":""},{"$f":"IF(ISERROR(VLOOKUP($A819,check!$A:$L,6,FALSE))=TRUE,\"\",VLOOKUP($A819,check!$A:$L,6,FALSE))","v":""},{"$f":"IF(ISERROR(VLOOKUP($A819,check!$A:$L,7,FALSE))=TRUE,\"\",VLOOKUP($A819,check!$A:$L,7,FALSE))","v":""},{"$f":"IF(ISERROR(VLOOKUP($A819,check!$A:$L,8,FALSE))=TRUE,\"\",VLOOKUP($A819,check!$A:$L,8,FALSE))","v":""},{"$f":"IF(ISERROR(VLOOKUP($A819,check!$A:$L,9,FALSE))=TRUE,\"\",VLOOKUP($A819,check!$A:$L,9,FALSE))","v":""},{"$f":"IF(ISERROR(VLOOKUP($A819,check!$A:$L,10,FALSE))=TRUE,\"\",VLOOKUP($A819,check!$A:$L,10,FALSE))","v":""},{"$f":"IF(ISERROR(VLOOKUP($A819,check!$A:$L,11,FALSE))=TRUE,\"\",VLOOKUP($A819,check!$A:$L,11,FALSE))","v":""},{"$f":"IF(ISERROR(VLOOKUP($A819,check!$A:$L,12,FALSE))=TRUE,\"\",VLOOKUP($A819,check!$A:$L,12,FALSE))","v":""}]
[820,{"$f":"IF(C820=\"\",\"\",MATCH(A820,check!A:A,0))","v":""},{"$f":"IF(ISERROR(VLOOKUP($A820,check!$A:$L,2,FALSE))=TRUE,\"\",VLOOKUP($A820,check!$A:$L,2,FALSE))","v":""},{"$f":"IF(ISERROR(VLOOKUP($A820,check!$A:$L,3,FALSE))=TRUE,\"\",VLOOKUP($A820,check!$A:$L,3,FALSE))","v":""},{"$f":"IF(ISERROR(VLOOKUP($A820,check!$A:$L,4,FALSE))=TRUE,\"\",VLOOKUP($A820,check!$A:$L,4,FALSE))","v":""},{"$f":"IF(ISERROR(VLOOKUP($A820,check!$A:$L,5,FALSE))=TRUE,\"\",VLOOKUP($A820,check!$A:$L,5,FALSE))","v":""},{"$f":"IF(ISERROR(VLOOKUP($A820,check!$A:$L,6,FALSE))=TRUE,\"\",VLOOKUP($A820,check!$A:$L,6,FALSE))","v":""},{"$f":"IF(ISERROR(VLOOKUP($A820,check!$A:$L,7,FALSE))=TRUE,\"\",VLOOKUP($A820,check!$A:$L,7,FALSE))","v":""},{"$f":"IF(ISERROR(VLOOKUP($A820,check!$A:$L,8,FALSE))=TRUE,\"\",VLOOKUP($A820,check!$A:$L,8,FALSE))","v":""},{"$f":"IF(ISERROR(VLOOKUP($A820,check!$A:$L,9,FALSE))=TRUE,\"\",VLOOKUP($A820,check!$A:$L,9,FALSE))","v":""},{"$f":"IF(ISERROR(VLOOKUP($A820,check!$A:$L,10,FALSE))=TRUE,\"\",VLOOKUP($A820,check!$A:$L,10,FALSE))","v":""},{"$f":"IF(ISERROR(VLOOKUP($A820,check!$A:$L,11,FALSE))=TRUE,\"\",VLOOKUP($A820,check!$A:$L,11,FALSE))","v":""},{"$f":"IF(ISERROR(VLOOKUP($A820,check!$A:$L,12,FALSE))=TRUE,\"\",VLOOKUP($A820,check!$A:$L,12,FALSE))","v":""}]
[821,{"$f":"IF(C821=\"\",\"\",MATCH(A821,check!A:A,0))","v":""},{"$f":"IF(ISERROR(VLOOKUP($A821,check!$A:$L,2,FALSE))=TRUE,\"\",VLOOKUP($A821,check!$A:$L,2,FALSE))","v":""},{"$f":"IF(ISERROR(VLOOKUP($A821,check!$A:$L,3,FALSE))=TRUE,\"\",VLOOKUP($A821,check!$A:$L,3,FALSE))","v":""},{"$f":"IF(ISERROR(VLOOKUP($A821,check!$A:$L,4,FALSE))=TRUE,\"\",VLOOKUP($A821,check!$A:$L,4,FALSE))","v":""},{"$f":"IF(ISERROR(VLOOKUP($A821,check!$A:$L,5,FALSE))=TRUE,\"\",VLOOKUP($A821,check!$A:$L,5,FALSE))","v":""},{"$f":"IF(ISERROR(VLOOKUP($A821,check!$A:$L,6,FALSE))=TRUE,\"\",VLOOKUP($A821,check!$A:$L,6,FALSE))","v":""},{"$f":"IF(ISERROR(VLOOKUP($A821,check!$A:$L,7,FALSE))=TRUE,\"\",VLOOKUP($A821,check!$A:$L,7,FALSE))","v":""},{"$f":"IF(ISERROR(VLOOKUP($A821,check!$A:$L,8,FALSE))=TRUE,\"\",VLOOKUP($A821,check!$A:$L,8,FALSE))","v":""},{"$f":"IF(ISERROR(VLOOKUP($A821,check!$A:$L,9,FALSE))=TRUE,\"\",VLOOKUP($A821,check!$A:$L,9,FALSE))","v":""},{"$f":"IF(ISERROR(VLOOKUP($A821,check!$A:$L,10,FALSE))=TRUE,\"\",VLOOKUP($A821,check!$A:$L,10,FALSE))","v":""},{"$f":"IF(ISERROR(VLOOKUP($A821,check!$A:$L,11,FALSE))=TRUE,\"\",VLOOKUP($A821,check!$A:$L,11,FALSE))","v":""},{"$f":"IF(ISERROR(VLOOKUP($A821,check!$A:$L,12,FALSE))=TRUE,\"\",VLOOKUP($A821,check!$A:$L,12,FALSE))","v":""}]
[822,{"$f":"IF(C822=\"\",\"\",MATCH(A822,check!A:A,0))","v":""},{"$f":"IF(ISERROR(VLOOKUP($A822,check!$A:$L,2,FALSE))=TRUE,\"\",VLOOKUP($A822,check!$A:$L,2,FALSE))","v":""},{"$f":"IF(ISERROR(VLOOKUP($A822,check!$A:$L,3,FALSE))=TRUE,\"\",VLOOKUP($A822,check!$A:$L,3,FALSE))","v":""},{"$f":"IF(ISERROR(VLOOKUP($A822,check!$A:$L,4,FALSE))=TRUE,\"\",VLOOKUP($A822,check!$A:$L,4,FALSE))","v":""},{"$f":"IF(ISERROR(VLOOKUP($A822,check!$A:$L,5,FALSE))=TRUE,\"\",VLOOKUP($A822,check!$A:$L,5,FALSE))","v":""},{"$f":"IF(ISERROR(VLOOKUP($A822,check!$A:$L,6,FALSE))=TRUE,\"\",VLOOKUP($A822,check!$A:$L,6,FALSE))","v":""},{"$f":"IF(ISERROR(VLOOKUP($A822,check!$A:$L,7,FALSE))=TRUE,\"\",VLOOKUP($A822,check!$A:$L,7,FALSE))","v":""},{"$f":"IF(ISERROR(VLOOKUP($A822,check!$A:$L,8,FALSE))=TRUE,\"\",VLOOKUP($A822,check!$A:$L,8,FALSE))","v":""},{"$f":"IF(ISERROR(VLOOKUP($A822,check!$A:$L,9,FALSE))=TRUE,\"\",VLOOKUP($A822,check!$A:$L,9,FALSE))","v":""},{"$f":"IF(ISERROR(VLOOKUP($A822,check!$A:$L,10,FALSE))=TRUE,\"\",VLOOKUP($A822,check!$A:$L,10,FALSE))","v":""},{"$f":"IF(ISERROR(VLOOKUP($A822,check!$A:$L,11,FALSE))=TRUE,\"\",VLOOKUP($A822,check!$A:$L,11,FALSE))","v":""},{"$f":"IF(ISERROR(VLOOKUP($A822,check!$A:$L,12,FALSE))=TRUE,\"\",VLOOKUP($A822,check!$A:$L,12,FALSE))","v":""}]
[823,{"$f":"IF(C823=\"\",\"\",MATCH(A823,check!A:A,0))","v":""},{"$f":"IF(ISERROR(VLOOKUP($A823,check!$A:$L,2,FALSE))=TRUE,\"\",VLOOKUP($A823,check!$A:$L,2,FALSE))","v":""},{"$f":"IF(ISERROR(VLOOKUP($A823,check!$A:$L,3,FALSE))=TRUE,\"\",VLOOKUP($A823,check!$A:$L,3,FALSE))","v":""},{"$f":"IF(ISERROR(VLOOKUP($A823,check!$A:$L,4,FALSE))=TRUE,\"\",VLOOKUP($A823,check!$A:$L,4,FALSE))","v":""},{"$f":"IF(ISERROR(VLOOKUP($A823,check!$A:$L,5,FALSE))=TRUE,\"\",VLOOKUP($A823,check!$A:$L,5,FALSE))","v":""},{"$f":"IF(ISERROR(VLOOKUP($A823,check!$A:$L,6,FALSE))=TRUE,\"\",VLOOKUP($A823,check!$A:$L,6,FALSE))","v":""},{"$f":"IF(ISERROR(VLOOKUP($A823,check!$A:$L,7,FALSE))=TRUE,\"\",VLOOKUP($A823,check!$A:$L,7,FALSE))","v":""},{"$f":"IF(ISERROR(VLOOKUP($A823,check!$A:$L,8,FALSE))=TRUE,\"\",VLOOKUP($A823,check!$A:$L,8,FALSE))","v":""},{"$f":"IF(ISERROR(VLOOKUP($A823,check!$A:$L,9,FALSE))=TRUE,\"\",VLOOKUP($A823,check!$A:$L,9,FALSE))","v":""},{"$f":"IF(ISERROR(VLOOKUP($A823,check!$A:$L,10,FALSE))=TRUE,\"\",VLOOKUP($A823,check!$A:$L,10,FALSE))","v":""},{"$f":"IF(ISERROR(VLOOKUP($A823,check!$A:$L,11,FALSE))=TRUE,\"\",VLOOKUP($A823,check!$A:$L,11,FALSE))","v":""},{"$f":"IF(ISERROR(VLOOKUP($A823,check!$A:$L,12,FALSE))=TRUE,\"\",VLOOKUP($A823,check!$A:$L,12,FALSE))","v":""}]
[824,{"$f":"IF(C824=\"\",\"\",MATCH(A824,check!A:A,0))","v":""},{"$f":"IF(ISERROR(VLOOKUP($A824,check!$A:$L,2,FALSE))=TRUE,\"\",VLOOKUP($A824,check!$A:$L,2,FALSE))","v":""},{"$f":"IF(ISERROR(VLOOKUP($A824,check!$A:$L,3,FALSE))=TRUE,\"\",VLOOKUP($A824,check!$A:$L,3,FALSE))","v":""},{"$f":"IF(ISERROR(VLOOKUP($A824,check!$A:$L,4,FALSE))=TRUE,\"\",VLOOKUP($A824,check!$A:$L,4,FALSE))","v":""},{"$f":"IF(ISERROR(VLOOKUP($A824,check!$A:$L,5,FALSE))=TRUE,\"\",VLOOKUP($A824,check!$A:$L,5,FALSE))","v":""},{"$f":"IF(ISERROR(VLOOKUP($A824,check!$A:$L,6,FALSE))=TRUE,\"\",VLOOKUP($A824,check!$A:$L,6,FALSE))","v":""},{"$f":"IF(ISERROR(VLOOKUP($A824,check!$A:$L,7,FALSE))=TRUE,\"\",VLOOKUP($A824,check!$A:$L,7,FALSE))","v":""},{"$f":"IF(ISERROR(VLOOKUP($A824,check!$A:$L,8,FALSE))=TRUE,\"\",VLOOKUP($A824,check!$A:$L,8,FALSE))","v":""},{"$f":"IF(ISERROR(VLOOKUP($A824,check!$A:$L,9,FALSE))=TRUE,\"\",VLOOKUP($A824,check!$A:$L,9,FALSE))","v":""},{"$f":"IF(ISERROR(VLOOKUP($A824,check!$A:$L,10,FALSE))=TRUE,\"\",VLOOKUP($A824,check!$A:$L,10,FALSE))","v":""},{"$f":"IF(ISERROR(VLOOKUP($A824,check!$A:$L,11,FALSE))=TRUE,\"\",VLOOKUP($A824,check!$A:$L,11,FALSE))","v":""},{"$f":"IF(ISERROR(VLOOKUP($A824,check!$A:$L,12,FALSE))=TRUE,\"\",VLOOKUP($A824,check!$A:$L,12,FALSE))","v":""}]
[825,{"$f":"IF(C825=\"\",\"\",MATCH(A825,check!A:A,0))","v":""},{"$f":"IF(ISERROR(VLOOKUP($A825,check!$A:$L,2,FALSE))=TRUE,\"\",VLOOKUP($A825,check!$A:$L,2,FALSE))","v":""},{"$f":"IF(ISERROR(VLOOKUP($A825,check!$A:$L,3,FALSE))=TRUE,\"\",VLOOKUP($A825,check!$A:$L,3,FALSE))","v":""},{"$f":"IF(ISERROR(VLOOKUP($A825,check!$A:$L,4,FALSE))=TRUE,\"\",VLOOKUP($A825,check!$A:$L,4,FALSE))","v":""},{"$f":"IF(ISERROR(VLOOKUP($A825,check!$A:$L,5,FALSE))=TRUE,\"\",VLOOKUP($A825,check!$A:$L,5,FALSE))","v":""},{"$f":"IF(ISERROR(VLOOKUP($A825,check!$A:$L,6,FALSE))=TRUE,\"\",VLOOKUP($A825,check!$A:$L,6,FALSE))","v":""},{"$f":"IF(ISERROR(VLOOKUP($A825,check!$A:$L,7,FALSE))=TRUE,\"\",VLOOKUP($A825,check!$A:$L,7,FALSE))","v":""},{"$f":"IF(ISERROR(VLOOKUP($A825,check!$A:$L,8,FALSE))=TRUE,\"\",VLOOKUP($A825,check!$A:$L,8,FALSE))","v":""},{"$f":"IF(ISERROR(VLOOKUP($A825,check!$A:$L,9,FALSE))=TRUE,\"\",VLOOKUP($A825,check!$A:$L,9,FALSE))","v":""},{"$f":"IF(ISERROR(VLOOKUP($A825,check!$A:$L,10,FALSE))=TRUE,\"\",VLOOKUP($A825,check!$A:$L,10,FALSE))","v":""},{"$f":"IF(ISERROR(VLOOKUP($A825,check!$A:$L,11,FALSE))=TRUE,\"\",VLOOKUP($A825,check!$A:$L,11,FALSE))","v":""},{"$f":"IF(ISERROR(VLOOKUP($A825,check!$A:$L,12,FALSE))=TRUE,\"\",VLOOKUP($A825,check!$A:$L,12,FALSE))","v":""}]
[826,{"$f":"IF(C826=\"\",\"\",MATCH(A826,check!A:A,0))","v":""},{"$f":"IF(ISERROR(VLOOKUP($A826,check!$A:$L,2,FALSE))=TRUE,\"\",VLOOKUP($A826,check!$A:$L,2,FALSE))","v":""},{"$f":"IF(ISERROR(VLOOKUP($A826,check!$A:$L,3,FALSE))=TRUE,\"\",VLOOKUP($A826,check!$A:$L,3,FALSE))","v":""},{"$f":"IF(ISERROR(VLOOKUP($A826,check!$A:$L,4,FALSE))=TRUE,\"\",VLOOKUP($A826,check!$A:$L,4,FALSE))","v":""},{"$f":"IF(ISERROR(VLOOKUP($A826,check!$A:$L,5,FALSE))=TRUE,\"\",VLOOKUP($A826,check!$A:$L,5,FALSE))","v":""},{"$f":"IF(ISERROR(VLOOKUP($A826,check!$A:$L,6,FALSE))=TRUE,\"\",VLOOKUP($A826,check!$A:$L,6,FALSE))","v":""},{"$f":"IF(ISERROR(VLOOKUP($A826,check!$A:$L,7,FALSE))=TRUE,\"\",VLOOKUP($A826,check!$A:$L,7,FALSE))","v":""},{"$f":"IF(ISERROR(VLOOKUP($A826,check!$A:$L,8,FALSE))=TRUE,\"\",VLOOKUP($A826,check!$A:$L,8,FALSE))","v":""},{"$f":"IF(ISERROR(VLOOKUP($A826,check!$A:$L,9,FALSE))=TRUE,\"\",VLOOKUP($A826,check!$A:$L,9,FALSE))","v":""},{"$f":"IF(ISERROR(VLOOKUP($A826,check!$A:$L,10,FALSE))=TRUE,\"\",VLOOKUP($A826,check!$A:$L,10,FALSE))","v":""},{"$f":"IF(ISERROR(VLOOKUP($A826,check!$A:$L,11,FALSE))=TRUE,\"\",VLOOKUP($A826,check!$A:$L,11,FALSE))","v":""},{"$f":"IF(ISERROR(VLOOKUP($A826,check!$A:$L,12,FALSE))=TRUE,\"\",VLOOKUP($A826,check!$A:$L,12,FALSE))","v":""}]
[827,{"$f":"IF(C827=\"\",\"\",MATCH(A827,check!A:A,0))","v":""},{"$f":"IF(ISERROR(VLOOKUP($A827,check!$A:$L,2,FALSE))=TRUE,\"\",VLOOKUP($A827,check!$A:$L,2,FALSE))","v":""},{"$f":"IF(ISERROR(VLOOKUP($A827,check!$A:$L,3,FALSE))=TRUE,\"\",VLOOKUP($A827,check!$A:$L,3,FALSE))","v":""},{"$f":"IF(ISERROR(VLOOKUP($A827,check!$A:$L,4,FALSE))=TRUE,\"\",VLOOKUP($A827,check!$A:$L,4,FALSE))","v":""},{"$f":"IF(ISERROR(VLOOKUP($A827,check!$A:$L,5,FALSE))=TRUE,\"\",VLOOKUP($A827,check!$A:$L,5,FALSE))","v":""},{"$f":"IF(ISERROR(VLOOKUP($A827,check!$A:$L,6,FALSE))=TRUE,\"\",VLOOKUP($A827,check!$A:$L,6,FALSE))","v":""},{"$f":"IF(ISERROR(VLOOKUP($A827,check!$A:$L,7,FALSE))=TRUE,\"\",VLOOKUP($A827,check!$A:$L,7,FALSE))","v":""},{"$f":"IF(ISERROR(VLOOKUP($A827,check!$A:$L,8,FALSE))=TRUE,\"\",VLOOKUP($A827,check!$A:$L,8,FALSE))","v":""},{"$f":"IF(ISERROR(VLOOKUP($A827,check!$A:$L,9,FALSE))=TRUE,\"\",VLOOKUP($A827,check!$A:$L,9,FALSE))","v":""},{"$f":"IF(ISERROR(VLOOKUP($A827,check!$A:$L,10,FALSE))=TRUE,\"\",VLOOKUP($A827,check!$A:$L,10,FALSE))","v":""},{"$f":"IF(ISERROR(VLOOKUP($A827,check!$A:$L,11,FALSE))=TRUE,\"\",VLOOKUP($A827,check!$A:$L,11,FALSE))","v":""},{"$f":"IF(ISERROR(VLOOKUP($A827,check!$A:$L,12,FALSE))=TRUE,\"\",VLOOKUP($A827,check!$A:$L,12,FALSE))","v":""}]
[828,{"$f":"IF(C828=\"\",\"\",MATCH(A828,check!A:A,0))","v":""},{"$f":"IF(ISERROR(VLOOKUP($A828,check!$A:$L,2,FALSE))=TRUE,\"\",VLOOKUP($A828,check!$A:$L,2,FALSE))","v":""},{"$f":"IF(ISERROR(VLOOKUP($A828,check!$A:$L,3,FALSE))=TRUE,\"\",VLOOKUP($A828,check!$A:$L,3,FALSE))","v":""},{"$f":"IF(ISERROR(VLOOKUP($A828,check!$A:$L,4,FALSE))=TRUE,\"\",VLOOKUP($A828,check!$A:$L,4,FALSE))","v":""},{"$f":"IF(ISERROR(VLOOKUP($A828,check!$A:$L,5,FALSE))=TRUE,\"\",VLOOKUP($A828,check!$A:$L,5,FALSE))","v":""},{"$f":"IF(ISERROR(VLOOKUP($A828,check!$A:$L,6,FALSE))=TRUE,\"\",VLOOKUP($A828,check!$A:$L,6,FALSE))","v":""},{"$f":"IF(ISERROR(VLOOKUP($A828,check!$A:$L,7,FALSE))=TRUE,\"\",VLOOKUP($A828,check!$A:$L,7,FALSE))","v":""},{"$f":"IF(ISERROR(VLOOKUP($A828,check!$A:$L,8,FALSE))=TRUE,\"\",VLOOKUP($A828,check!$A:$L,8,FALSE))","v":""},{"$f":"IF(ISERROR(VLOOKUP($A828,check!$A:$L,9,FALSE))=TRUE,\"\",VLOOKUP($A828,check!$A:$L,9,FALSE))","v":""},{"$f":"IF(ISERROR(VLOOKUP($A828,check!$A:$L,10,FALSE))=TRUE,\"\",VLOOKUP($A828,check!$A:$L,10,FALSE))","v":""},{"$f":"IF(ISERROR(VLOOKUP($A828,check!$A:$L,11,FALSE))=TRUE,\"\",VLOOKUP($A828,check!$A:$L,11,FALSE))","v":""},{"$f":"IF(ISERROR(VLOOKUP($A828,check!$A:$L,12,FALSE))=TRUE,\"\",VLOOKUP($A828,check!$A:$L,12,FALSE))","v":""}]
[829,{"$f":"IF(C829=\"\",\"\",MATCH(A829,check!A:A,0))","v":""},{"$f":"IF(ISERROR(VLOOKUP($A829,check!$A:$L,2,FALSE))=TRUE,\"\",VLOOKUP($A829,check!$A:$L,2,FALSE))","v":""},{"$f":"IF(ISERROR(VLOOKUP($A829,check!$A:$L,3,FALSE))=TRUE,\"\",VLOOKUP($A829,check!$A:$L,3,FALSE))","v":""},{"$f":"IF(ISERROR(VLOOKUP($A829,check!$A:$L,4,FALSE))=TRUE,\"\",VLOOKUP($A829,check!$A:$L,4,FALSE))","v":""},{"$f":"IF(ISERROR(VLOOKUP($A829,check!$A:$L,5,FALSE))=TRUE,\"\",VLOOKUP($A829,check!$A:$L,5,FALSE))","v":""},{"$f":"IF(ISERROR(VLOOKUP($A829,check!$A:$L,6,FALSE))=TRUE,\"\",VLOOKUP($A829,check!$A:$L,6,FALSE))","v":""},{"$f":"IF(ISERROR(VLOOKUP($A829,check!$A:$L,7,FALSE))=TRUE,\"\",VLOOKUP($A829,check!$A:$L,7,FALSE))","v":""},{"$f":"IF(ISERROR(VLOOKUP($A829,check!$A:$L,8,FALSE))=TRUE,\"\",VLOOKUP($A829,check!$A:$L,8,FALSE))","v":""},{"$f":"IF(ISERROR(VLOOKUP($A829,check!$A:$L,9,FALSE))=TRUE,\"\",VLOOKUP($A829,check!$A:$L,9,FALSE))","v":""},{"$f":"IF(ISERROR(VLOOKUP($A829,check!$A:$L,10,FALSE))=TRUE,\"\",VLOOKUP($A829,check!$A:$L,10,FALSE))","v":""},{"$f":"IF(ISERROR(VLOOKUP($A829,check!$A:$L,11,FALSE))=TRUE,\"\",VLOOKUP($A829,check!$A:$L,11,FALSE))","v":""},{"$f":"IF(ISERROR(VLOOKUP($A829,check!$A:$L,12,FALSE))=TRUE,\"\",VLOOKUP($A829,check!$A:$L,12,FALSE))","v":""}]
[830,{"$f":"IF(C830=\"\",\"\",MATCH(A830,check!A:A,0))","v":""},{"$f":"IF(ISERROR(VLOOKUP($A830,check!$A:$L,2,FALSE))=TRUE,\"\",VLOOKUP($A830,check!$A:$L,2,FALSE))","v":""},{"$f":"IF(ISERROR(VLOOKUP($A830,check!$A:$L,3,FALSE))=TRUE,\"\",VLOOKUP($A830,check!$A:$L,3,FALSE))","v":""},{"$f":"IF(ISERROR(VLOOKUP($A830,check!$A:$L,4,FALSE))=TRUE,\"\",VLOOKUP($A830,check!$A:$L,4,FALSE))","v":""},{"$f":"IF(ISERROR(VLOOKUP($A830,check!$A:$L,5,FALSE))=TRUE,\"\",VLOOKUP($A830,check!$A:$L,5,FALSE))","v":""},{"$f":"IF(ISERROR(VLOOKUP($A830,check!$A:$L,6,FALSE))=TRUE,\"\",VLOOKUP($A830,check!$A:$L,6,FALSE))","v":""},{"$f":"IF(ISERROR(VLOOKUP($A830,check!$A:$L,7,FALSE))=TRUE,\"\",VLOOKUP($A830,check!$A:$L,7,FALSE))","v":""},{"$f":"IF(ISERROR(VLOOKUP($A830,check!$A:$L,8,FALSE))=TRUE,\"\",VLOOKUP($A830,check!$A:$L,8,FALSE))","v":""},{"$f":"IF(ISERROR(VLOOKUP($A830,check!$A:$L,9,FALSE))=TRUE,\"\",VLOOKUP($A830,check!$A:$L,9,FALSE))","v":""},{"$f":"IF(ISERROR(VLOOKUP($A830,check!$A:$L,10,FALSE))=TRUE,\"\",VLOOKUP($A830,check!$A:$L,10,FALSE))","v":""},{"$f":"IF(ISERROR(VLOOKUP($A830,check!$A:$L,11,FALSE))=TRUE,\"\",VLOOKUP($A830,check!$A:$L,11,FALSE))","v":""},{"$f":"IF(ISERROR(VLOOKUP($A830,check!$A:$L,12,FALSE))=TRUE,\"\",VLOOKUP($A830,check!$A:$L,12,FALSE))","v":""}]
[831,{"$f":"IF(C831=\"\",\"\",MATCH(A831,check!A:A,0))","v":""},{"$f":"IF(ISERROR(VLOOKUP($A831,check!$A:$L,2,FALSE))=TRUE,\"\",VLOOKUP($A831,check!$A:$L,2,FALSE))","v":""},{"$f":"IF(ISERROR(VLOOKUP($A831,check!$A:$L,3,FALSE))=TRUE,\"\",VLOOKUP($A831,check!$A:$L,3,FALSE))","v":""},{"$f":"IF(ISERROR(VLOOKUP($A831,check!$A:$L,4,FALSE))=TRUE,\"\",VLOOKUP($A831,check!$A:$L,4,FALSE))","v":""},{"$f":"IF(ISERROR(VLOOKUP($A831,check!$A:$L,5,FALSE))=TRUE,\"\",VLOOKUP($A831,check!$A:$L,5,FALSE))","v":""},{"$f":"IF(ISERROR(VLOOKUP($A831,check!$A:$L,6,FALSE))=TRUE,\"\",VLOOKUP($A831,check!$A:$L,6,FALSE))","v":""},{"$f":"IF(ISERROR(VLOOKUP($A831,check!$A:$L,7,FALSE))=TRUE,\"\",VLOOKUP($A831,check!$A:$L,7,FALSE))","v":""},{"$f":"IF(ISERROR(VLOOKUP($A831,check!$A:$L,8,FALSE))=TRUE,\"\",VLOOKUP($A831,check!$A:$L,8,FALSE))","v":""},{"$f":"IF(ISERROR(VLOOKUP($A831,check!$A:$L,9,FALSE))=TRUE,\"\",VLOOKUP($A831,check!$A:$L,9,FALSE))","v":""},{"$f":"IF(ISERROR(VLOOKUP($A831,check!$A:$L,10,FALSE))=TRUE,\"\",VLOOKUP($A831,check!$A:$L,10,FALSE))","v":""},{"$f":"IF(ISERROR(VLOOKUP($A831,check!$A:$L,11,FALSE))=TRUE,\"\",VLOOKUP($A831,check!$A:$L,11,FALSE))","v":""},{"$f":"IF(ISERROR(VLOOKUP($A831,check!$A:$L,12,FALSE))=TRUE,\"\",VLOOKUP($A831,check!$A:$L,12,FALSE))","v":""}]
[832,{"$f":"IF(C832=\"\",\"\",MATCH(A832,check!A:A,0))","v":""},{"$f":"IF(ISERROR(VLOOKUP($A832,check!$A:$L,2,FALSE))=TRUE,\"\",VLOOKUP($A832,check!$A:$L,2,FALSE))","v":""},{"$f":"IF(ISERROR(VLOOKUP($A832,check!$A:$L,3,FALSE))=TRUE,\"\",VLOOKUP($A832,check!$A:$L,3,FALSE))","v":""},{"$f":"IF(ISERROR(VLOOKUP($A832,check!$A:$L,4,FALSE))=TRUE,\"\",VLOOKUP($A832,check!$A:$L,4,FALSE))","v":""},{"$f":"IF(ISERROR(VLOOKUP($A832,check!$A:$L,5,FALSE))=TRUE,\"\",VLOOKUP($A832,check!$A:$L,5,FALSE))","v":""},{"$f":"IF(ISERROR(VLOOKUP($A832,check!$A:$L,6,FALSE))=TRUE,\"\",VLOOKUP($A832,check!$A:$L,6,FALSE))","v":""},{"$f":"IF(ISERROR(VLOOKUP($A832,check!$A:$L,7,FALSE))=TRUE,\"\",VLOOKUP($A832,check!$A:$L,7,FALSE))","v":""},{"$f":"IF(ISERROR(VLOOKUP($A832,check!$A:$L,8,FALSE))=TRUE,\"\",VLOOKUP($A832,check!$A:$L,8,FALSE))","v":""},{"$f":"IF(ISERROR(VLOOKUP($A832,check!$A:$L,9,FALSE))=TRUE,\"\",VLOOKUP($A832,check!$A:$L,9,FALSE))","v":""},{"$f":"IF(ISERROR(VLOOKUP($A832,check!$A:$L,10,FALSE))=TRUE,\"\",VLOOKUP($A832,check!$A:$L,10,FALSE))","v":""},{"$f":"IF(ISERROR(VLOOKUP($A832,check!$A:$L,11,FALSE))=TRUE,\"\",VLOOKUP($A832,check!$A:$L,11,FALSE))","v":""},{"$f":"IF(ISERROR(VLOOKUP($A832,check!$A:$L,12,FALSE))=TRUE,\"\",VLOOKUP($A832,check!$A:$L,12,FALSE))","v":""}]
[833,{"$f":"IF(C833=\"\",\"\",MATCH(A833,check!A:A,0))","v":""},{"$f":"IF(ISERROR(VLOOKUP($A833,check!$A:$L,2,FALSE))=TRUE,\"\",VLOOKUP($A833,check!$A:$L,2,FALSE))","v":""},{"$f":"IF(ISERROR(VLOOKUP($A833,check!$A:$L,3,FALSE))=TRUE,\"\",VLOOKUP($A833,check!$A:$L,3,FALSE))","v":""},{"$f":"IF(ISERROR(VLOOKUP($A833,check!$A:$L,4,FALSE))=TRUE,\"\",VLOOKUP($A833,check!$A:$L,4,FALSE))","v":""},{"$f":"IF(ISERROR(VLOOKUP($A833,check!$A:$L,5,FALSE))=TRUE,\"\",VLOOKUP($A833,check!$A:$L,5,FALSE))","v":""},{"$f":"IF(ISERROR(VLOOKUP($A833,check!$A:$L,6,FALSE))=TRUE,\"\",VLOOKUP($A833,check!$A:$L,6,FALSE))","v":""},{"$f":"IF(ISERROR(VLOOKUP($A833,check!$A:$L,7,FALSE))=TRUE,\"\",VLOOKUP($A833,check!$A:$L,7,FALSE))","v":""},{"$f":"IF(ISERROR(VLOOKUP($A833,check!$A:$L,8,FALSE))=TRUE,\"\",VLOOKUP($A833,check!$A:$L,8,FALSE))","v":""},{"$f":"IF(ISERROR(VLOOKUP($A833,check!$A:$L,9,FALSE))=TRUE,\"\",VLOOKUP($A833,check!$A:$L,9,FALSE))","v":""},{"$f":"IF(ISERROR(VLOOKUP($A833,check!$A:$L,10,FALSE))=TRUE,\"\",VLOOKUP($A833,check!$A:$L,10,FALSE))","v":""},{"$f":"IF(ISERROR(VLOOKUP($A833,check!$A:$L,11,FALSE))=TRUE,\"\",VLOOKUP($A833,check!$A:$L,11,FALSE))","v":""},{"$f":"IF(ISERROR(VLOOKUP($A833,check!$A:$L,12,FALSE))=TRUE,\"\",VLOOKUP($A833,check!$A:$L,12,FALSE))","v":""}]
[834,{"$f":"IF(C834=\"\",\"\",MATCH(A834,check!A:A,0))","v":""},{"$f":"IF(ISERROR(VLOOKUP($A834,check!$A:$L,2,FALSE))=TRUE,\"\",VLOOKUP($A834,check!$A:$L,2,FALSE))","v":""},{"$f":"IF(ISERROR(VLOOKUP($A834,check!$A:$L,3,FALSE))=TRUE,\"\",VLOOKUP($A834,check!$A:$L,3,FALSE))","v":""},{"$f":"IF(ISERROR(VLOOKUP($A834,check!$A:$L,4,FALSE))=TRUE,\"\",VLOOKUP($A834,check!$A:$L,4,FALSE))","v":""},{"$f":"IF(ISERROR(VLOOKUP($A834,check!$A:$L,5,FALSE))=TRUE,\"\",VLOOKUP($A834,check!$A:$L,5,FALSE))","v":""},{"$f":"IF(ISERROR(VLOOKUP($A834,check!$A:$L,6,FALSE))=TRUE,\"\",VLOOKUP($A834,check!$A:$L,6,FALSE))","v":""},{"$f":"IF(ISERROR(VLOOKUP($A834,check!$A:$L,7,FALSE))=TRUE,\"\",VLOOKUP($A834,check!$A:$L,7,FALSE))","v":""},{"$f":"IF(ISERROR(VLOOKUP($A834,check!$A:$L,8,FALSE))=TRUE,\"\",VLOOKUP($A834,check!$A:$L,8,FALSE))","v":""},{"$f":"IF(ISERROR(VLOOKUP($A834,check!$A:$L,9,FALSE))=TRUE,\"\",VLOOKUP($A834,check!$A:$L,9,FALSE))","v":""},{"$f":"IF(ISERROR(VLOOKUP($A834,check!$A:$L,10,FALSE))=TRUE,\"\",VLOOKUP($A834,check!$A:$L,10,FALSE))","v":""},{"$f":"IF(ISERROR(VLOOKUP($A834,check!$A:$L,11,FALSE))=TRUE,\"\",VLOOKUP($A834,check!$A:$L,11,FALSE))","v":""},{"$f":"IF(ISERROR(VLOOKUP($A834,check!$A:$L,12,FALSE))=TRUE,\"\",VLOOKUP($A834,check!$A:$L,12,FALSE))","v":""}]
[835,{"$f":"IF(C835=\"\",\"\",MATCH(A835,check!A:A,0))","v":""},{"$f":"IF(ISERROR(VLOOKUP($A835,check!$A:$L,2,FALSE))=TRUE,\"\",VLOOKUP($A835,check!$A:$L,2,FALSE))","v":""},{"$f":"IF(ISERROR(VLOOKUP($A835,check!$A:$L,3,FALSE))=TRUE,\"\",VLOOKUP($A835,check!$A:$L,3,FALSE))","v":""},{"$f":"IF(ISERROR(VLOOKUP($A835,check!$A:$L,4,FALSE))=TRUE,\"\",VLOOKUP($A835,check!$A:$L,4,FALSE))","v":""},{"$f":"IF(ISERROR(VLOOKUP($A835,check!$A:$L,5,FALSE))=TRUE,\"\",VLOOKUP($A835,check!$A:$L,5,FALSE))","v":""},{"$f":"IF(ISERROR(VLOOKUP($A835,check!$A:$L,6,FALSE))=TRUE,\"\",VLOOKUP($A835,check!$A:$L,6,FALSE))","v":""},{"$f":"IF(ISERROR(VLOOKUP($A835,check!$A:$L,7,FALSE))=TRUE,\"\",VLOOKUP($A835,check!$A:$L,7,FALSE))","v":""},{"$f":"IF(ISERROR(VLOOKUP($A835,check!$A:$L,8,FALSE))=TRUE,\"\",VLOOKUP($A835,check!$A:$L,8,FALSE))","v":""},{"$f":"IF(ISERROR(VLOOKUP($A835,check!$A:$L,9,FALSE))=TRUE,\"\",VLOOKUP($A835,check!$A:$L,9,FALSE))","v":""},{"$f":"IF(ISERROR(VLOOKUP($A835,check!$A:$L,10,FALSE))=TRUE,\"\",VLOOKUP($A835,check!$A:$L,10,FALSE))","v":""},{"$f":"IF(ISERROR(VLOOKUP($A835,check!$A:$L,11,FALSE))=TRUE,\"\",VLOOKUP($A835,check!$A:$L,11,FALSE))","v":""},{"$f":"IF(ISERROR(VLOOKUP($A835,check!$A:$L,12,FALSE))=TRUE,\"\",VLOOKUP($A835,check!$A:$L,12,FALSE))","v":""}]
[{"$f":"A835+1","v":836},{"$f":"IF(C836=\"\",\"\",MATCH(A836,check!A:A,0))","v":""},{"$f":"IF(ISERROR(VLOOKUP($A836,check!$A:$L,2,FALSE))=TRUE,\"\",VLOOKUP($A836,check!$A:$L,2,FALSE))","v":""},{"$f":"IF(ISERROR(VLOOKUP($A836,check!$A:$L,3,FALSE))=TRUE,\"\",VLOOKUP($A836,check!$A:$L,3,FALSE))","v":""},{"$f":"IF(ISERROR(VLOOKUP($A836,check!$A:$L,4,FALSE))=TRUE,\"\",VLOOKUP($A836,check!$A:$L,4,FALSE))","v":""},{"$f":"IF(ISERROR(VLOOKUP($A836,check!$A:$L,5,FALSE))=TRUE,\"\",VLOOKUP($A836,check!$A:$L,5,FALSE))","v":""},{"$f":"IF(ISERROR(VLOOKUP($A836,check!$A:$L,6,FALSE))=TRUE,\"\",VLOOKUP($A836,check!$A:$L,6,FALSE))","v":""},{"$f":"IF(ISERROR(VLOOKUP($A836,check!$A:$L,7,FALSE))=TRUE,\"\",VLOOKUP($A836,check!$A:$L,7,FALSE))","v":""},{"$f":"IF(ISERROR(VLOOKUP($A836,check!$A:$L,8,FALSE))=TRUE,\"\",VLOOKUP($A836,check!$A:$L,8,FALSE))","v":""},{"$f":"IF(ISERROR(VLOOKUP($A836,check!$A:$L,9,FALSE))=TRUE,\"\",VLOOKUP($A836,check!$A:$L,9,FALSE))","v":""},{"$f":"IF(ISERROR(VLOOKUP($A836,check!$A:$L,10,FALSE))=TRUE,\"\",VLOOKUP($A836,check!$A:$L,10,FALSE))","v":""},{"$f":"IF(ISERROR(VLOOKUP($A836,check!$A:$L,11,FALSE))=TRUE,\"\",VLOOKUP($A836,check!$A:$L,11,FALSE))","v":""},{"$f":"IF(ISERROR(VLOOKUP($A836,check!$A:$L,12,FALSE))=TRUE,\"\",VLOOKUP($A836,check!$A:$L,12,FALSE))","v":""}]
[837,{"$f":"IF(C837=\"\",\"\",MATCH(A837,check!A:A,0))","v":""},{"$f":"IF(ISERROR(VLOOKUP($A837,check!$A:$L,2,FALSE))=TRUE,\"\",VLOOKUP($A837,check!$A:$L,2,FALSE))","v":""},{"$f":"IF(ISERROR(VLOOKUP($A837,check!$A:$L,3,FALSE))=TRUE,\"\",VLOOKUP($A837,check!$A:$L,3,FALSE))","v":""},{"$f":"IF(ISERROR(VLOOKUP($A837,check!$A:$L,4,FALSE))=TRUE,\"\",VLOOKUP($A837,check!$A:$L,4,FALSE))","v":""},{"$f":"IF(ISERROR(VLOOKUP($A837,check!$A:$L,5,FALSE))=TRUE,\"\",VLOOKUP($A837,check!$A:$L,5,FALSE))","v":""},{"$f":"IF(ISERROR(VLOOKUP($A837,check!$A:$L,6,FALSE))=TRUE,\"\",VLOOKUP($A837,check!$A:$L,6,FALSE))","v":""},{"$f":"IF(ISERROR(VLOOKUP($A837,check!$A:$L,7,FALSE))=TRUE,\"\",VLOOKUP($A837,check!$A:$L,7,FALSE))","v":""},{"$f":"IF(ISERROR(VLOOKUP($A837,check!$A:$L,8,FALSE))=TRUE,\"\",VLOOKUP($A837,check!$A:$L,8,FALSE))","v":""},{"$f":"IF(ISERROR(VLOOKUP($A837,check!$A:$L,9,FALSE))=TRUE,\"\",VLOOKUP($A837,check!$A:$L,9,FALSE))","v":""},{"$f":"IF(ISERROR(VLOOKUP($A837,check!$A:$L,10,FALSE))=TRUE,\"\",VLOOKUP($A837,check!$A:$L,10,FALSE))","v":""},{"$f":"IF(ISERROR(VLOOKUP($A837,check!$A:$L,11,FALSE))=TRUE,\"\",VLOOKUP($A837,check!$A:$L,11,FALSE))","v":""},{"$f":"IF(ISERROR(VLOOKUP($A837,check!$A:$L,12,FALSE))=TRUE,\"\",VLOOKUP($A837,check!$A:$L,12,FALSE))","v":""}]
[838,{"$f":"IF(C838=\"\",\"\",MATCH(A838,check!A:A,0))","v":""},{"$f":"IF(ISERROR(VLOOKUP($A838,check!$A:$L,2,FALSE))=TRUE,\"\",VLOOKUP($A838,check!$A:$L,2,FALSE))","v":""},{"$f":"IF(ISERROR(VLOOKUP($A838,check!$A:$L,3,FALSE))=TRUE,\"\",VLOOKUP($A838,check!$A:$L,3,FALSE))","v":""},{"$f":"IF(ISERROR(VLOOKUP($A838,check!$A:$L,4,FALSE))=TRUE,\"\",VLOOKUP($A838,check!$A:$L,4,FALSE))","v":""},{"$f":"IF(ISERROR(VLOOKUP($A838,check!$A:$L,5,FALSE))=TRUE,\"\",VLOOKUP($A838,check!$A:$L,5,FALSE))","v":""},{"$f":"IF(ISERROR(VLOOKUP($A838,check!$A:$L,6,FALSE))=TRUE,\"\",VLOOKUP($A838,check!$A:$L,6,FALSE))","v":""},{"$f":"IF(ISERROR(VLOOKUP($A838,check!$A:$L,7,FALSE))=TRUE,\"\",VLOOKUP($A838,check!$A:$L,7,FALSE))","v":""},{"$f":"IF(ISERROR(VLOOKUP($A838,check!$A:$L,8,FALSE))=TRUE,\"\",VLOOKUP($A838,check!$A:$L,8,FALSE))","v":""},{"$f":"IF(ISERROR(VLOOKUP($A838,check!$A:$L,9,FALSE))=TRUE,\"\",VLOOKUP($A838,check!$A:$L,9,FALSE))","v":""},{"$f":"IF(ISERROR(VLOOKUP($A838,check!$A:$L,10,FALSE))=TRUE,\"\",VLOOKUP($A838,check!$A:$L,10,FALSE))","v":""},{"$f":"IF(ISERROR(VLOOKUP($A838,check!$A:$L,11,FALSE))=TRUE,\"\",VLOOKUP($A838,check!$A:$L,11,FALSE))","v":""},{"$f":"IF(ISERROR(VLOOKUP($A838,check!$A:$L,12,FALSE))=TRUE,\"\",VLOOKUP($A838,check!$A:$L,12,FALSE))","v":""}]
[839,{"$f":"IF(C839=\"\",\"\",MATCH(A839,check!A:A,0))","v":""},{"$f":"IF(ISERROR(VLOOKUP($A839,check!$A:$L,2,FALSE))=TRUE,\"\",VLOOKUP($A839,check!$A:$L,2,FALSE))","v":""},{"$f":"IF(ISERROR(VLOOKUP($A839,check!$A:$L,3,FALSE))=TRUE,\"\",VLOOKUP($A839,check!$A:$L,3,FALSE))","v":""},{"$f":"IF(ISERROR(VLOOKUP($A839,check!$A:$L,4,FALSE))=TRUE,\"\",VLOOKUP($A839,check!$A:$L,4,FALSE))","v":""},{"$f":"IF(ISERROR(VLOOKUP($A839,check!$A:$L,5,FALSE))=TRUE,\"\",VLOOKUP($A839,check!$A:$L,5,FALSE))","v":""},{"$f":"IF(ISERROR(VLOOKUP($A839,check!$A:$L,6,FALSE))=TRUE,\"\",VLOOKUP($A839,check!$A:$L,6,FALSE))","v":""},{"$f":"IF(ISERROR(VLOOKUP($A839,check!$A:$L,7,FALSE))=TRUE,\"\",VLOOKUP($A839,check!$A:$L,7,FALSE))","v":""},{"$f":"IF(ISERROR(VLOOKUP($A839,check!$A:$L,8,FALSE))=TRUE,\"\",VLOOKUP($A839,check!$A:$L,8,FALSE))","v":""},{"$f":"IF(ISERROR(VLOOKUP($A839,check!$A:$L,9,FALSE))=TRUE,\"\",VLOOKUP($A839,check!$A:$L,9,FALSE))","v":""},{"$f":"IF(ISERROR(VLOOKUP($A839,check!$A:$L,10,FALSE))=TRUE,\"\",VLOOKUP($A839,check!$A:$L,10,FALSE))","v":""},{"$f":"IF(ISERROR(VLOOKUP($A839,check!$A:$L,11,FALSE))=TRUE,\"\",VLOOKUP($A839,check!$A:$L,11,FALSE))","v":""},{"$f":"IF(ISERROR(VLOOKUP($A839,check!$A:$L,12,FALSE))=TRUE,\"\",VLOOKUP($A839,check!$A:$L,12,FALSE))","v":""}]
[840,{"$f":"IF(C840=\"\",\"\",MATCH(A840,check!A:A,0))","v":""},{"$f":"IF(ISERROR(VLOOKUP($A840,check!$A:$L,2,FALSE))=TRUE,\"\",VLOOKUP($A840,check!$A:$L,2,FALSE))","v":""},{"$f":"IF(ISERROR(VLOOKUP($A840,check!$A:$L,3,FALSE))=TRUE,\"\",VLOOKUP($A840,check!$A:$L,3,FALSE))","v":""},{"$f":"IF(ISERROR(VLOOKUP($A840,check!$A:$L,4,FALSE))=TRUE,\"\",VLOOKUP($A840,check!$A:$L,4,FALSE))","v":""},{"$f":"IF(ISERROR(VLOOKUP($A840,check!$A:$L,5,FALSE))=TRUE,\"\",VLOOKUP($A840,check!$A:$L,5,FALSE))","v":""},{"$f":"IF(ISERROR(VLOOKUP($A840,check!$A:$L,6,FALSE))=TRUE,\"\",VLOOKUP($A840,check!$A:$L,6,FALSE))","v":""},{"$f":"IF(ISERROR(VLOOKUP($A840,check!$A:$L,7,FALSE))=TRUE,\"\",VLOOKUP($A840,check!$A:$L,7,FALSE))","v":""},{"$f":"IF(ISERROR(VLOOKUP($A840,check!$A:$L,8,FALSE))=TRUE,\"\",VLOOKUP($A840,check!$A:$L,8,FALSE))","v":""},{"$f":"IF(ISERROR(VLOOKUP($A840,check!$A:$L,9,FALSE))=TRUE,\"\",VLOOKUP($A840,check!$A:$L,9,FALSE))","v":""},{"$f":"IF(ISERROR(VLOOKUP($A840,check!$A:$L,10,FALSE))=TRUE,\"\",VLOOKUP($A840,check!$A:$L,10,FALSE))","v":""},{"$f":"IF(ISERROR(VLOOKUP($A840,check!$A:$L,11,FALSE))=TRUE,\"\",VLOOKUP($A840,check!$A:$L,11,FALSE))","v":""},{"$f":"IF(ISERROR(VLOOKUP($A840,check!$A:$L,12,FALSE))=TRUE,\"\",VLOOKUP($A840,check!$A:$L,12,FALSE))","v":""}]
[841,{"$f":"IF(C841=\"\",\"\",MATCH(A841,check!A:A,0))","v":""},{"$f":"IF(ISERROR(VLOOKUP($A841,check!$A:$L,2,FALSE))=TRUE,\"\",VLOOKUP($A841,check!$A:$L,2,FALSE))","v":""},{"$f":"IF(ISERROR(VLOOKUP($A841,check!$A:$L,3,FALSE))=TRUE,\"\",VLOOKUP($A841,check!$A:$L,3,FALSE))","v":""},{"$f":"IF(ISERROR(VLOOKUP($A841,check!$A:$L,4,FALSE))=TRUE,\"\",VLOOKUP($A841,check!$A:$L,4,FALSE))","v":""},{"$f":"IF(ISERROR(VLOOKUP($A841,check!$A:$L,5,FALSE))=TRUE,\"\",VLOOKUP($A841,check!$A:$L,5,FALSE))","v":""},{"$f":"IF(ISERROR(VLOOKUP($A841,check!$A:$L,6,FALSE))=TRUE,\"\",VLOOKUP($A841,check!$A:$L,6,FALSE))","v":""},{"$f":"IF(ISERROR(VLOOKUP($A841,check!$A:$L,7,FALSE))=TRUE,\"\",VLOOKUP($A841,check!$A:$L,7,FALSE))","v":""},{"$f":"IF(ISERROR(VLOOKUP($A841,check!$A:$L,8,FALSE))=TRUE,\"\",VLOOKUP($A841,check!$A:$L,8,FALSE))","v":""},{"$f":"IF(ISERROR(VLOOKUP($A841,check!$A:$L,9,FALSE))=TRUE,\"\",VLOOKUP($A841,check!$A:$L,9,FALSE))","v":""},{"$f":"IF(ISERROR(VLOOKUP($A841,check!$A:$L,10,FALSE))=TRUE,\"\",VLOOKUP($A841,check!$A:$L,10,FALSE))","v":""},{"$f":"IF(ISERROR(VLOOKUP($A841,check!$A:$L,11,FALSE))=TRUE,\"\",VLOOKUP($A841,check!$A:$L,11,FALSE))","v":""},{"$f":"IF(ISERROR(VLOOKUP($A841,check!$A:$L,12,FALSE))=TRUE,\"\",VLOOKUP($A841,check!$A:$L,12,FALSE))","v":""}]
[842,{"$f":"IF(C842=\"\",\"\",MATCH(A842,check!A:A,0))","v":""},{"$f":"IF(ISERROR(VLOOKUP($A842,check!$A:$L,2,FALSE))=TRUE,\"\",VLOOKUP($A842,check!$A:$L,2,FALSE))","v":""},{"$f":"IF(ISERROR(VLOOKUP($A842,check!$A:$L,3,FALSE))=TRUE,\"\",VLOOKUP($A842,check!$A:$L,3,FALSE))","v":""},{"$f":"IF(ISERROR(VLOOKUP($A842,check!$A:$L,4,FALSE))=TRUE,\"\",VLOOKUP($A842,check!$A:$L,4,FALSE))","v":""},{"$f":"IF(ISERROR(VLOOKUP($A842,check!$A:$L,5,FALSE))=TRUE,\"\",VLOOKUP($A842,check!$A:$L,5,FALSE))","v":""},{"$f":"IF(ISERROR(VLOOKUP($A842,check!$A:$L,6,FALSE))=TRUE,\"\",VLOOKUP($A842,check!$A:$L,6,FALSE))","v":""},{"$f":"IF(ISERROR(VLOOKUP($A842,check!$A:$L,7,FALSE))=TRUE,\"\",VLOOKUP($A842,check!$A:$L,7,FALSE))","v":""},{"$f":"IF(ISERROR(VLOOKUP($A842,check!$A:$L,8,FALSE))=TRUE,\"\",VLOOKUP($A842,check!$A:$L,8,FALSE))","v":""},{"$f":"IF(ISERROR(VLOOKUP($A842,check!$A:$L,9,FALSE))=TRUE,\"\",VLOOKUP($A842,check!$A:$L,9,FALSE))","v":""},{"$f":"IF(ISERROR(VLOOKUP($A842,check!$A:$L,10,FALSE))=TRUE,\"\",VLOOKUP($A842,check!$A:$L,10,FALSE))","v":""},{"$f":"IF(ISERROR(VLOOKUP($A842,check!$A:$L,11,FALSE))=TRUE,\"\",VLOOKUP($A842,check!$A:$L,11,FALSE))","v":""},{"$f":"IF(ISERROR(VLOOKUP($A842,check!$A:$L,12,FALSE))=TRUE,\"\",VLOOKUP($A842,check!$A:$L,12,FALSE))","v":""}]
[843,{"$f":"IF(C843=\"\",\"\",MATCH(A843,check!A:A,0))","v":""},{"$f":"IF(ISERROR(VLOOKUP($A843,check!$A:$L,2,FALSE))=TRUE,\"\",VLOOKUP($A843,check!$A:$L,2,FALSE))","v":""},{"$f":"IF(ISERROR(VLOOKUP($A843,check!$A:$L,3,FALSE))=TRUE,\"\",VLOOKUP($A843,check!$A:$L,3,FALSE))","v":""},{"$f":"IF(ISERROR(VLOOKUP($A843,check!$A:$L,4,FALSE))=TRUE,\"\",VLOOKUP($A843,check!$A:$L,4,FALSE))","v":""},{"$f":"IF(ISERROR(VLOOKUP($A843,check!$A:$L,5,FALSE))=TRUE,\"\",VLOOKUP($A843,check!$A:$L,5,FALSE))","v":""},{"$f":"IF(ISERROR(VLOOKUP($A843,check!$A:$L,6,FALSE))=TRUE,\"\",VLOOKUP($A843,check!$A:$L,6,FALSE))","v":""},{"$f":"IF(ISERROR(VLOOKUP($A843,check!$A:$L,7,FALSE))=TRUE,\"\",VLOOKUP($A843,check!$A:$L,7,FALSE))","v":""},{"$f":"IF(ISERROR(VLOOKUP($A843,check!$A:$L,8,FALSE))=TRUE,\"\",VLOOKUP($A843,check!$A:$L,8,FALSE))","v":""},{"$f":"IF(ISERROR(VLOOKUP($A843,check!$A:$L,9,FALSE))=TRUE,\"\",VLOOKUP($A843,check!$A:$L,9,FALSE))","v":""},{"$f":"IF(ISERROR(VLOOKUP($A843,check!$A:$L,10,FALSE))=TRUE,\"\",VLOOKUP($A843,check!$A:$L,10,FALSE))","v":""},{"$f":"IF(ISERROR(VLOOKUP($A843,check!$A:$L,11,FALSE))=TRUE,\"\",VLOOKUP($A843,check!$A:$L,11,FALSE))","v":""},{"$f":"IF(ISERROR(VLOOKUP($A843,check!$A:$L,12,FALSE))=TRUE,\"\",VLOOKUP($A843,check!$A:$L,12,FALSE))","v":""}]
[844,{"$f":"IF(C844=\"\",\"\",MATCH(A844,check!A:A,0))","v":""},{"$f":"IF(ISERROR(VLOOKUP($A844,check!$A:$L,2,FALSE))=TRUE,\"\",VLOOKUP($A844,check!$A:$L,2,FALSE))","v":""},{"$f":"IF(ISERROR(VLOOKUP($A844,check!$A:$L,3,FALSE))=TRUE,\"\",VLOOKUP($A844,check!$A:$L,3,FALSE))","v":""},{"$f":"IF(ISERROR(VLOOKUP($A844,check!$A:$L,4,FALSE))=TRUE,\"\",VLOOKUP($A844,check!$A:$L,4,FALSE))","v":""},{"$f":"IF(ISERROR(VLOOKUP($A844,check!$A:$L,5,FALSE))=TRUE,\"\",VLOOKUP($A844,check!$A:$L,5,FALSE))","v":""},{"$f":"IF(ISERROR(VLOOKUP($A844,check!$A:$L,6,FALSE))=TRUE,\"\",VLOOKUP($A844,check!$A:$L,6,FALSE))","v":""},{"$f":"IF(ISERROR(VLOOKUP($A844,check!$A:$L,7,FALSE))=TRUE,\"\",VLOOKUP($A844,check!$A:$L,7,FALSE))","v":""},{"$f":"IF(ISERROR(VLOOKUP($A844,check!$A:$L,8,FALSE))=TRUE,\"\",VLOOKUP($A844,check!$A:$L,8,FALSE))","v":""},{"$f":"IF(ISERROR(VLOOKUP($A844,check!$A:$L,9,FALSE))=TRUE,\"\",VLOOKUP($A844,check!$A:$L,9,FALSE))","v":""},{"$f":"IF(ISERROR(VLOOKUP($A844,check!$A:$L,10,FALSE))=TRUE,\"\",VLOOKUP($A844,check!$A:$L,10,FALSE))","v":""},{"$f":"IF(ISERROR(VLOOKUP($A844,check!$A:$L,11,FALSE))=TRUE,\"\",VLOOKUP($A844,check!$A:$L,11,FALSE))","v":""},{"$f":"IF(ISERROR(VLOOKUP($A844,check!$A:$L,12,FALSE))=TRUE,\"\",VLOOKUP($A844,check!$A:$L,12,FALSE))","v":""}]
[845,{"$f":"IF(C845=\"\",\"\",MATCH(A845,check!A:A,0))","v":""},{"$f":"IF(ISERROR(VLOOKUP($A845,check!$A:$L,2,FALSE))=TRUE,\"\",VLOOKUP($A845,check!$A:$L,2,FALSE))","v":""},{"$f":"IF(ISERROR(VLOOKUP($A845,check!$A:$L,3,FALSE))=TRUE,\"\",VLOOKUP($A845,check!$A:$L,3,FALSE))","v":""},{"$f":"IF(ISERROR(VLOOKUP($A845,check!$A:$L,4,FALSE))=TRUE,\"\",VLOOKUP($A845,check!$A:$L,4,FALSE))","v":""},{"$f":"IF(ISERROR(VLOOKUP($A845,check!$A:$L,5,FALSE))=TRUE,\"\",VLOOKUP($A845,check!$A:$L,5,FALSE))","v":""},{"$f":"IF(ISERROR(VLOOKUP($A845,check!$A:$L,6,FALSE))=TRUE,\"\",VLOOKUP($A845,check!$A:$L,6,FALSE))","v":""},{"$f":"IF(ISERROR(VLOOKUP($A845,check!$A:$L,7,FALSE))=TRUE,\"\",VLOOKUP($A845,check!$A:$L,7,FALSE))","v":""},{"$f":"IF(ISERROR(VLOOKUP($A845,check!$A:$L,8,FALSE))=TRUE,\"\",VLOOKUP($A845,check!$A:$L,8,FALSE))","v":""},{"$f":"IF(ISERROR(VLOOKUP($A845,check!$A:$L,9,FALSE))=TRUE,\"\",VLOOKUP($A845,check!$A:$L,9,FALSE))","v":""},{"$f":"IF(ISERROR(VLOOKUP($A845,check!$A:$L,10,FALSE))=TRUE,\"\",VLOOKUP($A845,check!$A:$L,10,FALSE))","v":""},{"$f":"IF(ISERROR(VLOOKUP($A845,check!$A:$L,11,FALSE))=TRUE,\"\",VLOOKUP($A845,check!$A:$L,11,FALSE))","v":""},{"$f":"IF(ISERROR(VLOOKUP($A845,check!$A:$L,12,FALSE))=TRUE,\"\",VLOOKUP($A845,check!$A:$L,12,FALSE))","v":""}]
[846,{"$f":"IF(C846=\"\",\"\",MATCH(A846,check!A:A,0))","v":""},{"$f":"IF(ISERROR(VLOOKUP($A846,check!$A:$L,2,FALSE))=TRUE,\"\",VLOOKUP($A846,check!$A:$L,2,FALSE))","v":""},{"$f":"IF(ISERROR(VLOOKUP($A846,check!$A:$L,3,FALSE))=TRUE,\"\",VLOOKUP($A846,check!$A:$L,3,FALSE))","v":""},{"$f":"IF(ISERROR(VLOOKUP($A846,check!$A:$L,4,FALSE))=TRUE,\"\",VLOOKUP($A846,check!$A:$L,4,FALSE))","v":""},{"$f":"IF(ISERROR(VLOOKUP($A846,check!$A:$L,5,FALSE))=TRUE,\"\",VLOOKUP($A846,check!$A:$L,5,FALSE))","v":""},{"$f":"IF(ISERROR(VLOOKUP($A846,check!$A:$L,6,FALSE))=TRUE,\"\",VLOOKUP($A846,check!$A:$L,6,FALSE))","v":""},{"$f":"IF(ISERROR(VLOOKUP($A846,check!$A:$L,7,FALSE))=TRUE,\"\",VLOOKUP($A846,check!$A:$L,7,FALSE))","v":""},{"$f":"IF(ISERROR(VLOOKUP($A846,check!$A:$L,8,FALSE))=TRUE,\"\",VLOOKUP($A846,check!$A:$L,8,FALSE))","v":""},{"$f":"IF(ISERROR(VLOOKUP($A846,check!$A:$L,9,FALSE))=TRUE,\"\",VLOOKUP($A846,check!$A:$L,9,FALSE))","v":""},{"$f":"IF(ISERROR(VLOOKUP($A846,check!$A:$L,10,FALSE))=TRUE,\"\",VLOOKUP($A846,check!$A:$L,10,FALSE))","v":""},{"$f":"IF(ISERROR(VLOOKUP($A846,check!$A:$L,11,FALSE))=TRUE,\"\",VLOOKUP($A846,check!$A:$L,11,FALSE))","v":""},{"$f":"IF(ISERROR(VLOOKUP($A846,check!$A:$L,12,FALSE))=TRUE,\"\",VLOOKUP($A846,check!$A:$L,12,FALSE))","v":""}]
[847,{"$f":"IF(C847=\"\",\"\",MATCH(A847,check!A:A,0))","v":""},{"$f":"IF(ISERROR(VLOOKUP($A847,check!$A:$L,2,FALSE))=TRUE,\"\",VLOOKUP($A847,check!$A:$L,2,FALSE))","v":""},{"$f":"IF(ISERROR(VLOOKUP($A847,check!$A:$L,3,FALSE))=TRUE,\"\",VLOOKUP($A847,check!$A:$L,3,FALSE))","v":""},{"$f":"IF(ISERROR(VLOOKUP($A847,check!$A:$L,4,FALSE))=TRUE,\"\",VLOOKUP($A847,check!$A:$L,4,FALSE))","v":""},{"$f":"IF(ISERROR(VLOOKUP($A847,check!$A:$L,5,FALSE))=TRUE,\"\",VLOOKUP($A847,check!$A:$L,5,FALSE))","v":""},{"$f":"IF(ISERROR(VLOOKUP($A847,check!$A:$L,6,FALSE))=TRUE,\"\",VLOOKUP($A847,check!$A:$L,6,FALSE))","v":""},{"$f":"IF(ISERROR(VLOOKUP($A847,check!$A:$L,7,FALSE))=TRUE,\"\",VLOOKUP($A847,check!$A:$L,7,FALSE))","v":""},{"$f":"IF(ISERROR(VLOOKUP($A847,check!$A:$L,8,FALSE))=TRUE,\"\",VLOOKUP($A847,check!$A:$L,8,FALSE))","v":""},{"$f":"IF(ISERROR(VLOOKUP($A847,check!$A:$L,9,FALSE))=TRUE,\"\",VLOOKUP($A847,check!$A:$L,9,FALSE))","v":""},{"$f":"IF(ISERROR(VLOOKUP($A847,check!$A:$L,10,FALSE))=TRUE,\"\",VLOOKUP($A847,check!$A:$L,10,FALSE))","v":""},{"$f":"IF(ISERROR(VLOOKUP($A847,check!$A:$L,11,FALSE))=TRUE,\"\",VLOOKUP($A847,check!$A:$L,11,FALSE))","v":""},{"$f":"IF(ISERROR(VLOOKUP($A847,check!$A:$L,12,FALSE))=TRUE,\"\",VLOOKUP($A847,check!$A:$L,12,FALSE))","v":""}]
[848,{"$f":"IF(C848=\"\",\"\",MATCH(A848,check!A:A,0))","v":""},{"$f":"IF(ISERROR(VLOOKUP($A848,check!$A:$L,2,FALSE))=TRUE,\"\",VLOOKUP($A848,check!$A:$L,2,FALSE))","v":""},{"$f":"IF(ISERROR(VLOOKUP($A848,check!$A:$L,3,FALSE))=TRUE,\"\",VLOOKUP($A848,check!$A:$L,3,FALSE))","v":""},{"$f":"IF(ISERROR(VLOOKUP($A848,check!$A:$L,4,FALSE))=TRUE,\"\",VLOOKUP($A848,check!$A:$L,4,FALSE))","v":""},{"$f":"IF(ISERROR(VLOOKUP($A848,check!$A:$L,5,FALSE))=TRUE,\"\",VLOOKUP($A848,check!$A:$L,5,FALSE))","v":""},{"$f":"IF(ISERROR(VLOOKUP($A848,check!$A:$L,6,FALSE))=TRUE,\"\",VLOOKUP($A848,check!$A:$L,6,FALSE))","v":""},{"$f":"IF(ISERROR(VLOOKUP($A848,check!$A:$L,7,FALSE))=TRUE,\"\",VLOOKUP($A848,check!$A:$L,7,FALSE))","v":""},{"$f":"IF(ISERROR(VLOOKUP($A848,check!$A:$L,8,FALSE))=TRUE,\"\",VLOOKUP($A848,check!$A:$L,8,FALSE))","v":""},{"$f":"IF(ISERROR(VLOOKUP($A848,check!$A:$L,9,FALSE))=TRUE,\"\",VLOOKUP($A848,check!$A:$L,9,FALSE))","v":""},{"$f":"IF(ISERROR(VLOOKUP($A848,check!$A:$L,10,FALSE))=TRUE,\"\",VLOOKUP($A848,check!$A:$L,10,FALSE))","v":""},{"$f":"IF(ISERROR(VLOOKUP($A848,check!$A:$L,11,FALSE))=TRUE,\"\",VLOOKUP($A848,check!$A:$L,11,FALSE))","v":""},{"$f":"IF(ISERROR(VLOOKUP($A848,check!$A:$L,12,FALSE))=TRUE,\"\",VLOOKUP($A848,check!$A:$L,12,FALSE))","v":""}]
[849,{"$f":"IF(C849=\"\",\"\",MATCH(A849,check!A:A,0))","v":""},{"$f":"IF(ISERROR(VLOOKUP($A849,check!$A:$L,2,FALSE))=TRUE,\"\",VLOOKUP($A849,check!$A:$L,2,FALSE))","v":""},{"$f":"IF(ISERROR(VLOOKUP($A849,check!$A:$L,3,FALSE))=TRUE,\"\",VLOOKUP($A849,check!$A:$L,3,FALSE))","v":""},{"$f":"IF(ISERROR(VLOOKUP($A849,check!$A:$L,4,FALSE))=TRUE,\"\",VLOOKUP($A849,check!$A:$L,4,FALSE))","v":""},{"$f":"IF(ISERROR(VLOOKUP($A849,check!$A:$L,5,FALSE))=TRUE,\"\",VLOOKUP($A849,check!$A:$L,5,FALSE))","v":""},{"$f":"IF(ISERROR(VLOOKUP($A849,check!$A:$L,6,FALSE))=TRUE,\"\",VLOOKUP($A849,check!$A:$L,6,FALSE))","v":""},{"$f":"IF(ISERROR(VLOOKUP($A849,check!$A:$L,7,FALSE))=TRUE,\"\",VLOOKUP($A849,check!$A:$L,7,FALSE))","v":""},{"$f":"IF(ISERROR(VLOOKUP($A849,check!$A:$L,8,FALSE))=TRUE,\"\",VLOOKUP($A849,check!$A:$L,8,FALSE))","v":""},{"$f":"IF(ISERROR(VLOOKUP($A849,check!$A:$L,9,FALSE))=TRUE,\"\",VLOOKUP($A849,check!$A:$L,9,FALSE))","v":""},{"$f":"IF(ISERROR(VLOOKUP($A849,check!$A:$L,10,FALSE))=TRUE,\"\",VLOOKUP($A849,check!$A:$L,10,FALSE))","v":""},{"$f":"IF(ISERROR(VLOOKUP($A849,check!$A:$L,11,FALSE))=TRUE,\"\",VLOOKUP($A849,check!$A:$L,11,FALSE))","v":""},{"$f":"IF(ISERROR(VLOOKUP($A849,check!$A:$L,12,FALSE))=TRUE,\"\",VLOOKUP($A849,check!$A:$L,12,FALSE))","v":""}]
[850,{"$f":"IF(C850=\"\",\"\",MATCH(A850,check!A:A,0))","v":""},{"$f":"IF(ISERROR(VLOOKUP($A850,check!$A:$L,2,FALSE))=TRUE,\"\",VLOOKUP($A850,check!$A:$L,2,FALSE))","v":""},{"$f":"IF(ISERROR(VLOOKUP($A850,check!$A:$L,3,FALSE))=TRUE,\"\",VLOOKUP($A850,check!$A:$L,3,FALSE))","v":""},{"$f":"IF(ISERROR(VLOOKUP($A850,check!$A:$L,4,FALSE))=TRUE,\"\",VLOOKUP($A850,check!$A:$L,4,FALSE))","v":""},{"$f":"IF(ISERROR(VLOOKUP($A850,check!$A:$L,5,FALSE))=TRUE,\"\",VLOOKUP($A850,check!$A:$L,5,FALSE))","v":""},{"$f":"IF(ISERROR(VLOOKUP($A850,check!$A:$L,6,FALSE))=TRUE,\"\",VLOOKUP($A850,check!$A:$L,6,FALSE))","v":""},{"$f":"IF(ISERROR(VLOOKUP($A850,check!$A:$L,7,FALSE))=TRUE,\"\",VLOOKUP($A850,check!$A:$L,7,FALSE))","v":""},{"$f":"IF(ISERROR(VLOOKUP($A850,check!$A:$L,8,FALSE))=TRUE,\"\",VLOOKUP($A850,check!$A:$L,8,FALSE))","v":""},{"$f":"IF(ISERROR(VLOOKUP($A850,check!$A:$L,9,FALSE))=TRUE,\"\",VLOOKUP($A850,check!$A:$L,9,FALSE))","v":""},{"$f":"IF(ISERROR(VLOOKUP($A850,check!$A:$L,10,FALSE))=TRUE,\"\",VLOOKUP($A850,check!$A:$L,10,FALSE))","v":""},{"$f":"IF(ISERROR(VLOOKUP($A850,check!$A:$L,11,FALSE))=TRUE,\"\",VLOOKUP($A850,check!$A:$L,11,FALSE))","v":""},{"$f":"IF(ISERROR(VLOOKUP($A850,check!$A:$L,12,FALSE))=TRUE,\"\",VLOOKUP($A850,check!$A:$L,12,FALSE))","v":""}]
[851,{"$f":"IF(C851=\"\",\"\",MATCH(A851,check!A:A,0))","v":""},{"$f":"IF(ISERROR(VLOOKUP($A851,check!$A:$L,2,FALSE))=TRUE,\"\",VLOOKUP($A851,check!$A:$L,2,FALSE))","v":""},{"$f":"IF(ISERROR(VLOOKUP($A851,check!$A:$L,3,FALSE))=TRUE,\"\",VLOOKUP($A851,check!$A:$L,3,FALSE))","v":""},{"$f":"IF(ISERROR(VLOOKUP($A851,check!$A:$L,4,FALSE))=TRUE,\"\",VLOOKUP($A851,check!$A:$L,4,FALSE))","v":""},{"$f":"IF(ISERROR(VLOOKUP($A851,check!$A:$L,5,FALSE))=TRUE,\"\",VLOOKUP($A851,check!$A:$L,5,FALSE))","v":""},{"$f":"IF(ISERROR(VLOOKUP($A851,check!$A:$L,6,FALSE))=TRUE,\"\",VLOOKUP($A851,check!$A:$L,6,FALSE))","v":""},{"$f":"IF(ISERROR(VLOOKUP($A851,check!$A:$L,7,FALSE))=TRUE,\"\",VLOOKUP($A851,check!$A:$L,7,FALSE))","v":""},{"$f":"IF(ISERROR(VLOOKUP($A851,check!$A:$L,8,FALSE))=TRUE,\"\",VLOOKUP($A851,check!$A:$L,8,FALSE))","v":""},{"$f":"IF(ISERROR(VLOOKUP($A851,check!$A:$L,9,FALSE))=TRUE,\"\",VLOOKUP($A851,check!$A:$L,9,FALSE))","v":""},{"$f":"IF(ISERROR(VLOOKUP($A851,check!$A:$L,10,FALSE))=TRUE,\"\",VLOOKUP($A851,check!$A:$L,10,FALSE))","v":""},{"$f":"IF(ISERROR(VLOOKUP($A851,check!$A:$L,11,FALSE))=TRUE,\"\",VLOOKUP($A851,check!$A:$L,11,FALSE))","v":""},{"$f":"IF(ISERROR(VLOOKUP($A851,check!$A:$L,12,FALSE))=TRUE,\"\",VLOOKUP($A851,check!$A:$L,12,FALSE))","v":""}]
[852,{"$f":"IF(C852=\"\",\"\",MATCH(A852,check!A:A,0))","v":""},{"$f":"IF(ISERROR(VLOOKUP($A852,check!$A:$L,2,FALSE))=TRUE,\"\",VLOOKUP($A852,check!$A:$L,2,FALSE))","v":""},{"$f":"IF(ISERROR(VLOOKUP($A852,check!$A:$L,3,FALSE))=TRUE,\"\",VLOOKUP($A852,check!$A:$L,3,FALSE))","v":""},{"$f":"IF(ISERROR(VLOOKUP($A852,check!$A:$L,4,FALSE))=TRUE,\"\",VLOOKUP($A852,check!$A:$L,4,FALSE))","v":""},{"$f":"IF(ISERROR(VLOOKUP($A852,check!$A:$L,5,FALSE))=TRUE,\"\",VLOOKUP($A852,check!$A:$L,5,FALSE))","v":""},{"$f":"IF(ISERROR(VLOOKUP($A852,check!$A:$L,6,FALSE))=TRUE,\"\",VLOOKUP($A852,check!$A:$L,6,FALSE))","v":""},{"$f":"IF(ISERROR(VLOOKUP($A852,check!$A:$L,7,FALSE))=TRUE,\"\",VLOOKUP($A852,check!$A:$L,7,FALSE))","v":""},{"$f":"IF(ISERROR(VLOOKUP($A852,check!$A:$L,8,FALSE))=TRUE,\"\",VLOOKUP($A852,check!$A:$L,8,FALSE))","v":""},{"$f":"IF(ISERROR(VLOOKUP($A852,check!$A:$L,9,FALSE))=TRUE,\"\",VLOOKUP($A852,check!$A:$L,9,FALSE))","v":""},{"$f":"IF(ISERROR(VLOOKUP($A852,check!$A:$L,10,FALSE))=TRUE,\"\",VLOOKUP($A852,check!$A:$L,10,FALSE))","v":""},{"$f":"IF(ISERROR(VLOOKUP($A852,check!$A:$L,11,FALSE))=TRUE,\"\",VLOOKUP($A852,check!$A:$L,11,FALSE))","v":""},{"$f":"IF(ISERROR(VLOOKUP($A852,check!$A:$L,12,FALSE))=TRUE,\"\",VLOOKUP($A852,check!$A:$L,12,FALSE))","v":""}]
[853,{"$f":"IF(C853=\"\",\"\",MATCH(A853,check!A:A,0))","v":""},{"$f":"IF(ISERROR(VLOOKUP($A853,check!$A:$L,2,FALSE))=TRUE,\"\",VLOOKUP($A853,check!$A:$L,2,FALSE))","v":""},{"$f":"IF(ISERROR(VLOOKUP($A853,check!$A:$L,3,FALSE))=TRUE,\"\",VLOOKUP($A853,check!$A:$L,3,FALSE))","v":""},{"$f":"IF(ISERROR(VLOOKUP($A853,check!$A:$L,4,FALSE))=TRUE,\"\",VLOOKUP($A853,check!$A:$L,4,FALSE))","v":""},{"$f":"IF(ISERROR(VLOOKUP($A853,check!$A:$L,5,FALSE))=TRUE,\"\",VLOOKUP($A853,check!$A:$L,5,FALSE))","v":""},{"$f":"IF(ISERROR(VLOOKUP($A853,check!$A:$L,6,FALSE))=TRUE,\"\",VLOOKUP($A853,check!$A:$L,6,FALSE))","v":""},{"$f":"IF(ISERROR(VLOOKUP($A853,check!$A:$L,7,FALSE))=TRUE,\"\",VLOOKUP($A853,check!$A:$L,7,FALSE))","v":""},{"$f":"IF(ISERROR(VLOOKUP($A853,check!$A:$L,8,FALSE))=TRUE,\"\",VLOOKUP($A853,check!$A:$L,8,FALSE))","v":""},{"$f":"IF(ISERROR(VLOOKUP($A853,check!$A:$L,9,FALSE))=TRUE,\"\",VLOOKUP($A853,check!$A:$L,9,FALSE))","v":""},{"$f":"IF(ISERROR(VLOOKUP($A853,check!$A:$L,10,FALSE))=TRUE,\"\",VLOOKUP($A853,check!$A:$L,10,FALSE))","v":""},{"$f":"IF(ISERROR(VLOOKUP($A853,check!$A:$L,11,FALSE))=TRUE,\"\",VLOOKUP($A853,check!$A:$L,11,FALSE))","v":""},{"$f":"IF(ISERROR(VLOOKUP($A853,check!$A:$L,12,FALSE))=TRUE,\"\",VLOOKUP($A853,check!$A:$L,12,FALSE))","v":""}]
[854,{"$f":"IF(C854=\"\",\"\",MATCH(A854,check!A:A,0))","v":""},{"$f":"IF(ISERROR(VLOOKUP($A854,check!$A:$L,2,FALSE))=TRUE,\"\",VLOOKUP($A854,check!$A:$L,2,FALSE))","v":""},{"$f":"IF(ISERROR(VLOOKUP($A854,check!$A:$L,3,FALSE))=TRUE,\"\",VLOOKUP($A854,check!$A:$L,3,FALSE))","v":""},{"$f":"IF(ISERROR(VLOOKUP($A854,check!$A:$L,4,FALSE))=TRUE,\"\",VLOOKUP($A854,check!$A:$L,4,FALSE))","v":""},{"$f":"IF(ISERROR(VLOOKUP($A854,check!$A:$L,5,FALSE))=TRUE,\"\",VLOOKUP($A854,check!$A:$L,5,FALSE))","v":""},{"$f":"IF(ISERROR(VLOOKUP($A854,check!$A:$L,6,FALSE))=TRUE,\"\",VLOOKUP($A854,check!$A:$L,6,FALSE))","v":""},{"$f":"IF(ISERROR(VLOOKUP($A854,check!$A:$L,7,FALSE))=TRUE,\"\",VLOOKUP($A854,check!$A:$L,7,FALSE))","v":""},{"$f":"IF(ISERROR(VLOOKUP($A854,check!$A:$L,8,FALSE))=TRUE,\"\",VLOOKUP($A854,check!$A:$L,8,FALSE))","v":""},{"$f":"IF(ISERROR(VLOOKUP($A854,check!$A:$L,9,FALSE))=TRUE,\"\",VLOOKUP($A854,check!$A:$L,9,FALSE))","v":""},{"$f":"IF(ISERROR(VLOOKUP($A854,check!$A:$L,10,FALSE))=TRUE,\"\",VLOOKUP($A854,check!$A:$L,10,FALSE))","v":""},{"$f":"IF(ISERROR(VLOOKUP($A854,check!$A:$L,11,FALSE))=TRUE,\"\",VLOOKUP($A854,check!$A:$L,11,FALSE))","v":""},{"$f":"IF(ISERROR(VLOOKUP($A854,check!$A:$L,12,FALSE))=TRUE,\"\",VLOOKUP($A854,check!$A:$L,12,FALSE))","v":""}]
[855,{"$f":"IF(C855=\"\",\"\",MATCH(A855,check!A:A,0))","v":""},{"$f":"IF(ISERROR(VLOOKUP($A855,check!$A:$L,2,FALSE))=TRUE,\"\",VLOOKUP($A855,check!$A:$L,2,FALSE))","v":""},{"$f":"IF(ISERROR(VLOOKUP($A855,check!$A:$L,3,FALSE))=TRUE,\"\",VLOOKUP($A855,check!$A:$L,3,FALSE))","v":""},{"$f":"IF(ISERROR(VLOOKUP($A855,check!$A:$L,4,FALSE))=TRUE,\"\",VLOOKUP($A855,check!$A:$L,4,FALSE))","v":""},{"$f":"IF(ISERROR(VLOOKUP($A855,check!$A:$L,5,FALSE))=TRUE,\"\",VLOOKUP($A855,check!$A:$L,5,FALSE))","v":""},{"$f":"IF(ISERROR(VLOOKUP($A855,check!$A:$L,6,FALSE))=TRUE,\"\",VLOOKUP($A855,check!$A:$L,6,FALSE))","v":""},{"$f":"IF(ISERROR(VLOOKUP($A855,check!$A:$L,7,FALSE))=TRUE,\"\",VLOOKUP($A855,check!$A:$L,7,FALSE))","v":""},{"$f":"IF(ISERROR(VLOOKUP($A855,check!$A:$L,8,FALSE))=TRUE,\"\",VLOOKUP($A855,check!$A:$L,8,FALSE))","v":""},{"$f":"IF(ISERROR(VLOOKUP($A855,check!$A:$L,9,FALSE))=TRUE,\"\",VLOOKUP($A855,check!$A:$L,9,FALSE))","v":""},{"$f":"IF(ISERROR(VLOOKUP($A855,check!$A:$L,10,FALSE))=TRUE,\"\",VLOOKUP($A855,check!$A:$L,10,FALSE))","v":""},{"$f":"IF(ISERROR(VLOOKUP($A855,check!$A:$L,11,FALSE))=TRUE,\"\",VLOOKUP($A855,check!$A:$L,11,FALSE))","v":""},{"$f":"IF(ISERROR(VLOOKUP($A855,check!$A:$L,12,FALSE))=TRUE,\"\",VLOOKUP($A855,check!$A:$L,12,FALSE))","v":""}]
[856,{"$f":"IF(C856=\"\",\"\",MATCH(A856,check!A:A,0))","v":""},{"$f":"IF(ISERROR(VLOOKUP($A856,check!$A:$L,2,FALSE))=TRUE,\"\",VLOOKUP($A856,check!$A:$L,2,FALSE))","v":""},{"$f":"IF(ISERROR(VLOOKUP($A856,check!$A:$L,3,FALSE))=TRUE,\"\",VLOOKUP($A856,check!$A:$L,3,FALSE))","v":""},{"$f":"IF(ISERROR(VLOOKUP($A856,check!$A:$L,4,FALSE))=TRUE,\"\",VLOOKUP($A856,check!$A:$L,4,FALSE))","v":""},{"$f":"IF(ISERROR(VLOOKUP($A856,check!$A:$L,5,FALSE))=TRUE,\"\",VLOOKUP($A856,check!$A:$L,5,FALSE))","v":""},{"$f":"IF(ISERROR(VLOOKUP($A856,check!$A:$L,6,FALSE))=TRUE,\"\",VLOOKUP($A856,check!$A:$L,6,FALSE))","v":""},{"$f":"IF(ISERROR(VLOOKUP($A856,check!$A:$L,7,FALSE))=TRUE,\"\",VLOOKUP($A856,check!$A:$L,7,FALSE))","v":""},{"$f":"IF(ISERROR(VLOOKUP($A856,check!$A:$L,8,FALSE))=TRUE,\"\",VLOOKUP($A856,check!$A:$L,8,FALSE))","v":""},{"$f":"IF(ISERROR(VLOOKUP($A856,check!$A:$L,9,FALSE))=TRUE,\"\",VLOOKUP($A856,check!$A:$L,9,FALSE))","v":""},{"$f":"IF(ISERROR(VLOOKUP($A856,check!$A:$L,10,FALSE))=TRUE,\"\",VLOOKUP($A856,check!$A:$L,10,FALSE))","v":""},{"$f":"IF(ISERROR(VLOOKUP($A856,check!$A:$L,11,FALSE))=TRUE,\"\",VLOOKUP($A856,check!$A:$L,11,FALSE))","v":""},{"$f":"IF(ISERROR(VLOOKUP($A856,check!$A:$L,12,FALSE))=TRUE,\"\",VLOOKUP($A856,check!$A:$L,12,FALSE))","v":""}]
[857,{"$f":"IF(C857=\"\",\"\",MATCH(A857,check!A:A,0))","v":""},{"$f":"IF(ISERROR(VLOOKUP($A857,check!$A:$L,2,FALSE))=TRUE,\"\",VLOOKUP($A857,check!$A:$L,2,FALSE))","v":""},{"$f":"IF(ISERROR(VLOOKUP($A857,check!$A:$L,3,FALSE))=TRUE,\"\",VLOOKUP($A857,check!$A:$L,3,FALSE))","v":""},{"$f":"IF(ISERROR(VLOOKUP($A857,check!$A:$L,4,FALSE))=TRUE,\"\",VLOOKUP($A857,check!$A:$L,4,FALSE))","v":""},{"$f":"IF(ISERROR(VLOOKUP($A857,check!$A:$L,5,FALSE))=TRUE,\"\",VLOOKUP($A857,check!$A:$L,5,FALSE))","v":""},{"$f":"IF(ISERROR(VLOOKUP($A857,check!$A:$L,6,FALSE))=TRUE,\"\",VLOOKUP($A857,check!$A:$L,6,FALSE))","v":""},{"$f":"IF(ISERROR(VLOOKUP($A857,check!$A:$L,7,FALSE))=TRUE,\"\",VLOOKUP($A857,check!$A:$L,7,FALSE))","v":""},{"$f":"IF(ISERROR(VLOOKUP($A857,check!$A:$L,8,FALSE))=TRUE,\"\",VLOOKUP($A857,check!$A:$L,8,FALSE))","v":""},{"$f":"IF(ISERROR(VLOOKUP($A857,check!$A:$L,9,FALSE))=TRUE,\"\",VLOOKUP($A857,check!$A:$L,9,FALSE))","v":""},{"$f":"IF(ISERROR(VLOOKUP($A857,check!$A:$L,10,FALSE))=TRUE,\"\",VLOOKUP($A857,check!$A:$L,10,FALSE))","v":""},{"$f":"IF(ISERROR(VLOOKUP($A857,check!$A:$L,11,FALSE))=TRUE,\"\",VLOOKUP($A857,check!$A:$L,11,FALSE))","v":""},{"$f":"IF(ISERROR(VLOOKUP($A857,check!$A:$L,12,FALSE))=TRUE,\"\",VLOOKUP($A857,check!$A:$L,12,FALSE))","v":""}]
[858,{"$f":"IF(C858=\"\",\"\",MATCH(A858,check!A:A,0))","v":""},{"$f":"IF(ISERROR(VLOOKUP($A858,check!$A:$L,2,FALSE))=TRUE,\"\",VLOOKUP($A858,check!$A:$L,2,FALSE))","v":""},{"$f":"IF(ISERROR(VLOOKUP($A858,check!$A:$L,3,FALSE))=TRUE,\"\",VLOOKUP($A858,check!$A:$L,3,FALSE))","v":""},{"$f":"IF(ISERROR(VLOOKUP($A858,check!$A:$L,4,FALSE))=TRUE,\"\",VLOOKUP($A858,check!$A:$L,4,FALSE))","v":""},{"$f":"IF(ISERROR(VLOOKUP($A858,check!$A:$L,5,FALSE))=TRUE,\"\",VLOOKUP($A858,check!$A:$L,5,FALSE))","v":""},{"$f":"IF(ISERROR(VLOOKUP($A858,check!$A:$L,6,FALSE))=TRUE,\"\",VLOOKUP($A858,check!$A:$L,6,FALSE))","v":""},{"$f":"IF(ISERROR(VLOOKUP($A858,check!$A:$L,7,FALSE))=TRUE,\"\",VLOOKUP($A858,check!$A:$L,7,FALSE))","v":""},{"$f":"IF(ISERROR(VLOOKUP($A858,check!$A:$L,8,FALSE))=TRUE,\"\",VLOOKUP($A858,check!$A:$L,8,FALSE))","v":""},{"$f":"IF(ISERROR(VLOOKUP($A858,check!$A:$L,9,FALSE))=TRUE,\"\",VLOOKUP($A858,check!$A:$L,9,FALSE))","v":""},{"$f":"IF(ISERROR(VLOOKUP($A858,check!$A:$L,10,FALSE))=TRUE,\"\",VLOOKUP($A858,check!$A:$L,10,FALSE))","v":""},{"$f":"IF(ISERROR(VLOOKUP($A858,check!$A:$L,11,FALSE))=TRUE,\"\",VLOOKUP($A858,check!$A:$L,11,FALSE))","v":""},{"$f":"IF(ISERROR(VLOOKUP($A858,check!$A:$L,12,FALSE))=TRUE,\"\",VLOOKUP($A858,check!$A:$L,12,FALSE))","v":""}]
[859,{"$f":"IF(C859=\"\",\"\",MATCH(A859,check!A:A,0))","v":""},{"$f":"IF(ISERROR(VLOOKUP($A859,check!$A:$L,2,FALSE))=TRUE,\"\",VLOOKUP($A859,check!$A:$L,2,FALSE))","v":""},{"$f":"IF(ISERROR(VLOOKUP($A859,check!$A:$L,3,FALSE))=TRUE,\"\",VLOOKUP($A859,check!$A:$L,3,FALSE))","v":""},{"$f":"IF(ISERROR(VLOOKUP($A859,check!$A:$L,4,FALSE))=TRUE,\"\",VLOOKUP($A859,check!$A:$L,4,FALSE))","v":""},{"$f":"IF(ISERROR(VLOOKUP($A859,check!$A:$L,5,FALSE))=TRUE,\"\",VLOOKUP($A859,check!$A:$L,5,FALSE))","v":""},{"$f":"IF(ISERROR(VLOOKUP($A859,check!$A:$L,6,FALSE))=TRUE,\"\",VLOOKUP($A859,check!$A:$L,6,FALSE))","v":""},{"$f":"IF(ISERROR(VLOOKUP($A859,check!$A:$L,7,FALSE))=TRUE,\"\",VLOOKUP($A859,check!$A:$L,7,FALSE))","v":""},{"$f":"IF(ISERROR(VLOOKUP($A859,check!$A:$L,8,FALSE))=TRUE,\"\",VLOOKUP($A859,check!$A:$L,8,FALSE))","v":""},{"$f":"IF(ISERROR(VLOOKUP($A859,check!$A:$L,9,FALSE))=TRUE,\"\",VLOOKUP($A859,check!$A:$L,9,FALSE))","v":""},{"$f":"IF(ISERROR(VLOOKUP($A859,check!$A:$L,10,FALSE))=TRUE,\"\",VLOOKUP($A859,check!$A:$L,10,FALSE))","v":""},{"$f":"IF(ISERROR(VLOOKUP($A859,check!$A:$L,11,FALSE))=TRUE,\"\",VLOOKUP($A859,check!$A:$L,11,FALSE))","v":""},{"$f":"IF(ISERROR(VLOOKUP($A859,check!$A:$L,12,FALSE))=TRUE,\"\",VLOOKUP($A859,check!$A:$L,12,FALSE))","v":""}]
[860,{"$f":"IF(C860=\"\",\"\",MATCH(A860,check!A:A,0))","v":""},{"$f":"IF(ISERROR(VLOOKUP($A860,check!$A:$L,2,FALSE))=TRUE,\"\",VLOOKUP($A860,check!$A:$L,2,FALSE))","v":""},{"$f":"IF(ISERROR(VLOOKUP($A860,check!$A:$L,3,FALSE))=TRUE,\"\",VLOOKUP($A860,check!$A:$L,3,FALSE))","v":""},{"$f":"IF(ISERROR(VLOOKUP($A860,check!$A:$L,4,FALSE))=TRUE,\"\",VLOOKUP($A860,check!$A:$L,4,FALSE))","v":""},{"$f":"IF(ISERROR(VLOOKUP($A860,check!$A:$L,5,FALSE))=TRUE,\"\",VLOOKUP($A860,check!$A:$L,5,FALSE))","v":""},{"$f":"IF(ISERROR(VLOOKUP($A860,check!$A:$L,6,FALSE))=TRUE,\"\",VLOOKUP($A860,check!$A:$L,6,FALSE))","v":""},{"$f":"IF(ISERROR(VLOOKUP($A860,check!$A:$L,7,FALSE))=TRUE,\"\",VLOOKUP($A860,check!$A:$L,7,FALSE))","v":""},{"$f":"IF(ISERROR(VLOOKUP($A860,check!$A:$L,8,FALSE))=TRUE,\"\",VLOOKUP($A860,check!$A:$L,8,FALSE))","v":""},{"$f":"IF(ISERROR(VLOOKUP($A860,check!$A:$L,9,FALSE))=TRUE,\"\",VLOOKUP($A860,check!$A:$L,9,FALSE))","v":""},{"$f":"IF(ISERROR(VLOOKUP($A860,check!$A:$L,10,FALSE))=TRUE,\"\",VLOOKUP($A860,check!$A:$L,10,FALSE))","v":""},{"$f":"IF(ISERROR(VLOOKUP($A860,check!$A:$L,11,FALSE))=TRUE,\"\",VLOOKUP($A860,check!$A:$L,11,FALSE))","v":""},{"$f":"IF(ISERROR(VLOOKUP($A860,check!$A:$L,12,FALSE))=TRUE,\"\",VLOOKUP($A860,check!$A:$L,12,FALSE))","v":""}]
[861,{"$f":"IF(C861=\"\",\"\",MATCH(A861,check!A:A,0))","v":""},{"$f":"IF(ISERROR(VLOOKUP($A861,check!$A:$L,2,FALSE))=TRUE,\"\",VLOOKUP($A861,check!$A:$L,2,FALSE))","v":""},{"$f":"IF(ISERROR(VLOOKUP($A861,check!$A:$L,3,FALSE))=TRUE,\"\",VLOOKUP($A861,check!$A:$L,3,FALSE))","v":""},{"$f":"IF(ISERROR(VLOOKUP($A861,check!$A:$L,4,FALSE))=TRUE,\"\",VLOOKUP($A861,check!$A:$L,4,FALSE))","v":""},{"$f":"IF(ISERROR(VLOOKUP($A861,check!$A:$L,5,FALSE))=TRUE,\"\",VLOOKUP($A861,check!$A:$L,5,FALSE))","v":""},{"$f":"IF(ISERROR(VLOOKUP($A861,check!$A:$L,6,FALSE))=TRUE,\"\",VLOOKUP($A861,check!$A:$L,6,FALSE))","v":""},{"$f":"IF(ISERROR(VLOOKUP($A861,check!$A:$L,7,FALSE))=TRUE,\"\",VLOOKUP($A861,check!$A:$L,7,FALSE))","v":""},{"$f":"IF(ISERROR(VLOOKUP($A861,check!$A:$L,8,FALSE))=TRUE,\"\",VLOOKUP($A861,check!$A:$L,8,FALSE))","v":""},{"$f":"IF(ISERROR(VLOOKUP($A861,check!$A:$L,9,FALSE))=TRUE,\"\",VLOOKUP($A861,check!$A:$L,9,FALSE))","v":""},{"$f":"IF(ISERROR(VLOOKUP($A861,check!$A:$L,10,FALSE))=TRUE,\"\",VLOOKUP($A861,check!$A:$L,10,FALSE))","v":""},{"$f":"IF(ISERROR(VLOOKUP($A861,check!$A:$L,11,FALSE))=TRUE,\"\",VLOOKUP($A861,check!$A:$L,11,FALSE))","v":""},{"$f":"IF(ISERROR(VLOOKUP($A861,check!$A:$L,12,FALSE))=TRUE,\"\",VLOOKUP($A861,check!$A:$L,12,FALSE))","v":""}]
[862,{"$f":"IF(C862=\"\",\"\",MATCH(A862,check!A:A,0))","v":""},{"$f":"IF(ISERROR(VLOOKUP($A862,check!$A:$L,2,FALSE))=TRUE,\"\",VLOOKUP($A862,check!$A:$L,2,FALSE))","v":""},{"$f":"IF(ISERROR(VLOOKUP($A862,check!$A:$L,3,FALSE))=TRUE,\"\",VLOOKUP($A862,check!$A:$L,3,FALSE))","v":""},{"$f":"IF(ISERROR(VLOOKUP($A862,check!$A:$L,4,FALSE))=TRUE,\"\",VLOOKUP($A862,check!$A:$L,4,FALSE))","v":""},{"$f":"IF(ISERROR(VLOOKUP($A862,check!$A:$L,5,FALSE))=TRUE,\"\",VLOOKUP($A862,check!$A:$L,5,FALSE))","v":""},{"$f":"IF(ISERROR(VLOOKUP($A862,check!$A:$L,6,FALSE))=TRUE,\"\",VLOOKUP($A862,check!$A:$L,6,FALSE))","v":""},{"$f":"IF(ISERROR(VLOOKUP($A862,check!$A:$L,7,FALSE))=TRUE,\"\",VLOOKUP($A862,check!$A:$L,7,FALSE))","v":""},{"$f":"IF(ISERROR(VLOOKUP($A862,check!$A:$L,8,FALSE))=TRUE,\"\",VLOOKUP($A862,check!$A:$L,8,FALSE))","v":""},{"$f":"IF(ISERROR(VLOOKUP($A862,check!$A:$L,9,FALSE))=TRUE,\"\",VLOOKUP($A862,check!$A:$L,9,FALSE))","v":""},{"$f":"IF(ISERROR(VLOOKUP($A862,check!$A:$L,10,FALSE))=TRUE,\"\",VLOOKUP($A862,check!$A:$L,10,FALSE))","v":""},{"$f":"IF(ISERROR(VLOOKUP($A862,check!$A:$L,11,FALSE))=TRUE,\"\",VLOOKUP($A862,check!$A:$L,11,FALSE))","v":""},{"$f":"IF(ISERROR(VLOOKUP($A862,check!$A:$L,12,FALSE))=TRUE,\"\",VLOOKUP($A862,check!$A:$L,12,FALSE))","v":""}]
[863,{"$f":"IF(C863=\"\",\"\",MATCH(A863,check!A:A,0))","v":""},{"$f":"IF(ISERROR(VLOOKUP($A863,check!$A:$L,2,FALSE))=TRUE,\"\",VLOOKUP($A863,check!$A:$L,2,FALSE))","v":""},{"$f":"IF(ISERROR(VLOOKUP($A863,check!$A:$L,3,FALSE))=TRUE,\"\",VLOOKUP($A863,check!$A:$L,3,FALSE))","v":""},{"$f":"IF(ISERROR(VLOOKUP($A863,check!$A:$L,4,FALSE))=TRUE,\"\",VLOOKUP($A863,check!$A:$L,4,FALSE))","v":""},{"$f":"IF(ISERROR(VLOOKUP($A863,check!$A:$L,5,FALSE))=TRUE,\"\",VLOOKUP($A863,check!$A:$L,5,FALSE))","v":""},{"$f":"IF(ISERROR(VLOOKUP($A863,check!$A:$L,6,FALSE))=TRUE,\"\",VLOOKUP($A863,check!$A:$L,6,FALSE))","v":""},{"$f":"IF(ISERROR(VLOOKUP($A863,check!$A:$L,7,FALSE))=TRUE,\"\",VLOOKUP($A863,check!$A:$L,7,FALSE))","v":""},{"$f":"IF(ISERROR(VLOOKUP($A863,check!$A:$L,8,FALSE))=TRUE,\"\",VLOOKUP($A863,check!$A:$L,8,FALSE))","v":""},{"$f":"IF(ISERROR(VLOOKUP($A863,check!$A:$L,9,FALSE))=TRUE,\"\",VLOOKUP($A863,check!$A:$L,9,FALSE))","v":""},{"$f":"IF(ISERROR(VLOOKUP($A863,check!$A:$L,10,FALSE))=TRUE,\"\",VLOOKUP($A863,check!$A:$L,10,FALSE))","v":""},{"$f":"IF(ISERROR(VLOOKUP($A863,check!$A:$L,11,FALSE))=TRUE,\"\",VLOOKUP($A863,check!$A:$L,11,FALSE))","v":""},{"$f":"IF(ISERROR(VLOOKUP($A863,check!$A:$L,12,FALSE))=TRUE,\"\",VLOOKUP($A863,check!$A:$L,12,FALSE))","v":""}]
[864,{"$f":"IF(C864=\"\",\"\",MATCH(A864,check!A:A,0))","v":""},{"$f":"IF(ISERROR(VLOOKUP($A864,check!$A:$L,2,FALSE))=TRUE,\"\",VLOOKUP($A864,check!$A:$L,2,FALSE))","v":""},{"$f":"IF(ISERROR(VLOOKUP($A864,check!$A:$L,3,FALSE))=TRUE,\"\",VLOOKUP($A864,check!$A:$L,3,FALSE))","v":""},{"$f":"IF(ISERROR(VLOOKUP($A864,check!$A:$L,4,FALSE))=TRUE,\"\",VLOOKUP($A864,check!$A:$L,4,FALSE))","v":""},{"$f":"IF(ISERROR(VLOOKUP($A864,check!$A:$L,5,FALSE))=TRUE,\"\",VLOOKUP($A864,check!$A:$L,5,FALSE))","v":""},{"$f":"IF(ISERROR(VLOOKUP($A864,check!$A:$L,6,FALSE))=TRUE,\"\",VLOOKUP($A864,check!$A:$L,6,FALSE))","v":""},{"$f":"IF(ISERROR(VLOOKUP($A864,check!$A:$L,7,FALSE))=TRUE,\"\",VLOOKUP($A864,check!$A:$L,7,FALSE))","v":""},{"$f":"IF(ISERROR(VLOOKUP($A864,check!$A:$L,8,FALSE))=TRUE,\"\",VLOOKUP($A864,check!$A:$L,8,FALSE))","v":""},{"$f":"IF(ISERROR(VLOOKUP($A864,check!$A:$L,9,FALSE))=TRUE,\"\",VLOOKUP($A864,check!$A:$L,9,FALSE))","v":""},{"$f":"IF(ISERROR(VLOOKUP($A864,check!$A:$L,10,FALSE))=TRUE,\"\",VLOOKUP($A864,check!$A:$L,10,FALSE))","v":""},{"$f":"IF(ISERROR(VLOOKUP($A864,check!$A:$L,11,FALSE))=TRUE,\"\",VLOOKUP($A864,check!$A:$L,11,FALSE))","v":""},{"$f":"IF(ISERROR(VLOOKUP($A864,check!$A:$L,12,FALSE))=TRUE,\"\",VLOOKUP($A864,check!$A:$L,12,FALSE))","v":""}]
[865,{"$f":"IF(C865=\"\",\"\",MATCH(A865,check!A:A,0))","v":""},{"$f":"IF(ISERROR(VLOOKUP($A865,check!$A:$L,2,FALSE))=TRUE,\"\",VLOOKUP($A865,check!$A:$L,2,FALSE))","v":""},{"$f":"IF(ISERROR(VLOOKUP($A865,check!$A:$L,3,FALSE))=TRUE,\"\",VLOOKUP($A865,check!$A:$L,3,FALSE))","v":""},{"$f":"IF(ISERROR(VLOOKUP($A865,check!$A:$L,4,FALSE))=TRUE,\"\",VLOOKUP($A865,check!$A:$L,4,FALSE))","v":""},{"$f":"IF(ISERROR(VLOOKUP($A865,check!$A:$L,5,FALSE))=TRUE,\"\",VLOOKUP($A865,check!$A:$L,5,FALSE))","v":""},{"$f":"IF(ISERROR(VLOOKUP($A865,check!$A:$L,6,FALSE))=TRUE,\"\",VLOOKUP($A865,check!$A:$L,6,FALSE))","v":""},{"$f":"IF(ISERROR(VLOOKUP($A865,check!$A:$L,7,FALSE))=TRUE,\"\",VLOOKUP($A865,check!$A:$L,7,FALSE))","v":""},{"$f":"IF(ISERROR(VLOOKUP($A865,check!$A:$L,8,FALSE))=TRUE,\"\",VLOOKUP($A865,check!$A:$L,8,FALSE))","v":""},{"$f":"IF(ISERROR(VLOOKUP($A865,check!$A:$L,9,FALSE))=TRUE,\"\",VLOOKUP($A865,check!$A:$L,9,FALSE))","v":""},{"$f":"IF(ISERROR(VLOOKUP($A865,check!$A:$L,10,FALSE))=TRUE,\"\",VLOOKUP($A865,check!$A:$L,10,FALSE))","v":""},{"$f":"IF(ISERROR(VLOOKUP($A865,check!$A:$L,11,FALSE))=TRUE,\"\",VLOOKUP($A865,check!$A:$L,11,FALSE))","v":""},{"$f":"IF(ISERROR(VLOOKUP($A865,check!$A:$L,12,FALSE))=TRUE,\"\",VLOOKUP($A865,check!$A:$L,12,FALSE))","v":""}]
[866,{"$f":"IF(C866=\"\",\"\",MATCH(A866,check!A:A,0))","v":""},{"$f":"IF(ISERROR(VLOOKUP($A866,check!$A:$L,2,FALSE))=TRUE,\"\",VLOOKUP($A866,check!$A:$L,2,FALSE))","v":""},{"$f":"IF(ISERROR(VLOOKUP($A866,check!$A:$L,3,FALSE))=TRUE,\"\",VLOOKUP($A866,check!$A:$L,3,FALSE))","v":""},{"$f":"IF(ISERROR(VLOOKUP($A866,check!$A:$L,4,FALSE))=TRUE,\"\",VLOOKUP($A866,check!$A:$L,4,FALSE))","v":""},{"$f":"IF(ISERROR(VLOOKUP($A866,check!$A:$L,5,FALSE))=TRUE,\"\",VLOOKUP($A866,check!$A:$L,5,FALSE))","v":""},{"$f":"IF(ISERROR(VLOOKUP($A866,check!$A:$L,6,FALSE))=TRUE,\"\",VLOOKUP($A866,check!$A:$L,6,FALSE))","v":""},{"$f":"IF(ISERROR(VLOOKUP($A866,check!$A:$L,7,FALSE))=TRUE,\"\",VLOOKUP($A866,check!$A:$L,7,FALSE))","v":""},{"$f":"IF(ISERROR(VLOOKUP($A866,check!$A:$L,8,FALSE))=TRUE,\"\",VLOOKUP($A866,check!$A:$L,8,FALSE))","v":""},{"$f":"IF(ISERROR(VLOOKUP($A866,check!$A:$L,9,FALSE))=TRUE,\"\",VLOOKUP($A866,check!$A:$L,9,FALSE))","v":""},{"$f":"IF(ISERROR(VLOOKUP($A866,check!$A:$L,10,FALSE))=TRUE,\"\",VLOOKUP($A866,check!$A:$L,10,FALSE))","v":""},{"$f":"IF(ISERROR(VLOOKUP($A866,check!$A:$L,11,FALSE))=TRUE,\"\",VLOOKUP($A866,check!$A:$L,11,FALSE))","v":""},{"$f":"IF(ISERROR(VLOOKUP($A866,check!$A:$L,12,FALSE))=TRUE,\"\",VLOOKUP($A866,check!$A:$L,12,FALSE))","v":""}]
[867,{"$f":"IF(C867=\"\",\"\",MATCH(A867,check!A:A,0))","v":""},{"$f":"IF(ISERROR(VLOOKUP($A867,check!$A:$L,2,FALSE))=TRUE,\"\",VLOOKUP($A867,check!$A:$L,2,FALSE))","v":""},{"$f":"IF(ISERROR(VLOOKUP($A867,check!$A:$L,3,FALSE))=TRUE,\"\",VLOOKUP($A867,check!$A:$L,3,FALSE))","v":""},{"$f":"IF(ISERROR(VLOOKUP($A867,check!$A:$L,4,FALSE))=TRUE,\"\",VLOOKUP($A867,check!$A:$L,4,FALSE))","v":""},{"$f":"IF(ISERROR(VLOOKUP($A867,check!$A:$L,5,FALSE))=TRUE,\"\",VLOOKUP($A867,check!$A:$L,5,FALSE))","v":""},{"$f":"IF(ISERROR(VLOOKUP($A867,check!$A:$L,6,FALSE))=TRUE,\"\",VLOOKUP($A867,check!$A:$L,6,FALSE))","v":""},{"$f":"IF(ISERROR(VLOOKUP($A867,check!$A:$L,7,FALSE))=TRUE,\"\",VLOOKUP($A867,check!$A:$L,7,FALSE))","v":""},{"$f":"IF(ISERROR(VLOOKUP($A867,check!$A:$L,8,FALSE))=TRUE,\"\",VLOOKUP($A867,check!$A:$L,8,FALSE))","v":""},{"$f":"IF(ISERROR(VLOOKUP($A867,check!$A:$L,9,FALSE))=TRUE,\"\",VLOOKUP($A867,check!$A:$L,9,FALSE))","v":""},{"$f":"IF(ISERROR(VLOOKUP($A867,check!$A:$L,10,FALSE))=TRUE,\"\",VLOOKUP($A867,check!$A:$L,10,FALSE))","v":""},{"$f":"IF(ISERROR(VLOOKUP($A867,check!$A:$L,11,FALSE))=TRUE,\"\",VLOOKUP($A867,check!$A:$L,11,FALSE))","v":""},{"$f":"IF(ISERROR(VLOOKUP($A867,check!$A:$L,12,FALSE))=TRUE,\"\",VLOOKUP($A867,check!$A:$L,12,FALSE))","v":""}]
[868,{"$f":"IF(C868=\"\",\"\",MATCH(A868,check!A:A,0))","v":""},{"$f":"IF(ISERROR(VLOOKUP($A868,check!$A:$L,2,FALSE))=TRUE,\"\",VLOOKUP($A868,check!$A:$L,2,FALSE))","v":""},{"$f":"IF(ISERROR(VLOOKUP($A868,check!$A:$L,3,FALSE))=TRUE,\"\",VLOOKUP($A868,check!$A:$L,3,FALSE))","v":""},{"$f":"IF(ISERROR(VLOOKUP($A868,check!$A:$L,4,FALSE))=TRUE,\"\",VLOOKUP($A868,check!$A:$L,4,FALSE))","v":""},{"$f":"IF(ISERROR(VLOOKUP($A868,check!$A:$L,5,FALSE))=TRUE,\"\",VLOOKUP($A868,check!$A:$L,5,FALSE))","v":""},{"$f":"IF(ISERROR(VLOOKUP($A868,check!$A:$L,6,FALSE))=TRUE,\"\",VLOOKUP($A868,check!$A:$L,6,FALSE))","v":""},{"$f":"IF(ISERROR(VLOOKUP($A868,check!$A:$L,7,FALSE))=TRUE,\"\",VLOOKUP($A868,check!$A:$L,7,FALSE))","v":""},{"$f":"IF(ISERROR(VLOOKUP($A868,check!$A:$L,8,FALSE))=TRUE,\"\",VLOOKUP($A868,check!$A:$L,8,FALSE))","v":""},{"$f":"IF(ISERROR(VLOOKUP($A868,check!$A:$L,9,FALSE))=TRUE,\"\",VLOOKUP($A868,check!$A:$L,9,FALSE))","v":""},{"$f":"IF(ISERROR(VLOOKUP($A868,check!$A:$L,10,FALSE))=TRUE,\"\",VLOOKUP($A868,check!$A:$L,10,FALSE))","v":""},{"$f":"IF(ISERROR(VLOOKUP($A868,check!$A:$L,11,FALSE))=TRUE,\"\",VLOOKUP($A868,check!$A:$L,11,FALSE))","v":""},{"$f":"IF(ISERROR(VLOOKUP($A868,check!$A:$L,12,FALSE))=TRUE,\"\",VLOOKUP($A868,check!$A:$L,12,FALSE))","v":""}]
[869,{"$f":"IF(C869=\"\",\"\",MATCH(A869,check!A:A,0))","v":""},{"$f":"IF(ISERROR(VLOOKUP($A869,check!$A:$L,2,FALSE))=TRUE,\"\",VLOOKUP($A869,check!$A:$L,2,FALSE))","v":""},{"$f":"IF(ISERROR(VLOOKUP($A869,check!$A:$L,3,FALSE))=TRUE,\"\",VLOOKUP($A869,check!$A:$L,3,FALSE))","v":""},{"$f":"IF(ISERROR(VLOOKUP($A869,check!$A:$L,4,FALSE))=TRUE,\"\",VLOOKUP($A869,check!$A:$L,4,FALSE))","v":""},{"$f":"IF(ISERROR(VLOOKUP($A869,check!$A:$L,5,FALSE))=TRUE,\"\",VLOOKUP($A869,check!$A:$L,5,FALSE))","v":""},{"$f":"IF(ISERROR(VLOOKUP($A869,check!$A:$L,6,FALSE))=TRUE,\"\",VLOOKUP($A869,check!$A:$L,6,FALSE))","v":""},{"$f":"IF(ISERROR(VLOOKUP($A869,check!$A:$L,7,FALSE))=TRUE,\"\",VLOOKUP($A869,check!$A:$L,7,FALSE))","v":""},{"$f":"IF(ISERROR(VLOOKUP($A869,check!$A:$L,8,FALSE))=TRUE,\"\",VLOOKUP($A869,check!$A:$L,8,FALSE))","v":""},{"$f":"IF(ISERROR(VLOOKUP($A869,check!$A:$L,9,FALSE))=TRUE,\"\",VLOOKUP($A869,check!$A:$L,9,FALSE))","v":""},{"$f":"IF(ISERROR(VLOOKUP($A869,check!$A:$L,10,FALSE))=TRUE,\"\",VLOOKUP($A869,check!$A:$L,10,FALSE))","v":""},{"$f":"IF(ISERROR(VLOOKUP($A869,check!$A:$L,11,FALSE))=TRUE,\"\",VLOOKUP($A869,check!$A:$L,11,FALSE))","v":""},{"$f":"IF(ISERROR(VLOOKUP($A869,check!$A:$L,12,FALSE))=TRUE,\"\",VLOOKUP($A869,check!$A:$L,12,FALSE))","v":""}]
[870,{"$f":"IF(C870=\"\",\"\",MATCH(A870,check!A:A,0))","v":""},{"$f":"IF(ISERROR(VLOOKUP($A870,check!$A:$L,2,FALSE))=TRUE,\"\",VLOOKUP($A870,check!$A:$L,2,FALSE))","v":""},{"$f":"IF(ISERROR(VLOOKUP($A870,check!$A:$L,3,FALSE))=TRUE,\"\",VLOOKUP($A870,check!$A:$L,3,FALSE))","v":""},{"$f":"IF(ISERROR(VLOOKUP($A870,check!$A:$L,4,FALSE))=TRUE,\"\",VLOOKUP($A870,check!$A:$L,4,FALSE))","v":""},{"$f":"IF(ISERROR(VLOOKUP($A870,check!$A:$L,5,FALSE))=TRUE,\"\",VLOOKUP($A870,check!$A:$L,5,FALSE))","v":""},{"$f":"IF(ISERROR(VLOOKUP($A870,check!$A:$L,6,FALSE))=TRUE,\"\",VLOOKUP($A870,check!$A:$L,6,FALSE))","v":""},{"$f":"IF(ISERROR(VLOOKUP($A870,check!$A:$L,7,FALSE))=TRUE,\"\",VLOOKUP($A870,check!$A:$L,7,FALSE))","v":""},{"$f":"IF(ISERROR(VLOOKUP($A870,check!$A:$L,8,FALSE))=TRUE,\"\",VLOOKUP($A870,check!$A:$L,8,FALSE))","v":""},{"$f":"IF(ISERROR(VLOOKUP($A870,check!$A:$L,9,FALSE))=TRUE,\"\",VLOOKUP($A870,check!$A:$L,9,FALSE))","v":""},{"$f":"IF(ISERROR(VLOOKUP($A870,check!$A:$L,10,FALSE))=TRUE,\"\",VLOOKUP($A870,check!$A:$L,10,FALSE))","v":""},{"$f":"IF(ISERROR(VLOOKUP($A870,check!$A:$L,11,FALSE))=TRUE,\"\",VLOOKUP($A870,check!$A:$L,11,FALSE))","v":""},{"$f":"IF(ISERROR(VLOOKUP($A870,check!$A:$L,12,FALSE))=TRUE,\"\",VLOOKUP($A870,check!$A:$L,12,FALSE))","v":""}]
[871,{"$f":"IF(C871=\"\",\"\",MATCH(A871,check!A:A,0))","v":""},{"$f":"IF(ISERROR(VLOOKUP($A871,check!$A:$L,2,FALSE))=TRUE,\"\",VLOOKUP($A871,check!$A:$L,2,FALSE))","v":""},{"$f":"IF(ISERROR(VLOOKUP($A871,check!$A:$L,3,FALSE))=TRUE,\"\",VLOOKUP($A871,check!$A:$L,3,FALSE))","v":""},{"$f":"IF(ISERROR(VLOOKUP($A871,check!$A:$L,4,FALSE))=TRUE,\"\",VLOOKUP($A871,check!$A:$L,4,FALSE))","v":""},{"$f":"IF(ISERROR(VLOOKUP($A871,check!$A:$L,5,FALSE))=TRUE,\"\",VLOOKUP($A871,check!$A:$L,5,FALSE))","v":""},{"$f":"IF(ISERROR(VLOOKUP($A871,check!$A:$L,6,FALSE))=TRUE,\"\",VLOOKUP($A871,check!$A:$L,6,FALSE))","v":""},{"$f":"IF(ISERROR(VLOOKUP($A871,check!$A:$L,7,FALSE))=TRUE,\"\",VLOOKUP($A871,check!$A:$L,7,FALSE))","v":""},{"$f":"IF(ISERROR(VLOOKUP($A871,check!$A:$L,8,FALSE))=TRUE,\"\",VLOOKUP($A871,check!$A:$L,8,FALSE))","v":""},{"$f":"IF(ISERROR(VLOOKUP($A871,check!$A:$L,9,FALSE))=TRUE,\"\",VLOOKUP($A871,check!$A:$L,9,FALSE))","v":""},{"$f":"IF(ISERROR(VLOOKUP($A871,check!$A:$L,10,FALSE))=TRUE,\"\",VLOOKUP($A871,check!$A:$L,10,FALSE))","v":""},{"$f":"IF(ISERROR(VLOOKUP($A871,check!$A:$L,11,FALSE))=TRUE,\"\",VLOOKUP($A871,check!$A:$L,11,FALSE))","v":""},{"$f":"IF(ISERROR(VLOOKUP($A871,check!$A:$L,12,FALSE))=TRUE,\"\",VLOOKUP($A871,check!$A:$L,12,FALSE))","v":""}]
[872,{"$f":"IF(C872=\"\",\"\",MATCH(A872,check!A:A,0))","v":""},{"$f":"IF(ISERROR(VLOOKUP($A872,check!$A:$L,2,FALSE))=TRUE,\"\",VLOOKUP($A872,check!$A:$L,2,FALSE))","v":""},{"$f":"IF(ISERROR(VLOOKUP($A872,check!$A:$L,3,FALSE))=TRUE,\"\",VLOOKUP($A872,check!$A:$L,3,FALSE))","v":""},{"$f":"IF(ISERROR(VLOOKUP($A872,check!$A:$L,4,FALSE))=TRUE,\"\",VLOOKUP($A872,check!$A:$L,4,FALSE))","v":""},{"$f":"IF(ISERROR(VLOOKUP($A872,check!$A:$L,5,FALSE))=TRUE,\"\",VLOOKUP($A872,check!$A:$L,5,FALSE))","v":""},{"$f":"IF(ISERROR(VLOOKUP($A872,check!$A:$L,6,FALSE))=TRUE,\"\",VLOOKUP($A872,check!$A:$L,6,FALSE))","v":""},{"$f":"IF(ISERROR(VLOOKUP($A872,check!$A:$L,7,FALSE))=TRUE,\"\",VLOOKUP($A872,check!$A:$L,7,FALSE))","v":""},{"$f":"IF(ISERROR(VLOOKUP($A872,check!$A:$L,8,FALSE))=TRUE,\"\",VLOOKUP($A872,check!$A:$L,8,FALSE))","v":""},{"$f":"IF(ISERROR(VLOOKUP($A872,check!$A:$L,9,FALSE))=TRUE,\"\",VLOOKUP($A872,check!$A:$L,9,FALSE))","v":""},{"$f":"IF(ISERROR(VLOOKUP($A872,check!$A:$L,10,FALSE))=TRUE,\"\",VLOOKUP($A872,check!$A:$L,10,FALSE))","v":""},{"$f":"IF(ISERROR(VLOOKUP($A872,check!$A:$L,11,FALSE))=TRUE,\"\",VLOOKUP($A872,check!$A:$L,11,FALSE))","v":""},{"$f":"IF(ISERROR(VLOOKUP($A872,check!$A:$L,12,FALSE))=TRUE,\"\",VLOOKUP($A872,check!$A:$L,12,FALSE))","v":""}]
[873,{"$f":"IF(C873=\"\",\"\",MATCH(A873,check!A:A,0))","v":""},{"$f":"IF(ISERROR(VLOOKUP($A873,check!$A:$L,2,FALSE))=TRUE,\"\",VLOOKUP($A873,check!$A:$L,2,FALSE))","v":""},{"$f":"IF(ISERROR(VLOOKUP($A873,check!$A:$L,3,FALSE))=TRUE,\"\",VLOOKUP($A873,check!$A:$L,3,FALSE))","v":""},{"$f":"IF(ISERROR(VLOOKUP($A873,check!$A:$L,4,FALSE))=TRUE,\"\",VLOOKUP($A873,check!$A:$L,4,FALSE))","v":""},{"$f":"IF(ISERROR(VLOOKUP($A873,check!$A:$L,5,FALSE))=TRUE,\"\",VLOOKUP($A873,check!$A:$L,5,FALSE))","v":""},{"$f":"IF(ISERROR(VLOOKUP($A873,check!$A:$L,6,FALSE))=TRUE,\"\",VLOOKUP($A873,check!$A:$L,6,FALSE))","v":""},{"$f":"IF(ISERROR(VLOOKUP($A873,check!$A:$L,7,FALSE))=TRUE,\"\",VLOOKUP($A873,check!$A:$L,7,FALSE))","v":""},{"$f":"IF(ISERROR(VLOOKUP($A873,check!$A:$L,8,FALSE))=TRUE,\"\",VLOOKUP($A873,check!$A:$L,8,FALSE))","v":""},{"$f":"IF(ISERROR(VLOOKUP($A873,check!$A:$L,9,FALSE))=TRUE,\"\",VLOOKUP($A873,check!$A:$L,9,FALSE))","v":""},{"$f":"IF(ISERROR(VLOOKUP($A873,check!$A:$L,10,FALSE))=TRUE,\"\",VLOOKUP($A873,check!$A:$L,10,FALSE))","v":""},{"$f":"IF(ISERROR(VLOOKUP($A873,check!$A:$L,11,FALSE))=TRUE,\"\",VLOOKUP($A873,check!$A:$L,11,FALSE))","v":""},{"$f":"IF(ISERROR(VLOOKUP($A873,check!$A:$L,12,FALSE))=TRUE,\"\",VLOOKUP($A873,check!$A:$L,12,FALSE))","v":""}]
[874,{"$f":"IF(C874=\"\",\"\",MATCH(A874,check!A:A,0))","v":""},{"$f":"IF(ISERROR(VLOOKUP($A874,check!$A:$L,2,FALSE))=TRUE,\"\",VLOOKUP($A874,check!$A:$L,2,FALSE))","v":""},{"$f":"IF(ISERROR(VLOOKUP($A874,check!$A:$L,3,FALSE))=TRUE,\"\",VLOOKUP($A874,check!$A:$L,3,FALSE))","v":""},{"$f":"IF(ISERROR(VLOOKUP($A874,check!$A:$L,4,FALSE))=TRUE,\"\",VLOOKUP($A874,check!$A:$L,4,FALSE))","v":""},{"$f":"IF(ISERROR(VLOOKUP($A874,check!$A:$L,5,FALSE))=TRUE,\"\",VLOOKUP($A874,check!$A:$L,5,FALSE))","v":""},{"$f":"IF(ISERROR(VLOOKUP($A874,check!$A:$L,6,FALSE))=TRUE,\"\",VLOOKUP($A874,check!$A:$L,6,FALSE))","v":""},{"$f":"IF(ISERROR(VLOOKUP($A874,check!$A:$L,7,FALSE))=TRUE,\"\",VLOOKUP($A874,check!$A:$L,7,FALSE))","v":""},{"$f":"IF(ISERROR(VLOOKUP($A874,check!$A:$L,8,FALSE))=TRUE,\"\",VLOOKUP($A874,check!$A:$L,8,FALSE))","v":""},{"$f":"IF(ISERROR(VLOOKUP($A874,check!$A:$L,9,FALSE))=TRUE,\"\",VLOOKUP($A874,check!$A:$L,9,FALSE))","v":""},{"$f":"IF(ISERROR(VLOOKUP($A874,check!$A:$L,10,FALSE))=TRUE,\"\",VLOOKUP($A874,check!$A:$L,10,FALSE))","v":""},{"$f":"IF(ISERROR(VLOOKUP($A874,check!$A:$L,11,FALSE))=TRUE,\"\",VLOOKUP($A874,check!$A:$L,11,FALSE))","v":""},{"$f":"IF(ISERROR(VLOOKUP($A874,check!$A:$L,12,FALSE))=TRUE,\"\",VLOOKUP($A874,check!$A:$L,12,FALSE))","v":""}]
[875,{"$f":"IF(C875=\"\",\"\",MATCH(A875,check!A:A,0))","v":""},{"$f":"IF(ISERROR(VLOOKUP($A875,check!$A:$L,2,FALSE))=TRUE,\"\",VLOOKUP($A875,check!$A:$L,2,FALSE))","v":""},{"$f":"IF(ISERROR(VLOOKUP($A875,check!$A:$L,3,FALSE))=TRUE,\"\",VLOOKUP($A875,check!$A:$L,3,FALSE))","v":""},{"$f":"IF(ISERROR(VLOOKUP($A875,check!$A:$L,4,FALSE))=TRUE,\"\",VLOOKUP($A875,check!$A:$L,4,FALSE))","v":""},{"$f":"IF(ISERROR(VLOOKUP($A875,check!$A:$L,5,FALSE))=TRUE,\"\",VLOOKUP($A875,check!$A:$L,5,FALSE))","v":""},{"$f":"IF(ISERROR(VLOOKUP($A875,check!$A:$L,6,FALSE))=TRUE,\"\",VLOOKUP($A875,check!$A:$L,6,FALSE))","v":""},{"$f":"IF(ISERROR(VLOOKUP($A875,check!$A:$L,7,FALSE))=TRUE,\"\",VLOOKUP($A875,check!$A:$L,7,FALSE))","v":""},{"$f":"IF(ISERROR(VLOOKUP($A875,check!$A:$L,8,FALSE))=TRUE,\"\",VLOOKUP($A875,check!$A:$L,8,FALSE))","v":""},{"$f":"IF(ISERROR(VLOOKUP($A875,check!$A:$L,9,FALSE))=TRUE,\"\",VLOOKUP($A875,check!$A:$L,9,FALSE))","v":""},{"$f":"IF(ISERROR(VLOOKUP($A875,check!$A:$L,10,FALSE))=TRUE,\"\",VLOOKUP($A875,check!$A:$L,10,FALSE))","v":""},{"$f":"IF(ISERROR(VLOOKUP($A875,check!$A:$L,11,FALSE))=TRUE,\"\",VLOOKUP($A875,check!$A:$L,11,FALSE))","v":""},{"$f":"IF(ISERROR(VLOOKUP($A875,check!$A:$L,12,FALSE))=TRUE,\"\",VLOOKUP($A875,check!$A:$L,12,FALSE))","v":""}]
[876,{"$f":"IF(C876=\"\",\"\",MATCH(A876,check!A:A,0))","v":""},{"$f":"IF(ISERROR(VLOOKUP($A876,check!$A:$L,2,FALSE))=TRUE,\"\",VLOOKUP($A876,check!$A:$L,2,FALSE))","v":""},{"$f":"IF(ISERROR(VLOOKUP($A876,check!$A:$L,3,FALSE))=TRUE,\"\",VLOOKUP($A876,check!$A:$L,3,FALSE))","v":""},{"$f":"IF(ISERROR(VLOOKUP($A876,check!$A:$L,4,FALSE))=TRUE,\"\",VLOOKUP($A876,check!$A:$L,4,FALSE))","v":""},{"$f":"IF(ISERROR(VLOOKUP($A876,check!$A:$L,5,FALSE))=TRUE,\"\",VLOOKUP($A876,check!$A:$L,5,FALSE))","v":""},{"$f":"IF(ISERROR(VLOOKUP($A876,check!$A:$L,6,FALSE))=TRUE,\"\",VLOOKUP($A876,check!$A:$L,6,FALSE))","v":""},{"$f":"IF(ISERROR(VLOOKUP($A876,check!$A:$L,7,FALSE))=TRUE,\"\",VLOOKUP($A876,check!$A:$L,7,FALSE))","v":""},{"$f":"IF(ISERROR(VLOOKUP($A876,check!$A:$L,8,FALSE))=TRUE,\"\",VLOOKUP($A876,check!$A:$L,8,FALSE))","v":""},{"$f":"IF(ISERROR(VLOOKUP($A876,check!$A:$L,9,FALSE))=TRUE,\"\",VLOOKUP($A876,check!$A:$L,9,FALSE))","v":""},{"$f":"IF(ISERROR(VLOOKUP($A876,check!$A:$L,10,FALSE))=TRUE,\"\",VLOOKUP($A876,check!$A:$L,10,FALSE))","v":""},{"$f":"IF(ISERROR(VLOOKUP($A876,check!$A:$L,11,FALSE))=TRUE,\"\",VLOOKUP($A876,check!$A:$L,11,FALSE))","v":""},{"$f":"IF(ISERROR(VLOOKUP($A876,check!$A:$L,12,FALSE))=TRUE,\"\",VLOOKUP($A876,check!$A:$L,12,FALSE))","v":""}]
[877,{"$f":"IF(C877=\"\",\"\",MATCH(A877,check!A:A,0))","v":""},{"$f":"IF(ISERROR(VLOOKUP($A877,check!$A:$L,2,FALSE))=TRUE,\"\",VLOOKUP($A877,check!$A:$L,2,FALSE))","v":""},{"$f":"IF(ISERROR(VLOOKUP($A877,check!$A:$L,3,FALSE))=TRUE,\"\",VLOOKUP($A877,check!$A:$L,3,FALSE))","v":""},{"$f":"IF(ISERROR(VLOOKUP($A877,check!$A:$L,4,FALSE))=TRUE,\"\",VLOOKUP($A877,check!$A:$L,4,FALSE))","v":""},{"$f":"IF(ISERROR(VLOOKUP($A877,check!$A:$L,5,FALSE))=TRUE,\"\",VLOOKUP($A877,check!$A:$L,5,FALSE))","v":""},{"$f":"IF(ISERROR(VLOOKUP($A877,check!$A:$L,6,FALSE))=TRUE,\"\",VLOOKUP($A877,check!$A:$L,6,FALSE))","v":""},{"$f":"IF(ISERROR(VLOOKUP($A877,check!$A:$L,7,FALSE))=TRUE,\"\",VLOOKUP($A877,check!$A:$L,7,FALSE))","v":""},{"$f":"IF(ISERROR(VLOOKUP($A877,check!$A:$L,8,FALSE))=TRUE,\"\",VLOOKUP($A877,check!$A:$L,8,FALSE))","v":""},{"$f":"IF(ISERROR(VLOOKUP($A877,check!$A:$L,9,FALSE))=TRUE,\"\",VLOOKUP($A877,check!$A:$L,9,FALSE))","v":""},{"$f":"IF(ISERROR(VLOOKUP($A877,check!$A:$L,10,FALSE))=TRUE,\"\",VLOOKUP($A877,check!$A:$L,10,FALSE))","v":""},{"$f":"IF(ISERROR(VLOOKUP($A877,check!$A:$L,11,FALSE))=TRUE,\"\",VLOOKUP($A877,check!$A:$L,11,FALSE))","v":""},{"$f":"IF(ISERROR(VLOOKUP($A877,check!$A:$L,12,FALSE))=TRUE,\"\",VLOOKUP($A877,check!$A:$L,12,FALSE))","v":""}]
[878,{"$f":"IF(C878=\"\",\"\",MATCH(A878,check!A:A,0))","v":""},{"$f":"IF(ISERROR(VLOOKUP($A878,check!$A:$L,2,FALSE))=TRUE,\"\",VLOOKUP($A878,check!$A:$L,2,FALSE))","v":""},{"$f":"IF(ISERROR(VLOOKUP($A878,check!$A:$L,3,FALSE))=TRUE,\"\",VLOOKUP($A878,check!$A:$L,3,FALSE))","v":""},{"$f":"IF(ISERROR(VLOOKUP($A878,check!$A:$L,4,FALSE))=TRUE,\"\",VLOOKUP($A878,check!$A:$L,4,FALSE))","v":""},{"$f":"IF(ISERROR(VLOOKUP($A878,check!$A:$L,5,FALSE))=TRUE,\"\",VLOOKUP($A878,check!$A:$L,5,FALSE))","v":""},{"$f":"IF(ISERROR(VLOOKUP($A878,check!$A:$L,6,FALSE))=TRUE,\"\",VLOOKUP($A878,check!$A:$L,6,FALSE))","v":""},{"$f":"IF(ISERROR(VLOOKUP($A878,check!$A:$L,7,FALSE))=TRUE,\"\",VLOOKUP($A878,check!$A:$L,7,FALSE))","v":""},{"$f":"IF(ISERROR(VLOOKUP($A878,check!$A:$L,8,FALSE))=TRUE,\"\",VLOOKUP($A878,check!$A:$L,8,FALSE))","v":""},{"$f":"IF(ISERROR(VLOOKUP($A878,check!$A:$L,9,FALSE))=TRUE,\"\",VLOOKUP($A878,check!$A:$L,9,FALSE))","v":""},{"$f":"IF(ISERROR(VLOOKUP($A878,check!$A:$L,10,FALSE))=TRUE,\"\",VLOOKUP($A878,check!$A:$L,10,FALSE))","v":""},{"$f":"IF(ISERROR(VLOOKUP($A878,check!$A:$L,11,FALSE))=TRUE,\"\",VLOOKUP($A878,check!$A:$L,11,FALSE))","v":""},{"$f":"IF(ISERROR(VLOOKUP($A878,check!$A:$L,12,FALSE))=TRUE,\"\",VLOOKUP($A878,check!$A:$L,12,FALSE))","v":""}]
[879,{"$f":"IF(C879=\"\",\"\",MATCH(A879,check!A:A,0))","v":""},{"$f":"IF(ISERROR(VLOOKUP($A879,check!$A:$L,2,FALSE))=TRUE,\"\",VLOOKUP($A879,check!$A:$L,2,FALSE))","v":""},{"$f":"IF(ISERROR(VLOOKUP($A879,check!$A:$L,3,FALSE))=TRUE,\"\",VLOOKUP($A879,check!$A:$L,3,FALSE))","v":""},{"$f":"IF(ISERROR(VLOOKUP($A879,check!$A:$L,4,FALSE))=TRUE,\"\",VLOOKUP($A879,check!$A:$L,4,FALSE))","v":""},{"$f":"IF(ISERROR(VLOOKUP($A879,check!$A:$L,5,FALSE))=TRUE,\"\",VLOOKUP($A879,check!$A:$L,5,FALSE))","v":""},{"$f":"IF(ISERROR(VLOOKUP($A879,check!$A:$L,6,FALSE))=TRUE,\"\",VLOOKUP($A879,check!$A:$L,6,FALSE))","v":""},{"$f":"IF(ISERROR(VLOOKUP($A879,check!$A:$L,7,FALSE))=TRUE,\"\",VLOOKUP($A879,check!$A:$L,7,FALSE))","v":""},{"$f":"IF(ISERROR(VLOOKUP($A879,check!$A:$L,8,FALSE))=TRUE,\"\",VLOOKUP($A879,check!$A:$L,8,FALSE))","v":""},{"$f":"IF(ISERROR(VLOOKUP($A879,check!$A:$L,9,FALSE))=TRUE,\"\",VLOOKUP($A879,check!$A:$L,9,FALSE))","v":""},{"$f":"IF(ISERROR(VLOOKUP($A879,check!$A:$L,10,FALSE))=TRUE,\"\",VLOOKUP($A879,check!$A:$L,10,FALSE))","v":""},{"$f":"IF(ISERROR(VLOOKUP($A879,check!$A:$L,11,FALSE))=TRUE,\"\",VLOOKUP($A879,check!$A:$L,11,FALSE))","v":""},{"$f":"IF(ISERROR(VLOOKUP($A879,check!$A:$L,12,FALSE))=TRUE,\"\",VLOOKUP($A879,check!$A:$L,12,FALSE))","v":""}]
[880,{"$f":"IF(C880=\"\",\"\",MATCH(A880,check!A:A,0))","v":""},{"$f":"IF(ISERROR(VLOOKUP($A880,check!$A:$L,2,FALSE))=TRUE,\"\",VLOOKUP($A880,check!$A:$L,2,FALSE))","v":""},{"$f":"IF(ISERROR(VLOOKUP($A880,check!$A:$L,3,FALSE))=TRUE,\"\",VLOOKUP($A880,check!$A:$L,3,FALSE))","v":""},{"$f":"IF(ISERROR(VLOOKUP($A880,check!$A:$L,4,FALSE))=TRUE,\"\",VLOOKUP($A880,check!$A:$L,4,FALSE))","v":""},{"$f":"IF(ISERROR(VLOOKUP($A880,check!$A:$L,5,FALSE))=TRUE,\"\",VLOOKUP($A880,check!$A:$L,5,FALSE))","v":""},{"$f":"IF(ISERROR(VLOOKUP($A880,check!$A:$L,6,FALSE))=TRUE,\"\",VLOOKUP($A880,check!$A:$L,6,FALSE))","v":""},{"$f":"IF(ISERROR(VLOOKUP($A880,check!$A:$L,7,FALSE))=TRUE,\"\",VLOOKUP($A880,check!$A:$L,7,FALSE))","v":""},{"$f":"IF(ISERROR(VLOOKUP($A880,check!$A:$L,8,FALSE))=TRUE,\"\",VLOOKUP($A880,check!$A:$L,8,FALSE))","v":""},{"$f":"IF(ISERROR(VLOOKUP($A880,check!$A:$L,9,FALSE))=TRUE,\"\",VLOOKUP($A880,check!$A:$L,9,FALSE))","v":""},{"$f":"IF(ISERROR(VLOOKUP($A880,check!$A:$L,10,FALSE))=TRUE,\"\",VLOOKUP($A880,check!$A:$L,10,FALSE))","v":""},{"$f":"IF(ISERROR(VLOOKUP($A880,check!$A:$L,11,FALSE))=TRUE,\"\",VLOOKUP($A880,check!$A:$L,11,FALSE))","v":""},{"$f":"IF(ISERROR(VLOOKUP($A880,check!$A:$L,12,FALSE))=TRUE,\"\",VLOOKUP($A880,check!$A:$L,12,FALSE))","v":""}]
[881,{"$f":"IF(C881=\"\",\"\",MATCH(A881,check!A:A,0))","v":""},{"$f":"IF(ISERROR(VLOOKUP($A881,check!$A:$L,2,FALSE))=TRUE,\"\",VLOOKUP($A881,check!$A:$L,2,FALSE))","v":""},{"$f":"IF(ISERROR(VLOOKUP($A881,check!$A:$L,3,FALSE))=TRUE,\"\",VLOOKUP($A881,check!$A:$L,3,FALSE))","v":""},{"$f":"IF(ISERROR(VLOOKUP($A881,check!$A:$L,4,FALSE))=TRUE,\"\",VLOOKUP($A881,check!$A:$L,4,FALSE))","v":""},{"$f":"IF(ISERROR(VLOOKUP($A881,check!$A:$L,5,FALSE))=TRUE,\"\",VLOOKUP($A881,check!$A:$L,5,FALSE))","v":""},{"$f":"IF(ISERROR(VLOOKUP($A881,check!$A:$L,6,FALSE))=TRUE,\"\",VLOOKUP($A881,check!$A:$L,6,FALSE))","v":""},{"$f":"IF(ISERROR(VLOOKUP($A881,check!$A:$L,7,FALSE))=TRUE,\"\",VLOOKUP($A881,check!$A:$L,7,FALSE))","v":""},{"$f":"IF(ISERROR(VLOOKUP($A881,check!$A:$L,8,FALSE))=TRUE,\"\",VLOOKUP($A881,check!$A:$L,8,FALSE))","v":""},{"$f":"IF(ISERROR(VLOOKUP($A881,check!$A:$L,9,FALSE))=TRUE,\"\",VLOOKUP($A881,check!$A:$L,9,FALSE))","v":""},{"$f":"IF(ISERROR(VLOOKUP($A881,check!$A:$L,10,FALSE))=TRUE,\"\",VLOOKUP($A881,check!$A:$L,10,FALSE))","v":""},{"$f":"IF(ISERROR(VLOOKUP($A881,check!$A:$L,11,FALSE))=TRUE,\"\",VLOOKUP($A881,check!$A:$L,11,FALSE))","v":""},{"$f":"IF(ISERROR(VLOOKUP($A881,check!$A:$L,12,FALSE))=TRUE,\"\",VLOOKUP($A881,check!$A:$L,12,FALSE))","v":""}]
[882,{"$f":"IF(C882=\"\",\"\",MATCH(A882,check!A:A,0))","v":""},{"$f":"IF(ISERROR(VLOOKUP($A882,check!$A:$L,2,FALSE))=TRUE,\"\",VLOOKUP($A882,check!$A:$L,2,FALSE))","v":""},{"$f":"IF(ISERROR(VLOOKUP($A882,check!$A:$L,3,FALSE))=TRUE,\"\",VLOOKUP($A882,check!$A:$L,3,FALSE))","v":""},{"$f":"IF(ISERROR(VLOOKUP($A882,check!$A:$L,4,FALSE))=TRUE,\"\",VLOOKUP($A882,check!$A:$L,4,FALSE))","v":""},{"$f":"IF(ISERROR(VLOOKUP($A882,check!$A:$L,5,FALSE))=TRUE,\"\",VLOOKUP($A882,check!$A:$L,5,FALSE))","v":""},{"$f":"IF(ISERROR(VLOOKUP($A882,check!$A:$L,6,FALSE))=TRUE,\"\",VLOOKUP($A882,check!$A:$L,6,FALSE))","v":""},{"$f":"IF(ISERROR(VLOOKUP($A882,check!$A:$L,7,FALSE))=TRUE,\"\",VLOOKUP($A882,check!$A:$L,7,FALSE))","v":""},{"$f":"IF(ISERROR(VLOOKUP($A882,check!$A:$L,8,FALSE))=TRUE,\"\",VLOOKUP($A882,check!$A:$L,8,FALSE))","v":""},{"$f":"IF(ISERROR(VLOOKUP($A882,check!$A:$L,9,FALSE))=TRUE,\"\",VLOOKUP($A882,check!$A:$L,9,FALSE))","v":""},{"$f":"IF(ISERROR(VLOOKUP($A882,check!$A:$L,10,FALSE))=TRUE,\"\",VLOOKUP($A882,check!$A:$L,10,FALSE))","v":""},{"$f":"IF(ISERROR(VLOOKUP($A882,check!$A:$L,11,FALSE))=TRUE,\"\",VLOOKUP($A882,check!$A:$L,11,FALSE))","v":""},{"$f":"IF(ISERROR(VLOOKUP($A882,check!$A:$L,12,FALSE))=TRUE,\"\",VLOOKUP($A882,check!$A:$L,12,FALSE))","v":""}]
[883,{"$f":"IF(C883=\"\",\"\",MATCH(A883,check!A:A,0))","v":""},{"$f":"IF(ISERROR(VLOOKUP($A883,check!$A:$L,2,FALSE))=TRUE,\"\",VLOOKUP($A883,check!$A:$L,2,FALSE))","v":""},{"$f":"IF(ISERROR(VLOOKUP($A883,check!$A:$L,3,FALSE))=TRUE,\"\",VLOOKUP($A883,check!$A:$L,3,FALSE))","v":""},{"$f":"IF(ISERROR(VLOOKUP($A883,check!$A:$L,4,FALSE))=TRUE,\"\",VLOOKUP($A883,check!$A:$L,4,FALSE))","v":""},{"$f":"IF(ISERROR(VLOOKUP($A883,check!$A:$L,5,FALSE))=TRUE,\"\",VLOOKUP($A883,check!$A:$L,5,FALSE))","v":""},{"$f":"IF(ISERROR(VLOOKUP($A883,check!$A:$L,6,FALSE))=TRUE,\"\",VLOOKUP($A883,check!$A:$L,6,FALSE))","v":""},{"$f":"IF(ISERROR(VLOOKUP($A883,check!$A:$L,7,FALSE))=TRUE,\"\",VLOOKUP($A883,check!$A:$L,7,FALSE))","v":""},{"$f":"IF(ISERROR(VLOOKUP($A883,check!$A:$L,8,FALSE))=TRUE,\"\",VLOOKUP($A883,check!$A:$L,8,FALSE))","v":""},{"$f":"IF(ISERROR(VLOOKUP($A883,check!$A:$L,9,FALSE))=TRUE,\"\",VLOOKUP($A883,check!$A:$L,9,FALSE))","v":""},{"$f":"IF(ISERROR(VLOOKUP($A883,check!$A:$L,10,FALSE))=TRUE,\"\",VLOOKUP($A883,check!$A:$L,10,FALSE))","v":""},{"$f":"IF(ISERROR(VLOOKUP($A883,check!$A:$L,11,FALSE))=TRUE,\"\",VLOOKUP($A883,check!$A:$L,11,FALSE))","v":""},{"$f":"IF(ISERROR(VLOOKUP($A883,check!$A:$L,12,FALSE))=TRUE,\"\",VLOOKUP($A883,check!$A:$L,12,FALSE))","v":""}]
[884,{"$f":"IF(C884=\"\",\"\",MATCH(A884,check!A:A,0))","v":""},{"$f":"IF(ISERROR(VLOOKUP($A884,check!$A:$L,2,FALSE))=TRUE,\"\",VLOOKUP($A884,check!$A:$L,2,FALSE))","v":""},{"$f":"IF(ISERROR(VLOOKUP($A884,check!$A:$L,3,FALSE))=TRUE,\"\",VLOOKUP($A884,check!$A:$L,3,FALSE))","v":""},{"$f":"IF(ISERROR(VLOOKUP($A884,check!$A:$L,4,FALSE))=TRUE,\"\",VLOOKUP($A884,check!$A:$L,4,FALSE))","v":""},{"$f":"IF(ISERROR(VLOOKUP($A884,check!$A:$L,5,FALSE))=TRUE,\"\",VLOOKUP($A884,check!$A:$L,5,FALSE))","v":""},{"$f":"IF(ISERROR(VLOOKUP($A884,check!$A:$L,6,FALSE))=TRUE,\"\",VLOOKUP($A884,check!$A:$L,6,FALSE))","v":""},{"$f":"IF(ISERROR(VLOOKUP($A884,check!$A:$L,7,FALSE))=TRUE,\"\",VLOOKUP($A884,check!$A:$L,7,FALSE))","v":""},{"$f":"IF(ISERROR(VLOOKUP($A884,check!$A:$L,8,FALSE))=TRUE,\"\",VLOOKUP($A884,check!$A:$L,8,FALSE))","v":""},{"$f":"IF(ISERROR(VLOOKUP($A884,check!$A:$L,9,FALSE))=TRUE,\"\",VLOOKUP($A884,check!$A:$L,9,FALSE))","v":""},{"$f":"IF(ISERROR(VLOOKUP($A884,check!$A:$L,10,FALSE))=TRUE,\"\",VLOOKUP($A884,check!$A:$L,10,FALSE))","v":""},{"$f":"IF(ISERROR(VLOOKUP($A884,check!$A:$L,11,FALSE))=TRUE,\"\",VLOOKUP($A884,check!$A:$L,11,FALSE))","v":""},{"$f":"IF(ISERROR(VLOOKUP($A884,check!$A:$L,12,FALSE))=TRUE,\"\",VLOOKUP($A884,check!$A:$L,12,FALSE))","v":""}]
[885,{"$f":"IF(C885=\"\",\"\",MATCH(A885,check!A:A,0))","v":""},{"$f":"IF(ISERROR(VLOOKUP($A885,check!$A:$L,2,FALSE))=TRUE,\"\",VLOOKUP($A885,check!$A:$L,2,FALSE))","v":""},{"$f":"IF(ISERROR(VLOOKUP($A885,check!$A:$L,3,FALSE))=TRUE,\"\",VLOOKUP($A885,check!$A:$L,3,FALSE))","v":""},{"$f":"IF(ISERROR(VLOOKUP($A885,check!$A:$L,4,FALSE))=TRUE,\"\",VLOOKUP($A885,check!$A:$L,4,FALSE))","v":""},{"$f":"IF(ISERROR(VLOOKUP($A885,check!$A:$L,5,FALSE))=TRUE,\"\",VLOOKUP($A885,check!$A:$L,5,FALSE))","v":""},{"$f":"IF(ISERROR(VLOOKUP($A885,check!$A:$L,6,FALSE))=TRUE,\"\",VLOOKUP($A885,check!$A:$L,6,FALSE))","v":""},{"$f":"IF(ISERROR(VLOOKUP($A885,check!$A:$L,7,FALSE))=TRUE,\"\",VLOOKUP($A885,check!$A:$L,7,FALSE))","v":""},{"$f":"IF(ISERROR(VLOOKUP($A885,check!$A:$L,8,FALSE))=TRUE,\"\",VLOOKUP($A885,check!$A:$L,8,FALSE))","v":""},{"$f":"IF(ISERROR(VLOOKUP($A885,check!$A:$L,9,FALSE))=TRUE,\"\",VLOOKUP($A885,check!$A:$L,9,FALSE))","v":""},{"$f":"IF(ISERROR(VLOOKUP($A885,check!$A:$L,10,FALSE))=TRUE,\"\",VLOOKUP($A885,check!$A:$L,10,FALSE))","v":""},{"$f":"IF(ISERROR(VLOOKUP($A885,check!$A:$L,11,FALSE))=TRUE,\"\",VLOOKUP($A885,check!$A:$L,11,FALSE))","v":""},{"$f":"IF(ISERROR(VLOOKUP($A885,check!$A:$L,12,FALSE))=TRUE,\"\",VLOOKUP($A885,check!$A:$L,12,FALSE))","v":""}]
[886,{"$f":"IF(C886=\"\",\"\",MATCH(A886,check!A:A,0))","v":""},{"$f":"IF(ISERROR(VLOOKUP($A886,check!$A:$L,2,FALSE))=TRUE,\"\",VLOOKUP($A886,check!$A:$L,2,FALSE))","v":""},{"$f":"IF(ISERROR(VLOOKUP($A886,check!$A:$L,3,FALSE))=TRUE,\"\",VLOOKUP($A886,check!$A:$L,3,FALSE))","v":""},{"$f":"IF(ISERROR(VLOOKUP($A886,check!$A:$L,4,FALSE))=TRUE,\"\",VLOOKUP($A886,check!$A:$L,4,FALSE))","v":""},{"$f":"IF(ISERROR(VLOOKUP($A886,check!$A:$L,5,FALSE))=TRUE,\"\",VLOOKUP($A886,check!$A:$L,5,FALSE))","v":""},{"$f":"IF(ISERROR(VLOOKUP($A886,check!$A:$L,6,FALSE))=TRUE,\"\",VLOOKUP($A886,check!$A:$L,6,FALSE))","v":""},{"$f":"IF(ISERROR(VLOOKUP($A886,check!$A:$L,7,FALSE))=TRUE,\"\",VLOOKUP($A886,check!$A:$L,7,FALSE))","v":""},{"$f":"IF(ISERROR(VLOOKUP($A886,check!$A:$L,8,FALSE))=TRUE,\"\",VLOOKUP($A886,check!$A:$L,8,FALSE))","v":""},{"$f":"IF(ISERROR(VLOOKUP($A886,check!$A:$L,9,FALSE))=TRUE,\"\",VLOOKUP($A886,check!$A:$L,9,FALSE))","v":""},{"$f":"IF(ISERROR(VLOOKUP($A886,check!$A:$L,10,FALSE))=TRUE,\"\",VLOOKUP($A886,check!$A:$L,10,FALSE))","v":""},{"$f":"IF(ISERROR(VLOOKUP($A886,check!$A:$L,11,FALSE))=TRUE,\"\",VLOOKUP($A886,check!$A:$L,11,FALSE))","v":""},{"$f":"IF(ISERROR(VLOOKUP($A886,check!$A:$L,12,FALSE))=TRUE,\"\",VLOOKUP($A886,check!$A:$L,12,FALSE))","v":""}]
[887,{"$f":"IF(C887=\"\",\"\",MATCH(A887,check!A:A,0))","v":""},{"$f":"IF(ISERROR(VLOOKUP($A887,check!$A:$L,2,FALSE))=TRUE,\"\",VLOOKUP($A887,check!$A:$L,2,FALSE))","v":""},{"$f":"IF(ISERROR(VLOOKUP($A887,check!$A:$L,3,FALSE))=TRUE,\"\",VLOOKUP($A887,check!$A:$L,3,FALSE))","v":""},{"$f":"IF(ISERROR(VLOOKUP($A887,check!$A:$L,4,FALSE))=TRUE,\"\",VLOOKUP($A887,check!$A:$L,4,FALSE))","v":""},{"$f":"IF(ISERROR(VLOOKUP($A887,check!$A:$L,5,FALSE))=TRUE,\"\",VLOOKUP($A887,check!$A:$L,5,FALSE))","v":""},{"$f":"IF(ISERROR(VLOOKUP($A887,check!$A:$L,6,FALSE))=TRUE,\"\",VLOOKUP($A887,check!$A:$L,6,FALSE))","v":""},{"$f":"IF(ISERROR(VLOOKUP($A887,check!$A:$L,7,FALSE))=TRUE,\"\",VLOOKUP($A887,check!$A:$L,7,FALSE))","v":""},{"$f":"IF(ISERROR(VLOOKUP($A887,check!$A:$L,8,FALSE))=TRUE,\"\",VLOOKUP($A887,check!$A:$L,8,FALSE))","v":""},{"$f":"IF(ISERROR(VLOOKUP($A887,check!$A:$L,9,FALSE))=TRUE,\"\",VLOOKUP($A887,check!$A:$L,9,FALSE))","v":""},{"$f":"IF(ISERROR(VLOOKUP($A887,check!$A:$L,10,FALSE))=TRUE,\"\",VLOOKUP($A887,check!$A:$L,10,FALSE))","v":""},{"$f":"IF(ISERROR(VLOOKUP($A887,check!$A:$L,11,FALSE))=TRUE,\"\",VLOOKUP($A887,check!$A:$L,11,FALSE))","v":""},{"$f":"IF(ISERROR(VLOOKUP($A887,check!$A:$L,12,FALSE))=TRUE,\"\",VLOOKUP($A887,check!$A:$L,12,FALSE))","v":""}]
[888,{"$f":"IF(C888=\"\",\"\",MATCH(A888,check!A:A,0))","v":""},{"$f":"IF(ISERROR(VLOOKUP($A888,check!$A:$L,2,FALSE))=TRUE,\"\",VLOOKUP($A888,check!$A:$L,2,FALSE))","v":""},{"$f":"IF(ISERROR(VLOOKUP($A888,check!$A:$L,3,FALSE))=TRUE,\"\",VLOOKUP($A888,check!$A:$L,3,FALSE))","v":""},{"$f":"IF(ISERROR(VLOOKUP($A888,check!$A:$L,4,FALSE))=TRUE,\"\",VLOOKUP($A888,check!$A:$L,4,FALSE))","v":""},{"$f":"IF(ISERROR(VLOOKUP($A888,check!$A:$L,5,FALSE))=TRUE,\"\",VLOOKUP($A888,check!$A:$L,5,FALSE))","v":""},{"$f":"IF(ISERROR(VLOOKUP($A888,check!$A:$L,6,FALSE))=TRUE,\"\",VLOOKUP($A888,check!$A:$L,6,FALSE))","v":""},{"$f":"IF(ISERROR(VLOOKUP($A888,check!$A:$L,7,FALSE))=TRUE,\"\",VLOOKUP($A888,check!$A:$L,7,FALSE))","v":""},{"$f":"IF(ISERROR(VLOOKUP($A888,check!$A:$L,8,FALSE))=TRUE,\"\",VLOOKUP($A888,check!$A:$L,8,FALSE))","v":""},{"$f":"IF(ISERROR(VLOOKUP($A888,check!$A:$L,9,FALSE))=TRUE,\"\",VLOOKUP($A888,check!$A:$L,9,FALSE))","v":""},{"$f":"IF(ISERROR(VLOOKUP($A888,check!$A:$L,10,FALSE))=TRUE,\"\",VLOOKUP($A888,check!$A:$L,10,FALSE))","v":""},{"$f":"IF(ISERROR(VLOOKUP($A888,check!$A:$L,11,FALSE))=TRUE,\"\",VLOOKUP($A888,check!$A:$L,11,FALSE))","v":""},{"$f":"IF(ISERROR(VLOOKUP($A888,check!$A:$L,12,FALSE))=TRUE,\"\",VLOOKUP($A888,check!$A:$L,12,FALSE))","v":""}]
[889,{"$f":"IF(C889=\"\",\"\",MATCH(A889,check!A:A,0))","v":""},{"$f":"IF(ISERROR(VLOOKUP($A889,check!$A:$L,2,FALSE))=TRUE,\"\",VLOOKUP($A889,check!$A:$L,2,FALSE))","v":""},{"$f":"IF(ISERROR(VLOOKUP($A889,check!$A:$L,3,FALSE))=TRUE,\"\",VLOOKUP($A889,check!$A:$L,3,FALSE))","v":""},{"$f":"IF(ISERROR(VLOOKUP($A889,check!$A:$L,4,FALSE))=TRUE,\"\",VLOOKUP($A889,check!$A:$L,4,FALSE))","v":""},{"$f":"IF(ISERROR(VLOOKUP($A889,check!$A:$L,5,FALSE))=TRUE,\"\",VLOOKUP($A889,check!$A:$L,5,FALSE))","v":""},{"$f":"IF(ISERROR(VLOOKUP($A889,check!$A:$L,6,FALSE))=TRUE,\"\",VLOOKUP($A889,check!$A:$L,6,FALSE))","v":""},{"$f":"IF(ISERROR(VLOOKUP($A889,check!$A:$L,7,FALSE))=TRUE,\"\",VLOOKUP($A889,check!$A:$L,7,FALSE))","v":""},{"$f":"IF(ISERROR(VLOOKUP($A889,check!$A:$L,8,FALSE))=TRUE,\"\",VLOOKUP($A889,check!$A:$L,8,FALSE))","v":""},{"$f":"IF(ISERROR(VLOOKUP($A889,check!$A:$L,9,FALSE))=TRUE,\"\",VLOOKUP($A889,check!$A:$L,9,FALSE))","v":""},{"$f":"IF(ISERROR(VLOOKUP($A889,check!$A:$L,10,FALSE))=TRUE,\"\",VLOOKUP($A889,check!$A:$L,10,FALSE))","v":""},{"$f":"IF(ISERROR(VLOOKUP($A889,check!$A:$L,11,FALSE))=TRUE,\"\",VLOOKUP($A889,check!$A:$L,11,FALSE))","v":""},{"$f":"IF(ISERROR(VLOOKUP($A889,check!$A:$L,12,FALSE))=TRUE,\"\",VLOOKUP($A889,check!$A:$L,12,FALSE))","v":""}]
[890,{"$f":"IF(C890=\"\",\"\",MATCH(A890,check!A:A,0))","v":""},{"$f":"IF(ISERROR(VLOOKUP($A890,check!$A:$L,2,FALSE))=TRUE,\"\",VLOOKUP($A890,check!$A:$L,2,FALSE))","v":""},{"$f":"IF(ISERROR(VLOOKUP($A890,check!$A:$L,3,FALSE))=TRUE,\"\",VLOOKUP($A890,check!$A:$L,3,FALSE))","v":""},{"$f":"IF(ISERROR(VLOOKUP($A890,check!$A:$L,4,FALSE))=TRUE,\"\",VLOOKUP($A890,check!$A:$L,4,FALSE))","v":""},{"$f":"IF(ISERROR(VLOOKUP($A890,check!$A:$L,5,FALSE))=TRUE,\"\",VLOOKUP($A890,check!$A:$L,5,FALSE))","v":""},{"$f":"IF(ISERROR(VLOOKUP($A890,check!$A:$L,6,FALSE))=TRUE,\"\",VLOOKUP($A890,check!$A:$L,6,FALSE))","v":""},{"$f":"IF(ISERROR(VLOOKUP($A890,check!$A:$L,7,FALSE))=TRUE,\"\",VLOOKUP($A890,check!$A:$L,7,FALSE))","v":""},{"$f":"IF(ISERROR(VLOOKUP($A890,check!$A:$L,8,FALSE))=TRUE,\"\",VLOOKUP($A890,check!$A:$L,8,FALSE))","v":""},{"$f":"IF(ISERROR(VLOOKUP($A890,check!$A:$L,9,FALSE))=TRUE,\"\",VLOOKUP($A890,check!$A:$L,9,FALSE))","v":""},{"$f":"IF(ISERROR(VLOOKUP($A890,check!$A:$L,10,FALSE))=TRUE,\"\",VLOOKUP($A890,check!$A:$L,10,FALSE))","v":""},{"$f":"IF(ISERROR(VLOOKUP($A890,check!$A:$L,11,FALSE))=TRUE,\"\",VLOOKUP($A890,check!$A:$L,11,FALSE))","v":""},{"$f":"IF(ISERROR(VLOOKUP($A890,check!$A:$L,12,FALSE))=TRUE,\"\",VLOOKUP($A890,check!$A:$L,12,FALSE))","v":""}]
[891,{"$f":"IF(C891=\"\",\"\",MATCH(A891,check!A:A,0))","v":""},{"$f":"IF(ISERROR(VLOOKUP($A891,check!$A:$L,2,FALSE))=TRUE,\"\",VLOOKUP($A891,check!$A:$L,2,FALSE))","v":""},{"$f":"IF(ISERROR(VLOOKUP($A891,check!$A:$L,3,FALSE))=TRUE,\"\",VLOOKUP($A891,check!$A:$L,3,FALSE))","v":""},{"$f":"IF(ISERROR(VLOOKUP($A891,check!$A:$L,4,FALSE))=TRUE,\"\",VLOOKUP($A891,check!$A:$L,4,FALSE))","v":""},{"$f":"IF(ISERROR(VLOOKUP($A891,check!$A:$L,5,FALSE))=TRUE,\"\",VLOOKUP($A891,check!$A:$L,5,FALSE))","v":""},{"$f":"IF(ISERROR(VLOOKUP($A891,check!$A:$L,6,FALSE))=TRUE,\"\",VLOOKUP($A891,check!$A:$L,6,FALSE))","v":""},{"$f":"IF(ISERROR(VLOOKUP($A891,check!$A:$L,7,FALSE))=TRUE,\"\",VLOOKUP($A891,check!$A:$L,7,FALSE))","v":""},{"$f":"IF(ISERROR(VLOOKUP($A891,check!$A:$L,8,FALSE))=TRUE,\"\",VLOOKUP($A891,check!$A:$L,8,FALSE))","v":""},{"$f":"IF(ISERROR(VLOOKUP($A891,check!$A:$L,9,FALSE))=TRUE,\"\",VLOOKUP($A891,check!$A:$L,9,FALSE))","v":""},{"$f":"IF(ISERROR(VLOOKUP($A891,check!$A:$L,10,FALSE))=TRUE,\"\",VLOOKUP($A891,check!$A:$L,10,FALSE))","v":""},{"$f":"IF(ISERROR(VLOOKUP($A891,check!$A:$L,11,FALSE))=TRUE,\"\",VLOOKUP($A891,check!$A:$L,11,FALSE))","v":""},{"$f":"IF(ISERROR(VLOOKUP($A891,check!$A:$L,12,FALSE))=TRUE,\"\",VLOOKUP($A891,check!$A:$L,12,FALSE))","v":""}]
[892,{"$f":"IF(C892=\"\",\"\",MATCH(A892,check!A:A,0))","v":""},{"$f":"IF(ISERROR(VLOOKUP($A892,check!$A:$L,2,FALSE))=TRUE,\"\",VLOOKUP($A892,check!$A:$L,2,FALSE))","v":""},{"$f":"IF(ISERROR(VLOOKUP($A892,check!$A:$L,3,FALSE))=TRUE,\"\",VLOOKUP($A892,check!$A:$L,3,FALSE))","v":""},{"$f":"IF(ISERROR(VLOOKUP($A892,check!$A:$L,4,FALSE))=TRUE,\"\",VLOOKUP($A892,check!$A:$L,4,FALSE))","v":""},{"$f":"IF(ISERROR(VLOOKUP($A892,check!$A:$L,5,FALSE))=TRUE,\"\",VLOOKUP($A892,check!$A:$L,5,FALSE))","v":""},{"$f":"IF(ISERROR(VLOOKUP($A892,check!$A:$L,6,FALSE))=TRUE,\"\",VLOOKUP($A892,check!$A:$L,6,FALSE))","v":""},{"$f":"IF(ISERROR(VLOOKUP($A892,check!$A:$L,7,FALSE))=TRUE,\"\",VLOOKUP($A892,check!$A:$L,7,FALSE))","v":""},{"$f":"IF(ISERROR(VLOOKUP($A892,check!$A:$L,8,FALSE))=TRUE,\"\",VLOOKUP($A892,check!$A:$L,8,FALSE))","v":""},{"$f":"IF(ISERROR(VLOOKUP($A892,check!$A:$L,9,FALSE))=TRUE,\"\",VLOOKUP($A892,check!$A:$L,9,FALSE))","v":""},{"$f":"IF(ISERROR(VLOOKUP($A892,check!$A:$L,10,FALSE))=TRUE,\"\",VLOOKUP($A892,check!$A:$L,10,FALSE))","v":""},{"$f":"IF(ISERROR(VLOOKUP($A892,check!$A:$L,11,FALSE))=TRUE,\"\",VLOOKUP($A892,check!$A:$L,11,FALSE))","v":""},{"$f":"IF(ISERROR(VLOOKUP($A892,check!$A:$L,12,FALSE))=TRUE,\"\",VLOOKUP($A892,check!$A:$L,12,FALSE))","v":""}]
[893,{"$f":"IF(C893=\"\",\"\",MATCH(A893,check!A:A,0))","v":""},{"$f":"IF(ISERROR(VLOOKUP($A893,check!$A:$L,2,FALSE))=TRUE,\"\",VLOOKUP($A893,check!$A:$L,2,FALSE))","v":""},{"$f":"IF(ISERROR(VLOOKUP($A893,check!$A:$L,3,FALSE))=TRUE,\"\",VLOOKUP($A893,check!$A:$L,3,FALSE))","v":""},{"$f":"IF(ISERROR(VLOOKUP($A893,check!$A:$L,4,FALSE))=TRUE,\"\",VLOOKUP($A893,check!$A:$L,4,FALSE))","v":""},{"$f":"IF(ISERROR(VLOOKUP($A893,check!$A:$L,5,FALSE))=TRUE,\"\",VLOOKUP($A893,check!$A:$L,5,FALSE))","v":""},{"$f":"IF(ISERROR(VLOOKUP($A893,check!$A:$L,6,FALSE))=TRUE,\"\",VLOOKUP($A893,check!$A:$L,6,FALSE))","v":""},{"$f":"IF(ISERROR(VLOOKUP($A893,check!$A:$L,7,FALSE))=TRUE,\"\",VLOOKUP($A893,check!$A:$L,7,FALSE))","v":""},{"$f":"IF(ISERROR(VLOOKUP($A893,check!$A:$L,8,FALSE))=TRUE,\"\",VLOOKUP($A893,check!$A:$L,8,FALSE))","v":""},{"$f":"IF(ISERROR(VLOOKUP($A893,check!$A:$L,9,FALSE))=TRUE,\"\",VLOOKUP($A893,check!$A:$L,9,FALSE))","v":""},{"$f":"IF(ISERROR(VLOOKUP($A893,check!$A:$L,10,FALSE))=TRUE,\"\",VLOOKUP($A893,check!$A:$L,10,FALSE))","v":""},{"$f":"IF(ISERROR(VLOOKUP($A893,check!$A:$L,11,FALSE))=TRUE,\"\",VLOOKUP($A893,check!$A:$L,11,FALSE))","v":""},{"$f":"IF(ISERROR(VLOOKUP($A893,check!$A:$L,12,FALSE))=TRUE,\"\",VLOOKUP($A893,check!$A:$L,12,FALSE))","v":""}]
[894,{"$f":"IF(C894=\"\",\"\",MATCH(A894,check!A:A,0))","v":""},{"$f":"IF(ISERROR(VLOOKUP($A894,check!$A:$L,2,FALSE))=TRUE,\"\",VLOOKUP($A894,check!$A:$L,2,FALSE))","v":""},{"$f":"IF(ISERROR(VLOOKUP($A894,check!$A:$L,3,FALSE))=TRUE,\"\",VLOOKUP($A894,check!$A:$L,3,FALSE))","v":""},{"$f":"IF(ISERROR(VLOOKUP($A894,check!$A:$L,4,FALSE))=TRUE,\"\",VLOOKUP($A894,check!$A:$L,4,FALSE))","v":""},{"$f":"IF(ISERROR(VLOOKUP($A894,check!$A:$L,5,FALSE))=TRUE,\"\",VLOOKUP($A894,check!$A:$L,5,FALSE))","v":""},{"$f":"IF(ISERROR(VLOOKUP($A894,check!$A:$L,6,FALSE))=TRUE,\"\",VLOOKUP($A894,check!$A:$L,6,FALSE))","v":""},{"$f":"IF(ISERROR(VLOOKUP($A894,check!$A:$L,7,FALSE))=TRUE,\"\",VLOOKUP($A894,check!$A:$L,7,FALSE))","v":""},{"$f":"IF(ISERROR(VLOOKUP($A894,check!$A:$L,8,FALSE))=TRUE,\"\",VLOOKUP($A894,check!$A:$L,8,FALSE))","v":""},{"$f":"IF(ISERROR(VLOOKUP($A894,check!$A:$L,9,FALSE))=TRUE,\"\",VLOOKUP($A894,check!$A:$L,9,FALSE))","v":""},{"$f":"IF(ISERROR(VLOOKUP($A894,check!$A:$L,10,FALSE))=TRUE,\"\",VLOOKUP($A894,check!$A:$L,10,FALSE))","v":""},{"$f":"IF(ISERROR(VLOOKUP($A894,check!$A:$L,11,FALSE))=TRUE,\"\",VLOOKUP($A894,check!$A:$L,11,FALSE))","v":""},{"$f":"IF(ISERROR(VLOOKUP($A894,check!$A:$L,12,FALSE))=TRUE,\"\",VLOOKUP($A894,check!$A:$L,12,FALSE))","v":""}]
[895,{"$f":"IF(C895=\"\",\"\",MATCH(A895,check!A:A,0))","v":""},{"$f":"IF(ISERROR(VLOOKUP($A895,check!$A:$L,2,FALSE))=TRUE,\"\",VLOOKUP($A895,check!$A:$L,2,FALSE))","v":""},{"$f":"IF(ISERROR(VLOOKUP($A895,check!$A:$L,3,FALSE))=TRUE,\"\",VLOOKUP($A895,check!$A:$L,3,FALSE))","v":""},{"$f":"IF(ISERROR(VLOOKUP($A895,check!$A:$L,4,FALSE))=TRUE,\"\",VLOOKUP($A895,check!$A:$L,4,FALSE))","v":""},{"$f":"IF(ISERROR(VLOOKUP($A895,check!$A:$L,5,FALSE))=TRUE,\"\",VLOOKUP($A895,check!$A:$L,5,FALSE))","v":""},{"$f":"IF(ISERROR(VLOOKUP($A895,check!$A:$L,6,FALSE))=TRUE,\"\",VLOOKUP($A895,check!$A:$L,6,FALSE))","v":""},{"$f":"IF(ISERROR(VLOOKUP($A895,check!$A:$L,7,FALSE))=TRUE,\"\",VLOOKUP($A895,check!$A:$L,7,FALSE))","v":""},{"$f":"IF(ISERROR(VLOOKUP($A895,check!$A:$L,8,FALSE))=TRUE,\"\",VLOOKUP($A895,check!$A:$L,8,FALSE))","v":""},{"$f":"IF(ISERROR(VLOOKUP($A895,check!$A:$L,9,FALSE))=TRUE,\"\",VLOOKUP($A895,check!$A:$L,9,FALSE))","v":""},{"$f":"IF(ISERROR(VLOOKUP($A895,check!$A:$L,10,FALSE))=TRUE,\"\",VLOOKUP($A895,check!$A:$L,10,FALSE))","v":""},{"$f":"IF(ISERROR(VLOOKUP($A895,check!$A:$L,11,FALSE))=TRUE,\"\",VLOOKUP($A895,check!$A:$L,11,FALSE))","v":""},{"$f":"IF(ISERROR(VLOOKUP($A895,check!$A:$L,12,FALSE))=TRUE,\"\",VLOOKUP($A895,check!$A:$L,12,FALSE))","v":""}]
[896,{"$f":"IF(C896=\"\",\"\",MATCH(A896,check!A:A,0))","v":""},{"$f":"IF(ISERROR(VLOOKUP($A896,check!$A:$L,2,FALSE))=TRUE,\"\",VLOOKUP($A896,check!$A:$L,2,FALSE))","v":""},{"$f":"IF(ISERROR(VLOOKUP($A896,check!$A:$L,3,FALSE))=TRUE,\"\",VLOOKUP($A896,check!$A:$L,3,FALSE))","v":""},{"$f":"IF(ISERROR(VLOOKUP($A896,check!$A:$L,4,FALSE))=TRUE,\"\",VLOOKUP($A896,check!$A:$L,4,FALSE))","v":""},{"$f":"IF(ISERROR(VLOOKUP($A896,check!$A:$L,5,FALSE))=TRUE,\"\",VLOOKUP($A896,check!$A:$L,5,FALSE))","v":""},{"$f":"IF(ISERROR(VLOOKUP($A896,check!$A:$L,6,FALSE))=TRUE,\"\",VLOOKUP($A896,check!$A:$L,6,FALSE))","v":""},{"$f":"IF(ISERROR(VLOOKUP($A896,check!$A:$L,7,FALSE))=TRUE,\"\",VLOOKUP($A896,check!$A:$L,7,FALSE))","v":""},{"$f":"IF(ISERROR(VLOOKUP($A896,check!$A:$L,8,FALSE))=TRUE,\"\",VLOOKUP($A896,check!$A:$L,8,FALSE))","v":""},{"$f":"IF(ISERROR(VLOOKUP($A896,check!$A:$L,9,FALSE))=TRUE,\"\",VLOOKUP($A896,check!$A:$L,9,FALSE))","v":""},{"$f":"IF(ISERROR(VLOOKUP($A896,check!$A:$L,10,FALSE))=TRUE,\"\",VLOOKUP($A896,check!$A:$L,10,FALSE))","v":""},{"$f":"IF(ISERROR(VLOOKUP($A896,check!$A:$L,11,FALSE))=TRUE,\"\",VLOOKUP($A896,check!$A:$L,11,FALSE))","v":""},{"$f":"IF(ISERROR(VLOOKUP($A896,check!$A:$L,12,FALSE))=TRUE,\"\",VLOOKUP($A896,check!$A:$L,12,FALSE))","v":""}]
[897,{"$f":"IF(C897=\"\",\"\",MATCH(A897,check!A:A,0))","v":""},{"$f":"IF(ISERROR(VLOOKUP($A897,check!$A:$L,2,FALSE))=TRUE,\"\",VLOOKUP($A897,check!$A:$L,2,FALSE))","v":""},{"$f":"IF(ISERROR(VLOOKUP($A897,check!$A:$L,3,FALSE))=TRUE,\"\",VLOOKUP($A897,check!$A:$L,3,FALSE))","v":""},{"$f":"IF(ISERROR(VLOOKUP($A897,check!$A:$L,4,FALSE))=TRUE,\"\",VLOOKUP($A897,check!$A:$L,4,FALSE))","v":""},{"$f":"IF(ISERROR(VLOOKUP($A897,check!$A:$L,5,FALSE))=TRUE,\"\",VLOOKUP($A897,check!$A:$L,5,FALSE))","v":""},{"$f":"IF(ISERROR(VLOOKUP($A897,check!$A:$L,6,FALSE))=TRUE,\"\",VLOOKUP($A897,check!$A:$L,6,FALSE))","v":""},{"$f":"IF(ISERROR(VLOOKUP($A897,check!$A:$L,7,FALSE))=TRUE,\"\",VLOOKUP($A897,check!$A:$L,7,FALSE))","v":""},{"$f":"IF(ISERROR(VLOOKUP($A897,check!$A:$L,8,FALSE))=TRUE,\"\",VLOOKUP($A897,check!$A:$L,8,FALSE))","v":""},{"$f":"IF(ISERROR(VLOOKUP($A897,check!$A:$L,9,FALSE))=TRUE,\"\",VLOOKUP($A897,check!$A:$L,9,FALSE))","v":""},{"$f":"IF(ISERROR(VLOOKUP($A897,check!$A:$L,10,FALSE))=TRUE,\"\",VLOOKUP($A897,check!$A:$L,10,FALSE))","v":""},{"$f":"IF(ISERROR(VLOOKUP($A897,check!$A:$L,11,FALSE))=TRUE,\"\",VLOOKUP($A897,check!$A:$L,11,FALSE))","v":""},{"$f":"IF(ISERROR(VLOOKUP($A897,check!$A:$L,12,FALSE))=TRUE,\"\",VLOOKUP($A897,check!$A:$L,12,FALSE))","v":""}]
[898,{"$f":"IF(C898=\"\",\"\",MATCH(A898,check!A:A,0))","v":""},{"$f":"IF(ISERROR(VLOOKUP($A898,check!$A:$L,2,FALSE))=TRUE,\"\",VLOOKUP($A898,check!$A:$L,2,FALSE))","v":""},{"$f":"IF(ISERROR(VLOOKUP($A898,check!$A:$L,3,FALSE))=TRUE,\"\",VLOOKUP($A898,check!$A:$L,3,FALSE))","v":""},{"$f":"IF(ISERROR(VLOOKUP($A898,check!$A:$L,4,FALSE))=TRUE,\"\",VLOOKUP($A898,check!$A:$L,4,FALSE))","v":""},{"$f":"IF(ISERROR(VLOOKUP($A898,check!$A:$L,5,FALSE))=TRUE,\"\",VLOOKUP($A898,check!$A:$L,5,FALSE))","v":""},{"$f":"IF(ISERROR(VLOOKUP($A898,check!$A:$L,6,FALSE))=TRUE,\"\",VLOOKUP($A898,check!$A:$L,6,FALSE))","v":""},{"$f":"IF(ISERROR(VLOOKUP($A898,check!$A:$L,7,FALSE))=TRUE,\"\",VLOOKUP($A898,check!$A:$L,7,FALSE))","v":""},{"$f":"IF(ISERROR(VLOOKUP($A898,check!$A:$L,8,FALSE))=TRUE,\"\",VLOOKUP($A898,check!$A:$L,8,FALSE))","v":""},{"$f":"IF(ISERROR(VLOOKUP($A898,check!$A:$L,9,FALSE))=TRUE,\"\",VLOOKUP($A898,check!$A:$L,9,FALSE))","v":""},{"$f":"IF(ISERROR(VLOOKUP($A898,check!$A:$L,10,FALSE))=TRUE,\"\",VLOOKUP($A898,check!$A:$L,10,FALSE))","v":""},{"$f":"IF(ISERROR(VLOOKUP($A898,check!$A:$L,11,FALSE))=TRUE,\"\",VLOOKUP($A898,check!$A:$L,11,FALSE))","v":""},{"$f":"IF(ISERROR(VLOOKUP($A898,check!$A:$L,12,FALSE))=TRUE,\"\",VLOOKUP($A898,check!$A:$L,12,FALSE))","v":""}]
[899,{"$f":"IF(C899=\"\",\"\",MATCH(A899,check!A:A,0))","v":""},{"$f":"IF(ISERROR(VLOOKUP($A899,check!$A:$L,2,FALSE))=TRUE,\"\",VLOOKUP($A899,check!$A:$L,2,FALSE))","v":""},{"$f":"IF(ISERROR(VLOOKUP($A899,check!$A:$L,3,FALSE))=TRUE,\"\",VLOOKUP($A899,check!$A:$L,3,FALSE))","v":""},{"$f":"IF(ISERROR(VLOOKUP($A899,check!$A:$L,4,FALSE))=TRUE,\"\",VLOOKUP($A899,check!$A:$L,4,FALSE))","v":""},{"$f":"IF(ISERROR(VLOOKUP($A899,check!$A:$L,5,FALSE))=TRUE,\"\",VLOOKUP($A899,check!$A:$L,5,FALSE))","v":""},{"$f":"IF(ISERROR(VLOOKUP($A899,check!$A:$L,6,FALSE))=TRUE,\"\",VLOOKUP($A899,check!$A:$L,6,FALSE))","v":""},{"$f":"IF(ISERROR(VLOOKUP($A899,check!$A:$L,7,FALSE))=TRUE,\"\",VLOOKUP($A899,check!$A:$L,7,FALSE))","v":""},{"$f":"IF(ISERROR(VLOOKUP($A899,check!$A:$L,8,FALSE))=TRUE,\"\",VLOOKUP($A899,check!$A:$L,8,FALSE))","v":""},{"$f":"IF(ISERROR(VLOOKUP($A899,check!$A:$L,9,FALSE))=TRUE,\"\",VLOOKUP($A899,check!$A:$L,9,FALSE))","v":""},{"$f":"IF(ISERROR(VLOOKUP($A899,check!$A:$L,10,FALSE))=TRUE,\"\",VLOOKUP($A899,check!$A:$L,10,FALSE))","v":""},{"$f":"IF(ISERROR(VLOOKUP($A899,check!$A:$L,11,FALSE))=TRUE,\"\",VLOOKUP($A899,check!$A:$L,11,FALSE))","v":""},{"$f":"IF(ISERROR(VLOOKUP($A899,check!$A:$L,12,FALSE))=TRUE,\"\",VLOOKUP($A899,check!$A:$L,12,FALSE))","v":""}]
[{"$f":"A899+1","v":900},{"$f":"IF(C900=\"\",\"\",MATCH(A900,check!A:A,0))","v":""},{"$f":"IF(ISERROR(VLOOKUP($A900,check!$A:$L,2,FALSE))=TRUE,\"\",VLOOKUP($A900,check!$A:$L,2,FALSE))","v":""},{"$f":"IF(ISERROR(VLOOKUP($A900,check!$A:$L,3,FALSE))=TRUE,\"\",VLOOKUP($A900,check!$A:$L,3,FALSE))","v":""},{"$f":"IF(ISERROR(VLOOKUP($A900,check!$A:$L,4,FALSE))=TRUE,\"\",VLOOKUP($A900,check!$A:$L,4,FALSE))","v":""},{"$f":"IF(ISERROR(VLOOKUP($A900,check!$A:$L,5,FALSE))=TRUE,\"\",VLOOKUP($A900,check!$A:$L,5,FALSE))","v":""},{"$f":"IF(ISERROR(VLOOKUP($A900,check!$A:$L,6,FALSE))=TRUE,\"\",VLOOKUP($A900,check!$A:$L,6,FALSE))","v":""},{"$f":"IF(ISERROR(VLOOKUP($A900,check!$A:$L,7,FALSE))=TRUE,\"\",VLOOKUP($A900,check!$A:$L,7,FALSE))","v":""},{"$f":"IF(ISERROR(VLOOKUP($A900,check!$A:$L,8,FALSE))=TRUE,\"\",VLOOKUP($A900,check!$A:$L,8,FALSE))","v":""},{"$f":"IF(ISERROR(VLOOKUP($A900,check!$A:$L,9,FALSE))=TRUE,\"\",VLOOKUP($A900,check!$A:$L,9,FALSE))","v":""},{"$f":"IF(ISERROR(VLOOKUP($A900,check!$A:$L,10,FALSE))=TRUE,\"\",VLOOKUP($A900,check!$A:$L,10,FALSE))","v":""},{"$f":"IF(ISERROR(VLOOKUP($A900,check!$A:$L,11,FALSE))=TRUE,\"\",VLOOKUP($A900,check!$A:$L,11,FALSE))","v":""},{"$f":"IF(ISERROR(VLOOKUP($A900,check!$A:$L,12,FALSE))=TRUE,\"\",VLOOKUP($A900,check!$A:$L,12,FALSE))","v":""}]
[901,{"$f":"IF(C901=\"\",\"\",MATCH(A901,check!A:A,0))","v":""},{"$f":"IF(ISERROR(VLOOKUP($A901,check!$A:$L,2,FALSE))=TRUE,\"\",VLOOKUP($A901,check!$A:$L,2,FALSE))","v":""},{"$f":"IF(ISERROR(VLOOKUP($A901,check!$A:$L,3,FALSE))=TRUE,\"\",VLOOKUP($A901,check!$A:$L,3,FALSE))","v":""},{"$f":"IF(ISERROR(VLOOKUP($A901,check!$A:$L,4,FALSE))=TRUE,\"\",VLOOKUP($A901,check!$A:$L,4,FALSE))","v":""},{"$f":"IF(ISERROR(VLOOKUP($A901,check!$A:$L,5,FALSE))=TRUE,\"\",VLOOKUP($A901,check!$A:$L,5,FALSE))","v":""},{"$f":"IF(ISERROR(VLOOKUP($A901,check!$A:$L,6,FALSE))=TRUE,\"\",VLOOKUP($A901,check!$A:$L,6,FALSE))","v":""},{"$f":"IF(ISERROR(VLOOKUP($A901,check!$A:$L,7,FALSE))=TRUE,\"\",VLOOKUP($A901,check!$A:$L,7,FALSE))","v":""},{"$f":"IF(ISERROR(VLOOKUP($A901,check!$A:$L,8,FALSE))=TRUE,\"\",VLOOKUP($A901,check!$A:$L,8,FALSE))","v":""},{"$f":"IF(ISERROR(VLOOKUP($A901,check!$A:$L,9,FALSE))=TRUE,\"\",VLOOKUP($A901,check!$A:$L,9,FALSE))","v":""},{"$f":"IF(ISERROR(VLOOKUP($A901,check!$A:$L,10,FALSE))=TRUE,\"\",VLOOKUP($A901,check!$A:$L,10,FALSE))","v":""},{"$f":"IF(ISERROR(VLOOKUP($A901,check!$A:$L,11,FALSE))=TRUE,\"\",VLOOKUP($A901,check!$A:$L,11,FALSE))","v":""},{"$f":"IF(ISERROR(VLOOKUP($A901,check!$A:$L,12,FALSE))=TRUE,\"\",VLOOKUP($A901,check!$A:$L,12,FALSE))","v":""}]
[902,{"$f":"IF(C902=\"\",\"\",MATCH(A902,check!A:A,0))","v":""},{"$f":"IF(ISERROR(VLOOKUP($A902,check!$A:$L,2,FALSE))=TRUE,\"\",VLOOKUP($A902,check!$A:$L,2,FALSE))","v":""},{"$f":"IF(ISERROR(VLOOKUP($A902,check!$A:$L,3,FALSE))=TRUE,\"\",VLOOKUP($A902,check!$A:$L,3,FALSE))","v":""},{"$f":"IF(ISERROR(VLOOKUP($A902,check!$A:$L,4,FALSE))=TRUE,\"\",VLOOKUP($A902,check!$A:$L,4,FALSE))","v":""},{"$f":"IF(ISERROR(VLOOKUP($A902,check!$A:$L,5,FALSE))=TRUE,\"\",VLOOKUP($A902,check!$A:$L,5,FALSE))","v":""},{"$f":"IF(ISERROR(VLOOKUP($A902,check!$A:$L,6,FALSE))=TRUE,\"\",VLOOKUP($A902,check!$A:$L,6,FALSE))","v":""},{"$f":"IF(ISERROR(VLOOKUP($A902,check!$A:$L,7,FALSE))=TRUE,\"\",VLOOKUP($A902,check!$A:$L,7,FALSE))","v":""},{"$f":"IF(ISERROR(VLOOKUP($A902,check!$A:$L,8,FALSE))=TRUE,\"\",VLOOKUP($A902,check!$A:$L,8,FALSE))","v":""},{"$f":"IF(ISERROR(VLOOKUP($A902,check!$A:$L,9,FALSE))=TRUE,\"\",VLOOKUP($A902,check!$A:$L,9,FALSE))","v":""},{"$f":"IF(ISERROR(VLOOKUP($A902,check!$A:$L,10,FALSE))=TRUE,\"\",VLOOKUP($A902,check!$A:$L,10,FALSE))","v":""},{"$f":"IF(ISERROR(VLOOKUP($A902,check!$A:$L,11,FALSE))=TRUE,\"\",VLOOKUP($A902,check!$A:$L,11,FALSE))","v":""},{"$f":"IF(ISERROR(VLOOKUP($A902,check!$A:$L,12,FALSE))=TRUE,\"\",VLOOKUP($A902,check!$A:$L,12,FALSE))","v":""}]
[903,{"$f":"IF(C903=\"\",\"\",MATCH(A903,check!A:A,0))","v":""},{"$f":"IF(ISERROR(VLOOKUP($A903,check!$A:$L,2,FALSE))=TRUE,\"\",VLOOKUP($A903,check!$A:$L,2,FALSE))","v":""},{"$f":"IF(ISERROR(VLOOKUP($A903,check!$A:$L,3,FALSE))=TRUE,\"\",VLOOKUP($A903,check!$A:$L,3,FALSE))","v":""},{"$f":"IF(ISERROR(VLOOKUP($A903,check!$A:$L,4,FALSE))=TRUE,\"\",VLOOKUP($A903,check!$A:$L,4,FALSE))","v":""},{"$f":"IF(ISERROR(VLOOKUP($A903,check!$A:$L,5,FALSE))=TRUE,\"\",VLOOKUP($A903,check!$A:$L,5,FALSE))","v":""},{"$f":"IF(ISERROR(VLOOKUP($A903,check!$A:$L,6,FALSE))=TRUE,\"\",VLOOKUP($A903,check!$A:$L,6,FALSE))","v":""},{"$f":"IF(ISERROR(VLOOKUP($A903,check!$A:$L,7,FALSE))=TRUE,\"\",VLOOKUP($A903,check!$A:$L,7,FALSE))","v":""},{"$f":"IF(ISERROR(VLOOKUP($A903,check!$A:$L,8,FALSE))=TRUE,\"\",VLOOKUP($A903,check!$A:$L,8,FALSE))","v":""},{"$f":"IF(ISERROR(VLOOKUP($A903,check!$A:$L,9,FALSE))=TRUE,\"\",VLOOKUP($A903,check!$A:$L,9,FALSE))","v":""},{"$f":"IF(ISERROR(VLOOKUP($A903,check!$A:$L,10,FALSE))=TRUE,\"\",VLOOKUP($A903,check!$A:$L,10,FALSE))","v":""},{"$f":"IF(ISERROR(VLOOKUP($A903,check!$A:$L,11,FALSE))=TRUE,\"\",VLOOKUP($A903,check!$A:$L,11,FALSE))","v":""},{"$f":"IF(ISERROR(VLOOKUP($A903,check!$A:$L,12,FALSE))=TRUE,\"\",VLOOKUP($A903,check!$A:$L,12,FALSE))","v":""}]
[904,{"$f":"IF(C904=\"\",\"\",MATCH(A904,check!A:A,0))","v":""},{"$f":"IF(ISERROR(VLOOKUP($A904,check!$A:$L,2,FALSE))=TRUE,\"\",VLOOKUP($A904,check!$A:$L,2,FALSE))","v":""},{"$f":"IF(ISERROR(VLOOKUP($A904,check!$A:$L,3,FALSE))=TRUE,\"\",VLOOKUP($A904,check!$A:$L,3,FALSE))","v":""},{"$f":"IF(ISERROR(VLOOKUP($A904,check!$A:$L,4,FALSE))=TRUE,\"\",VLOOKUP($A904,check!$A:$L,4,FALSE))","v":""},{"$f":"IF(ISERROR(VLOOKUP($A904,check!$A:$L,5,FALSE))=TRUE,\"\",VLOOKUP($A904,check!$A:$L,5,FALSE))","v":""},{"$f":"IF(ISERROR(VLOOKUP($A904,check!$A:$L,6,FALSE))=TRUE,\"\",VLOOKUP($A904,check!$A:$L,6,FALSE))","v":""},{"$f":"IF(ISERROR(VLOOKUP($A904,check!$A:$L,7,FALSE))=TRUE,\"\",VLOOKUP($A904,check!$A:$L,7,FALSE))","v":""},{"$f":"IF(ISERROR(VLOOKUP($A904,check!$A:$L,8,FALSE))=TRUE,\"\",VLOOKUP($A904,check!$A:$L,8,FALSE))","v":""},{"$f":"IF(ISERROR(VLOOKUP($A904,check!$A:$L,9,FALSE))=TRUE,\"\",VLOOKUP($A904,check!$A:$L,9,FALSE))","v":""},{"$f":"IF(ISERROR(VLOOKUP($A904,check!$A:$L,10,FALSE))=TRUE,\"\",VLOOKUP($A904,check!$A:$L,10,FALSE))","v":""},{"$f":"IF(ISERROR(VLOOKUP($A904,check!$A:$L,11,FALSE))=TRUE,\"\",VLOOKUP($A904,check!$A:$L,11,FALSE))","v":""},{"$f":"IF(ISERROR(VLOOKUP($A904,check!$A:$L,12,FALSE))=TRUE,\"\",VLOOKUP($A904,check!$A:$L,12,FALSE))","v":""}]
[905,{"$f":"IF(C905=\"\",\"\",MATCH(A905,check!A:A,0))","v":""},{"$f":"IF(ISERROR(VLOOKUP($A905,check!$A:$L,2,FALSE))=TRUE,\"\",VLOOKUP($A905,check!$A:$L,2,FALSE))","v":""},{"$f":"IF(ISERROR(VLOOKUP($A905,check!$A:$L,3,FALSE))=TRUE,\"\",VLOOKUP($A905,check!$A:$L,3,FALSE))","v":""},{"$f":"IF(ISERROR(VLOOKUP($A905,check!$A:$L,4,FALSE))=TRUE,\"\",VLOOKUP($A905,check!$A:$L,4,FALSE))","v":""},{"$f":"IF(ISERROR(VLOOKUP($A905,check!$A:$L,5,FALSE))=TRUE,\"\",VLOOKUP($A905,check!$A:$L,5,FALSE))","v":""},{"$f":"IF(ISERROR(VLOOKUP($A905,check!$A:$L,6,FALSE))=TRUE,\"\",VLOOKUP($A905,check!$A:$L,6,FALSE))","v":""},{"$f":"IF(ISERROR(VLOOKUP($A905,check!$A:$L,7,FALSE))=TRUE,\"\",VLOOKUP($A905,check!$A:$L,7,FALSE))","v":""},{"$f":"IF(ISERROR(VLOOKUP($A905,check!$A:$L,8,FALSE))=TRUE,\"\",VLOOKUP($A905,check!$A:$L,8,FALSE))","v":""},{"$f":"IF(ISERROR(VLOOKUP($A905,check!$A:$L,9,FALSE))=TRUE,\"\",VLOOKUP($A905,check!$A:$L,9,FALSE))","v":""},{"$f":"IF(ISERROR(VLOOKUP($A905,check!$A:$L,10,FALSE))=TRUE,\"\",VLOOKUP($A905,check!$A:$L,10,FALSE))","v":""},{"$f":"IF(ISERROR(VLOOKUP($A905,check!$A:$L,11,FALSE))=TRUE,\"\",VLOOKUP($A905,check!$A:$L,11,FALSE))","v":""},{"$f":"IF(ISERROR(VLOOKUP($A905,check!$A:$L,12,FALSE))=TRUE,\"\",VLOOKUP($A905,check!$A:$L,12,FALSE))","v":""}]
[906,{"$f":"IF(C906=\"\",\"\",MATCH(A906,check!A:A,0))","v":""},{"$f":"IF(ISERROR(VLOOKUP($A906,check!$A:$L,2,FALSE))=TRUE,\"\",VLOOKUP($A906,check!$A:$L,2,FALSE))","v":""},{"$f":"IF(ISERROR(VLOOKUP($A906,check!$A:$L,3,FALSE))=TRUE,\"\",VLOOKUP($A906,check!$A:$L,3,FALSE))","v":""},{"$f":"IF(ISERROR(VLOOKUP($A906,check!$A:$L,4,FALSE))=TRUE,\"\",VLOOKUP($A906,check!$A:$L,4,FALSE))","v":""},{"$f":"IF(ISERROR(VLOOKUP($A906,check!$A:$L,5,FALSE))=TRUE,\"\",VLOOKUP($A906,check!$A:$L,5,FALSE))","v":""},{"$f":"IF(ISERROR(VLOOKUP($A906,check!$A:$L,6,FALSE))=TRUE,\"\",VLOOKUP($A906,check!$A:$L,6,FALSE))","v":""},{"$f":"IF(ISERROR(VLOOKUP($A906,check!$A:$L,7,FALSE))=TRUE,\"\",VLOOKUP($A906,check!$A:$L,7,FALSE))","v":""},{"$f":"IF(ISERROR(VLOOKUP($A906,check!$A:$L,8,FALSE))=TRUE,\"\",VLOOKUP($A906,check!$A:$L,8,FALSE))","v":""},{"$f":"IF(ISERROR(VLOOKUP($A906,check!$A:$L,9,FALSE))=TRUE,\"\",VLOOKUP($A906,check!$A:$L,9,FALSE))","v":""},{"$f":"IF(ISERROR(VLOOKUP($A906,check!$A:$L,10,FALSE))=TRUE,\"\",VLOOKUP($A906,check!$A:$L,10,FALSE))","v":""},{"$f":"IF(ISERROR(VLOOKUP($A906,check!$A:$L,11,FALSE))=TRUE,\"\",VLOOKUP($A906,check!$A:$L,11,FALSE))","v":""},{"$f":"IF(ISERROR(VLOOKUP($A906,check!$A:$L,12,FALSE))=TRUE,\"\",VLOOKUP($A906,check!$A:$L,12,FALSE))","v":""}]
[907,{"$f":"IF(C907=\"\",\"\",MATCH(A907,check!A:A,0))","v":""},{"$f":"IF(ISERROR(VLOOKUP($A907,check!$A:$L,2,FALSE))=TRUE,\"\",VLOOKUP($A907,check!$A:$L,2,FALSE))","v":""},{"$f":"IF(ISERROR(VLOOKUP($A907,check!$A:$L,3,FALSE))=TRUE,\"\",VLOOKUP($A907,check!$A:$L,3,FALSE))","v":""},{"$f":"IF(ISERROR(VLOOKUP($A907,check!$A:$L,4,FALSE))=TRUE,\"\",VLOOKUP($A907,check!$A:$L,4,FALSE))","v":""},{"$f":"IF(ISERROR(VLOOKUP($A907,check!$A:$L,5,FALSE))=TRUE,\"\",VLOOKUP($A907,check!$A:$L,5,FALSE))","v":""},{"$f":"IF(ISERROR(VLOOKUP($A907,check!$A:$L,6,FALSE))=TRUE,\"\",VLOOKUP($A907,check!$A:$L,6,FALSE))","v":""},{"$f":"IF(ISERROR(VLOOKUP($A907,check!$A:$L,7,FALSE))=TRUE,\"\",VLOOKUP($A907,check!$A:$L,7,FALSE))","v":""},{"$f":"IF(ISERROR(VLOOKUP($A907,check!$A:$L,8,FALSE))=TRUE,\"\",VLOOKUP($A907,check!$A:$L,8,FALSE))","v":""},{"$f":"IF(ISERROR(VLOOKUP($A907,check!$A:$L,9,FALSE))=TRUE,\"\",VLOOKUP($A907,check!$A:$L,9,FALSE))","v":""},{"$f":"IF(ISERROR(VLOOKUP($A907,check!$A:$L,10,FALSE))=TRUE,\"\",VLOOKUP($A907,check!$A:$L,10,FALSE))","v":""},{"$f":"IF(ISERROR(VLOOKUP($A907,check!$A:$L,11,FALSE))=TRUE,\"\",VLOOKUP($A907,check!$A:$L,11,FALSE))","v":""},{"$f":"IF(ISERROR(VLOOKUP($A907,check!$A:$L,12,FALSE))=TRUE,\"\",VLOOKUP($A907,check!$A:$L,12,FALSE))","v":""}]
[908,{"$f":"IF(C908=\"\",\"\",MATCH(A908,check!A:A,0))","v":""},{"$f":"IF(ISERROR(VLOOKUP($A908,check!$A:$L,2,FALSE))=TRUE,\"\",VLOOKUP($A908,check!$A:$L,2,FALSE))","v":""},{"$f":"IF(ISERROR(VLOOKUP($A908,check!$A:$L,3,FALSE))=TRUE,\"\",VLOOKUP($A908,check!$A:$L,3,FALSE))","v":""},{"$f":"IF(ISERROR(VLOOKUP($A908,check!$A:$L,4,FALSE))=TRUE,\"\",VLOOKUP($A908,check!$A:$L,4,FALSE))","v":""},{"$f":"IF(ISERROR(VLOOKUP($A908,check!$A:$L,5,FALSE))=TRUE,\"\",VLOOKUP($A908,check!$A:$L,5,FALSE))","v":""},{"$f":"IF(ISERROR(VLOOKUP($A908,check!$A:$L,6,FALSE))=TRUE,\"\",VLOOKUP($A908,check!$A:$L,6,FALSE))","v":""},{"$f":"IF(ISERROR(VLOOKUP($A908,check!$A:$L,7,FALSE))=TRUE,\"\",VLOOKUP($A908,check!$A:$L,7,FALSE))","v":""},{"$f":"IF(ISERROR(VLOOKUP($A908,check!$A:$L,8,FALSE))=TRUE,\"\",VLOOKUP($A908,check!$A:$L,8,FALSE))","v":""},{"$f":"IF(ISERROR(VLOOKUP($A908,check!$A:$L,9,FALSE))=TRUE,\"\",VLOOKUP($A908,check!$A:$L,9,FALSE))","v":""},{"$f":"IF(ISERROR(VLOOKUP($A908,check!$A:$L,10,FALSE))=TRUE,\"\",VLOOKUP($A908,check!$A:$L,10,FALSE))","v":""},{"$f":"IF(ISERROR(VLOOKUP($A908,check!$A:$L,11,FALSE))=TRUE,\"\",VLOOKUP($A908,check!$A:$L,11,FALSE))","v":""},{"$f":"IF(ISERROR(VLOOKUP($A908,check!$A:$L,12,FALSE))=TRUE,\"\",VLOOKUP($A908,check!$A:$L,12,FALSE))","v":""}]
[909,{"$f":"IF(C909=\"\",\"\",MATCH(A909,check!A:A,0))","v":""},{"$f":"IF(ISERROR(VLOOKUP($A909,check!$A:$L,2,FALSE))=TRUE,\"\",VLOOKUP($A909,check!$A:$L,2,FALSE))","v":""},{"$f":"IF(ISERROR(VLOOKUP($A909,check!$A:$L,3,FALSE))=TRUE,\"\",VLOOKUP($A909,check!$A:$L,3,FALSE))","v":""},{"$f":"IF(ISERROR(VLOOKUP($A909,check!$A:$L,4,FALSE))=TRUE,\"\",VLOOKUP($A909,check!$A:$L,4,FALSE))","v":""},{"$f":"IF(ISERROR(VLOOKUP($A909,check!$A:$L,5,FALSE))=TRUE,\"\",VLOOKUP($A909,check!$A:$L,5,FALSE))","v":""},{"$f":"IF(ISERROR(VLOOKUP($A909,check!$A:$L,6,FALSE))=TRUE,\"\",VLOOKUP($A909,check!$A:$L,6,FALSE))","v":""},{"$f":"IF(ISERROR(VLOOKUP($A909,check!$A:$L,7,FALSE))=TRUE,\"\",VLOOKUP($A909,check!$A:$L,7,FALSE))","v":""},{"$f":"IF(ISERROR(VLOOKUP($A909,check!$A:$L,8,FALSE))=TRUE,\"\",VLOOKUP($A909,check!$A:$L,8,FALSE))","v":""},{"$f":"IF(ISERROR(VLOOKUP($A909,check!$A:$L,9,FALSE))=TRUE,\"\",VLOOKUP($A909,check!$A:$L,9,FALSE))","v":""},{"$f":"IF(ISERROR(VLOOKUP($A909,check!$A:$L,10,FALSE))=TRUE,\"\",VLOOKUP($A909,check!$A:$L,10,FALSE))","v":""},{"$f":"IF(ISERROR(VLOOKUP($A909,check!$A:$L,11,FALSE))=TRUE,\"\",VLOOKUP($A909,check!$A:$L,11,FALSE))","v":""},{"$f":"IF(ISERROR(VLOOKUP($A909,check!$A:$L,12,FALSE))=TRUE,\"\",VLOOKUP($A909,check!$A:$L,12,FALSE))","v":""}]
[910,{"$f":"IF(C910=\"\",\"\",MATCH(A910,check!A:A,0))","v":""},{"$f":"IF(ISERROR(VLOOKUP($A910,check!$A:$L,2,FALSE))=TRUE,\"\",VLOOKUP($A910,check!$A:$L,2,FALSE))","v":""},{"$f":"IF(ISERROR(VLOOKUP($A910,check!$A:$L,3,FALSE))=TRUE,\"\",VLOOKUP($A910,check!$A:$L,3,FALSE))","v":""},{"$f":"IF(ISERROR(VLOOKUP($A910,check!$A:$L,4,FALSE))=TRUE,\"\",VLOOKUP($A910,check!$A:$L,4,FALSE))","v":""},{"$f":"IF(ISERROR(VLOOKUP($A910,check!$A:$L,5,FALSE))=TRUE,\"\",VLOOKUP($A910,check!$A:$L,5,FALSE))","v":""},{"$f":"IF(ISERROR(VLOOKUP($A910,check!$A:$L,6,FALSE))=TRUE,\"\",VLOOKUP($A910,check!$A:$L,6,FALSE))","v":""},{"$f":"IF(ISERROR(VLOOKUP($A910,check!$A:$L,7,FALSE))=TRUE,\"\",VLOOKUP($A910,check!$A:$L,7,FALSE))","v":""},{"$f":"IF(ISERROR(VLOOKUP($A910,check!$A:$L,8,FALSE))=TRUE,\"\",VLOOKUP($A910,check!$A:$L,8,FALSE))","v":""},{"$f":"IF(ISERROR(VLOOKUP($A910,check!$A:$L,9,FALSE))=TRUE,\"\",VLOOKUP($A910,check!$A:$L,9,FALSE))","v":""},{"$f":"IF(ISERROR(VLOOKUP($A910,check!$A:$L,10,FALSE))=TRUE,\"\",VLOOKUP($A910,check!$A:$L,10,FALSE))","v":""},{"$f":"IF(ISERROR(VLOOKUP($A910,check!$A:$L,11,FALSE))=TRUE,\"\",VLOOKUP($A910,check!$A:$L,11,FALSE))","v":""},{"$f":"IF(ISERROR(VLOOKUP($A910,check!$A:$L,12,FALSE))=TRUE,\"\",VLOOKUP($A910,check!$A:$L,12,FALSE))","v":""}]
[911,{"$f":"IF(C911=\"\",\"\",MATCH(A911,check!A:A,0))","v":""},{"$f":"IF(ISERROR(VLOOKUP($A911,check!$A:$L,2,FALSE))=TRUE,\"\",VLOOKUP($A911,check!$A:$L,2,FALSE))","v":""},{"$f":"IF(ISERROR(VLOOKUP($A911,check!$A:$L,3,FALSE))=TRUE,\"\",VLOOKUP($A911,check!$A:$L,3,FALSE))","v":""},{"$f":"IF(ISERROR(VLOOKUP($A911,check!$A:$L,4,FALSE))=TRUE,\"\",VLOOKUP($A911,check!$A:$L,4,FALSE))","v":""},{"$f":"IF(ISERROR(VLOOKUP($A911,check!$A:$L,5,FALSE))=TRUE,\"\",VLOOKUP($A911,check!$A:$L,5,FALSE))","v":""},{"$f":"IF(ISERROR(VLOOKUP($A911,check!$A:$L,6,FALSE))=TRUE,\"\",VLOOKUP($A911,check!$A:$L,6,FALSE))","v":""},{"$f":"IF(ISERROR(VLOOKUP($A911,check!$A:$L,7,FALSE))=TRUE,\"\",VLOOKUP($A911,check!$A:$L,7,FALSE))","v":""},{"$f":"IF(ISERROR(VLOOKUP($A911,check!$A:$L,8,FALSE))=TRUE,\"\",VLOOKUP($A911,check!$A:$L,8,FALSE))","v":""},{"$f":"IF(ISERROR(VLOOKUP($A911,check!$A:$L,9,FALSE))=TRUE,\"\",VLOOKUP($A911,check!$A:$L,9,FALSE))","v":""},{"$f":"IF(ISERROR(VLOOKUP($A911,check!$A:$L,10,FALSE))=TRUE,\"\",VLOOKUP($A911,check!$A:$L,10,FALSE))","v":""},{"$f":"IF(ISERROR(VLOOKUP($A911,check!$A:$L,11,FALSE))=TRUE,\"\",VLOOKUP($A911,check!$A:$L,11,FALSE))","v":""},{"$f":"IF(ISERROR(VLOOKUP($A911,check!$A:$L,12,FALSE))=TRUE,\"\",VLOOKUP($A911,check!$A:$L,12,FALSE))","v":""}]
[912,{"$f":"IF(C912=\"\",\"\",MATCH(A912,check!A:A,0))","v":""},{"$f":"IF(ISERROR(VLOOKUP($A912,check!$A:$L,2,FALSE))=TRUE,\"\",VLOOKUP($A912,check!$A:$L,2,FALSE))","v":""},{"$f":"IF(ISERROR(VLOOKUP($A912,check!$A:$L,3,FALSE))=TRUE,\"\",VLOOKUP($A912,check!$A:$L,3,FALSE))","v":""},{"$f":"IF(ISERROR(VLOOKUP($A912,check!$A:$L,4,FALSE))=TRUE,\"\",VLOOKUP($A912,check!$A:$L,4,FALSE))","v":""},{"$f":"IF(ISERROR(VLOOKUP($A912,check!$A:$L,5,FALSE))=TRUE,\"\",VLOOKUP($A912,check!$A:$L,5,FALSE))","v":""},{"$f":"IF(ISERROR(VLOOKUP($A912,check!$A:$L,6,FALSE))=TRUE,\"\",VLOOKUP($A912,check!$A:$L,6,FALSE))","v":""},{"$f":"IF(ISERROR(VLOOKUP($A912,check!$A:$L,7,FALSE))=TRUE,\"\",VLOOKUP($A912,check!$A:$L,7,FALSE))","v":""},{"$f":"IF(ISERROR(VLOOKUP($A912,check!$A:$L,8,FALSE))=TRUE,\"\",VLOOKUP($A912,check!$A:$L,8,FALSE))","v":""},{"$f":"IF(ISERROR(VLOOKUP($A912,check!$A:$L,9,FALSE))=TRUE,\"\",VLOOKUP($A912,check!$A:$L,9,FALSE))","v":""},{"$f":"IF(ISERROR(VLOOKUP($A912,check!$A:$L,10,FALSE))=TRUE,\"\",VLOOKUP($A912,check!$A:$L,10,FALSE))","v":""},{"$f":"IF(ISERROR(VLOOKUP($A912,check!$A:$L,11,FALSE))=TRUE,\"\",VLOOKUP($A912,check!$A:$L,11,FALSE))","v":""},{"$f":"IF(ISERROR(VLOOKUP($A912,check!$A:$L,12,FALSE))=TRUE,\"\",VLOOKUP($A912,check!$A:$L,12,FALSE))","v":""}]
[913,{"$f":"IF(C913=\"\",\"\",MATCH(A913,check!A:A,0))","v":""},{"$f":"IF(ISERROR(VLOOKUP($A913,check!$A:$L,2,FALSE))=TRUE,\"\",VLOOKUP($A913,check!$A:$L,2,FALSE))","v":""},{"$f":"IF(ISERROR(VLOOKUP($A913,check!$A:$L,3,FALSE))=TRUE,\"\",VLOOKUP($A913,check!$A:$L,3,FALSE))","v":""},{"$f":"IF(ISERROR(VLOOKUP($A913,check!$A:$L,4,FALSE))=TRUE,\"\",VLOOKUP($A913,check!$A:$L,4,FALSE))","v":""},{"$f":"IF(ISERROR(VLOOKUP($A913,check!$A:$L,5,FALSE))=TRUE,\"\",VLOOKUP($A913,check!$A:$L,5,FALSE))","v":""},{"$f":"IF(ISERROR(VLOOKUP($A913,check!$A:$L,6,FALSE))=TRUE,\"\",VLOOKUP($A913,check!$A:$L,6,FALSE))","v":""},{"$f":"IF(ISERROR(VLOOKUP($A913,check!$A:$L,7,FALSE))=TRUE,\"\",VLOOKUP($A913,check!$A:$L,7,FALSE))","v":""},{"$f":"IF(ISERROR(VLOOKUP($A913,check!$A:$L,8,FALSE))=TRUE,\"\",VLOOKUP($A913,check!$A:$L,8,FALSE))","v":""},{"$f":"IF(ISERROR(VLOOKUP($A913,check!$A:$L,9,FALSE))=TRUE,\"\",VLOOKUP($A913,check!$A:$L,9,FALSE))","v":""},{"$f":"IF(ISERROR(VLOOKUP($A913,check!$A:$L,10,FALSE))=TRUE,\"\",VLOOKUP($A913,check!$A:$L,10,FALSE))","v":""},{"$f":"IF(ISERROR(VLOOKUP($A913,check!$A:$L,11,FALSE))=TRUE,\"\",VLOOKUP($A913,check!$A:$L,11,FALSE))","v":""},{"$f":"IF(ISERROR(VLOOKUP($A913,check!$A:$L,12,FALSE))=TRUE,\"\",VLOOKUP($A913,check!$A:$L,12,FALSE))","v":""}]
[914,{"$f":"IF(C914=\"\",\"\",MATCH(A914,check!A:A,0))","v":""},{"$f":"IF(ISERROR(VLOOKUP($A914,check!$A:$L,2,FALSE))=TRUE,\"\",VLOOKUP($A914,check!$A:$L,2,FALSE))","v":""},{"$f":"IF(ISERROR(VLOOKUP($A914,check!$A:$L,3,FALSE))=TRUE,\"\",VLOOKUP($A914,check!$A:$L,3,FALSE))","v":""},{"$f":"IF(ISERROR(VLOOKUP($A914,check!$A:$L,4,FALSE))=TRUE,\"\",VLOOKUP($A914,check!$A:$L,4,FALSE))","v":""},{"$f":"IF(ISERROR(VLOOKUP($A914,check!$A:$L,5,FALSE))=TRUE,\"\",VLOOKUP($A914,check!$A:$L,5,FALSE))","v":""},{"$f":"IF(ISERROR(VLOOKUP($A914,check!$A:$L,6,FALSE))=TRUE,\"\",VLOOKUP($A914,check!$A:$L,6,FALSE))","v":""},{"$f":"IF(ISERROR(VLOOKUP($A914,check!$A:$L,7,FALSE))=TRUE,\"\",VLOOKUP($A914,check!$A:$L,7,FALSE))","v":""},{"$f":"IF(ISERROR(VLOOKUP($A914,check!$A:$L,8,FALSE))=TRUE,\"\",VLOOKUP($A914,check!$A:$L,8,FALSE))","v":""},{"$f":"IF(ISERROR(VLOOKUP($A914,check!$A:$L,9,FALSE))=TRUE,\"\",VLOOKUP($A914,check!$A:$L,9,FALSE))","v":""},{"$f":"IF(ISERROR(VLOOKUP($A914,check!$A:$L,10,FALSE))=TRUE,\"\",VLOOKUP($A914,check!$A:$L,10,FALSE))","v":""},{"$f":"IF(ISERROR(VLOOKUP($A914,check!$A:$L,11,FALSE))=TRUE,\"\",VLOOKUP($A914,check!$A:$L,11,FALSE))","v":""},{"$f":"IF(ISERROR(VLOOKUP($A914,check!$A:$L,12,FALSE))=TRUE,\"\",VLOOKUP($A914,check!$A:$L,12,FALSE))","v":""}]
[915,{"$f":"IF(C915=\"\",\"\",MATCH(A915,check!A:A,0))","v":""},{"$f":"IF(ISERROR(VLOOKUP($A915,check!$A:$L,2,FALSE))=TRUE,\"\",VLOOKUP($A915,check!$A:$L,2,FALSE))","v":""},{"$f":"IF(ISERROR(VLOOKUP($A915,check!$A:$L,3,FALSE))=TRUE,\"\",VLOOKUP($A915,check!$A:$L,3,FALSE))","v":""},{"$f":"IF(ISERROR(VLOOKUP($A915,check!$A:$L,4,FALSE))=TRUE,\"\",VLOOKUP($A915,check!$A:$L,4,FALSE))","v":""},{"$f":"IF(ISERROR(VLOOKUP($A915,check!$A:$L,5,FALSE))=TRUE,\"\",VLOOKUP($A915,check!$A:$L,5,FALSE))","v":""},{"$f":"IF(ISERROR(VLOOKUP($A915,check!$A:$L,6,FALSE))=TRUE,\"\",VLOOKUP($A915,check!$A:$L,6,FALSE))","v":""},{"$f":"IF(ISERROR(VLOOKUP($A915,check!$A:$L,7,FALSE))=TRUE,\"\",VLOOKUP($A915,check!$A:$L,7,FALSE))","v":""},{"$f":"IF(ISERROR(VLOOKUP($A915,check!$A:$L,8,FALSE))=TRUE,\"\",VLOOKUP($A915,check!$A:$L,8,FALSE))","v":""},{"$f":"IF(ISERROR(VLOOKUP($A915,check!$A:$L,9,FALSE))=TRUE,\"\",VLOOKUP($A915,check!$A:$L,9,FALSE))","v":""},{"$f":"IF(ISERROR(VLOOKUP($A915,check!$A:$L,10,FALSE))=TRUE,\"\",VLOOKUP($A915,check!$A:$L,10,FALSE))","v":""},{"$f":"IF(ISERROR(VLOOKUP($A915,check!$A:$L,11,FALSE))=TRUE,\"\",VLOOKUP($A915,check!$A:$L,11,FALSE))","v":""},{"$f":"IF(ISERROR(VLOOKUP($A915,check!$A:$L,12,FALSE))=TRUE,\"\",VLOOKUP($A915,check!$A:$L,12,FALSE))","v":""}]
[916,{"$f":"IF(C916=\"\",\"\",MATCH(A916,check!A:A,0))","v":""},{"$f":"IF(ISERROR(VLOOKUP($A916,check!$A:$L,2,FALSE))=TRUE,\"\",VLOOKUP($A916,check!$A:$L,2,FALSE))","v":""},{"$f":"IF(ISERROR(VLOOKUP($A916,check!$A:$L,3,FALSE))=TRUE,\"\",VLOOKUP($A916,check!$A:$L,3,FALSE))","v":""},{"$f":"IF(ISERROR(VLOOKUP($A916,check!$A:$L,4,FALSE))=TRUE,\"\",VLOOKUP($A916,check!$A:$L,4,FALSE))","v":""},{"$f":"IF(ISERROR(VLOOKUP($A916,check!$A:$L,5,FALSE))=TRUE,\"\",VLOOKUP($A916,check!$A:$L,5,FALSE))","v":""},{"$f":"IF(ISERROR(VLOOKUP($A916,check!$A:$L,6,FALSE))=TRUE,\"\",VLOOKUP($A916,check!$A:$L,6,FALSE))","v":""},{"$f":"IF(ISERROR(VLOOKUP($A916,check!$A:$L,7,FALSE))=TRUE,\"\",VLOOKUP($A916,check!$A:$L,7,FALSE))","v":""},{"$f":"IF(ISERROR(VLOOKUP($A916,check!$A:$L,8,FALSE))=TRUE,\"\",VLOOKUP($A916,check!$A:$L,8,FALSE))","v":""},{"$f":"IF(ISERROR(VLOOKUP($A916,check!$A:$L,9,FALSE))=TRUE,\"\",VLOOKUP($A916,check!$A:$L,9,FALSE))","v":""},{"$f":"IF(ISERROR(VLOOKUP($A916,check!$A:$L,10,FALSE))=TRUE,\"\",VLOOKUP($A916,check!$A:$L,10,FALSE))","v":""},{"$f":"IF(ISERROR(VLOOKUP($A916,check!$A:$L,11,FALSE))=TRUE,\"\",VLOOKUP($A916,check!$A:$L,11,FALSE))","v":""},{"$f":"IF(ISERROR(VLOOKUP($A916,check!$A:$L,12,FALSE))=TRUE,\"\",VLOOKUP($A916,check!$A:$L,12,FALSE))","v":""}]
[917,{"$f":"IF(C917=\"\",\"\",MATCH(A917,check!A:A,0))","v":""},{"$f":"IF(ISERROR(VLOOKUP($A917,check!$A:$L,2,FALSE))=TRUE,\"\",VLOOKUP($A917,check!$A:$L,2,FALSE))","v":""},{"$f":"IF(ISERROR(VLOOKUP($A917,check!$A:$L,3,FALSE))=TRUE,\"\",VLOOKUP($A917,check!$A:$L,3,FALSE))","v":""},{"$f":"IF(ISERROR(VLOOKUP($A917,check!$A:$L,4,FALSE))=TRUE,\"\",VLOOKUP($A917,check!$A:$L,4,FALSE))","v":""},{"$f":"IF(ISERROR(VLOOKUP($A917,check!$A:$L,5,FALSE))=TRUE,\"\",VLOOKUP($A917,check!$A:$L,5,FALSE))","v":""},{"$f":"IF(ISERROR(VLOOKUP($A917,check!$A:$L,6,FALSE))=TRUE,\"\",VLOOKUP($A917,check!$A:$L,6,FALSE))","v":""},{"$f":"IF(ISERROR(VLOOKUP($A917,check!$A:$L,7,FALSE))=TRUE,\"\",VLOOKUP($A917,check!$A:$L,7,FALSE))","v":""},{"$f":"IF(ISERROR(VLOOKUP($A917,check!$A:$L,8,FALSE))=TRUE,\"\",VLOOKUP($A917,check!$A:$L,8,FALSE))","v":""},{"$f":"IF(ISERROR(VLOOKUP($A917,check!$A:$L,9,FALSE))=TRUE,\"\",VLOOKUP($A917,check!$A:$L,9,FALSE))","v":""},{"$f":"IF(ISERROR(VLOOKUP($A917,check!$A:$L,10,FALSE))=TRUE,\"\",VLOOKUP($A917,check!$A:$L,10,FALSE))","v":""},{"$f":"IF(ISERROR(VLOOKUP($A917,check!$A:$L,11,FALSE))=TRUE,\"\",VLOOKUP($A917,check!$A:$L,11,FALSE))","v":""},{"$f":"IF(ISERROR(VLOOKUP($A917,check!$A:$L,12,FALSE))=TRUE,\"\",VLOOKUP($A917,check!$A:$L,12,FALSE))","v":""}]
[918,{"$f":"IF(C918=\"\",\"\",MATCH(A918,check!A:A,0))","v":""},{"$f":"IF(ISERROR(VLOOKUP($A918,check!$A:$L,2,FALSE))=TRUE,\"\",VLOOKUP($A918,check!$A:$L,2,FALSE))","v":""},{"$f":"IF(ISERROR(VLOOKUP($A918,check!$A:$L,3,FALSE))=TRUE,\"\",VLOOKUP($A918,check!$A:$L,3,FALSE))","v":""},{"$f":"IF(ISERROR(VLOOKUP($A918,check!$A:$L,4,FALSE))=TRUE,\"\",VLOOKUP($A918,check!$A:$L,4,FALSE))","v":""},{"$f":"IF(ISERROR(VLOOKUP($A918,check!$A:$L,5,FALSE))=TRUE,\"\",VLOOKUP($A918,check!$A:$L,5,FALSE))","v":""},{"$f":"IF(ISERROR(VLOOKUP($A918,check!$A:$L,6,FALSE))=TRUE,\"\",VLOOKUP($A918,check!$A:$L,6,FALSE))","v":""},{"$f":"IF(ISERROR(VLOOKUP($A918,check!$A:$L,7,FALSE))=TRUE,\"\",VLOOKUP($A918,check!$A:$L,7,FALSE))","v":""},{"$f":"IF(ISERROR(VLOOKUP($A918,check!$A:$L,8,FALSE))=TRUE,\"\",VLOOKUP($A918,check!$A:$L,8,FALSE))","v":""},{"$f":"IF(ISERROR(VLOOKUP($A918,check!$A:$L,9,FALSE))=TRUE,\"\",VLOOKUP($A918,check!$A:$L,9,FALSE))","v":""},{"$f":"IF(ISERROR(VLOOKUP($A918,check!$A:$L,10,FALSE))=TRUE,\"\",VLOOKUP($A918,check!$A:$L,10,FALSE))","v":""},{"$f":"IF(ISERROR(VLOOKUP($A918,check!$A:$L,11,FALSE))=TRUE,\"\",VLOOKUP($A918,check!$A:$L,11,FALSE))","v":""},{"$f":"IF(ISERROR(VLOOKUP($A918,check!$A:$L,12,FALSE))=TRUE,\"\",VLOOKUP($A918,check!$A:$L,12,FALSE))","v":""}]
[919,{"$f":"IF(C919=\"\",\"\",MATCH(A919,check!A:A,0))","v":""},{"$f":"IF(ISERROR(VLOOKUP($A919,check!$A:$L,2,FALSE))=TRUE,\"\",VLOOKUP($A919,check!$A:$L,2,FALSE))","v":""},{"$f":"IF(ISERROR(VLOOKUP($A919,check!$A:$L,3,FALSE))=TRUE,\"\",VLOOKUP($A919,check!$A:$L,3,FALSE))","v":""},{"$f":"IF(ISERROR(VLOOKUP($A919,check!$A:$L,4,FALSE))=TRUE,\"\",VLOOKUP($A919,check!$A:$L,4,FALSE))","v":""},{"$f":"IF(ISERROR(VLOOKUP($A919,check!$A:$L,5,FALSE))=TRUE,\"\",VLOOKUP($A919,check!$A:$L,5,FALSE))","v":""},{"$f":"IF(ISERROR(VLOOKUP($A919,check!$A:$L,6,FALSE))=TRUE,\"\",VLOOKUP($A919,check!$A:$L,6,FALSE))","v":""},{"$f":"IF(ISERROR(VLOOKUP($A919,check!$A:$L,7,FALSE))=TRUE,\"\",VLOOKUP($A919,check!$A:$L,7,FALSE))","v":""},{"$f":"IF(ISERROR(VLOOKUP($A919,check!$A:$L,8,FALSE))=TRUE,\"\",VLOOKUP($A919,check!$A:$L,8,FALSE))","v":""},{"$f":"IF(ISERROR(VLOOKUP($A919,check!$A:$L,9,FALSE))=TRUE,\"\",VLOOKUP($A919,check!$A:$L,9,FALSE))","v":""},{"$f":"IF(ISERROR(VLOOKUP($A919,check!$A:$L,10,FALSE))=TRUE,\"\",VLOOKUP($A919,check!$A:$L,10,FALSE))","v":""},{"$f":"IF(ISERROR(VLOOKUP($A919,check!$A:$L,11,FALSE))=TRUE,\"\",VLOOKUP($A919,check!$A:$L,11,FALSE))","v":""},{"$f":"IF(ISERROR(VLOOKUP($A919,check!$A:$L,12,FALSE))=TRUE,\"\",VLOOKUP($A919,check!$A:$L,12,FALSE))","v":""}]
[920,{"$f":"IF(C920=\"\",\"\",MATCH(A920,check!A:A,0))","v":""},{"$f":"IF(ISERROR(VLOOKUP($A920,check!$A:$L,2,FALSE))=TRUE,\"\",VLOOKUP($A920,check!$A:$L,2,FALSE))","v":""},{"$f":"IF(ISERROR(VLOOKUP($A920,check!$A:$L,3,FALSE))=TRUE,\"\",VLOOKUP($A920,check!$A:$L,3,FALSE))","v":""},{"$f":"IF(ISERROR(VLOOKUP($A920,check!$A:$L,4,FALSE))=TRUE,\"\",VLOOKUP($A920,check!$A:$L,4,FALSE))","v":""},{"$f":"IF(ISERROR(VLOOKUP($A920,check!$A:$L,5,FALSE))=TRUE,\"\",VLOOKUP($A920,check!$A:$L,5,FALSE))","v":""},{"$f":"IF(ISERROR(VLOOKUP($A920,check!$A:$L,6,FALSE))=TRUE,\"\",VLOOKUP($A920,check!$A:$L,6,FALSE))","v":""},{"$f":"IF(ISERROR(VLOOKUP($A920,check!$A:$L,7,FALSE))=TRUE,\"\",VLOOKUP($A920,check!$A:$L,7,FALSE))","v":""},{"$f":"IF(ISERROR(VLOOKUP($A920,check!$A:$L,8,FALSE))=TRUE,\"\",VLOOKUP($A920,check!$A:$L,8,FALSE))","v":""},{"$f":"IF(ISERROR(VLOOKUP($A920,check!$A:$L,9,FALSE))=TRUE,\"\",VLOOKUP($A920,check!$A:$L,9,FALSE))","v":""},{"$f":"IF(ISERROR(VLOOKUP($A920,check!$A:$L,10,FALSE))=TRUE,\"\",VLOOKUP($A920,check!$A:$L,10,FALSE))","v":""},{"$f":"IF(ISERROR(VLOOKUP($A920,check!$A:$L,11,FALSE))=TRUE,\"\",VLOOKUP($A920,check!$A:$L,11,FALSE))","v":""},{"$f":"IF(ISERROR(VLOOKUP($A920,check!$A:$L,12,FALSE))=TRUE,\"\",VLOOKUP($A920,check!$A:$L,12,FALSE))","v":""}]
[921,{"$f":"IF(C921=\"\",\"\",MATCH(A921,check!A:A,0))","v":""},{"$f":"IF(ISERROR(VLOOKUP($A921,check!$A:$L,2,FALSE))=TRUE,\"\",VLOOKUP($A921,check!$A:$L,2,FALSE))","v":""},{"$f":"IF(ISERROR(VLOOKUP($A921,check!$A:$L,3,FALSE))=TRUE,\"\",VLOOKUP($A921,check!$A:$L,3,FALSE))","v":""},{"$f":"IF(ISERROR(VLOOKUP($A921,check!$A:$L,4,FALSE))=TRUE,\"\",VLOOKUP($A921,check!$A:$L,4,FALSE))","v":""},{"$f":"IF(ISERROR(VLOOKUP($A921,check!$A:$L,5,FALSE))=TRUE,\"\",VLOOKUP($A921,check!$A:$L,5,FALSE))","v":""},{"$f":"IF(ISERROR(VLOOKUP($A921,check!$A:$L,6,FALSE))=TRUE,\"\",VLOOKUP($A921,check!$A:$L,6,FALSE))","v":""},{"$f":"IF(ISERROR(VLOOKUP($A921,check!$A:$L,7,FALSE))=TRUE,\"\",VLOOKUP($A921,check!$A:$L,7,FALSE))","v":""},{"$f":"IF(ISERROR(VLOOKUP($A921,check!$A:$L,8,FALSE))=TRUE,\"\",VLOOKUP($A921,check!$A:$L,8,FALSE))","v":""},{"$f":"IF(ISERROR(VLOOKUP($A921,check!$A:$L,9,FALSE))=TRUE,\"\",VLOOKUP($A921,check!$A:$L,9,FALSE))","v":""},{"$f":"IF(ISERROR(VLOOKUP($A921,check!$A:$L,10,FALSE))=TRUE,\"\",VLOOKUP($A921,check!$A:$L,10,FALSE))","v":""},{"$f":"IF(ISERROR(VLOOKUP($A921,check!$A:$L,11,FALSE))=TRUE,\"\",VLOOKUP($A921,check!$A:$L,11,FALSE))","v":""},{"$f":"IF(ISERROR(VLOOKUP($A921,check!$A:$L,12,FALSE))=TRUE,\"\",VLOOKUP($A921,check!$A:$L,12,FALSE))","v":""}]
[922,{"$f":"IF(C922=\"\",\"\",MATCH(A922,check!A:A,0))","v":""},{"$f":"IF(ISERROR(VLOOKUP($A922,check!$A:$L,2,FALSE))=TRUE,\"\",VLOOKUP($A922,check!$A:$L,2,FALSE))","v":""},{"$f":"IF(ISERROR(VLOOKUP($A922,check!$A:$L,3,FALSE))=TRUE,\"\",VLOOKUP($A922,check!$A:$L,3,FALSE))","v":""},{"$f":"IF(ISERROR(VLOOKUP($A922,check!$A:$L,4,FALSE))=TRUE,\"\",VLOOKUP($A922,check!$A:$L,4,FALSE))","v":""},{"$f":"IF(ISERROR(VLOOKUP($A922,check!$A:$L,5,FALSE))=TRUE,\"\",VLOOKUP($A922,check!$A:$L,5,FALSE))","v":""},{"$f":"IF(ISERROR(VLOOKUP($A922,check!$A:$L,6,FALSE))=TRUE,\"\",VLOOKUP($A922,check!$A:$L,6,FALSE))","v":""},{"$f":"IF(ISERROR(VLOOKUP($A922,check!$A:$L,7,FALSE))=TRUE,\"\",VLOOKUP($A922,check!$A:$L,7,FALSE))","v":""},{"$f":"IF(ISERROR(VLOOKUP($A922,check!$A:$L,8,FALSE))=TRUE,\"\",VLOOKUP($A922,check!$A:$L,8,FALSE))","v":""},{"$f":"IF(ISERROR(VLOOKUP($A922,check!$A:$L,9,FALSE))=TRUE,\"\",VLOOKUP($A922,check!$A:$L,9,FALSE))","v":""},{"$f":"IF(ISERROR(VLOOKUP($A922,check!$A:$L,10,FALSE))=TRUE,\"\",VLOOKUP($A922,check!$A:$L,10,FALSE))","v":""},{"$f":"IF(ISERROR(VLOOKUP($A922,check!$A:$L,11,FALSE))=TRUE,\"\",VLOOKUP($A922,check!$A:$L,11,FALSE))","v":""},{"$f":"IF(ISERROR(VLOOKUP($A922,check!$A:$L,12,FALSE))=TRUE,\"\",VLOOKUP($A922,check!$A:$L,12,FALSE))","v":""}]
[923,{"$f":"IF(C923=\"\",\"\",MATCH(A923,check!A:A,0))","v":""},{"$f":"IF(ISERROR(VLOOKUP($A923,check!$A:$L,2,FALSE))=TRUE,\"\",VLOOKUP($A923,check!$A:$L,2,FALSE))","v":""},{"$f":"IF(ISERROR(VLOOKUP($A923,check!$A:$L,3,FALSE))=TRUE,\"\",VLOOKUP($A923,check!$A:$L,3,FALSE))","v":""},{"$f":"IF(ISERROR(VLOOKUP($A923,check!$A:$L,4,FALSE))=TRUE,\"\",VLOOKUP($A923,check!$A:$L,4,FALSE))","v":""},{"$f":"IF(ISERROR(VLOOKUP($A923,check!$A:$L,5,FALSE))=TRUE,\"\",VLOOKUP($A923,check!$A:$L,5,FALSE))","v":""},{"$f":"IF(ISERROR(VLOOKUP($A923,check!$A:$L,6,FALSE))=TRUE,\"\",VLOOKUP($A923,check!$A:$L,6,FALSE))","v":""},{"$f":"IF(ISERROR(VLOOKUP($A923,check!$A:$L,7,FALSE))=TRUE,\"\",VLOOKUP($A923,check!$A:$L,7,FALSE))","v":""},{"$f":"IF(ISERROR(VLOOKUP($A923,check!$A:$L,8,FALSE))=TRUE,\"\",VLOOKUP($A923,check!$A:$L,8,FALSE))","v":""},{"$f":"IF(ISERROR(VLOOKUP($A923,check!$A:$L,9,FALSE))=TRUE,\"\",VLOOKUP($A923,check!$A:$L,9,FALSE))","v":""},{"$f":"IF(ISERROR(VLOOKUP($A923,check!$A:$L,10,FALSE))=TRUE,\"\",VLOOKUP($A923,check!$A:$L,10,FALSE))","v":""},{"$f":"IF(ISERROR(VLOOKUP($A923,check!$A:$L,11,FALSE))=TRUE,\"\",VLOOKUP($A923,check!$A:$L,11,FALSE))","v":""},{"$f":"IF(ISERROR(VLOOKUP($A923,check!$A:$L,12,FALSE))=TRUE,\"\",VLOOKUP($A923,check!$A:$L,12,FALSE))","v":""}]
[924,{"$f":"IF(C924=\"\",\"\",MATCH(A924,check!A:A,0))","v":""},{"$f":"IF(ISERROR(VLOOKUP($A924,check!$A:$L,2,FALSE))=TRUE,\"\",VLOOKUP($A924,check!$A:$L,2,FALSE))","v":""},{"$f":"IF(ISERROR(VLOOKUP($A924,check!$A:$L,3,FALSE))=TRUE,\"\",VLOOKUP($A924,check!$A:$L,3,FALSE))","v":""},{"$f":"IF(ISERROR(VLOOKUP($A924,check!$A:$L,4,FALSE))=TRUE,\"\",VLOOKUP($A924,check!$A:$L,4,FALSE))","v":""},{"$f":"IF(ISERROR(VLOOKUP($A924,check!$A:$L,5,FALSE))=TRUE,\"\",VLOOKUP($A924,check!$A:$L,5,FALSE))","v":""},{"$f":"IF(ISERROR(VLOOKUP($A924,check!$A:$L,6,FALSE))=TRUE,\"\",VLOOKUP($A924,check!$A:$L,6,FALSE))","v":""},{"$f":"IF(ISERROR(VLOOKUP($A924,check!$A:$L,7,FALSE))=TRUE,\"\",VLOOKUP($A924,check!$A:$L,7,FALSE))","v":""},{"$f":"IF(ISERROR(VLOOKUP($A924,check!$A:$L,8,FALSE))=TRUE,\"\",VLOOKUP($A924,check!$A:$L,8,FALSE))","v":""},{"$f":"IF(ISERROR(VLOOKUP($A924,check!$A:$L,9,FALSE))=TRUE,\"\",VLOOKUP($A924,check!$A:$L,9,FALSE))","v":""},{"$f":"IF(ISERROR(VLOOKUP($A924,check!$A:$L,10,FALSE))=TRUE,\"\",VLOOKUP($A924,check!$A:$L,10,FALSE))","v":""},{"$f":"IF(ISERROR(VLOOKUP($A924,check!$A:$L,11,FALSE))=TRUE,\"\",VLOOKUP($A924,check!$A:$L,11,FALSE))","v":""},{"$f":"IF(ISERROR(VLOOKUP($A924,check!$A:$L,12,FALSE))=TRUE,\"\",VLOOKUP($A924,check!$A:$L,12,FALSE))","v":""}]
[925,{"$f":"IF(C925=\"\",\"\",MATCH(A925,check!A:A,0))","v":""},{"$f":"IF(ISERROR(VLOOKUP($A925,check!$A:$L,2,FALSE))=TRUE,\"\",VLOOKUP($A925,check!$A:$L,2,FALSE))","v":""},{"$f":"IF(ISERROR(VLOOKUP($A925,check!$A:$L,3,FALSE))=TRUE,\"\",VLOOKUP($A925,check!$A:$L,3,FALSE))","v":""},{"$f":"IF(ISERROR(VLOOKUP($A925,check!$A:$L,4,FALSE))=TRUE,\"\",VLOOKUP($A925,check!$A:$L,4,FALSE))","v":""},{"$f":"IF(ISERROR(VLOOKUP($A925,check!$A:$L,5,FALSE))=TRUE,\"\",VLOOKUP($A925,check!$A:$L,5,FALSE))","v":""},{"$f":"IF(ISERROR(VLOOKUP($A925,check!$A:$L,6,FALSE))=TRUE,\"\",VLOOKUP($A925,check!$A:$L,6,FALSE))","v":""},{"$f":"IF(ISERROR(VLOOKUP($A925,check!$A:$L,7,FALSE))=TRUE,\"\",VLOOKUP($A925,check!$A:$L,7,FALSE))","v":""},{"$f":"IF(ISERROR(VLOOKUP($A925,check!$A:$L,8,FALSE))=TRUE,\"\",VLOOKUP($A925,check!$A:$L,8,FALSE))","v":""},{"$f":"IF(ISERROR(VLOOKUP($A925,check!$A:$L,9,FALSE))=TRUE,\"\",VLOOKUP($A925,check!$A:$L,9,FALSE))","v":""},{"$f":"IF(ISERROR(VLOOKUP($A925,check!$A:$L,10,FALSE))=TRUE,\"\",VLOOKUP($A925,check!$A:$L,10,FALSE))","v":""},{"$f":"IF(ISERROR(VLOOKUP($A925,check!$A:$L,11,FALSE))=TRUE,\"\",VLOOKUP($A925,check!$A:$L,11,FALSE))","v":""},{"$f":"IF(ISERROR(VLOOKUP($A925,check!$A:$L,12,FALSE))=TRUE,\"\",VLOOKUP($A925,check!$A:$L,12,FALSE))","v":""}]
[926,{"$f":"IF(C926=\"\",\"\",MATCH(A926,check!A:A,0))","v":""},{"$f":"IF(ISERROR(VLOOKUP($A926,check!$A:$L,2,FALSE))=TRUE,\"\",VLOOKUP($A926,check!$A:$L,2,FALSE))","v":""},{"$f":"IF(ISERROR(VLOOKUP($A926,check!$A:$L,3,FALSE))=TRUE,\"\",VLOOKUP($A926,check!$A:$L,3,FALSE))","v":""},{"$f":"IF(ISERROR(VLOOKUP($A926,check!$A:$L,4,FALSE))=TRUE,\"\",VLOOKUP($A926,check!$A:$L,4,FALSE))","v":""},{"$f":"IF(ISERROR(VLOOKUP($A926,check!$A:$L,5,FALSE))=TRUE,\"\",VLOOKUP($A926,check!$A:$L,5,FALSE))","v":""},{"$f":"IF(ISERROR(VLOOKUP($A926,check!$A:$L,6,FALSE))=TRUE,\"\",VLOOKUP($A926,check!$A:$L,6,FALSE))","v":""},{"$f":"IF(ISERROR(VLOOKUP($A926,check!$A:$L,7,FALSE))=TRUE,\"\",VLOOKUP($A926,check!$A:$L,7,FALSE))","v":""},{"$f":"IF(ISERROR(VLOOKUP($A926,check!$A:$L,8,FALSE))=TRUE,\"\",VLOOKUP($A926,check!$A:$L,8,FALSE))","v":""},{"$f":"IF(ISERROR(VLOOKUP($A926,check!$A:$L,9,FALSE))=TRUE,\"\",VLOOKUP($A926,check!$A:$L,9,FALSE))","v":""},{"$f":"IF(ISERROR(VLOOKUP($A926,check!$A:$L,10,FALSE))=TRUE,\"\",VLOOKUP($A926,check!$A:$L,10,FALSE))","v":""},{"$f":"IF(ISERROR(VLOOKUP($A926,check!$A:$L,11,FALSE))=TRUE,\"\",VLOOKUP($A926,check!$A:$L,11,FALSE))","v":""},{"$f":"IF(ISERROR(VLOOKUP($A926,check!$A:$L,12,FALSE))=TRUE,\"\",VLOOKUP($A926,check!$A:$L,12,FALSE))","v":""}]
[927,{"$f":"IF(C927=\"\",\"\",MATCH(A927,check!A:A,0))","v":""},{"$f":"IF(ISERROR(VLOOKUP($A927,check!$A:$L,2,FALSE))=TRUE,\"\",VLOOKUP($A927,check!$A:$L,2,FALSE))","v":""},{"$f":"IF(ISERROR(VLOOKUP($A927,check!$A:$L,3,FALSE))=TRUE,\"\",VLOOKUP($A927,check!$A:$L,3,FALSE))","v":""},{"$f":"IF(ISERROR(VLOOKUP($A927,check!$A:$L,4,FALSE))=TRUE,\"\",VLOOKUP($A927,check!$A:$L,4,FALSE))","v":""},{"$f":"IF(ISERROR(VLOOKUP($A927,check!$A:$L,5,FALSE))=TRUE,\"\",VLOOKUP($A927,check!$A:$L,5,FALSE))","v":""},{"$f":"IF(ISERROR(VLOOKUP($A927,check!$A:$L,6,FALSE))=TRUE,\"\",VLOOKUP($A927,check!$A:$L,6,FALSE))","v":""},{"$f":"IF(ISERROR(VLOOKUP($A927,check!$A:$L,7,FALSE))=TRUE,\"\",VLOOKUP($A927,check!$A:$L,7,FALSE))","v":""},{"$f":"IF(ISERROR(VLOOKUP($A927,check!$A:$L,8,FALSE))=TRUE,\"\",VLOOKUP($A927,check!$A:$L,8,FALSE))","v":""},{"$f":"IF(ISERROR(VLOOKUP($A927,check!$A:$L,9,FALSE))=TRUE,\"\",VLOOKUP($A927,check!$A:$L,9,FALSE))","v":""},{"$f":"IF(ISERROR(VLOOKUP($A927,check!$A:$L,10,FALSE))=TRUE,\"\",VLOOKUP($A927,check!$A:$L,10,FALSE))","v":""},{"$f":"IF(ISERROR(VLOOKUP($A927,check!$A:$L,11,FALSE))=TRUE,\"\",VLOOKUP($A927,check!$A:$L,11,FALSE))","v":""},{"$f":"IF(ISERROR(VLOOKUP($A927,check!$A:$L,12,FALSE))=TRUE,\"\",VLOOKUP($A927,check!$A:$L,12,FALSE))","v":""}]
[928,{"$f":"IF(C928=\"\",\"\",MATCH(A928,check!A:A,0))","v":""},{"$f":"IF(ISERROR(VLOOKUP($A928,check!$A:$L,2,FALSE))=TRUE,\"\",VLOOKUP($A928,check!$A:$L,2,FALSE))","v":""},{"$f":"IF(ISERROR(VLOOKUP($A928,check!$A:$L,3,FALSE))=TRUE,\"\",VLOOKUP($A928,check!$A:$L,3,FALSE))","v":""},{"$f":"IF(ISERROR(VLOOKUP($A928,check!$A:$L,4,FALSE))=TRUE,\"\",VLOOKUP($A928,check!$A:$L,4,FALSE))","v":""},{"$f":"IF(ISERROR(VLOOKUP($A928,check!$A:$L,5,FALSE))=TRUE,\"\",VLOOKUP($A928,check!$A:$L,5,FALSE))","v":""},{"$f":"IF(ISERROR(VLOOKUP($A928,check!$A:$L,6,FALSE))=TRUE,\"\",VLOOKUP($A928,check!$A:$L,6,FALSE))","v":""},{"$f":"IF(ISERROR(VLOOKUP($A928,check!$A:$L,7,FALSE))=TRUE,\"\",VLOOKUP($A928,check!$A:$L,7,FALSE))","v":""},{"$f":"IF(ISERROR(VLOOKUP($A928,check!$A:$L,8,FALSE))=TRUE,\"\",VLOOKUP($A928,check!$A:$L,8,FALSE))","v":""},{"$f":"IF(ISERROR(VLOOKUP($A928,check!$A:$L,9,FALSE))=TRUE,\"\",VLOOKUP($A928,check!$A:$L,9,FALSE))","v":""},{"$f":"IF(ISERROR(VLOOKUP($A928,check!$A:$L,10,FALSE))=TRUE,\"\",VLOOKUP($A928,check!$A:$L,10,FALSE))","v":""},{"$f":"IF(ISERROR(VLOOKUP($A928,check!$A:$L,11,FALSE))=TRUE,\"\",VLOOKUP($A928,check!$A:$L,11,FALSE))","v":""},{"$f":"IF(ISERROR(VLOOKUP($A928,check!$A:$L,12,FALSE))=TRUE,\"\",VLOOKUP($A928,check!$A:$L,12,FALSE))","v":""}]
[929,{"$f":"IF(C929=\"\",\"\",MATCH(A929,check!A:A,0))","v":""},{"$f":"IF(ISERROR(VLOOKUP($A929,check!$A:$L,2,FALSE))=TRUE,\"\",VLOOKUP($A929,check!$A:$L,2,FALSE))","v":""},{"$f":"IF(ISERROR(VLOOKUP($A929,check!$A:$L,3,FALSE))=TRUE,\"\",VLOOKUP($A929,check!$A:$L,3,FALSE))","v":""},{"$f":"IF(ISERROR(VLOOKUP($A929,check!$A:$L,4,FALSE))=TRUE,\"\",VLOOKUP($A929,check!$A:$L,4,FALSE))","v":""},{"$f":"IF(ISERROR(VLOOKUP($A929,check!$A:$L,5,FALSE))=TRUE,\"\",VLOOKUP($A929,check!$A:$L,5,FALSE))","v":""},{"$f":"IF(ISERROR(VLOOKUP($A929,check!$A:$L,6,FALSE))=TRUE,\"\",VLOOKUP($A929,check!$A:$L,6,FALSE))","v":""},{"$f":"IF(ISERROR(VLOOKUP($A929,check!$A:$L,7,FALSE))=TRUE,\"\",VLOOKUP($A929,check!$A:$L,7,FALSE))","v":""},{"$f":"IF(ISERROR(VLOOKUP($A929,check!$A:$L,8,FALSE))=TRUE,\"\",VLOOKUP($A929,check!$A:$L,8,FALSE))","v":""},{"$f":"IF(ISERROR(VLOOKUP($A929,check!$A:$L,9,FALSE))=TRUE,\"\",VLOOKUP($A929,check!$A:$L,9,FALSE))","v":""},{"$f":"IF(ISERROR(VLOOKUP($A929,check!$A:$L,10,FALSE))=TRUE,\"\",VLOOKUP($A929,check!$A:$L,10,FALSE))","v":""},{"$f":"IF(ISERROR(VLOOKUP($A929,check!$A:$L,11,FALSE))=TRUE,\"\",VLOOKUP($A929,check!$A:$L,11,FALSE))","v":""},{"$f":"IF(ISERROR(VLOOKUP($A929,check!$A:$L,12,FALSE))=TRUE,\"\",VLOOKUP($A929,check!$A:$L,12,FALSE))","v":""}]
[930,{"$f":"IF(C930=\"\",\"\",MATCH(A930,check!A:A,0))","v":""},{"$f":"IF(ISERROR(VLOOKUP($A930,check!$A:$L,2,FALSE))=TRUE,\"\",VLOOKUP($A930,check!$A:$L,2,FALSE))","v":""},{"$f":"IF(ISERROR(VLOOKUP($A930,check!$A:$L,3,FALSE))=TRUE,\"\",VLOOKUP($A930,check!$A:$L,3,FALSE))","v":""},{"$f":"IF(ISERROR(VLOOKUP($A930,check!$A:$L,4,FALSE))=TRUE,\"\",VLOOKUP($A930,check!$A:$L,4,FALSE))","v":""},{"$f":"IF(ISERROR(VLOOKUP($A930,check!$A:$L,5,FALSE))=TRUE,\"\",VLOOKUP($A930,check!$A:$L,5,FALSE))","v":""},{"$f":"IF(ISERROR(VLOOKUP($A930,check!$A:$L,6,FALSE))=TRUE,\"\",VLOOKUP($A930,check!$A:$L,6,FALSE))","v":""},{"$f":"IF(ISERROR(VLOOKUP($A930,check!$A:$L,7,FALSE))=TRUE,\"\",VLOOKUP($A930,check!$A:$L,7,FALSE))","v":""},{"$f":"IF(ISERROR(VLOOKUP($A930,check!$A:$L,8,FALSE))=TRUE,\"\",VLOOKUP($A930,check!$A:$L,8,FALSE))","v":""},{"$f":"IF(ISERROR(VLOOKUP($A930,check!$A:$L,9,FALSE))=TRUE,\"\",VLOOKUP($A930,check!$A:$L,9,FALSE))","v":""},{"$f":"IF(ISERROR(VLOOKUP($A930,check!$A:$L,10,FALSE))=TRUE,\"\",VLOOKUP($A930,check!$A:$L,10,FALSE))","v":""},{"$f":"IF(ISERROR(VLOOKUP($A930,check!$A:$L,11,FALSE))=TRUE,\"\",VLOOKUP($A930,check!$A:$L,11,FALSE))","v":""},{"$f":"IF(ISERROR(VLOOKUP($A930,check!$A:$L,12,FALSE))=TRUE,\"\",VLOOKUP($A930,check!$A:$L,12,FALSE))","v":""}]
[931,{"$f":"IF(C931=\"\",\"\",MATCH(A931,check!A:A,0))","v":""},{"$f":"IF(ISERROR(VLOOKUP($A931,check!$A:$L,2,FALSE))=TRUE,\"\",VLOOKUP($A931,check!$A:$L,2,FALSE))","v":""},{"$f":"IF(ISERROR(VLOOKUP($A931,check!$A:$L,3,FALSE))=TRUE,\"\",VLOOKUP($A931,check!$A:$L,3,FALSE))","v":""},{"$f":"IF(ISERROR(VLOOKUP($A931,check!$A:$L,4,FALSE))=TRUE,\"\",VLOOKUP($A931,check!$A:$L,4,FALSE))","v":""},{"$f":"IF(ISERROR(VLOOKUP($A931,check!$A:$L,5,FALSE))=TRUE,\"\",VLOOKUP($A931,check!$A:$L,5,FALSE))","v":""},{"$f":"IF(ISERROR(VLOOKUP($A931,check!$A:$L,6,FALSE))=TRUE,\"\",VLOOKUP($A931,check!$A:$L,6,FALSE))","v":""},{"$f":"IF(ISERROR(VLOOKUP($A931,check!$A:$L,7,FALSE))=TRUE,\"\",VLOOKUP($A931,check!$A:$L,7,FALSE))","v":""},{"$f":"IF(ISERROR(VLOOKUP($A931,check!$A:$L,8,FALSE))=TRUE,\"\",VLOOKUP($A931,check!$A:$L,8,FALSE))","v":""},{"$f":"IF(ISERROR(VLOOKUP($A931,check!$A:$L,9,FALSE))=TRUE,\"\",VLOOKUP($A931,check!$A:$L,9,FALSE))","v":""},{"$f":"IF(ISERROR(VLOOKUP($A931,check!$A:$L,10,FALSE))=TRUE,\"\",VLOOKUP($A931,check!$A:$L,10,FALSE))","v":""},{"$f":"IF(ISERROR(VLOOKUP($A931,check!$A:$L,11,FALSE))=TRUE,\"\",VLOOKUP($A931,check!$A:$L,11,FALSE))","v":""},{"$f":"IF(ISERROR(VLOOKUP($A931,check!$A:$L,12,FALSE))=TRUE,\"\",VLOOKUP($A931,check!$A:$L,12,FALSE))","v":""}]
[932,{"$f":"IF(C932=\"\",\"\",MATCH(A932,check!A:A,0))","v":""},{"$f":"IF(ISERROR(VLOOKUP($A932,check!$A:$L,2,FALSE))=TRUE,\"\",VLOOKUP($A932,check!$A:$L,2,FALSE))","v":""},{"$f":"IF(ISERROR(VLOOKUP($A932,check!$A:$L,3,FALSE))=TRUE,\"\",VLOOKUP($A932,check!$A:$L,3,FALSE))","v":""},{"$f":"IF(ISERROR(VLOOKUP($A932,check!$A:$L,4,FALSE))=TRUE,\"\",VLOOKUP($A932,check!$A:$L,4,FALSE))","v":""},{"$f":"IF(ISERROR(VLOOKUP($A932,check!$A:$L,5,FALSE))=TRUE,\"\",VLOOKUP($A932,check!$A:$L,5,FALSE))","v":""},{"$f":"IF(ISERROR(VLOOKUP($A932,check!$A:$L,6,FALSE))=TRUE,\"\",VLOOKUP($A932,check!$A:$L,6,FALSE))","v":""},{"$f":"IF(ISERROR(VLOOKUP($A932,check!$A:$L,7,FALSE))=TRUE,\"\",VLOOKUP($A932,check!$A:$L,7,FALSE))","v":""},{"$f":"IF(ISERROR(VLOOKUP($A932,check!$A:$L,8,FALSE))=TRUE,\"\",VLOOKUP($A932,check!$A:$L,8,FALSE))","v":""},{"$f":"IF(ISERROR(VLOOKUP($A932,check!$A:$L,9,FALSE))=TRUE,\"\",VLOOKUP($A932,check!$A:$L,9,FALSE))","v":""},{"$f":"IF(ISERROR(VLOOKUP($A932,check!$A:$L,10,FALSE))=TRUE,\"\",VLOOKUP($A932,check!$A:$L,10,FALSE))","v":""},{"$f":"IF(ISERROR(VLOOKUP($A932,check!$A:$L,11,FALSE))=TRUE,\"\",VLOOKUP($A932,check!$A:$L,11,FALSE))","v":""},{"$f":"IF(ISERROR(VLOOKUP($A932,check!$A:$L,12,FALSE))=TRUE,\"\",VLOOKUP($A932,check!$A:$L,12,FALSE))","v":""}]
[933,{"$f":"IF(C933=\"\",\"\",MATCH(A933,check!A:A,0))","v":""},{"$f":"IF(ISERROR(VLOOKUP($A933,check!$A:$L,2,FALSE))=TRUE,\"\",VLOOKUP($A933,check!$A:$L,2,FALSE))","v":""},{"$f":"IF(ISERROR(VLOOKUP($A933,check!$A:$L,3,FALSE))=TRUE,\"\",VLOOKUP($A933,check!$A:$L,3,FALSE))","v":""},{"$f":"IF(ISERROR(VLOOKUP($A933,check!$A:$L,4,FALSE))=TRUE,\"\",VLOOKUP($A933,check!$A:$L,4,FALSE))","v":""},{"$f":"IF(ISERROR(VLOOKUP($A933,check!$A:$L,5,FALSE))=TRUE,\"\",VLOOKUP($A933,check!$A:$L,5,FALSE))","v":""},{"$f":"IF(ISERROR(VLOOKUP($A933,check!$A:$L,6,FALSE))=TRUE,\"\",VLOOKUP($A933,check!$A:$L,6,FALSE))","v":""},{"$f":"IF(ISERROR(VLOOKUP($A933,check!$A:$L,7,FALSE))=TRUE,\"\",VLOOKUP($A933,check!$A:$L,7,FALSE))","v":""},{"$f":"IF(ISERROR(VLOOKUP($A933,check!$A:$L,8,FALSE))=TRUE,\"\",VLOOKUP($A933,check!$A:$L,8,FALSE))","v":""},{"$f":"IF(ISERROR(VLOOKUP($A933,check!$A:$L,9,FALSE))=TRUE,\"\",VLOOKUP($A933,check!$A:$L,9,FALSE))","v":""},{"$f":"IF(ISERROR(VLOOKUP($A933,check!$A:$L,10,FALSE))=TRUE,\"\",VLOOKUP($A933,check!$A:$L,10,FALSE))","v":""},{"$f":"IF(ISERROR(VLOOKUP($A933,check!$A:$L,11,FALSE))=TRUE,\"\",VLOOKUP($A933,check!$A:$L,11,FALSE))","v":""},{"$f":"IF(ISERROR(VLOOKUP($A933,check!$A:$L,12,FALSE))=TRUE,\"\",VLOOKUP($A933,check!$A:$L,12,FALSE))","v":""}]
[934,{"$f":"IF(C934=\"\",\"\",MATCH(A934,check!A:A,0))","v":""},{"$f":"IF(ISERROR(VLOOKUP($A934,check!$A:$L,2,FALSE))=TRUE,\"\",VLOOKUP($A934,check!$A:$L,2,FALSE))","v":""},{"$f":"IF(ISERROR(VLOOKUP($A934,check!$A:$L,3,FALSE))=TRUE,\"\",VLOOKUP($A934,check!$A:$L,3,FALSE))","v":""},{"$f":"IF(ISERROR(VLOOKUP($A934,check!$A:$L,4,FALSE))=TRUE,\"\",VLOOKUP($A934,check!$A:$L,4,FALSE))","v":""},{"$f":"IF(ISERROR(VLOOKUP($A934,check!$A:$L,5,FALSE))=TRUE,\"\",VLOOKUP($A934,check!$A:$L,5,FALSE))","v":""},{"$f":"IF(ISERROR(VLOOKUP($A934,check!$A:$L,6,FALSE))=TRUE,\"\",VLOOKUP($A934,check!$A:$L,6,FALSE))","v":""},{"$f":"IF(ISERROR(VLOOKUP($A934,check!$A:$L,7,FALSE))=TRUE,\"\",VLOOKUP($A934,check!$A:$L,7,FALSE))","v":""},{"$f":"IF(ISERROR(VLOOKUP($A934,check!$A:$L,8,FALSE))=TRUE,\"\",VLOOKUP($A934,check!$A:$L,8,FALSE))","v":""},{"$f":"IF(ISERROR(VLOOKUP($A934,check!$A:$L,9,FALSE))=TRUE,\"\",VLOOKUP($A934,check!$A:$L,9,FALSE))","v":""},{"$f":"IF(ISERROR(VLOOKUP($A934,check!$A:$L,10,FALSE))=TRUE,\"\",VLOOKUP($A934,check!$A:$L,10,FALSE))","v":""},{"$f":"IF(ISERROR(VLOOKUP($A934,check!$A:$L,11,FALSE))=TRUE,\"\",VLOOKUP($A934,check!$A:$L,11,FALSE))","v":""},{"$f":"IF(ISERROR(VLOOKUP($A934,check!$A:$L,12,FALSE))=TRUE,\"\",VLOOKUP($A934,check!$A:$L,12,FALSE))","v":""}]
[935,{"$f":"IF(C935=\"\",\"\",MATCH(A935,check!A:A,0))","v":""},{"$f":"IF(ISERROR(VLOOKUP($A935,check!$A:$L,2,FALSE))=TRUE,\"\",VLOOKUP($A935,check!$A:$L,2,FALSE))","v":""},{"$f":"IF(ISERROR(VLOOKUP($A935,check!$A:$L,3,FALSE))=TRUE,\"\",VLOOKUP($A935,check!$A:$L,3,FALSE))","v":""},{"$f":"IF(ISERROR(VLOOKUP($A935,check!$A:$L,4,FALSE))=TRUE,\"\",VLOOKUP($A935,check!$A:$L,4,FALSE))","v":""},{"$f":"IF(ISERROR(VLOOKUP($A935,check!$A:$L,5,FALSE))=TRUE,\"\",VLOOKUP($A935,check!$A:$L,5,FALSE))","v":""},{"$f":"IF(ISERROR(VLOOKUP($A935,check!$A:$L,6,FALSE))=TRUE,\"\",VLOOKUP($A935,check!$A:$L,6,FALSE))","v":""},{"$f":"IF(ISERROR(VLOOKUP($A935,check!$A:$L,7,FALSE))=TRUE,\"\",VLOOKUP($A935,check!$A:$L,7,FALSE))","v":""},{"$f":"IF(ISERROR(VLOOKUP($A935,check!$A:$L,8,FALSE))=TRUE,\"\",VLOOKUP($A935,check!$A:$L,8,FALSE))","v":""},{"$f":"IF(ISERROR(VLOOKUP($A935,check!$A:$L,9,FALSE))=TRUE,\"\",VLOOKUP($A935,check!$A:$L,9,FALSE))","v":""},{"$f":"IF(ISERROR(VLOOKUP($A935,check!$A:$L,10,FALSE))=TRUE,\"\",VLOOKUP($A935,check!$A:$L,10,FALSE))","v":""},{"$f":"IF(ISERROR(VLOOKUP($A935,check!$A:$L,11,FALSE))=TRUE,\"\",VLOOKUP($A935,check!$A:$L,11,FALSE))","v":""},{"$f":"IF(ISERROR(VLOOKUP($A935,check!$A:$L,12,FALSE))=TRUE,\"\",VLOOKUP($A935,check!$A:$L,12,FALSE))","v":""}]
[936,{"$f":"IF(C936=\"\",\"\",MATCH(A936,check!A:A,0))","v":""},{"$f":"IF(ISERROR(VLOOKUP($A936,check!$A:$L,2,FALSE))=TRUE,\"\",VLOOKUP($A936,check!$A:$L,2,FALSE))","v":""},{"$f":"IF(ISERROR(VLOOKUP($A936,check!$A:$L,3,FALSE))=TRUE,\"\",VLOOKUP($A936,check!$A:$L,3,FALSE))","v":""},{"$f":"IF(ISERROR(VLOOKUP($A936,check!$A:$L,4,FALSE))=TRUE,\"\",VLOOKUP($A936,check!$A:$L,4,FALSE))","v":""},{"$f":"IF(ISERROR(VLOOKUP($A936,check!$A:$L,5,FALSE))=TRUE,\"\",VLOOKUP($A936,check!$A:$L,5,FALSE))","v":""},{"$f":"IF(ISERROR(VLOOKUP($A936,check!$A:$L,6,FALSE))=TRUE,\"\",VLOOKUP($A936,check!$A:$L,6,FALSE))","v":""},{"$f":"IF(ISERROR(VLOOKUP($A936,check!$A:$L,7,FALSE))=TRUE,\"\",VLOOKUP($A936,check!$A:$L,7,FALSE))","v":""},{"$f":"IF(ISERROR(VLOOKUP($A936,check!$A:$L,8,FALSE))=TRUE,\"\",VLOOKUP($A936,check!$A:$L,8,FALSE))","v":""},{"$f":"IF(ISERROR(VLOOKUP($A936,check!$A:$L,9,FALSE))=TRUE,\"\",VLOOKUP($A936,check!$A:$L,9,FALSE))","v":""},{"$f":"IF(ISERROR(VLOOKUP($A936,check!$A:$L,10,FALSE))=TRUE,\"\",VLOOKUP($A936,check!$A:$L,10,FALSE))","v":""},{"$f":"IF(ISERROR(VLOOKUP($A936,check!$A:$L,11,FALSE))=TRUE,\"\",VLOOKUP($A936,check!$A:$L,11,FALSE))","v":""},{"$f":"IF(ISERROR(VLOOKUP($A936,check!$A:$L,12,FALSE))=TRUE,\"\",VLOOKUP($A936,check!$A:$L,12,FALSE))","v":""}]
[937,{"$f":"IF(C937=\"\",\"\",MATCH(A937,check!A:A,0))","v":""},{"$f":"IF(ISERROR(VLOOKUP($A937,check!$A:$L,2,FALSE))=TRUE,\"\",VLOOKUP($A937,check!$A:$L,2,FALSE))","v":""},{"$f":"IF(ISERROR(VLOOKUP($A937,check!$A:$L,3,FALSE))=TRUE,\"\",VLOOKUP($A937,check!$A:$L,3,FALSE))","v":""},{"$f":"IF(ISERROR(VLOOKUP($A937,check!$A:$L,4,FALSE))=TRUE,\"\",VLOOKUP($A937,check!$A:$L,4,FALSE))","v":""},{"$f":"IF(ISERROR(VLOOKUP($A937,check!$A:$L,5,FALSE))=TRUE,\"\",VLOOKUP($A937,check!$A:$L,5,FALSE))","v":""},{"$f":"IF(ISERROR(VLOOKUP($A937,check!$A:$L,6,FALSE))=TRUE,\"\",VLOOKUP($A937,check!$A:$L,6,FALSE))","v":""},{"$f":"IF(ISERROR(VLOOKUP($A937,check!$A:$L,7,FALSE))=TRUE,\"\",VLOOKUP($A937,check!$A:$L,7,FALSE))","v":""},{"$f":"IF(ISERROR(VLOOKUP($A937,check!$A:$L,8,FALSE))=TRUE,\"\",VLOOKUP($A937,check!$A:$L,8,FALSE))","v":""},{"$f":"IF(ISERROR(VLOOKUP($A937,check!$A:$L,9,FALSE))=TRUE,\"\",VLOOKUP($A937,check!$A:$L,9,FALSE))","v":""},{"$f":"IF(ISERROR(VLOOKUP($A937,check!$A:$L,10,FALSE))=TRUE,\"\",VLOOKUP($A937,check!$A:$L,10,FALSE))","v":""},{"$f":"IF(ISERROR(VLOOKUP($A937,check!$A:$L,11,FALSE))=TRUE,\"\",VLOOKUP($A937,check!$A:$L,11,FALSE))","v":""},{"$f":"IF(ISERROR(VLOOKUP($A937,check!$A:$L,12,FALSE))=TRUE,\"\",VLOOKUP($A937,check!$A:$L,12,FALSE))","v":""}]
[938,{"$f":"IF(C938=\"\",\"\",MATCH(A938,check!A:A,0))","v":""},{"$f":"IF(ISERROR(VLOOKUP($A938,check!$A:$L,2,FALSE))=TRUE,\"\",VLOOKUP($A938,check!$A:$L,2,FALSE))","v":""},{"$f":"IF(ISERROR(VLOOKUP($A938,check!$A:$L,3,FALSE))=TRUE,\"\",VLOOKUP($A938,check!$A:$L,3,FALSE))","v":""},{"$f":"IF(ISERROR(VLOOKUP($A938,check!$A:$L,4,FALSE))=TRUE,\"\",VLOOKUP($A938,check!$A:$L,4,FALSE))","v":""},{"$f":"IF(ISERROR(VLOOKUP($A938,check!$A:$L,5,FALSE))=TRUE,\"\",VLOOKUP($A938,check!$A:$L,5,FALSE))","v":""},{"$f":"IF(ISERROR(VLOOKUP($A938,check!$A:$L,6,FALSE))=TRUE,\"\",VLOOKUP($A938,check!$A:$L,6,FALSE))","v":""},{"$f":"IF(ISERROR(VLOOKUP($A938,check!$A:$L,7,FALSE))=TRUE,\"\",VLOOKUP($A938,check!$A:$L,7,FALSE))","v":""},{"$f":"IF(ISERROR(VLOOKUP($A938,check!$A:$L,8,FALSE))=TRUE,\"\",VLOOKUP($A938,check!$A:$L,8,FALSE))","v":""},{"$f":"IF(ISERROR(VLOOKUP($A938,check!$A:$L,9,FALSE))=TRUE,\"\",VLOOKUP($A938,check!$A:$L,9,FALSE))","v":""},{"$f":"IF(ISERROR(VLOOKUP($A938,check!$A:$L,10,FALSE))=TRUE,\"\",VLOOKUP($A938,check!$A:$L,10,FALSE))","v":""},{"$f":"IF(ISERROR(VLOOKUP($A938,check!$A:$L,11,FALSE))=TRUE,\"\",VLOOKUP($A938,check!$A:$L,11,FALSE))","v":""},{"$f":"IF(ISERROR(VLOOKUP($A938,check!$A:$L,12,FALSE))=TRUE,\"\",VLOOKUP($A938,check!$A:$L,12,FALSE))","v":""}]
[939,{"$f":"IF(C939=\"\",\"\",MATCH(A939,check!A:A,0))","v":""},{"$f":"IF(ISERROR(VLOOKUP($A939,check!$A:$L,2,FALSE))=TRUE,\"\",VLOOKUP($A939,check!$A:$L,2,FALSE))","v":""},{"$f":"IF(ISERROR(VLOOKUP($A939,check!$A:$L,3,FALSE))=TRUE,\"\",VLOOKUP($A939,check!$A:$L,3,FALSE))","v":""},{"$f":"IF(ISERROR(VLOOKUP($A939,check!$A:$L,4,FALSE))=TRUE,\"\",VLOOKUP($A939,check!$A:$L,4,FALSE))","v":""},{"$f":"IF(ISERROR(VLOOKUP($A939,check!$A:$L,5,FALSE))=TRUE,\"\",VLOOKUP($A939,check!$A:$L,5,FALSE))","v":""},{"$f":"IF(ISERROR(VLOOKUP($A939,check!$A:$L,6,FALSE))=TRUE,\"\",VLOOKUP($A939,check!$A:$L,6,FALSE))","v":""},{"$f":"IF(ISERROR(VLOOKUP($A939,check!$A:$L,7,FALSE))=TRUE,\"\",VLOOKUP($A939,check!$A:$L,7,FALSE))","v":""},{"$f":"IF(ISERROR(VLOOKUP($A939,check!$A:$L,8,FALSE))=TRUE,\"\",VLOOKUP($A939,check!$A:$L,8,FALSE))","v":""},{"$f":"IF(ISERROR(VLOOKUP($A939,check!$A:$L,9,FALSE))=TRUE,\"\",VLOOKUP($A939,check!$A:$L,9,FALSE))","v":""},{"$f":"IF(ISERROR(VLOOKUP($A939,check!$A:$L,10,FALSE))=TRUE,\"\",VLOOKUP($A939,check!$A:$L,10,FALSE))","v":""},{"$f":"IF(ISERROR(VLOOKUP($A939,check!$A:$L,11,FALSE))=TRUE,\"\",VLOOKUP($A939,check!$A:$L,11,FALSE))","v":""},{"$f":"IF(ISERROR(VLOOKUP($A939,check!$A:$L,12,FALSE))=TRUE,\"\",VLOOKUP($A939,check!$A:$L,12,FALSE))","v":""}]
[940,{"$f":"IF(C940=\"\",\"\",MATCH(A940,check!A:A,0))","v":""},{"$f":"IF(ISERROR(VLOOKUP($A940,check!$A:$L,2,FALSE))=TRUE,\"\",VLOOKUP($A940,check!$A:$L,2,FALSE))","v":""},{"$f":"IF(ISERROR(VLOOKUP($A940,check!$A:$L,3,FALSE))=TRUE,\"\",VLOOKUP($A940,check!$A:$L,3,FALSE))","v":""},{"$f":"IF(ISERROR(VLOOKUP($A940,check!$A:$L,4,FALSE))=TRUE,\"\",VLOOKUP($A940,check!$A:$L,4,FALSE))","v":""},{"$f":"IF(ISERROR(VLOOKUP($A940,check!$A:$L,5,FALSE))=TRUE,\"\",VLOOKUP($A940,check!$A:$L,5,FALSE))","v":""},{"$f":"IF(ISERROR(VLOOKUP($A940,check!$A:$L,6,FALSE))=TRUE,\"\",VLOOKUP($A940,check!$A:$L,6,FALSE))","v":""},{"$f":"IF(ISERROR(VLOOKUP($A940,check!$A:$L,7,FALSE))=TRUE,\"\",VLOOKUP($A940,check!$A:$L,7,FALSE))","v":""},{"$f":"IF(ISERROR(VLOOKUP($A940,check!$A:$L,8,FALSE))=TRUE,\"\",VLOOKUP($A940,check!$A:$L,8,FALSE))","v":""},{"$f":"IF(ISERROR(VLOOKUP($A940,check!$A:$L,9,FALSE))=TRUE,\"\",VLOOKUP($A940,check!$A:$L,9,FALSE))","v":""},{"$f":"IF(ISERROR(VLOOKUP($A940,check!$A:$L,10,FALSE))=TRUE,\"\",VLOOKUP($A940,check!$A:$L,10,FALSE))","v":""},{"$f":"IF(ISERROR(VLOOKUP($A940,check!$A:$L,11,FALSE))=TRUE,\"\",VLOOKUP($A940,check!$A:$L,11,FALSE))","v":""},{"$f":"IF(ISERROR(VLOOKUP($A940,check!$A:$L,12,FALSE))=TRUE,\"\",VLOOKUP($A940,check!$A:$L,12,FALSE))","v":""}]
[941,{"$f":"IF(C941=\"\",\"\",MATCH(A941,check!A:A,0))","v":""},{"$f":"IF(ISERROR(VLOOKUP($A941,check!$A:$L,2,FALSE))=TRUE,\"\",VLOOKUP($A941,check!$A:$L,2,FALSE))","v":""},{"$f":"IF(ISERROR(VLOOKUP($A941,check!$A:$L,3,FALSE))=TRUE,\"\",VLOOKUP($A941,check!$A:$L,3,FALSE))","v":""},{"$f":"IF(ISERROR(VLOOKUP($A941,check!$A:$L,4,FALSE))=TRUE,\"\",VLOOKUP($A941,check!$A:$L,4,FALSE))","v":""},{"$f":"IF(ISERROR(VLOOKUP($A941,check!$A:$L,5,FALSE))=TRUE,\"\",VLOOKUP($A941,check!$A:$L,5,FALSE))","v":""},{"$f":"IF(ISERROR(VLOOKUP($A941,check!$A:$L,6,FALSE))=TRUE,\"\",VLOOKUP($A941,check!$A:$L,6,FALSE))","v":""},{"$f":"IF(ISERROR(VLOOKUP($A941,check!$A:$L,7,FALSE))=TRUE,\"\",VLOOKUP($A941,check!$A:$L,7,FALSE))","v":""},{"$f":"IF(ISERROR(VLOOKUP($A941,check!$A:$L,8,FALSE))=TRUE,\"\",VLOOKUP($A941,check!$A:$L,8,FALSE))","v":""},{"$f":"IF(ISERROR(VLOOKUP($A941,check!$A:$L,9,FALSE))=TRUE,\"\",VLOOKUP($A941,check!$A:$L,9,FALSE))","v":""},{"$f":"IF(ISERROR(VLOOKUP($A941,check!$A:$L,10,FALSE))=TRUE,\"\",VLOOKUP($A941,check!$A:$L,10,FALSE))","v":""},{"$f":"IF(ISERROR(VLOOKUP($A941,check!$A:$L,11,FALSE))=TRUE,\"\",VLOOKUP($A941,check!$A:$L,11,FALSE))","v":""},{"$f":"IF(ISERROR(VLOOKUP($A941,check!$A:$L,12,FALSE))=TRUE,\"\",VLOOKUP($A941,check!$A:$L,12,FALSE))","v":""}]
[942,{"$f":"IF(C942=\"\",\"\",MATCH(A942,check!A:A,0))","v":""},{"$f":"IF(ISERROR(VLOOKUP($A942,check!$A:$L,2,FALSE))=TRUE,\"\",VLOOKUP($A942,check!$A:$L,2,FALSE))","v":""},{"$f":"IF(ISERROR(VLOOKUP($A942,check!$A:$L,3,FALSE))=TRUE,\"\",VLOOKUP($A942,check!$A:$L,3,FALSE))","v":""},{"$f":"IF(ISERROR(VLOOKUP($A942,check!$A:$L,4,FALSE))=TRUE,\"\",VLOOKUP($A942,check!$A:$L,4,FALSE))","v":""},{"$f":"IF(ISERROR(VLOOKUP($A942,check!$A:$L,5,FALSE))=TRUE,\"\",VLOOKUP($A942,check!$A:$L,5,FALSE))","v":""},{"$f":"IF(ISERROR(VLOOKUP($A942,check!$A:$L,6,FALSE))=TRUE,\"\",VLOOKUP($A942,check!$A:$L,6,FALSE))","v":""},{"$f":"IF(ISERROR(VLOOKUP($A942,check!$A:$L,7,FALSE))=TRUE,\"\",VLOOKUP($A942,check!$A:$L,7,FALSE))","v":""},{"$f":"IF(ISERROR(VLOOKUP($A942,check!$A:$L,8,FALSE))=TRUE,\"\",VLOOKUP($A942,check!$A:$L,8,FALSE))","v":""},{"$f":"IF(ISERROR(VLOOKUP($A942,check!$A:$L,9,FALSE))=TRUE,\"\",VLOOKUP($A942,check!$A:$L,9,FALSE))","v":""},{"$f":"IF(ISERROR(VLOOKUP($A942,check!$A:$L,10,FALSE))=TRUE,\"\",VLOOKUP($A942,check!$A:$L,10,FALSE))","v":""},{"$f":"IF(ISERROR(VLOOKUP($A942,check!$A:$L,11,FALSE))=TRUE,\"\",VLOOKUP($A942,check!$A:$L,11,FALSE))","v":""},{"$f":"IF(ISERROR(VLOOKUP($A942,check!$A:$L,12,FALSE))=TRUE,\"\",VLOOKUP($A942,check!$A:$L,12,FALSE))","v":""}]
[943,{"$f":"IF(C943=\"\",\"\",MATCH(A943,check!A:A,0))","v":""},{"$f":"IF(ISERROR(VLOOKUP($A943,check!$A:$L,2,FALSE))=TRUE,\"\",VLOOKUP($A943,check!$A:$L,2,FALSE))","v":""},{"$f":"IF(ISERROR(VLOOKUP($A943,check!$A:$L,3,FALSE))=TRUE,\"\",VLOOKUP($A943,check!$A:$L,3,FALSE))","v":""},{"$f":"IF(ISERROR(VLOOKUP($A943,check!$A:$L,4,FALSE))=TRUE,\"\",VLOOKUP($A943,check!$A:$L,4,FALSE))","v":""},{"$f":"IF(ISERROR(VLOOKUP($A943,check!$A:$L,5,FALSE))=TRUE,\"\",VLOOKUP($A943,check!$A:$L,5,FALSE))","v":""},{"$f":"IF(ISERROR(VLOOKUP($A943,check!$A:$L,6,FALSE))=TRUE,\"\",VLOOKUP($A943,check!$A:$L,6,FALSE))","v":""},{"$f":"IF(ISERROR(VLOOKUP($A943,check!$A:$L,7,FALSE))=TRUE,\"\",VLOOKUP($A943,check!$A:$L,7,FALSE))","v":""},{"$f":"IF(ISERROR(VLOOKUP($A943,check!$A:$L,8,FALSE))=TRUE,\"\",VLOOKUP($A943,check!$A:$L,8,FALSE))","v":""},{"$f":"IF(ISERROR(VLOOKUP($A943,check!$A:$L,9,FALSE))=TRUE,\"\",VLOOKUP($A943,check!$A:$L,9,FALSE))","v":""},{"$f":"IF(ISERROR(VLOOKUP($A943,check!$A:$L,10,FALSE))=TRUE,\"\",VLOOKUP($A943,check!$A:$L,10,FALSE))","v":""},{"$f":"IF(ISERROR(VLOOKUP($A943,check!$A:$L,11,FALSE))=TRUE,\"\",VLOOKUP($A943,check!$A:$L,11,FALSE))","v":""},{"$f":"IF(ISERROR(VLOOKUP($A943,check!$A:$L,12,FALSE))=TRUE,\"\",VLOOKUP($A943,check!$A:$L,12,FALSE))","v":""}]
[944,{"$f":"IF(C944=\"\",\"\",MATCH(A944,check!A:A,0))","v":""},{"$f":"IF(ISERROR(VLOOKUP($A944,check!$A:$L,2,FALSE))=TRUE,\"\",VLOOKUP($A944,check!$A:$L,2,FALSE))","v":""},{"$f":"IF(ISERROR(VLOOKUP($A944,check!$A:$L,3,FALSE))=TRUE,\"\",VLOOKUP($A944,check!$A:$L,3,FALSE))","v":""},{"$f":"IF(ISERROR(VLOOKUP($A944,check!$A:$L,4,FALSE))=TRUE,\"\",VLOOKUP($A944,check!$A:$L,4,FALSE))","v":""},{"$f":"IF(ISERROR(VLOOKUP($A944,check!$A:$L,5,FALSE))=TRUE,\"\",VLOOKUP($A944,check!$A:$L,5,FALSE))","v":""},{"$f":"IF(ISERROR(VLOOKUP($A944,check!$A:$L,6,FALSE))=TRUE,\"\",VLOOKUP($A944,check!$A:$L,6,FALSE))","v":""},{"$f":"IF(ISERROR(VLOOKUP($A944,check!$A:$L,7,FALSE))=TRUE,\"\",VLOOKUP($A944,check!$A:$L,7,FALSE))","v":""},{"$f":"IF(ISERROR(VLOOKUP($A944,check!$A:$L,8,FALSE))=TRUE,\"\",VLOOKUP($A944,check!$A:$L,8,FALSE))","v":""},{"$f":"IF(ISERROR(VLOOKUP($A944,check!$A:$L,9,FALSE))=TRUE,\"\",VLOOKUP($A944,check!$A:$L,9,FALSE))","v":""},{"$f":"IF(ISERROR(VLOOKUP($A944,check!$A:$L,10,FALSE))=TRUE,\"\",VLOOKUP($A944,check!$A:$L,10,FALSE))","v":""},{"$f":"IF(ISERROR(VLOOKUP($A944,check!$A:$L,11,FALSE))=TRUE,\"\",VLOOKUP($A944,check!$A:$L,11,FALSE))","v":""},{"$f":"IF(ISERROR(VLOOKUP($A944,check!$A:$L,12,FALSE))=TRUE,\"\",VLOOKUP($A944,check!$A:$L,12,FALSE))","v":""}]
[945,{"$f":"IF(C945=\"\",\"\",MATCH(A945,check!A:A,0))","v":""},{"$f":"IF(ISERROR(VLOOKUP($A945,check!$A:$L,2,FALSE))=TRUE,\"\",VLOOKUP($A945,check!$A:$L,2,FALSE))","v":""},{"$f":"IF(ISERROR(VLOOKUP($A945,check!$A:$L,3,FALSE))=TRUE,\"\",VLOOKUP($A945,check!$A:$L,3,FALSE))","v":""},{"$f":"IF(ISERROR(VLOOKUP($A945,check!$A:$L,4,FALSE))=TRUE,\"\",VLOOKUP($A945,check!$A:$L,4,FALSE))","v":""},{"$f":"IF(ISERROR(VLOOKUP($A945,check!$A:$L,5,FALSE))=TRUE,\"\",VLOOKUP($A945,check!$A:$L,5,FALSE))","v":""},{"$f":"IF(ISERROR(VLOOKUP($A945,check!$A:$L,6,FALSE))=TRUE,\"\",VLOOKUP($A945,check!$A:$L,6,FALSE))","v":""},{"$f":"IF(ISERROR(VLOOKUP($A945,check!$A:$L,7,FALSE))=TRUE,\"\",VLOOKUP($A945,check!$A:$L,7,FALSE))","v":""},{"$f":"IF(ISERROR(VLOOKUP($A945,check!$A:$L,8,FALSE))=TRUE,\"\",VLOOKUP($A945,check!$A:$L,8,FALSE))","v":""},{"$f":"IF(ISERROR(VLOOKUP($A945,check!$A:$L,9,FALSE))=TRUE,\"\",VLOOKUP($A945,check!$A:$L,9,FALSE))","v":""},{"$f":"IF(ISERROR(VLOOKUP($A945,check!$A:$L,10,FALSE))=TRUE,\"\",VLOOKUP($A945,check!$A:$L,10,FALSE))","v":""},{"$f":"IF(ISERROR(VLOOKUP($A945,check!$A:$L,11,FALSE))=TRUE,\"\",VLOOKUP($A945,check!$A:$L,11,FALSE))","v":""},{"$f":"IF(ISERROR(VLOOKUP($A945,check!$A:$L,12,FALSE))=TRUE,\"\",VLOOKUP($A945,check!$A:$L,12,FALSE))","v":""}]
[946,{"$f":"IF(C946=\"\",\"\",MATCH(A946,check!A:A,0))","v":""},{"$f":"IF(ISERROR(VLOOKUP($A946,check!$A:$L,2,FALSE))=TRUE,\"\",VLOOKUP($A946,check!$A:$L,2,FALSE))","v":""},{"$f":"IF(ISERROR(VLOOKUP($A946,check!$A:$L,3,FALSE))=TRUE,\"\",VLOOKUP($A946,check!$A:$L,3,FALSE))","v":""},{"$f":"IF(ISERROR(VLOOKUP($A946,check!$A:$L,4,FALSE))=TRUE,\"\",VLOOKUP($A946,check!$A:$L,4,FALSE))","v":""},{"$f":"IF(ISERROR(VLOOKUP($A946,check!$A:$L,5,FALSE))=TRUE,\"\",VLOOKUP($A946,check!$A:$L,5,FALSE))","v":""},{"$f":"IF(ISERROR(VLOOKUP($A946,check!$A:$L,6,FALSE))=TRUE,\"\",VLOOKUP($A946,check!$A:$L,6,FALSE))","v":""},{"$f":"IF(ISERROR(VLOOKUP($A946,check!$A:$L,7,FALSE))=TRUE,\"\",VLOOKUP($A946,check!$A:$L,7,FALSE))","v":""},{"$f":"IF(ISERROR(VLOOKUP($A946,check!$A:$L,8,FALSE))=TRUE,\"\",VLOOKUP($A946,check!$A:$L,8,FALSE))","v":""},{"$f":"IF(ISERROR(VLOOKUP($A946,check!$A:$L,9,FALSE))=TRUE,\"\",VLOOKUP($A946,check!$A:$L,9,FALSE))","v":""},{"$f":"IF(ISERROR(VLOOKUP($A946,check!$A:$L,10,FALSE))=TRUE,\"\",VLOOKUP($A946,check!$A:$L,10,FALSE))","v":""},{"$f":"IF(ISERROR(VLOOKUP($A946,check!$A:$L,11,FALSE))=TRUE,\"\",VLOOKUP($A946,check!$A:$L,11,FALSE))","v":""},{"$f":"IF(ISERROR(VLOOKUP($A946,check!$A:$L,12,FALSE))=TRUE,\"\",VLOOKUP($A946,check!$A:$L,12,FALSE))","v":""}]
[947,{"$f":"IF(C947=\"\",\"\",MATCH(A947,check!A:A,0))","v":""},{"$f":"IF(ISERROR(VLOOKUP($A947,check!$A:$L,2,FALSE))=TRUE,\"\",VLOOKUP($A947,check!$A:$L,2,FALSE))","v":""},{"$f":"IF(ISERROR(VLOOKUP($A947,check!$A:$L,3,FALSE))=TRUE,\"\",VLOOKUP($A947,check!$A:$L,3,FALSE))","v":""},{"$f":"IF(ISERROR(VLOOKUP($A947,check!$A:$L,4,FALSE))=TRUE,\"\",VLOOKUP($A947,check!$A:$L,4,FALSE))","v":""},{"$f":"IF(ISERROR(VLOOKUP($A947,check!$A:$L,5,FALSE))=TRUE,\"\",VLOOKUP($A947,check!$A:$L,5,FALSE))","v":""},{"$f":"IF(ISERROR(VLOOKUP($A947,check!$A:$L,6,FALSE))=TRUE,\"\",VLOOKUP($A947,check!$A:$L,6,FALSE))","v":""},{"$f":"IF(ISERROR(VLOOKUP($A947,check!$A:$L,7,FALSE))=TRUE,\"\",VLOOKUP($A947,check!$A:$L,7,FALSE))","v":""},{"$f":"IF(ISERROR(VLOOKUP($A947,check!$A:$L,8,FALSE))=TRUE,\"\",VLOOKUP($A947,check!$A:$L,8,FALSE))","v":""},{"$f":"IF(ISERROR(VLOOKUP($A947,check!$A:$L,9,FALSE))=TRUE,\"\",VLOOKUP($A947,check!$A:$L,9,FALSE))","v":""},{"$f":"IF(ISERROR(VLOOKUP($A947,check!$A:$L,10,FALSE))=TRUE,\"\",VLOOKUP($A947,check!$A:$L,10,FALSE))","v":""},{"$f":"IF(ISERROR(VLOOKUP($A947,check!$A:$L,11,FALSE))=TRUE,\"\",VLOOKUP($A947,check!$A:$L,11,FALSE))","v":""},{"$f":"IF(ISERROR(VLOOKUP($A947,check!$A:$L,12,FALSE))=TRUE,\"\",VLOOKUP($A947,check!$A:$L,12,FALSE))","v":""}]
[948,{"$f":"IF(C948=\"\",\"\",MATCH(A948,check!A:A,0))","v":""},{"$f":"IF(ISERROR(VLOOKUP($A948,check!$A:$L,2,FALSE))=TRUE,\"\",VLOOKUP($A948,check!$A:$L,2,FALSE))","v":""},{"$f":"IF(ISERROR(VLOOKUP($A948,check!$A:$L,3,FALSE))=TRUE,\"\",VLOOKUP($A948,check!$A:$L,3,FALSE))","v":""},{"$f":"IF(ISERROR(VLOOKUP($A948,check!$A:$L,4,FALSE))=TRUE,\"\",VLOOKUP($A948,check!$A:$L,4,FALSE))","v":""},{"$f":"IF(ISERROR(VLOOKUP($A948,check!$A:$L,5,FALSE))=TRUE,\"\",VLOOKUP($A948,check!$A:$L,5,FALSE))","v":""},{"$f":"IF(ISERROR(VLOOKUP($A948,check!$A:$L,6,FALSE))=TRUE,\"\",VLOOKUP($A948,check!$A:$L,6,FALSE))","v":""},{"$f":"IF(ISERROR(VLOOKUP($A948,check!$A:$L,7,FALSE))=TRUE,\"\",VLOOKUP($A948,check!$A:$L,7,FALSE))","v":""},{"$f":"IF(ISERROR(VLOOKUP($A948,check!$A:$L,8,FALSE))=TRUE,\"\",VLOOKUP($A948,check!$A:$L,8,FALSE))","v":""},{"$f":"IF(ISERROR(VLOOKUP($A948,check!$A:$L,9,FALSE))=TRUE,\"\",VLOOKUP($A948,check!$A:$L,9,FALSE))","v":""},{"$f":"IF(ISERROR(VLOOKUP($A948,check!$A:$L,10,FALSE))=TRUE,\"\",VLOOKUP($A948,check!$A:$L,10,FALSE))","v":""},{"$f":"IF(ISERROR(VLOOKUP($A948,check!$A:$L,11,FALSE))=TRUE,\"\",VLOOKUP($A948,check!$A:$L,11,FALSE))","v":""},{"$f":"IF(ISERROR(VLOOKUP($A948,check!$A:$L,12,FALSE))=TRUE,\"\",VLOOKUP($A948,check!$A:$L,12,FALSE))","v":""}]
[949,{"$f":"IF(C949=\"\",\"\",MATCH(A949,check!A:A,0))","v":""},{"$f":"IF(ISERROR(VLOOKUP($A949,check!$A:$L,2,FALSE))=TRUE,\"\",VLOOKUP($A949,check!$A:$L,2,FALSE))","v":""},{"$f":"IF(ISERROR(VLOOKUP($A949,check!$A:$L,3,FALSE))=TRUE,\"\",VLOOKUP($A949,check!$A:$L,3,FALSE))","v":""},{"$f":"IF(ISERROR(VLOOKUP($A949,check!$A:$L,4,FALSE))=TRUE,\"\",VLOOKUP($A949,check!$A:$L,4,FALSE))","v":""},{"$f":"IF(ISERROR(VLOOKUP($A949,check!$A:$L,5,FALSE))=TRUE,\"\",VLOOKUP($A949,check!$A:$L,5,FALSE))","v":""},{"$f":"IF(ISERROR(VLOOKUP($A949,check!$A:$L,6,FALSE))=TRUE,\"\",VLOOKUP($A949,check!$A:$L,6,FALSE))","v":""},{"$f":"IF(ISERROR(VLOOKUP($A949,check!$A:$L,7,FALSE))=TRUE,\"\",VLOOKUP($A949,check!$A:$L,7,FALSE))","v":""},{"$f":"IF(ISERROR(VLOOKUP($A949,check!$A:$L,8,FALSE))=TRUE,\"\",VLOOKUP($A949,check!$A:$L,8,FALSE))","v":""},{"$f":"IF(ISERROR(VLOOKUP($A949,check!$A:$L,9,FALSE))=TRUE,\"\",VLOOKUP($A949,check!$A:$L,9,FALSE))","v":""},{"$f":"IF(ISERROR(VLOOKUP($A949,check!$A:$L,10,FALSE))=TRUE,\"\",VLOOKUP($A949,check!$A:$L,10,FALSE))","v":""},{"$f":"IF(ISERROR(VLOOKUP($A949,check!$A:$L,11,FALSE))=TRUE,\"\",VLOOKUP($A949,check!$A:$L,11,FALSE))","v":""},{"$f":"IF(ISERROR(VLOOKUP($A949,check!$A:$L,12,FALSE))=TRUE,\"\",VLOOKUP($A949,check!$A:$L,12,FALSE))","v":""}]
[950,{"$f":"IF(C950=\"\",\"\",MATCH(A950,check!A:A,0))","v":""},{"$f":"IF(ISERROR(VLOOKUP($A950,check!$A:$L,2,FALSE))=TRUE,\"\",VLOOKUP($A950,check!$A:$L,2,FALSE))","v":""},{"$f":"IF(ISERROR(VLOOKUP($A950,check!$A:$L,3,FALSE))=TRUE,\"\",VLOOKUP($A950,check!$A:$L,3,FALSE))","v":""},{"$f":"IF(ISERROR(VLOOKUP($A950,check!$A:$L,4,FALSE))=TRUE,\"\",VLOOKUP($A950,check!$A:$L,4,FALSE))","v":""},{"$f":"IF(ISERROR(VLOOKUP($A950,check!$A:$L,5,FALSE))=TRUE,\"\",VLOOKUP($A950,check!$A:$L,5,FALSE))","v":""},{"$f":"IF(ISERROR(VLOOKUP($A950,check!$A:$L,6,FALSE))=TRUE,\"\",VLOOKUP($A950,check!$A:$L,6,FALSE))","v":""},{"$f":"IF(ISERROR(VLOOKUP($A950,check!$A:$L,7,FALSE))=TRUE,\"\",VLOOKUP($A950,check!$A:$L,7,FALSE))","v":""},{"$f":"IF(ISERROR(VLOOKUP($A950,check!$A:$L,8,FALSE))=TRUE,\"\",VLOOKUP($A950,check!$A:$L,8,FALSE))","v":""},{"$f":"IF(ISERROR(VLOOKUP($A950,check!$A:$L,9,FALSE))=TRUE,\"\",VLOOKUP($A950,check!$A:$L,9,FALSE))","v":""},{"$f":"IF(ISERROR(VLOOKUP($A950,check!$A:$L,10,FALSE))=TRUE,\"\",VLOOKUP($A950,check!$A:$L,10,FALSE))","v":""},{"$f":"IF(ISERROR(VLOOKUP($A950,check!$A:$L,11,FALSE))=TRUE,\"\",VLOOKUP($A950,check!$A:$L,11,FALSE))","v":""},{"$f":"IF(ISERROR(VLOOKUP($A950,check!$A:$L,12,FALSE))=TRUE,\"\",VLOOKUP($A950,check!$A:$L,12,FALSE))","v":""}]
[951,{"$f":"IF(C951=\"\",\"\",MATCH(A951,check!A:A,0))","v":""},{"$f":"IF(ISERROR(VLOOKUP($A951,check!$A:$L,2,FALSE))=TRUE,\"\",VLOOKUP($A951,check!$A:$L,2,FALSE))","v":""},{"$f":"IF(ISERROR(VLOOKUP($A951,check!$A:$L,3,FALSE))=TRUE,\"\",VLOOKUP($A951,check!$A:$L,3,FALSE))","v":""},{"$f":"IF(ISERROR(VLOOKUP($A951,check!$A:$L,4,FALSE))=TRUE,\"\",VLOOKUP($A951,check!$A:$L,4,FALSE))","v":""},{"$f":"IF(ISERROR(VLOOKUP($A951,check!$A:$L,5,FALSE))=TRUE,\"\",VLOOKUP($A951,check!$A:$L,5,FALSE))","v":""},{"$f":"IF(ISERROR(VLOOKUP($A951,check!$A:$L,6,FALSE))=TRUE,\"\",VLOOKUP($A951,check!$A:$L,6,FALSE))","v":""},{"$f":"IF(ISERROR(VLOOKUP($A951,check!$A:$L,7,FALSE))=TRUE,\"\",VLOOKUP($A951,check!$A:$L,7,FALSE))","v":""},{"$f":"IF(ISERROR(VLOOKUP($A951,check!$A:$L,8,FALSE))=TRUE,\"\",VLOOKUP($A951,check!$A:$L,8,FALSE))","v":""},{"$f":"IF(ISERROR(VLOOKUP($A951,check!$A:$L,9,FALSE))=TRUE,\"\",VLOOKUP($A951,check!$A:$L,9,FALSE))","v":""},{"$f":"IF(ISERROR(VLOOKUP($A951,check!$A:$L,10,FALSE))=TRUE,\"\",VLOOKUP($A951,check!$A:$L,10,FALSE))","v":""},{"$f":"IF(ISERROR(VLOOKUP($A951,check!$A:$L,11,FALSE))=TRUE,\"\",VLOOKUP($A951,check!$A:$L,11,FALSE))","v":""},{"$f":"IF(ISERROR(VLOOKUP($A951,check!$A:$L,12,FALSE))=TRUE,\"\",VLOOKUP($A951,check!$A:$L,12,FALSE))","v":""}]
[952,{"$f":"IF(C952=\"\",\"\",MATCH(A952,check!A:A,0))","v":""},{"$f":"IF(ISERROR(VLOOKUP($A952,check!$A:$L,2,FALSE))=TRUE,\"\",VLOOKUP($A952,check!$A:$L,2,FALSE))","v":""},{"$f":"IF(ISERROR(VLOOKUP($A952,check!$A:$L,3,FALSE))=TRUE,\"\",VLOOKUP($A952,check!$A:$L,3,FALSE))","v":""},{"$f":"IF(ISERROR(VLOOKUP($A952,check!$A:$L,4,FALSE))=TRUE,\"\",VLOOKUP($A952,check!$A:$L,4,FALSE))","v":""},{"$f":"IF(ISERROR(VLOOKUP($A952,check!$A:$L,5,FALSE))=TRUE,\"\",VLOOKUP($A952,check!$A:$L,5,FALSE))","v":""},{"$f":"IF(ISERROR(VLOOKUP($A952,check!$A:$L,6,FALSE))=TRUE,\"\",VLOOKUP($A952,check!$A:$L,6,FALSE))","v":""},{"$f":"IF(ISERROR(VLOOKUP($A952,check!$A:$L,7,FALSE))=TRUE,\"\",VLOOKUP($A952,check!$A:$L,7,FALSE))","v":""},{"$f":"IF(ISERROR(VLOOKUP($A952,check!$A:$L,8,FALSE))=TRUE,\"\",VLOOKUP($A952,check!$A:$L,8,FALSE))","v":""},{"$f":"IF(ISERROR(VLOOKUP($A952,check!$A:$L,9,FALSE))=TRUE,\"\",VLOOKUP($A952,check!$A:$L,9,FALSE))","v":""},{"$f":"IF(ISERROR(VLOOKUP($A952,check!$A:$L,10,FALSE))=TRUE,\"\",VLOOKUP($A952,check!$A:$L,10,FALSE))","v":""},{"$f":"IF(ISERROR(VLOOKUP($A952,check!$A:$L,11,FALSE))=TRUE,\"\",VLOOKUP($A952,check!$A:$L,11,FALSE))","v":""},{"$f":"IF(ISERROR(VLOOKUP($A952,check!$A:$L,12,FALSE))=TRUE,\"\",VLOOKUP($A952,check!$A:$L,12,FALSE))","v":""}]
[953,{"$f":"IF(C953=\"\",\"\",MATCH(A953,check!A:A,0))","v":""},{"$f":"IF(ISERROR(VLOOKUP($A953,check!$A:$L,2,FALSE))=TRUE,\"\",VLOOKUP($A953,check!$A:$L,2,FALSE))","v":""},{"$f":"IF(ISERROR(VLOOKUP($A953,check!$A:$L,3,FALSE))=TRUE,\"\",VLOOKUP($A953,check!$A:$L,3,FALSE))","v":""},{"$f":"IF(ISERROR(VLOOKUP($A953,check!$A:$L,4,FALSE))=TRUE,\"\",VLOOKUP($A953,check!$A:$L,4,FALSE))","v":""},{"$f":"IF(ISERROR(VLOOKUP($A953,check!$A:$L,5,FALSE))=TRUE,\"\",VLOOKUP($A953,check!$A:$L,5,FALSE))","v":""},{"$f":"IF(ISERROR(VLOOKUP($A953,check!$A:$L,6,FALSE))=TRUE,\"\",VLOOKUP($A953,check!$A:$L,6,FALSE))","v":""},{"$f":"IF(ISERROR(VLOOKUP($A953,check!$A:$L,7,FALSE))=TRUE,\"\",VLOOKUP($A953,check!$A:$L,7,FALSE))","v":""},{"$f":"IF(ISERROR(VLOOKUP($A953,check!$A:$L,8,FALSE))=TRUE,\"\",VLOOKUP($A953,check!$A:$L,8,FALSE))","v":""},{"$f":"IF(ISERROR(VLOOKUP($A953,check!$A:$L,9,FALSE))=TRUE,\"\",VLOOKUP($A953,check!$A:$L,9,FALSE))","v":""},{"$f":"IF(ISERROR(VLOOKUP($A953,check!$A:$L,10,FALSE))=TRUE,\"\",VLOOKUP($A953,check!$A:$L,10,FALSE))","v":""},{"$f":"IF(ISERROR(VLOOKUP($A953,check!$A:$L,11,FALSE))=TRUE,\"\",VLOOKUP($A953,check!$A:$L,11,FALSE))","v":""},{"$f":"IF(ISERROR(VLOOKUP($A953,check!$A:$L,12,FALSE))=TRUE,\"\",VLOOKUP($A953,check!$A:$L,12,FALSE))","v":""}]
[954,{"$f":"IF(C954=\"\",\"\",MATCH(A954,check!A:A,0))","v":""},{"$f":"IF(ISERROR(VLOOKUP($A954,check!$A:$L,2,FALSE))=TRUE,\"\",VLOOKUP($A954,check!$A:$L,2,FALSE))","v":""},{"$f":"IF(ISERROR(VLOOKUP($A954,check!$A:$L,3,FALSE))=TRUE,\"\",VLOOKUP($A954,check!$A:$L,3,FALSE))","v":""},{"$f":"IF(ISERROR(VLOOKUP($A954,check!$A:$L,4,FALSE))=TRUE,\"\",VLOOKUP($A954,check!$A:$L,4,FALSE))","v":""},{"$f":"IF(ISERROR(VLOOKUP($A954,check!$A:$L,5,FALSE))=TRUE,\"\",VLOOKUP($A954,check!$A:$L,5,FALSE))","v":""},{"$f":"IF(ISERROR(VLOOKUP($A954,check!$A:$L,6,FALSE))=TRUE,\"\",VLOOKUP($A954,check!$A:$L,6,FALSE))","v":""},{"$f":"IF(ISERROR(VLOOKUP($A954,check!$A:$L,7,FALSE))=TRUE,\"\",VLOOKUP($A954,check!$A:$L,7,FALSE))","v":""},{"$f":"IF(ISERROR(VLOOKUP($A954,check!$A:$L,8,FALSE))=TRUE,\"\",VLOOKUP($A954,check!$A:$L,8,FALSE))","v":""},{"$f":"IF(ISERROR(VLOOKUP($A954,check!$A:$L,9,FALSE))=TRUE,\"\",VLOOKUP($A954,check!$A:$L,9,FALSE))","v":""},{"$f":"IF(ISERROR(VLOOKUP($A954,check!$A:$L,10,FALSE))=TRUE,\"\",VLOOKUP($A954,check!$A:$L,10,FALSE))","v":""},{"$f":"IF(ISERROR(VLOOKUP($A954,check!$A:$L,11,FALSE))=TRUE,\"\",VLOOKUP($A954,check!$A:$L,11,FALSE))","v":""},{"$f":"IF(ISERROR(VLOOKUP($A954,check!$A:$L,12,FALSE))=TRUE,\"\",VLOOKUP($A954,check!$A:$L,12,FALSE))","v":""}]
[955,{"$f":"IF(C955=\"\",\"\",MATCH(A955,check!A:A,0))","v":""},{"$f":"IF(ISERROR(VLOOKUP($A955,check!$A:$L,2,FALSE))=TRUE,\"\",VLOOKUP($A955,check!$A:$L,2,FALSE))","v":""},{"$f":"IF(ISERROR(VLOOKUP($A955,check!$A:$L,3,FALSE))=TRUE,\"\",VLOOKUP($A955,check!$A:$L,3,FALSE))","v":""},{"$f":"IF(ISERROR(VLOOKUP($A955,check!$A:$L,4,FALSE))=TRUE,\"\",VLOOKUP($A955,check!$A:$L,4,FALSE))","v":""},{"$f":"IF(ISERROR(VLOOKUP($A955,check!$A:$L,5,FALSE))=TRUE,\"\",VLOOKUP($A955,check!$A:$L,5,FALSE))","v":""},{"$f":"IF(ISERROR(VLOOKUP($A955,check!$A:$L,6,FALSE))=TRUE,\"\",VLOOKUP($A955,check!$A:$L,6,FALSE))","v":""},{"$f":"IF(ISERROR(VLOOKUP($A955,check!$A:$L,7,FALSE))=TRUE,\"\",VLOOKUP($A955,check!$A:$L,7,FALSE))","v":""},{"$f":"IF(ISERROR(VLOOKUP($A955,check!$A:$L,8,FALSE))=TRUE,\"\",VLOOKUP($A955,check!$A:$L,8,FALSE))","v":""},{"$f":"IF(ISERROR(VLOOKUP($A955,check!$A:$L,9,FALSE))=TRUE,\"\",VLOOKUP($A955,check!$A:$L,9,FALSE))","v":""},{"$f":"IF(ISERROR(VLOOKUP($A955,check!$A:$L,10,FALSE))=TRUE,\"\",VLOOKUP($A955,check!$A:$L,10,FALSE))","v":""},{"$f":"IF(ISERROR(VLOOKUP($A955,check!$A:$L,11,FALSE))=TRUE,\"\",VLOOKUP($A955,check!$A:$L,11,FALSE))","v":""},{"$f":"IF(ISERROR(VLOOKUP($A955,check!$A:$L,12,FALSE))=TRUE,\"\",VLOOKUP($A955,check!$A:$L,12,FALSE))","v":""}]
[956,{"$f":"IF(C956=\"\",\"\",MATCH(A956,check!A:A,0))","v":""},{"$f":"IF(ISERROR(VLOOKUP($A956,check!$A:$L,2,FALSE))=TRUE,\"\",VLOOKUP($A956,check!$A:$L,2,FALSE))","v":""},{"$f":"IF(ISERROR(VLOOKUP($A956,check!$A:$L,3,FALSE))=TRUE,\"\",VLOOKUP($A956,check!$A:$L,3,FALSE))","v":""},{"$f":"IF(ISERROR(VLOOKUP($A956,check!$A:$L,4,FALSE))=TRUE,\"\",VLOOKUP($A956,check!$A:$L,4,FALSE))","v":""},{"$f":"IF(ISERROR(VLOOKUP($A956,check!$A:$L,5,FALSE))=TRUE,\"\",VLOOKUP($A956,check!$A:$L,5,FALSE))","v":""},{"$f":"IF(ISERROR(VLOOKUP($A956,check!$A:$L,6,FALSE))=TRUE,\"\",VLOOKUP($A956,check!$A:$L,6,FALSE))","v":""},{"$f":"IF(ISERROR(VLOOKUP($A956,check!$A:$L,7,FALSE))=TRUE,\"\",VLOOKUP($A956,check!$A:$L,7,FALSE))","v":""},{"$f":"IF(ISERROR(VLOOKUP($A956,check!$A:$L,8,FALSE))=TRUE,\"\",VLOOKUP($A956,check!$A:$L,8,FALSE))","v":""},{"$f":"IF(ISERROR(VLOOKUP($A956,check!$A:$L,9,FALSE))=TRUE,\"\",VLOOKUP($A956,check!$A:$L,9,FALSE))","v":""},{"$f":"IF(ISERROR(VLOOKUP($A956,check!$A:$L,10,FALSE))=TRUE,\"\",VLOOKUP($A956,check!$A:$L,10,FALSE))","v":""},{"$f":"IF(ISERROR(VLOOKUP($A956,check!$A:$L,11,FALSE))=TRUE,\"\",VLOOKUP($A956,check!$A:$L,11,FALSE))","v":""},{"$f":"IF(ISERROR(VLOOKUP($A956,check!$A:$L,12,FALSE))=TRUE,\"\",VLOOKUP($A956,check!$A:$L,12,FALSE))","v":""}]
[957,{"$f":"IF(C957=\"\",\"\",MATCH(A957,check!A:A,0))","v":""},{"$f":"IF(ISERROR(VLOOKUP($A957,check!$A:$L,2,FALSE))=TRUE,\"\",VLOOKUP($A957,check!$A:$L,2,FALSE))","v":""},{"$f":"IF(ISERROR(VLOOKUP($A957,check!$A:$L,3,FALSE))=TRUE,\"\",VLOOKUP($A957,check!$A:$L,3,FALSE))","v":""},{"$f":"IF(ISERROR(VLOOKUP($A957,check!$A:$L,4,FALSE))=TRUE,\"\",VLOOKUP($A957,check!$A:$L,4,FALSE))","v":""},{"$f":"IF(ISERROR(VLOOKUP($A957,check!$A:$L,5,FALSE))=TRUE,\"\",VLOOKUP($A957,check!$A:$L,5,FALSE))","v":""},{"$f":"IF(ISERROR(VLOOKUP($A957,check!$A:$L,6,FALSE))=TRUE,\"\",VLOOKUP($A957,check!$A:$L,6,FALSE))","v":""},{"$f":"IF(ISERROR(VLOOKUP($A957,check!$A:$L,7,FALSE))=TRUE,\"\",VLOOKUP($A957,check!$A:$L,7,FALSE))","v":""},{"$f":"IF(ISERROR(VLOOKUP($A957,check!$A:$L,8,FALSE))=TRUE,\"\",VLOOKUP($A957,check!$A:$L,8,FALSE))","v":""},{"$f":"IF(ISERROR(VLOOKUP($A957,check!$A:$L,9,FALSE))=TRUE,\"\",VLOOKUP($A957,check!$A:$L,9,FALSE))","v":""},{"$f":"IF(ISERROR(VLOOKUP($A957,check!$A:$L,10,FALSE))=TRUE,\"\",VLOOKUP($A957,check!$A:$L,10,FALSE))","v":""},{"$f":"IF(ISERROR(VLOOKUP($A957,check!$A:$L,11,FALSE))=TRUE,\"\",VLOOKUP($A957,check!$A:$L,11,FALSE))","v":""},{"$f":"IF(ISERROR(VLOOKUP($A957,check!$A:$L,12,FALSE))=TRUE,\"\",VLOOKUP($A957,check!$A:$L,12,FALSE))","v":""}]
[958,{"$f":"IF(C958=\"\",\"\",MATCH(A958,check!A:A,0))","v":""},{"$f":"IF(ISERROR(VLOOKUP($A958,check!$A:$L,2,FALSE))=TRUE,\"\",VLOOKUP($A958,check!$A:$L,2,FALSE))","v":""},{"$f":"IF(ISERROR(VLOOKUP($A958,check!$A:$L,3,FALSE))=TRUE,\"\",VLOOKUP($A958,check!$A:$L,3,FALSE))","v":""},{"$f":"IF(ISERROR(VLOOKUP($A958,check!$A:$L,4,FALSE))=TRUE,\"\",VLOOKUP($A958,check!$A:$L,4,FALSE))","v":""},{"$f":"IF(ISERROR(VLOOKUP($A958,check!$A:$L,5,FALSE))=TRUE,\"\",VLOOKUP($A958,check!$A:$L,5,FALSE))","v":""},{"$f":"IF(ISERROR(VLOOKUP($A958,check!$A:$L,6,FALSE))=TRUE,\"\",VLOOKUP($A958,check!$A:$L,6,FALSE))","v":""},{"$f":"IF(ISERROR(VLOOKUP($A958,check!$A:$L,7,FALSE))=TRUE,\"\",VLOOKUP($A958,check!$A:$L,7,FALSE))","v":""},{"$f":"IF(ISERROR(VLOOKUP($A958,check!$A:$L,8,FALSE))=TRUE,\"\",VLOOKUP($A958,check!$A:$L,8,FALSE))","v":""},{"$f":"IF(ISERROR(VLOOKUP($A958,check!$A:$L,9,FALSE))=TRUE,\"\",VLOOKUP($A958,check!$A:$L,9,FALSE))","v":""},{"$f":"IF(ISERROR(VLOOKUP($A958,check!$A:$L,10,FALSE))=TRUE,\"\",VLOOKUP($A958,check!$A:$L,10,FALSE))","v":""},{"$f":"IF(ISERROR(VLOOKUP($A958,check!$A:$L,11,FALSE))=TRUE,\"\",VLOOKUP($A958,check!$A:$L,11,FALSE))","v":""},{"$f":"IF(ISERROR(VLOOKUP($A958,check!$A:$L,12,FALSE))=TRUE,\"\",VLOOKUP($A958,check!$A:$L,12,FALSE))","v":""}]
[959,{"$f":"IF(C959=\"\",\"\",MATCH(A959,check!A:A,0))","v":""},{"$f":"IF(ISERROR(VLOOKUP($A959,check!$A:$L,2,FALSE))=TRUE,\"\",VLOOKUP($A959,check!$A:$L,2,FALSE))","v":""},{"$f":"IF(ISERROR(VLOOKUP($A959,check!$A:$L,3,FALSE))=TRUE,\"\",VLOOKUP($A959,check!$A:$L,3,FALSE))","v":""},{"$f":"IF(ISERROR(VLOOKUP($A959,check!$A:$L,4,FALSE))=TRUE,\"\",VLOOKUP($A959,check!$A:$L,4,FALSE))","v":""},{"$f":"IF(ISERROR(VLOOKUP($A959,check!$A:$L,5,FALSE))=TRUE,\"\",VLOOKUP($A959,check!$A:$L,5,FALSE))","v":""},{"$f":"IF(ISERROR(VLOOKUP($A959,check!$A:$L,6,FALSE))=TRUE,\"\",VLOOKUP($A959,check!$A:$L,6,FALSE))","v":""},{"$f":"IF(ISERROR(VLOOKUP($A959,check!$A:$L,7,FALSE))=TRUE,\"\",VLOOKUP($A959,check!$A:$L,7,FALSE))","v":""},{"$f":"IF(ISERROR(VLOOKUP($A959,check!$A:$L,8,FALSE))=TRUE,\"\",VLOOKUP($A959,check!$A:$L,8,FALSE))","v":""},{"$f":"IF(ISERROR(VLOOKUP($A959,check!$A:$L,9,FALSE))=TRUE,\"\",VLOOKUP($A959,check!$A:$L,9,FALSE))","v":""},{"$f":"IF(ISERROR(VLOOKUP($A959,check!$A:$L,10,FALSE))=TRUE,\"\",VLOOKUP($A959,check!$A:$L,10,FALSE))","v":""},{"$f":"IF(ISERROR(VLOOKUP($A959,check!$A:$L,11,FALSE))=TRUE,\"\",VLOOKUP($A959,check!$A:$L,11,FALSE))","v":""},{"$f":"IF(ISERROR(VLOOKUP($A959,check!$A:$L,12,FALSE))=TRUE,\"\",VLOOKUP($A959,check!$A:$L,12,FALSE))","v":""}]
[960,{"$f":"IF(C960=\"\",\"\",MATCH(A960,check!A:A,0))","v":""},{"$f":"IF(ISERROR(VLOOKUP($A960,check!$A:$L,2,FALSE))=TRUE,\"\",VLOOKUP($A960,check!$A:$L,2,FALSE))","v":""},{"$f":"IF(ISERROR(VLOOKUP($A960,check!$A:$L,3,FALSE))=TRUE,\"\",VLOOKUP($A960,check!$A:$L,3,FALSE))","v":""},{"$f":"IF(ISERROR(VLOOKUP($A960,check!$A:$L,4,FALSE))=TRUE,\"\",VLOOKUP($A960,check!$A:$L,4,FALSE))","v":""},{"$f":"IF(ISERROR(VLOOKUP($A960,check!$A:$L,5,FALSE))=TRUE,\"\",VLOOKUP($A960,check!$A:$L,5,FALSE))","v":""},{"$f":"IF(ISERROR(VLOOKUP($A960,check!$A:$L,6,FALSE))=TRUE,\"\",VLOOKUP($A960,check!$A:$L,6,FALSE))","v":""},{"$f":"IF(ISERROR(VLOOKUP($A960,check!$A:$L,7,FALSE))=TRUE,\"\",VLOOKUP($A960,check!$A:$L,7,FALSE))","v":""},{"$f":"IF(ISERROR(VLOOKUP($A960,check!$A:$L,8,FALSE))=TRUE,\"\",VLOOKUP($A960,check!$A:$L,8,FALSE))","v":""},{"$f":"IF(ISERROR(VLOOKUP($A960,check!$A:$L,9,FALSE))=TRUE,\"\",VLOOKUP($A960,check!$A:$L,9,FALSE))","v":""},{"$f":"IF(ISERROR(VLOOKUP($A960,check!$A:$L,10,FALSE))=TRUE,\"\",VLOOKUP($A960,check!$A:$L,10,FALSE))","v":""},{"$f":"IF(ISERROR(VLOOKUP($A960,check!$A:$L,11,FALSE))=TRUE,\"\",VLOOKUP($A960,check!$A:$L,11,FALSE))","v":""},{"$f":"IF(ISERROR(VLOOKUP($A960,check!$A:$L,12,FALSE))=TRUE,\"\",VLOOKUP($A960,check!$A:$L,12,FALSE))","v":""}]
[961,{"$f":"IF(C961=\"\",\"\",MATCH(A961,check!A:A,0))","v":""},{"$f":"IF(ISERROR(VLOOKUP($A961,check!$A:$L,2,FALSE))=TRUE,\"\",VLOOKUP($A961,check!$A:$L,2,FALSE))","v":""},{"$f":"IF(ISERROR(VLOOKUP($A961,check!$A:$L,3,FALSE))=TRUE,\"\",VLOOKUP($A961,check!$A:$L,3,FALSE))","v":""},{"$f":"IF(ISERROR(VLOOKUP($A961,check!$A:$L,4,FALSE))=TRUE,\"\",VLOOKUP($A961,check!$A:$L,4,FALSE))","v":""},{"$f":"IF(ISERROR(VLOOKUP($A961,check!$A:$L,5,FALSE))=TRUE,\"\",VLOOKUP($A961,check!$A:$L,5,FALSE))","v":""},{"$f":"IF(ISERROR(VLOOKUP($A961,check!$A:$L,6,FALSE))=TRUE,\"\",VLOOKUP($A961,check!$A:$L,6,FALSE))","v":""},{"$f":"IF(ISERROR(VLOOKUP($A961,check!$A:$L,7,FALSE))=TRUE,\"\",VLOOKUP($A961,check!$A:$L,7,FALSE))","v":""},{"$f":"IF(ISERROR(VLOOKUP($A961,check!$A:$L,8,FALSE))=TRUE,\"\",VLOOKUP($A961,check!$A:$L,8,FALSE))","v":""},{"$f":"IF(ISERROR(VLOOKUP($A961,check!$A:$L,9,FALSE))=TRUE,\"\",VLOOKUP($A961,check!$A:$L,9,FALSE))","v":""},{"$f":"IF(ISERROR(VLOOKUP($A961,check!$A:$L,10,FALSE))=TRUE,\"\",VLOOKUP($A961,check!$A:$L,10,FALSE))","v":""},{"$f":"IF(ISERROR(VLOOKUP($A961,check!$A:$L,11,FALSE))=TRUE,\"\",VLOOKUP($A961,check!$A:$L,11,FALSE))","v":""},{"$f":"IF(ISERROR(VLOOKUP($A961,check!$A:$L,12,FALSE))=TRUE,\"\",VLOOKUP($A961,check!$A:$L,12,FALSE))","v":""}]
[962,{"$f":"IF(C962=\"\",\"\",MATCH(A962,check!A:A,0))","v":""},{"$f":"IF(ISERROR(VLOOKUP($A962,check!$A:$L,2,FALSE))=TRUE,\"\",VLOOKUP($A962,check!$A:$L,2,FALSE))","v":""},{"$f":"IF(ISERROR(VLOOKUP($A962,check!$A:$L,3,FALSE))=TRUE,\"\",VLOOKUP($A962,check!$A:$L,3,FALSE))","v":""},{"$f":"IF(ISERROR(VLOOKUP($A962,check!$A:$L,4,FALSE))=TRUE,\"\",VLOOKUP($A962,check!$A:$L,4,FALSE))","v":""},{"$f":"IF(ISERROR(VLOOKUP($A962,check!$A:$L,5,FALSE))=TRUE,\"\",VLOOKUP($A962,check!$A:$L,5,FALSE))","v":""},{"$f":"IF(ISERROR(VLOOKUP($A962,check!$A:$L,6,FALSE))=TRUE,\"\",VLOOKUP($A962,check!$A:$L,6,FALSE))","v":""},{"$f":"IF(ISERROR(VLOOKUP($A962,check!$A:$L,7,FALSE))=TRUE,\"\",VLOOKUP($A962,check!$A:$L,7,FALSE))","v":""},{"$f":"IF(ISERROR(VLOOKUP($A962,check!$A:$L,8,FALSE))=TRUE,\"\",VLOOKUP($A962,check!$A:$L,8,FALSE))","v":""},{"$f":"IF(ISERROR(VLOOKUP($A962,check!$A:$L,9,FALSE))=TRUE,\"\",VLOOKUP($A962,check!$A:$L,9,FALSE))","v":""},{"$f":"IF(ISERROR(VLOOKUP($A962,check!$A:$L,10,FALSE))=TRUE,\"\",VLOOKUP($A962,check!$A:$L,10,FALSE))","v":""},{"$f":"IF(ISERROR(VLOOKUP($A962,check!$A:$L,11,FALSE))=TRUE,\"\",VLOOKUP($A962,check!$A:$L,11,FALSE))","v":""},{"$f":"IF(ISERROR(VLOOKUP($A962,check!$A:$L,12,FALSE))=TRUE,\"\",VLOOKUP($A962,check!$A:$L,12,FALSE))","v":""}]
[963,{"$f":"IF(C963=\"\",\"\",MATCH(A963,check!A:A,0))","v":""},{"$f":"IF(ISERROR(VLOOKUP($A963,check!$A:$L,2,FALSE))=TRUE,\"\",VLOOKUP($A963,check!$A:$L,2,FALSE))","v":""},{"$f":"IF(ISERROR(VLOOKUP($A963,check!$A:$L,3,FALSE))=TRUE,\"\",VLOOKUP($A963,check!$A:$L,3,FALSE))","v":""},{"$f":"IF(ISERROR(VLOOKUP($A963,check!$A:$L,4,FALSE))=TRUE,\"\",VLOOKUP($A963,check!$A:$L,4,FALSE))","v":""},{"$f":"IF(ISERROR(VLOOKUP($A963,check!$A:$L,5,FALSE))=TRUE,\"\",VLOOKUP($A963,check!$A:$L,5,FALSE))","v":""},{"$f":"IF(ISERROR(VLOOKUP($A963,check!$A:$L,6,FALSE))=TRUE,\"\",VLOOKUP($A963,check!$A:$L,6,FALSE))","v":""},{"$f":"IF(ISERROR(VLOOKUP($A963,check!$A:$L,7,FALSE))=TRUE,\"\",VLOOKUP($A963,check!$A:$L,7,FALSE))","v":""},{"$f":"IF(ISERROR(VLOOKUP($A963,check!$A:$L,8,FALSE))=TRUE,\"\",VLOOKUP($A963,check!$A:$L,8,FALSE))","v":""},{"$f":"IF(ISERROR(VLOOKUP($A963,check!$A:$L,9,FALSE))=TRUE,\"\",VLOOKUP($A963,check!$A:$L,9,FALSE))","v":""},{"$f":"IF(ISERROR(VLOOKUP($A963,check!$A:$L,10,FALSE))=TRUE,\"\",VLOOKUP($A963,check!$A:$L,10,FALSE))","v":""},{"$f":"IF(ISERROR(VLOOKUP($A963,check!$A:$L,11,FALSE))=TRUE,\"\",VLOOKUP($A963,check!$A:$L,11,FALSE))","v":""},{"$f":"IF(ISERROR(VLOOKUP($A963,check!$A:$L,12,FALSE))=TRUE,\"\",VLOOKUP($A963,check!$A:$L,12,FALSE))","v":""}]
[{"$f":"A963+1","v":964},{"$f":"IF(C964=\"\",\"\",MATCH(A964,check!A:A,0))","v":""},{"$f":"IF(ISERROR(VLOOKUP($A964,check!$A:$L,2,FALSE))=TRUE,\"\",VLOOKUP($A964,check!$A:$L,2,FALSE))","v":""},{"$f":"IF(ISERROR(VLOOKUP($A964,check!$A:$L,3,FALSE))=TRUE,\"\",VLOOKUP($A964,check!$A:$L,3,FALSE))","v":""},{"$f":"IF(ISERROR(VLOOKUP($A964,check!$A:$L,4,FALSE))=TRUE,\"\",VLOOKUP($A964,check!$A:$L,4,FALSE))","v":""},{"$f":"IF(ISERROR(VLOOKUP($A964,check!$A:$L,5,FALSE))=TRUE,\"\",VLOOKUP($A964,check!$A:$L,5,FALSE))","v":""},{"$f":"IF(ISERROR(VLOOKUP($A964,check!$A:$L,6,FALSE))=TRUE,\"\",VLOOKUP($A964,check!$A:$L,6,FALSE))","v":""},{"$f":"IF(ISERROR(VLOOKUP($A964,check!$A:$L,7,FALSE))=TRUE,\"\",VLOOKUP($A964,check!$A:$L,7,FALSE))","v":""},{"$f":"IF(ISERROR(VLOOKUP($A964,check!$A:$L,8,FALSE))=TRUE,\"\",VLOOKUP($A964,check!$A:$L,8,FALSE))","v":""},{"$f":"IF(ISERROR(VLOOKUP($A964,check!$A:$L,9,FALSE))=TRUE,\"\",VLOOKUP($A964,check!$A:$L,9,FALSE))","v":""},{"$f":"IF(ISERROR(VLOOKUP($A964,check!$A:$L,10,FALSE))=TRUE,\"\",VLOOKUP($A964,check!$A:$L,10,FALSE))","v":""},{"$f":"IF(ISERROR(VLOOKUP($A964,check!$A:$L,11,FALSE))=TRUE,\"\",VLOOKUP($A964,check!$A:$L,11,FALSE))","v":""},{"$f":"IF(ISERROR(VLOOKUP($A964,check!$A:$L,12,FALSE))=TRUE,\"\",VLOOKUP($A964,check!$A:$L,12,FALSE))","v":""}]
[965,{"$f":"IF(C965=\"\",\"\",MATCH(A965,check!A:A,0))","v":""},{"$f":"IF(ISERROR(VLOOKUP($A965,check!$A:$L,2,FALSE))=TRUE,\"\",VLOOKUP($A965,check!$A:$L,2,FALSE))","v":""},{"$f":"IF(ISERROR(VLOOKUP($A965,check!$A:$L,3,FALSE))=TRUE,\"\",VLOOKUP($A965,check!$A:$L,3,FALSE))","v":""},{"$f":"IF(ISERROR(VLOOKUP($A965,check!$A:$L,4,FALSE))=TRUE,\"\",VLOOKUP($A965,check!$A:$L,4,FALSE))","v":""},{"$f":"IF(ISERROR(VLOOKUP($A965,check!$A:$L,5,FALSE))=TRUE,\"\",VLOOKUP($A965,check!$A:$L,5,FALSE))","v":""},{"$f":"IF(ISERROR(VLOOKUP($A965,check!$A:$L,6,FALSE))=TRUE,\"\",VLOOKUP($A965,check!$A:$L,6,FALSE))","v":""},{"$f":"IF(ISERROR(VLOOKUP($A965,check!$A:$L,7,FALSE))=TRUE,\"\",VLOOKUP($A965,check!$A:$L,7,FALSE))","v":""},{"$f":"IF(ISERROR(VLOOKUP($A965,check!$A:$L,8,FALSE))=TRUE,\"\",VLOOKUP($A965,check!$A:$L,8,FALSE))","v":""},{"$f":"IF(ISERROR(VLOOKUP($A965,check!$A:$L,9,FALSE))=TRUE,\"\",VLOOKUP($A965,check!$A:$L,9,FALSE))","v":""},{"$f":"IF(ISERROR(VLOOKUP($A965,check!$A:$L,10,FALSE))=TRUE,\"\",VLOOKUP($A965,check!$A:$L,10,FALSE))","v":""},{"$f":"IF(ISERROR(VLOOKUP($A965,check!$A:$L,11,FALSE))=TRUE,\"\",VLOOKUP($A965,check!$A:$L,11,FALSE))","v":""},{"$f":"IF(ISERROR(VLOOKUP($A965,check!$A:$L,12,FALSE))=TRUE,\"\",VLOOKUP($A965,check!$A:$L,12,FALSE))","v":""}]
[966,{"$f":"IF(C966=\"\",\"\",MATCH(A966,check!A:A,0))","v":""},{"$f":"IF(ISERROR(VLOOKUP($A966,check!$A:$L,2,FALSE))=TRUE,\"\",VLOOKUP($A966,check!$A:$L,2,FALSE))","v":""},{"$f":"IF(ISERROR(VLOOKUP($A966,check!$A:$L,3,FALSE))=TRUE,\"\",VLOOKUP($A966,check!$A:$L,3,FALSE))","v":""},{"$f":"IF(ISERROR(VLOOKUP($A966,check!$A:$L,4,FALSE))=TRUE,\"\",VLOOKUP($A966,check!$A:$L,4,FALSE))","v":""},{"$f":"IF(ISERROR(VLOOKUP($A966,check!$A:$L,5,FALSE))=TRUE,\"\",VLOOKUP($A966,check!$A:$L,5,FALSE))","v":""},{"$f":"IF(ISERROR(VLOOKUP($A966,check!$A:$L,6,FALSE))=TRUE,\"\",VLOOKUP($A966,check!$A:$L,6,FALSE))","v":""},{"$f":"IF(ISERROR(VLOOKUP($A966,check!$A:$L,7,FALSE))=TRUE,\"\",VLOOKUP($A966,check!$A:$L,7,FALSE))","v":""},{"$f":"IF(ISERROR(VLOOKUP($A966,check!$A:$L,8,FALSE))=TRUE,\"\",VLOOKUP($A966,check!$A:$L,8,FALSE))","v":""},{"$f":"IF(ISERROR(VLOOKUP($A966,check!$A:$L,9,FALSE))=TRUE,\"\",VLOOKUP($A966,check!$A:$L,9,FALSE))","v":""},{"$f":"IF(ISERROR(VLOOKUP($A966,check!$A:$L,10,FALSE))=TRUE,\"\",VLOOKUP($A966,check!$A:$L,10,FALSE))","v":""},{"$f":"IF(ISERROR(VLOOKUP($A966,check!$A:$L,11,FALSE))=TRUE,\"\",VLOOKUP($A966,check!$A:$L,11,FALSE))","v":""},{"$f":"IF(ISERROR(VLOOKUP($A966,check!$A:$L,12,FALSE))=TRUE,\"\",VLOOKUP($A966,check!$A:$L,12,FALSE))","v":""}]
[967,{"$f":"IF(C967=\"\",\"\",MATCH(A967,check!A:A,0))","v":""},{"$f":"IF(ISERROR(VLOOKUP($A967,check!$A:$L,2,FALSE))=TRUE,\"\",VLOOKUP($A967,check!$A:$L,2,FALSE))","v":""},{"$f":"IF(ISERROR(VLOOKUP($A967,check!$A:$L,3,FALSE))=TRUE,\"\",VLOOKUP($A967,check!$A:$L,3,FALSE))","v":""},{"$f":"IF(ISERROR(VLOOKUP($A967,check!$A:$L,4,FALSE))=TRUE,\"\",VLOOKUP($A967,check!$A:$L,4,FALSE))","v":""},{"$f":"IF(ISERROR(VLOOKUP($A967,check!$A:$L,5,FALSE))=TRUE,\"\",VLOOKUP($A967,check!$A:$L,5,FALSE))","v":""},{"$f":"IF(ISERROR(VLOOKUP($A967,check!$A:$L,6,FALSE))=TRUE,\"\",VLOOKUP($A967,check!$A:$L,6,FALSE))","v":""},{"$f":"IF(ISERROR(VLOOKUP($A967,check!$A:$L,7,FALSE))=TRUE,\"\",VLOOKUP($A967,check!$A:$L,7,FALSE))","v":""},{"$f":"IF(ISERROR(VLOOKUP($A967,check!$A:$L,8,FALSE))=TRUE,\"\",VLOOKUP($A967,check!$A:$L,8,FALSE))","v":""},{"$f":"IF(ISERROR(VLOOKUP($A967,check!$A:$L,9,FALSE))=TRUE,\"\",VLOOKUP($A967,check!$A:$L,9,FALSE))","v":""},{"$f":"IF(ISERROR(VLOOKUP($A967,check!$A:$L,10,FALSE))=TRUE,\"\",VLOOKUP($A967,check!$A:$L,10,FALSE))","v":""},{"$f":"IF(ISERROR(VLOOKUP($A967,check!$A:$L,11,FALSE))=TRUE,\"\",VLOOKUP($A967,check!$A:$L,11,FALSE))","v":""},{"$f":"IF(ISERROR(VLOOKUP($A967,check!$A:$L,12,FALSE))=TRUE,\"\",VLOOKUP($A967,check!$A:$L,12,FALSE))","v":""}]
[968,{"$f":"IF(C968=\"\",\"\",MATCH(A968,check!A:A,0))","v":""},{"$f":"IF(ISERROR(VLOOKUP($A968,check!$A:$L,2,FALSE))=TRUE,\"\",VLOOKUP($A968,check!$A:$L,2,FALSE))","v":""},{"$f":"IF(ISERROR(VLOOKUP($A968,check!$A:$L,3,FALSE))=TRUE,\"\",VLOOKUP($A968,check!$A:$L,3,FALSE))","v":""},{"$f":"IF(ISERROR(VLOOKUP($A968,check!$A:$L,4,FALSE))=TRUE,\"\",VLOOKUP($A968,check!$A:$L,4,FALSE))","v":""},{"$f":"IF(ISERROR(VLOOKUP($A968,check!$A:$L,5,FALSE))=TRUE,\"\",VLOOKUP($A968,check!$A:$L,5,FALSE))","v":""},{"$f":"IF(ISERROR(VLOOKUP($A968,check!$A:$L,6,FALSE))=TRUE,\"\",VLOOKUP($A968,check!$A:$L,6,FALSE))","v":""},{"$f":"IF(ISERROR(VLOOKUP($A968,check!$A:$L,7,FALSE))=TRUE,\"\",VLOOKUP($A968,check!$A:$L,7,FALSE))","v":""},{"$f":"IF(ISERROR(VLOOKUP($A968,check!$A:$L,8,FALSE))=TRUE,\"\",VLOOKUP($A968,check!$A:$L,8,FALSE))","v":""},{"$f":"IF(ISERROR(VLOOKUP($A968,check!$A:$L,9,FALSE))=TRUE,\"\",VLOOKUP($A968,check!$A:$L,9,FALSE))","v":""},{"$f":"IF(ISERROR(VLOOKUP($A968,check!$A:$L,10,FALSE))=TRUE,\"\",VLOOKUP($A968,check!$A:$L,10,FALSE))","v":""},{"$f":"IF(ISERROR(VLOOKUP($A968,check!$A:$L,11,FALSE))=TRUE,\"\",VLOOKUP($A968,check!$A:$L,11,FALSE))","v":""},{"$f":"IF(ISERROR(VLOOKUP($A968,check!$A:$L,12,FALSE))=TRUE,\"\",VLOOKUP($A968,check!$A:$L,12,FALSE))","v":""}]
[969,{"$f":"IF(C969=\"\",\"\",MATCH(A969,check!A:A,0))","v":""},{"$f":"IF(ISERROR(VLOOKUP($A969,check!$A:$L,2,FALSE))=TRUE,\"\",VLOOKUP($A969,check!$A:$L,2,FALSE))","v":""},{"$f":"IF(ISERROR(VLOOKUP($A969,check!$A:$L,3,FALSE))=TRUE,\"\",VLOOKUP($A969,check!$A:$L,3,FALSE))","v":""},{"$f":"IF(ISERROR(VLOOKUP($A969,check!$A:$L,4,FALSE))=TRUE,\"\",VLOOKUP($A969,check!$A:$L,4,FALSE))","v":""},{"$f":"IF(ISERROR(VLOOKUP($A969,check!$A:$L,5,FALSE))=TRUE,\"\",VLOOKUP($A969,check!$A:$L,5,FALSE))","v":""},{"$f":"IF(ISERROR(VLOOKUP($A969,check!$A:$L,6,FALSE))=TRUE,\"\",VLOOKUP($A969,check!$A:$L,6,FALSE))","v":""},{"$f":"IF(ISERROR(VLOOKUP($A969,check!$A:$L,7,FALSE))=TRUE,\"\",VLOOKUP($A969,check!$A:$L,7,FALSE))","v":""},{"$f":"IF(ISERROR(VLOOKUP($A969,check!$A:$L,8,FALSE))=TRUE,\"\",VLOOKUP($A969,check!$A:$L,8,FALSE))","v":""},{"$f":"IF(ISERROR(VLOOKUP($A969,check!$A:$L,9,FALSE))=TRUE,\"\",VLOOKUP($A969,check!$A:$L,9,FALSE))","v":""},{"$f":"IF(ISERROR(VLOOKUP($A969,check!$A:$L,10,FALSE))=TRUE,\"\",VLOOKUP($A969,check!$A:$L,10,FALSE))","v":""},{"$f":"IF(ISERROR(VLOOKUP($A969,check!$A:$L,11,FALSE))=TRUE,\"\",VLOOKUP($A969,check!$A:$L,11,FALSE))","v":""},{"$f":"IF(ISERROR(VLOOKUP($A969,check!$A:$L,12,FALSE))=TRUE,\"\",VLOOKUP($A969,check!$A:$L,12,FALSE))","v":""}]
[970,{"$f":"IF(C970=\"\",\"\",MATCH(A970,check!A:A,0))","v":""},{"$f":"IF(ISERROR(VLOOKUP($A970,check!$A:$L,2,FALSE))=TRUE,\"\",VLOOKUP($A970,check!$A:$L,2,FALSE))","v":""},{"$f":"IF(ISERROR(VLOOKUP($A970,check!$A:$L,3,FALSE))=TRUE,\"\",VLOOKUP($A970,check!$A:$L,3,FALSE))","v":""},{"$f":"IF(ISERROR(VLOOKUP($A970,check!$A:$L,4,FALSE))=TRUE,\"\",VLOOKUP($A970,check!$A:$L,4,FALSE))","v":""},{"$f":"IF(ISERROR(VLOOKUP($A970,check!$A:$L,5,FALSE))=TRUE,\"\",VLOOKUP($A970,check!$A:$L,5,FALSE))","v":""},{"$f":"IF(ISERROR(VLOOKUP($A970,check!$A:$L,6,FALSE))=TRUE,\"\",VLOOKUP($A970,check!$A:$L,6,FALSE))","v":""},{"$f":"IF(ISERROR(VLOOKUP($A970,check!$A:$L,7,FALSE))=TRUE,\"\",VLOOKUP($A970,check!$A:$L,7,FALSE))","v":""},{"$f":"IF(ISERROR(VLOOKUP($A970,check!$A:$L,8,FALSE))=TRUE,\"\",VLOOKUP($A970,check!$A:$L,8,FALSE))","v":""},{"$f":"IF(ISERROR(VLOOKUP($A970,check!$A:$L,9,FALSE))=TRUE,\"\",VLOOKUP($A970,check!$A:$L,9,FALSE))","v":""},{"$f":"IF(ISERROR(VLOOKUP($A970,check!$A:$L,10,FALSE))=TRUE,\"\",VLOOKUP($A970,check!$A:$L,10,FALSE))","v":""},{"$f":"IF(ISERROR(VLOOKUP($A970,check!$A:$L,11,FALSE))=TRUE,\"\",VLOOKUP($A970,check!$A:$L,11,FALSE))","v":""},{"$f":"IF(ISERROR(VLOOKUP($A970,check!$A:$L,12,FALSE))=TRUE,\"\",VLOOKUP($A970,check!$A:$L,12,FALSE))","v":""}]
[971,{"$f":"IF(C971=\"\",\"\",MATCH(A971,check!A:A,0))","v":""},{"$f":"IF(ISERROR(VLOOKUP($A971,check!$A:$L,2,FALSE))=TRUE,\"\",VLOOKUP($A971,check!$A:$L,2,FALSE))","v":""},{"$f":"IF(ISERROR(VLOOKUP($A971,check!$A:$L,3,FALSE))=TRUE,\"\",VLOOKUP($A971,check!$A:$L,3,FALSE))","v":""},{"$f":"IF(ISERROR(VLOOKUP($A971,check!$A:$L,4,FALSE))=TRUE,\"\",VLOOKUP($A971,check!$A:$L,4,FALSE))","v":""},{"$f":"IF(ISERROR(VLOOKUP($A971,check!$A:$L,5,FALSE))=TRUE,\"\",VLOOKUP($A971,check!$A:$L,5,FALSE))","v":""},{"$f":"IF(ISERROR(VLOOKUP($A971,check!$A:$L,6,FALSE))=TRUE,\"\",VLOOKUP($A971,check!$A:$L,6,FALSE))","v":""},{"$f":"IF(ISERROR(VLOOKUP($A971,check!$A:$L,7,FALSE))=TRUE,\"\",VLOOKUP($A971,check!$A:$L,7,FALSE))","v":""},{"$f":"IF(ISERROR(VLOOKUP($A971,check!$A:$L,8,FALSE))=TRUE,\"\",VLOOKUP($A971,check!$A:$L,8,FALSE))","v":""},{"$f":"IF(ISERROR(VLOOKUP($A971,check!$A:$L,9,FALSE))=TRUE,\"\",VLOOKUP($A971,check!$A:$L,9,FALSE))","v":""},{"$f":"IF(ISERROR(VLOOKUP($A971,check!$A:$L,10,FALSE))=TRUE,\"\",VLOOKUP($A971,check!$A:$L,10,FALSE))","v":""},{"$f":"IF(ISERROR(VLOOKUP($A971,check!$A:$L,11,FALSE))=TRUE,\"\",VLOOKUP($A971,check!$A:$L,11,FALSE))","v":""},{"$f":"IF(ISERROR(VLOOKUP($A971,check!$A:$L,12,FALSE))=TRUE,\"\",VLOOKUP($A971,check!$A:$L,12,FALSE))","v":""}]
[972,{"$f":"IF(C972=\"\",\"\",MATCH(A972,check!A:A,0))","v":""},{"$f":"IF(ISERROR(VLOOKUP($A972,check!$A:$L,2,FALSE))=TRUE,\"\",VLOOKUP($A972,check!$A:$L,2,FALSE))","v":""},{"$f":"IF(ISERROR(VLOOKUP($A972,check!$A:$L,3,FALSE))=TRUE,\"\",VLOOKUP($A972,check!$A:$L,3,FALSE))","v":""},{"$f":"IF(ISERROR(VLOOKUP($A972,check!$A:$L,4,FALSE))=TRUE,\"\",VLOOKUP($A972,check!$A:$L,4,FALSE))","v":""},{"$f":"IF(ISERROR(VLOOKUP($A972,check!$A:$L,5,FALSE))=TRUE,\"\",VLOOKUP($A972,check!$A:$L,5,FALSE))","v":""},{"$f":"IF(ISERROR(VLOOKUP($A972,check!$A:$L,6,FALSE))=TRUE,\"\",VLOOKUP($A972,check!$A:$L,6,FALSE))","v":""},{"$f":"IF(ISERROR(VLOOKUP($A972,check!$A:$L,7,FALSE))=TRUE,\"\",VLOOKUP($A972,check!$A:$L,7,FALSE))","v":""},{"$f":"IF(ISERROR(VLOOKUP($A972,check!$A:$L,8,FALSE))=TRUE,\"\",VLOOKUP($A972,check!$A:$L,8,FALSE))","v":""},{"$f":"IF(ISERROR(VLOOKUP($A972,check!$A:$L,9,FALSE))=TRUE,\"\",VLOOKUP($A972,check!$A:$L,9,FALSE))","v":""},{"$f":"IF(ISERROR(VLOOKUP($A972,check!$A:$L,10,FALSE))=TRUE,\"\",VLOOKUP($A972,check!$A:$L,10,FALSE))","v":""},{"$f":"IF(ISERROR(VLOOKUP($A972,check!$A:$L,11,FALSE))=TRUE,\"\",VLOOKUP($A972,check!$A:$L,11,FALSE))","v":""},{"$f":"IF(ISERROR(VLOOKUP($A972,check!$A:$L,12,FALSE))=TRUE,\"\",VLOOKUP($A972,check!$A:$L,12,FALSE))","v":""}]
[973,{"$f":"IF(C973=\"\",\"\",MATCH(A973,check!A:A,0))","v":""},{"$f":"IF(ISERROR(VLOOKUP($A973,check!$A:$L,2,FALSE))=TRUE,\"\",VLOOKUP($A973,check!$A:$L,2,FALSE))","v":""},{"$f":"IF(ISERROR(VLOOKUP($A973,check!$A:$L,3,FALSE))=TRUE,\"\",VLOOKUP($A973,check!$A:$L,3,FALSE))","v":""},{"$f":"IF(ISERROR(VLOOKUP($A973,check!$A:$L,4,FALSE))=TRUE,\"\",VLOOKUP($A973,check!$A:$L,4,FALSE))","v":""},{"$f":"IF(ISERROR(VLOOKUP($A973,check!$A:$L,5,FALSE))=TRUE,\"\",VLOOKUP($A973,check!$A:$L,5,FALSE))","v":""},{"$f":"IF(ISERROR(VLOOKUP($A973,check!$A:$L,6,FALSE))=TRUE,\"\",VLOOKUP($A973,check!$A:$L,6,FALSE))","v":""},{"$f":"IF(ISERROR(VLOOKUP($A973,check!$A:$L,7,FALSE))=TRUE,\"\",VLOOKUP($A973,check!$A:$L,7,FALSE))","v":""},{"$f":"IF(ISERROR(VLOOKUP($A973,check!$A:$L,8,FALSE))=TRUE,\"\",VLOOKUP($A973,check!$A:$L,8,FALSE))","v":""},{"$f":"IF(ISERROR(VLOOKUP($A973,check!$A:$L,9,FALSE))=TRUE,\"\",VLOOKUP($A973,check!$A:$L,9,FALSE))","v":""},{"$f":"IF(ISERROR(VLOOKUP($A973,check!$A:$L,10,FALSE))=TRUE,\"\",VLOOKUP($A973,check!$A:$L,10,FALSE))","v":""},{"$f":"IF(ISERROR(VLOOKUP($A973,check!$A:$L,11,FALSE))=TRUE,\"\",VLOOKUP($A973,check!$A:$L,11,FALSE))","v":""},{"$f":"IF(ISERROR(VLOOKUP($A973,check!$A:$L,12,FALSE))=TRUE,\"\",VLOOKUP($A973,check!$A:$L,12,FALSE))","v":""}]
[974,{"$f":"IF(C974=\"\",\"\",MATCH(A974,check!A:A,0))","v":""},{"$f":"IF(ISERROR(VLOOKUP($A974,check!$A:$L,2,FALSE))=TRUE,\"\",VLOOKUP($A974,check!$A:$L,2,FALSE))","v":""},{"$f":"IF(ISERROR(VLOOKUP($A974,check!$A:$L,3,FALSE))=TRUE,\"\",VLOOKUP($A974,check!$A:$L,3,FALSE))","v":""},{"$f":"IF(ISERROR(VLOOKUP($A974,check!$A:$L,4,FALSE))=TRUE,\"\",VLOOKUP($A974,check!$A:$L,4,FALSE))","v":""},{"$f":"IF(ISERROR(VLOOKUP($A974,check!$A:$L,5,FALSE))=TRUE,\"\",VLOOKUP($A974,check!$A:$L,5,FALSE))","v":""},{"$f":"IF(ISERROR(VLOOKUP($A974,check!$A:$L,6,FALSE))=TRUE,\"\",VLOOKUP($A974,check!$A:$L,6,FALSE))","v":""},{"$f":"IF(ISERROR(VLOOKUP($A974,check!$A:$L,7,FALSE))=TRUE,\"\",VLOOKUP($A974,check!$A:$L,7,FALSE))","v":""},{"$f":"IF(ISERROR(VLOOKUP($A974,check!$A:$L,8,FALSE))=TRUE,\"\",VLOOKUP($A974,check!$A:$L,8,FALSE))","v":""},{"$f":"IF(ISERROR(VLOOKUP($A974,check!$A:$L,9,FALSE))=TRUE,\"\",VLOOKUP($A974,check!$A:$L,9,FALSE))","v":""},{"$f":"IF(ISERROR(VLOOKUP($A974,check!$A:$L,10,FALSE))=TRUE,\"\",VLOOKUP($A974,check!$A:$L,10,FALSE))","v":""},{"$f":"IF(ISERROR(VLOOKUP($A974,check!$A:$L,11,FALSE))=TRUE,\"\",VLOOKUP($A974,check!$A:$L,11,FALSE))","v":""},{"$f":"IF(ISERROR(VLOOKUP($A974,check!$A:$L,12,FALSE))=TRUE,\"\",VLOOKUP($A974,check!$A:$L,12,FALSE))","v":""}]
[975,{"$f":"IF(C975=\"\",\"\",MATCH(A975,check!A:A,0))","v":""},{"$f":"IF(ISERROR(VLOOKUP($A975,check!$A:$L,2,FALSE))=TRUE,\"\",VLOOKUP($A975,check!$A:$L,2,FALSE))","v":""},{"$f":"IF(ISERROR(VLOOKUP($A975,check!$A:$L,3,FALSE))=TRUE,\"\",VLOOKUP($A975,check!$A:$L,3,FALSE))","v":""},{"$f":"IF(ISERROR(VLOOKUP($A975,check!$A:$L,4,FALSE))=TRUE,\"\",VLOOKUP($A975,check!$A:$L,4,FALSE))","v":""},{"$f":"IF(ISERROR(VLOOKUP($A975,check!$A:$L,5,FALSE))=TRUE,\"\",VLOOKUP($A975,check!$A:$L,5,FALSE))","v":""},{"$f":"IF(ISERROR(VLOOKUP($A975,check!$A:$L,6,FALSE))=TRUE,\"\",VLOOKUP($A975,check!$A:$L,6,FALSE))","v":""},{"$f":"IF(ISERROR(VLOOKUP($A975,check!$A:$L,7,FALSE))=TRUE,\"\",VLOOKUP($A975,check!$A:$L,7,FALSE))","v":""},{"$f":"IF(ISERROR(VLOOKUP($A975,check!$A:$L,8,FALSE))=TRUE,\"\",VLOOKUP($A975,check!$A:$L,8,FALSE))","v":""},{"$f":"IF(ISERROR(VLOOKUP($A975,check!$A:$L,9,FALSE))=TRUE,\"\",VLOOKUP($A975,check!$A:$L,9,FALSE))","v":""},{"$f":"IF(ISERROR(VLOOKUP($A975,check!$A:$L,10,FALSE))=TRUE,\"\",VLOOKUP($A975,check!$A:$L,10,FALSE))","v":""},{"$f":"IF(ISERROR(VLOOKUP($A975,check!$A:$L,11,FALSE))=TRUE,\"\",VLOOKUP($A975,check!$A:$L,11,FALSE))","v":""},{"$f":"IF(ISERROR(VLOOKUP($A975,check!$A:$L,12,FALSE))=TRUE,\"\",VLOOKUP($A975,check!$A:$L,12,FALSE))","v":""}]
[976,{"$f":"IF(C976=\"\",\"\",MATCH(A976,check!A:A,0))","v":""},{"$f":"IF(ISERROR(VLOOKUP($A976,check!$A:$L,2,FALSE))=TRUE,\"\",VLOOKUP($A976,check!$A:$L,2,FALSE))","v":""},{"$f":"IF(ISERROR(VLOOKUP($A976,check!$A:$L,3,FALSE))=TRUE,\"\",VLOOKUP($A976,check!$A:$L,3,FALSE))","v":""},{"$f":"IF(ISERROR(VLOOKUP($A976,check!$A:$L,4,FALSE))=TRUE,\"\",VLOOKUP($A976,check!$A:$L,4,FALSE))","v":""},{"$f":"IF(ISERROR(VLOOKUP($A976,check!$A:$L,5,FALSE))=TRUE,\"\",VLOOKUP($A976,check!$A:$L,5,FALSE))","v":""},{"$f":"IF(ISERROR(VLOOKUP($A976,check!$A:$L,6,FALSE))=TRUE,\"\",VLOOKUP($A976,check!$A:$L,6,FALSE))","v":""},{"$f":"IF(ISERROR(VLOOKUP($A976,check!$A:$L,7,FALSE))=TRUE,\"\",VLOOKUP($A976,check!$A:$L,7,FALSE))","v":""},{"$f":"IF(ISERROR(VLOOKUP($A976,check!$A:$L,8,FALSE))=TRUE,\"\",VLOOKUP($A976,check!$A:$L,8,FALSE))","v":""},{"$f":"IF(ISERROR(VLOOKUP($A976,check!$A:$L,9,FALSE))=TRUE,\"\",VLOOKUP($A976,check!$A:$L,9,FALSE))","v":""},{"$f":"IF(ISERROR(VLOOKUP($A976,check!$A:$L,10,FALSE))=TRUE,\"\",VLOOKUP($A976,check!$A:$L,10,FALSE))","v":""},{"$f":"IF(ISERROR(VLOOKUP($A976,check!$A:$L,11,FALSE))=TRUE,\"\",VLOOKUP($A976,check!$A:$L,11,FALSE))","v":""},{"$f":"IF(ISERROR(VLOOKUP($A976,check!$A:$L,12,FALSE))=TRUE,\"\",VLOOKUP($A976,check!$A:$L,12,FALSE))","v":""}]
[977,{"$f":"IF(C977=\"\",\"\",MATCH(A977,check!A:A,0))","v":""},{"$f":"IF(ISERROR(VLOOKUP($A977,check!$A:$L,2,FALSE))=TRUE,\"\",VLOOKUP($A977,check!$A:$L,2,FALSE))","v":""},{"$f":"IF(ISERROR(VLOOKUP($A977,check!$A:$L,3,FALSE))=TRUE,\"\",VLOOKUP($A977,check!$A:$L,3,FALSE))","v":""},{"$f":"IF(ISERROR(VLOOKUP($A977,check!$A:$L,4,FALSE))=TRUE,\"\",VLOOKUP($A977,check!$A:$L,4,FALSE))","v":""},{"$f":"IF(ISERROR(VLOOKUP($A977,check!$A:$L,5,FALSE))=TRUE,\"\",VLOOKUP($A977,check!$A:$L,5,FALSE))","v":""},{"$f":"IF(ISERROR(VLOOKUP($A977,check!$A:$L,6,FALSE))=TRUE,\"\",VLOOKUP($A977,check!$A:$L,6,FALSE))","v":""},{"$f":"IF(ISERROR(VLOOKUP($A977,check!$A:$L,7,FALSE))=TRUE,\"\",VLOOKUP($A977,check!$A:$L,7,FALSE))","v":""},{"$f":"IF(ISERROR(VLOOKUP($A977,check!$A:$L,8,FALSE))=TRUE,\"\",VLOOKUP($A977,check!$A:$L,8,FALSE))","v":""},{"$f":"IF(ISERROR(VLOOKUP($A977,check!$A:$L,9,FALSE))=TRUE,\"\",VLOOKUP($A977,check!$A:$L,9,FALSE))","v":""},{"$f":"IF(ISERROR(VLOOKUP($A977,check!$A:$L,10,FALSE))=TRUE,\"\",VLOOKUP($A977,check!$A:$L,10,FALSE))","v":""},{"$f":"IF(ISERROR(VLOOKUP($A977,check!$A:$L,11,FALSE))=TRUE,\"\",VLOOKUP($A977,check!$A:$L,11,FALSE))","v":""},{"$f":"IF(ISERROR(VLOOKUP($A977,check!$A:$L,12,FALSE))=TRUE,\"\",VLOOKUP($A977,check!$A:$L,12,FALSE))","v":""}]
[978,{"$f":"IF(C978=\"\",\"\",MATCH(A978,check!A:A,0))","v":""},{"$f":"IF(ISERROR(VLOOKUP($A978,check!$A:$L,2,FALSE))=TRUE,\"\",VLOOKUP($A978,check!$A:$L,2,FALSE))","v":""},{"$f":"IF(ISERROR(VLOOKUP($A978,check!$A:$L,3,FALSE))=TRUE,\"\",VLOOKUP($A978,check!$A:$L,3,FALSE))","v":""},{"$f":"IF(ISERROR(VLOOKUP($A978,check!$A:$L,4,FALSE))=TRUE,\"\",VLOOKUP($A978,check!$A:$L,4,FALSE))","v":""},{"$f":"IF(ISERROR(VLOOKUP($A978,check!$A:$L,5,FALSE))=TRUE,\"\",VLOOKUP($A978,check!$A:$L,5,FALSE))","v":""},{"$f":"IF(ISERROR(VLOOKUP($A978,check!$A:$L,6,FALSE))=TRUE,\"\",VLOOKUP($A978,check!$A:$L,6,FALSE))","v":""},{"$f":"IF(ISERROR(VLOOKUP($A978,check!$A:$L,7,FALSE))=TRUE,\"\",VLOOKUP($A978,check!$A:$L,7,FALSE))","v":""},{"$f":"IF(ISERROR(VLOOKUP($A978,check!$A:$L,8,FALSE))=TRUE,\"\",VLOOKUP($A978,check!$A:$L,8,FALSE))","v":""},{"$f":"IF(ISERROR(VLOOKUP($A978,check!$A:$L,9,FALSE))=TRUE,\"\",VLOOKUP($A978,check!$A:$L,9,FALSE))","v":""},{"$f":"IF(ISERROR(VLOOKUP($A978,check!$A:$L,10,FALSE))=TRUE,\"\",VLOOKUP($A978,check!$A:$L,10,FALSE))","v":""},{"$f":"IF(ISERROR(VLOOKUP($A978,check!$A:$L,11,FALSE))=TRUE,\"\",VLOOKUP($A978,check!$A:$L,11,FALSE))","v":""},{"$f":"IF(ISERROR(VLOOKUP($A978,check!$A:$L,12,FALSE))=TRUE,\"\",VLOOKUP($A978,check!$A:$L,12,FALSE))","v":""}]
[979,{"$f":"IF(C979=\"\",\"\",MATCH(A979,check!A:A,0))","v":""},{"$f":"IF(ISERROR(VLOOKUP($A979,check!$A:$L,2,FALSE))=TRUE,\"\",VLOOKUP($A979,check!$A:$L,2,FALSE))","v":""},{"$f":"IF(ISERROR(VLOOKUP($A979,check!$A:$L,3,FALSE))=TRUE,\"\",VLOOKUP($A979,check!$A:$L,3,FALSE))","v":""},{"$f":"IF(ISERROR(VLOOKUP($A979,check!$A:$L,4,FALSE))=TRUE,\"\",VLOOKUP($A979,check!$A:$L,4,FALSE))","v":""},{"$f":"IF(ISERROR(VLOOKUP($A979,check!$A:$L,5,FALSE))=TRUE,\"\",VLOOKUP($A979,check!$A:$L,5,FALSE))","v":""},{"$f":"IF(ISERROR(VLOOKUP($A979,check!$A:$L,6,FALSE))=TRUE,\"\",VLOOKUP($A979,check!$A:$L,6,FALSE))","v":""},{"$f":"IF(ISERROR(VLOOKUP($A979,check!$A:$L,7,FALSE))=TRUE,\"\",VLOOKUP($A979,check!$A:$L,7,FALSE))","v":""},{"$f":"IF(ISERROR(VLOOKUP($A979,check!$A:$L,8,FALSE))=TRUE,\"\",VLOOKUP($A979,check!$A:$L,8,FALSE))","v":""},{"$f":"IF(ISERROR(VLOOKUP($A979,check!$A:$L,9,FALSE))=TRUE,\"\",VLOOKUP($A979,check!$A:$L,9,FALSE))","v":""},{"$f":"IF(ISERROR(VLOOKUP($A979,check!$A:$L,10,FALSE))=TRUE,\"\",VLOOKUP($A979,check!$A:$L,10,FALSE))","v":""},{"$f":"IF(ISERROR(VLOOKUP($A979,check!$A:$L,11,FALSE))=TRUE,\"\",VLOOKUP($A979,check!$A:$L,11,FALSE))","v":""},{"$f":"IF(ISERROR(VLOOKUP($A979,check!$A:$L,12,FALSE))=TRUE,\"\",VLOOKUP($A979,check!$A:$L,12,FALSE))","v":""}]
[980,{"$f":"IF(C980=\"\",\"\",MATCH(A980,check!A:A,0))","v":""},{"$f":"IF(ISERROR(VLOOKUP($A980,check!$A:$L,2,FALSE))=TRUE,\"\",VLOOKUP($A980,check!$A:$L,2,FALSE))","v":""},{"$f":"IF(ISERROR(VLOOKUP($A980,check!$A:$L,3,FALSE))=TRUE,\"\",VLOOKUP($A980,check!$A:$L,3,FALSE))","v":""},{"$f":"IF(ISERROR(VLOOKUP($A980,check!$A:$L,4,FALSE))=TRUE,\"\",VLOOKUP($A980,check!$A:$L,4,FALSE))","v":""},{"$f":"IF(ISERROR(VLOOKUP($A980,check!$A:$L,5,FALSE))=TRUE,\"\",VLOOKUP($A980,check!$A:$L,5,FALSE))","v":""},{"$f":"IF(ISERROR(VLOOKUP($A980,check!$A:$L,6,FALSE))=TRUE,\"\",VLOOKUP($A980,check!$A:$L,6,FALSE))","v":""},{"$f":"IF(ISERROR(VLOOKUP($A980,check!$A:$L,7,FALSE))=TRUE,\"\",VLOOKUP($A980,check!$A:$L,7,FALSE))","v":""},{"$f":"IF(ISERROR(VLOOKUP($A980,check!$A:$L,8,FALSE))=TRUE,\"\",VLOOKUP($A980,check!$A:$L,8,FALSE))","v":""},{"$f":"IF(ISERROR(VLOOKUP($A980,check!$A:$L,9,FALSE))=TRUE,\"\",VLOOKUP($A980,check!$A:$L,9,FALSE))","v":""},{"$f":"IF(ISERROR(VLOOKUP($A980,check!$A:$L,10,FALSE))=TRUE,\"\",VLOOKUP($A980,check!$A:$L,10,FALSE))","v":""},{"$f":"IF(ISERROR(VLOOKUP($A980,check!$A:$L,11,FALSE))=TRUE,\"\",VLOOKUP($A980,check!$A:$L,11,FALSE))","v":""},{"$f":"IF(ISERROR(VLOOKUP($A980,check!$A:$L,12,FALSE))=TRUE,\"\",VLOOKUP($A980,check!$A:$L,12,FALSE))","v":""}]
[981,{"$f":"IF(C981=\"\",\"\",MATCH(A981,check!A:A,0))","v":""},{"$f":"IF(ISERROR(VLOOKUP($A981,check!$A:$L,2,FALSE))=TRUE,\"\",VLOOKUP($A981,check!$A:$L,2,FALSE))","v":""},{"$f":"IF(ISERROR(VLOOKUP($A981,check!$A:$L,3,FALSE))=TRUE,\"\",VLOOKUP($A981,check!$A:$L,3,FALSE))","v":""},{"$f":"IF(ISERROR(VLOOKUP($A981,check!$A:$L,4,FALSE))=TRUE,\"\",VLOOKUP($A981,check!$A:$L,4,FALSE))","v":""},{"$f":"IF(ISERROR(VLOOKUP($A981,check!$A:$L,5,FALSE))=TRUE,\"\",VLOOKUP($A981,check!$A:$L,5,FALSE))","v":""},{"$f":"IF(ISERROR(VLOOKUP($A981,check!$A:$L,6,FALSE))=TRUE,\"\",VLOOKUP($A981,check!$A:$L,6,FALSE))","v":""},{"$f":"IF(ISERROR(VLOOKUP($A981,check!$A:$L,7,FALSE))=TRUE,\"\",VLOOKUP($A981,check!$A:$L,7,FALSE))","v":""},{"$f":"IF(ISERROR(VLOOKUP($A981,check!$A:$L,8,FALSE))=TRUE,\"\",VLOOKUP($A981,check!$A:$L,8,FALSE))","v":""},{"$f":"IF(ISERROR(VLOOKUP($A981,check!$A:$L,9,FALSE))=TRUE,\"\",VLOOKUP($A981,check!$A:$L,9,FALSE))","v":""},{"$f":"IF(ISERROR(VLOOKUP($A981,check!$A:$L,10,FALSE))=TRUE,\"\",VLOOKUP($A981,check!$A:$L,10,FALSE))","v":""},{"$f":"IF(ISERROR(VLOOKUP($A981,check!$A:$L,11,FALSE))=TRUE,\"\",VLOOKUP($A981,check!$A:$L,11,FALSE))","v":""},{"$f":"IF(ISERROR(VLOOKUP($A981,check!$A:$L,12,FALSE))=TRUE,\"\",VLOOKUP($A981,check!$A:$L,12,FALSE))","v":""}]
[982,{"$f":"IF(C982=\"\",\"\",MATCH(A982,check!A:A,0))","v":""},{"$f":"IF(ISERROR(VLOOKUP($A982,check!$A:$L,2,FALSE))=TRUE,\"\",VLOOKUP($A982,check!$A:$L,2,FALSE))","v":""},{"$f":"IF(ISERROR(VLOOKUP($A982,check!$A:$L,3,FALSE))=TRUE,\"\",VLOOKUP($A982,check!$A:$L,3,FALSE))","v":""},{"$f":"IF(ISERROR(VLOOKUP($A982,check!$A:$L,4,FALSE))=TRUE,\"\",VLOOKUP($A982,check!$A:$L,4,FALSE))","v":""},{"$f":"IF(ISERROR(VLOOKUP($A982,check!$A:$L,5,FALSE))=TRUE,\"\",VLOOKUP($A982,check!$A:$L,5,FALSE))","v":""},{"$f":"IF(ISERROR(VLOOKUP($A982,check!$A:$L,6,FALSE))=TRUE,\"\",VLOOKUP($A982,check!$A:$L,6,FALSE))","v":""},{"$f":"IF(ISERROR(VLOOKUP($A982,check!$A:$L,7,FALSE))=TRUE,\"\",VLOOKUP($A982,check!$A:$L,7,FALSE))","v":""},{"$f":"IF(ISERROR(VLOOKUP($A982,check!$A:$L,8,FALSE))=TRUE,\"\",VLOOKUP($A982,check!$A:$L,8,FALSE))","v":""},{"$f":"IF(ISERROR(VLOOKUP($A982,check!$A:$L,9,FALSE))=TRUE,\"\",VLOOKUP($A982,check!$A:$L,9,FALSE))","v":""},{"$f":"IF(ISERROR(VLOOKUP($A982,check!$A:$L,10,FALSE))=TRUE,\"\",VLOOKUP($A982,check!$A:$L,10,FALSE))","v":""},{"$f":"IF(ISERROR(VLOOKUP($A982,check!$A:$L,11,FALSE))=TRUE,\"\",VLOOKUP($A982,check!$A:$L,11,FALSE))","v":""},{"$f":"IF(ISERROR(VLOOKUP($A982,check!$A:$L,12,FALSE))=TRUE,\"\",VLOOKUP($A982,check!$A:$L,12,FALSE))","v":""}]
[983,{"$f":"IF(C983=\"\",\"\",MATCH(A983,check!A:A,0))","v":""},{"$f":"IF(ISERROR(VLOOKUP($A983,check!$A:$L,2,FALSE))=TRUE,\"\",VLOOKUP($A983,check!$A:$L,2,FALSE))","v":""},{"$f":"IF(ISERROR(VLOOKUP($A983,check!$A:$L,3,FALSE))=TRUE,\"\",VLOOKUP($A983,check!$A:$L,3,FALSE))","v":""},{"$f":"IF(ISERROR(VLOOKUP($A983,check!$A:$L,4,FALSE))=TRUE,\"\",VLOOKUP($A983,check!$A:$L,4,FALSE))","v":""},{"$f":"IF(ISERROR(VLOOKUP($A983,check!$A:$L,5,FALSE))=TRUE,\"\",VLOOKUP($A983,check!$A:$L,5,FALSE))","v":""},{"$f":"IF(ISERROR(VLOOKUP($A983,check!$A:$L,6,FALSE))=TRUE,\"\",VLOOKUP($A983,check!$A:$L,6,FALSE))","v":""},{"$f":"IF(ISERROR(VLOOKUP($A983,check!$A:$L,7,FALSE))=TRUE,\"\",VLOOKUP($A983,check!$A:$L,7,FALSE))","v":""},{"$f":"IF(ISERROR(VLOOKUP($A983,check!$A:$L,8,FALSE))=TRUE,\"\",VLOOKUP($A983,check!$A:$L,8,FALSE))","v":""},{"$f":"IF(ISERROR(VLOOKUP($A983,check!$A:$L,9,FALSE))=TRUE,\"\",VLOOKUP($A983,check!$A:$L,9,FALSE))","v":""},{"$f":"IF(ISERROR(VLOOKUP($A983,check!$A:$L,10,FALSE))=TRUE,\"\",VLOOKUP($A983,check!$A:$L,10,FALSE))","v":""},{"$f":"IF(ISERROR(VLOOKUP($A983,check!$A:$L,11,FALSE))=TRUE,\"\",VLOOKUP($A983,check!$A:$L,11,FALSE))","v":""},{"$f":"IF(ISERROR(VLOOKUP($A983,check!$A:$L,12,FALSE))=TRUE,\"\",VLOOKUP($A983,check!$A:$L,12,FALSE))","v":""}]
[984,{"$f":"IF(C984=\"\",\"\",MATCH(A984,check!A:A,0))","v":""},{"$f":"IF(ISERROR(VLOOKUP($A984,check!$A:$L,2,FALSE))=TRUE,\"\",VLOOKUP($A984,check!$A:$L,2,FALSE))","v":""},{"$f":"IF(ISERROR(VLOOKUP($A984,check!$A:$L,3,FALSE))=TRUE,\"\",VLOOKUP($A984,check!$A:$L,3,FALSE))","v":""},{"$f":"IF(ISERROR(VLOOKUP($A984,check!$A:$L,4,FALSE))=TRUE,\"\",VLOOKUP($A984,check!$A:$L,4,FALSE))","v":""},{"$f":"IF(ISERROR(VLOOKUP($A984,check!$A:$L,5,FALSE))=TRUE,\"\",VLOOKUP($A984,check!$A:$L,5,FALSE))","v":""},{"$f":"IF(ISERROR(VLOOKUP($A984,check!$A:$L,6,FALSE))=TRUE,\"\",VLOOKUP($A984,check!$A:$L,6,FALSE))","v":""},{"$f":"IF(ISERROR(VLOOKUP($A984,check!$A:$L,7,FALSE))=TRUE,\"\",VLOOKUP($A984,check!$A:$L,7,FALSE))","v":""},{"$f":"IF(ISERROR(VLOOKUP($A984,check!$A:$L,8,FALSE))=TRUE,\"\",VLOOKUP($A984,check!$A:$L,8,FALSE))","v":""},{"$f":"IF(ISERROR(VLOOKUP($A984,check!$A:$L,9,FALSE))=TRUE,\"\",VLOOKUP($A984,check!$A:$L,9,FALSE))","v":""},{"$f":"IF(ISERROR(VLOOKUP($A984,check!$A:$L,10,FALSE))=TRUE,\"\",VLOOKUP($A984,check!$A:$L,10,FALSE))","v":""},{"$f":"IF(ISERROR(VLOOKUP($A984,check!$A:$L,11,FALSE))=TRUE,\"\",VLOOKUP($A984,check!$A:$L,11,FALSE))","v":""},{"$f":"IF(ISERROR(VLOOKUP($A984,check!$A:$L,12,FALSE))=TRUE,\"\",VLOOKUP($A984,check!$A:$L,12,FALSE))","v":""}]
[985,{"$f":"IF(C985=\"\",\"\",MATCH(A985,check!A:A,0))","v":""},{"$f":"IF(ISERROR(VLOOKUP($A985,check!$A:$L,2,FALSE))=TRUE,\"\",VLOOKUP($A985,check!$A:$L,2,FALSE))","v":""},{"$f":"IF(ISERROR(VLOOKUP($A985,check!$A:$L,3,FALSE))=TRUE,\"\",VLOOKUP($A985,check!$A:$L,3,FALSE))","v":""},{"$f":"IF(ISERROR(VLOOKUP($A985,check!$A:$L,4,FALSE))=TRUE,\"\",VLOOKUP($A985,check!$A:$L,4,FALSE))","v":""},{"$f":"IF(ISERROR(VLOOKUP($A985,check!$A:$L,5,FALSE))=TRUE,\"\",VLOOKUP($A985,check!$A:$L,5,FALSE))","v":""},{"$f":"IF(ISERROR(VLOOKUP($A985,check!$A:$L,6,FALSE))=TRUE,\"\",VLOOKUP($A985,check!$A:$L,6,FALSE))","v":""},{"$f":"IF(ISERROR(VLOOKUP($A985,check!$A:$L,7,FALSE))=TRUE,\"\",VLOOKUP($A985,check!$A:$L,7,FALSE))","v":""},{"$f":"IF(ISERROR(VLOOKUP($A985,check!$A:$L,8,FALSE))=TRUE,\"\",VLOOKUP($A985,check!$A:$L,8,FALSE))","v":""},{"$f":"IF(ISERROR(VLOOKUP($A985,check!$A:$L,9,FALSE))=TRUE,\"\",VLOOKUP($A985,check!$A:$L,9,FALSE))","v":""},{"$f":"IF(ISERROR(VLOOKUP($A985,check!$A:$L,10,FALSE))=TRUE,\"\",VLOOKUP($A985,check!$A:$L,10,FALSE))","v":""},{"$f":"IF(ISERROR(VLOOKUP($A985,check!$A:$L,11,FALSE))=TRUE,\"\",VLOOKUP($A985,check!$A:$L,11,FALSE))","v":""},{"$f":"IF(ISERROR(VLOOKUP($A985,check!$A:$L,12,FALSE))=TRUE,\"\",VLOOKUP($A985,check!$A:$L,12,FALSE))","v":""}]
[986,{"$f":"IF(C986=\"\",\"\",MATCH(A986,check!A:A,0))","v":""},{"$f":"IF(ISERROR(VLOOKUP($A986,check!$A:$L,2,FALSE))=TRUE,\"\",VLOOKUP($A986,check!$A:$L,2,FALSE))","v":""},{"$f":"IF(ISERROR(VLOOKUP($A986,check!$A:$L,3,FALSE))=TRUE,\"\",VLOOKUP($A986,check!$A:$L,3,FALSE))","v":""},{"$f":"IF(ISERROR(VLOOKUP($A986,check!$A:$L,4,FALSE))=TRUE,\"\",VLOOKUP($A986,check!$A:$L,4,FALSE))","v":""},{"$f":"IF(ISERROR(VLOOKUP($A986,check!$A:$L,5,FALSE))=TRUE,\"\",VLOOKUP($A986,check!$A:$L,5,FALSE))","v":""},{"$f":"IF(ISERROR(VLOOKUP($A986,check!$A:$L,6,FALSE))=TRUE,\"\",VLOOKUP($A986,check!$A:$L,6,FALSE))","v":""},{"$f":"IF(ISERROR(VLOOKUP($A986,check!$A:$L,7,FALSE))=TRUE,\"\",VLOOKUP($A986,check!$A:$L,7,FALSE))","v":""},{"$f":"IF(ISERROR(VLOOKUP($A986,check!$A:$L,8,FALSE))=TRUE,\"\",VLOOKUP($A986,check!$A:$L,8,FALSE))","v":""},{"$f":"IF(ISERROR(VLOOKUP($A986,check!$A:$L,9,FALSE))=TRUE,\"\",VLOOKUP($A986,check!$A:$L,9,FALSE))","v":""},{"$f":"IF(ISERROR(VLOOKUP($A986,check!$A:$L,10,FALSE))=TRUE,\"\",VLOOKUP($A986,check!$A:$L,10,FALSE))","v":""},{"$f":"IF(ISERROR(VLOOKUP($A986,check!$A:$L,11,FALSE))=TRUE,\"\",VLOOKUP($A986,check!$A:$L,11,FALSE))","v":""},{"$f":"IF(ISERROR(VLOOKUP($A986,check!$A:$L,12,FALSE))=TRUE,\"\",VLOOKUP($A986,check!$A:$L,12,FALSE))","v":""}]
[987,{"$f":"IF(C987=\"\",\"\",MATCH(A987,check!A:A,0))","v":""},{"$f":"IF(ISERROR(VLOOKUP($A987,check!$A:$L,2,FALSE))=TRUE,\"\",VLOOKUP($A987,check!$A:$L,2,FALSE))","v":""},{"$f":"IF(ISERROR(VLOOKUP($A987,check!$A:$L,3,FALSE))=TRUE,\"\",VLOOKUP($A987,check!$A:$L,3,FALSE))","v":""},{"$f":"IF(ISERROR(VLOOKUP($A987,check!$A:$L,4,FALSE))=TRUE,\"\",VLOOKUP($A987,check!$A:$L,4,FALSE))","v":""},{"$f":"IF(ISERROR(VLOOKUP($A987,check!$A:$L,5,FALSE))=TRUE,\"\",VLOOKUP($A987,check!$A:$L,5,FALSE))","v":""},{"$f":"IF(ISERROR(VLOOKUP($A987,check!$A:$L,6,FALSE))=TRUE,\"\",VLOOKUP($A987,check!$A:$L,6,FALSE))","v":""},{"$f":"IF(ISERROR(VLOOKUP($A987,check!$A:$L,7,FALSE))=TRUE,\"\",VLOOKUP($A987,check!$A:$L,7,FALSE))","v":""},{"$f":"IF(ISERROR(VLOOKUP($A987,check!$A:$L,8,FALSE))=TRUE,\"\",VLOOKUP($A987,check!$A:$L,8,FALSE))","v":""},{"$f":"IF(ISERROR(VLOOKUP($A987,check!$A:$L,9,FALSE))=TRUE,\"\",VLOOKUP($A987,check!$A:$L,9,FALSE))","v":""},{"$f":"IF(ISERROR(VLOOKUP($A987,check!$A:$L,10,FALSE))=TRUE,\"\",VLOOKUP($A987,check!$A:$L,10,FALSE))","v":""},{"$f":"IF(ISERROR(VLOOKUP($A987,check!$A:$L,11,FALSE))=TRUE,\"\",VLOOKUP($A987,check!$A:$L,11,FALSE))","v":""},{"$f":"IF(ISERROR(VLOOKUP($A987,check!$A:$L,12,FALSE))=TRUE,\"\",VLOOKUP($A987,check!$A:$L,12,FALSE))","v":""}]
[988,{"$f":"IF(C988=\"\",\"\",MATCH(A988,check!A:A,0))","v":""},{"$f":"IF(ISERROR(VLOOKUP($A988,check!$A:$L,2,FALSE))=TRUE,\"\",VLOOKUP($A988,check!$A:$L,2,FALSE))","v":""},{"$f":"IF(ISERROR(VLOOKUP($A988,check!$A:$L,3,FALSE))=TRUE,\"\",VLOOKUP($A988,check!$A:$L,3,FALSE))","v":""},{"$f":"IF(ISERROR(VLOOKUP($A988,check!$A:$L,4,FALSE))=TRUE,\"\",VLOOKUP($A988,check!$A:$L,4,FALSE))","v":""},{"$f":"IF(ISERROR(VLOOKUP($A988,check!$A:$L,5,FALSE))=TRUE,\"\",VLOOKUP($A988,check!$A:$L,5,FALSE))","v":""},{"$f":"IF(ISERROR(VLOOKUP($A988,check!$A:$L,6,FALSE))=TRUE,\"\",VLOOKUP($A988,check!$A:$L,6,FALSE))","v":""},{"$f":"IF(ISERROR(VLOOKUP($A988,check!$A:$L,7,FALSE))=TRUE,\"\",VLOOKUP($A988,check!$A:$L,7,FALSE))","v":""},{"$f":"IF(ISERROR(VLOOKUP($A988,check!$A:$L,8,FALSE))=TRUE,\"\",VLOOKUP($A988,check!$A:$L,8,FALSE))","v":""},{"$f":"IF(ISERROR(VLOOKUP($A988,check!$A:$L,9,FALSE))=TRUE,\"\",VLOOKUP($A988,check!$A:$L,9,FALSE))","v":""},{"$f":"IF(ISERROR(VLOOKUP($A988,check!$A:$L,10,FALSE))=TRUE,\"\",VLOOKUP($A988,check!$A:$L,10,FALSE))","v":""},{"$f":"IF(ISERROR(VLOOKUP($A988,check!$A:$L,11,FALSE))=TRUE,\"\",VLOOKUP($A988,check!$A:$L,11,FALSE))","v":""},{"$f":"IF(ISERROR(VLOOKUP($A988,check!$A:$L,12,FALSE))=TRUE,\"\",VLOOKUP($A988,check!$A:$L,12,FALSE))","v":""}]
[989,{"$f":"IF(C989=\"\",\"\",MATCH(A989,check!A:A,0))","v":""},{"$f":"IF(ISERROR(VLOOKUP($A989,check!$A:$L,2,FALSE))=TRUE,\"\",VLOOKUP($A989,check!$A:$L,2,FALSE))","v":""},{"$f":"IF(ISERROR(VLOOKUP($A989,check!$A:$L,3,FALSE))=TRUE,\"\",VLOOKUP($A989,check!$A:$L,3,FALSE))","v":""},{"$f":"IF(ISERROR(VLOOKUP($A989,check!$A:$L,4,FALSE))=TRUE,\"\",VLOOKUP($A989,check!$A:$L,4,FALSE))","v":""},{"$f":"IF(ISERROR(VLOOKUP($A989,check!$A:$L,5,FALSE))=TRUE,\"\",VLOOKUP($A989,check!$A:$L,5,FALSE))","v":""},{"$f":"IF(ISERROR(VLOOKUP($A989,check!$A:$L,6,FALSE))=TRUE,\"\",VLOOKUP($A989,check!$A:$L,6,FALSE))","v":""},{"$f":"IF(ISERROR(VLOOKUP($A989,check!$A:$L,7,FALSE))=TRUE,\"\",VLOOKUP($A989,check!$A:$L,7,FALSE))","v":""},{"$f":"IF(ISERROR(VLOOKUP($A989,check!$A:$L,8,FALSE))=TRUE,\"\",VLOOKUP($A989,check!$A:$L,8,FALSE))","v":""},{"$f":"IF(ISERROR(VLOOKUP($A989,check!$A:$L,9,FALSE))=TRUE,\"\",VLOOKUP($A989,check!$A:$L,9,FALSE))","v":""},{"$f":"IF(ISERROR(VLOOKUP($A989,check!$A:$L,10,FALSE))=TRUE,\"\",VLOOKUP($A989,check!$A:$L,10,FALSE))","v":""},{"$f":"IF(ISERROR(VLOOKUP($A989,check!$A:$L,11,FALSE))=TRUE,\"\",VLOOKUP($A989,check!$A:$L,11,FALSE))","v":""},{"$f":"IF(ISERROR(VLOOKUP($A989,check!$A:$L,12,FALSE))=TRUE,\"\",VLOOKUP($A989,check!$A:$L,12,FALSE))","v":""}]
[990,{"$f":"IF(C990=\"\",\"\",MATCH(A990,check!A:A,0))","v":""},{"$f":"IF(ISERROR(VLOOKUP($A990,check!$A:$L,2,FALSE))=TRUE,\"\",VLOOKUP($A990,check!$A:$L,2,FALSE))","v":""},{"$f":"IF(ISERROR(VLOOKUP($A990,check!$A:$L,3,FALSE))=TRUE,\"\",VLOOKUP($A990,check!$A:$L,3,FALSE))","v":""},{"$f":"IF(ISERROR(VLOOKUP($A990,check!$A:$L,4,FALSE))=TRUE,\"\",VLOOKUP($A990,check!$A:$L,4,FALSE))","v":""},{"$f":"IF(ISERROR(VLOOKUP($A990,check!$A:$L,5,FALSE))=TRUE,\"\",VLOOKUP($A990,check!$A:$L,5,FALSE))","v":""},{"$f":"IF(ISERROR(VLOOKUP($A990,check!$A:$L,6,FALSE))=TRUE,\"\",VLOOKUP($A990,check!$A:$L,6,FALSE))","v":""},{"$f":"IF(ISERROR(VLOOKUP($A990,check!$A:$L,7,FALSE))=TRUE,\"\",VLOOKUP($A990,check!$A:$L,7,FALSE))","v":""},{"$f":"IF(ISERROR(VLOOKUP($A990,check!$A:$L,8,FALSE))=TRUE,\"\",VLOOKUP($A990,check!$A:$L,8,FALSE))","v":""},{"$f":"IF(ISERROR(VLOOKUP($A990,check!$A:$L,9,FALSE))=TRUE,\"\",VLOOKUP($A990,check!$A:$L,9,FALSE))","v":""},{"$f":"IF(ISERROR(VLOOKUP($A990,check!$A:$L,10,FALSE))=TRUE,\"\",VLOOKUP($A990,check!$A:$L,10,FALSE))","v":""},{"$f":"IF(ISERROR(VLOOKUP($A990,check!$A:$L,11,FALSE))=TRUE,\"\",VLOOKUP($A990,check!$A:$L,11,FALSE))","v":""},{"$f":"IF(ISERROR(VLOOKUP($A990,check!$A:$L,12,FALSE))=TRUE,\"\",VLOOKUP($A990,check!$A:$L,12,FALSE))","v":""}]
[991,{"$f":"IF(C991=\"\",\"\",MATCH(A991,check!A:A,0))","v":""},{"$f":"IF(ISERROR(VLOOKUP($A991,check!$A:$L,2,FALSE))=TRUE,\"\",VLOOKUP($A991,check!$A:$L,2,FALSE))","v":""},{"$f":"IF(ISERROR(VLOOKUP($A991,check!$A:$L,3,FALSE))=TRUE,\"\",VLOOKUP($A991,check!$A:$L,3,FALSE))","v":""},{"$f":"IF(ISERROR(VLOOKUP($A991,check!$A:$L,4,FALSE))=TRUE,\"\",VLOOKUP($A991,check!$A:$L,4,FALSE))","v":""},{"$f":"IF(ISERROR(VLOOKUP($A991,check!$A:$L,5,FALSE))=TRUE,\"\",VLOOKUP($A991,check!$A:$L,5,FALSE))","v":""},{"$f":"IF(ISERROR(VLOOKUP($A991,check!$A:$L,6,FALSE))=TRUE,\"\",VLOOKUP($A991,check!$A:$L,6,FALSE))","v":""},{"$f":"IF(ISERROR(VLOOKUP($A991,check!$A:$L,7,FALSE))=TRUE,\"\",VLOOKUP($A991,check!$A:$L,7,FALSE))","v":""},{"$f":"IF(ISERROR(VLOOKUP($A991,check!$A:$L,8,FALSE))=TRUE,\"\",VLOOKUP($A991,check!$A:$L,8,FALSE))","v":""},{"$f":"IF(ISERROR(VLOOKUP($A991,check!$A:$L,9,FALSE))=TRUE,\"\",VLOOKUP($A991,check!$A:$L,9,FALSE))","v":""},{"$f":"IF(ISERROR(VLOOKUP($A991,check!$A:$L,10,FALSE))=TRUE,\"\",VLOOKUP($A991,check!$A:$L,10,FALSE))","v":""},{"$f":"IF(ISERROR(VLOOKUP($A991,check!$A:$L,11,FALSE))=TRUE,\"\",VLOOKUP($A991,check!$A:$L,11,FALSE))","v":""},{"$f":"IF(ISERROR(VLOOKUP($A991,check!$A:$L,12,FALSE))=TRUE,\"\",VLOOKUP($A991,check!$A:$L,12,FALSE))","v":""}]
[992,{"$f":"IF(C992=\"\",\"\",MATCH(A992,check!A:A,0))","v":""},{"$f":"IF(ISERROR(VLOOKUP($A992,check!$A:$L,2,FALSE))=TRUE,\"\",VLOOKUP($A992,check!$A:$L,2,FALSE))","v":""},{"$f":"IF(ISERROR(VLOOKUP($A992,check!$A:$L,3,FALSE))=TRUE,\"\",VLOOKUP($A992,check!$A:$L,3,FALSE))","v":""},{"$f":"IF(ISERROR(VLOOKUP($A992,check!$A:$L,4,FALSE))=TRUE,\"\",VLOOKUP($A992,check!$A:$L,4,FALSE))","v":""},{"$f":"IF(ISERROR(VLOOKUP($A992,check!$A:$L,5,FALSE))=TRUE,\"\",VLOOKUP($A992,check!$A:$L,5,FALSE))","v":""},{"$f":"IF(ISERROR(VLOOKUP($A992,check!$A:$L,6,FALSE))=TRUE,\"\",VLOOKUP($A992,check!$A:$L,6,FALSE))","v":""},{"$f":"IF(ISERROR(VLOOKUP($A992,check!$A:$L,7,FALSE))=TRUE,\"\",VLOOKUP($A992,check!$A:$L,7,FALSE))","v":""},{"$f":"IF(ISERROR(VLOOKUP($A992,check!$A:$L,8,FALSE))=TRUE,\"\",VLOOKUP($A992,check!$A:$L,8,FALSE))","v":""},{"$f":"IF(ISERROR(VLOOKUP($A992,check!$A:$L,9,FALSE))=TRUE,\"\",VLOOKUP($A992,check!$A:$L,9,FALSE))","v":""},{"$f":"IF(ISERROR(VLOOKUP($A992,check!$A:$L,10,FALSE))=TRUE,\"\",VLOOKUP($A992,check!$A:$L,10,FALSE))","v":""},{"$f":"IF(ISERROR(VLOOKUP($A992,check!$A:$L,11,FALSE))=TRUE,\"\",VLOOKUP($A992,check!$A:$L,11,FALSE))","v":""},{"$f":"IF(ISERROR(VLOOKUP($A992,check!$A:$L,12,FALSE))=TRUE,\"\",VLOOKUP($A992,check!$A:$L,12,FALSE))","v":""}]
[993,{"$f":"IF(C993=\"\",\"\",MATCH(A993,check!A:A,0))","v":""},{"$f":"IF(ISERROR(VLOOKUP($A993,check!$A:$L,2,FALSE))=TRUE,\"\",VLOOKUP($A993,check!$A:$L,2,FALSE))","v":""},{"$f":"IF(ISERROR(VLOOKUP($A993,check!$A:$L,3,FALSE))=TRUE,\"\",VLOOKUP($A993,check!$A:$L,3,FALSE))","v":""},{"$f":"IF(ISERROR(VLOOKUP($A993,check!$A:$L,4,FALSE))=TRUE,\"\",VLOOKUP($A993,check!$A:$L,4,FALSE))","v":""},{"$f":"IF(ISERROR(VLOOKUP($A993,check!$A:$L,5,FALSE))=TRUE,\"\",VLOOKUP($A993,check!$A:$L,5,FALSE))","v":""},{"$f":"IF(ISERROR(VLOOKUP($A993,check!$A:$L,6,FALSE))=TRUE,\"\",VLOOKUP($A993,check!$A:$L,6,FALSE))","v":""},{"$f":"IF(ISERROR(VLOOKUP($A993,check!$A:$L,7,FALSE))=TRUE,\"\",VLOOKUP($A993,check!$A:$L,7,FALSE))","v":""},{"$f":"IF(ISERROR(VLOOKUP($A993,check!$A:$L,8,FALSE))=TRUE,\"\",VLOOKUP($A993,check!$A:$L,8,FALSE))","v":""},{"$f":"IF(ISERROR(VLOOKUP($A993,check!$A:$L,9,FALSE))=TRUE,\"\",VLOOKUP($A993,check!$A:$L,9,FALSE))","v":""},{"$f":"IF(ISERROR(VLOOKUP($A993,check!$A:$L,10,FALSE))=TRUE,\"\",VLOOKUP($A993,check!$A:$L,10,FALSE))","v":""},{"$f":"IF(ISERROR(VLOOKUP($A993,check!$A:$L,11,FALSE))=TRUE,\"\",VLOOKUP($A993,check!$A:$L,11,FALSE))","v":""},{"$f":"IF(ISERROR(VLOOKUP($A993,check!$A:$L,12,FALSE))=TRUE,\"\",VLOOKUP($A993,check!$A:$L,12,FALSE))","v":""}]
[994,{"$f":"IF(C994=\"\",\"\",MATCH(A994,check!A:A,0))","v":""},{"$f":"IF(ISERROR(VLOOKUP($A994,check!$A:$L,2,FALSE))=TRUE,\"\",VLOOKUP($A994,check!$A:$L,2,FALSE))","v":""},{"$f":"IF(ISERROR(VLOOKUP($A994,check!$A:$L,3,FALSE))=TRUE,\"\",VLOOKUP($A994,check!$A:$L,3,FALSE))","v":""},{"$f":"IF(ISERROR(VLOOKUP($A994,check!$A:$L,4,FALSE))=TRUE,\"\",VLOOKUP($A994,check!$A:$L,4,FALSE))","v":""},{"$f":"IF(ISERROR(VLOOKUP($A994,check!$A:$L,5,FALSE))=TRUE,\"\",VLOOKUP($A994,check!$A:$L,5,FALSE))","v":""},{"$f":"IF(ISERROR(VLOOKUP($A994,check!$A:$L,6,FALSE))=TRUE,\"\",VLOOKUP($A994,check!$A:$L,6,FALSE))","v":""},{"$f":"IF(ISERROR(VLOOKUP($A994,check!$A:$L,7,FALSE))=TRUE,\"\",VLOOKUP($A994,check!$A:$L,7,FALSE))","v":""},{"$f":"IF(ISERROR(VLOOKUP($A994,check!$A:$L,8,FALSE))=TRUE,\"\",VLOOKUP($A994,check!$A:$L,8,FALSE))","v":""},{"$f":"IF(ISERROR(VLOOKUP($A994,check!$A:$L,9,FALSE))=TRUE,\"\",VLOOKUP($A994,check!$A:$L,9,FALSE))","v":""},{"$f":"IF(ISERROR(VLOOKUP($A994,check!$A:$L,10,FALSE))=TRUE,\"\",VLOOKUP($A994,check!$A:$L,10,FALSE))","v":""},{"$f":"IF(ISERROR(VLOOKUP($A994,check!$A:$L,11,FALSE))=TRUE,\"\",VLOOKUP($A994,check!$A:$L,11,FALSE))","v":""},{"$f":"IF(ISERROR(VLOOKUP($A994,check!$A:$L,12,FALSE))=TRUE,\"\",VLOOKUP($A994,check!$A:$L,12,FALSE))","v":""}]
[995,{"$f":"IF(C995=\"\",\"\",MATCH(A995,check!A:A,0))","v":""},{"$f":"IF(ISERROR(VLOOKUP($A995,check!$A:$L,2,FALSE))=TRUE,\"\",VLOOKUP($A995,check!$A:$L,2,FALSE))","v":""},{"$f":"IF(ISERROR(VLOOKUP($A995,check!$A:$L,3,FALSE))=TRUE,\"\",VLOOKUP($A995,check!$A:$L,3,FALSE))","v":""},{"$f":"IF(ISERROR(VLOOKUP($A995,check!$A:$L,4,FALSE))=TRUE,\"\",VLOOKUP($A995,check!$A:$L,4,FALSE))","v":""},{"$f":"IF(ISERROR(VLOOKUP($A995,check!$A:$L,5,FALSE))=TRUE,\"\",VLOOKUP($A995,check!$A:$L,5,FALSE))","v":""},{"$f":"IF(ISERROR(VLOOKUP($A995,check!$A:$L,6,FALSE))=TRUE,\"\",VLOOKUP($A995,check!$A:$L,6,FALSE))","v":""},{"$f":"IF(ISERROR(VLOOKUP($A995,check!$A:$L,7,FALSE))=TRUE,\"\",VLOOKUP($A995,check!$A:$L,7,FALSE))","v":""},{"$f":"IF(ISERROR(VLOOKUP($A995,check!$A:$L,8,FALSE))=TRUE,\"\",VLOOKUP($A995,check!$A:$L,8,FALSE))","v":""},{"$f":"IF(ISERROR(VLOOKUP($A995,check!$A:$L,9,FALSE))=TRUE,\"\",VLOOKUP($A995,check!$A:$L,9,FALSE))","v":""},{"$f":"IF(ISERROR(VLOOKUP($A995,check!$A:$L,10,FALSE))=TRUE,\"\",VLOOKUP($A995,check!$A:$L,10,FALSE))","v":""},{"$f":"IF(ISERROR(VLOOKUP($A995,check!$A:$L,11,FALSE))=TRUE,\"\",VLOOKUP($A995,check!$A:$L,11,FALSE))","v":""},{"$f":"IF(ISERROR(VLOOKUP($A995,check!$A:$L,12,FALSE))=TRUE,\"\",VLOOKUP($A995,check!$A:$L,12,FALSE))","v":""}]
[996,{"$f":"IF(C996=\"\",\"\",MATCH(A996,check!A:A,0))","v":""},{"$f":"IF(ISERROR(VLOOKUP($A996,check!$A:$L,2,FALSE))=TRUE,\"\",VLOOKUP($A996,check!$A:$L,2,FALSE))","v":""},{"$f":"IF(ISERROR(VLOOKUP($A996,check!$A:$L,3,FALSE))=TRUE,\"\",VLOOKUP($A996,check!$A:$L,3,FALSE))","v":""},{"$f":"IF(ISERROR(VLOOKUP($A996,check!$A:$L,4,FALSE))=TRUE,\"\",VLOOKUP($A996,check!$A:$L,4,FALSE))","v":""},{"$f":"IF(ISERROR(VLOOKUP($A996,check!$A:$L,5,FALSE))=TRUE,\"\",VLOOKUP($A996,check!$A:$L,5,FALSE))","v":""},{"$f":"IF(ISERROR(VLOOKUP($A996,check!$A:$L,6,FALSE))=TRUE,\"\",VLOOKUP($A996,check!$A:$L,6,FALSE))","v":""},{"$f":"IF(ISERROR(VLOOKUP($A996,check!$A:$L,7,FALSE))=TRUE,\"\",VLOOKUP($A996,check!$A:$L,7,FALSE))","v":""},{"$f":"IF(ISERROR(VLOOKUP($A996,check!$A:$L,8,FALSE))=TRUE,\"\",VLOOKUP($A996,check!$A:$L,8,FALSE))","v":""},{"$f":"IF(ISERROR(VLOOKUP($A996,check!$A:$L,9,FALSE))=TRUE,\"\",VLOOKUP($A996,check!$A:$L,9,FALSE))","v":""},{"$f":"IF(ISERROR(VLOOKUP($A996,check!$A:$L,10,FALSE))=TRUE,\"\",VLOOKUP($A996,check!$A:$L,10,FALSE))","v":""},{"$f":"IF(ISERROR(VLOOKUP($A996,check!$A:$L,11,FALSE))=TRUE,\"\",VLOOKUP($A996,check!$A:$L,11,FALSE))","v":""},{"$f":"IF(ISERROR(VLOOKUP($A996,check!$A:$L,12,FALSE))=TRUE,\"\",VLOOKUP($A996,check!$A:$L,12,FALSE))","v":""}]
[997,{"$f":"IF(C997=\"\",\"\",MATCH(A997,check!A:A,0))","v":""},{"$f":"IF(ISERROR(VLOOKUP($A997,check!$A:$L,2,FALSE))=TRUE,\"\",VLOOKUP($A997,check!$A:$L,2,FALSE))","v":""},{"$f":"IF(ISERROR(VLOOKUP($A997,check!$A:$L,3,FALSE))=TRUE,\"\",VLOOKUP($A997,check!$A:$L,3,FALSE))","v":""},{"$f":"IF(ISERROR(VLOOKUP($A997,check!$A:$L,4,FALSE))=TRUE,\"\",VLOOKUP($A997,check!$A:$L,4,FALSE))","v":""},{"$f":"IF(ISERROR(VLOOKUP($A997,check!$A:$L,5,FALSE))=TRUE,\"\",VLOOKUP($A997,check!$A:$L,5,FALSE))","v":""},{"$f":"IF(ISERROR(VLOOKUP($A997,check!$A:$L,6,FALSE))=TRUE,\"\",VLOOKUP($A997,check!$A:$L,6,FALSE))","v":""},{"$f":"IF(ISERROR(VLOOKUP($A997,check!$A:$L,7,FALSE))=TRUE,\"\",VLOOKUP($A997,check!$A:$L,7,FALSE))","v":""},{"$f":"IF(ISERROR(VLOOKUP($A997,check!$A:$L,8,FALSE))=TRUE,\"\",VLOOKUP($A997,check!$A:$L,8,FALSE))","v":""},{"$f":"IF(ISERROR(VLOOKUP($A997,check!$A:$L,9,FALSE))=TRUE,\"\",VLOOKUP($A997,check!$A:$L,9,FALSE))","v":""},{"$f":"IF(ISERROR(VLOOKUP($A997,check!$A:$L,10,FALSE))=TRUE,\"\",VLOOKUP($A997,check!$A:$L,10,FALSE))","v":""},{"$f":"IF(ISERROR(VLOOKUP($A997,check!$A:$L,11,FALSE))=TRUE,\"\",VLOOKUP($A997,check!$A:$L,11,FALSE))","v":""},{"$f":"IF(ISERROR(VLOOKUP($A997,check!$A:$L,12,FALSE))=TRUE,\"\",VLOOKUP($A997,check!$A:$L,12,FALSE))","v":""}]
[998,{"$f":"IF(C998=\"\",\"\",MATCH(A998,check!A:A,0))","v":""},{"$f":"IF(ISERROR(VLOOKUP($A998,check!$A:$L,2,FALSE))=TRUE,\"\",VLOOKUP($A998,check!$A:$L,2,FALSE))","v":""},{"$f":"IF(ISERROR(VLOOKUP($A998,check!$A:$L,3,FALSE))=TRUE,\"\",VLOOKUP($A998,check!$A:$L,3,FALSE))","v":""},{"$f":"IF(ISERROR(VLOOKUP($A998,check!$A:$L,4,FALSE))=TRUE,\"\",VLOOKUP($A998,check!$A:$L,4,FALSE))","v":""},{"$f":"IF(ISERROR(VLOOKUP($A998,check!$A:$L,5,FALSE))=TRUE,\"\",VLOOKUP($A998,check!$A:$L,5,FALSE))","v":""},{"$f":"IF(ISERROR(VLOOKUP($A998,check!$A:$L,6,FALSE))=TRUE,\"\",VLOOKUP($A998,check!$A:$L,6,FALSE))","v":""},{"$f":"IF(ISERROR(VLOOKUP($A998,check!$A:$L,7,FALSE))=TRUE,\"\",VLOOKUP($A998,check!$A:$L,7,FALSE))","v":""},{"$f":"IF(ISERROR(VLOOKUP($A998,check!$A:$L,8,FALSE))=TRUE,\"\",VLOOKUP($A998,check!$A:$L,8,FALSE))","v":""},{"$f":"IF(ISERROR(VLOOKUP($A998,check!$A:$L,9,FALSE))=TRUE,\"\",VLOOKUP($A998,check!$A:$L,9,FALSE))","v":""},{"$f":"IF(ISERROR(VLOOKUP($A998,check!$A:$L,10,FALSE))=TRUE,\"\",VLOOKUP($A998,check!$A:$L,10,FALSE))","v":""},{"$f":"IF(ISERROR(VLOOKUP($A998,check!$A:$L,11,FALSE))=TRUE,\"\",VLOOKUP($A998,check!$A:$L,11,FALSE))","v":""},{"$f":"IF(ISERROR(VLOOKUP($A998,check!$A:$L,12,FALSE))=TRUE,\"\",VLOOKUP($A998,check!$A:$L,12,FALSE))","v":""}]
[999,{"$f":"IF(C999=\"\",\"\",MATCH(A999,check!A:A,0))","v":""},{"$f":"IF(ISERROR(VLOOKUP($A999,check!$A:$L,2,FALSE))=TRUE,\"\",VLOOKUP($A999,check!$A:$L,2,FALSE))","v":""},{"$f":"IF(ISERROR(VLOOKUP($A999,check!$A:$L,3,FALSE))=TRUE,\"\",VLOOKUP($A999,check!$A:$L,3,FALSE))","v":""},{"$f":"IF(ISERROR(VLOOKUP($A999,check!$A:$L,4,FALSE))=TRUE,\"\",VLOOKUP($A999,check!$A:$L,4,FALSE))","v":""},{"$f":"IF(ISERROR(VLOOKUP($A999,check!$A:$L,5,FALSE))=TRUE,\"\",VLOOKUP($A999,check!$A:$L,5,FALSE))","v":""},{"$f":"IF(ISERROR(VLOOKUP($A999,check!$A:$L,6,FALSE))=TRUE,\"\",VLOOKUP($A999,check!$A:$L,6,FALSE))","v":""},{"$f":"IF(ISERROR(VLOOKUP($A999,check!$A:$L,7,FALSE))=TRUE,\"\",VLOOKUP($A999,check!$A:$L,7,FALSE))","v":""},{"$f":"IF(ISERROR(VLOOKUP($A999,check!$A:$L,8,FALSE))=TRUE,\"\",VLOOKUP($A999,check!$A:$L,8,FALSE))","v":""},{"$f":"IF(ISERROR(VLOOKUP($A999,check!$A:$L,9,FALSE))=TRUE,\"\",VLOOKUP($A999,check!$A:$L,9,FALSE))","v":""},{"$f":"IF(ISERROR(VLOOKUP($A999,check!$A:$L,10,FALSE))=TRUE,\"\",VLOOKUP($A999,check!$A:$L,10,FALSE))","v":""},{"$f":"IF(ISERROR(VLOOKUP($A999,check!$A:$L,11,FALSE))=TRUE,\"\",VLOOKUP($A999,check!$A:$L,11,FALSE))","v":""},{"$f":"IF(ISERROR(VLOOKUP($A999,check!$A:$L,12,FALSE))=TRUE,\"\",VLOOKUP($A999,check!$A:$L,12,FALSE))","v":""}]
[1000,{"$f":"IF(C1000=\"\",\"\",MATCH(A1000,check!A:A,0))","v":""},{"$f":"IF(ISERROR(VLOOKUP($A1000,check!$A:$L,2,FALSE))=TRUE,\"\",VLOOKUP($A1000,check!$A:$L,2,FALSE))","v":""},{"$f":"IF(ISERROR(VLOOKUP($A1000,check!$A:$L,3,FALSE))=TRUE,\"\",VLOOKUP($A1000,check!$A:$L,3,FALSE))","v":""},{"$f":"IF(ISERROR(VLOOKUP($A1000,check!$A:$L,4,FALSE))=TRUE,\"\",VLOOKUP($A1000,check!$A:$L,4,FALSE))","v":""},{"$f":"IF(ISERROR(VLOOKUP($A1000,check!$A:$L,5,FALSE))=TRUE,\"\",VLOOKUP($A1000,check!$A:$L,5,FALSE))","v":""},{"$f":"IF(ISERROR(VLOOKUP($A1000,check!$A:$L,6,FALSE))=TRUE,\"\",VLOOKUP($A1000,check!$A:$L,6,FALSE))","v":""},{"$f":"IF(ISERROR(VLOOKUP($A1000,check!$A:$L,7,FALSE))=TRUE,\"\",VLOOKUP($A1000,check!$A:$L,7,FALSE))","v":""},{"$f":"IF(ISERROR(VLOOKUP($A1000,check!$A:$L,8,FALSE))=TRUE,\"\",VLOOKUP($A1000,check!$A:$L,8,FALSE))","v":""},{"$f":"IF(ISERROR(VLOOKUP($A1000,check!$A:$L,9,FALSE))=TRUE,\"\",VLOOKUP($A1000,check!$A:$L,9,FALSE))","v":""},{"$f":"IF(ISERROR(VLOOKUP($A1000,check!$A:$L,10,FALSE))=TRUE,\"\",VLOOKUP($A1000,check!$A:$L,10,FALSE))","v":""},{"$f":"IF(ISERROR(VLOOKUP($A1000,check!$A:$L,11,FALSE))=TRUE,\"\",VLOOKUP($A1000,check!$A:$L,11,FALSE))","v":""},{"$f":"IF(ISERROR(VLOOKUP($A1000,check!$A:$L,12,FALSE))=TRUE,\"\",VLOOKUP($A1000,check!$A:$L,12,FALSE))","v":""}]